{"text_format":"2","workbook":"xlsx","n_sheets":16,"sheets":["EliteStageConfig","1","2","3","4","5","6","7","8","9","10","11","12","13","14","15"],"not_rendered":{"charts":0,"images":0,"macros":0,"external_links":0,"defined_names":0,"comments":1,"pivot_tables":0},"unopened":[],"bounds":{"document_bytes":16777216,"sheet_cells":100000,"run_cost":"one","rows_first":2000,"rows_last":500,"rows_between":2000,"halvings":0,"cell_chars":16384,"cell_head_chars":4096},"cells_cut":0,"cells_raw":0,"read":"whole","date_system":"1900"}

{"sheet":"EliteStageConfig","index":0,"n_rows":157,"n_cols":11,"rows_kept":157,"cut":false,"hidden":false,"merged":[]}
["ID[csknu]","roles[csna]","rolesPos[cna]","rolesTime[cna]","time[cn]","summonType[cn]","hurtRate[cn]","rewardId[csna]","trigger[cn]","tipType[cn]","energy[cna]"]
["波数id（关卡*100+波数）","角色id数组","角色位置数组","角色创建时间轴","波数时间轴","刷怪类型","环境伤害倍率","关卡奖励道具ID道具数量数组","触发下一大波间隔参数","波数提示类型","能量掉落"]
[10101,{"$f":"'1'!P15","v":"70011|70011^70012|70011^70012|70011^70013|70011^70012^70013|70014|70014^70012|70012^70013|70014^70011|70011|70013^70012"},{"$f":"'1'!P38","v":"0|0^0|0^0|0^0|0^0^0|0|0^0|0^0|0^0|0|0^0"},{"$f":"'1'!P52","v":"4|3^2|4^2|4^2|3^2^2|4|2^4|3^3|3^5|8|2^4"},12,3,0,0,3,0,"130004^1"]
[10102,{"$f":"'1'!AD15","v":"70011|70011^70012|70011^70013|70014^70012|70011|70013^70012|70014^70011|70012|70013^70012"},{"$f":"'1'!AD37","v":"0|0^0|0^0|0^0|0|0^0|0^0|0|0^0"},{"$f":"'1'!AD51","v":"8|8^3|8^4|5^4|10|4^4|4^8|6|5^4"},10,3,0,0,0,1,"130003^2|130004^1"]
[10201,{"$f":"'1'!P68","v":"70021|70021^70022|70023^70021|70024^70022|70022|70021|70023^70022|70021^70022|70021^70024|70023^70022|70024^70022"},{"$f":"'1'!P91","v":"0|0^0|0^0|0^0|0|0|0^0|0^0|0^0|0^0|0^0"},{"$f":"'1'!P105","v":"6|4^3|2^6|3^4|4|10|3^4|8^3|8^2|3^4|3^4"},12,3,0,0,3,0,"130003^2|130004^1"]
[10202,{"$f":"'1'!AD68","v":"70024|70021^70022|70023^70021|70022|70023^70022|70024^70022|70021|70023^70024|70021^70022|70023^70022"},{"$f":"'1'!AD90","v":"0|0^0|0^0|0|0^0|0^0|0|0^0|0^0|0^0"},{"$f":"'1'!AD104","v":"3|7^3|2^8|4|2^4|3^4|8|3^2|7^3|3^3"},10,3,0,0,0,1,"130004^1"]
[10301,{"$f":"'1'!P121","v":"70032|70031^70033|70031^70032|70033^70032|70031|70034^70032|70031^70032|70033^70032|70031^70034|70034^70032|70033^70032^70031"},{"$f":"'1'!P144","v":"0|0^0|0^0|0^0|0|0^0|0^0|0^0|0^0|0^0|0^0^0"},{"$f":"'1'!P158","v":"4|5^2|7^2|3^4|8|4^3|8^2|2^4|8^2|8^3|2^2^6"},14,3,0,0,3,0,"130003^2|130004^1"]
[10302,{"$f":"'1'!AD121","v":"70031^70031^70031^70031^70032^70032^70031^70033^70032^70031^70031^70031^70031^70032^70034^70034^70032^70033^70033^70033^70033^70032^70032"},{"$f":"'1'!AD143","v":"2^1^3^5^2^5^4^1^5^4^2^3^5^4^2^3^5^4^2^1^3^2^1"},{"$f":"'1'!AD157","v":"1^1^1^1^3^3^6^6^6^10^10^10^10^15^15^15^15^20^20^20^20^25^25"},0,1,0,0,0,1,"130004^1"]
[11101,{"$f":"'2'!P15","v":"70041|70041^70042|70042^70041|70044^70043^70041|70043^70042^70041|70041^70044|70041^70042|70044^70043^70042|70043^70041^70042|70041^70043|70044^70042^70043"},{"$f":"'2'!P38","v":"0|0^0|0^0|0^0^0|0^0^0|0^0|0^0|0^0^0|0^0^0|0^0|0^0^0"},{"$f":"'2'!P52","v":"5|5^3|4^7|2^2^7|2^4^6|8^2|8^3|2^3^4|2^7^2|9^2|2^4^3"},11,3,0,0,3,0,"130003^3|130004^1"]
[11102,{"$f":"'2'!AD15","v":"70041^70044|70042|70041^70042|70043^70041^70042|70042^70044|70043^70042|70041^70044|70041^70042|70043^70042^70041"},{"$f":"'2'!AD37","v":"0^0|0|0^0|0^0^0|0^0|0^0|0^0|0^0|0^0^0"},{"$f":"'2'!AD51","v":"16^4|8|10^2|2^10^2|5^5|5^5|12^2|12^5|8^5^15"},10,3,0,0,0,1,"130003^1|130004^1"]
[11201,{"$f":"'2'!P68","v":"70051^70052^70051^70051^70052^70052^70051^70054^70051^70051^70051^70052^70051^70053^70052^70053^70051^70051^70051^70052^70054^70052^70051^70051^70052^70051^70051^70051^70052^70052^70052^70053^70051^70053^70051^70053^70054^70054^70053^70052^70052^70052^70053^70051^70051^70051^70054^70051^70051^70051^70051^70051^70052^70052^70052^70051^70051^70054^70051^70053^70053^70053^70051^70054"},{"$f":"'2'!P91","v":"2^1^3^4^2^3^5^6^2^1^3^7^4^2^1^3^5^8^6^2^1^3^7^9^4^2^1^3^5^8^6^4^2^1^3^5^7^9^4^2^1^3^5^8^6^4^1^5^7^9^8^6^2^1^3^7^9^6^4^2^1^3^5^7"},{"$f":"'2'!P105","v":"5^5^5^10^10^10^10^15^15^15^15^15^21^21^21^21^21^30^30^30^30^30^30^30^35^35^35^35^35^45^45^45^45^45^45^45^45^45^50^50^50^50^50^60^60^60^60^60^60^60^75^75^75^75^75^75^75^85^85^85^85^85^85^85"},0,1,0,0,5,0,"130003^3|130004^1"]
[11202,{"$f":"'2'!AD68","v":"70051^70054^70051^70052^70052^70053^70052^70052^70051^70051^70053^70051^70051^70052^70051^70054^70051^70052^70052^70053^70053^70053^70052^70051^70053^70054^70053^70051^70052^70052^70052^70052^70052^70054^70053^70053^70053^70054"},{"$f":"'2'!AD90","v":"2^1^3^4^2^1^3^5^4^2^1^3^5^4^2^1^3^5^4^2^1^3^5^6^4^1^5^7^4^2^1^3^5^4^2^1^3^5"},{"$f":"'2'!AD104","v":"1^1^1^3^3^3^3^3^6^6^6^6^6^10^10^10^10^10^15^15^15^15^15^20^20^20^20^20^26^26^26^26^26^35^25^35^25^35"},0,1,0,0,0,1,"130003^1|130004^1"]
[11301,{"$f":"'2'!P121","v":"70061^70062^70062^70061^70062^70061^70064^70061^70062^70061^70062^70062^70062^70061^70061^70063^70063^70061^70064^70062^70063^70062^70064^70061^70061^70061^70061^70061^70064^70062^70063^70063^70062^70064^70062^70061^70062^70061^70062^70062^70063^70061^70064^70061^70063^70062^70062^70062^70062^70062^70064^70063^70065^70063^70064"},{"$f":"'2'!P144","v":"4^2^3^5^6^4^1^5^7^4^2^1^3^5^4^2^3^5^6^2^1^3^7^4^2^1^3^5^6^4^2^3^5^7^4^2^1^3^5^6^4^2^1^3^5^7^4^2^3^5^8^2^1^3^9"},{"$f":"'2'!P158","v":"4^4^4^4^7^7^7^7^7^11^11^11^11^11^17^17^17^17^25^25^25^25^25^35^35^35^35^35^45^45^45^45^45^45^55^55^55^55^55^65^65^65^65^65^65^65^70^70^70^70^80^80^80^80^80"},0,1,0,0,4,0,"130003^3|130004^1"]
[11302,{"$f":"'2'!AD121","v":"70061^70062|70062^70064|70061^70062^70063|70061^70063|70062^70064|70061^70063|70062^70064|70061^70062|70061^70062^70063"},{"$f":"'2'!AD143","v":"0^0|0^0|0^0^0|0^0|0^0|0^0|0^0|0^0|0^0^0"},{"$f":"'2'!AD157","v":"15^4|7^3|6^4^3|8^3|7^3|10^3|6^2|12^2|10^3^3"},12,3,0,0,0,1,"130003^1|130004^1"]
[12101,{"$f":"'3'!P15","v":"70071|70074^70072|70071^70072|70073^70071^70074|70071^70072|70074^70073^70072|70071^70072|70073^70071^70072|70072^70071^70074|70071^70072|70074^70073^70072"},{"$f":"'3'!P38","v":"0|0^0|0^0|0^0^0|0^0|0^0^0|0^0|0^0^0|0^0^0|0^0|0^0^0"},{"$f":"'3'!P52","v":"6|3^4|7^3|2^8^2|8^3|2^3^4|8^3|2^7^3|3^7^2|7^4|2^3^4"},12,3,0,0,5,0,"130003^3|130004^2"]
[12102,{"$f":"'3'!AD15","v":"70071^70074|70072^70071|70073^70072|70071^70072|70073^70074^70071|70074^70071^70072|70072^70071|70071^70074^70072|70072^70073|70072^70071^70074"},{"$f":"'3'!AD37","v":"0^0|0^0|0^0|0^0|0^0^0|0^0^0|0^0|0^0^0|0^0|0^0^0"},{"$f":"'3'!AD51","v":"20^4|6^6|4^6|8^3|4^2^7|2^7^4|4^9|8^2^4|6^4|4^7^2"},8,3,0,0,0,1,"130003^1|130004^1"]
[12201,{"$f":"'3'!P68","v":"70084^70081|70081^70082|70083^70081^70082|70083^70082|70085|70082^70081^70084|70082^70081|70083^70084^70082|70085|70081^70082|70083^70082^70084"},{"$f":"'3'!P95","v":"0^0|0^0|0^0^0|0^0|100|0^0^0|0^0|0^0^0|100|0^0|0^0^0"},{"$f":"'3'!P109","v":"2^5|6^3|2^4^4|3^4|5|3^7^2|4^7|3^2^4|6|8^6|4^4^4"},11,3,0,0,5,0,"130003^3|130004^2"]
[12202,{"$f":"'3'!AD68","v":"70081^70082|70085^70082^70086|70083^70081|70081^70082|70083^70084^70081|70082^70081|70083^70082|70081^70084|70082^70081|70084^70081^70083^70082"},{"$f":"'3'!AD90","v":"0^0|100^0^0|0^0|0^0|0^0^0|0^0|0^0|0^0|0^0|0^0^0^0"},{"$f":"'3'!AD108","v":"18^6|6^6^1|3^8|7^6|3^2^6|4^7|3^4|9^2|3^8|2^6^2^3"},9,3,0,0,0,1,"130003^1|130004^1"]
[12301,{"$f":"'3'!P125","v":"70091^70092^70091^70092^70094^70092^70092^70094^70093^70093^70094^70092^70092^70091^70091^70092^70091^70091^70092^70095^70095^70095^70095^70091^70094^70091^70093^70091^70094^70091^70091^70091^70092^70092^70092^70091^70091^70092^70094^70093^70093^70093^70094^70092^70095^70095^70095^70095^70095^70091^70091^70092^70092^70092^70091^70091^70094^70092^70093^70096^70093^70092^70094"},{"$f":"'3'!P152","v":"4^1^5^2^1^3^6^4^2^3^5^7^8^4^2^1^3^5^9^101^102^103^104^8^6^2^1^3^7^9^6^4^2^1^3^5^7^6^4^2^1^3^5^7^101^102^103^104^105^6^4^2^1^3^5^7^6^4^2^1^3^5^7"},{"$f":"'3'!P166","v":"4^4^4^10^10^10^17^17^17^17^17^17^25^25^25^25^25^25^25^30^30^30^30^38^38^38^38^38^38^38^47^47^47^47^47^47^47^57^57^57^57^57^57^57^60^60^60^60^60^70^70^70^70^70^70^70^80^80^80^80^80^80^80"},0,1,0,0,5,0,"130003^3|130004^2"]
[12302,{"$f":"'3'!AD125","v":"70091^70091^70092^70094^70092^70094^70092^70091^70091^70095^70095^70095^70095^70095^70091^70092^70092^70093^70093^70093^70092^70092^70091^70092^70091^70091^70092^70091^70091^70092^70094^70091^70093^70093^70093^70091^70092^70095^70095^70095^70095^70095^70092^70093^70092^70094^70092^70093^70092^70091^70091^70091^70094^70091^70091^70091^70091^70092^70092^70091^70092^70092^70091^70092^70093^70091^70096^70091^70093^70092"},{"$f":"'3'!AD147","v":"8^6^4^2^1^3^5^7^9^101^102^103^104^105^8^6^4^2^1^3^5^7^9^6^4^2^1^3^5^7^8^4^2^1^3^5^9^101^102^103^104^105^6^4^2^1^3^5^7^6^4^2^1^3^5^7^6^4^2^1^3^5^7^8^4^2^1^3^5^9"},{"$f":"'3'!AD165","v":"2^2^2^2^2^2^2^2^2^5^5^5^5^5^10^10^10^10^10^10^10^10^10^20^20^20^20^20^20^20^30^30^30^30^30^30^30^35^35^35^35^35^45^45^45^45^45^45^45^55^55^55^55^55^55^55^65^65^65^65^65^65^65^75^75^75^75^75^75^75"},0,1,0,0,0,1,"130003^1|130005^1"]
[13101,{"$f":"'4'!P15","v":"70101^70102^70104|70102^70101|70104^70103^70102|70101^70102^70104|70105|70103^70104^70102|70102^70101|70104^70103^70101|70105^70106|70103^70102^70104"},{"$f":"'4'!P42","v":"0^0^0|0^0|0^0^0|0^0^0|100|0^0^0|0^0|0^0^0|100^0|0^0^0"},{"$f":"'4'!P56","v":"4^2^1|3^6|2^3^4|7^3^2|7|3^2^5|3^9|2^3^8|8^1|3^5^3"},11,3,0,0,5,0,"130003^4|130004^1"]
[13102,{"$f":"'4'!AD15","v":"70101^70104|70102^70101|70104^70102^70103|70101^70102|70105|70102^70101^70104|70103^70101^70102"},{"$f":"'4'!AD42","v":"0^0|0^0|0^0^0|0^0|100|0^0^0|0^0^0"},{"$f":"'4'!AD55","v":"20^3|4^8|3^4^3|7^5|7|3^8^2|2^7^3"},10,3,0,0,4,0,"130005^1"]
[13103,{"$f":"'4'!AR15","v":"70104^70102^70102^70104^70101^70101^70101^70105^70105^70101^70103^70104^70103^70101^70102^70104^70103^70103^70104^70102^70102^70101^70101^70101^70101^70102^70104^70102^70103^70102^70104"},{"$f":"'4'!AR42","v":"4^2^3^5^4^1^5^102^104^4^2^1^3^5^6^4^2^3^5^7^6^4^2^3^5^7^6^4^1^5^7"},{"$f":"'4'!AR55","v":"3^3^3^3^5^5^5^9^9^15^15^15^15^15^22^22^22^22^22^22^35^35^35^35^35^35^45^45^45^45^45"},0,1,0,0,0,1,"130003^2|130004^1"]
[13201,{"$f":"'4'!P71","v":"70112^70114|70111^70112|70112^70113^70111|70111^70112^70114|70113^70112^70114|70115|70112^70114|70112^70111^70113|70115|70113^70112^70114"},{"$f":"'4'!P98","v":"0^0|0^0|0^0^0|0^0^0|0^0^0|100|0^0|0^0^0|100|0^0^0"},{"$f":"'4'!P112","v":"4^2|7^3|3^3^5|7^3^2|4^4^2|7|6^3|3^7^3|8|3^6^2"},11,3,0,0,5,0,"130003^4|130004^1"]
[13202,{"$f":"'4'!AD71","v":"70113^70112^70111|70111|70113^70113^70112|70112^70111^70113|70115^70116|70112^70111^70113|70113^70111^70112"},{"$f":"'4'!AD98","v":"0^0^0|0|0^0^0|0^0^0|100^0|0^0^0|0^0^0"},{"$f":"'4'!AD111","v":"4^6^12|12|3^4^4|3^8^2|8^1|3^9^2|3^7^4"},12,3,0,0,5,0,"130005^1"]
[13203,{"$f":"'4'!AR71","v":"70114^70112^70116^70112^70114^70111^70111^70111^70115^70115^70115^70111^70113^70114^70113^70111^70112^70114^70113^70113^70114^70112^70112^70111^70111^70111^70111^70112^70114^70112^70113^70112^70114"},{"$f":"'4'!AR98","v":"4^2^1^3^5^4^1^5^102^103^104^4^2^1^3^5^6^4^2^3^5^7^6^4^2^3^5^7^6^4^1^5^7"},{"$f":"'4'!AR111","v":"3^3^3^3^3^5^5^5^9^9^9^15^15^15^15^15^23^23^23^23^23^23^33^33^33^33^33^33^45^45^45^45^45"},0,1,0,0,5,1,"130003^2|130004^1"]
[13301,{"$f":"'4'!P127","v":"70122^70121^70121^70122^70124^70122^70122^70122^70124^70122^70123^70124^70123^70122^70122^70124^70121^70122^70121^70124^70122^70125^70125^70125^70125^70125^70124^70122^70123^70122^70123^70122^70124^70122^70121^70121^70122^70121^70121^70122^70121^70121^70123^70124^70123^70121^70121^70125^70125^70125^70125^70125^70124^70122^70121^70126^70127^70122^70124"},{"$f":"'4'!P154","v":"4^2^3^5^6^4^1^5^7^6^2^1^3^7^8^4^2^1^3^5^9^101^102^103^104^105^6^4^2^1^3^5^7^8^4^2^1^3^5^9^8^6^4^1^5^7^9^101^102^103^104^105^8^4^2^1^3^5^9"},{"$f":"'4'!P168","v":"4^4^4^4^10^10^10^10^10^17^17^17^17^17^25^25^25^25^25^25^25^30^30^30^30^30^40^40^40^40^40^40^40^50^50^50^50^50^50^50^60^60^60^60^60^60^60^65^65^65^65^65^75^75^75^75^75^75^75"},0,1,0,0,0,0,"130003^2|130004^2"]
[13302,{"$f":"'4'!AD127","v":"70122^70121^70124|70122^70121|70123^70122^70124|70122^70121|70125^70127|70122^70121^70124|70123^70121^70122"},{"$f":"'4'!AD154","v":"0^0^0|0^0|0^0^0|0^0|100^0|0^0^0|0^0^0"},{"$f":"'4'!AD167","v":"5^16^3|3^8|3^5^3|4^8|8^1|4^10^2|4^12^3"},10,3,0,0,3,0,"130005^1"]
[13303,{"$f":"'4'!AR127","v":"70121^70122^70122^70121^70124^70124^70124^70125^70125^70125^70122^70121^70123^70123^70121^70122^70124^70121^70123^70123^70121^70124^70122^70121^70121^70121^70121^70122^70124^70122^70123^70123^70122^70124"},{"$f":"'4'!AR154","v":"4^2^3^5^4^1^5^102^103^104^6^4^2^3^5^7^8^4^2^3^7^9^6^4^2^3^5^7^6^4^2^3^5^7"},{"$f":"'4'!AR167","v":"2^2^2^2^5^5^5^9^9^9^14^14^14^14^14^14^20^20^20^20^20^20^27^27^27^27^27^27^35^35^35^35^35^35"},0,1,0,0,0,1,"130003^2|130004^1"]
[14101,{"$f":"'5'!P15","v":"70131^70132|70132^70134|70131^70133^70132|70131^70132^70134|70135|70133^70132^70134|70133^70132^70131|70132^70131|70133^70132^70134|70135^70136"},{"$f":"'5'!P42","v":"0^0|0^0|0^0^0|0^0^0|100|0^0^0|0^0^0|0^0|0^0^0|100^0"},{"$f":"'5'!P56","v":"6^2|4^3|6^2^3|7^3^2|8|3^4^3|2^3^8|4^8|3^4^2|8^1"},12,3,0,0,5,0,"130003^2|130004^2"]
[14102,{"$f":"'5'!AD15","v":"70131^70132|70132^70134^70133|70133^70131^70134|70132^70131|70135^70136|70133^70131^70134|70133^70131^70132|70133^70131^70132"},{"$f":"'5'!AD42","v":"0^0|0^0^0|0^0^0|0^0|100^0|0^0^0|0^0^0|0^0^0"},{"$f":"'5'!AD55","v":"16^6|5^3^2|2^8^2|4^8|8^1|2^9^2|2^9^3|3^8^4"},12,3,0,0,4,0,"130005^1"]
[14103,{"$f":"'5'!AR15","v":"70131^70131^70131^70131^70131^70132^70134^70132^70135^70135^70135^70132^70133^70134^70133^70132^70134^70132^70131^70131^70131^70132^70134^70132^70131^70133^70133^70133^70131^70132^70134^70132^70132^70132^70134"},{"$f":"'5'!AR42","v":"4^2^1^3^5^4^1^5^101^103^105^4^2^1^3^5^8^6^2^1^3^7^9^6^4^2^1^3^5^7^6^4^1^5^7"},{"$f":"'5'!AR55","v":"2^2^2^2^2^4^4^4^8^8^8^15^15^15^15^15^22^22^22^22^22^22^22^30^30^30^30^30^30^30^40^40^40^40^40"},0,1,0,0,0,1,"130003^2|130004^1"]
[14201,{"$f":"'5'!P71","v":"70142^70144|70141^70142|70144^70143^70142|70141^70142^70144|70145|70143^70142^70144|70145|70142^70144^70141|70145^70146|70143^70142^70144"},{"$f":"'5'!P98","v":"0^0|0^0|0^0^0|0^0^0|100|0^0^0|100|0^0^0|100^0|0^0^0"},{"$f":"'5'!P112","v":"4^3|8^3|2^3^4|8^3^2|8|3^4^3|8|3^2^8|9^1|3^4^2"},12,3,0,0,4,0,"130003^2|130004^2"]
[14202,{"$f":"'5'!AD71","v":"70141^70142|70143^70142|70143^70141^70142|70143^70142^70141|70145|70142^70143^70143^70141|70142^70141|70145|70143^70141^70142"},{"$f":"'5'!AD98","v":"0^0|0^0|0^0^0|0^0^0|100|0^0^0^0|0^0|100|0^0^0"},{"$f":"'5'!AD111","v":"17^6|4^4|2^8^3|2^3^9|8|3^2^2^7|3^9|9|2^8^3"},12,3,0,0,4,0,"130005^1"]
[14203,{"$f":"'5'!AR71","v":"70144^70141^70141^70144^70142^70142^70142^70145^70145^70145^70142^70141^70143^70146^70143^70141^70142^70144^70142^70141^70142^70141^70142^70144^70142^70141^70143^70143^70141^70142^70144^70142^70141^70141^70142^70144^70142^70142^70144^70142^70142"},{"$f":"'5'!AR98","v":"4^2^3^5^4^1^5^101^103^105^6^4^2^1^3^5^7^8^6^4^1^5^7^9^6^4^2^3^5^7^8^6^4^5^7^9^4^2^1^3^5"},{"$f":"'5'!AR111","v":"3^3^3^3^5^5^5^8^8^8^12^12^12^12^12^12^12^17^17^17^17^17^17^17^25^25^25^25^25^25^35^35^35^35^35^35^45^45^45^45^45"},0,1,0,0,0,1,"130003^2|130004^1"]
[14301,{"$f":"'5'!P127","v":"70154^70151^70151^70151^70154^70152^70152^70152^70152^70152^70153^70154^70153^70152^70155^70155^70155^70155^70155^70152^70151^70152^70154^70152^70151^70152^70154^70152^70153^70153^70152^70154^70155^70155^70155^70155^70155^70152^70154^70151^70151^70151^70154^70152^70154^70152^70153^70156^70153^70152^70154^70155^70155^70155^70155^70155"},{"$f":"'5'!P154","v":"4^2^1^3^5^6^4^5^7^8^2^1^3^9^101^102^103^104^105^6^4^2^1^3^5^7^6^4^2^3^5^7^101^102^103^104^105^6^4^2^1^3^5^7^8^6^2^1^3^7^9^101^102^103^104^105"},{"$f":"'5'!P168","v":"5^5^5^5^5^10^10^10^10^16^16^16^16^16^20^20^20^20^20^27^27^27^27^27^27^27^35^35^35^35^35^35^40^40^40^40^40^50^50^50^50^50^50^50^60^60^60^60^60^60^60^65^65^65^65^65"},0,1,0,0,4,0,"130003^2|130004^2"]
[14302,{"$f":"'5'!AD127","v":"70153^70152^70151|70152^70151|70153^70152^70153|70152^70151|70155^70156|70153^70153^70152^70151|70153^70151^70152|70155|70153^70151^70152"},{"$f":"'5'!AD154","v":"0^0^0|0^0|0^0^0|0^0|100^0|0^0^0^0|0^0^0|100|0^0^0"},{"$f":"'5'!AD167","v":"4^6^14|3^7|3^4^2|3^8|8^1|2^2^3^6|2^8^3|9|2^9^3"},10,3,0,0,4,0,"130003^3|130004^1"]
[14303,{"$f":"'5'!AR127","v":"70152^70151^70151^70151^70152^70154^70152^70154^70155^70155^70155^70154^70152^70153^70153^70152^70154^70152^70151^70151^70151^70151^70152^70154^70152^70153^70153^70153^70152^70154^70151^70152^70154^70152^70151^70155^70155^70155^70155^70155"},{"$f":"'5'!AR154","v":"4^2^1^3^5^4^1^5^101^103^105^6^4^2^3^5^7^6^4^2^3^5^7^8^6^2^1^3^7^9^6^4^1^5^7^101^102^103^104^105"},{"$f":"'5'!AR167","v":"3^3^3^3^3^5^5^5^8^8^8^12^12^12^12^12^12^17^17^17^17^17^17^25^25^25^25^25^25^25^35^35^35^35^35^40^40^40^40^40"},0,1,0,0,0,1,"130005^1"]
[15101,{"$f":"'6'!P15","v":"70164^70162^70162^70164^70161^70161^70164^70164^70161^70161^70162^70163^70162^70163^70162^70164^70162^70161^70162^70161^70162^70164^70165^70165^70165^70165^70165^70162^70164^70161^70161^70162^70161^70161^70164^70162^70165^70165^70165^70165^70165^70164^70162^70161^70163^70163^70161^70162^70164^70165^70165^70165^70165^70165^70164^70162^70163^70166^70163^70162^70164"},{"$f":"'6'!P42","v":"4^2^3^5^6^4^2^3^5^7^6^2^1^3^7^8^6^4^1^5^7^9^101^102^103^104^105^8^6^4^2^1^3^5^7^9^101^102^103^104^105^8^6^4^2^3^5^7^9^101^102^103^104^105^6^4^2^1^3^5^7"},{"$f":"'6'!P56","v":"5^5^5^5^10^10^10^10^10^10^17^17^17^17^17^25^25^25^25^25^25^25^30^30^30^30^30^40^40^40^40^40^40^40^40^40^45^45^45^45^45^55^55^55^55^55^55^55^55^60^60^60^60^60^70^70^70^70^70^70^70"},0,1,0,0,4,0,"130003^2|130004^2"]
[15102,{"$f":"'6'!AD15","v":"70163^70164^70161^70162^70161^70165^70162^70164^70163^70162^70161^70161^70162^70164^70165^70161^70163^70161^70162^70162^70164^70161"},{"$f":"'6'!AD42","v":"0^0^0^0^0^100^0^0^0^0^0^0^0^0^100^0^0^0^0^0^0^0"},{"$f":"'6'!AD55","v":"4^5^15^4^8^8^4^2^2^3^6^8^3^2^7^5^2^8^3^3^2^9"},13,3,0,0,4,0,"130003^3|130004^1"]
[15103,{"$f":"'6'!AR15","v":"70165^70165^70165^70165^70162^70162^70162^70164^70164^70164^70161^70161^70161^70161^70163^70163^70163^70164^70162^70161^70161^70162^70164^70162^70161^70163^70164^70163^70161^70162^70164^70162^70162^70162^70164^70165^70165^70165^70165^70165"},{"$f":"'6'!AR42","v":"101^102^104^105^2^1^3^4^1^5^6^4^5^7^4^1^5^6^4^2^3^5^7^6^4^2^1^3^5^7^6^4^1^5^7^101^102^103^104^105"},{"$f":"'6'!AR55","v":"2^2^2^2^4^4^4^7^7^7^12^12^12^12^18^18^18^25^25^25^25^25^25^35^35^35^35^35^35^35^45^45^45^45^45^50^50^50^50^50"},0,1,0,0,0,1,"130005^1"]
[15201,{"$f":"'6'!P71","v":"70171^70172^70171^70172^70174^70173^70171^70172^70175^70171^70174^70171^70172^70173^70172^70174^70175^70172^70173^70171^70172^70174^70171^70172^70175^70173^70176"},{"$f":"'6'!P98","v":"0^0^0^0^0^0^0^0^100^0^0^0^0^0^0^0^100^0^0^0^0^0^0^0^100^0^0"},{"$f":"'6'!P112","v":"8^3^7^3^2^3^8^2^8^5^2^7^3^3^4^3^9^3^2^7^3^2^7^4^8^3^1"},12,3,0,0,4,0,"130003^3|130004^1"]
[15202,{"$f":"'6'!AD71","v":"70172^70172^70172^70172^70172^70175^70175^70175^70175^70175^70174^70173^70172^70176^70172^70173^70174^70171^70171^70171^70171^70171^70172^70171^70171^70172^70171^70171^70172^70174^70172^70171^70173^70173^70171^70172^70174^70172^70171^70173^70172^70173^70171^70172^70175^70175^70175^70175^70175"},{"$f":"'6'!AD98","v":"4^2^1^3^5^101^102^103^104^105^6^4^2^1^3^5^7^4^2^1^3^5^6^4^2^1^3^5^7^8^6^4^2^3^5^7^9^6^4^2^1^3^5^7^101^102^103^104^105"},{"$f":"'6'!AD111","v":"2^2^2^2^2^5^5^5^5^5^10^10^10^10^10^10^10^17^17^17^17^17^25^25^25^25^25^25^25^35^35^35^35^35^35^35^35^45^45^45^45^45^45^45^50^50^50^50^50"},0,1,0,0,4,0,"130003^2|130004^2"]
[15203,{"$f":"'6'!AR71","v":"70173^70171^70172^70171^70171^70172^70174^70175^70173^70171^70172^70171^70174^70172^70173^70171^70172^70172^70174^70175^70172"},{"$f":"'6'!AR98","v":"0^0^0^0^0^0^0^100^0^0^0^0^0^0^0^0^0^0^0^100^0"},{"$f":"'6'!AR111","v":"6^14^4^7^7^3^3^8^3^8^3^6^2^4^2^8^3^6^3^8^3"},12,3,0,0,4,0,"130005^1|130003^1"]
[15204,{"$f":"'6'!BF71","v":"70171^70171^70171^70171^70172^70172^70172^70174^70174^70175^70175^70175^70175^70173^70173^70173^70174^70172^70171^70171^70172^70174^70172^70171^70173^70174^70173^70171^70172^70175^70175^70175^70175"},{"$f":"'6'!BF98","v":"4^2^3^5^4^1^5^2^3^101^102^104^105^4^1^5^6^4^2^3^5^7^6^4^2^1^3^5^7^101^102^104^105"},{"$f":"'6'!BF111","v":"2^2^2^2^4^4^4^6^6^8^8^8^8^10^10^10^15^15^15^15^15^15^25^25^25^25^25^25^25^30^30^30^30"},0,1,0,0,0,1,"130003^3|130004^1"]
[15301,{"$f":"'6'!P127","v":"70184^70181^70181^70184^70182^70182^70182^70182^70182^70181^70183^70182^70183^70181^70182^70184^70182^70181^70182^70181^70182^70184^70185^70185^70185^70185^70185^70182^70181^70183^70183^70181^70182^70185^70185^70185^70185^70185^70184^70182^70181^70183^70183^70181^70182^70184^70185^70185^70185^70185^70185^70184^70182^70181^70187^70181^70182^70184"},{"$f":"'6'!P154","v":"6^2^3^7^4^2^3^5^6^4^2^1^3^5^7^8^6^4^1^5^7^9^101^102^103^104^105^6^4^2^3^5^7^101^102^103^104^105^8^6^4^2^3^5^7^9^101^102^103^104^105^6^4^2^1^3^5^7"},{"$f":"'6'!P168","v":"5^5^5^5^10^10^10^10^17^17^17^17^17^17^17^25^25^25^25^25^25^25^30^30^30^30^30^40^40^40^40^40^40^45^45^45^45^45^55^55^55^55^55^55^55^55^60^60^60^60^60^70^70^70^70^70^70^70"},0,1,0,0,4,0,"130003^3|130004^1"]
[15302,{"$f":"'6'!AD127","v":"70182^70181^70184^70181^70182^70181^70183^70185^70182^70183^70182^70183^70181^70182^70184^70183^70181^70182^70186^70183^70182^70187"},{"$f":"'6'!AD154","v":"0^0^0^0^0^0^0^100^0^0^0^0^0^0^0^0^0^0^0^0^0^0"},{"$f":"'6'!AD167","v":"8^14^3^7^3^9^3^8^2^3^6^2^5^3^2^2^8^3^1^2^4^1"},10,3,0,0,4,0,"130003^2|130004^2"]
[15303,{"$f":"'6'!AR127","v":"70185^70185^70185^70185^70182^70182^70182^70184^70181^70181^70181^70184^70183^70183^70183^70184^70182^70181^70182^70181^70182^70184^70182^70181^70183^70183^70181^70182^70184^70182^70182^70182^70182^70184^70185^70185^70185^70185^70185"},{"$f":"'6'!AR154","v":"101^102^104^105^6^1^7^4^2^1^3^5^4^1^5^8^6^2^1^3^7^9^6^4^2^3^5^7^6^4^2^3^5^7^101^102^103^104^105"},{"$f":"'6'!AR167","v":"3^3^3^3^5^5^5^9^9^9^9^9^15^15^15^22^22^22^22^22^22^22^30^30^30^30^30^30^40^40^40^40^40^40^45^45^45^45^45"},0,1,0,0,4,0,"130005^1|130003^1"]
[15304,{"$f":"'6'!BF127","v":"70183^70183^70183^70182^70182^70182^70184^70184^70181^70181^70181^70181^70185^70185^70185^70185^70185^70184^70182^70183^70187^70183^70182^70184^70182^70181^70184^70181^70182^70181^70181^70181^70183^70183^70181^70181^70181^70182^70182^70182^70182^70182^70182^70182"},{"$f":"'6'!BF154","v":"2^1^3^4^1^5^2^3^6^4^5^7^101^102^103^104^105^6^4^2^1^3^5^7^6^4^1^5^7^8^6^4^2^3^5^7^9^6^4^2^1^3^5^7"},{"$f":"'6'!BF167","v":"2^2^2^4^4^4^6^6^8^8^8^8^10^10^10^10^10^17^17^17^17^17^17^17^25^25^25^25^25^35^35^35^35^35^35^35^35^45^45^45^45^45^45^45"},0,1,0,0,0,1,"130003^3|130004^1"]
[16101,{"$f":"'7'!P15","v":"70194^70192^70192^70194^70192^70191^70191^70191^70192^70192^70191^70193^70192^70193^70191^70192^70195^70195^70195^70195^70195^70192^70191^70194^70192^70194^70191^70192^70192^70191^70193^70194^70193^70191^70192^70192^70192^70191^70191^70191^70192^70192^70195^70195^70195^70195^70195^70192^70191^70191^70196^70191^70191^70192^70194^70192^70191^70193^70193^70191^70192^70194"},{"$f":"'7'!P42","v":"4^2^3^5^6^2^1^3^7^6^4^2^1^3^5^7^101^102^103^104^105^8^4^2^1^3^5^9^6^4^2^1^3^5^7^6^4^2^1^3^5^7^101^102^103^104^105^6^4^2^1^3^5^7^8^6^4^2^3^5^7^9"},{"$f":"'7'!P56","v":"5^5^5^5^10^10^10^10^10^16^16^16^16^16^16^16^20^20^20^20^20^27^27^27^27^27^27^27^35^35^35^35^35^35^35^45^45^45^45^45^45^45^50^50^50^50^50^60^60^60^60^60^60^60^70^70^70^70^70^70^70^70"},0,1,0,0,4,0,"130003^3|130004^1"]
[16102,{"$f":"'7'!AD15","v":"70195^70191^70192^70191^70193^70192^70191^70194^70191^70192^70193^70191^70192^70194^70194^70192^70191^70195^70192"},{"$f":"'7'!AD42","v":"100^0^0^0^0^0^0^0^0^0^0^0^0^0^0^0^0^100^0"},{"$f":"'7'!AD55","v":"9^14^4^8^3^5^9^2^9^3^2^7^3^2^2^3^9^7^4"},13,3,0,0,4,0,"130003^2|130004^2"]
[16103,{"$f":"'7'!AR15","v":"70193^70191^70193^70191^70193^70194^70192^70192^70192^70192^70194^70191^70191^70192^70191^70191^70195^70195^70195^70195^70195^70194^70192^70191^70196^70191^70192^70194^70193^70193^70194^70193^70193^70192^70192^70191^70191^70191^70192^70192^70194^70192^70191^70193^70193^70191^70192^70194"},{"$f":"'7'!AR42","v":"4^2^1^3^5^8^6^2^1^7^9^6^4^1^5^7^101^102^103^104^105^6^4^2^1^3^5^7^6^2^1^3^7^6^4^2^1^3^5^7^8^6^4^2^3^5^7^9"},{"$f":"'7'!AR55","v":"4^4^4^4^4^6^6^6^6^6^6^10^10^10^10^10^15^15^15^15^15^22^22^22^22^22^22^22^30^30^30^30^30^40^40^40^40^40^40^40^50^50^50^50^50^50^50^50"},0,1,0,0,3,0,"130005^1|130003^1"]
[16104,{"$f":"'7'!BF15","v":"70191^70191^70191^70191^70192^70192^70192^70194^70194^70195^70195^70195^70195^70193^70193^70193^70194^70191^70191^70191^70191^70194^70192^70192^70192^70192^70192^70192^70192^70191^70193^70193^70191^70192^70192"},{"$f":"'7'!BF42","v":"4^2^3^5^4^1^5^2^3^101^102^104^105^4^1^5^6^4^2^3^5^7^6^4^1^5^7^8^6^4^2^3^5^7^9"},{"$f":"'7'!BF55","v":"2^2^2^2^4^4^4^6^6^8^8^8^8^10^10^10^17^17^17^17^17^17^25^25^25^25^25^35^35^35^35^35^35^35^35"},0,1,0,0,0,1,"130003^3|130004^1"]
[16201,{"$f":"'7'!P71","v":"70202^70204^70201^70202^70201^70203^70202^70204^70202^70201^70205^70203^70202^70201^70204^70203^70202^70201^70201^70202^70204^70205^70202^70207^70204^70203^70201^70202"},{"$f":"'7'!P98","v":"0^0^0^0^0^0^0^0^0^0^100^0^0^0^0^0^0^0^0^0^0^100^0^0^0^0^0^0"},{"$f":"'7'!P112","v":"3^2^5^4^8^3^6^2^3^9^8^2^3^8^2^2^3^9^9^3^2^8^3^1^2^2^7^3"},13,3,0,0,4,0,"130003^3|130004^1"]
[16202,{"$f":"'7'!AD71","v":"70204^70201^70201^70201^70204^70202^70201^70202^70201^70202^70205^70205^70205^70205^70205^70202^70203^70203^70203^70202^70204^70202^70201^70202^70201^70202^70204^70202^70201^70203^70202^70203^70201^70202^70204^70202^70201^70201^70201^70201^70202^70204^70205^70205^70205^70205^70205"},{"$f":"'7'!AD98","v":"4^2^1^3^5^6^2^1^3^7^101^102^103^104^105^6^4^1^5^7^8^4^2^1^3^5^9^8^4^2^1^3^5^9^8^6^4^2^3^5^7^9^101^102^103^104^105"},{"$f":"'7'!AD111","v":"5^5^5^5^5^10^10^10^10^10^15^15^15^15^15^22^22^22^22^22^30^30^30^30^30^30^30^40^40^40^40^40^40^40^50^50^50^50^50^50^50^50^55^55^55^55^55"},0,1,0,0,4,0,"130003^2|130004^2"]
[16203,{"$f":"'7'!AR71","v":"70205^70205^70205^70205^70205^70204^70202^70207^70202^70204^70201^70201^70201^70201^70201^70202^70201^70203^70202^70203^70201^70202^70204^70201^70202^70202^70202^70201^70204^70202^70201^70203^70202^70203^70201^70202^70205^70205^70205^70205^70205^70204^70202^70201^70201^70203^70201^70201^70202^70204"},{"$f":"'7'!AR98","v":"101^102^103^104^105^6^2^1^3^7^4^2^1^3^5^8^4^2^1^3^5^9^8^6^4^1^5^7^9^6^4^2^1^3^5^7^101^102^103^104^105^8^6^4^2^1^3^5^7^9"},{"$f":"'7'!AR111","v":"3^3^3^3^3^6^6^6^6^6^10^10^10^10^10^15^15^15^15^15^15^15^25^25^25^25^25^25^25^35^35^35^35^35^35^35^40^40^40^40^40^50^50^50^50^50^50^50^50^50"},0,1,0,0,3,0,"130005^1|130003^1"]
[16204,{"$f":"'7'!BF71","v":"70203^70203^70203^70202^70202^70202^70204^70204^70201^70201^70201^70201^70205^70205^70205^70205^70205^70204^70202^70203^70203^70202^70204^70202^70201^70201^70204^70201^70201^70202^70202^70204^70202^70203^70203^70202^70204^70202"},{"$f":"'7'!BF98","v":"4^1^5^6^1^7^2^3^4^2^3^5^101^102^103^104^105^8^6^2^3^7^9^6^4^2^1^3^5^7^8^6^4^2^3^5^7^9"},{"$f":"'7'!BF111","v":"3^3^3^5^5^5^8^8^12^12^12^12^17^17^17^17^17^23^23^23^23^23^23^30^30^30^30^30^30^30^40^40^40^40^40^40^40^40"},0,1,0,0,0,1,"130003^3|130004^1"]
[16301,{"$f":"'7'!P127","v":"70214^70211^70211^70211^70214^70212^70212^70214^70212^70212^70212^70211^70213^70211^70213^70211^70212^70215^70215^70215^70215^70215^70214^70212^70211^70211^70211^70212^70214^70214^70212^70213^70212^70213^70212^70214^70212^70211^70211^70211^70211^70211^70211^70212^70214^70212^70213^70212^70213^70212^70214^70215^70215^70215^70215^70215^70212^70212^70213^70219^70213^70212^70212"},{"$f":"'7'!P154","v":"6^2^1^3^7^4^2^1^3^5^8^6^2^1^3^7^9^101^102^103^104^105^8^6^2^1^3^7^9^8^4^2^1^3^5^9^8^6^4^2^3^5^7^9^6^4^2^1^3^5^7^101^102^103^104^105^8^6^2^1^3^7^9"},{"$f":"'7'!P168","v":"5^5^5^5^5^10^10^10^10^10^16^16^16^16^16^16^16^20^20^20^20^20^27^27^27^27^27^27^27^35^35^35^35^35^35^35^45^45^45^45^45^45^45^45^55^55^55^55^55^55^55^60^60^60^60^60^70^70^70^70^70^70^70"},0,1,0,0,4,0,"130003^3|130004^1"]
[16302,{"$f":"'7'!AD127","v":"70215^70215^70215^70215^70212^70212^70212^70214^70213^70213^70214^70214^70212^70211^70211^70212^70214^70212^70212^70213^70214^70213^70212^70212^70212^70211^70213^70213^70211^70212^70215^70215^70215^70215^70215^70214^70219^70216^70212^70214"},{"$f":"'7'!AD154","v":"101^102^104^105^6^1^7^6^2^3^7^8^4^2^3^5^9^6^4^2^1^3^5^7^8^4^2^3^5^9^101^102^103^104^105^6^4^1^5^7"},{"$f":"'7'!AD167","v":"3^3^3^3^6^6^6^10^10^10^10^15^15^15^15^15^15^22^22^22^22^22^22^22^30^30^30^30^30^30^35^35^35^35^35^45^45^45^45^45"},0,1,0,0,4,0,"130003^2|130004^2"]
[16303,{"$f":"'7'!AR127","v":"70212^70214^70211|70213^70211|70215^70212|70213^70212^70214|70212^70211|70215^70214|70213^70212^70214|70213^70211^70212"},{"$f":"'7'!AR154","v":"0^0^0|0^0|100^0|0^0^0|0^0|100^0|0^0^0|0^0^0"},{"$f":"'7'!AR167","v":"6^4^16|3^8|8^4|3^6^2|3^9|8^2|3^6^2|2^9^2"},10,3,0,0,3,0,"130005^1|130003^1"]
[16304,{"$f":"'7'!BF127","v":"70214^70213^70219^70213^70214^70212^70212^70212^70215^70215^70215^70215^70211^70211^70211^70211^70211^70214^70212^70213^70213^70212^70214^70212^70211^70211^70214^70211^70211^70212^70212^70211^70211^70213^70211^70211^70212^70214^70212^70211^70213^70213^70211^70212^70214"},{"$f":"'7'!BF154","v":"4^2^1^3^5^6^1^7^101^102^104^105^6^4^1^5^7^6^4^2^3^5^7^8^4^2^1^3^5^9^6^4^2^1^3^5^7^8^6^4^2^3^5^7^9"},{"$f":"'7'!BF167","v":"3^3^3^3^3^5^5^5^8^8^8^8^12^12^12^12^12^17^17^17^17^17^17^23^23^23^23^23^23^23^30^30^30^30^30^30^30^40^40^40^40^40^40^40^40"},0,1,0,0,0,1,"130003^3|130004^1"]
[17101,{"$f":"'8'!P15","v":"70222^70224^70221^70222^70223^70221^70222^70225^70221^70222^70224^70221^70224^70223^70221^70222^70221^70222^70225^70222^70224^70221^70222^70223^70221^70222^70224"},{"$f":"'8'!P42","v":"0^0^0^0^0^0^0^100^0^0^0^0^0^0^0^0^0^0^100^0^0^0^0^0^0^0^0"},{"$f":"'8'!P56","v":"6^3^9^4^3^8^3^6^6^3^2^8^2^2^7^3^9^3^8^3^2^9^3^2^8^3^2"},14,3,0,0,4,0,"130003^3|130004^1"]
[17102,{"$f":"'8'!AD15","v":"70225^70225^70225^70225^70222^70222^70222^70223^70226^70223^70224^70221^70221^70224^70222^70221^70221^70222^70221^70221^70222^70224^70222^70221^70223^70223^70221^70222^70224^70222^70221^70222^70224^70222^70221^70222^70225^70225^70225^70225^70225"},{"$f":"'8'!AD42","v":"101^102^104^105^4^1^5^6^1^7^4^2^3^5^6^4^2^1^3^5^7^8^6^4^2^3^5^7^9^6^4^2^1^3^5^7^101^102^103^104^105"},{"$f":"'8'!AD55","v":"3^3^3^3^6^6^6^10^10^10^15^15^15^15^22^22^22^22^22^22^22^30^30^30^30^30^30^30^30^40^40^40^40^40^40^40^45^45^45^45^45"},0,1,0,0,4,0,"130003^2|130004^2"]
[17103,{"$f":"'8'!AR15","v":"70223^70221^70222^70224^70221^70221^70222^70225^70223^70222^70221^70224^70224^70223^70222^70221^70222^70226^70223^70221^70222^70224"},{"$f":"'8'!AR42","v":"0^0^0^0^0^0^0^100^0^0^0^0^0^0^0^0^0^0^0^0^0^0"},{"$f":"'8'!AR55","v":"5^17^3^2^6^7^4^6^3^3^8^2^2^3^5^9^3^1^2^8^3^2"},13,3,0,0,3,0,"130005^1|130003^1"]
[17104,{"$f":"'8'!BF15","v":"70221^70221^70221^70221^70222^70222^70222^70224^70224^70225^70225^70225^70225^70223^70223^70223^70224^70221^70221^70221^70221^70224^70222^70222^70222^70222^70222^70222^70222^70221^70223^70223^70221^70222^70222"},{"$f":"'8'!BF42","v":"4^2^3^5^4^1^5^2^3^101^102^104^105^4^1^5^6^4^2^3^5^7^6^4^1^5^7^8^6^4^2^3^5^7^9"},{"$f":"'8'!BF55","v":"2^2^2^2^4^4^4^6^6^8^8^8^8^10^10^10^15^15^15^15^15^15^25^25^25^25^25^35^35^35^35^35^35^35^35"},0,1,0,0,0,1,"130003^3|130004^1"]
[17201,{"$f":"'8'!P71","v":"70234^70232^70232^70234^70231^70231^70232^70232^70231^70231^70234^70232^70233^70232^70233^70232^70234^70232^70231^70231^70232^70231^70231^70232^70235^70235^70235^70235^70235^70234^70231^70232^70232^70232^70231^70234^70231^70231^70232^70233^70233^70232^70231^70231^70234^70232^70231^70232^70231^70232^70234^70235^70235^70235^70235^70235^70232^70231^70233^70237^70233^70231^70232"},{"$f":"'8'!P98","v":"6^2^3^7^6^4^2^3^5^7^6^4^2^1^3^5^7^8^4^2^1^3^5^9^101^102^103^104^105^8^6^2^1^3^7^9^8^6^4^2^3^5^7^9^8^6^4^1^5^7^9^101^102^103^104^105^6^4^2^1^3^5^7"},{"$f":"'8'!P112","v":"5^5^5^5^10^10^10^10^10^10^17^17^17^17^17^17^17^25^25^25^25^25^25^25^30^30^30^30^30^40^40^40^40^40^40^40^50^50^50^50^50^50^50^50^60^60^60^60^60^60^60^65^65^65^65^65^75^75^75^75^75^75^75"},0,1,0,0,4,0,"130003^3|130004^1"]
[17202,{"$f":"'8'!AD71","v":"70231^70234^70233^70232^70231^70235^70232^70233^70231^70234^70231^70232^70232^70233^70231^70232^70234^70231^70235^70233^70237"},{"$f":"'8'!AD98","v":"0^0^0^0^0^100^0^0^0^0^0^0^0^0^0^0^0^0^100^0^0"},{"$f":"'8'!AD111","v":"17^5^3^4^8^8^4^2^9^2^8^3^3^2^8^3^2^9^7^3^1"},14,3,0,0,4,0,"130003^2|130004^2"]
[17203,{"$f":"'8'!AR71","v":"70235^70235^70235^70235^70235^70234^70232^70232^70232^70234^70231^70231^70231^70231^70231^70232^70231^70233^70233^70233^70231^70232^70234^70231^70232^70232^70232^70231^70234^70232^70231^70233^70232^70233^70231^70232^70235^70235^70235^70235^70235^70234^70232^70231^70233^70231^70232^70234"},{"$f":"'8'!AR98","v":"101^102^103^104^105^6^2^1^3^7^4^2^1^3^5^8^4^2^1^3^5^9^8^6^4^1^5^7^9^6^4^2^1^3^5^7^101^102^103^104^105^8^6^2^1^3^7^9"},{"$f":"'8'!AR111","v":"3^3^3^3^3^6^6^6^6^6^10^10^10^10^10^17^17^17^17^17^17^17^25^25^25^25^25^25^25^35^35^35^35^35^35^35^40^40^40^40^40^50^50^50^50^50^50^50"},0,1,0,0,3,0,"130005^1|130003^1"]
[17204,{"$f":"'8'!BF71","v":"70233^70237^70233^70232^70232^70232^70234^70234^70231^70231^70231^70231^70235^70235^70235^70235^70234^70232^70233^70233^70232^70234^70232^70231^70231^70234^70231^70231^70232^70232^70234^70232^70233^70233^70232^70234^70232"},{"$f":"'8'!BF98","v":"4^1^5^6^1^7^2^3^4^2^3^5^101^102^104^105^8^6^2^3^7^9^6^4^2^1^3^5^7^8^6^4^2^3^5^7^9"},{"$f":"'8'!BF111","v":"3^3^3^5^5^5^8^8^12^12^12^12^17^17^17^17^25^25^25^25^25^25^35^35^35^35^35^35^35^45^45^45^45^45^45^45^45"},0,1,0,0,0,1,"130003^3|130004^1"]
[17301,{"$f":"'8'!P127","v":"70241^70244^70244^70242^70241^70243^70241^70242^70245^70244^70241^70242^70244^70242^70243^70241^70241^70242^70243^70242^70244^70245^70242^70249^70244^70243^70242"},{"$f":"'8'!P154","v":"0^0^0^0^0^0^0^0^100^0^0^0^0^0^0^0^0^0^0^0^0^100^0^0^0^0^0"},{"$f":"'8'!P168","v":"8^3^2^4^8^2^8^3^9^2^9^3^2^3^2^10^9^4^4^4^2^8^3^1^2^3^5"},10,3,0,0,4,0,"130003^3|130004^1"]
[17302,{"$f":"'8'!AD127","v":"70245^70245^70245^70245^70245^70242^70242^70242^70244^70243^70243^70244^70244^70242^70241^70241^70242^70244^70242^70242^70243^70244^70243^70242^70242^70242^70241^70243^70243^70243^70241^70242^70245^70245^70245^70245^70245^70244^70249^70246^70242^70244"},{"$f":"'8'!AD154","v":"101^102^103^104^105^6^1^7^6^2^3^7^8^4^2^3^5^9^6^4^2^1^3^5^7^8^4^2^1^3^5^9^101^102^103^104^105^6^4^1^5^7"},{"$f":"'8'!AD167","v":"5^5^5^5^5^10^10^10^15^15^15^15^22^22^22^22^22^22^30^30^30^30^30^30^30^40^40^40^40^40^40^40^45^45^45^45^45^55^55^55^55^55"},0,1,0,0,4,0,"130003^2|130004^2"]
[17303,{"$f":"'8'!AR127","v":"70242^70244^70241^70243^70241^70245^70241^70243^70242^70244^70242^70241^70245^70242^70243^70242^70244^70249^70241^70242"},{"$f":"'8'!AR154","v":"0^0^0^0^0^100^0^0^0^0^0^0^100^0^0^0^0^0^0^0"},{"$f":"'8'!AR167","v":"5^3^16^3^8^7^6^3^4^3^3^9^8^2^3^5^2^2^9^3"},10,3,0,0,3,0,"130005^1|130003^1"]
[17304,{"$f":"'8'!BF127","v":"70244^70243^70243^70244^70242^70242^70242^70245^70245^70245^70245^70241^70241^70241^70241^70241^70244^70242^70243^70243^70242^70244^70242^70241^70241^70244^70241^70241^70242^70242^70241^70241^70243^70241^70241^70242^70244^70242^70241^70243^70243^70241^70242^70244"},{"$f":"'8'!BF154","v":"4^2^3^5^6^1^7^101^102^104^105^6^4^1^5^7^6^4^2^3^5^7^8^4^2^1^3^5^9^6^4^2^1^3^5^7^8^6^4^2^3^5^7^9"},{"$f":"'8'!BF167","v":"3^3^3^3^5^5^5^8^8^8^8^12^12^12^12^12^17^17^17^17^17^17^25^25^25^25^25^25^25^35^35^35^35^35^35^35^45^45^45^45^45^45^45^45"},0,1,0,0,0,1,"130003^3|130004^1"]
[18101,{"$f":"'9'!P15","v":"70254^70252^70252^70252^70254^70252^70251^70251^70251^70252^70252^70251^70253^70252^70253^70251^70252^70255^70255^70255^70255^70255^70252^70251^70254^70252^70254^70251^70252^70252^70251^70253^70254^70253^70251^70252^70252^70252^70251^70251^70251^70252^70252^70255^70255^70255^70255^70255^70252^70251^70251^70256^70251^70251^70252^70254^70252^70251^70253^70252^70253^70251^70252^70254"},{"$f":"'9'!P42","v":"4^2^1^3^5^6^2^1^3^7^6^4^2^1^3^5^7^101^102^103^104^105^8^4^2^1^3^5^9^6^4^2^1^3^5^7^6^4^2^1^3^5^7^101^102^103^104^105^6^4^2^1^3^5^7^8^6^4^2^1^3^5^7^9"},{"$f":"'9'!P56","v":"5^5^5^5^5^10^10^10^10^10^16^16^16^16^16^16^16^20^20^20^20^20^27^27^27^27^27^27^27^35^35^35^35^35^35^35^45^45^45^45^45^45^45^50^50^50^50^50^60^60^60^60^60^60^60^70^70^70^70^70^70^70^70^70"},0,1,0,0,4,0,"130003^3|130004^1"]
[18102,{"$f":"'9'!AD15","v":"70255^70254^70252^70252^70251^70253^70251^70252^70251^70254^70251^70252^70253^70251^70252^70254^70254^70252^70251^70255^70252^70256"},{"$f":"'9'!AD42","v":"100^0^0^0^0^0^0^0^0^0^0^0^0^0^0^0^0^0^0^100^0^0"},{"$f":"'9'!AD55","v":"12^4^6^4^8^3^8^3^13^2^12^4^2^11^3^2^2^3^14^8^4^1"},14,3,0,0,4,0,"130003^2|130004^2"]
[18103,{"$f":"'9'!AR15","v":"70253^70251^70251^70252^70254^70251^70252^70255^70253^70252^70251^70254^70254^70253^70251^70251^70252^70253^70251^70252^70254"},{"$f":"'9'!AR42","v":"0^0^0^0^0^0^0^100^0^0^0^0^0^0^0^0^0^0^0^0^0"},{"$f":"'9'!AR55","v":"5^17^10^3^2^12^4^8^3^3^13^2^2^3^14^16^4^2^14^3^2"},13,3,0,0,3,0,"130005^1|130003^1"]
[18104,{"$f":"'9'!BF15","v":"70251^70251^70251^70251^70252^70252^70252^70254^70254^70255^70255^70255^70255^70253^70253^70253^70254^70251^70251^70251^70251^70254^70252^70252^70256^70252^70252^70252^70252^70251^70253^70253^70251^70252^70252"},{"$f":"'9'!BF42","v":"4^2^3^5^4^1^5^2^3^101^102^104^105^4^1^5^6^4^2^3^5^7^6^4^1^5^7^8^6^4^2^3^5^7^9"},{"$f":"'9'!BF55","v":"2^2^2^2^4^4^4^6^6^8^8^8^8^10^10^10^15^15^15^15^15^15^25^25^25^25^25^35^35^35^35^35^35^35^35"},0,1,0,0,0,1,"130003^3|130004^1"]
[18201,{"$f":"'9'!P71","v":"70262^70261^70264^70262^70261^70262^70263^70264^70262^70261^70265^70261^70262^70261^70264^70262^70263^70261^70262^70261^70264^70265^70262^70268^70264^70263^70261^70262"},{"$f":"'9'!P98","v":"0^0^0^0^0^0^0^0^0^0^100^0^0^0^0^0^0^0^0^0^0^100^0^0^0^0^0^0"},{"$f":"'9'!P112","v":"3^7^2^4^11^6^3^3^4^12^6^11^4^13^2^3^2^14^4^15^2^8^4^1^2^3^14^3"},12,3,0,0,4,0,"130003^3|130004^1"]
[18202,{"$f":"'9'!AD71","v":"70264^70261^70261^70264^70262^70262^70262^70265^70265^70265^70265^70265^70263^70261^70263^70261^70263^70264^70262^70261^70261^70261^70262^70264^70262^70261^70263^70262^70263^70261^70262^70264^70262^70261^70261^70267^70261^70261^70262^70264^70265^70265^70265^70265^70265"},{"$f":"'9'!AD98","v":"4^2^3^5^6^1^7^101^102^103^104^105^4^2^1^3^5^8^4^2^1^3^5^9^8^4^2^1^3^5^9^8^6^4^2^1^3^5^7^9^101^102^103^104^105"},{"$f":"'9'!AD111","v":"3^3^3^3^6^6^6^10^10^10^10^10^17^17^17^17^17^25^25^25^25^25^25^25^35^35^35^35^35^35^35^45^45^45^45^45^45^45^45^45^50^50^50^50^50"},0,1,0,0,4,0,"130003^2|130004^2"]
[18203,{"$f":"'9'!AR71","v":"70265^70265^70265^70265^70265^70264^70262^70262^70262^70264^70261^70261^70261^70261^70261^70262^70261^70263^70263^70263^70261^70262^70264^70261^70262^70261^70262^70261^70262^70261^70264^70262^70261^70263^70264^70263^70261^70262^70265^70265^70265^70265^70265^70264^70262^70261^70267^70263^70268^70261^70262^70264"},{"$f":"'9'!AR98","v":"101^102^103^104^105^6^2^1^3^7^4^2^1^3^5^8^4^2^1^3^5^9^8^6^4^2^1^3^5^7^9^6^4^2^1^3^5^7^101^102^103^104^105^8^6^4^2^1^3^5^7^9"},{"$f":"'9'!AR111","v":"5^5^5^5^5^10^10^10^10^10^15^15^15^15^15^22^22^22^22^22^22^22^30^30^30^30^30^30^30^30^30^40^40^40^40^40^40^40^45^45^45^45^45^55^55^55^55^55^55^55^55^55"},0,1,0,0,3,0,"130005^1|130003^1"]
[18204,{"$f":"'9'!BF71","v":"70263^70263^70263^70262^70262^70262^70264^70264^70261^70261^70261^70261^70265^70265^70265^70265^70264^70262^70263^70263^70262^70264^70262^70261^70261^70264^70261^70261^70262^70262^70264^70262^70263^70263^70262^70264^70262"},{"$f":"'9'!BF98","v":"4^1^5^6^1^7^2^3^4^2^3^5^101^102^104^105^8^6^2^3^7^9^6^4^2^1^3^5^7^8^6^4^2^3^5^7^9"},{"$f":"'9'!BF111","v":"2^2^2^4^4^4^7^7^11^11^11^11^16^16^16^16^22^22^22^22^22^22^30^30^30^30^30^30^30^40^40^40^40^40^40^40^40"},0,1,0,0,0,1,"130003^3|130004^1"]
[18301,{"$f":"'9'!P127","v":"70274^70271^70271^70271^70274^70272^70272^70274^70272^70272^70272^70271^70273^70272^70273^70271^70272^70275^70275^70275^70275^70275^70274^70272^70271^70271^70271^70272^70274^70274^70272^70273^70272^70273^70272^70274^70272^70271^70271^70271^70272^70271^70271^70271^70272^70274^70272^70273^70272^70273^70272^70274^70275^70275^70275^70275^70275^70272^70272^70271^70273^70279^70273^70271^70272^70272"},{"$f":"'9'!P154","v":"6^2^1^3^7^4^2^1^3^5^8^6^2^1^3^7^9^101^102^103^104^105^8^6^2^1^3^7^9^8^4^2^1^3^5^9^8^6^4^2^1^3^5^7^9^6^4^2^1^3^5^7^101^102^103^104^105^8^6^4^2^1^3^5^7^9"},{"$f":"'9'!P168","v":"5^5^5^5^5^10^10^10^10^10^16^16^16^16^16^16^16^20^20^20^20^20^27^27^27^27^27^27^27^35^35^35^35^35^35^35^45^45^45^45^45^45^45^45^45^55^55^55^55^55^55^55^60^60^60^60^60^70^70^70^70^70^70^70^70^70"},0,1,0,0,4,0,"130003^3|130004^1"]
[18302,{"$f":"'9'!AD127","v":"70275^70275^70275^70275^70272^70272^70272^70274^70273^70273^70274^70274^70272^70271^70271^70272^70274^70272^70272^70273^70274^70273^70272^70272^70272^70271^70273^70273^70273^70271^70272^70275^70275^70275^70275^70275^70274^70272^70276^70279^70274"},{"$f":"'9'!AD154","v":"101^102^104^105^6^1^7^6^2^3^7^8^4^2^3^5^9^6^4^2^1^3^5^7^8^4^2^1^3^5^9^101^102^103^104^105^6^4^1^5^7"},{"$f":"'9'!AD167","v":"5^5^5^5^10^10^10^15^15^15^15^22^22^22^22^22^22^30^30^30^30^30^30^30^40^40^40^40^40^40^40^45^45^45^45^45^55^55^55^55^55"},0,1,0,0,4,0,"130003^2|130004^2"]
[18303,{"$f":"'9'!AR127","v":"70272^70274^70271^70273^70271^70275^70272^70271^70273^70272^70274^70272^70271^70275^70274^70271^70273^70272^70274^70273^70271^70279"},{"$f":"'9'!AR154","v":"0^0^0^0^0^100^0^0^0^0^0^0^0^100^0^0^0^0^0^0^0^0"},{"$f":"'9'!AR167","v":"6^4^18^3^12^8^3^8^3^3^2^3^14^8^3^12^2^3^2^3^14^2"},10,3,0,0,3,0,"130005^1|130003^1"]
[18304,{"$f":"'9'!BF127","v":"70274^70273^70273^70274^70272^70272^70272^70275^70275^70275^70275^70271^70271^70271^70271^70271^70274^70272^70273^70273^70272^70274^70272^70271^70271^70274^70271^70271^70272^70272^70271^70271^70273^70271^70271^70272^70274^70272^70271^70273^70273^70271^70272^70274"},{"$f":"'9'!BF154","v":"4^2^3^5^6^1^7^101^102^104^105^6^4^1^5^7^6^4^2^3^5^7^8^4^2^1^3^5^9^6^4^2^1^3^5^7^8^6^4^2^3^5^7^9"},{"$f":"'9'!BF167","v":"3^3^3^3^5^5^5^8^8^8^8^12^12^12^12^12^17^17^17^17^17^17^23^23^23^23^23^23^23^30^30^30^30^30^30^30^40^40^40^40^40^40^40^40"},0,1,0,0,0,1,"130003^3|130004^1"]
[19101,{"$f":"'10'!P15","v":"70284^70282^70282^70282^70284^70281^70281^70282^70281^70282^70281^70281^70284^70282^70283^70283^70283^70282^70284^70285^70285^70285^70285^70285^70282^70281^70281^70282^70281^70281^70282^70284^70282^70281^70283^70282^70283^70281^70282^70284^70282^70282^70281^70281^70281^70282^70282^70285^70285^70285^70285^70285^70282^70281^70281^70284^70281^70281^70282^70284^70282^70281^70283^70284^70283^70281^70282^70284"},{"$f":"'10'!P42","v":"4^2^1^3^5^6^4^2^1^3^5^7^6^4^2^1^3^5^7^101^102^103^104^105^6^4^2^1^3^5^7^8^6^4^2^1^3^5^7^9^6^4^2^1^3^5^7^101^102^103^104^105^6^4^2^1^3^5^7^8^6^4^2^1^3^5^7^9"},{"$f":"'10'!P56","v":"5^5^5^5^5^10^10^10^10^10^10^10^16^16^16^16^16^16^16^20^20^20^20^20^27^27^27^27^27^27^27^35^35^35^35^35^35^35^35^35^45^45^45^45^45^45^45^50^50^50^50^50^60^60^60^60^60^60^60^70^70^70^70^70^70^70^70^70"},0,1,0,0,4,0,"130003^3|130004^1"]
[19102,{"$f":"'10'!AD15","v":"70285^70281^70284^70282^70281^70283^70281^70282^70281^70284^70281^70282^70283^70281^70282^70284^70284^70282^70281^70285^70282"},{"$f":"'10'!AD42","v":"100^0^0^0^0^0^0^0^0^0^0^0^0^0^0^0^0^0^0^100^0"},{"$f":"'10'!AD55","v":"7^14^5^4^10^2^11^3^14^3^15^4^2^12^3^2^2^3^15^8^4"},12,3,0,0,4,0,"130003^2|130004^2"]
[19103,{"$f":"'10'!AR15","v":"70283^70281^70284^70281^70282^70281^70282^70283^70285^70283^70282^70281^70284^70284^70283^70281^70281^70282^70283^70281^70282^70284"},{"$f":"'10'!AR42","v":"0^0^0^0^0^0^0^0^100^0^0^0^0^0^0^0^0^0^0^0^0^0"},{"$f":"'10'!AR55","v":"4^18^3^10^4^11^3^2^8^3^4^11^2^2^3^12^15^3^2^13^3^2"},11,3,0,0,3,0,"130005^1|130003^1"]
[19104,{"$f":"'10'!BF15","v":"70281^70281^70281^70281^70282^70282^70282^70284^70284^70285^70285^70285^70285^70283^70283^70283^70284^70281^70281^70281^70281^70284^70282^70282^70282^70282^70282^70282^70282^70281^70283^70283^70281^70282^70282"},{"$f":"'10'!BF42","v":"4^2^3^5^4^1^5^2^3^101^102^104^105^4^1^5^6^4^2^3^5^7^6^4^1^5^7^8^6^4^2^3^5^7^9"},{"$f":"'10'!BF55","v":"2^2^2^2^4^4^4^6^6^8^8^8^8^10^10^10^17^17^17^17^17^17^25^25^25^25^25^35^35^35^35^35^35^35^35"},0,1,0,0,0,1,"130003^3|130004^1"]
[19201,{"$f":"'10'!P71","v":"70294^70292^70292^70292^70294^70291^70291^70291^70291^70291^70294^70292^70293^70292^70293^70292^70294^70292^70291^70291^70292^70291^70291^70292^70295^70295^70295^70295^70295^70294^70291^70292^70292^70292^70291^70294^70291^70291^70292^70293^70293^70293^70292^70291^70291^70294^70292^70291^70291^70292^70291^70291^70292^70294^70295^70295^70295^70295^70295^70292^70291^70293^70294^70293^70291^70292"},{"$f":"'10'!P98","v":"6^2^1^3^7^6^2^1^3^7^6^4^2^1^3^5^7^8^4^2^1^3^5^9^101^102^103^104^105^8^6^2^1^3^7^9^8^6^4^2^1^3^5^7^9^8^6^4^2^1^3^5^7^9^101^102^103^104^105^6^4^2^1^3^5^7"},{"$f":"'10'!P112","v":"5^5^5^5^5^10^10^10^10^10^17^17^17^17^17^17^17^25^25^25^25^25^25^25^30^30^30^30^30^40^40^40^40^40^40^40^50^50^50^50^50^50^50^50^50^60^60^60^60^60^60^60^60^60^65^65^65^65^65^75^75^75^75^75^75^75"},0,1,0,0,4,0,"130003^3|130004^1"]
[19202,{"$f":"'10'!AD71","v":"70294^70291^70291^70291^70294^70292^70292^70292^70295^70295^70295^70295^70293^70292^70293^70292^70293^70294^70292^70291^70291^70291^70292^70294^70292^70291^70293^70292^70293^70291^70292^70294^70292^70291^70291^70292^70291^70291^70292^70294^70295^70295^70295^70295^70295"},{"$f":"'10'!AD98","v":"4^2^1^3^5^6^1^7^101^102^104^105^4^2^1^3^5^8^4^2^1^3^5^9^8^4^2^1^3^5^9^8^6^4^2^1^3^5^7^9^101^102^103^104^105"},{"$f":"'10'!AD111","v":"5^5^5^5^5^10^10^10^15^15^15^15^22^22^22^22^22^30^30^30^30^30^30^30^40^40^40^40^40^40^40^50^50^50^50^50^50^50^50^50^55^55^55^55^55"},0,1,0,0,4,0,"130003^2|130004^2"]
[19203,{"$f":"'10'!AR71","v":"70295^70291^70291^70292^70294^70291^70292^70293^70291^70292^70292^70291^70294^70293^70291^70292^70295^70292^70293^70291^70292^70294"},{"$f":"'10'!AR98","v":"100^0^0^0^0^0^0^0^0^0^0^0^0^0^0^0^100^0^0^0^0^0"},{"$f":"'10'!AR111","v":"7^18^9^3^2^11^4^2^12^3^4^12^2^2^14^3^8^4^2^14^3^2"},11,3,0,0,3,0,"130005^1|130003^1"]
[19204,{"$f":"'10'!BF71","v":"70293^70293^70293^70292^70292^70292^70294^70294^70291^70291^70291^70291^70295^70295^70295^70295^70294^70292^70293^70293^70292^70294^70292^70291^70291^70294^70291^70291^70292^70292^70294^70292^70293^70293^70292^70294^70292"},{"$f":"'10'!BF98","v":"4^1^5^6^1^7^2^3^4^2^3^5^101^102^104^105^8^6^2^3^7^9^6^4^2^1^3^5^7^8^6^4^2^3^5^7^9"},{"$f":"'10'!BF111","v":"3^3^3^5^5^5^8^8^12^12^12^12^18^18^18^18^25^25^25^25^25^25^35^35^35^35^35^35^35^45^45^45^45^45^45^45^45"},0,1,0,0,0,1,"130003^3|130004^1"]
[19301,{"$f":"'10'!P127","v":"70301^70304^70301^70302^70301^70302^70303^70305^70302^70303^70301^70302^70304^70301^70302^70303^70304^70301^70302^70303^70302^70304^70305^70301^70304^70304^70303^70302"},{"$f":"'10'!P154","v":"0^0^0^0^0^0^0^100^0^0^0^0^0^0^0^0^0^0^0^0^0^0^100^0^0^0^0^0"},{"$f":"'10'!P168","v":"9^3^9^4^10^3^2^8^3^2^11^4^2^11^3^2^2^14^4^15^2^2^8^10^2^2^3^4"},9,3,0,0,4,0,"130003^3|130004^1"]
[19302,{"$f":"'10'!AD127","v":"70305^70305^70305^70305^70302^70302^70302^70302^70304^70303^70303^70304^70304^70302^70301^70301^70301^70302^70304^70302^70302^70303^70304^70303^70302^70302^70302^70301^70303^70303^70303^70301^70302^70305^70305^70305^70305^70305^70304^70302^70306^70302^70304"},{"$f":"'10'!AD154","v":"101^102^104^105^6^1^3^7^6^2^3^7^8^4^2^1^3^5^9^6^4^2^1^3^5^7^8^4^2^1^3^5^9^101^102^103^104^105^6^4^1^5^7"},{"$f":"'10'!AD167","v":"5^5^5^5^10^10^10^10^15^15^15^15^22^22^22^22^22^22^22^30^30^30^30^30^30^30^40^40^40^40^40^40^40^45^45^45^45^45^55^55^55^55^55"},0,1,0,0,4,0,"130003^2|130004^2"]
[19303,{"$f":"'10'!AR127","v":"70304^70302^70302^70302^70304^70301^70303^70302^70303^70302^70303^70301^70305^70305^70305^70305^70305^70304^70302^70303^70303^70303^70302^70304^70302^70301^70301^70302^70301^70301^70302^70305^70305^70305^70305^70305^70304^70302^70303^70302^70303^70302^70304^70302^70302^70301^70301^70303^70301^70301^70302^70302"},{"$f":"'10'!AR154","v":"4^2^1^3^5^6^4^2^1^3^5^7^101^102^103^104^105^6^4^2^1^3^5^7^6^4^2^1^3^5^7^101^102^103^104^105^8^4^2^1^3^5^9^8^6^4^2^1^3^5^7^9"},{"$f":"'10'!AR167","v":"5^5^5^5^5^10^10^10^10^10^10^10^15^15^15^15^15^22^22^22^22^22^22^22^30^30^30^30^30^30^30^35^35^35^35^35^45^45^45^45^45^45^45^55^55^55^55^55^55^55^55^55"},0,1,0,0,3,0,"130005^1|130003^1"]
[19304,{"$f":"'10'!BF127","v":"70304^70303^70303^70304^70302^70302^70302^70305^70305^70305^70305^70301^70301^70301^70301^70301^70304^70302^70303^70303^70302^70304^70302^70301^70301^70304^70301^70301^70302^70302^70301^70301^70303^70301^70301^70302^70304^70302^70301^70303^70303^70301^70302^70304"},{"$f":"'10'!BF154","v":"4^2^3^5^6^1^7^101^102^104^105^6^4^1^5^7^6^4^2^3^5^7^8^4^2^1^3^5^9^6^4^2^1^3^5^7^8^6^4^2^3^5^7^9"},{"$f":"'10'!BF167","v":"3^3^3^3^5^5^5^8^8^8^8^12^12^12^12^12^18^18^18^18^18^18^25^25^25^25^25^25^25^35^35^35^35^35^35^35^45^45^45^45^45^45^45^45"},0,1,0,0,0,1,"130003^3|130004^1"]
[20101,{"$f":"'11'!P15","v":"70311^70312^70314^70311^70312^70311^70312^70313^70314^70315^70313^70311^70312^70311^70312^70313^70314^70311^70312^70315^70312^70311^70314^70311^70312^70313^70314"},{"$f":"'11'!P42","v":"0^0^0^0^0^0^0^0^0^100^0^0^0^0^0^0^0^0^0^100^0^0^0^0^0^0^0"},{"$f":"'11'!P56","v":"8^3^2^11^4^9^3^2^2^9^3^13^4^11^3^2^2^15^4^9^4^16^3^14^3^2^2"},11,3,0,0,4,0,"130003^3|130004^1"]
[20102,{"$f":"'11'!AD15","v":"70315^70315^70315^70315^70312^70312^70312^70312^70313^70313^70313^70314^70311^70311^70311^70314^70312^70311^70311^70312^70311^70311^70312^70314^70312^70311^70313^70313^70313^70311^70312^70314^70312^70311^70312^70314^70312^70311^70312^70315^70315^70315^70315^70315"},{"$f":"'11'!AD42","v":"101^102^104^105^8^4^1^5^6^1^7^4^2^1^3^5^6^4^2^1^3^5^7^8^6^4^2^1^3^5^7^9^6^4^2^1^3^5^7^101^102^103^104^105"},{"$f":"'11'!AD55","v":"5^5^5^5^10^10^10^10^15^15^15^20^20^20^20^20^27^27^27^27^27^27^27^35^35^35^35^35^35^35^35^35^45^45^45^45^45^45^45^50^50^50^50^50"},0,1,0,0,4,0,"130003^2|130004^2"]
[20103,{"$f":"'11'!AR15","v":"70311^70313^70311^70312^70314^70311^70312^70315^70312^70311^70311^70312^70314^70311^70313^70314^70311^70312^70311^70312^70313^70314"},{"$f":"'11'!AR42","v":"0^0^0^0^0^0^0^100^0^0^0^0^0^0^0^0^0^0^0^0^0^0"},{"$f":"'11'!AR55","v":"18^6^10^3^2^12^4^7^2^8^13^3^2^14^3^2^15^4^13^3^3^2"},10,3,0,0,3,0,"130005^1|130003^1"]
[20104,{"$f":"'11'!BF15","v":"70311^70311^70311^70311^70312^70312^70312^70314^70314^70315^70315^70315^70315^70313^70313^70313^70314^70311^70311^70311^70311^70314^70312^70312^70312^70312^70312^70312^70312^70311^70313^70313^70311^70312^70312"},{"$f":"'11'!BF42","v":"4^2^3^5^4^1^5^2^3^101^102^104^105^4^1^5^6^4^2^3^5^7^6^4^1^5^7^8^6^4^2^3^5^7^9"},{"$f":"'11'!BF55","v":"2^2^2^2^4^4^4^6^6^8^8^8^8^10^10^10^15^15^15^15^15^15^22^22^22^22^22^30^30^30^30^30^30^30^30"},0,1,0,0,0,1,"130003^3|130004^1"]
[20201,{"$f":"'11'!P71","v":"70324^70322^70322^70322^70324^70321^70321^70321^70321^70321^70324^70322^70323^70322^70323^70322^70324^70322^70321^70321^70322^70321^70321^70322^70325^70325^70325^70325^70325^70324^70321^70322^70322^70322^70321^70324^70321^70321^70322^70323^70323^70323^70322^70321^70321^70324^70322^70321^70321^70322^70321^70321^70322^70324^70325^70325^70325^70325^70325^70322^70321^70323^70324^70323^70321^70322"},{"$f":"'11'!P98","v":"6^2^1^3^7^6^2^1^3^7^6^4^2^1^3^5^7^8^4^2^1^3^5^9^101^102^103^104^105^8^6^2^1^3^7^9^8^6^4^2^1^3^5^7^9^8^6^4^2^1^3^5^7^9^101^102^103^104^105^6^4^2^1^3^5^7"},{"$f":"'11'!P112","v":"5^5^5^5^5^10^10^10^10^10^17^17^17^17^17^17^17^25^25^25^25^25^25^25^30^30^30^30^30^40^40^40^40^40^40^40^50^50^50^50^50^50^50^50^50^60^60^60^60^60^60^60^60^60^65^65^65^65^65^75^75^75^75^75^75^75"},0,1,0,0,4,0,"130003^3|130004^1"]
[20202,{"$f":"'11'!AD71","v":"70321^70324^70323^70321^70322^70325^70322^70324^70321^70323^70321^70322^70324^70321^70322^70323^70321^70322^70324^70325^70322^70323"},{"$f":"'11'!AD98","v":"0^0^0^0^0^100^0^0^0^0^0^0^0^0^0^0^0^0^0^100^0^0"},{"$f":"'11'!AD111","v":"18^6^4^12^4^8^3^2^13^3^12^3^2^13^3^2^14^4^2^6^2^13"},11,3,0,0,4,0,"130003^2|130004^2"]
[20203,{"$f":"'11'!AR71","v":"70325^70325^70325^70325^70325^70324^70321^70322^70322^70322^70321^70324^70322^70321^70321^70321^70321^70321^70322^70322^70321^70323^70323^70323^70321^70322^70324^70321^70322^70321^70322^70321^70322^70321^70324^70322^70321^70323^70323^70323^70321^70322^70325^70325^70325^70325^70325^70324^70322^70322^70321^70323^70321^70322^70322^70324"},{"$f":"'11'!AR98","v":"101^102^103^104^105^6^4^2^1^3^5^7^8^4^2^1^3^5^9^8^4^2^1^3^5^9^8^6^4^2^1^3^5^7^9^6^4^2^1^3^5^7^101^102^103^104^105^8^6^4^2^1^3^5^7^9"},{"$f":"'11'!AR111","v":"4^4^4^4^4^10^10^10^10^10^10^10^17^17^17^17^17^17^17^25^25^25^25^25^25^25^35^35^35^35^35^35^35^35^35^45^45^45^45^45^45^45^50^50^50^50^50^60^60^60^60^60^60^60^60^60"},0,1,0,0,3,0,"130005^1|130003^1"]
[20204,{"$f":"'11'!BF71","v":"70323^70323^70323^70322^70322^70322^70324^70324^70321^70321^70321^70321^70325^70325^70325^70325^70324^70322^70323^70323^70322^70324^70322^70321^70321^70324^70321^70321^70322^70322^70324^70322^70323^70323^70322^70324^70322"},{"$f":"'11'!BF98","v":"4^1^5^6^1^7^2^3^4^2^3^5^101^102^104^105^8^6^2^3^7^9^6^4^2^1^3^5^7^8^6^4^2^3^5^7^9"},{"$f":"'11'!BF111","v":"3^3^3^5^5^5^8^8^12^12^12^12^18^18^18^18^25^25^25^25^25^25^35^35^35^35^35^35^35^45^45^45^45^45^45^45^45"},0,1,0,0,0,1,"130003^3|130004^1"]
[20301,{"$f":"'11'!P127","v":"70334^70331^70331^70331^70334^70331^70332^70332^70331^70332^70332^70331^70332^70331^70333^70333^70333^70331^70332^70335^70335^70335^70335^70335^70334^70332^70332^70331^70331^70331^70331^70332^70334^70334^70332^70333^70332^70333^70332^70334^70332^70331^70331^70331^70332^70331^70331^70331^70332^70334^70332^70333^70332^70333^70332^70334^70335^70335^70335^70335^70335^70332^70332^70331^70333^70334^70333^70331^70332^70332"},{"$f":"'11'!P154","v":"6^2^1^3^7^6^4^2^1^3^5^7^8^6^2^1^3^7^9^101^102^103^104^105^8^6^4^2^1^3^5^7^9^8^4^2^1^3^5^9^8^6^4^2^1^3^5^7^9^6^4^2^1^3^5^7^101^102^103^104^105^8^6^4^2^1^3^5^7^9"},{"$f":"'11'!P168","v":"5^5^5^5^5^10^10^10^10^10^10^10^16^16^16^16^16^16^16^20^20^20^20^20^27^27^27^27^27^27^27^27^27^35^35^35^35^35^35^35^45^45^45^45^45^45^45^45^45^55^55^55^55^55^55^55^60^60^60^60^60^70^70^70^70^70^70^70^70^70"},0,1,0,0,4,0,"130003^3|130004^1"]
[20302,{"$f":"'11'!AD127","v":"70335^70335^70335^70335^70332^70332^70332^70332^70334^70333^70333^70334^70334^70332^70331^70331^70331^70332^70334^70332^70332^70333^70334^70333^70332^70332^70332^70331^70333^70334^70333^70331^70332^70335^70335^70335^70335^70335^70334^70332^70336^70332^70334"},{"$f":"'11'!AD154","v":"101^102^104^105^6^1^3^7^6^2^3^7^8^4^2^1^3^5^9^6^4^2^1^3^5^7^8^4^2^1^3^5^9^101^102^103^104^105^6^4^1^5^7"},{"$f":"'11'!AD167","v":"5^5^5^5^10^10^10^10^15^15^15^15^22^22^22^22^22^22^22^30^30^30^30^30^30^30^40^40^40^40^40^40^40^45^45^45^45^45^55^55^55^55^55"},0,1,0,0,4,0,"130003^2|130004^2"]
[20303,{"$f":"'11'!AR127","v":"70331^70332^70334^70331^70333^70335^70332^70331^70332^70333^70334^70331^70332^70335^70331^70334^70331^70333^70332^70334^70331^70333^70332"},{"$f":"'11'!AR154","v":"0^0^0^0^0^100^0^0^0^0^0^0^0^100^0^0^0^0^0^0^0^0^0"},{"$f":"'11'!AR167","v":"18^5^3^12^3^9^4^10^3^2^2^14^4^7^10^2^14^2^3^2^15^2^3"},9,3,0,0,3,0,"130005^1|130003^1"]
[20304,{"$f":"'11'!BF127","v":"70334^70333^70333^70334^70332^70332^70332^70335^70335^70335^70335^70331^70331^70331^70331^70331^70334^70332^70333^70333^70332^70334^70332^70331^70331^70334^70331^70331^70332^70332^70331^70331^70333^70331^70331^70332^70334^70332^70331^70333^70333^70331^70332^70334"},{"$f":"'11'!BF154","v":"4^2^3^5^6^1^7^101^102^104^105^6^4^1^5^7^6^4^2^3^5^7^8^4^2^1^3^5^9^6^4^2^1^3^5^7^8^6^4^2^3^5^7^9"},{"$f":"'11'!BF167","v":"3^3^3^3^5^5^5^8^8^8^8^12^12^12^12^12^17^17^17^17^17^17^23^23^23^23^23^23^23^30^30^30^30^30^30^30^40^40^40^40^40^40^40^40"},0,1,0,0,0,1,"130003^3|130004^1"]
[21101,{"$f":"'12'!P15","v":"70344^70342^70342^70342^70344^70341^70341^70342^70341^70342^70341^70341^70344^70342^70343^70343^70343^70342^70344^70345^70345^70345^70345^70345^70342^70341^70341^70342^70341^70341^70342^70344^70342^70341^70343^70343^70341^70342^70344^70342^70342^70341^70341^70341^70342^70342^70345^70345^70345^70345^70345^70342^70341^70341^70344^70341^70341^70342^70344^70342^70341^70343^70342^70343^70341^70342^70344"},{"$f":"'12'!P42","v":"4^2^1^3^5^6^4^2^1^3^5^7^6^4^2^1^3^5^7^101^102^103^104^105^6^4^2^1^3^5^7^8^6^4^2^3^5^7^9^6^4^2^1^3^5^7^101^102^103^104^105^6^4^2^1^3^5^7^8^6^4^2^1^3^5^7^9"},{"$f":"'12'!P56","v":"5^5^5^5^5^15^15^15^15^15^15^15^26^26^26^26^26^26^26^30^30^30^30^30^42^42^42^42^42^42^42^55^55^55^55^55^55^55^55^70^70^70^70^70^70^70^75^75^75^75^75^85^85^85^85^85^85^85^100^100^100^100^100^100^100^100^100"},0,1,0,0,4,0,"130003^3|130004^1"]
[21102,{"$f":"'12'!AD15","v":"70345^70343^70344|70341^70342|70341^70342^70343|70341^70342^70344|70341^70343|70341^70342^70343^70344|70341^70342^70344|70345^70342^70343"},{"$f":"'12'!AD42","v":"100^0^0|0^0|0^0^0|0^0^0|0^0|0^0^0^0|0^0^0|100^0^0"},{"$f":"'12'!AD55","v":"12^6^6|10^4|11^3^2|12^3^2|15^3|12^3^2^2|14^4^2|15^3^3"},10,3,0,0,4,0,"130003^2|130004^2"]
[21103,{"$f":"'12'!AR15","v":"70341^70343^70341^70343^70341^70343^70341^70344^70342^70341^70342^70341^70342^70344^70341^70341^70343^70342^70343^70341^70341^70345^70345^70345^70345^70345^70344^70342^70341^70342^70341^70342^70344^70343^70342^70343^70344^70343^70342^70343^70342^70342^70341^70341^70341^70342^70342^70344^70342^70341^70343^70342^70343^70341^70342^70344"},{"$f":"'12'!AR42","v":"6^4^2^1^3^5^7^8^6^2^1^3^7^9^6^4^2^1^3^5^7^101^102^103^104^105^6^4^2^1^3^5^7^6^4^2^1^3^5^7^6^4^2^1^3^5^7^8^6^4^2^1^3^5^7^9"},{"$f":"'12'!AR55","v":"4^4^4^4^4^4^4^6^6^6^6^6^6^6^10^10^10^10^10^10^10^15^15^15^15^15^25^25^25^25^25^25^25^35^35^35^35^35^35^35^45^45^45^45^45^45^45^55^55^55^55^55^55^55^55^55"},0,1,0,0,3,0,"130005^1|130003^1"]
[21104,{"$f":"'12'!BF15","v":"70341^70341^70341^70341^70342^70342^70342^70344^70344^70345^70345^70345^70345^70343^70343^70343^70344^70341^70341^70341^70341^70344^70342^70342^70342^70342^70342^70342^70342^70341^70343^70343^70341^70342^70342"},{"$f":"'12'!BF42","v":"4^2^3^5^4^1^5^2^3^101^102^104^105^4^1^5^6^4^2^3^5^7^6^4^1^5^7^8^6^4^2^3^5^7^9"},{"$f":"'12'!BF55","v":"2^2^2^2^4^4^4^6^6^8^8^8^8^10^10^10^15^15^15^15^15^15^25^25^25^25^25^35^35^35^35^35^35^35^35"},0,1,0,0,0,1,"130003^3|130004^1"]
[21201,{"$f":"'12'!P71","v":"70354^70352^70352^70352^70354^70351^70352^70351^70351^70351^70352^70351^70354^70352^70353^70353^70353^70352^70354^70352^70352^70351^70351^70352^70351^70351^70351^70352^70355^70355^70355^70355^70355^70354^70351^70351^70352^70352^70352^70351^70351^70354^70351^70351^70352^70353^70352^70353^70352^70351^70351^70354^70352^70351^70352^70351^70352^70354^70355^70355^70355^70355^70355^70352^70351^70353^70354^70353^70351^70352"},{"$f":"'12'!P98","v":"6^2^1^3^7^6^4^2^1^3^5^7^6^4^2^1^3^5^7^8^6^4^2^1^3^5^7^9^101^102^103^104^105^8^6^4^2^1^3^5^7^9^8^6^4^2^1^3^5^7^9^8^6^4^1^5^7^9^101^102^103^104^105^6^4^2^1^3^5^7"},{"$f":"'12'!P112","v":"5^5^5^5^5^10^10^10^10^10^10^10^17^17^17^17^17^17^17^25^25^25^25^25^25^25^25^25^30^30^30^30^30^40^40^40^40^40^40^40^40^40^50^50^50^50^50^50^50^50^50^60^60^60^60^60^60^60^65^65^65^65^65^75^75^75^75^75^75^75"},0,1,0,0,4,0,"130003^3|130004^1"]
[21202,{"$f":"'12'!AD71","v":"70351^70354^70352^70351^70352^70355^70352^70351^70353^70351^70352^70354^70351^70352^70353^70351^70352^70354^70355^70353^70354"},{"$f":"'12'!AD98","v":"0^0^0^0^0^100^0^0^0^0^0^0^0^0^0^0^0^0^100^0^0"},{"$f":"'12'!AD111","v":"18^6^4^13^3^8^4^14^3^14^3^2^14^3^3^15^4^2^9^3^2"},10,3,0,0,4,0,"130003^2|130004^2"]
[21203,{"$f":"'12'!AR71","v":"70355^70355^70355^70355^70354^70352^70352^70354^70351^70351^70351^70351^70351^70352^70351^70353^70352^70353^70351^70352^70354^70351^70352^70351^70352^70351^70352^70351^70354^70352^70351^70353^70352^70353^70351^70352^70355^70355^70355^70355^70355^70354^70352^70352^70351^70353^70351^70352^70352^70354"},{"$f":"'12'!AR98","v":"101^102^104^105^6^2^3^7^4^2^1^3^5^8^4^2^1^3^5^9^8^6^4^2^1^3^5^7^9^6^4^2^1^3^5^7^101^102^103^104^105^8^6^4^2^1^3^5^7^9"},{"$f":"'12'!AR111","v":"3^3^3^3^6^6^6^6^10^10^10^10^10^16^16^16^16^16^16^16^25^25^25^25^25^25^25^25^25^35^35^35^35^35^35^35^40^40^40^40^40^50^50^50^50^50^50^50^50^50"},0,1,0,0,3,0,"130005^1|130003^1"]
[21204,{"$f":"'12'!BF71","v":"70353^70353^70353^70352^70352^70352^70354^70354^70351^70351^70351^70351^70355^70355^70355^70355^70354^70352^70353^70353^70352^70354^70352^70351^70351^70354^70351^70351^70352^70352^70354^70352^70353^70353^70352^70354^70352"},{"$f":"'12'!BF98","v":"4^1^5^6^1^7^2^3^4^2^3^5^101^102^104^105^8^6^2^3^7^9^6^4^2^1^3^5^7^8^6^4^2^3^5^7^9"},{"$f":"'12'!BF111","v":"3^3^3^5^5^5^8^8^12^12^12^12^18^18^18^18^25^25^25^25^25^25^35^35^35^35^35^35^35^45^45^45^45^45^45^45^45"},0,1,0,0,0,1,"130003^3|130004^1"]
[21301,{"$f":"'12'!P127","v":"70361^70364^70361^70362^70361^70362^70363^70365^70363^70364^70361^70362^70361^70362^70363^70364^70361^70362^70361^70363^70364^70365^70362^70361^70362^70363^70364"},{"$f":"'12'!P154","v":"0^0^0^0^0^0^0^100^0^0^0^0^0^0^0^0^0^0^0^0^0^100^0^0^0^0^0"},{"$f":"'12'!P168","v":"11^3^11^4^12^3^2^9^3^2^14^4^12^3^2^2^16^4^16^3^2^9^5^14^3^3^2"},10,3,0,0,4,0,"130003^3|130004^1"]
[21302,{"$f":"'12'!AD127","v":"70365^70365^70365^70365^70362^70362^70362^70362^70364^70363^70363^70364^70364^70362^70361^70361^70361^70362^70364^70362^70362^70363^70364^70363^70362^70362^70362^70361^70363^70363^70363^70361^70362^70365^70365^70365^70365^70365^70364^70362^70366^70362^70364"},{"$f":"'12'!AD154","v":"101^102^104^105^6^1^3^7^6^2^3^7^8^4^2^1^3^5^9^6^4^2^1^3^5^7^8^4^2^1^3^5^9^101^102^103^104^105^6^4^1^5^7"},{"$f":"'12'!AD167","v":"5^5^5^5^10^10^10^10^15^15^15^15^22^22^22^22^22^22^22^30^30^30^30^30^30^30^40^40^40^40^40^40^40^45^45^45^45^45^55^55^55^55^55"},0,1,0,0,4,0,"130003^2|130004^2"]
[21303,{"$f":"'12'!AR127","v":"70361^70362^70364^70361^70363^70365^70362^70361^70361^70363^70362^70364^70361^70362^70365^70363^70364^70361^70362^70363^70364^70361^70362"},{"$f":"'12'!AR154","v":"0^0^0^0^0^100^0^0^0^0^0^0^0^0^100^0^0^0^0^0^0^0^0"},{"$f":"'12'!AR167","v":"17^6^3^13^3^7^3^7^12^2^3^2^15^4^9^3^2^13^3^2^2^18^4"},8,3,0,0,3,0,"130005^1|130003^1"]
[21304,{"$f":"'12'!BF127","v":"70364^70363^70363^70364^70362^70362^70362^70365^70365^70365^70365^70361^70361^70361^70361^70361^70364^70362^70363^70363^70362^70364^70362^70361^70361^70364^70361^70361^70362^70362^70361^70361^70363^70361^70361^70362^70364^70362^70361^70363^70363^70361^70362^70364"},{"$f":"'12'!BF154","v":"4^2^3^5^6^1^7^101^102^104^105^6^4^1^5^7^6^4^2^3^5^7^8^4^2^1^3^5^9^6^4^2^1^3^5^7^8^6^4^2^3^5^7^9"},{"$f":"'12'!BF167","v":"3^3^3^3^5^5^5^8^8^8^8^12^12^12^12^12^18^18^18^18^18^18^25^25^25^25^25^25^25^35^35^35^35^35^35^35^45^45^45^45^45^45^45^45"},0,1,0,0,0,1,"130003^3|130004^1"]
[22101,{"$f":"'13'!P15","v":"70371^70374^70371^70372^70371^70372^70373^70374^70375^70373^70371^70372^70374^70371^70372^70373^70371^70372^70375^70372^70374^70371^70372^70373^70371^70372^70373^70374"},{"$f":"'13'!P42","v":"0^0^0^0^0^0^0^0^100^0^0^0^0^0^0^0^0^0^100^0^0^0^0^0^0^0^0^0"},{"$f":"'13'!P56","v":"12^3^12^4^10^3^2^2^9^3^13^3^2^14^3^2^15^4^9^3^2^15^3^2^15^3^2^2"},10,3,0,0,4,0,"130003^3|130004^1"]
[22102,{"$f":"'13'!AD15","v":"70375^70375^70375^70375^70375^70372^70372^70372^70372^70373^70373^70373^70374^70371^70371^70371^70374^70372^70371^70371^70373^70371^70371^70372^70374^70372^70371^70373^70372^70373^70371^70372^70374^70372^70371^70372^70374^70372^70371^70372^70375^70375^70375^70375^70375"},{"$f":"'13'!AD42","v":"101^102^103^104^105^6^4^5^7^6^1^7^4^2^1^3^5^6^4^2^1^3^5^7^8^6^4^2^1^3^5^7^9^6^4^2^1^3^5^7^101^102^103^104^105"},{"$f":"'13'!AD55","v":"2^2^2^2^2^5^5^5^5^10^10^10^17^17^17^17^17^25^25^25^25^25^25^25^35^35^35^35^35^35^35^35^35^45^45^45^45^45^45^45^50^50^50^50^50"},0,1,0,0,4,0,"130003^2|130004^2"]
[22103,{"$f":"'13'!AR15","v":"70371^70373^70371^70372^70374^70371^70372^70375^70373^70371^70372^70374^70371^70373^70374^70371^70372^70371^70372^70373^70374"},{"$f":"'13'!AR42","v":"0^0^0^0^0^0^0^100^0^0^0^0^0^0^0^0^0^0^0^0^0"},{"$f":"'13'!AR55","v":"18^6^11^4^2^13^4^9^3^14^3^2^15^3^2^16^4^14^3^2^2"},9,3,0,0,3,0,"130005^1|130003^1"]
[22104,{"$f":"'13'!BF15","v":"70371^70371^70371^70371^70372^70372^70372^70374^70374^70375^70375^70375^70375^70373^70373^70373^70374^70371^70371^70371^70371^70374^70372^70372^70372^70372^70372^70372^70372^70371^70373^70373^70371^70372^70372"},{"$f":"'13'!BF42","v":"4^2^3^5^4^1^5^2^3^101^102^104^105^4^1^5^6^4^2^3^5^7^6^4^1^5^7^8^6^4^2^3^5^7^9"},{"$f":"'13'!BF55","v":"2^2^2^2^4^4^4^6^6^8^8^8^8^10^10^10^15^15^15^15^15^15^22^22^22^22^22^30^30^30^30^30^30^30^30"},0,1,0,0,0,1,"130003^3|130004^1"]
[22201,{"$f":"'13'!P71","v":"70381^70381^70381^70381^70381^70384^70382^70382^70382^70384^70382^70381^70383^70384^70383^70381^70382^70382^70381^70381^70384^70381^70381^70382^70384^70382^70383^70383^70383^70382^70384^70385^70385^70385^70385^70385^70381^70381^70382^70382^70382^70381^70381^70384^70382^70381^70383^70383^70383^70381^70382^70384^70382^70381^70383^70382^70383^70381^70382^70385^70385^70385^70385^70385"},{"$f":"'13'!P98","v":"4^2^1^3^5^6^2^1^3^7^8^4^2^1^3^5^9^6^4^2^1^3^5^7^8^6^2^1^3^7^9^101^102^103^104^105^8^6^4^1^5^7^9^8^6^4^2^1^3^5^7^9^6^4^2^1^3^5^7^101^102^103^104^105"},{"$f":"'13'!P112","v":"5^5^5^5^5^10^10^10^10^10^17^17^17^17^17^17^17^25^25^25^25^25^25^25^35^35^35^35^35^35^35^40^40^40^40^40^50^50^50^50^50^50^50^60^60^60^60^60^60^60^60^60^70^70^70^70^70^70^70^75^75^75^75^75"},0,1,0,0,4,0,"130003^3|130004^1"]
[22202,{"$f":"'13'!AD71","v":"70381^70382^70384^70381^70382^70381^70383^70385^70382^70381^70382^70384^70381^70382^70383^70384^70381^70382^70385^70381^70384"},{"$f":"'13'!AD98","v":"0^0^0^0^0^0^0^100^0^0^0^0^0^0^0^0^0^0^100^0^0"},{"$f":"'13'!AD111","v":"17^5^5^11^4^13^3^9^4^12^3^2^12^3^2^2^16^4^6^14^2"},10,3,0,0,4,0,"130003^2|130004^2"]
[22203,{"$f":"'13'!AR71","v":"70383^70383^70383^70384^70382^70382^70384^70385^70385^70385^70385^70385^70382^70381^70383^70384^70383^70381^70382^70384^70382^70381^70381^70381^70382^70384^70381^70381^70382^70381^70382^70381^70382^70381^70381^70382^70381^70383^70384^70383^70381^70382^70385^70385^70385^70385^70385"},{"$f":"'13'!AR98","v":"4^1^5^6^2^3^7^101^102^103^104^105^6^4^2^1^3^5^7^8^6^2^1^3^7^9^8^6^4^2^1^3^5^7^9^6^4^2^1^3^5^7^101^102^103^104^105"},{"$f":"'13'!AR111","v":"3^3^3^6^6^6^6^10^10^10^10^10^15^15^15^15^15^15^15^25^25^25^25^25^25^25^35^35^35^35^35^35^35^35^35^45^45^45^45^45^45^45^50^50^50^50^50"},0,1,0,0,3,0,"130005^1|130003^1"]
[22204,{"$f":"'13'!BF71","v":"70385^70385^70385^70382^70382^70382^70384^70383^70384^70381^70381^70381^70381^70382^70381^70383^70383^70381^70382^70384^70381^70382^70382^70382^70381^70384^70382^70381^70383^70384^70383^70381^70382^70382^70382^70381^70383^70381^70382^70382"},{"$f":"'13'!BF98","v":"101^103^105^2^1^3^6^1^7^4^2^3^5^6^4^2^3^5^7^8^4^2^1^3^5^9^6^4^2^1^3^5^7^8^4^2^1^3^5^9"},{"$f":"'13'!BF111","v":"3^3^3^5^5^5^8^8^8^12^12^12^12^18^18^18^18^18^18^25^25^25^25^25^25^25^35^35^35^35^35^35^35^45^45^45^45^45^45^45"},0,1,0,0,0,1,"130003^3|130004^1"]
[22301,{"$f":"'13'!P127","v":"70394^70391^70391^70391^70394^70391^70392^70392^70391^70392^70392^70391^70392^70391^70393^70394^70393^70391^70392^70395^70395^70395^70395^70395^70394^70392^70392^70391^70391^70391^70392^70392^70394^70394^70392^70393^70392^70393^70392^70394^70392^70391^70391^70391^70392^70391^70391^70391^70392^70394^70392^70393^70392^70393^70392^70394^70395^70395^70395^70395^70395^70392^70392^70391^70393^70394^70393^70391^70392^70392"},{"$f":"'13'!P154","v":"6^2^1^3^7^6^4^2^1^3^5^7^8^6^2^1^3^7^9^101^102^103^104^105^8^6^4^2^1^3^5^7^9^8^4^2^1^3^5^9^8^6^4^2^1^3^5^7^9^6^4^2^1^3^5^7^101^102^103^104^105^8^6^4^2^1^3^5^7^9"},{"$f":"'13'!P168","v":"5^5^5^5^5^10^10^10^10^10^10^10^16^16^16^16^16^16^16^20^20^20^20^20^27^27^27^27^27^27^27^27^27^35^35^35^35^35^35^35^45^45^45^45^45^45^45^45^45^55^55^55^55^55^55^55^60^60^60^60^60^70^70^70^70^70^70^70^70^70"},0,1,0,0,4,0,"130003^3|130004^1"]
[22302,{"$f":"'13'!AD127","v":"70395^70395^70395^70395^70392^70392^70392^70392^70394^70393^70393^70393^70394^70394^70392^70391^70392^70391^70392^70394^70392^70392^70393^70394^70393^70392^70392^70392^70391^70393^70394^70393^70391^70392^70395^70395^70395^70395^70395^70394^70392^70392^70396^70392^70392^70394"},{"$f":"'13'!AD154","v":"101^102^104^105^6^1^3^7^6^2^1^3^7^8^4^2^1^3^5^9^6^4^2^1^3^5^7^8^4^2^1^3^5^9^101^102^103^104^105^6^4^2^1^3^5^7"},{"$f":"'13'!AD167","v":"5^5^5^5^10^10^10^10^15^15^15^15^15^22^22^22^22^22^22^22^30^30^30^30^30^30^30^40^40^40^40^40^40^40^45^45^45^45^45^55^55^55^55^55^55^55"},0,1,0,0,4,0,"130003^2|130004^2"]
[22303,{"$f":"'13'!AR127","v":"70391^70392^70394^70391^70393^70395^70392^70391^70392^70393^70394^70391^70392^70395^70393^70394^70391^70392^70391^70392^70393^70394"},{"$f":"'13'!AR154","v":"0^0^0^0^0^100^0^0^0^0^0^0^0^100^0^0^0^0^0^0^0^0"},{"$f":"'13'!AR167","v":"18^5^5^12^3^9^4^10^3^2^2^15^3^9^3^2^16^4^14^3^2^2"},8,3,0,0,3,0,"130005^1|130003^1"]
[22304,{"$f":"'13'!BF127","v":"70394^70393^70393^70394^70392^70392^70392^70392^70395^70395^70395^70395^70391^70391^70391^70391^70391^70394^70392^70393^70393^70392^70394^70392^70391^70391^70394^70391^70391^70392^70392^70391^70391^70393^70391^70391^70392^70394^70392^70391^70393^70393^70391^70392^70394"},{"$f":"'13'!BF154","v":"4^2^3^5^6^4^5^7^101^102^104^105^6^4^1^5^7^6^4^2^3^5^7^8^4^2^1^3^5^9^6^4^2^1^3^5^7^8^6^4^2^3^5^7^9"},{"$f":"'13'!BF167","v":"3^3^3^3^5^5^5^5^8^8^8^8^12^12^12^12^12^18^18^18^18^18^18^0^25^25^25^25^25^25^35^35^35^35^35^35^35^45^45^45^45^45^45^45^45"},0,1,0,0,0,1,"130003^3|130004^1"]
[23101,{"$f":"'14'!P15","v":"70404^70402^70402^70402^70404^70401^70401^70402^70401^70402^70401^70401^70404^70402^70403^70402^70403^70402^70404^70405^70405^70405^70405^70405^70402^70401^70401^70402^70401^70401^70402^70404^70402^70401^70403^70403^70403^70401^70402^70404^70402^70402^70401^70401^70401^70402^70402^70405^70405^70405^70405^70405^70402^70401^70401^70404^70401^70401^70402^70404^70402^70401^70403^70402^70403^70401^70402^70404"},{"$f":"'14'!P42","v":"4^2^1^3^5^6^4^2^1^3^5^7^6^4^2^1^3^5^7^101^102^103^104^105^6^4^2^1^3^5^7^8^6^4^2^1^3^5^7^9^6^4^2^1^3^5^7^101^102^103^104^105^6^4^2^1^3^5^7^8^6^4^2^1^3^5^7^9"},{"$f":"'14'!P56","v":"5^5^5^5^5^10^10^10^10^10^10^10^16^16^16^16^16^16^16^20^20^20^20^20^27^27^27^27^27^27^27^35^35^35^35^35^35^35^35^35^45^45^45^45^45^45^45^50^50^50^50^50^60^60^60^60^60^60^60^70^70^70^70^70^70^70^70^70"},0,1,0,0,4,0,"130003^3|130004^1"]
[23102,{"$f":"'14'!AD15","v":"70405^70402^70404^70401^70402^70401^70403^70401^70402^70404^70401^70402^70403^70401^70402^70403^70404^70401^70402^70405^70402^70403^70404"},{"$f":"'14'!AD42","v":"100^0^0^0^0^0^0^0^0^0^0^0^0^0^0^0^0^0^0^100^0^0^0"},{"$f":"'14'!AD55","v":"12^6^6^11^4^14^3^12^3^2^13^3^2^12^3^2^2^16^4^14^3^2^2"},9,3,0,0,4,0,"130003^2|130004^2"]
[23103,{"$f":"'14'!AR15","v":"70401^70403^70401^70402^70404^70405^70402^70401^70403^70404^70401^70402^70404^70401^70402^70403^70401^70402^70401^70402^70403^70404"},{"$f":"'14'!AR42","v":"0^0^0^0^0^100^0^0^0^0^0^0^0^0^0^0^0^0^0^0^0^0"},{"$f":"'14'!AR55","v":"17^6^11^3^2^9^4^12^3^2^13^3^2^14^3^2^16^4^15^3^2^2"},7,3,0,0,3,0,"130005^1|130003^1"]
[23104,{"$f":"'14'!BF15","v":"70401^70401^70401^70401^70402^70402^70402^70404^70404^70405^70405^70405^70405^70403^70403^70403^70404^70401^70401^70401^70401^70404^70402^70402^70402^70402^70402^70402^70402^70401^70403^70403^70401^70402^70402"},{"$f":"'14'!BF42","v":"4^2^3^5^4^1^5^2^3^101^102^104^105^4^1^5^6^4^2^3^5^7^6^4^1^5^7^8^6^4^2^3^5^7^9"},{"$f":"'14'!BF55","v":"2^2^2^2^4^4^4^6^6^8^8^8^8^10^10^10^15^15^15^15^15^15^25^25^25^25^25^35^35^35^35^35^35^35^35"},0,1,0,0,0,1,"130003^3|130004^1"]
[23201,{"$f":"'14'!P71","v":"70411^70412^70411^70412^70414^70411^70412^70413^70414^70411^70413^70411^70412^70414^70415^70412^70413^70411^70412^70411^70413^70414^70411^70412^70413^70415^70412^70414"},{"$f":"'14'!P98","v":"0^0^0^0^0^0^0^0^0^0^0^0^0^0^100^0^0^0^0^0^0^0^0^0^0^100^0^0"},{"$f":"'14'!P112","v":"11^4^10^3^2^10^3^2^2^15^3^14^3^2^15^3^2^16^4^16^3^2^17^3^2^9^4^2"},9,3,0,0,4,0,"130003^3|130004^1"]
[23202,{"$f":"'14'!AD71","v":"70414^70412^70412^70412^70414^70411^70411^70411^70411^70411^70413^70413^70413^70415^70415^70415^70415^70415^70414^70412^70411^70413^70411^70412^70414^70412^70411^70413^70414^70413^70411^70412^70414^70411^70411^70412^70412^70412^70411^70411^70414^70415^70415^70415^70415^70415"},{"$f":"'14'!AD98","v":"6^2^1^3^7^4^2^1^3^5^4^1^5^101^102^103^104^105^6^4^2^1^3^5^7^6^4^2^1^3^5^7^8^6^4^2^1^3^5^7^9^101^102^103^104^105"},{"$f":"'14'!AD111","v":"5^5^5^5^5^10^10^10^10^10^15^15^15^20^20^20^20^20^27^27^27^27^27^27^27^35^35^35^35^35^35^35^45^45^45^45^45^45^45^45^45^50^50^50^50^50"},0,1,0,0,4,0,"130003^2|130004^2"]
[23203,{"$f":"'14'!AR71","v":"70411^70413^70411^70412^70414^70415^70412^70411^70412^70413^70414^70411^70412^70414^70411^70412^70411^70412^70413^70414^70415^70413^70414"},{"$f":"'14'!AR98","v":"0^0^0^0^0^100^0^0^0^0^0^0^0^0^0^0^0^0^0^0^100^0^0"},{"$f":"'14'!AR111","v":"18^6^12^3^2^9^4^12^3^2^2^14^4^2^16^4^13^3^3^2^9^4^3"},7,3,0,0,3,0,"130005^1|130003^1"]
[23204,{"$f":"'14'!BF71","v":"70415^70415^70415^70412^70412^70412^70414^70413^70414^70411^70411^70411^70411^70412^70411^70413^70413^70411^70412^70414^70411^70412^70412^70412^70411^70414^70412^70411^70413^70414^70413^70411^70412^70412^70412^70411^70413^70411^70412^70412"},{"$f":"'14'!BF98","v":"101^103^105^2^1^3^6^1^7^4^2^3^5^6^4^2^3^5^7^8^4^2^1^3^5^9^6^4^2^1^3^5^7^8^4^2^1^3^5^9"},{"$f":"'14'!BF111","v":"3^3^3^5^5^5^8^8^8^12^12^12^12^18^18^18^18^18^18^25^25^25^25^25^25^25^35^35^35^35^35^35^35^45^45^45^45^45^45^45"},0,1,0,0,0,1,"130003^3|130004^1"]
[23301,{"$f":"'14'!P127","v":"70424^70421^70421^70421^70424^70422^70422^70423^70422^70422^70422^70421^70423^70424^70423^70421^70422^70425^70425^70425^70425^70425^70424^70422^70421^70421^70421^70422^70424^70424^70421^70422^70423^70422^70423^70422^70421^70424^70422^70421^70421^70421^70422^70421^70421^70421^70422^70424^70422^70423^70422^70423^70422^70424^70425^70425^70425^70425^70425^70422^70422^70421^70423^70424^70423^70421^70422^70422"},{"$f":"'14'!P154","v":"6^2^1^3^7^4^2^1^3^5^8^6^2^1^3^7^9^101^102^103^104^105^8^6^2^1^3^7^9^8^6^4^2^1^3^5^7^9^8^6^4^2^1^3^5^7^9^6^4^2^1^3^5^7^101^102^103^104^105^8^6^4^2^1^3^5^7^9"},{"$f":"'14'!P168","v":"5^5^5^5^5^10^10^10^10^10^16^16^16^16^16^16^16^20^20^20^20^20^27^27^27^27^27^27^27^35^35^35^35^35^35^35^35^35^45^45^45^45^45^45^45^45^45^55^55^55^55^55^55^55^60^60^60^60^60^70^70^70^70^70^70^70^70^70"},0,1,0,0,4,0,"130003^3|130004^1"]
[23302,{"$f":"'14'!AD127","v":"70425^70425^70425^70425^70422^70421^70422^70421^70422^70424^70423^70423^70423^70424^70424^70422^70421^70422^70421^70422^70424^70422^70422^70423^70424^70423^70422^70422^70422^70422^70421^70423^70424^70423^70421^70422^70422^70425^70425^70425^70425^70425^70424^70422^70422^70426^70422^70422^70424"},{"$f":"'14'!AD154","v":"101^102^104^105^6^2^1^3^7^6^2^1^3^7^8^4^2^1^3^5^9^6^4^2^1^3^5^7^8^6^4^2^1^3^5^7^9^101^102^103^104^105^6^4^2^1^3^5^7"},{"$f":"'14'!AD167","v":"5^5^5^5^10^10^10^10^10^15^15^15^15^15^22^22^22^22^22^22^22^30^30^30^30^30^30^30^40^40^40^40^40^40^40^40^40^45^45^45^45^45^55^55^55^55^55^55^55"},0,1,0,0,4,0,"130003^2|130004^2"]
[23303,{"$f":"'14'!AR127","v":"70421^70422^70424^70421^70423^70425^70422^70421^70422^70423^70424^70421^70422^70425^70423^70424^70421^70422^70423^70421^70422^70424"},{"$f":"'14'!AR154","v":"0^0^0^0^0^100^0^0^0^0^0^0^0^100^0^0^0^0^0^0^0^0"},{"$f":"'14'!AR167","v":"20^6^6^13^3^9^4^11^3^2^2^15^4^15^3^2^16^3^3^18^3^2"},7,3,0,0,3,0,"130005^1|130003^1"]
[23304,{"$f":"'14'!BF127","v":"70424^70423^70423^70424^70422^70422^70422^70422^70425^70425^70425^70425^70421^70421^70421^70421^70421^70424^70422^70423^70423^70422^70424^70422^70421^70421^70424^70421^70421^70422^70422^70421^70421^70423^70421^70421^70422^70424^70422^70421^70423^70423^70421^70422^70424"},{"$f":"'14'!BF154","v":"4^2^3^5^6^4^5^7^101^102^104^105^6^4^1^5^7^6^4^2^3^5^7^8^4^2^1^3^5^9^6^4^2^1^3^5^7^8^6^4^2^3^5^7^9"},{"$f":"'14'!BF167","v":"3^3^3^3^5^5^5^5^8^8^8^8^12^12^12^12^12^18^18^18^18^18^18^0^25^25^25^25^25^25^35^35^35^35^35^35^35^45^45^45^45^45^45^45^45"},0,1,0,0,0,1,"130003^3|130004^1"]
[24101,{"$f":"'15'!P15","v":"70434^70432^70432^70432^70434^70431^70431^70432^70431^70432^70431^70431^70434^70432^70433^70432^70433^70432^70434^70435^70435^70435^70435^70435^70432^70431^70431^70432^70431^70431^70432^70434^70432^70431^70433^70433^70433^70431^70432^70434^70432^70432^70431^70431^70431^70432^70432^70435^70435^70435^70435^70435^70432^70431^70431^70434^70431^70431^70432^70434^70432^70431^70433^70433^70433^70431^70432^70434"},{"$f":"'15'!P42","v":"4^2^1^3^5^6^4^2^1^3^5^7^6^4^2^1^3^5^7^101^102^103^104^105^6^4^2^1^3^5^7^8^6^4^2^1^3^5^7^9^6^4^2^1^3^5^7^101^102^103^104^105^6^4^2^1^3^5^7^8^6^4^2^1^3^5^7^9"},{"$f":"'15'!P56","v":"5^5^5^5^5^10^10^10^10^10^10^10^16^16^16^16^16^16^16^20^20^20^20^20^27^27^27^27^27^27^27^35^35^35^35^35^35^35^35^35^45^45^45^45^45^45^45^50^50^50^50^50^60^60^60^60^60^60^60^70^70^70^70^70^70^70^70^70"},0,1,0,0,4,0,"130003^3|130004^1"]
[24102,{"$f":"'15'!AD15","v":"70435^70432^70433^70431^70432^70431^70433^70431^70432^70434^70431^70432^70433^70431^70432^70433^70434^70431^70432^70434^70435^70432^70433"},{"$f":"'15'!AD42","v":"100^0^0^0^0^0^0^0^0^0^0^0^0^0^0^0^0^0^0^0^100^0^0"},{"$f":"'15'!AD55","v":"12^8^4^12^3^14^3^13^3^2^14^3^2^14^3^2^2^16^3^2^9^3^3"},8,3,0,0,4,0,"130003^2|130004^2"]
[24103,{"$f":"'15'!AR15","v":"70431^70433^70431^70432^70434^70431^70432^70435^70432^70433^70431^70432^70434^70431^70433^70434^70431^70432^70431^70432^70433^70434"},{"$f":"'15'!AR42","v":"0^0^0^0^0^0^0^100^0^0^0^0^0^0^0^0^0^0^0^0^0^0"},{"$f":"'15'!AR55","v":"20^7^11^3^2^13^4^14^3^2^15^3^2^15^3^3^17^4^15^3^3^2"},8,3,0,0,3,0,"130005^1|130003^1"]
[24104,{"$f":"'15'!BF15","v":"70431^70431^70431^70431^70432^70432^70432^70434^70434^70435^70435^70435^70435^70433^70433^70433^70434^70431^70431^70431^70431^70434^70432^70432^70432^70432^70432^70432^70432^70431^70433^70433^70431^70432^70432"},{"$f":"'15'!BF42","v":"4^2^3^5^4^1^5^2^3^101^102^104^105^4^1^5^6^4^2^3^5^7^6^4^1^5^7^8^6^4^2^3^5^7^9"},{"$f":"'15'!BF55","v":"2^2^2^2^4^4^4^6^6^8^8^8^8^10^10^10^17^17^17^17^17^17^25^25^25^25^25^35^35^35^35^35^35^35^35"},0,1,0,0,0,1,"130003^3|130004^1"]
[24201,{"$f":"'15'!P71","v":"70441^70441^70441^70441^70441^70444^70441^70442^70442^70442^70441^70444^70442^70441^70443^70444^70443^70441^70442^70442^70441^70441^70444^70441^70441^70442^70444^70442^70441^70443^70441^70443^70441^70442^70444^70445^70445^70445^70445^70445^70441^70441^70442^70443^70442^70443^70442^70441^70441^70444^70442^70441^70443^70443^70443^70441^70442^70444^70442^70441^70443^70442^70443^70441^70442^70445^70445^70445^70445^70445"},{"$f":"'15'!P98","v":"4^2^1^3^5^6^4^2^1^3^5^7^8^4^2^1^3^5^9^6^4^2^1^3^5^7^8^6^4^2^1^3^5^7^9^101^102^103^104^105^8^6^4^2^1^3^5^7^9^8^6^4^2^1^3^5^7^9^6^4^2^1^3^5^7^101^102^103^104^105"},{"$f":"'15'!P112","v":"5^5^5^5^5^10^10^10^10^10^10^10^17^17^17^17^17^17^17^25^25^25^25^25^25^25^35^35^35^35^35^35^35^35^35^40^40^40^40^40^50^50^50^50^50^50^50^50^50^60^60^60^60^60^60^60^60^60^70^70^70^70^70^70^70^75^75^75^75^75"},0,1,0,0,4,0,"130003^3|130004^1"]
[24202,{"$f":"'15'!AD71","v":"70441^70442^70444^70441^70443^70441^70442^70445^70443^70444^70441^70442^70443^70441^70442^70443^70444^70441^70442^70445^70442^70444"},{"$f":"'15'!AD98","v":"0^0^0^0^0^0^0^100^0^0^0^0^0^0^0^0^0^0^0^100^0^0"},{"$f":"'15'!AD111","v":"17^7^7^12^4^13^4^9^3^3^14^3^3^14^3^3^2^17^4^9^4^3"},8,3,0,0,4,0,"130003^2|130004^2"]
[24203,{"$f":"'15'!AR71","v":"70443^70443^70443^70444^70442^70442^70444^70445^70445^70445^70445^70445^70442^70441^70443^70444^70443^70441^70442^70444^70442^70442^70441^70441^70441^70441^70442^70444^70441^70441^70442^70443^70442^70443^70442^70441^70441^70442^70441^70443^70444^70443^70441^70442^70445^70445^70445^70445^70445"},{"$f":"'15'!AR98","v":"4^1^5^6^2^3^7^101^102^103^104^105^6^4^2^1^3^5^7^8^6^4^2^1^3^5^7^9^8^6^4^2^1^3^5^7^9^6^4^2^1^3^5^7^101^102^103^104^105"},{"$f":"'15'!AR111","v":"3^3^3^6^6^6^6^10^10^10^10^10^17^17^17^17^17^17^17^25^25^25^25^25^25^25^25^25^35^35^35^35^35^35^35^35^35^45^45^45^45^45^45^45^50^50^50^50^50"},0,1,0,0,3,0,"130005^1|130003^1"]
[24204,{"$f":"'15'!BF71","v":"70445^70445^70445^70442^70442^70442^70444^70443^70444^70441^70441^70441^70441^70442^70441^70443^70443^70441^70442^70444^70441^70442^70442^70442^70441^70444^70442^70441^70443^70444^70443^70441^70442^70442^70442^70441^70443^70441^70442^70442"},{"$f":"'15'!BF98","v":"101^103^105^2^1^3^6^1^7^4^2^3^5^6^4^2^3^5^7^8^4^2^1^3^5^9^6^4^2^1^3^5^7^8^4^2^1^3^5^9"},{"$f":"'15'!BF111","v":"3^3^3^5^5^5^8^8^8^12^12^12^12^18^18^18^18^18^18^25^25^25^25^25^25^25^35^35^35^35^35^35^35^45^45^45^45^45^45^45"},0,1,0,0,0,1,"130003^3|130004^1"]
[24301,{"$f":"'15'!P127","v":"70451^70452^70454^70451^70452^70453^70451^70453^70454^70455^70452^70451^70452^70454^70451^70452^70453^70451^70452^70453^70454^70451^70452^70455^70452^70454^70451^70452^70453"},{"$f":"'15'!P154","v":"0^0^0^0^0^0^0^0^0^100^0^0^0^0^0^0^0^0^0^0^0^0^0^100^0^0^0^0^0"},{"$f":"'15'!P168","v":"10^3^3^12^3^2^13^3^3^10^4^15^3^2^15^3^3^15^3^2^2^18^4^10^4^3^15^4^3"},7,3,0,0,4,0,"130003^3|130004^1"]
[24302,{"$f":"'15'!AD127","v":"70455^70455^70455^70455^70452^70452^70452^70452^70454^70451^70453^70453^70453^70451^70454^70454^70452^70451^70452^70451^70452^70454^70452^70452^70453^70454^70453^70452^70452^70452^70452^70451^70453^70454^70453^70451^70452^70452^70455^70455^70455^70455^70455^70454^70452^70452^70456^70452^70452^70454"},{"$f":"'15'!AD154","v":"101^102^104^105^6^1^3^7^6^4^2^1^3^5^7^8^4^2^1^3^5^9^6^4^2^1^3^5^7^8^6^4^2^1^3^5^7^9^101^102^103^104^105^6^4^2^1^3^5^7"},{"$f":"'15'!AD167","v":"5^5^5^5^10^10^10^10^15^15^15^15^15^15^15^22^22^22^22^22^22^22^30^30^30^30^30^30^30^40^40^40^40^40^40^40^40^40^45^45^45^45^45^55^55^55^55^55^55^55"},0,1,0,0,4,0,"130003^2|130004^2"]
[24303,{"$f":"'15'!AR127","v":"70454^70452^70452^70452^70454^70453^70453^70453^70455^70455^70455^70455^70455^70454^70452^70453^70453^70453^70452^70454^70452^70451^70451^70452^70451^70451^70452^70455^70455^70455^70455^70455^70454^70451^70452^70453^70452^70453^70452^70451^70454^70452^70452^70453^70451^70453^70451^70453^70452^70452"},{"$f":"'15'!AR154","v":"4^2^1^3^5^4^1^5^101^102^103^104^105^6^4^2^1^3^5^7^6^4^2^1^3^5^7^101^102^103^104^105^8^6^4^2^1^3^5^7^9^8^6^4^2^1^3^5^7^9"},{"$f":"'15'!AR167","v":"3^3^3^3^3^6^6^6^10^10^10^10^10^17^17^17^17^17^17^17^25^25^25^25^25^25^25^35^35^35^35^35^45^45^45^45^45^45^45^45^45^55^55^55^55^55^55^55^55^55"},0,1,0,0,3,0,"130005^1|130003^1"]
[24304,{"$f":"'15'!BF127","v":"70454^70453^70453^70454^70452^70452^70452^70452^70455^70455^70455^70455^70451^70451^70451^70451^70451^70454^70452^70453^70453^70452^70454^70452^70451^70451^70454^70451^70451^70452^70452^70451^70451^70453^70451^70451^70452^70454^70452^70451^70453^70453^70451^70452^70454"},{"$f":"'15'!BF154","v":"4^2^3^5^6^4^5^7^101^102^104^105^6^4^1^5^7^6^4^2^3^5^7^8^4^2^1^3^5^9^6^4^2^1^3^5^7^8^6^4^2^3^5^7^9"},{"$f":"'15'!BF167","v":"3^3^3^3^5^5^5^5^8^8^8^8^12^12^12^12^12^18^18^18^18^18^18^0^25^25^25^25^25^25^33^33^33^33^33^33^33^40^40^40^40^40^40^40^40"},0,1,0,0,0,1,"130003^3|130004^1"]

{"sheet":"1","index":1,"n_rows":159,"n_cols":30,"rows_kept":159,"cut":false,"hidden":false,"merged":[]}
[]
[]
[3,"森林-1","波1·怪物",6,18,35,50,65,82,100,120,140,160,180,null,null,null,"波2·怪物"]
[null,"3.3m",8,{"$nulls":12},{"$f":"_xlfn.TEXTJOIN(\"^\",,D4:D13)","v":"70011"},null,8,{"$nulls":11},{"$f":"_xlfn.TEXTJOIN(\"^\",,S4:S13)","v":"70011"}]
[null,null,6,{"$nulls":12},{"$f":"_xlfn.TEXTJOIN(\"^\",,E4:E13)","v":"70011^70012"},null,6,{"$nulls":11},{"$f":"_xlfn.TEXTJOIN(\"^\",,T4:T13)","v":"70011^70012"}]
[null,null,4,{"$nulls":12},{"$f":"_xlfn.TEXTJOIN(\"^\",,F4:F13)","v":"70011^70012"},null,4,{"$nulls":11},{"$f":"_xlfn.TEXTJOIN(\"^\",,U4:U13)","v":"70011^70013"}]
[null,null,2,{"$nulls":12},{"$f":"_xlfn.TEXTJOIN(\"^\",,G4:G13)","v":"70011^70013"},null,2,{"$nulls":11},{"$f":"_xlfn.TEXTJOIN(\"^\",,V4:V13)","v":"70014^70012"}]
[null,null,1,70011,70011,70011,70011,70011,70014,70014,70012,70014,70011,70013,null,{"$f":"_xlfn.TEXTJOIN(\"^\",,H4:H13)","v":"70011^70012^70013"},null,1,70011,70011,70011,70014,70011,70013,70014,70012,70013,null,null,{"$f":"_xlfn.TEXTJOIN(\"^\",,W4:W13)","v":"70011"}]
[null,null,3,null,70012,70012,70013,70012,null,70012,70013,70011,null,70012,null,{"$f":"_xlfn.TEXTJOIN(\"^\",,I4:I13)","v":"70014"},null,3,null,70012,70013,70012,null,70012,70011,null,70012,null,null,{"$f":"_xlfn.TEXTJOIN(\"^\",,X4:X13)","v":"70013^70012"}]
[null,null,5,{"$nulls":4},70013,{"$nulls":7},{"$f":"_xlfn.TEXTJOIN(\"^\",,J4:J13)","v":"70014^70012"},null,5,{"$nulls":11},{"$f":"_xlfn.TEXTJOIN(\"^\",,Y4:Y13)","v":"70014^70011"}]
[null,null,7,{"$nulls":12},{"$f":"_xlfn.TEXTJOIN(\"^\",,K4:K13)","v":"70012^70013"},null,7,{"$nulls":11},{"$f":"_xlfn.TEXTJOIN(\"^\",,Z4:Z13)","v":"70012"}]
[null,null,9,{"$nulls":12},{"$f":"_xlfn.TEXTJOIN(\"^\",,L4:L13)","v":"70014^70011"},null,9,{"$nulls":11},{"$f":"_xlfn.TEXTJOIN(\"^\",,AA4:AA13)","v":"70013^70012"}]
[{"$nulls":15},{"$f":"_xlfn.TEXTJOIN(\"^\",,M4:M13)","v":"70011"},{"$nulls":13},{"$f":"_xlfn.TEXTJOIN(\"^\",,AB4:AB13)","v":""}]
[{"$nulls":15},{"$f":"_xlfn.TEXTJOIN(\"^\",,N4:N13)","v":"70013^70012"},{"$nulls":13},{"$f":"_xlfn.TEXTJOIN(\"^\",,AC4:AC13)","v":""}]
[{"$nulls":14},"最终",{"$f":"_xlfn.TEXTJOIN(\"|\",,P4:P14)","v":"70011|70011^70012|70011^70012|70011^70013|70011^70012^70013|70014|70014^70012|70012^70013|70014^70011|70011|70013^70012"},{"$nulls":12},"最终",{"$f":"_xlfn.TEXTJOIN(\"|\",,AD4:AD14)","v":"70011|70011^70012|70011^70013|70014^70012|70011|70013^70012|70014^70011|70012|70013^70012"}]
[null,null,8,{"$nulls":14},8]
[null,null,6,{"$nulls":14},6]
[null,null,4,{"$nulls":14},4]
[null,null,2,{"$nulls":14},2]
[null,null,1,"树精","树精","树精","树精","树精","血树精","血树精","毒蜘蛛","血树精","树精","哥布林",null,null,null,1,"树精","树精","树精","血树精","树精","哥布林","血树精","毒蜘蛛","哥布林"]
[null,null,3,null,"毒蜘蛛","毒蜘蛛","哥布林","毒蜘蛛",null,"毒蜘蛛","哥布林","树精",null,"毒蜘蛛",null,null,null,3,null,"毒蜘蛛","哥布林","毒蜘蛛",null,"毒蜘蛛","树精",null,"毒蜘蛛"]
[null,null,5,{"$nulls":4},"哥布林",{"$nulls":9},5]
[null,null,7,{"$nulls":14},7]
[null,null,9,{"$nulls":14},9]
[]
[null,null,"位置",6,18,35,50,65,82,100,120,140,160,180,null,null,null,"位置",{"$nulls":11},{"$f":"_xlfn.TEXTJOIN(\"^\",,S27:S35)","v":"0"}]
[null,null,8,{"$nulls":12},{"$f":"_xlfn.TEXTJOIN(\"^\",,D27:D36)","v":"0"},null,8,{"$nulls":11},{"$f":"_xlfn.TEXTJOIN(\"^\",,T27:T35)","v":"0^0"}]
[null,null,6,{"$nulls":12},{"$f":"_xlfn.TEXTJOIN(\"^\",,E27:E36)","v":"0^0"},null,6,{"$nulls":11},{"$f":"_xlfn.TEXTJOIN(\"^\",,U27:U35)","v":"0^0"}]
[null,null,4,{"$nulls":12},{"$f":"_xlfn.TEXTJOIN(\"^\",,F27:F36)","v":"0^0"},null,4,{"$nulls":11},{"$f":"_xlfn.TEXTJOIN(\"^\",,V27:V35)","v":"0^0"}]
[null,null,2,{"$nulls":12},{"$f":"_xlfn.TEXTJOIN(\"^\",,G27:G36)","v":"0^0"},null,2,{"$nulls":11},{"$f":"_xlfn.TEXTJOIN(\"^\",,W27:W35)","v":"0"}]
[null,null,1,0,0,0,0,0,0,0,0,0,0,0,null,{"$f":"_xlfn.TEXTJOIN(\"^\",,H27:H36)","v":"0^0^0"},null,1,0,0,0,0,0,0,0,0,0,null,null,{"$f":"_xlfn.TEXTJOIN(\"^\",,X27:X35)","v":"0^0"}]
[null,null,3,null,0,0,0,0,null,0,0,0,null,0,null,{"$f":"_xlfn.TEXTJOIN(\"^\",,I27:I36)","v":"0"},null,3,null,0,0,0,null,0,0,null,0,null,null,{"$f":"_xlfn.TEXTJOIN(\"^\",,Y26:Y35)","v":"0^0"}]
[null,null,5,{"$nulls":4},0,{"$nulls":7},{"$f":"_xlfn.TEXTJOIN(\"^\",,J27:J36)","v":"0^0"},null,5,{"$nulls":11},{"$f":"_xlfn.TEXTJOIN(\"^\",,Z26:Z35)","v":"0"}]
[null,null,7,{"$nulls":12},{"$f":"_xlfn.TEXTJOIN(\"^\",,K27:K36)","v":"0^0"},null,7,{"$nulls":11},{"$f":"_xlfn.TEXTJOIN(\"^\",,AA26:AA35)","v":"0^0"}]
[null,null,9,{"$nulls":12},{"$f":"_xlfn.TEXTJOIN(\"^\",,L27:L36)","v":"0^0"},null,9,{"$nulls":11},{"$f":"_xlfn.TEXTJOIN(\"^\",,AB26:AB35)","v":""}]
[{"$nulls":15},{"$f":"_xlfn.TEXTJOIN(\"^\",,M27:M36)","v":"0"},{"$nulls":13},{"$f":"_xlfn.TEXTJOIN(\"^\",,AC26:AC35)","v":""}]
[{"$nulls":15},{"$f":"_xlfn.TEXTJOIN(\"^\",,N27:N36)","v":"0^0"},{"$nulls":12},"最终",{"$f":"_xlfn.TEXTJOIN(\"|\",,AD26:AD36)","v":"0|0^0|0^0|0^0|0|0^0|0^0|0|0^0"}]
[{"$nulls":14},"最终",{"$f":"_xlfn.TEXTJOIN(\"|\",,P27:P37)","v":"0|0^0|0^0|0^0|0^0^0|0|0^0|0^0|0^0|0|0^0"}]
[]
[null,null,"时间",6,18,35,50,65,82,100,120,140,160,180,null,null,null,"时间",{"$nulls":11},{"$f":"_xlfn.TEXTJOIN(\"^\",,S41:S49)","v":"8"}]
[null,null,8,{"$nulls":12},{"$f":"_xlfn.TEXTJOIN(\"^\",,D41:D50)","v":"4"},null,8,{"$nulls":11},{"$f":"_xlfn.TEXTJOIN(\"^\",,T41:T49)","v":"8^3"}]
[null,null,6,{"$nulls":12},{"$f":"_xlfn.TEXTJOIN(\"^\",,E41:E50)","v":"3^2"},null,6,{"$nulls":11},{"$f":"_xlfn.TEXTJOIN(\"^\",,U41:U49)","v":"8^4"}]
[null,null,4,{"$nulls":12},{"$f":"_xlfn.TEXTJOIN(\"^\",,F41:F50)","v":"4^2"},null,4,{"$nulls":11},{"$f":"_xlfn.TEXTJOIN(\"^\",,V41:V49)","v":"5^4"}]
[null,null,2,{"$nulls":12},{"$f":"_xlfn.TEXTJOIN(\"^\",,G41:G50)","v":"4^2"},null,2,{"$nulls":11},{"$f":"_xlfn.TEXTJOIN(\"^\",,W41:W49)","v":"10"}]
[null,null,1,4,3,4,4,3,4,2,3,3,8,2,null,{"$f":"_xlfn.TEXTJOIN(\"^\",,H41:H50)","v":"3^2^2"},null,1,8,8,8,5,10,4,4,6,5,null,null,{"$f":"_xlfn.TEXTJOIN(\"^\",,X41:X49)","v":"4^4"}]
[null,null,3,null,2,2,2,2,null,4,3,5,null,4,null,{"$f":"_xlfn.TEXTJOIN(\"^\",,I41:I50)","v":"4"},null,3,null,3,4,4,null,4,8,null,4,null,null,{"$f":"_xlfn.TEXTJOIN(\"^\",,Y40:Y49)","v":"4^8"}]
[null,null,5,{"$nulls":4},2,{"$nulls":7},{"$f":"_xlfn.TEXTJOIN(\"^\",,J41:J50)","v":"2^4"},null,5,{"$nulls":11},{"$f":"_xlfn.TEXTJOIN(\"^\",,Z40:Z49)","v":"6"}]
[null,null,7,{"$nulls":12},{"$f":"_xlfn.TEXTJOIN(\"^\",,K41:K50)","v":"3^3"},null,7,{"$nulls":11},{"$f":"_xlfn.TEXTJOIN(\"^\",,AA40:AA49)","v":"5^4"}]
[null,null,9,{"$nulls":12},{"$f":"_xlfn.TEXTJOIN(\"^\",,L41:L50)","v":"3^5"},null,9,{"$nulls":11},{"$f":"_xlfn.TEXTJOIN(\"^\",,AB40:AB49)","v":""}]
[{"$nulls":15},{"$f":"_xlfn.TEXTJOIN(\"^\",,M41:M50)","v":"8"},{"$nulls":13},{"$f":"_xlfn.TEXTJOIN(\"^\",,AC40:AC49)","v":""}]
[{"$nulls":15},{"$f":"_xlfn.TEXTJOIN(\"^\",,N41:N50)","v":"2^4"},{"$nulls":12},"最终",{"$f":"_xlfn.TEXTJOIN(\"|\",,AD40:AD50)","v":"8|8^3|8^4|5^4|10|4^4|4^8|6|5^4"}]
[{"$nulls":14},"最终",{"$f":"_xlfn.TEXTJOIN(\"|\",,P41:P51)","v":"4|3^2|4^2|4^2|3^2^2|4|2^4|3^3|3^5|8|2^4"}]
[{"$nulls":15},{"$f":"SUM(D41:N50)","v":66},{"$nulls":12},{"$f":"SUM(S41:AA50)","v":85},{"$f":"P53+AC53","v":151}]
[]
[{"$nulls":4},{"$f":"E56-D56","v":12},{"$f":"F56-E56","v":18},{"$f":"G56-F56","v":15},15,16,18,20,20,20,20,{"$nulls":5},{"$f":"T56-S56","v":0},{"$f":"U56-T56","v":0},0,0,0]
[3,"森林-2","波1·怪物",6,18,36,51,66,82,100,120,140,160,180,null,null,null,"波2·怪物"]
[null,"3.3m",8,{"$nulls":12},{"$f":"_xlfn.TEXTJOIN(\"^\",,D57:D66)","v":"70021"},null,8,{"$nulls":11},{"$f":"_xlfn.TEXTJOIN(\"^\",,S57:S66)","v":"70024"}]
[null,null,6,{"$nulls":12},{"$f":"_xlfn.TEXTJOIN(\"^\",,E57:E66)","v":"70021^70022"},null,6,{"$nulls":11},{"$f":"_xlfn.TEXTJOIN(\"^\",,T57:T66)","v":"70021^70022"}]
[null,null,4,{"$nulls":12},{"$f":"_xlfn.TEXTJOIN(\"^\",,F57:F66)","v":"70023^70021"},null,4,{"$nulls":11},{"$f":"_xlfn.TEXTJOIN(\"^\",,U57:U66)","v":"70023^70021"}]
[null,null,2,{"$nulls":12},{"$f":"_xlfn.TEXTJOIN(\"^\",,G57:G66)","v":"70024^70022"},null,2,{"$nulls":11},{"$f":"_xlfn.TEXTJOIN(\"^\",,V57:V66)","v":"70022"}]
[null,null,1,70021,70021,70023,70024,70022,70021,70023,70021,70021,70023,70024,null,{"$f":"_xlfn.TEXTJOIN(\"^\",,H57:H66)","v":"70022"},null,1,70024,70021,70023,70022,70023,70024,70021,70023,70021,70023,null,{"$f":"_xlfn.TEXTJOIN(\"^\",,W57:W66)","v":"70023^70022"}]
[null,null,3,null,70022,70021,70022,null,null,70022,70022,70024,70022,70022,null,{"$f":"_xlfn.TEXTJOIN(\"^\",,I57:I66)","v":"70021"},null,3,null,70022,70021,null,70022,70022,null,70024,70022,70022,null,{"$f":"_xlfn.TEXTJOIN(\"^\",,X57:X66)","v":"70024^70022"}]
[null,null,5,{"$nulls":12},{"$f":"_xlfn.TEXTJOIN(\"^\",,J57:J66)","v":"70023^70022"},null,5,{"$nulls":11},{"$f":"_xlfn.TEXTJOIN(\"^\",,Y57:Y66)","v":"70021"}]
[null,null,7,{"$nulls":12},{"$f":"_xlfn.TEXTJOIN(\"^\",,K57:K66)","v":"70021^70022"},null,7,{"$nulls":11},{"$f":"_xlfn.TEXTJOIN(\"^\",,Z57:Z66)","v":"70023^70024"}]
[null,null,9,{"$nulls":12},{"$f":"_xlfn.TEXTJOIN(\"^\",,L57:L66)","v":"70021^70024"},null,9,{"$nulls":11},{"$f":"_xlfn.TEXTJOIN(\"^\",,AA57:AA66)","v":"70021^70022"}]
[{"$nulls":15},{"$f":"_xlfn.TEXTJOIN(\"^\",,M57:M66)","v":"70023^70022"},{"$nulls":13},{"$f":"_xlfn.TEXTJOIN(\"^\",,AB57:AB66)","v":"70023^70022"}]
[{"$nulls":15},{"$f":"_xlfn.TEXTJOIN(\"^\",,N57:N66)","v":"70024^70022"},{"$nulls":13},{"$f":"_xlfn.TEXTJOIN(\"^\",,AC57:AC66)","v":""}]
[{"$nulls":14},"最终",{"$f":"_xlfn.TEXTJOIN(\"|\",,P57:P67)","v":"70021|70021^70022|70023^70021|70024^70022|70022|70021|70023^70022|70021^70022|70021^70024|70023^70022|70024^70022"},{"$nulls":12},"最终",{"$f":"_xlfn.TEXTJOIN(\"|\",,AD57:AD67)","v":"70024|70021^70022|70023^70021|70022|70023^70022|70024^70022|70021|70023^70024|70021^70022|70023^70022"}]
[null,null,8,{"$nulls":14},8]
[null,null,6,{"$nulls":14},6]
[null,null,4,{"$nulls":14},4]
[null,null,2,{"$nulls":12},112,null,2]
[null,null,1,"树精","树精","哥布林","血树精","毒蜘蛛","树精","哥布林","树精","树精","哥布林","血树精",null,{"$f":"P72*5","v":560},784,1,"血树精","树精","哥布林","毒蜘蛛","哥布林","血树精","树精","哥布林","树精","哥布林"]
[null,null,3,null,"毒蜘蛛","树精","毒蜘蛛",null,null,"毒蜘蛛","毒蜘蛛","血树精","毒蜘蛛","毒蜘蛛",null,null,null,3,null,"毒蜘蛛","树精",null,"毒蜘蛛","毒蜘蛛",null,"血树精","毒蜘蛛","毒蜘蛛"]
[null,null,5,{"$nulls":14},5]
[null,null,7,{"$nulls":14},7]
[null,null,9,{"$nulls":14},9]
[]
[null,null,"位置",6,18,36,51,66,82,100,120,140,160,180,null,null,null,"位置",{"$nulls":11},{"$f":"_xlfn.TEXTJOIN(\"^\",,S80:S88)","v":"0"}]
[null,null,8,{"$nulls":12},{"$f":"_xlfn.TEXTJOIN(\"^\",,D80:D89)","v":"0"},null,8,{"$nulls":11},{"$f":"_xlfn.TEXTJOIN(\"^\",,T80:T88)","v":"0^0"}]
[null,null,6,{"$nulls":12},{"$f":"_xlfn.TEXTJOIN(\"^\",,E80:E89)","v":"0^0"},null,6,{"$nulls":11},{"$f":"_xlfn.TEXTJOIN(\"^\",,U80:U88)","v":"0^0"}]
[null,null,4,{"$nulls":12},{"$f":"_xlfn.TEXTJOIN(\"^\",,F80:F89)","v":"0^0"},null,4,{"$nulls":11},{"$f":"_xlfn.TEXTJOIN(\"^\",,V80:V88)","v":"0"}]
[null,null,2,{"$nulls":12},{"$f":"_xlfn.TEXTJOIN(\"^\",,G80:G89)","v":"0^0"},null,2,{"$nulls":11},{"$f":"_xlfn.TEXTJOIN(\"^\",,W80:W88)","v":"0^0"}]
[null,null,1,0,0,0,0,0,0,{"$f":"$D$84","v":0},0,0,0,0,null,{"$f":"_xlfn.TEXTJOIN(\"^\",,H80:H89)","v":"0"},null,1,0,0,0,0,0,0,0,0,0,0,null,{"$f":"_xlfn.TEXTJOIN(\"^\",,X80:X88)","v":"0^0"}]
[null,null,3,null,0,0,0,null,null,0,0,0,0,0,null,{"$f":"_xlfn.TEXTJOIN(\"^\",,I80:I89)","v":"0"},null,3,null,0,0,null,0,0,null,0,0,0,null,{"$f":"_xlfn.TEXTJOIN(\"^\",,Y79:Y88)","v":"0"}]
[null,null,5,{"$nulls":12},{"$f":"_xlfn.TEXTJOIN(\"^\",,J80:J89)","v":"0^0"},null,5,{"$nulls":11},{"$f":"_xlfn.TEXTJOIN(\"^\",,Z79:Z88)","v":"0^0"}]
[null,null,7,{"$nulls":12},{"$f":"_xlfn.TEXTJOIN(\"^\",,K80:K89)","v":"0^0"},null,7,{"$nulls":11},{"$f":"_xlfn.TEXTJOIN(\"^\",,AA79:AA88)","v":"0^0"}]
[null,null,9,{"$nulls":12},{"$f":"_xlfn.TEXTJOIN(\"^\",,L80:L89)","v":"0^0"},null,9,{"$nulls":11},{"$f":"_xlfn.TEXTJOIN(\"^\",,AB79:AB88)","v":"0^0"}]
[{"$nulls":15},{"$f":"_xlfn.TEXTJOIN(\"^\",,M80:M89)","v":"0^0"},{"$nulls":13},{"$f":"_xlfn.TEXTJOIN(\"^\",,AC79:AC88)","v":""}]
[{"$nulls":15},{"$f":"_xlfn.TEXTJOIN(\"^\",,N80:N89)","v":"0^0"},{"$nulls":12},"最终",{"$f":"_xlfn.TEXTJOIN(\"|\",,AD79:AD89)","v":"0|0^0|0^0|0|0^0|0^0|0|0^0|0^0|0^0"}]
[{"$nulls":14},"最终",{"$f":"_xlfn.TEXTJOIN(\"|\",,P80:P90)","v":"0|0^0|0^0|0^0|0|0|0^0|0^0|0^0|0^0|0^0"}]
[]
[null,null,"时间",6,18,36,51,66,82,100,120,140,160,180,null,null,null,"时间",{"$nulls":11},{"$f":"_xlfn.TEXTJOIN(\"^\",,S94:S102)","v":"3"}]
[null,null,8,{"$nulls":12},{"$f":"_xlfn.TEXTJOIN(\"^\",,D94:D103)","v":"6"},null,8,{"$nulls":11},{"$f":"_xlfn.TEXTJOIN(\"^\",,T94:T102)","v":"7^3"}]
[null,null,6,{"$nulls":12},{"$f":"_xlfn.TEXTJOIN(\"^\",,E94:E103)","v":"4^3"},null,6,{"$nulls":11},{"$f":"_xlfn.TEXTJOIN(\"^\",,U94:U102)","v":"2^8"}]
[null,null,4,{"$nulls":12},{"$f":"_xlfn.TEXTJOIN(\"^\",,F94:F103)","v":"2^6"},null,4,{"$nulls":11},{"$f":"_xlfn.TEXTJOIN(\"^\",,V94:V102)","v":"4"}]
[null,null,2,{"$nulls":12},{"$f":"_xlfn.TEXTJOIN(\"^\",,G94:G103)","v":"3^4"},null,2,{"$nulls":11},{"$f":"_xlfn.TEXTJOIN(\"^\",,W94:W102)","v":"2^4"}]
[null,null,1,6,4,2,3,4,10,3,8,8,3,3,null,{"$f":"_xlfn.TEXTJOIN(\"^\",,H94:H103)","v":"4"},null,1,3,7,2,4,2,3,8,3,7,3,null,{"$f":"_xlfn.TEXTJOIN(\"^\",,X94:X102)","v":"3^4"}]
[null,null,3,null,3,6,4,null,null,4,3,2,4,4,null,{"$f":"_xlfn.TEXTJOIN(\"^\",,I94:I103)","v":"10"},null,3,null,3,8,null,4,4,null,2,3,3,null,{"$f":"_xlfn.TEXTJOIN(\"^\",,Y93:Y102)","v":"8"}]
[null,null,5,{"$nulls":12},{"$f":"_xlfn.TEXTJOIN(\"^\",,J94:J103)","v":"3^4"},null,5,{"$nulls":11},{"$f":"_xlfn.TEXTJOIN(\"^\",,Z93:Z102)","v":"3^2"}]
[null,null,7,{"$nulls":12},{"$f":"_xlfn.TEXTJOIN(\"^\",,K94:K103)","v":"8^3"},null,7,{"$nulls":11},{"$f":"_xlfn.TEXTJOIN(\"^\",,AA93:AA102)","v":"7^3"}]
[null,null,9,{"$nulls":12},{"$f":"_xlfn.TEXTJOIN(\"^\",,L94:L103)","v":"8^2"},null,9,{"$nulls":11},{"$f":"_xlfn.TEXTJOIN(\"^\",,AB93:AB102)","v":"3^3"}]
[{"$nulls":15},{"$f":"_xlfn.TEXTJOIN(\"^\",,M94:M103)","v":"3^4"},{"$nulls":13},{"$f":"_xlfn.TEXTJOIN(\"^\",,AC93:AC102)","v":""}]
[{"$nulls":15},{"$f":"_xlfn.TEXTJOIN(\"^\",,N94:N103)","v":"3^4"},{"$nulls":12},"最终",{"$f":"_xlfn.TEXTJOIN(\"|\",,AD93:AD103)","v":"3|7^3|2^8|4|2^4|3^4|8|3^2|7^3|3^3"}]
[{"$nulls":14},"最终",{"$f":"_xlfn.TEXTJOIN(\"|\",,P94:P104)","v":"6|4^3|2^6|3^4|4|10|3^4|8^3|8^2|3^4|3^4"}]
[{"$nulls":15},{"$f":"SUM(D94:N103)","v":84},{"$nulls":12},{"$f":"SUM(S94:AB103)","v":69},{"$f":"P106+AC106","v":153}]
[]
[{"$nulls":4},{"$f":"E109-D109","v":10},{"$f":"F109-E109","v":15},{"$f":"G109-F109","v":15},17,18,20,20,20,20,20,{"$nulls":5},{"$f":"T109-S109","v":2},3,4,5,5,5]
[3,"森林-3","波1·怪物",5,15,30,45,62,80,100,120,140,160,180,null,null,1,"波2·怪物",1,3,6,10,15,20,25]
[null,"3.5m",8,{"$nulls":12},{"$f":"_xlfn.TEXTJOIN(\"^\",,D110:D119)","v":"70032"},null,8,{"$nulls":11},{"$f":"_xlfn.TEXTJOIN(\"^\",,S110:S119)","v":"70031^70031^70031^70031"}]
[null,null,6,{"$nulls":12},{"$f":"_xlfn.TEXTJOIN(\"^\",,E110:E119)","v":"70031^70033"},null,6,{"$nulls":11},{"$f":"_xlfn.TEXTJOIN(\"^\",,T110:T119)","v":"70032^70032"}]
[null,null,4,{"$nulls":12},{"$f":"_xlfn.TEXTJOIN(\"^\",,F110:F119)","v":"70031^70032"},null,4,null,null,70031,70031,70032,70033,{"$nulls":5},{"$f":"_xlfn.TEXTJOIN(\"^\",,U110:U119)","v":"70031^70033^70032"}]
[null,null,2,{"$nulls":12},{"$f":"_xlfn.TEXTJOIN(\"^\",,G110:G119)","v":"70033^70032"},null,2,70031,70032,null,70031,70034,70033,70032,{"$nulls":4},{"$f":"_xlfn.TEXTJOIN(\"^\",,V110:V119)","v":"70031^70031^70031^70031"}]
[null,null,1,70032,70031,70031,70033,70031,70034,70031,70033,70031,70034,70033,null,{"$f":"_xlfn.TEXTJOIN(\"^\",,H110:H119)","v":"70031"},null,1,70031,null,70033,null,null,70033,70032,{"$nulls":4},{"$f":"_xlfn.TEXTJOIN(\"^\",,W110:W119)","v":"70032^70034^70034^70032"}]
[null,null,3,null,70033,70032,70032,null,70032,70032,70032,70034,70032,70032,null,{"$f":"_xlfn.TEXTJOIN(\"^\",,I110:I119)","v":"70034^70032"},null,3,70031,null,null,70031,70034,70033,{"$nulls":5},{"$f":"_xlfn.TEXTJOIN(\"^\",,X110:X119)","v":"70033^70033^70033^70033"}]
[null,null,5,{"$nulls":10},70031,null,{"$f":"_xlfn.TEXTJOIN(\"^\",,J110:J119)","v":"70031^70032"},null,5,70031,70032,70032,70031,70032,{"$nulls":6},{"$f":"_xlfn.TEXTJOIN(\"^\",,Y110:Y119)","v":"70032^70032"}]
[null,null,7,{"$nulls":12},{"$f":"_xlfn.TEXTJOIN(\"^\",,K110:K119)","v":"70033^70032"},null,7,{"$nulls":11},{"$f":"_xlfn.TEXTJOIN(\"^\",,Z110:Z119)","v":""}]
[null,null,9,{"$nulls":12},{"$f":"_xlfn.TEXTJOIN(\"^\",,L110:L119)","v":"70031^70034"},null,9,{"$nulls":11},{"$f":"_xlfn.TEXTJOIN(\"^\",,AA110:AA119)","v":""}]
[{"$nulls":15},{"$f":"_xlfn.TEXTJOIN(\"^\",,M110:M119)","v":"70034^70032"},{"$nulls":13},{"$f":"_xlfn.TEXTJOIN(\"^\",,AB110:AB119)","v":""}]
[{"$nulls":15},{"$f":"_xlfn.TEXTJOIN(\"^\",,N110:N119)","v":"70033^70032^70031"},{"$nulls":13},{"$f":"_xlfn.TEXTJOIN(\"^\",,AC110:AC119)","v":""}]
[{"$nulls":4},"平均时间刷+时间轴刷",{"$nulls":9},"最终",{"$f":"_xlfn.TEXTJOIN(\"|\",,P110:P120)","v":"70032|70031^70033|70031^70032|70033^70032|70031|70034^70032|70031^70032|70033^70032|70031^70034|70034^70032|70033^70032^70031"},{"$nulls":12},"最终",{"$f":"_xlfn.TEXTJOIN(\"^\",,AD110:AD120)","v":"70031^70031^70031^70031^70032^70032^70031^70033^70032^70031^70031^70031^70031^70032^70034^70034^70032^70033^70033^70033^70033^70032^70032"}]
[null,null,8,{"$nulls":14},8]
[null,null,6,{"$nulls":14},6]
[null,null,4,{"$nulls":14},4,null,null,"树精","树精","毒蜘蛛","哥布林"]
[null,null,2,{"$nulls":12},112,null,2,"树精","毒蜘蛛",null,"树精","血树精","哥布林","毒蜘蛛"]
[null,null,1,"毒蜘蛛","树精","树精","哥布林","树精","血树精","树精","哥布林","树精","树精","哥布林",null,{"$f":"P125*6","v":672},784,1,"树精",null,"哥布林",null,null,"哥布林","毒蜘蛛"]
[null,null,3,null,"哥布林","毒蜘蛛","毒蜘蛛",null,"毒蜘蛛","毒蜘蛛","毒蜘蛛","血树精","毒蜘蛛","毒蜘蛛",null,null,null,3,"树精",null,null,"树精","血树精","哥布林"]
[null,null,5,{"$nulls":10},"树精",null,null,null,5,"树精","毒蜘蛛","毒蜘蛛","树精","毒蜘蛛"]
[null,null,7,{"$nulls":14},7]
[null,null,9,{"$nulls":14},9]
[]
[null,null,"位置",5,15,30,45,62,80,100,120,140,160,180,null,null,null,"位置",1,3,6,10,15,20,25,{"$nulls":4},{"$f":"_xlfn.TEXTJOIN(\"^\",,S133:S141)","v":"2^1^3^5"}]
[null,null,8,{"$nulls":12},{"$f":"_xlfn.TEXTJOIN(\"^\",,D133:D142)","v":"0"},null,8,{"$nulls":11},{"$f":"_xlfn.TEXTJOIN(\"^\",,T133:T141)","v":"2^5"}]
[null,null,6,{"$nulls":12},{"$f":"_xlfn.TEXTJOIN(\"^\",,E133:E142)","v":"0^0"},null,6,{"$nulls":11},{"$f":"_xlfn.TEXTJOIN(\"^\",,U133:U141)","v":"4^1^5"}]
[null,null,4,{"$nulls":12},{"$f":"_xlfn.TEXTJOIN(\"^\",,F133:F142)","v":"0^0"},null,4,null,null,{"$f":"$C135","v":4},4,4,4,{"$nulls":5},{"$f":"_xlfn.TEXTJOIN(\"^\",,V133:V141)","v":"4^2^3^5"}]
[null,null,2,{"$nulls":12},{"$f":"_xlfn.TEXTJOIN(\"^\",,G133:G142)","v":"0^0"},null,2,{"$f":"$C136","v":2},2,null,2,2,2,2,{"$nulls":4},{"$f":"_xlfn.TEXTJOIN(\"^\",,W133:W141)","v":"4^2^3^5"}]
[null,null,1,0,0,0,0,0,0,0,0,0,0,0,null,{"$f":"_xlfn.TEXTJOIN(\"^\",,H133:H142)","v":"0"},null,1,1,null,{"$f":"$C137","v":1},null,null,1,1,{"$nulls":4},{"$f":"_xlfn.TEXTJOIN(\"^\",,X133:X141)","v":"4^2^1^3"}]
[null,null,3,null,0,0,0,null,0,0,0,0,0,0,null,{"$f":"_xlfn.TEXTJOIN(\"^\",,I133:I142)","v":"0^0"},null,3,3,null,null,3,3,3,{"$nulls":5},{"$f":"_xlfn.TEXTJOIN(\"^\",,Y133:Y141)","v":"2^1"}]
[null,null,5,{"$nulls":10},0,null,{"$f":"_xlfn.TEXTJOIN(\"^\",,J133:J142)","v":"0^0"},null,5,5,5,5,5,5,{"$nulls":6},{"$f":"_xlfn.TEXTJOIN(\"^\",,Z132:Z141)","v":""}]
[null,null,7,{"$nulls":12},{"$f":"_xlfn.TEXTJOIN(\"^\",,K133:K142)","v":"0^0"},null,7,{"$nulls":11},{"$f":"_xlfn.TEXTJOIN(\"^\",,AA132:AA141)","v":""}]
[null,null,9,{"$nulls":12},{"$f":"_xlfn.TEXTJOIN(\"^\",,L133:L142)","v":"0^0"},null,9,{"$nulls":11},{"$f":"_xlfn.TEXTJOIN(\"^\",,AB132:AB141)","v":""}]
[{"$nulls":15},{"$f":"_xlfn.TEXTJOIN(\"^\",,M133:M142)","v":"0^0"},{"$nulls":13},{"$f":"_xlfn.TEXTJOIN(\"^\",,AC132:AC141)","v":""}]
[{"$nulls":15},{"$f":"_xlfn.TEXTJOIN(\"^\",,N133:N142)","v":"0^0^0"},{"$nulls":12},"最终",{"$f":"_xlfn.TEXTJOIN(\"^\",,AD132:AD142)","v":"2^1^3^5^2^5^4^1^5^4^2^3^5^4^2^3^5^4^2^1^3^2^1"}]
[{"$nulls":14},"最终",{"$f":"_xlfn.TEXTJOIN(\"|\",,P133:P143)","v":"0|0^0|0^0|0^0|0|0^0|0^0|0^0|0^0|0^0|0^0^0"}]
[]
[null,null,"时间",5,15,30,45,62,80,100,120,140,160,180,null,null,null,"时间",1,3,6,10,15,20,25,{"$nulls":4},{"$f":"_xlfn.TEXTJOIN(\"^\",,S147:S155)","v":"1^1^1^1"}]
[null,null,8,{"$nulls":12},{"$f":"_xlfn.TEXTJOIN(\"^\",,D147:D156)","v":"4"},null,8,{"$nulls":11},{"$f":"_xlfn.TEXTJOIN(\"^\",,T147:T155)","v":"3^3"}]
[null,null,6,{"$nulls":12},{"$f":"_xlfn.TEXTJOIN(\"^\",,E147:E156)","v":"5^2"},null,6,{"$nulls":11},{"$f":"_xlfn.TEXTJOIN(\"^\",,U147:U155)","v":"6^6^6"}]
[null,null,4,{"$nulls":12},{"$f":"_xlfn.TEXTJOIN(\"^\",,F147:F156)","v":"7^2"},null,4,null,null,{"$f":"U$146","v":6},{"$f":"V$146","v":10},{"$f":"W$146","v":15},{"$f":"X$146","v":20},{"$nulls":5},{"$f":"_xlfn.TEXTJOIN(\"^\",,V147:V155)","v":"10^10^10^10"}]
[null,null,2,{"$nulls":12},{"$f":"_xlfn.TEXTJOIN(\"^\",,G147:G156)","v":"3^4"},null,2,{"$f":"S$146","v":1},{"$f":"T$146","v":3},null,{"$f":"V$146","v":10},{"$f":"W$146","v":15},20,{"$f":"Y$146","v":25},{"$nulls":4},{"$f":"_xlfn.TEXTJOIN(\"^\",,W147:W155)","v":"15^15^15^15"}]
[null,null,1,4,5,7,3,8,4,8,2,8,8,2,null,{"$f":"_xlfn.TEXTJOIN(\"^\",,H147:H156)","v":"8"},null,1,{"$f":"S$146","v":1},null,{"$f":"U$146","v":6},null,null,20,{"$f":"Y$146","v":25},{"$nulls":4},{"$f":"_xlfn.TEXTJOIN(\"^\",,X147:X155)","v":"20^20^20^20"}]
[null,null,3,null,2,2,4,null,3,2,4,2,3,2,null,{"$f":"_xlfn.TEXTJOIN(\"^\",,I147:I156)","v":"4^3"},null,3,{"$f":"S$146","v":1},null,null,{"$f":"V$146","v":10},{"$f":"W$146","v":15},20,{"$nulls":5},{"$f":"_xlfn.TEXTJOIN(\"^\",,Y147:Y155)","v":"25^25"}]
[null,null,5,{"$nulls":10},6,null,{"$f":"_xlfn.TEXTJOIN(\"^\",,J147:J156)","v":"8^2"},null,5,{"$f":"S$146","v":1},{"$f":"T$146","v":3},{"$f":"U$146","v":6},{"$f":"V$146","v":10},{"$f":"W$146","v":15},{"$nulls":6},{"$f":"_xlfn.TEXTJOIN(\"^\",,Z146:Z155)","v":""}]
[null,null,7,{"$nulls":12},{"$f":"_xlfn.TEXTJOIN(\"^\",,K147:K156)","v":"2^4"},null,7,{"$nulls":11},{"$f":"_xlfn.TEXTJOIN(\"^\",,AA146:AA155)","v":""}]
[null,null,9,{"$nulls":12},{"$f":"_xlfn.TEXTJOIN(\"^\",,L147:L156)","v":"8^2"},null,9,{"$nulls":11},{"$f":"_xlfn.TEXTJOIN(\"^\",,AB146:AB155)","v":""}]
[{"$nulls":15},{"$f":"_xlfn.TEXTJOIN(\"^\",,M147:M156)","v":"8^3"},{"$nulls":13},{"$f":"_xlfn.TEXTJOIN(\"^\",,AC146:AC155)","v":""}]
[{"$nulls":15},{"$f":"_xlfn.TEXTJOIN(\"^\",,N147:N156)","v":"2^2^6"},{"$nulls":12},"最终",{"$f":"_xlfn.TEXTJOIN(\"^\",,AD146:AD156)","v":"1^1^1^1^3^3^6^6^6^10^10^10^10^15^15^15^15^20^20^20^20^25^25"}]
[{"$nulls":14},"最终",{"$f":"_xlfn.TEXTJOIN(\"|\",,P147:P157)","v":"4|5^2|7^2|3^4|8|4^3|8^2|2^4|8^2|8^3|2^2^6"}]
[{"$nulls":15},{"$f":"SUM(D147:N156)","v":89},{"$nulls":12},{"$f":"COUNT(S147:AA155)","v":23},{"$f":"P159+AC159","v":112}]

{"sheet":"2","index":2,"n_rows":159,"n_cols":30,"rows_kept":159,"cut":false,"hidden":false,"merged":[]}
[]
[{"$nulls":4},{"$f":"E3-D3","v":13},{"$f":"F3-E3","v":15},17,15,15,20,20,20,20,20,{"$nulls":5},{"$f":"T3-S3","v":2},3,4,5,5,10,15]
[3,"密林-1","波1·怪物",5,18,33,50,65,80,100,120,140,160,180,null,null,null,"波2·怪物",1,3,6,10,15,20,30,45]
[null,"3.75m",8,{"$nulls":12},{"$f":"_xlfn.TEXTJOIN(\"^\",,D4:D13)","v":"70041"},null,8,{"$nulls":11},{"$f":"_xlfn.TEXTJOIN(\"^\",,S4:S13)","v":"70041^70044"}]
[null,null,6,{"$nulls":12},{"$f":"_xlfn.TEXTJOIN(\"^\",,E4:E13)","v":"70041^70042"},null,6,{"$nulls":11},{"$f":"_xlfn.TEXTJOIN(\"^\",,T4:T13)","v":"70042"}]
[null,null,4,{"$nulls":12},{"$f":"_xlfn.TEXTJOIN(\"^\",,F4:F13)","v":"70042^70041"},null,4,{"$nulls":11},{"$f":"_xlfn.TEXTJOIN(\"^\",,U4:U13)","v":"70041^70042"}]
[null,null,2,{"$nulls":12},{"$f":"_xlfn.TEXTJOIN(\"^\",,G4:G13)","v":"70044^70043^70041"},null,2,{"$nulls":11},{"$f":"_xlfn.TEXTJOIN(\"^\",,V4:V13)","v":"70043^70041^70042"}]
[null,null,1,70041,70041,70042,70044,70043,70041,70041,70044,70043,70041,70044,null,{"$f":"_xlfn.TEXTJOIN(\"^\",,H4:H13)","v":"70043^70042^70041"},null,1,70041,70042,70041,70043,70042,70043,70041,70041,70043,null,null,{"$f":"_xlfn.TEXTJOIN(\"^\",,W4:W13)","v":"70042^70044"}]
[null,null,3,null,70042,70041,70043,70042,70044,70042,70043,70041,70043,70042,null,{"$f":"_xlfn.TEXTJOIN(\"^\",,I4:I13)","v":"70041^70044"},null,3,70044,null,70042,70041,70044,70042,70044,70042,70042,null,null,{"$f":"_xlfn.TEXTJOIN(\"^\",,X4:X13)","v":"70043^70042"}]
[null,null,5,null,null,null,70041,70041,null,null,70042,70042,null,70043,null,{"$f":"_xlfn.TEXTJOIN(\"^\",,J4:J13)","v":"70041^70042"},null,5,null,null,null,70042,{"$nulls":4},70041,null,null,{"$f":"_xlfn.TEXTJOIN(\"^\",,Y4:Y13)","v":"70041^70044"}]
[null,null,7,{"$nulls":12},{"$f":"_xlfn.TEXTJOIN(\"^\",,K4:K13)","v":"70044^70043^70042"},null,7,{"$nulls":11},{"$f":"_xlfn.TEXTJOIN(\"^\",,Z4:Z13)","v":"70041^70042"}]
[null,null,9,{"$nulls":12},{"$f":"_xlfn.TEXTJOIN(\"^\",,L4:L13)","v":"70043^70041^70042"},null,9,{"$nulls":11},{"$f":"_xlfn.TEXTJOIN(\"^\",,AA4:AA13)","v":"70043^70042^70041"}]
[{"$nulls":15},{"$f":"_xlfn.TEXTJOIN(\"^\",,M4:M13)","v":"70041^70043"},{"$nulls":13},{"$f":"_xlfn.TEXTJOIN(\"^\",,AB4:AB13)","v":""}]
[{"$nulls":15},{"$f":"_xlfn.TEXTJOIN(\"^\",,N4:N13)","v":"70044^70042^70043"},{"$nulls":13},{"$f":"_xlfn.TEXTJOIN(\"^\",,AC4:AC13)","v":""}]
[{"$nulls":14},"最终",{"$f":"_xlfn.TEXTJOIN(\"|\",,P4:P14)","v":"70041|70041^70042|70042^70041|70044^70043^70041|70043^70042^70041|70041^70044|70041^70042|70044^70043^70042|70043^70041^70042|70041^70043|70044^70042^70043"},{"$nulls":12},"最终",{"$f":"_xlfn.TEXTJOIN(\"|\",,AD4:AD14)","v":"70041^70044|70042|70041^70042|70043^70041^70042|70042^70044|70043^70042|70041^70044|70041^70042|70043^70042^70041"}]
[null,null,8,{"$nulls":14},8]
[null,null,6,{"$nulls":14},6]
[null,null,4,{"$nulls":14},4]
[null,null,2,{"$nulls":14},2]
[null,null,1,"树精","树精","毒蜘蛛","木精灵","哥布林","树精","树精","木精灵","哥布林","树精","木精灵",null,null,null,1,"树精","毒蜘蛛","树精","哥布林","毒蜘蛛","哥布林","树精","树精","哥布林"]
[null,null,3,null,"毒蜘蛛","树精","哥布林","毒蜘蛛","木精灵","毒蜘蛛","哥布林","树精","哥布林","毒蜘蛛",null,null,null,3,"木精灵",null,"毒蜘蛛","树精","木精灵","毒蜘蛛","木精灵","毒蜘蛛","毒蜘蛛"]
[null,null,5,null,null,null,"树精","树精",null,null,"毒蜘蛛","毒蜘蛛",null,"哥布林",null,null,null,5,null,null,null,"毒蜘蛛",{"$nulls":4},"树精"]
[null,null,7,{"$nulls":14},7]
[null,null,9,{"$nulls":14},9]
[]
[null,null,"位置",5,18,33,50,65,80,100,120,140,160,180,null,null,null,"位置",1,3,6,10,15,20,30,45,null,null,null,{"$f":"_xlfn.TEXTJOIN(\"^\",,S27:S35)","v":"0^0"}]
[null,null,8,{"$nulls":12},{"$f":"_xlfn.TEXTJOIN(\"^\",,D27:D36)","v":"0"},null,8,{"$nulls":11},{"$f":"_xlfn.TEXTJOIN(\"^\",,T27:T35)","v":"0"}]
[null,null,6,{"$nulls":12},{"$f":"_xlfn.TEXTJOIN(\"^\",,E27:E36)","v":"0^0"},null,6,{"$nulls":11},{"$f":"_xlfn.TEXTJOIN(\"^\",,U27:U35)","v":"0^0"}]
[null,null,4,{"$nulls":12},{"$f":"_xlfn.TEXTJOIN(\"^\",,F27:F36)","v":"0^0"},null,4,{"$nulls":11},{"$f":"_xlfn.TEXTJOIN(\"^\",,V27:V35)","v":"0^0^0"}]
[null,null,2,{"$nulls":12},{"$f":"_xlfn.TEXTJOIN(\"^\",,G27:G36)","v":"0^0^0"},null,2,{"$nulls":11},{"$f":"_xlfn.TEXTJOIN(\"^\",,W27:W35)","v":"0^0"}]
[null,null,1,0,0,0,0,0,0,0,0,0,0,0,null,{"$f":"_xlfn.TEXTJOIN(\"^\",,H27:H36)","v":"0^0^0"},null,1,0,0,0,0,0,0,0,0,0,null,null,{"$f":"_xlfn.TEXTJOIN(\"^\",,X27:X35)","v":"0^0"}]
[null,null,3,null,0,0,0,0,0,0,0,0,0,0,null,{"$f":"_xlfn.TEXTJOIN(\"^\",,I27:I36)","v":"0^0"},null,3,0,null,0,0,0,0,0,0,0,null,null,{"$f":"_xlfn.TEXTJOIN(\"^\",,Y27:Y35)","v":"0^0"}]
[null,null,5,null,null,null,0,0,null,null,0,0,null,0,null,{"$f":"_xlfn.TEXTJOIN(\"^\",,J27:J36)","v":"0^0"},null,5,null,null,null,0,{"$nulls":4},0,null,null,{"$f":"_xlfn.TEXTJOIN(\"^\",,Z27:Z35)","v":"0^0"}]
[null,null,7,{"$nulls":12},{"$f":"_xlfn.TEXTJOIN(\"^\",,K27:K36)","v":"0^0^0"},null,7,{"$nulls":11},{"$f":"_xlfn.TEXTJOIN(\"^\",,AA27:AA35)","v":"0^0^0"}]
[null,null,9,{"$nulls":12},{"$f":"_xlfn.TEXTJOIN(\"^\",,L27:L36)","v":"0^0^0"},null,9,{"$nulls":11},{"$f":"_xlfn.TEXTJOIN(\"^\",,AB27:AB35)","v":""}]
[{"$nulls":15},{"$f":"_xlfn.TEXTJOIN(\"^\",,M27:M36)","v":"0^0"},{"$nulls":13},{"$f":"_xlfn.TEXTJOIN(\"^\",,AC27:AC35)","v":""}]
[{"$nulls":15},{"$f":"_xlfn.TEXTJOIN(\"^\",,N27:N36)","v":"0^0^0"},{"$nulls":12},"最终",{"$f":"_xlfn.TEXTJOIN(\"|\",,AD26:AD36)","v":"0^0|0|0^0|0^0^0|0^0|0^0|0^0|0^0|0^0^0"}]
[{"$nulls":14},"最终",{"$f":"_xlfn.TEXTJOIN(\"|\",,P27:P37)","v":"0|0^0|0^0|0^0^0|0^0^0|0^0|0^0|0^0^0|0^0^0|0^0|0^0^0"}]
[]
[null,null,"时间",5,18,33,50,65,80,100,120,140,160,180,null,null,null,"时间",1,3,6,10,15,20,30,45,null,null,null,{"$f":"_xlfn.TEXTJOIN(\"^\",,S41:S49)","v":"16^4"}]
[null,null,8,{"$nulls":12},{"$f":"_xlfn.TEXTJOIN(\"^\",,D41:D50)","v":"5"},null,8,{"$nulls":11},{"$f":"_xlfn.TEXTJOIN(\"^\",,T41:T49)","v":"8"}]
[null,null,6,{"$nulls":12},{"$f":"_xlfn.TEXTJOIN(\"^\",,E41:E50)","v":"5^3"},null,6,{"$nulls":11},{"$f":"_xlfn.TEXTJOIN(\"^\",,U41:U49)","v":"10^2"}]
[null,null,4,{"$nulls":12},{"$f":"_xlfn.TEXTJOIN(\"^\",,F41:F50)","v":"4^7"},null,4,{"$nulls":11},{"$f":"_xlfn.TEXTJOIN(\"^\",,V41:V49)","v":"2^10^2"}]
[null,null,2,{"$nulls":12},{"$f":"_xlfn.TEXTJOIN(\"^\",,G41:G50)","v":"2^2^7"},null,2,{"$nulls":11},{"$f":"_xlfn.TEXTJOIN(\"^\",,W41:W49)","v":"5^5"}]
[null,null,1,5,5,4,2,2,8,8,2,2,9,2,null,{"$f":"_xlfn.TEXTJOIN(\"^\",,H41:H50)","v":"2^4^6"},null,1,16,8,10,2,5,5,12,12,8,null,null,{"$f":"_xlfn.TEXTJOIN(\"^\",,X41:X49)","v":"5^5"}]
[null,null,3,null,3,7,2,4,2,3,3,7,2,4,null,{"$f":"_xlfn.TEXTJOIN(\"^\",,I41:I50)","v":"8^2"},null,3,4,null,2,10,5,5,2,5,5,null,null,{"$f":"_xlfn.TEXTJOIN(\"^\",,Y41:Y49)","v":"12^2"}]
[null,null,5,null,null,null,7,6,null,null,4,2,null,3,null,{"$f":"_xlfn.TEXTJOIN(\"^\",,J41:J50)","v":"8^3"},null,5,null,null,null,2,{"$nulls":4},15,null,null,{"$f":"_xlfn.TEXTJOIN(\"^\",,Z41:Z49)","v":"12^5"}]
[null,null,7,{"$nulls":12},{"$f":"_xlfn.TEXTJOIN(\"^\",,K41:K50)","v":"2^3^4"},null,7,{"$nulls":11},{"$f":"_xlfn.TEXTJOIN(\"^\",,AA41:AA49)","v":"8^5^15"}]
[null,null,9,{"$nulls":12},{"$f":"_xlfn.TEXTJOIN(\"^\",,L41:L50)","v":"2^7^2"},null,9,{"$nulls":11},{"$f":"_xlfn.TEXTJOIN(\"^\",,AB41:AB49)","v":""}]
[{"$nulls":15},{"$f":"_xlfn.TEXTJOIN(\"^\",,M41:M50)","v":"9^2"},{"$nulls":13},{"$f":"_xlfn.TEXTJOIN(\"^\",,AC41:AC49)","v":""}]
[{"$nulls":15},{"$f":"_xlfn.TEXTJOIN(\"^\",,N41:N50)","v":"2^4^3"},{"$nulls":12},"最终",{"$f":"_xlfn.TEXTJOIN(\"|\",,AD40:AD50)","v":"16^4|8|10^2|2^10^2|5^5|5^5|12^2|12^5|8^5^15"}]
[{"$nulls":14},"最终",{"$f":"_xlfn.TEXTJOIN(\"|\",,P41:P51)","v":"5|5^3|4^7|2^2^7|2^4^6|8^2|8^3|2^3^4|2^7^2|9^2|2^4^3"}]
[{"$nulls":15},{"$f":"SUM(D41:N50)","v":108},{"$nulls":12},{"$f":"SUM(S41:AA50)","v":133},{"$f":"P53+AC53","v":241}]
[]
[{"$nulls":4},{"$f":"E56-D56","v":5},{"$f":"F56-E56","v":5},{"$f":"G56-F56","v":6},9,5,10,5,10,15,10,{"$nulls":5},{"$f":"T56-S56","v":2},{"$f":"U56-T56","v":3},4,5,5,6,9]
[1,"密林-2","波1·怪物",5,10,15,21,30,35,45,50,60,75,85,null,null,1,"波2·怪物",1,3,6,10,15,20,26,35]
[null,"3.5m",8,{"$nulls":4},70051,null,70052,null,70051,70051,null,null,{"$f":"_xlfn.TEXTJOIN(\"^\",,D57:D66)","v":"70051^70052^70051"},null,8,{"$nulls":11},{"$f":"_xlfn.TEXTJOIN(\"^\",,S57:S66)","v":"70051^70054^70051"}]
[null,null,6,null,null,70054,null,70051,null,70052,null,70051,70051,70054,null,{"$f":"_xlfn.TEXTJOIN(\"^\",,E57:E66)","v":"70051^70052^70052^70051"},null,6,{"$nulls":5},70051,{"$nulls":5},{"$f":"_xlfn.TEXTJOIN(\"^\",,T57:T66)","v":"70052^70052^70053^70052^70052"}]
[null,null,4,null,70051,null,70051,null,70052,70053,70053,70051,null,70051,null,{"$f":"_xlfn.TEXTJOIN(\"^\",,F57:F66)","v":"70054^70051^70051^70051^70052"},null,4,null,70052,70051,70052,70052,70053,70052,70054,null,null,null,{"$f":"_xlfn.TEXTJOIN(\"^\",,U57:U66)","v":"70051^70051^70053^70051^70051"}]
[null,null,2,70051,70052,70051,70053,70052,70051,70051,70052,null,70052,70053,null,{"$f":"_xlfn.TEXTJOIN(\"^\",,G57:G66)","v":"70051^70053^70052^70053^70051"},null,2,70051,70052,70051,70051,70053,null,70052,70053,null,null,null,{"$f":"_xlfn.TEXTJOIN(\"^\",,V57:V66)","v":"70052^70051^70054^70051^70052"}]
[null,null,1,70052,null,70051,70052,70054,70051,70053,70052,70054,70052,70053,null,{"$f":"_xlfn.TEXTJOIN(\"^\",,H57:H66)","v":"70051^70051^70052^70054^70052^70051^70051"},null,1,70054,70053,70053,70054,70053,70054,70052,70053,null,null,null,{"$f":"_xlfn.TEXTJOIN(\"^\",,W57:W66)","v":"70052^70053^70053^70053^70052"}]
[null,null,3,70051,70052,70051,70053,70052,70051,70051,70052,null,70052,70053,null,{"$f":"_xlfn.TEXTJOIN(\"^\",,I57:I66)","v":"70052^70051^70051^70051^70052"},null,3,70051,70052,70051,70051,70053,null,70052,70053,null,null,null,{"$f":"_xlfn.TEXTJOIN(\"^\",,X57:X66)","v":"70051^70053^70054^70053^70051"}]
[null,null,5,null,70051,null,70051,null,70052,70053,70053,70051,null,70051,null,{"$f":"_xlfn.TEXTJOIN(\"^\",,J57:J66)","v":"70052^70052^70053^70051^70053^70051^70053^70054^70054"},null,5,null,70052,70051,70052,70052,70053,70052,70054,null,null,null,{"$f":"_xlfn.TEXTJOIN(\"^\",,Y57:Y66)","v":"70052^70052^70052^70052^70052"}]
[null,null,7,null,null,70052,null,70051,null,70054,null,70051,70051,70054,null,{"$f":"_xlfn.TEXTJOIN(\"^\",,K57:K66)","v":"70053^70052^70052^70052^70053"},null,7,{"$nulls":5},70051,{"$nulls":5},{"$f":"_xlfn.TEXTJOIN(\"^\",,Z57:Z66)","v":"70054^70053^70053^70053^70054"}]
[null,null,9,{"$nulls":4},70051,null,70054,null,70051,70051,null,null,{"$f":"_xlfn.TEXTJOIN(\"^\",,L57:L66)","v":"70051^70051^70051^70054^70051^70051^70051"},null,9,{"$nulls":11},{"$f":"_xlfn.TEXTJOIN(\"^\",,AA57:AA66)","v":""}]
[{"$nulls":15},{"$f":"_xlfn.TEXTJOIN(\"^\",,M57:M66)","v":"70051^70051^70052^70052^70052^70051^70051"},{"$nulls":13},{"$f":"_xlfn.TEXTJOIN(\"^\",,AB57:AB66)","v":""}]
[{"$nulls":15},{"$f":"_xlfn.TEXTJOIN(\"^\",,N57:N66)","v":"70054^70051^70053^70053^70053^70051^70054"},{"$nulls":13},{"$f":"_xlfn.TEXTJOIN(\"^\",,AC57:AC66)","v":""}]
[{"$nulls":14},"最终",{"$f":"_xlfn.TEXTJOIN(\"^\",,P57:P67)","v":"70051^70052^70051^70051^70052^70052^70051^70054^70051^70051^70051^70052^70051^70053^70052^70053^70051^70051^70051^70052^70054^70052^70051^70051^70052^70051^70051^70051^70052^70052^70052^70053^70051^70053^70051^70053^70054^70054^70053^70052^70052^70052^70053^70051^70051^70051^70054^70051^70051^70051^70051^70051^70052^70052^70052^70051^70051^70054^70051^70053^70053^70053^70051^70054"},{"$nulls":12},"最终",{"$f":"_xlfn.TEXTJOIN(\"^\",,AD57:AD67)","v":"70051^70054^70051^70052^70052^70053^70052^70052^70051^70051^70053^70051^70051^70052^70051^70054^70051^70052^70052^70053^70053^70053^70052^70051^70053^70054^70053^70051^70052^70052^70052^70052^70052^70054^70053^70053^70053^70054"}]
[null,null,8,{"$nulls":4},"树精",null,"毒蜘蛛",null,"树精","树精",{"$nulls":4},8]
[null,null,6,null,null,"木精灵",null,"树精",null,"毒蜘蛛",null,"树精","树精","木精灵",null,null,null,6,{"$nulls":5},"树精"]
[null,null,4,null,"树精",null,"树精",null,"毒蜘蛛","哥布林","哥布林","树精",null,"树精",null,null,null,4,null,"毒蜘蛛","树精","毒蜘蛛","毒蜘蛛","哥布林","毒蜘蛛","木精灵"]
[null,null,2,"树精","毒蜘蛛","树精","哥布林","毒蜘蛛","树精","树精","毒蜘蛛",null,"毒蜘蛛","哥布林",null,null,null,2,"树精","毒蜘蛛","树精","树精","哥布林",null,"毒蜘蛛","哥布林"]
[null,null,1,"毒蜘蛛",null,"树精","毒蜘蛛","木精灵","树精","哥布林","毒蜘蛛","木精灵","毒蜘蛛","哥布林",null,null,null,1,"木精灵","哥布林","哥布林","木精灵","哥布林","木精灵","毒蜘蛛","哥布林"]
[null,null,3,"树精","毒蜘蛛","树精","哥布林","毒蜘蛛","树精","树精","毒蜘蛛",null,"毒蜘蛛","哥布林",null,null,null,3,"树精","毒蜘蛛","树精","树精","哥布林",null,"毒蜘蛛","哥布林"]
[null,null,5,null,"树精",null,"树精",null,"毒蜘蛛","哥布林","哥布林","树精",null,"树精",null,null,null,5,null,"毒蜘蛛","树精","毒蜘蛛","毒蜘蛛","哥布林","毒蜘蛛","木精灵"]
[null,null,7,null,null,"毒蜘蛛",null,"树精",null,"木精灵",null,"树精","树精","木精灵",null,null,null,7,{"$nulls":5},"树精"]
[null,null,9,{"$nulls":4},"树精",null,"木精灵",null,"树精","树精",{"$nulls":4},9]
[]
[null,null,"位置",5,10,15,21,30,35,45,50,60,75,85,null,null,null,"位置",1,3,6,10,15,20,26,35,null,null,null,{"$f":"_xlfn.TEXTJOIN(\"^\",,S80:S88)","v":"2^1^3"}]
[null,null,8,{"$nulls":4},{"$f":"$C80","v":8},null,{"$f":"$C80","v":8},null,{"$f":"$C80","v":8},{"$f":"$C80","v":8},null,null,{"$f":"_xlfn.TEXTJOIN(\"^\",,D80:D89)","v":"2^1^3"},null,8,{"$nulls":11},{"$f":"_xlfn.TEXTJOIN(\"^\",,T80:T88)","v":"4^2^1^3^5"}]
[null,null,6,null,null,{"$f":"$C81","v":6},null,{"$f":"$C81","v":6},null,{"$f":"$C81","v":6},null,6,{"$f":"$C81","v":6},{"$f":"$C81","v":6},null,{"$f":"_xlfn.TEXTJOIN(\"^\",,E80:E89)","v":"4^2^3^5"},null,6,{"$nulls":5},{"$f":"$C81","v":6},{"$nulls":5},{"$f":"_xlfn.TEXTJOIN(\"^\",,U80:U88)","v":"4^2^1^3^5"}]
[null,null,4,null,{"$f":"$C82","v":4},null,{"$f":"$C82","v":4},null,{"$f":"$C82","v":4},4,{"$f":"$C82","v":4},4,null,4,null,{"$f":"_xlfn.TEXTJOIN(\"^\",,F80:F89)","v":"6^2^1^3^7"},null,4,null,{"$f":"$C82","v":4},{"$f":"$C82","v":4},4,4,{"$f":"$C82","v":4},{"$f":"$C82","v":4},{"$f":"$C82","v":4},null,null,null,{"$f":"_xlfn.TEXTJOIN(\"^\",,V80:V88)","v":"4^2^1^3^5"}]
[null,null,2,{"$f":"$C83","v":2},{"$f":"$C83","v":2},{"$f":"$C83","v":2},2,2,2,2,2,null,{"$f":"$C83","v":2},2,null,{"$f":"_xlfn.TEXTJOIN(\"^\",,G80:G89)","v":"4^2^1^3^5"},null,2,{"$f":"$C83","v":2},2,2,2,2,null,2,2,null,null,null,{"$f":"_xlfn.TEXTJOIN(\"^\",,W80:W88)","v":"4^2^1^3^5"}]
[null,null,1,1,null,{"$f":"$C84","v":1},1,1,1,1,1,{"$f":"$C84","v":1},1,1,null,{"$f":"_xlfn.TEXTJOIN(\"^\",,H80:H89)","v":"8^6^2^1^3^7^9"},null,1,1,1,{"$f":"$C84","v":1},1,1,{"$f":"$C84","v":1},1,{"$f":"$C84","v":1},null,null,null,{"$f":"_xlfn.TEXTJOIN(\"^\",,X80:X88)","v":"6^4^1^5^7"}]
[null,null,3,3,{"$f":"$C85","v":3},{"$f":"$C85","v":3},3,3,3,3,3,null,3,3,null,{"$f":"_xlfn.TEXTJOIN(\"^\",,I80:I89)","v":"4^2^1^3^5"},null,3,3,3,3,3,3,null,{"$f":"$C85","v":3},3,null,null,null,{"$f":"_xlfn.TEXTJOIN(\"^\",,Y80:Y88)","v":"4^2^1^3^5"}]
[null,null,5,null,{"$f":"$C86","v":5},null,5,null,5,5,5,5,null,5,null,{"$f":"_xlfn.TEXTJOIN(\"^\",,J80:J89)","v":"8^6^4^2^1^3^5^7^9"},null,5,null,{"$f":"$C86","v":5},{"$f":"$C86","v":5},5,5,{"$f":"$C86","v":5},5,{"$f":"$C86","v":5},null,null,null,{"$f":"_xlfn.TEXTJOIN(\"^\",,Z80:Z88)","v":"4^2^1^3^5"}]
[null,null,7,null,null,{"$f":"$C87","v":7},null,{"$f":"$C87","v":7},null,{"$f":"$C87","v":7},null,7,{"$f":"$C87","v":7},7,null,{"$f":"_xlfn.TEXTJOIN(\"^\",,K80:K89)","v":"4^2^1^3^5"},null,7,{"$nulls":5},7,{"$nulls":5},{"$f":"_xlfn.TEXTJOIN(\"^\",,AA80:AA88)","v":""}]
[null,null,9,{"$nulls":4},{"$f":"$C88","v":9},null,{"$f":"$C88","v":9},null,9,{"$f":"$C88","v":9},null,null,{"$f":"_xlfn.TEXTJOIN(\"^\",,L80:L89)","v":"8^6^4^1^5^7^9"},null,9,{"$nulls":11},{"$f":"_xlfn.TEXTJOIN(\"^\",,AB80:AB88)","v":""}]
[{"$nulls":15},{"$f":"_xlfn.TEXTJOIN(\"^\",,M80:M89)","v":"8^6^2^1^3^7^9"},{"$nulls":13},{"$f":"_xlfn.TEXTJOIN(\"^\",,AC80:AC88)","v":""}]
[{"$nulls":15},{"$f":"_xlfn.TEXTJOIN(\"^\",,N80:N89)","v":"6^4^2^1^3^5^7"},{"$nulls":12},"最终",{"$f":"_xlfn.TEXTJOIN(\"^\",,AD79:AD89)","v":"2^1^3^4^2^1^3^5^4^2^1^3^5^4^2^1^3^5^4^2^1^3^5^6^4^1^5^7^4^2^1^3^5^4^2^1^3^5"}]
[{"$nulls":14},"最终",{"$f":"_xlfn.TEXTJOIN(\"^\",,P80:P90)","v":"2^1^3^4^2^3^5^6^2^1^3^7^4^2^1^3^5^8^6^2^1^3^7^9^4^2^1^3^5^8^6^4^2^1^3^5^7^9^4^2^1^3^5^8^6^4^1^5^7^9^8^6^2^1^3^7^9^6^4^2^1^3^5^7"}]
[]
[null,null,"时间",5,10,15,21,30,35,45,50,60,75,85,null,null,null,"时间",1,3,6,10,15,20,26,35,null,null,null,{"$f":"_xlfn.TEXTJOIN(\"^\",,S94:S102)","v":"1^1^1"}]
[null,null,8,{"$nulls":4},{"$f":"H$93","v":30},null,{"$f":"J$93","v":45},null,{"$f":"L$93","v":60},{"$f":"M$93","v":75},null,null,{"$f":"_xlfn.TEXTJOIN(\"^\",,D94:D103)","v":"5^5^5"},null,8,{"$nulls":11},{"$f":"_xlfn.TEXTJOIN(\"^\",,T94:T102)","v":"3^3^3^3^3"}]
[null,null,6,null,null,{"$f":"F$93","v":15},null,{"$f":"H$93","v":30},null,{"$f":"J$93","v":45},null,60,{"$f":"M$93","v":75},{"$f":"N$93","v":85},null,{"$f":"_xlfn.TEXTJOIN(\"^\",,E94:E103)","v":"10^10^10^10"},null,6,{"$nulls":5},{"$f":"X$93","v":20},{"$nulls":5},{"$f":"_xlfn.TEXTJOIN(\"^\",,U94:U102)","v":"6^6^6^6^6"}]
[null,null,4,null,{"$f":"E$93","v":10},null,21,null,{"$f":"I$93","v":35},{"$f":"J$93","v":45},{"$f":"K$93","v":50},60,null,85,null,{"$f":"_xlfn.TEXTJOIN(\"^\",,F94:F103)","v":"15^15^15^15^15"},null,4,null,{"$f":"T$93","v":3},{"$f":"U$93","v":6},{"$f":"V$93","v":10},15,{"$f":"X$93","v":20},{"$f":"Y$93","v":26},{"$f":"Z$93","v":35},null,null,null,{"$f":"_xlfn.TEXTJOIN(\"^\",,V94:V102)","v":"10^10^10^10^10"}]
[null,null,2,{"$f":"D$93","v":5},{"$f":"E$93","v":10},{"$f":"F$93","v":15},21,30,35,45,50,null,{"$f":"M$93","v":75},85,null,{"$f":"_xlfn.TEXTJOIN(\"^\",,G94:G103)","v":"21^21^21^21^21"},null,2,{"$f":"S$93","v":1},3,6,10,15,null,26,25,null,null,null,{"$f":"_xlfn.TEXTJOIN(\"^\",,W94:W102)","v":"15^15^15^15^15"}]
[null,null,1,{"$f":"D$93","v":5},null,{"$f":"F$93","v":15},21,30,35,45,50,{"$f":"L$93","v":60},75,85,null,{"$f":"_xlfn.TEXTJOIN(\"^\",,H94:H103)","v":"30^30^30^30^30^30^30"},null,1,1,3,6,10,15,{"$f":"X$93","v":20},26,{"$f":"Z$93","v":35},null,null,null,{"$f":"_xlfn.TEXTJOIN(\"^\",,X94:X102)","v":"20^20^20^20^20"}]
[null,null,3,{"$f":"D$93","v":5},{"$f":"E$93","v":10},{"$f":"F$93","v":15},21,30,35,45,50,null,75,85,null,{"$f":"_xlfn.TEXTJOIN(\"^\",,I94:I103)","v":"35^35^35^35^35"},null,3,1,3,6,10,15,null,{"$f":"Y$93","v":26},25,null,null,null,{"$f":"_xlfn.TEXTJOIN(\"^\",,Y94:Y102)","v":"26^26^26^26^26"}]
[null,null,5,null,{"$f":"E$93","v":10},null,21,null,35,{"$f":"J$93","v":45},50,60,null,85,null,{"$f":"_xlfn.TEXTJOIN(\"^\",,J94:J103)","v":"45^45^45^45^45^45^45^45^45"},null,5,null,3,6,10,15,{"$f":"X$93","v":20},26,{"$f":"Z$93","v":35},null,null,null,{"$f":"_xlfn.TEXTJOIN(\"^\",,Z94:Z102)","v":"35^25^35^25^35"}]
[null,null,7,null,null,{"$f":"F$93","v":15},null,{"$f":"H$93","v":30},null,{"$f":"J$93","v":45},null,60,{"$f":"M$93","v":75},85,null,{"$f":"_xlfn.TEXTJOIN(\"^\",,K94:K103)","v":"50^50^50^50^50"},null,7,{"$nulls":5},{"$f":"X$93","v":20},{"$nulls":5},{"$f":"_xlfn.TEXTJOIN(\"^\",,AA94:AA102)","v":""}]
[null,null,9,{"$nulls":4},30,null,{"$f":"J$93","v":45},null,60,{"$f":"M$93","v":75},null,null,{"$f":"_xlfn.TEXTJOIN(\"^\",,L94:L103)","v":"60^60^60^60^60^60^60"},null,9,{"$nulls":11},{"$f":"_xlfn.TEXTJOIN(\"^\",,AB94:AB102)","v":""}]
[{"$nulls":15},{"$f":"_xlfn.TEXTJOIN(\"^\",,M94:M103)","v":"75^75^75^75^75^75^75"},{"$nulls":13},{"$f":"_xlfn.TEXTJOIN(\"^\",,AC94:AC102)","v":""}]
[{"$nulls":15},{"$f":"_xlfn.TEXTJOIN(\"^\",,N94:N103)","v":"85^85^85^85^85^85^85"},{"$nulls":12},"最终",{"$f":"_xlfn.TEXTJOIN(\"^\",,AD93:AD103)","v":"1^1^1^3^3^3^3^3^6^6^6^6^6^10^10^10^10^10^15^15^15^15^15^20^20^20^20^20^26^26^26^26^26^35^25^35^25^35"}]
[{"$nulls":14},"最终",{"$f":"_xlfn.TEXTJOIN(\"^\",,P94:P104)","v":"5^5^5^10^10^10^10^15^15^15^15^15^21^21^21^21^21^30^30^30^30^30^30^30^35^35^35^35^35^45^45^45^45^45^45^45^45^45^50^50^50^50^50^60^60^60^60^60^60^60^75^75^75^75^75^75^75^85^85^85^85^85^85^85"}]
[{"$nulls":15},{"$f":"COUNT(D94:N103)","v":64},{"$nulls":12},{"$f":"COUNT(S94:AA103)","v":38},{"$f":"P106+AC106","v":102}]
[]
[{"$nulls":4},{"$f":"E109-D109","v":3},{"$f":"F109-E109","v":4},{"$f":"G109-F109","v":6},8,10,10,10,10,5,10,{"$nulls":5},{"$f":"T109-S109","v":2},3,4,5,6,7,7,5]
[1,"密林-3","波1·怪物",4,7,11,17,25,35,45,55,65,70,80,null,null,3,"波2·怪物",1,3,6,10,15,21,28,35,40]
[null,"4m",8,{"$nulls":10},70064,null,{"$f":"_xlfn.TEXTJOIN(\"^\",,D110:D119)","v":"70061^70062^70062^70061"},null,8,{"$nulls":11},{"$f":"_xlfn.TEXTJOIN(\"^\",,S110:S119)","v":"70061^70062"}]
[null,null,6,null,70062,null,null,70064,null,70064,null,70062,null,null,null,{"$f":"_xlfn.TEXTJOIN(\"^\",,E110:E119)","v":"70062^70061^70064^70061^70062"},null,6,{"$nulls":11},{"$f":"_xlfn.TEXTJOIN(\"^\",,T110:T119)","v":"70062^70064"}]
[null,null,4,70061,70061,70061,70061,null,70061,70062,70062,70063,70062,null,null,{"$f":"_xlfn.TEXTJOIN(\"^\",,F110:F119)","v":"70061^70062^70062^70062^70061"},null,4,{"$nulls":11},{"$f":"_xlfn.TEXTJOIN(\"^\",,U110:U119)","v":"70061^70062^70063"}]
[null,null,2,70062,null,70062,70063,70062,70061,70063,70061,70061,70062,70063,null,{"$f":"_xlfn.TEXTJOIN(\"^\",,G110:G119)","v":"70061^70063^70063^70061"},null,2,{"$nulls":11},{"$f":"_xlfn.TEXTJOIN(\"^\",,V110:V119)","v":"70061^70063"}]
[null,null,1,null,70064,70062,null,70063,70061,null,70062,70064,null,70065,null,{"$f":"_xlfn.TEXTJOIN(\"^\",,H110:H119)","v":"70064^70062^70063^70062^70064"},null,1,70061,70062,70061,70061,70062,70061,70062,70061,70061,null,null,{"$f":"_xlfn.TEXTJOIN(\"^\",,W110:W119)","v":"70062^70064"}]
[null,null,3,70062,null,70062,70063,70062,70061,70063,70061,70061,70062,70063,null,{"$f":"_xlfn.TEXTJOIN(\"^\",,I110:I119)","v":"70061^70061^70061^70061^70061"},null,3,70062,70064,70062,70063,70064,70063,70064,70062,70062,null,null,{"$f":"_xlfn.TEXTJOIN(\"^\",,X110:X119)","v":"70061^70063"}]
[null,null,5,70061,70061,70061,70061,null,70061,70062,70062,70063,70062,null,null,{"$f":"_xlfn.TEXTJOIN(\"^\",,J110:J119)","v":"70064^70062^70063^70063^70062^70064"},null,5,null,null,70063,{"$nulls":5},70063,null,null,{"$f":"_xlfn.TEXTJOIN(\"^\",,Y110:Y119)","v":"70062^70064"}]
[null,null,7,null,70062,null,null,70064,null,70064,null,70062,null,null,null,{"$f":"_xlfn.TEXTJOIN(\"^\",,K110:K119)","v":"70062^70061^70062^70061^70062"},null,7,{"$nulls":11},{"$f":"_xlfn.TEXTJOIN(\"^\",,Z110:Z119)","v":"70061^70062"}]
[null,null,9,{"$nulls":10},70064,null,{"$f":"_xlfn.TEXTJOIN(\"^\",,L110:L119)","v":"70062^70063^70061^70064^70061^70063^70062"},null,9,{"$nulls":11},{"$f":"_xlfn.TEXTJOIN(\"^\",,AA110:AA119)","v":"70061^70062^70063"}]
[{"$nulls":15},{"$f":"_xlfn.TEXTJOIN(\"^\",,M110:M119)","v":"70062^70062^70062^70062"},{"$nulls":13},{"$f":"_xlfn.TEXTJOIN(\"^\",,AB110:AB119)","v":""}]
[{"$nulls":15},{"$f":"_xlfn.TEXTJOIN(\"^\",,N110:N119)","v":"70064^70063^70065^70063^70064"},{"$nulls":13},{"$f":"_xlfn.TEXTJOIN(\"^\",,AC110:AC119)","v":""}]
[{"$nulls":14},"最终",{"$f":"_xlfn.TEXTJOIN(\"^\",,P110:P120)","v":"70061^70062^70062^70061^70062^70061^70064^70061^70062^70061^70062^70062^70062^70061^70061^70063^70063^70061^70064^70062^70063^70062^70064^70061^70061^70061^70061^70061^70064^70062^70063^70063^70062^70064^70062^70061^70062^70061^70062^70062^70063^70061^70064^70061^70063^70062^70062^70062^70062^70062^70064^70063^70065^70063^70064"},{"$nulls":12},"最终",{"$f":"_xlfn.TEXTJOIN(\"|\",,AD110:AD120)","v":"70061^70062|70062^70064|70061^70062^70063|70061^70063|70062^70064|70061^70063|70062^70064|70061^70062|70061^70062^70063"}]
[null,null,8,{"$nulls":10},"木精灵",null,null,null,8]
[null,null,6,null,"毒蜘蛛",null,null,"木精灵",null,"木精灵",null,"毒蜘蛛",{"$nulls":5},6]
[null,null,4,"树精","树精","树精","树精",null,"树精","毒蜘蛛","毒蜘蛛","哥布林","毒蜘蛛",{"$nulls":4},4]
[null,null,2,"毒蜘蛛",null,"毒蜘蛛","哥布林","毒蜘蛛","树精","哥布林","树精","树精","毒蜘蛛","哥布林",null,112,null,2]
[null,null,1,null,"木精灵","毒蜘蛛",null,"哥布林","树精",null,"毒蜘蛛","木精灵",null,"森林巨兽",null,{"$f":"P125*6","v":672},784,1,"树精","毒蜘蛛","树精","树精","毒蜘蛛","树精","毒蜘蛛","树精","树精"]
[null,null,3,"毒蜘蛛",null,"毒蜘蛛","哥布林","毒蜘蛛","树精","哥布林","树精","树精","毒蜘蛛","哥布林",null,null,null,3,"毒蜘蛛","木精灵","毒蜘蛛","哥布林","木精灵","哥布林","木精灵","毒蜘蛛","毒蜘蛛"]
[null,null,5,"树精","树精","树精","树精",null,"树精","毒蜘蛛","毒蜘蛛","哥布林","毒蜘蛛",{"$nulls":4},5,null,null,"哥布林",{"$nulls":5},"哥布林"]
[null,null,7,null,"毒蜘蛛",null,null,"木精灵",null,"木精灵",null,"毒蜘蛛",{"$nulls":5},7]
[null,null,9,{"$nulls":10},"木精灵",null,null,null,9]
[]
[null,null,"位置",4,7,11,17,25,35,45,55,65,70,80,null,null,null,"位置",1,3,6,10,15,20,30,45,65,null,null,{"$f":"_xlfn.TEXTJOIN(\"^\",,S133:S141)","v":"0^0"}]
[null,null,8,{"$nulls":10},{"$f":"$C133","v":8},null,{"$f":"_xlfn.TEXTJOIN(\"^\",,D133:D142)","v":"4^2^3^5"},null,8,{"$nulls":11},{"$f":"_xlfn.TEXTJOIN(\"^\",,T133:T141)","v":"0^0"}]
[null,null,6,null,{"$f":"$C134","v":6},null,null,{"$f":"$C134","v":6},null,{"$f":"$C134","v":6},null,{"$f":"$C134","v":6},null,null,null,{"$f":"_xlfn.TEXTJOIN(\"^\",,E133:E142)","v":"6^4^1^5^7"},null,6,{"$nulls":11},{"$f":"_xlfn.TEXTJOIN(\"^\",,U133:U141)","v":"0^0^0"}]
[null,null,4,{"$f":"$C135","v":4},4,4,4,null,{"$f":"$C135","v":4},4,4,4,{"$f":"$C135","v":4},null,null,{"$f":"_xlfn.TEXTJOIN(\"^\",,F133:F142)","v":"4^2^1^3^5"},null,4,{"$nulls":11},{"$f":"_xlfn.TEXTJOIN(\"^\",,V133:V141)","v":"0^0"}]
[null,null,2,2,null,2,2,2,2,2,2,2,2,2,null,{"$f":"_xlfn.TEXTJOIN(\"^\",,G133:G142)","v":"4^2^3^5"},null,2,{"$nulls":11},{"$f":"_xlfn.TEXTJOIN(\"^\",,W133:W141)","v":"0^0"}]
[null,null,1,null,{"$f":"$C137","v":1},1,null,1,1,null,1,1,null,1,null,{"$f":"_xlfn.TEXTJOIN(\"^\",,H133:H142)","v":"6^2^1^3^7"},null,1,0,0,0,0,0,0,0,0,0,null,null,{"$f":"_xlfn.TEXTJOIN(\"^\",,X133:X141)","v":"0^0"}]
[null,null,3,{"$f":"$C138","v":3},null,{"$f":"$C138","v":3},3,3,3,3,3,3,3,3,null,{"$f":"_xlfn.TEXTJOIN(\"^\",,I133:I142)","v":"4^2^1^3^5"},null,3,0,0,0,0,0,0,0,0,0,null,null,{"$f":"_xlfn.TEXTJOIN(\"^\",,Y133:Y141)","v":"0^0"}]
[null,null,5,5,{"$f":"$C139","v":5},5,5,null,5,5,5,5,5,null,null,{"$f":"_xlfn.TEXTJOIN(\"^\",,J133:J142)","v":"6^4^2^3^5^7"},null,5,null,null,0,{"$nulls":5},0,null,null,{"$f":"_xlfn.TEXTJOIN(\"^\",,Z133:Z141)","v":"0^0"}]
[null,null,7,null,7,null,null,{"$f":"$C140","v":7},null,{"$f":"$C140","v":7},null,{"$f":"$C140","v":7},null,null,null,{"$f":"_xlfn.TEXTJOIN(\"^\",,K133:K142)","v":"4^2^1^3^5"},null,7,{"$nulls":11},{"$f":"_xlfn.TEXTJOIN(\"^\",,AA133:AA141)","v":"0^0^0"}]
[null,null,9,{"$nulls":10},9,null,{"$f":"_xlfn.TEXTJOIN(\"^\",,L133:L142)","v":"6^4^2^1^3^5^7"},null,9,{"$nulls":11},{"$f":"_xlfn.TEXTJOIN(\"^\",,AB133:AB141)","v":""}]
[{"$nulls":15},{"$f":"_xlfn.TEXTJOIN(\"^\",,M133:M142)","v":"4^2^3^5"},{"$nulls":13},{"$f":"_xlfn.TEXTJOIN(\"^\",,AC133:AC141)","v":""}]
[{"$nulls":15},{"$f":"_xlfn.TEXTJOIN(\"^\",,N133:N142)","v":"8^2^1^3^9"},{"$nulls":12},"最终",{"$f":"_xlfn.TEXTJOIN(\"|\",,AD132:AD142)","v":"0^0|0^0|0^0^0|0^0|0^0|0^0|0^0|0^0|0^0^0"}]
[{"$nulls":14},"最终",{"$f":"_xlfn.TEXTJOIN(\"^\",,P133:P143)","v":"4^2^3^5^6^4^1^5^7^4^2^1^3^5^4^2^3^5^6^2^1^3^7^4^2^1^3^5^6^4^2^3^5^7^4^2^1^3^5^6^4^2^1^3^5^7^4^2^3^5^8^2^1^3^9"}]
[]
[null,null,"时间",4,7,11,17,25,35,45,55,65,70,80,null,null,null,"时间",1,3,6,10,15,20,30,45,65,null,null,{"$f":"_xlfn.TEXTJOIN(\"^\",,S147:S155)","v":"15^4"}]
[null,null,8,{"$nulls":10},{"$f":"N$146","v":80},null,{"$f":"_xlfn.TEXTJOIN(\"^\",,D147:D156)","v":"4^4^4^4"},null,8,{"$nulls":11},{"$f":"_xlfn.TEXTJOIN(\"^\",,T147:T155)","v":"7^3"}]
[null,null,6,null,{"$f":"E$146","v":7},null,null,{"$f":"H$146","v":25},null,{"$f":"J$146","v":45},null,{"$f":"L$146","v":65},null,null,null,{"$f":"_xlfn.TEXTJOIN(\"^\",,E147:E156)","v":"7^7^7^7^7"},null,6,{"$nulls":11},{"$f":"_xlfn.TEXTJOIN(\"^\",,U147:U155)","v":"6^4^3"}]
[null,null,4,{"$f":"D$146","v":4},{"$f":"E$146","v":7},{"$f":"F$146","v":11},17,null,{"$f":"I$146","v":35},45,{"$f":"K$146","v":55},65,{"$f":"M$146","v":70},null,null,{"$f":"_xlfn.TEXTJOIN(\"^\",,F147:F156)","v":"11^11^11^11^11"},null,4,{"$nulls":11},{"$f":"_xlfn.TEXTJOIN(\"^\",,V147:V155)","v":"8^3"}]
[null,null,2,{"$f":"D$146","v":4},null,11,17,25,35,45,55,65,70,80,null,{"$f":"_xlfn.TEXTJOIN(\"^\",,G147:G156)","v":"17^17^17^17"},null,2,{"$nulls":11},{"$f":"_xlfn.TEXTJOIN(\"^\",,W147:W155)","v":"7^3"}]
[null,null,1,null,{"$f":"E$146","v":7},11,null,25,35,null,55,65,null,80,null,{"$f":"_xlfn.TEXTJOIN(\"^\",,H147:H156)","v":"25^25^25^25^25"},null,1,15,7,6,8,7,10,6,12,10,null,null,{"$f":"_xlfn.TEXTJOIN(\"^\",,X147:X155)","v":"10^3"}]
[null,null,3,{"$f":"D$146","v":4},null,{"$f":"F$146","v":11},17,25,35,45,55,65,70,80,null,{"$f":"_xlfn.TEXTJOIN(\"^\",,I147:I156)","v":"35^35^35^35^35"},null,3,4,3,4,3,3,3,2,2,3,null,null,{"$f":"_xlfn.TEXTJOIN(\"^\",,Y147:Y155)","v":"6^2"}]
[null,null,5,{"$f":"D$146","v":4},{"$f":"E$146","v":7},11,17,null,35,45,55,65,70,null,null,{"$f":"_xlfn.TEXTJOIN(\"^\",,J147:J156)","v":"45^45^45^45^45^45"},null,5,null,null,3,{"$nulls":5},3,null,null,{"$f":"_xlfn.TEXTJOIN(\"^\",,Z147:Z155)","v":"12^2"}]
[null,null,7,null,{"$f":"E$146","v":7},null,null,{"$f":"H$146","v":25},null,{"$f":"J$146","v":45},null,{"$f":"L$146","v":65},null,null,null,{"$f":"_xlfn.TEXTJOIN(\"^\",,K147:K156)","v":"55^55^55^55^55"},null,7,{"$nulls":11},{"$f":"_xlfn.TEXTJOIN(\"^\",,AA147:AA155)","v":"10^3^3"}]
[null,null,9,{"$nulls":10},{"$f":"N$146","v":80},null,{"$f":"_xlfn.TEXTJOIN(\"^\",,L147:L156)","v":"65^65^65^65^65^65^65"},null,9,{"$nulls":11},{"$f":"_xlfn.TEXTJOIN(\"^\",,AB147:AB155)","v":""}]
[{"$nulls":15},{"$f":"_xlfn.TEXTJOIN(\"^\",,M147:M156)","v":"70^70^70^70"},{"$nulls":13},{"$f":"_xlfn.TEXTJOIN(\"^\",,AC147:AC155)","v":""}]
[{"$nulls":15},{"$f":"_xlfn.TEXTJOIN(\"^\",,N147:N156)","v":"80^80^80^80^80"},{"$nulls":12},"最终",{"$f":"_xlfn.TEXTJOIN(\"|\",,AD146:AD156)","v":"15^4|7^3|6^4^3|8^3|7^3|10^3|6^2|12^2|10^3^3"}]
[{"$nulls":14},"最终",{"$f":"_xlfn.TEXTJOIN(\"^\",,P147:P157)","v":"4^4^4^4^7^7^7^7^7^11^11^11^11^11^17^17^17^17^25^25^25^25^25^35^35^35^35^35^45^45^45^45^45^45^55^55^55^55^55^65^65^65^65^65^65^65^70^70^70^70^80^80^80^80^80"}]
[{"$nulls":15},{"$f":"COUNT(D147:N156)","v":55},{"$nulls":12},{"$f":"SUM(S147:AA156)","v":114},{"$f":"P159+AC159","v":169}]

{"sheet":"3","index":3,"n_rows":167,"n_cols":30,"rows_kept":167,"cut":false,"hidden":false,"merged":[]}
[]
[{"$nulls":4},{"$f":"E3-D3","v":12},{"$f":"F3-E3","v":14},15,16,17,17,18,18,19,18,{"$nulls":5},{"$f":"T3-S3","v":2},4,5,6,10,10,15,15,20]
[3,"雪原-1","波1·怪物",6,18,32,47,63,80,97,115,133,152,170,null,null,3,"波2·怪物",3,5,9,14,20,30,40,55,70,90]
[null,"4.5m",8,{"$nulls":12},{"$f":"_xlfn.TEXTJOIN(\"^\",,D4:D13)","v":"70071"},null,8,{"$nulls":11},{"$f":"_xlfn.TEXTJOIN(\"^\",,S4:S13)","v":"70071^70074"}]
[null,null,6,{"$nulls":12},{"$f":"_xlfn.TEXTJOIN(\"^\",,E4:E13)","v":"70074^70072"},null,6,{"$nulls":11},{"$f":"_xlfn.TEXTJOIN(\"^\",,T4:T13)","v":"70072^70071"}]
[null,null,4,{"$nulls":12},{"$f":"_xlfn.TEXTJOIN(\"^\",,F4:F13)","v":"70071^70072"},null,4,{"$nulls":11},{"$f":"_xlfn.TEXTJOIN(\"^\",,U4:U13)","v":"70073^70072"}]
[null,null,2,{"$nulls":12},{"$f":"_xlfn.TEXTJOIN(\"^\",,G4:G13)","v":"70073^70071^70074"},null,2,{"$nulls":11},{"$f":"_xlfn.TEXTJOIN(\"^\",,V4:V13)","v":"70071^70072"}]
[null,null,1,70071,70074,70071,70073,70071,70074,70071,70073,70072,70071,70074,null,{"$f":"_xlfn.TEXTJOIN(\"^\",,H4:H13)","v":"70071^70072"},null,1,70071,70072,70073,70071,70073,70074,70072,70071,70072,70072,null,{"$f":"_xlfn.TEXTJOIN(\"^\",,W4:W13)","v":"70073^70074^70071"}]
[null,null,3,null,70072,70072,70071,70072,70073,70072,70071,70071,70072,70073,null,{"$f":"_xlfn.TEXTJOIN(\"^\",,I4:I13)","v":"70074^70073^70072"},null,3,70074,70071,70072,70072,70074,70071,70071,70074,70073,70071,null,{"$f":"_xlfn.TEXTJOIN(\"^\",,X4:X13)","v":"70074^70071^70072"}]
[null,null,5,null,null,null,70074,null,70072,null,70072,70074,null,70072,null,{"$f":"_xlfn.TEXTJOIN(\"^\",,J4:J13)","v":"70071^70072"},null,5,{"$nulls":4},70071,70072,null,70072,null,70074,null,{"$f":"_xlfn.TEXTJOIN(\"^\",,Y4:Y13)","v":"70072^70071"}]
[null,null,7,{"$nulls":12},{"$f":"_xlfn.TEXTJOIN(\"^\",,K4:K13)","v":"70073^70071^70072"},null,7,{"$nulls":11},{"$f":"_xlfn.TEXTJOIN(\"^\",,Z4:Z13)","v":"70071^70074^70072"}]
[null,null,9,{"$nulls":12},{"$f":"_xlfn.TEXTJOIN(\"^\",,L4:L13)","v":"70072^70071^70074"},null,9,{"$nulls":11},{"$f":"_xlfn.TEXTJOIN(\"^\",,AA4:AA13)","v":"70072^70073"}]
[{"$nulls":15},{"$f":"_xlfn.TEXTJOIN(\"^\",,M4:M13)","v":"70071^70072"},{"$nulls":13},{"$f":"_xlfn.TEXTJOIN(\"^\",,AB4:AB13)","v":"70072^70071^70074"}]
[{"$nulls":15},{"$f":"_xlfn.TEXTJOIN(\"^\",,N4:N13)","v":"70074^70073^70072"},{"$nulls":13},{"$f":"_xlfn.TEXTJOIN(\"^\",,AC4:AC13)","v":""}]
[{"$nulls":14},"最终",{"$f":"_xlfn.TEXTJOIN(\"|\",,P4:P14)","v":"70071|70074^70072|70071^70072|70073^70071^70074|70071^70072|70074^70073^70072|70071^70072|70073^70071^70072|70072^70071^70074|70071^70072|70074^70073^70072"},{"$nulls":12},"最终",{"$f":"_xlfn.TEXTJOIN(\"|\",,AD4:AD14)","v":"70071^70074|70072^70071|70073^70072|70071^70072|70073^70074^70071|70074^70071^70072|70072^70071|70071^70074^70072|70072^70073|70072^70071^70074"}]
[null,null,8,{"$nulls":14},8]
[null,null,6,{"$nulls":14},6]
[null,null,4,{"$nulls":14},4]
[null,null,2,{"$nulls":14},2]
[null,null,1,"雪怪","木精灵","雪怪","雪原熊","雪怪","木精灵","雪怪","雪原熊","独角兽","雪怪","木精灵",null,null,null,1,"雪怪","独角兽","雪原熊","雪怪","雪原熊","木精灵","独角兽","雪怪","独角兽","独角兽"]
[null,null,3,null,"独角兽","独角兽","雪怪","独角兽","雪原熊","独角兽","雪怪","雪怪","独角兽","雪原熊",null,null,null,3,"木精灵","雪怪","独角兽","独角兽","木精灵","雪怪","雪怪","木精灵","雪原熊","雪怪"]
[null,null,5,null,null,null,"木精灵",null,"独角兽",null,"独角兽","木精灵",null,"独角兽",null,null,null,5,{"$nulls":4},"雪怪","独角兽",null,"独角兽",null,"木精灵"]
[null,null,7,{"$nulls":14},7]
[null,null,9,{"$nulls":14},9]
[]
[null,null,"位置",6,18,32,47,63,80,97,115,133,152,170,null,null,null,"位置",3,5,9,14,20,30,40,55,70,90,null,{"$f":"_xlfn.TEXTJOIN(\"^\",,S27:S35)","v":"0^0"}]
[null,null,8,{"$nulls":12},{"$f":"_xlfn.TEXTJOIN(\"^\",,D27:D36)","v":"0"},null,8,{"$nulls":11},{"$f":"_xlfn.TEXTJOIN(\"^\",,T27:T35)","v":"0^0"}]
[null,null,6,{"$nulls":12},{"$f":"_xlfn.TEXTJOIN(\"^\",,E27:E36)","v":"0^0"},null,6,{"$nulls":11},{"$f":"_xlfn.TEXTJOIN(\"^\",,U27:U35)","v":"0^0"}]
[null,null,4,{"$nulls":12},{"$f":"_xlfn.TEXTJOIN(\"^\",,F27:F36)","v":"0^0"},null,4,{"$nulls":11},{"$f":"_xlfn.TEXTJOIN(\"^\",,V27:V35)","v":"0^0"}]
[null,null,2,{"$nulls":12},{"$f":"_xlfn.TEXTJOIN(\"^\",,G27:G36)","v":"0^0^0"},null,2,{"$nulls":11},{"$f":"_xlfn.TEXTJOIN(\"^\",,W27:W35)","v":"0^0^0"}]
[null,null,1,0,0,0,0,0,0,0,0,0,0,0,null,{"$f":"_xlfn.TEXTJOIN(\"^\",,H27:H36)","v":"0^0"},null,1,0,0,0,0,0,0,0,0,0,0,null,{"$f":"_xlfn.TEXTJOIN(\"^\",,X27:X35)","v":"0^0^0"}]
[null,null,3,null,0,0,0,0,0,0,0,0,0,0,null,{"$f":"_xlfn.TEXTJOIN(\"^\",,I27:I36)","v":"0^0^0"},null,3,0,0,0,0,0,0,0,0,0,0,null,{"$f":"_xlfn.TEXTJOIN(\"^\",,Y27:Y35)","v":"0^0"}]
[null,null,5,null,null,null,0,null,0,null,0,0,null,0,null,{"$f":"_xlfn.TEXTJOIN(\"^\",,J27:J36)","v":"0^0"},null,5,{"$nulls":4},0,0,null,0,null,0,null,{"$f":"_xlfn.TEXTJOIN(\"^\",,Z27:Z35)","v":"0^0^0"}]
[null,null,7,{"$nulls":12},{"$f":"_xlfn.TEXTJOIN(\"^\",,K27:K36)","v":"0^0^0"},null,7,{"$nulls":11},{"$f":"_xlfn.TEXTJOIN(\"^\",,AA27:AA35)","v":"0^0"}]
[null,null,9,{"$nulls":12},{"$f":"_xlfn.TEXTJOIN(\"^\",,L27:L36)","v":"0^0^0"},null,9,{"$nulls":11},{"$f":"_xlfn.TEXTJOIN(\"^\",,AB27:AB35)","v":"0^0^0"}]
[{"$nulls":15},{"$f":"_xlfn.TEXTJOIN(\"^\",,M27:M36)","v":"0^0"},{"$nulls":13},{"$f":"_xlfn.TEXTJOIN(\"^\",,AC27:AC35)","v":""}]
[{"$nulls":15},{"$f":"_xlfn.TEXTJOIN(\"^\",,N27:N36)","v":"0^0^0"},{"$nulls":12},"最终",{"$f":"_xlfn.TEXTJOIN(\"|\",,AD26:AD36)","v":"0^0|0^0|0^0|0^0|0^0^0|0^0^0|0^0|0^0^0|0^0|0^0^0"}]
[{"$nulls":14},"最终",{"$f":"_xlfn.TEXTJOIN(\"|\",,P27:P37)","v":"0|0^0|0^0|0^0^0|0^0|0^0^0|0^0|0^0^0|0^0^0|0^0|0^0^0"}]
[]
[null,null,"时间",6,18,32,47,63,80,97,115,133,152,170,null,null,null,"时间",3,5,9,14,20,30,40,55,70,90,null,{"$f":"_xlfn.TEXTJOIN(\"^\",,S41:S49)","v":"20^4"}]
[null,null,8,{"$nulls":12},{"$f":"_xlfn.TEXTJOIN(\"^\",,D41:D50)","v":"6"},null,8,{"$nulls":11},{"$f":"_xlfn.TEXTJOIN(\"^\",,T41:T49)","v":"6^6"}]
[null,null,6,{"$nulls":12},{"$f":"_xlfn.TEXTJOIN(\"^\",,E41:E50)","v":"3^4"},null,6,{"$nulls":11},{"$f":"_xlfn.TEXTJOIN(\"^\",,U41:U49)","v":"4^6"}]
[null,null,4,{"$nulls":12},{"$f":"_xlfn.TEXTJOIN(\"^\",,F41:F50)","v":"7^3"},null,4,{"$nulls":11},{"$f":"_xlfn.TEXTJOIN(\"^\",,V41:V49)","v":"8^3"}]
[null,null,2,{"$nulls":12},{"$f":"_xlfn.TEXTJOIN(\"^\",,G41:G50)","v":"2^8^2"},null,2,{"$nulls":11},{"$f":"_xlfn.TEXTJOIN(\"^\",,W41:W49)","v":"4^2^7"}]
[null,null,1,6,3,7,2,8,2,8,2,3,7,2,null,{"$f":"_xlfn.TEXTJOIN(\"^\",,H41:H50)","v":"8^3"},null,1,20,6,4,8,4,2,4,8,6,4,null,{"$f":"_xlfn.TEXTJOIN(\"^\",,X41:X49)","v":"2^7^4"}]
[null,null,3,null,4,3,8,3,3,3,7,7,4,3,null,{"$f":"_xlfn.TEXTJOIN(\"^\",,I41:I50)","v":"2^3^4"},null,3,4,6,6,3,2,7,9,2,4,7,null,{"$f":"_xlfn.TEXTJOIN(\"^\",,Y41:Y49)","v":"4^9"}]
[null,null,5,null,null,null,2,null,4,null,3,2,null,4,null,{"$f":"_xlfn.TEXTJOIN(\"^\",,J41:J50)","v":"8^3"},null,5,{"$nulls":4},7,4,null,4,null,2,null,{"$f":"_xlfn.TEXTJOIN(\"^\",,Z41:Z49)","v":"8^2^4"}]
[null,null,7,{"$nulls":12},{"$f":"_xlfn.TEXTJOIN(\"^\",,K41:K50)","v":"2^7^3"},null,7,{"$nulls":11},{"$f":"_xlfn.TEXTJOIN(\"^\",,AA41:AA49)","v":"6^4"}]
[null,null,9,{"$nulls":12},{"$f":"_xlfn.TEXTJOIN(\"^\",,L41:L50)","v":"3^7^2"},null,9,{"$nulls":11},{"$f":"_xlfn.TEXTJOIN(\"^\",,AB41:AB49)","v":"4^7^2"}]
[{"$nulls":15},{"$f":"_xlfn.TEXTJOIN(\"^\",,M41:M50)","v":"7^4"},{"$nulls":13},{"$f":"_xlfn.TEXTJOIN(\"^\",,AC41:AC49)","v":""}]
[{"$nulls":15},{"$f":"_xlfn.TEXTJOIN(\"^\",,N41:N50)","v":"2^3^4"},{"$nulls":12},"最终",{"$f":"_xlfn.TEXTJOIN(\"|\",,AD40:AD50)","v":"20^4|6^6|4^6|8^3|4^2^7|2^7^4|4^9|8^2^4|6^4|4^7^2"}]
[{"$nulls":14},"最终",{"$f":"_xlfn.TEXTJOIN(\"|\",,P41:P51)","v":"6|3^4|7^3|2^8^2|8^3|2^3^4|8^3|2^7^3|3^7^2|7^4|2^3^4"}]
[{"$nulls":14},{"$f":"SUM(D41:N50)","v":110},{"$nulls":13},{"$f":"SUM(S41:AB50)","v":133},{"$f":"O53+AC53","v":243}]
[]
[{"$nulls":4},{"$f":"E56-D56","v":12},{"$f":"F56-E56","v":15},15,3,15,15,18,7,11,19,{"$nulls":5},{"$f":"T56-S56","v":3},5,10,15,15,17,18,20,15]
[3,"雪原-2","波1·怪物",5,17,32,47,50,65,80,98,105,116,135,null,null,3,"波2·怪物",2,5,10,20,35,50,67,85,105,120]
[null,"4.5m",8,{"$nulls":12},{"$f":"_xlfn.TEXTJOIN(\"^\",,D57:D66)","v":"70084^70081"},null,8,{"$nulls":11},{"$f":"_xlfn.TEXTJOIN(\"^\",,S57:S66)","v":"70081^70082"}]
[null,null,6,{"$nulls":12},{"$f":"_xlfn.TEXTJOIN(\"^\",,E57:E66)","v":"70081^70082"},null,6,{"$nulls":11},{"$f":"_xlfn.TEXTJOIN(\"^\",,T57:T66)","v":"70085^70082^70086"}]
[null,null,4,{"$nulls":12},{"$f":"_xlfn.TEXTJOIN(\"^\",,F57:F66)","v":"70083^70081^70082"},null,4,{"$nulls":11},{"$f":"_xlfn.TEXTJOIN(\"^\",,U57:U66)","v":"70083^70081"}]
[null,null,2,{"$nulls":12},{"$f":"_xlfn.TEXTJOIN(\"^\",,G57:G66)","v":"70083^70082"},null,2,{"$nulls":11},{"$f":"_xlfn.TEXTJOIN(\"^\",,V57:V66)","v":"70081^70082"}]
[null,null,1,70084,70081,70083,70083,70085,70082,70082,70083,70085,70081,70083,null,{"$f":"_xlfn.TEXTJOIN(\"^\",,H57:H66)","v":"70085"},null,1,70081,70085,70083,70081,70083,70082,70083,70081,70082,70084,null,{"$f":"_xlfn.TEXTJOIN(\"^\",,W57:W66)","v":"70083^70084^70081"}]
[null,null,3,70081,70082,70081,70082,null,70081,70081,70084,null,70082,70082,null,{"$f":"_xlfn.TEXTJOIN(\"^\",,I57:I66)","v":"70082^70081^70084"},null,3,70082,70082,70081,70082,70084,70081,70082,70084,70081,70081,null,{"$f":"_xlfn.TEXTJOIN(\"^\",,X57:X66)","v":"70082^70081"}]
[null,null,5,null,null,70082,null,null,70084,null,70082,null,null,70084,null,{"$f":"_xlfn.TEXTJOIN(\"^\",,J57:J66)","v":"70082^70081"},null,5,null,70086,null,null,70081,{"$nulls":4},70083,null,{"$f":"_xlfn.TEXTJOIN(\"^\",,Y57:Y66)","v":"70083^70082"}]
[null,null,7,{"$nulls":12},{"$f":"_xlfn.TEXTJOIN(\"^\",,K57:K66)","v":"70083^70084^70082"},null,7,{"$nulls":9},70082,null,{"$f":"_xlfn.TEXTJOIN(\"^\",,Z57:Z66)","v":"70081^70084"}]
[null,null,9,{"$nulls":12},{"$f":"_xlfn.TEXTJOIN(\"^\",,L57:L66)","v":"70085"},null,9,{"$nulls":11},{"$f":"_xlfn.TEXTJOIN(\"^\",,AA57:AA66)","v":"70082^70081"}]
[{"$nulls":15},{"$f":"_xlfn.TEXTJOIN(\"^\",,M57:M66)","v":"70081^70082"},{"$nulls":13},{"$f":"_xlfn.TEXTJOIN(\"^\",,AB57:AB66)","v":"70084^70081^70083^70082"}]
[{"$nulls":15},{"$f":"_xlfn.TEXTJOIN(\"^\",,N57:N66)","v":"70083^70082^70084"},{"$nulls":13},{"$f":"_xlfn.TEXTJOIN(\"^\",,AC57:AC66)","v":""}]
[{"$nulls":14},"最终",{"$f":"_xlfn.TEXTJOIN(\"|\",,P57:P67)","v":"70084^70081|70081^70082|70083^70081^70082|70083^70082|70085|70082^70081^70084|70082^70081|70083^70084^70082|70085|70081^70082|70083^70082^70084"},{"$nulls":12},"最终",{"$f":"_xlfn.TEXTJOIN(\"|\",,AD57:AD67)","v":"70081^70082|70085^70082^70086|70083^70081|70081^70082|70083^70084^70081|70082^70081|70083^70082|70081^70084|70082^70081|70084^70081^70083^70082"}]
[null,null,8,{"$nulls":14},8]
[null,null,6,{"$nulls":14},6]
[null,null,4,{"$nulls":14},4]
[null,null,2,{"$nulls":14},2]
[null,null,1,"木精灵","雪怪","雪原熊","雪原熊","雪山蜘蛛","独角兽","独角兽","雪原熊","雪山蜘蛛","雪怪","雪原熊",null,null,null,1,"雪怪","雪山蜘蛛","雪原熊","雪怪","雪原熊","独角兽","雪原熊","雪怪","独角兽","木精灵"]
[null,null,3,"雪怪","独角兽","雪怪","独角兽",null,"雪怪","雪怪","木精灵",null,"独角兽","独角兽",null,null,null,3,"独角兽","独角兽","雪怪","独角兽","木精灵","雪怪","独角兽","木精灵","雪怪","雪怪"]
[null,null,5,null,null,"独角兽",null,null,"木精灵",null,"独角兽",null,null,"木精灵",null,null,null,5,null,"森林祭祀",null,null,"雪怪",{"$nulls":4},"雪原熊"]
[null,null,7,{"$nulls":14},7,{"$nulls":9},"独角兽"]
[null,null,9,{"$nulls":14},9]
[]
[null,null,"位置",5,17,32,47,50,65,80,98,105,116,135,null,null,null,"位置",2,5,10,20,35,50,67,85,105,120,null,{"$f":"_xlfn.TEXTJOIN(\"^\",,S80:S94)","v":"0^0"}]
[null,null,8,{"$nulls":12},{"$f":"_xlfn.TEXTJOIN(\"^\",,D80:D94)","v":"0^0"},null,8,{"$nulls":11},{"$f":"_xlfn.TEXTJOIN(\"^\",,T80:T94)","v":"100^0^0"}]
[null,null,6,{"$nulls":12},{"$f":"_xlfn.TEXTJOIN(\"^\",,E80:E94)","v":"0^0"},null,6,{"$nulls":11},{"$f":"_xlfn.TEXTJOIN(\"^\",,U80:U94)","v":"0^0"}]
[null,null,4,{"$nulls":12},{"$f":"_xlfn.TEXTJOIN(\"^\",,F80:F94)","v":"0^0^0"},null,4,{"$nulls":11},{"$f":"_xlfn.TEXTJOIN(\"^\",,V80:V94)","v":"0^0"}]
[null,null,2,{"$nulls":12},{"$f":"_xlfn.TEXTJOIN(\"^\",,G80:G94)","v":"0^0"},null,2,{"$nulls":11},{"$f":"_xlfn.TEXTJOIN(\"^\",,W80:W94)","v":"0^0^0"}]
[null,null,1,0,0,0,0,100,0,0,0,100,0,0,null,{"$f":"_xlfn.TEXTJOIN(\"^\",,H80:H94)","v":"100"},null,1,0,100,0,0,0,0,0,0,0,0,null,{"$f":"_xlfn.TEXTJOIN(\"^\",,X80:X94)","v":"0^0"}]
[null,null,3,0,0,0,0,null,0,0,0,null,0,0,null,{"$f":"_xlfn.TEXTJOIN(\"^\",,I80:I94)","v":"0^0^0"},null,3,0,0,0,0,0,0,0,0,0,0,null,{"$f":"_xlfn.TEXTJOIN(\"^\",,Y80:Y94)","v":"0^0"}]
[null,null,5,null,null,0,null,null,0,null,0,null,null,0,null,{"$f":"_xlfn.TEXTJOIN(\"^\",,J80:J94)","v":"0^0"},null,5,null,0,null,null,0,{"$nulls":4},0,null,{"$f":"_xlfn.TEXTJOIN(\"^\",,Z80:Z94)","v":"0^0"}]
[null,null,7,{"$nulls":12},{"$f":"_xlfn.TEXTJOIN(\"^\",,K80:K94)","v":"0^0^0"},null,7,{"$nulls":9},0,null,{"$f":"_xlfn.TEXTJOIN(\"^\",,AA80:AA94)","v":"0^0"}]
[null,null,9,{"$nulls":12},{"$f":"_xlfn.TEXTJOIN(\"^\",,L80:L94)","v":"100"},null,9,{"$nulls":11},{"$f":"_xlfn.TEXTJOIN(\"^\",,AB80:AB94)","v":"0^0^0^0"}]
[null,null,"空降",{"$nulls":12},{"$f":"_xlfn.TEXTJOIN(\"^\",,M80:M94)","v":"0^0"},null,"空降",{"$nulls":11},{"$f":"_xlfn.TEXTJOIN(\"^\",,AC80:AC88)","v":""}]
[null,null,101,{"$nulls":12},{"$f":"_xlfn.TEXTJOIN(\"^\",,N80:N94)","v":"0^0^0"},null,101,{"$nulls":10},"最终",{"$f":"_xlfn.TEXTJOIN(\"|\",,AD79:AD89)","v":"0^0|100^0^0|0^0|0^0|0^0^0|0^0|0^0|0^0|0^0|0^0^0^0"}]
[null,null,102,{"$nulls":14},102]
[null,null,103,{"$nulls":14},103]
[null,null,104,{"$nulls":14},104]
[null,null,105,{"$nulls":14},105]
[{"$nulls":14},"最终",{"$f":"_xlfn.TEXTJOIN(\"|\",,P80:P94)","v":"0^0|0^0|0^0^0|0^0|100|0^0^0|0^0|0^0^0|100|0^0|0^0^0"}]
[]
[null,null,"时间",5,17,32,47,50,65,80,98,105,116,135,null,null,null,"时间",2,5,10,20,35,50,67,85,105,120,null,{"$f":"_xlfn.TEXTJOIN(\"^\",,S98:S106)","v":"18^6"}]
[null,null,8,{"$nulls":12},{"$f":"_xlfn.TEXTJOIN(\"^\",,D98:D107)","v":"2^5"},null,8,{"$nulls":11},{"$f":"_xlfn.TEXTJOIN(\"^\",,T98:T106)","v":"6^6^1"}]
[null,null,6,{"$nulls":12},{"$f":"_xlfn.TEXTJOIN(\"^\",,E98:E107)","v":"6^3"},null,6,{"$nulls":11},{"$f":"_xlfn.TEXTJOIN(\"^\",,U98:U106)","v":"3^8"}]
[null,null,4,{"$nulls":12},{"$f":"_xlfn.TEXTJOIN(\"^\",,F98:F107)","v":"2^4^4"},null,4,{"$nulls":11},{"$f":"_xlfn.TEXTJOIN(\"^\",,V98:V106)","v":"7^6"}]
[null,null,2,{"$nulls":12},{"$f":"_xlfn.TEXTJOIN(\"^\",,G98:G107)","v":"3^4"},null,2,{"$nulls":11},{"$f":"_xlfn.TEXTJOIN(\"^\",,W98:W106)","v":"3^2^6"}]
[null,null,1,2,6,2,3,5,3,4,3,6,8,4,null,{"$f":"_xlfn.TEXTJOIN(\"^\",,H98:H107)","v":"5"},null,1,18,6,3,7,3,4,3,9,3,2,null,{"$f":"_xlfn.TEXTJOIN(\"^\",,X98:X106)","v":"4^7"}]
[null,null,3,5,3,4,4,null,7,7,2,null,6,4,null,{"$f":"_xlfn.TEXTJOIN(\"^\",,I98:I107)","v":"3^7^2"},null,3,6,6,8,6,2,7,4,2,8,6,null,{"$f":"_xlfn.TEXTJOIN(\"^\",,Y98:Y106)","v":"3^4"}]
[null,null,5,null,null,4,null,null,2,null,4,null,null,4,null,{"$f":"_xlfn.TEXTJOIN(\"^\",,J98:J107)","v":"4^7"},null,5,null,1,null,null,6,{"$nulls":4},2,null,{"$f":"_xlfn.TEXTJOIN(\"^\",,Z98:Z106)","v":"9^2"}]
[null,null,7,{"$nulls":12},{"$f":"_xlfn.TEXTJOIN(\"^\",,K98:K107)","v":"3^2^4"},null,7,{"$nulls":9},3,null,{"$f":"_xlfn.TEXTJOIN(\"^\",,AA98:AA106)","v":"3^8"}]
[null,null,9,{"$nulls":12},{"$f":"_xlfn.TEXTJOIN(\"^\",,L98:L107)","v":"6"},null,9,{"$nulls":11},{"$f":"_xlfn.TEXTJOIN(\"^\",,AB98:AB106)","v":"2^6^2^3"}]
[{"$nulls":15},{"$f":"_xlfn.TEXTJOIN(\"^\",,M98:M107)","v":"8^6"},{"$nulls":13},{"$f":"_xlfn.TEXTJOIN(\"^\",,AC98:AC106)","v":""}]
[{"$nulls":15},{"$f":"_xlfn.TEXTJOIN(\"^\",,N98:N107)","v":"4^4^4"},{"$nulls":12},"最终",{"$f":"_xlfn.TEXTJOIN(\"|\",,AD97:AD107)","v":"18^6|6^6^1|3^8|7^6|3^2^6|4^7|3^4|9^2|3^8|2^6^2^3"}]
[{"$nulls":14},"最终",{"$f":"_xlfn.TEXTJOIN(\"|\",,P98:P108)","v":"2^5|6^3|2^4^4|3^4|5|3^7^2|4^7|3^2^4|6|8^6|4^4^4"}]
[{"$nulls":15},{"$f":"SUM(D98:N107)","v":102},{"$nulls":12},{"$f":"SUM(S98:AB107)","v":125},{"$f":"P110+AC110","v":227}]
[]
[{"$nulls":4},{"$f":"E113-D113","v":6},{"$f":"F113-E113","v":7},8,5,8,9,10,3,10,10,{"$nulls":5},{"$f":"T113-S113","v":3},5,10,10,5,10,10,10,10]
[1,"雪原-3","波1·怪物",4,10,17,25,30,38,47,57,60,70,80,null,null,null,"波2·怪物",2,5,10,20,30,35,45,55,65,75]
[null,"4.5m",8,null,null,null,70092,null,70091,null,null,70095,null,null,null,{"$f":"_xlfn.TEXTJOIN(\"^\",,D114:D123)","v":"70091^70092^70091"},null,8,70091,null,70091,null,70094,{"$nulls":4},70092,null,{"$f":"_xlfn.TEXTJOIN(\"^\",,S114:S123)","v":"70091^70091^70092^70094^70092^70094^70092^70091^70091"}]
[null,null,6,null,null,70092,null,null,70094,70091,70092,null,70091,70094,null,{"$f":"_xlfn.TEXTJOIN(\"^\",,E114:E123)","v":"70092^70094^70092"},null,6,70091,null,70092,70092,null,null,70092,70091,70091,null,null,{"$f":"_xlfn.TEXTJOIN(\"^\",,T114:T123)","v":"70095^70095^70095^70095^70095"}]
[null,null,4,70091,null,70094,70091,70095,null,70091,70094,null,70091,70092,null,{"$f":"_xlfn.TEXTJOIN(\"^\",,F114:F123)","v":"70092^70094^70093^70093^70094^70092"},null,4,70092,70095,70092,70091,70091,70095,70093,70091,70092,70093,null,{"$f":"_xlfn.TEXTJOIN(\"^\",,U114:U123)","v":"70091^70092^70092^70093^70093^70093^70092^70092^70091"}]
[null,null,2,null,70092,70093,70091,70095,70091,70092,70093,70095,70092,70093,null,{"$f":"_xlfn.TEXTJOIN(\"^\",,G114:G123)","v":"70092^70091^70091^70092^70091^70091^70092"},null,2,70094,70095,70093,70091,70093,70095,70092,70091,70092,70091,null,{"$f":"_xlfn.TEXTJOIN(\"^\",,V114:V123)","v":"70092^70091^70091^70092^70091^70091^70092"}]
[null,null,1,70092,70094,null,70092,70095,70093,70092,70093,70095,70092,70096,null,{"$f":"_xlfn.TEXTJOIN(\"^\",,H114:H123)","v":"70095^70095^70095^70095"},null,1,70092,70095,70093,70092,70093,70095,70094,70094,70091,70096,null,{"$f":"_xlfn.TEXTJOIN(\"^\",,W114:W123)","v":"70094^70091^70093^70093^70093^70091^70092"}]
[null,null,3,null,70092,70093,70091,70095,70091,70092,70093,70095,70092,70093,null,{"$f":"_xlfn.TEXTJOIN(\"^\",,I114:I123)","v":"70091^70094^70091^70093^70091^70094^70091"},null,3,70094,70095,70093,70091,70093,70095,70092,70091,70092,70091,null,{"$f":"_xlfn.TEXTJOIN(\"^\",,X114:X123)","v":"70095^70095^70095^70095^70095"}]
[null,null,5,70091,null,70094,70091,null,null,70091,70094,null,70091,70092,null,{"$f":"_xlfn.TEXTJOIN(\"^\",,J114:J123)","v":"70091^70091^70092^70092^70092^70091^70091"},null,5,70092,70095,70092,70091,70091,70095,70093,70091,70092,70093,null,{"$f":"_xlfn.TEXTJOIN(\"^\",,Y114:Y123)","v":"70092^70093^70092^70094^70092^70093^70092"}]
[null,null,7,null,null,70092,null,null,70094,70091,70092,null,70091,70094,null,{"$f":"_xlfn.TEXTJOIN(\"^\",,K114:K123)","v":"70092^70094^70093^70093^70093^70094^70092"},null,7,70091,null,70092,70092,null,null,70092,70091,70091,null,null,{"$f":"_xlfn.TEXTJOIN(\"^\",,Z114:Z123)","v":"70091^70091^70091^70094^70091^70091^70091"}]
[null,null,9,null,null,null,70092,null,70091,null,null,70095,null,null,null,{"$f":"_xlfn.TEXTJOIN(\"^\",,L114:L123)","v":"70095^70095^70095^70095^70095"},null,9,70091,null,70091,null,70092,{"$nulls":4},70092,null,{"$f":"_xlfn.TEXTJOIN(\"^\",,AA114:AA123)","v":"70091^70092^70092^70091^70092^70092^70091"}]
[{"$nulls":15},{"$f":"_xlfn.TEXTJOIN(\"^\",,M114:M123)","v":"70091^70091^70092^70092^70092^70091^70091"},{"$nulls":13},{"$f":"_xlfn.TEXTJOIN(\"^\",,AB114:AB123)","v":"70092^70093^70091^70096^70091^70093^70092"}]
[{"$nulls":15},{"$f":"_xlfn.TEXTJOIN(\"^\",,N114:N123)","v":"70094^70092^70093^70096^70093^70092^70094"},{"$nulls":13},{"$f":"_xlfn.TEXTJOIN(\"^\",,AC114:AC123)","v":""}]
[{"$nulls":14},"最终",{"$f":"_xlfn.TEXTJOIN(\"^\",,P114:P124)","v":"70091^70092^70091^70092^70094^70092^70092^70094^70093^70093^70094^70092^70092^70091^70091^70092^70091^70091^70092^70095^70095^70095^70095^70091^70094^70091^70093^70091^70094^70091^70091^70091^70092^70092^70092^70091^70091^70092^70094^70093^70093^70093^70094^70092^70095^70095^70095^70095^70095^70091^70091^70092^70092^70092^70091^70091^70094^70092^70093^70096^70093^70092^70094"},{"$nulls":12},"最终",{"$f":"_xlfn.TEXTJOIN(\"^\",,AD114:AD124)","v":"70091^70091^70092^70094^70092^70094^70092^70091^70091^70095^70095^70095^70095^70095^70091^70092^70092^70093^70093^70093^70092^70092^70091^70092^70091^70091^70092^70091^70091^70092^70094^70091^70093^70093^70093^70091^70092^70095^70095^70095^70095^70095^70092^70093^70092^70094^70092^70093^70092^70091^70091^70091^70094^70091^70091^70091^70091^70092^70092^70091^70092^70092^70091^70092^70093^70091^70096^70091^70093^70092"}]
[null,null,8,null,null,null,"独角兽",null,"雪怪",null,null,"雪山蜘蛛",{"$nulls":5},8,"雪怪",null,"雪怪",null,"木精灵",{"$nulls":4},"独角兽"]
[null,null,6,null,null,"独角兽",null,null,"木精灵","雪怪","独角兽",null,"雪怪","木精灵",null,null,null,6,"雪怪",null,"独角兽","独角兽",null,null,"独角兽","雪怪","雪怪"]
[null,null,4,"雪怪",null,"木精灵","雪怪","雪山蜘蛛",null,"雪怪","木精灵",null,"雪怪","独角兽",null,null,null,4,"独角兽","雪山蜘蛛","独角兽","雪怪","雪怪","雪山蜘蛛","雪原熊","雪怪","独角兽","雪原熊"]
[null,null,2,null,"独角兽","雪原熊","雪怪","雪山蜘蛛","雪怪","独角兽","雪原熊","雪山蜘蛛","独角兽","雪原熊",null,null,null,2,"木精灵","雪山蜘蛛","雪原熊","雪怪","雪原熊","雪山蜘蛛","独角兽","雪怪","独角兽","雪怪"]
[null,null,1,"独角兽","木精灵",null,"独角兽","雪山蜘蛛","雪原熊","独角兽","雪原熊","雪山蜘蛛","独角兽","野蛮战士",null,null,null,1,"独角兽","雪山蜘蛛","雪原熊","独角兽","雪原熊","雪山蜘蛛","木精灵","木精灵","雪怪","野蛮战士"]
[null,null,3,null,"独角兽","雪原熊","雪怪","雪山蜘蛛","雪怪","独角兽","雪原熊","雪山蜘蛛","独角兽","雪原熊",null,null,null,3,"木精灵","雪山蜘蛛","雪原熊","雪怪","雪原熊","雪山蜘蛛","独角兽","雪怪","独角兽","雪怪"]
[null,null,5,"雪怪",null,"木精灵","雪怪",null,null,"雪怪","木精灵",null,"雪怪","独角兽",null,null,null,5,"独角兽","雪山蜘蛛","独角兽","雪怪","雪怪","雪山蜘蛛","雪原熊","雪怪","独角兽","雪原熊"]
[null,null,7,null,null,"独角兽",null,null,"木精灵","雪怪","独角兽",null,"雪怪","木精灵",null,null,null,7,"雪怪",null,"独角兽","独角兽",null,null,"独角兽","雪怪","雪怪"]
[null,null,9,null,null,null,"独角兽",null,"雪怪",null,null,"雪山蜘蛛",{"$nulls":5},9,"雪怪",null,"雪怪",null,"独角兽",{"$nulls":4},"独角兽"]
[]
[null,null,"位置",4,10,17,25,30,38,47,57,60,70,80,null,null,null,"位置",2,5,10,20,30,35,45,55,65,75,null,{"$f":"_xlfn.TEXTJOIN(\"^\",,S137:S151)","v":"8^6^4^2^1^3^5^7^9"}]
[null,null,8,null,null,null,{"$f":"$C137","v":8},null,{"$f":"$C137","v":8},{"$nulls":6},{"$f":"_xlfn.TEXTJOIN(\"^\",,D137:D151)","v":"4^1^5"},null,8,{"$f":"$C137","v":8},null,{"$f":"$C137","v":8},null,{"$f":"$C137","v":8},{"$nulls":4},{"$f":"$C137","v":8},null,{"$f":"_xlfn.TEXTJOIN(\"^\",,T137:T151)","v":"101^102^103^104^105"}]
[null,null,6,null,null,{"$f":"$C138","v":6},null,null,{"$f":"$C138","v":6},{"$f":"$C138","v":6},{"$f":"$C138","v":6},null,{"$f":"$C138","v":6},{"$f":"$C138","v":6},null,{"$f":"_xlfn.TEXTJOIN(\"^\",,E137:E151)","v":"2^1^3"},null,6,6,null,6,{"$f":"$C138","v":6},null,null,{"$f":"$C138","v":6},6,6,null,null,{"$f":"_xlfn.TEXTJOIN(\"^\",,U137:U151)","v":"8^6^4^2^1^3^5^7^9"}]
[null,null,4,{"$f":"$C139","v":4},null,{"$f":"$C139","v":4},4,null,null,{"$f":"$C139","v":4},4,null,{"$f":"$C139","v":4},{"$f":"$C139","v":4},null,{"$f":"_xlfn.TEXTJOIN(\"^\",,F137:F151)","v":"6^4^2^3^5^7"},null,4,4,null,4,{"$f":"$C139","v":4},{"$f":"$C139","v":4},null,4,4,4,4,null,{"$f":"_xlfn.TEXTJOIN(\"^\",,V137:V151)","v":"6^4^2^1^3^5^7"}]
[null,null,2,null,{"$f":"$C140","v":2},2,2,null,2,2,2,null,2,2,null,{"$f":"_xlfn.TEXTJOIN(\"^\",,G137:G151)","v":"8^4^2^1^3^5^9"},null,2,2,null,2,2,2,null,2,2,2,2,null,{"$f":"_xlfn.TEXTJOIN(\"^\",,W137:W151)","v":"8^4^2^1^3^5^9"}]
[null,null,1,{"$f":"$C141","v":1},{"$f":"$C141","v":1},null,1,null,1,1,1,null,1,1,null,{"$f":"_xlfn.TEXTJOIN(\"^\",,H137:H151)","v":"101^102^103^104"},null,1,1,null,1,1,1,null,{"$f":"$C141","v":1},1,1,1,null,{"$f":"_xlfn.TEXTJOIN(\"^\",,X137:X151)","v":"101^102^103^104^105"}]
[null,null,3,null,{"$f":"$C142","v":3},3,3,null,3,3,3,null,3,3,null,{"$f":"_xlfn.TEXTJOIN(\"^\",,I137:I151)","v":"8^6^2^1^3^7^9"},null,3,3,null,3,3,3,null,3,3,3,3,null,{"$f":"_xlfn.TEXTJOIN(\"^\",,Y137:Y151)","v":"6^4^2^1^3^5^7"}]
[null,null,5,{"$f":"$C143","v":5},null,5,5,null,null,5,5,null,{"$f":"$C143","v":5},5,null,{"$f":"_xlfn.TEXTJOIN(\"^\",,J137:J151)","v":"6^4^2^1^3^5^7"},null,5,5,null,5,5,5,null,{"$f":"$C143","v":5},5,5,5,null,{"$f":"_xlfn.TEXTJOIN(\"^\",,Z137:Z151)","v":"6^4^2^1^3^5^7"}]
[null,null,7,null,null,{"$f":"$C144","v":7},null,null,{"$f":"$C144","v":7},{"$f":"$C144","v":7},7,null,{"$f":"$C144","v":7},{"$f":"$C144","v":7},null,{"$f":"_xlfn.TEXTJOIN(\"^\",,K137:K151)","v":"6^4^2^1^3^5^7"},null,7,7,null,7,{"$f":"$C144","v":7},null,null,7,7,7,null,null,{"$f":"_xlfn.TEXTJOIN(\"^\",,AA137:AA151)","v":"6^4^2^1^3^5^7"}]
[null,null,9,null,null,null,{"$f":"$C145","v":9},null,{"$f":"$C145","v":9},{"$nulls":6},{"$f":"_xlfn.TEXTJOIN(\"^\",,L137:L151)","v":"101^102^103^104^105"},null,9,9,null,9,null,{"$f":"$C145","v":9},{"$nulls":4},{"$f":"$C145","v":9},null,{"$f":"_xlfn.TEXTJOIN(\"^\",,AB137:AB151)","v":"8^4^2^1^3^5^9"}]
[null,null,"空降",{"$nulls":12},{"$f":"_xlfn.TEXTJOIN(\"^\",,M137:M151)","v":"6^4^2^1^3^5^7"},null,"空降",{"$nulls":11},{"$f":"_xlfn.TEXTJOIN(\"^\",,AC137:AC145)","v":""}]
[null,null,101,{"$nulls":4},{"$f":"$C147","v":101},null,null,null,{"$f":"$C147","v":101},null,null,null,{"$f":"_xlfn.TEXTJOIN(\"^\",,N137:N151)","v":"6^4^2^1^3^5^7"},null,null,null,{"$f":"$C147","v":101},null,null,null,{"$f":"$C147","v":101},{"$nulls":4},"最终",{"$f":"_xlfn.TEXTJOIN(\"^\",,AD136:AD146)","v":"8^6^4^2^1^3^5^7^9^101^102^103^104^105^8^6^4^2^1^3^5^7^9^6^4^2^1^3^5^7^8^4^2^1^3^5^9^101^102^103^104^105^6^4^2^1^3^5^7^6^4^2^1^3^5^7^6^4^2^1^3^5^7^8^4^2^1^3^5^9"}]
[null,null,102,{"$nulls":4},102,null,null,null,{"$f":"$C148","v":102},{"$nulls":7},102,null,null,null,102]
[null,null,103,{"$nulls":4},103,null,null,null,{"$f":"$C149","v":103},{"$nulls":7},103,null,null,null,103]
[null,null,104,{"$nulls":4},104,null,null,null,{"$f":"$C150","v":104},{"$nulls":7},104,null,null,null,104]
[null,null,105,{"$nulls":8},{"$f":"$C151","v":105},{"$nulls":7},105,null,null,null,105]
[{"$nulls":14},"最终",{"$f":"_xlfn.TEXTJOIN(\"^\",,P137:P151)","v":"4^1^5^2^1^3^6^4^2^3^5^7^8^4^2^1^3^5^9^101^102^103^104^8^6^2^1^3^7^9^6^4^2^1^3^5^7^6^4^2^1^3^5^7^101^102^103^104^105^6^4^2^1^3^5^7^6^4^2^1^3^5^7"}]
[]
[null,null,"时间",4,10,17,25,30,38,47,57,60,70,80,null,null,null,"时间",2,5,10,20,30,35,45,55,65,75,null,{"$f":"_xlfn.TEXTJOIN(\"^\",,S155:S163)","v":"2^2^2^2^2^2^2^2^2"}]
[null,null,8,null,null,null,{"$f":"G$154","v":25},null,{"$f":"I$154","v":38},{"$nulls":6},{"$f":"_xlfn.TEXTJOIN(\"^\",,D155:D164)","v":"4^4^4"},null,8,{"$f":"S$154","v":2},null,{"$f":"U$154","v":10},null,{"$f":"W$154","v":30},{"$nulls":4},{"$f":"AB$154","v":75},null,{"$f":"_xlfn.TEXTJOIN(\"^\",,T155:T163)","v":"5^5^5^5^5"}]
[null,null,6,null,null,{"$f":"F$154","v":17},null,{"$f":"H$154","v":30},{"$f":"I$154","v":38},{"$f":"J$154","v":47},{"$f":"K$154","v":57},null,{"$f":"M$154","v":70},{"$f":"N$154","v":80},null,{"$f":"_xlfn.TEXTJOIN(\"^\",,E155:E164)","v":"10^10^10"},null,6,2,null,10,{"$f":"V$154","v":20},null,null,{"$f":"Y$154","v":45},55,65,null,null,{"$f":"_xlfn.TEXTJOIN(\"^\",,U155:U163)","v":"10^10^10^10^10^10^10^10^10"}]
[null,null,4,{"$f":"D$154","v":4},null,{"$f":"F$154","v":17},25,{"$f":"H$154","v":30},null,{"$f":"J$154","v":47},57,{"$f":"L$154","v":60},{"$f":"M$154","v":70},80,null,{"$f":"_xlfn.TEXTJOIN(\"^\",,F155:F164)","v":"17^17^17^17^17^17"},null,4,2,{"$f":"T$154","v":5},10,{"$f":"V$154","v":20},{"$f":"W$154","v":30},{"$f":"X$154","v":35},45,55,65,75,null,{"$f":"_xlfn.TEXTJOIN(\"^\",,V155:V163)","v":"20^20^20^20^20^20^20"}]
[null,null,2,null,10,17,25,null,38,47,57,{"$f":"L$154","v":60},70,80,null,{"$f":"_xlfn.TEXTJOIN(\"^\",,G155:G164)","v":"25^25^25^25^25^25^25"},null,2,2,{"$f":"T$154","v":5},10,20,30,{"$f":"X$154","v":35},45,55,65,75,null,{"$f":"_xlfn.TEXTJOIN(\"^\",,W155:W163)","v":"30^30^30^30^30^30^30"}]
[null,null,1,{"$f":"D$154","v":4},10,null,25,{"$f":"H$154","v":30},38,47,57,{"$f":"L$154","v":60},70,80,null,{"$f":"_xlfn.TEXTJOIN(\"^\",,H155:H164)","v":"30^30^30^30"},null,1,2,{"$f":"T$154","v":5},10,20,30,{"$f":"X$154","v":35},45,55,65,75,null,{"$f":"_xlfn.TEXTJOIN(\"^\",,X155:X163)","v":"35^35^35^35^35"}]
[null,null,3,null,10,17,25,null,38,47,57,{"$f":"L$154","v":60},70,80,null,{"$f":"_xlfn.TEXTJOIN(\"^\",,I155:I164)","v":"38^38^38^38^38^38^38"},null,3,2,{"$f":"T$154","v":5},10,20,30,{"$f":"X$154","v":35},45,55,65,75,null,{"$f":"_xlfn.TEXTJOIN(\"^\",,Y155:Y163)","v":"45^45^45^45^45^45^45"}]
[null,null,5,{"$f":"D$154","v":4},null,17,25,{"$f":"H$154","v":30},null,47,57,null,70,80,null,{"$f":"_xlfn.TEXTJOIN(\"^\",,J155:J164)","v":"47^47^47^47^47^47^47"},null,5,2,{"$f":"T$154","v":5},10,20,30,{"$f":"X$154","v":35},{"$f":"Y$154","v":45},55,65,75,null,{"$f":"_xlfn.TEXTJOIN(\"^\",,Z155:Z163)","v":"55^55^55^55^55^55^55"}]
[null,null,7,null,null,{"$f":"F$154","v":17},null,null,{"$f":"I$154","v":38},{"$f":"J$154","v":47},57,{"$f":"L$154","v":60},{"$f":"M$154","v":70},{"$f":"N$154","v":80},null,{"$f":"_xlfn.TEXTJOIN(\"^\",,K155:K164)","v":"57^57^57^57^57^57^57"},null,7,2,null,10,{"$f":"V$154","v":20},null,null,45,55,65,null,null,{"$f":"_xlfn.TEXTJOIN(\"^\",,AA155:AA163)","v":"65^65^65^65^65^65^65"}]
[null,null,9,null,null,null,{"$f":"G$154","v":25},null,{"$f":"I$154","v":38},{"$nulls":6},{"$f":"_xlfn.TEXTJOIN(\"^\",,L155:L164)","v":"60^60^60^60^60"},null,9,2,null,10,null,{"$f":"W$154","v":30},{"$nulls":4},{"$f":"AB$154","v":75},null,{"$f":"_xlfn.TEXTJOIN(\"^\",,AB155:AB163)","v":"75^75^75^75^75^75^75"}]
[{"$nulls":15},{"$f":"_xlfn.TEXTJOIN(\"^\",,M155:M164)","v":"70^70^70^70^70^70^70"},{"$nulls":13},{"$f":"_xlfn.TEXTJOIN(\"^\",,AC155:AC163)","v":""}]
[{"$nulls":15},{"$f":"_xlfn.TEXTJOIN(\"^\",,N155:N164)","v":"80^80^80^80^80^80^80"},{"$nulls":12},"最终",{"$f":"_xlfn.TEXTJOIN(\"^\",,AD154:AD164)","v":"2^2^2^2^2^2^2^2^2^5^5^5^5^5^10^10^10^10^10^10^10^10^10^20^20^20^20^20^20^20^30^30^30^30^30^30^30^35^35^35^35^35^45^45^45^45^45^45^45^55^55^55^55^55^55^55^65^65^65^65^65^65^65^75^75^75^75^75^75^75"}]
[{"$nulls":14},"最终",{"$f":"_xlfn.TEXTJOIN(\"^\",,P155:P165)","v":"4^4^4^10^10^10^17^17^17^17^17^17^25^25^25^25^25^25^25^30^30^30^30^38^38^38^38^38^38^38^47^47^47^47^47^47^47^57^57^57^57^57^57^57^60^60^60^60^60^70^70^70^70^70^70^70^80^80^80^80^80^80^80"}]
[{"$nulls":15},{"$f":"COUNT(D155:N164)","v":63},{"$nulls":12},{"$f":"COUNT(S155:AB164)","v":70},{"$f":"P167+AC167","v":133}]

{"sheet":"4","index":4,"n_rows":169,"n_cols":44,"rows_kept":169,"cut":false,"hidden":false,"merged":[]}
[]
[{"$nulls":4},{"$f":"E3-D3","v":9},{"$f":"F3-E3","v":15},15,5,16,17,17,5,15,{"$nulls":6},{"$f":"T3-S3","v":11},15,16,4,15,20,{"$nulls":8},{"$f":"AH3-AG3","v":2},4,6,10,15,15]
[3,"雪山-1","波1·怪物",6,15,30,45,50,66,83,100,105,120,null,null,null,3,"波2·怪物",4,15,30,46,50,65,85,{"$nulls":5},1,"波3·怪物",3,5,9,15,25,40,55]
[null,"5m",8,{"$nulls":12},{"$f":"_xlfn.TEXTJOIN(\"^\",,D4:D13)","v":"70101^70102^70104"},null,8,{"$nulls":11},{"$f":"_xlfn.TEXTJOIN(\"^\",,S4:S13)","v":"70101^70104"},null,8,{"$nulls":11},{"$f":"_xlfn.TEXTJOIN(\"^\",,AG4:AG13)","v":"70104^70102^70102^70104"}]
[null,null,6,{"$nulls":12},{"$f":"_xlfn.TEXTJOIN(\"^\",,E4:E13)","v":"70102^70101"},null,6,{"$nulls":11},{"$f":"_xlfn.TEXTJOIN(\"^\",,T4:T13)","v":"70102^70101"},null,6,{"$nulls":4},70102,70102,70104,{"$nulls":4},{"$f":"_xlfn.TEXTJOIN(\"^\",,AH4:AH13)","v":"70101^70101^70101"}]
[null,null,4,{"$nulls":12},{"$f":"_xlfn.TEXTJOIN(\"^\",,F4:F13)","v":"70104^70103^70102"},null,4,{"$nulls":11},{"$f":"_xlfn.TEXTJOIN(\"^\",,U4:U13)","v":"70104^70102^70103"},null,4,70104,70101,null,70101,70104,70101,70102,{"$nulls":4},{"$f":"_xlfn.TEXTJOIN(\"^\",,AI4:AI13)","v":"70105^70105"}]
[null,null,2,{"$nulls":12},{"$f":"_xlfn.TEXTJOIN(\"^\",,G4:G13)","v":"70101^70102^70104"},null,2,{"$nulls":11},{"$f":"_xlfn.TEXTJOIN(\"^\",,V4:V13)","v":"70101^70102"},null,2,70102,null,70105,70103,70103,70101,{"$nulls":5},{"$f":"_xlfn.TEXTJOIN(\"^\",,AJ4:AJ13)","v":"70101^70103^70104^70103^70101"}]
[null,null,1,70101,70102,70104,70101,70105,70103,70102,70104,70105,70103,null,null,{"$f":"_xlfn.TEXTJOIN(\"^\",,H4:H13)","v":"70105"},null,1,70101,70102,70104,70101,70105,70102,70103,{"$nulls":4},{"$f":"_xlfn.TEXTJOIN(\"^\",,W4:W13)","v":"70105"},null,1,null,70101,null,70104,null,null,70103,{"$nulls":4},{"$f":"_xlfn.TEXTJOIN(\"^\",,AK4:AK13)","v":"70102^70104^70103^70103^70104^70102"}]
[null,null,3,70102,70101,70103,70102,null,70104,70101,70103,70106,70102,null,null,{"$f":"_xlfn.TEXTJOIN(\"^\",,I4:I13)","v":"70103^70104^70102"},null,3,70104,70101,70102,70102,null,70101,70101,{"$nulls":4},{"$f":"_xlfn.TEXTJOIN(\"^\",,X4:X13)","v":"70102^70101^70104"},null,3,70102,null,70105,70103,70103,70101,{"$nulls":5},{"$f":"_xlfn.TEXTJOIN(\"^\",,AL4:AL13)","v":"70102^70101^70101^70101^70101^70102"}]
[null,null,5,70104,null,70102,70104,null,70102,null,70101,null,70104,null,null,{"$f":"_xlfn.TEXTJOIN(\"^\",,J4:J13)","v":"70102^70101"},null,5,null,null,70103,null,null,70104,70102,{"$nulls":4},{"$f":"_xlfn.TEXTJOIN(\"^\",,Y4:Y13)","v":"70103^70101^70102"},null,5,70104,70101,null,70101,70104,70101,70102,{"$nulls":4},{"$f":"_xlfn.TEXTJOIN(\"^\",,AM4:AM13)","v":"70104^70102^70103^70102^70104"}]
[null,null,7,{"$nulls":12},{"$f":"_xlfn.TEXTJOIN(\"^\",,K4:K13)","v":"70104^70103^70101"},null,7,{"$nulls":11},{"$f":"_xlfn.TEXTJOIN(\"^\",,Z4:Z13)","v":""},null,7,{"$nulls":4},70102,70102,70104,{"$nulls":4},{"$f":"_xlfn.TEXTJOIN(\"^\",,AN4:AN13)","v":""}]
[null,null,9,{"$nulls":12},{"$f":"_xlfn.TEXTJOIN(\"^\",,L4:L13)","v":"70105^70106"},null,9,{"$nulls":11},{"$f":"_xlfn.TEXTJOIN(\"^\",,AA4:AA13)","v":""},null,9,{"$nulls":11},{"$f":"_xlfn.TEXTJOIN(\"^\",,AO4:AO13)","v":""}]
[{"$nulls":15},{"$f":"_xlfn.TEXTJOIN(\"^\",,M4:M13)","v":"70103^70102^70104"},{"$nulls":13},{"$f":"_xlfn.TEXTJOIN(\"^\",,AB4:AB13)","v":""},{"$nulls":13},{"$f":"_xlfn.TEXTJOIN(\"^\",,AP4:AP13)","v":""}]
[{"$nulls":15},{"$f":"_xlfn.TEXTJOIN(\"^\",,N4:N13)","v":""},{"$nulls":13},{"$f":"_xlfn.TEXTJOIN(\"^\",,AC4:AC13)","v":""},{"$nulls":13},{"$f":"_xlfn.TEXTJOIN(\"^\",,AQ4:AQ13)","v":""}]
[{"$nulls":14},"最终",{"$f":"_xlfn.TEXTJOIN(\"|\",,P4:P14)","v":"70101^70102^70104|70102^70101|70104^70103^70102|70101^70102^70104|70105|70103^70104^70102|70102^70101|70104^70103^70101|70105^70106|70103^70102^70104"},{"$nulls":12},"最终",{"$f":"_xlfn.TEXTJOIN(\"|\",,AD4:AD14)","v":"70101^70104|70102^70101|70104^70102^70103|70101^70102|70105|70102^70101^70104|70103^70101^70102"},{"$nulls":12},"最终",{"$f":"_xlfn.TEXTJOIN(\"^\",,AR4:AR14)","v":"70104^70102^70102^70104^70101^70101^70101^70105^70105^70101^70103^70104^70103^70101^70102^70104^70103^70103^70104^70102^70102^70101^70101^70101^70101^70102^70104^70102^70103^70102^70104"}]
[null,null,8,{"$nulls":14},8,{"$nulls":13},8]
[null,null,6,{"$nulls":14},6,{"$nulls":13},6,{"$nulls":4},"独角兽","独角兽","木精灵"]
[null,null,4,{"$nulls":14},4,{"$nulls":13},4,"木精灵","雪怪",null,"雪怪","木精灵","雪怪","独角兽"]
[null,null,2,{"$nulls":14},2,{"$nulls":13},2,"独角兽",null,"雪山蜘蛛","雪原熊","雪原熊","雪怪"]
[null,null,1,"雪怪","独角兽","木精灵","雪怪","雪山蜘蛛","雪原熊","独角兽","木精灵","雪山蜘蛛","雪原熊",{"$nulls":4},1,"雪怪","独角兽","木精灵","雪怪","雪山蜘蛛","独角兽","雪原熊",{"$nulls":6},1,null,"雪怪",null,"木精灵",null,null,"雪原熊"]
[null,null,3,"独角兽","雪怪","雪原熊","独角兽",null,"木精灵","雪怪","雪原熊","森林祭祀","独角兽",{"$nulls":4},3,"木精灵","雪怪","独角兽","独角兽",null,"雪怪","雪怪",{"$nulls":6},3,"独角兽",null,"雪山蜘蛛","雪原熊","雪原熊","雪怪"]
[null,null,5,"木精灵",null,"独角兽","木精灵",null,"独角兽",null,"雪怪",null,"木精灵",{"$nulls":4},5,null,null,"雪原熊",null,null,"木精灵","独角兽",{"$nulls":6},5,"木精灵","雪怪",null,"雪怪","木精灵","雪怪","独角兽"]
[null,null,7,{"$nulls":14},7,{"$nulls":13},7,{"$nulls":4},"独角兽","独角兽","木精灵"]
[null,null,9,{"$nulls":14},9,{"$nulls":13},9]
[]
[null,null,"位置",6,15,30,45,50,66,83,100,105,120,{"$nulls":4},"位置",4,15,30,46,50,65,85,{"$nulls":6},"位置",3,5,9,15,25,40,55,{"$nulls":4},{"$f":"_xlfn.TEXTJOIN(\"^\",,AG27:AG41)","v":"4^2^3^5"}]
[null,null,8,{"$nulls":12},{"$f":"_xlfn.TEXTJOIN(\"^\",,D27:D41)","v":"0^0^0"},null,8,{"$nulls":13},8,{"$nulls":11},{"$f":"_xlfn.TEXTJOIN(\"^\",,AH27:AH41)","v":"4^1^5"}]
[null,null,6,{"$nulls":12},{"$f":"_xlfn.TEXTJOIN(\"^\",,E27:E41)","v":"0^0"},null,6,{"$nulls":11},{"$f":"_xlfn.TEXTJOIN(\"^\",,S27:S41)","v":"0^0"},null,6,{"$nulls":4},{"$f":"$C28","v":6},6,6,{"$nulls":4},{"$f":"_xlfn.TEXTJOIN(\"^\",,AI27:AI41)","v":"102^104"}]
[null,null,4,{"$nulls":12},{"$f":"_xlfn.TEXTJOIN(\"^\",,F27:F41)","v":"0^0^0"},null,4,{"$nulls":11},{"$f":"_xlfn.TEXTJOIN(\"^\",,T27:T41)","v":"0^0"},null,4,{"$f":"$C29","v":4},{"$f":"$C29","v":4},null,{"$f":"$C29","v":4},4,4,4,{"$nulls":4},{"$f":"_xlfn.TEXTJOIN(\"^\",,AJ27:AJ41)","v":"4^2^1^3^5"}]
[null,null,2,{"$nulls":12},{"$f":"_xlfn.TEXTJOIN(\"^\",,G27:G41)","v":"0^0^0"},null,2,{"$nulls":11},{"$f":"_xlfn.TEXTJOIN(\"^\",,U27:U41)","v":"0^0^0"},null,2,2,null,null,2,2,2,{"$nulls":5},{"$f":"_xlfn.TEXTJOIN(\"^\",,AK27:AK41)","v":"6^4^2^3^5^7"}]
[null,null,1,0,0,0,0,100,0,0,0,100,0,null,null,{"$f":"_xlfn.TEXTJOIN(\"^\",,H27:H41)","v":"100"},null,1,0,0,0,0,100,0,0,{"$nulls":4},{"$f":"_xlfn.TEXTJOIN(\"^\",,V27:V41)","v":"0^0"},null,1,null,{"$f":"$C31","v":1},null,1,null,null,{"$f":"$C31","v":1},{"$nulls":4},{"$f":"_xlfn.TEXTJOIN(\"^\",,AL27:AL41)","v":"6^4^2^3^5^7"}]
[null,null,3,0,0,0,0,null,0,0,0,0,0,null,null,{"$f":"_xlfn.TEXTJOIN(\"^\",,I27:I41)","v":"0^0^0"},null,3,0,0,0,0,null,0,0,{"$nulls":4},{"$f":"_xlfn.TEXTJOIN(\"^\",,W27:W41)","v":"100"},null,3,{"$f":"$C32","v":3},null,null,3,3,3,{"$nulls":5},{"$f":"_xlfn.TEXTJOIN(\"^\",,AM27:AM41)","v":"6^4^1^5^7"}]
[null,null,5,0,null,0,0,null,0,null,0,null,0,null,null,{"$f":"_xlfn.TEXTJOIN(\"^\",,J27:J41)","v":"0^0"},null,5,null,null,0,null,null,0,0,{"$nulls":4},{"$f":"_xlfn.TEXTJOIN(\"^\",,X27:X41)","v":"0^0^0"},null,5,5,{"$f":"$C33","v":5},null,5,5,5,5,{"$nulls":4},{"$f":"_xlfn.TEXTJOIN(\"^\",,AN27:AN41)","v":""}]
[null,null,7,{"$nulls":12},{"$f":"_xlfn.TEXTJOIN(\"^\",,K27:K41)","v":"0^0^0"},null,7,{"$nulls":11},{"$f":"_xlfn.TEXTJOIN(\"^\",,Y27:Y41)","v":"0^0^0"},null,7,{"$nulls":4},7,7,7,{"$nulls":4},{"$f":"_xlfn.TEXTJOIN(\"^\",,AO27:AO41)","v":""}]
[null,null,9,{"$nulls":12},{"$f":"_xlfn.TEXTJOIN(\"^\",,L27:L41)","v":"100^0"},null,9,{"$nulls":13},9,{"$nulls":11},{"$f":"_xlfn.TEXTJOIN(\"^\",,AP27:AP41)","v":""}]
[null,null,"空降",{"$nulls":12},{"$f":"_xlfn.TEXTJOIN(\"^\",,M27:M41)","v":"0^0^0"},null,"空降",{"$nulls":13},"空降",{"$nulls":11},{"$f":"_xlfn.TEXTJOIN(\"^\",,AQ27:AQ35)","v":""}]
[null,null,101,{"$nulls":12},{"$f":"_xlfn.TEXTJOIN(\"^\",,N27:N41)","v":""},null,101,{"$nulls":11},{"$f":"_xlfn.TEXTJOIN(\"^\",,Z27:Z41)","v":""},null,101]
[null,null,102,{"$nulls":14},102,{"$nulls":11},{"$f":"_xlfn.TEXTJOIN(\"^\",,AA27:AA41)","v":""},null,102,null,null,{"$f":"$C38","v":102}]
[null,null,103,{"$nulls":14},103,{"$nulls":11},{"$f":"_xlfn.TEXTJOIN(\"^\",,AB27:AB41)","v":""},null,103]
[null,null,104,{"$nulls":14},104,{"$nulls":13},104,null,null,{"$f":"$C40","v":104}]
[null,null,105,{"$nulls":14},105,{"$nulls":13},105]
[{"$nulls":4}," ",{"$nulls":9},"最终",{"$f":"_xlfn.TEXTJOIN(\"|\",,P27:P41)","v":"0^0^0|0^0|0^0^0|0^0^0|100|0^0^0|0^0|0^0^0|100^0|0^0^0"},{"$nulls":12},"最终",{"$f":"_xlfn.TEXTJOIN(\"|\",,AD27:AD41)","v":"0^0|0^0|0^0^0|0^0|100|0^0^0|0^0^0"},{"$nulls":12},"最终",{"$f":"_xlfn.TEXTJOIN(\"^\",,AR26:AR41)","v":"4^2^3^5^4^1^5^102^104^4^2^1^3^5^6^4^2^3^5^7^6^4^2^3^5^7^6^4^1^5^7"}]
[]
[null,null,"时间",6,15,30,45,50,66,83,100,105,120,{"$nulls":4},"时间",4,15,30,46,50,65,85,{"$nulls":4},{"$f":"_xlfn.TEXTJOIN(\"^\",,S45:S53)","v":"20^3"},null,"时间",3,5,9,15,22,35,45,{"$nulls":4},{"$f":"_xlfn.TEXTJOIN(\"^\",,AG45:AG53)","v":"3^3^3^3"}]
[null,null,8,{"$nulls":12},{"$f":"_xlfn.TEXTJOIN(\"^\",,D45:D54)","v":"4^2^1"},null,8,{"$nulls":11},{"$f":"_xlfn.TEXTJOIN(\"^\",,T45:T53)","v":"4^8"},null,8,{"$nulls":11},{"$f":"_xlfn.TEXTJOIN(\"^\",,AH45:AH53)","v":"5^5^5"}]
[null,null,6,{"$nulls":12},{"$f":"_xlfn.TEXTJOIN(\"^\",,E45:E54)","v":"3^6"},null,6,{"$nulls":11},{"$f":"_xlfn.TEXTJOIN(\"^\",,U45:U53)","v":"3^4^3"},null,6,{"$nulls":4},{"$f":"AK$44","v":22},35,{"$f":"AM$44","v":45},{"$nulls":4},{"$f":"_xlfn.TEXTJOIN(\"^\",,AI45:AI53)","v":"9^9"}]
[null,null,4,{"$nulls":12},{"$f":"_xlfn.TEXTJOIN(\"^\",,F45:F54)","v":"2^3^4"},null,4,{"$nulls":11},{"$f":"_xlfn.TEXTJOIN(\"^\",,V45:V53)","v":"7^5"},null,4,{"$f":"AG$44","v":3},{"$f":"AH$44","v":5},null,{"$f":"AJ$44","v":15},22,35,{"$f":"AM$44","v":45},{"$nulls":4},{"$f":"_xlfn.TEXTJOIN(\"^\",,AJ45:AJ53)","v":"15^15^15^15^15"}]
[null,null,2,{"$nulls":12},{"$f":"_xlfn.TEXTJOIN(\"^\",,G45:G54)","v":"7^3^2"},null,2,{"$nulls":11},{"$f":"_xlfn.TEXTJOIN(\"^\",,W45:W53)","v":"7"},null,2,3,null,{"$f":"AI$44","v":9},15,22,35,{"$nulls":5},{"$f":"_xlfn.TEXTJOIN(\"^\",,AK45:AK53)","v":"22^22^22^22^22^22"}]
[null,null,1,4,3,2,7,7,3,3,2,8,3,null,null,{"$f":"_xlfn.TEXTJOIN(\"^\",,H45:H54)","v":"7"},null,1,20,4,3,7,7,3,2,{"$nulls":4},{"$f":"_xlfn.TEXTJOIN(\"^\",,X45:X53)","v":"3^8^2"},null,1,null,{"$f":"AH$44","v":5},null,15,null,null,{"$f":"AM$44","v":45},{"$nulls":4},{"$f":"_xlfn.TEXTJOIN(\"^\",,AL45:AL53)","v":"35^35^35^35^35^35"}]
[null,null,3,2,6,3,3,null,2,9,3,1,5,null,null,{"$f":"_xlfn.TEXTJOIN(\"^\",,I45:I54)","v":"3^2^5"},null,3,3,8,4,5,null,8,7,{"$nulls":4},{"$f":"_xlfn.TEXTJOIN(\"^\",,Y45:Y53)","v":"2^7^3"},null,3,{"$f":"AG$44","v":3},null,{"$f":"AI$44","v":9},15,22,35,{"$nulls":5},{"$f":"_xlfn.TEXTJOIN(\"^\",,AM45:AM53)","v":"45^45^45^45^45"}]
[null,null,5,1,null,4,2,null,5,null,8,null,3,null,null,{"$f":"_xlfn.TEXTJOIN(\"^\",,J45:J54)","v":"3^9"},null,5,null,null,3,null,null,2,3,{"$nulls":4},{"$f":"_xlfn.TEXTJOIN(\"^\",,Z45:Z53)","v":""},null,5,3,{"$f":"AH$44","v":5},null,15,22,35,45,{"$nulls":4},{"$f":"_xlfn.TEXTJOIN(\"^\",,AN45:AN53)","v":""}]
[null,null,7,{"$nulls":12},{"$f":"_xlfn.TEXTJOIN(\"^\",,K45:K54)","v":"2^3^8"},null,7,{"$nulls":11},{"$f":"_xlfn.TEXTJOIN(\"^\",,AA45:AA53)","v":""},null,7,{"$nulls":4},22,35,45,{"$nulls":4},{"$f":"_xlfn.TEXTJOIN(\"^\",,AO45:AO53)","v":""}]
[null,null,9,{"$nulls":12},{"$f":"_xlfn.TEXTJOIN(\"^\",,L45:L54)","v":"8^1"},null,9,{"$nulls":11},{"$f":"_xlfn.TEXTJOIN(\"^\",,AB45:AB53)","v":""},null,9,{"$nulls":11},{"$f":"_xlfn.TEXTJOIN(\"^\",,AP45:AP53)","v":""}]
[{"$nulls":15},{"$f":"_xlfn.TEXTJOIN(\"^\",,M45:M54)","v":"3^5^3"},{"$nulls":13},{"$f":"_xlfn.TEXTJOIN(\"^\",,AC45:AC53)","v":""},{"$nulls":13},{"$f":"_xlfn.TEXTJOIN(\"^\",,AQ45:AQ53)","v":""}]
[{"$nulls":15},{"$f":"_xlfn.TEXTJOIN(\"^\",,N45:N54)","v":""},{"$nulls":12},"最终",{"$f":"_xlfn.TEXTJOIN(\"|\",,AD44:AD54)","v":"20^3|4^8|3^4^3|7^5|7|3^8^2|2^7^3"},{"$nulls":12},"最终",{"$f":"_xlfn.TEXTJOIN(\"^\",,AR44:AR54)","v":"3^3^3^3^5^5^5^9^9^15^15^15^15^15^22^22^22^22^22^22^35^35^35^35^35^35^45^45^45^45^45"}]
[{"$nulls":14},"最终",{"$f":"_xlfn.TEXTJOIN(\"|\",,P45:P55)","v":"4^2^1|3^6|2^3^4|7^3^2|7|3^2^5|3^9|2^3^8|8^1|3^5^3"}]
[{"$nulls":14},{"$f":"SUM(D45:N54)","v":99},{"$nulls":13},{"$f":"SUM(S45:AB54)","v":89},{"$nulls":13},{"$f":"COUNT(AG45:AP54)","v":31},{"$f":"AC57+AQ57+O57","v":219}]
[{"$nulls":4},{"$f":"E59-D59","v":10},{"$f":"F59-E59","v":15},15,15,5,18,17,5,15,{"$nulls":6},{"$f":"T59-S59","v":12},15,16,4,15,20,{"$nulls":8},{"$f":"AH59-AG59","v":2},4,6,8,10,12]
[3,"雪山-2","波1·怪物",5,15,30,45,60,65,83,100,105,120,null,null,null,3,"波2·怪物",3,15,30,46,50,65,85,{"$nulls":5},1,"波3·怪物",3,5,9,15,23,33,45]
[null,"5m",8,{"$nulls":12},{"$f":"_xlfn.TEXTJOIN(\"^\",,D60:D69)","v":"70112^70114"},null,8,{"$nulls":11},{"$f":"_xlfn.TEXTJOIN(\"^\",,S60:S69)","v":"70113^70112^70111"},null,8,{"$nulls":11},{"$f":"_xlfn.TEXTJOIN(\"^\",,AG60:AG69)","v":"70114^70112^70116^70112^70114"}]
[null,null,6,{"$nulls":12},{"$f":"_xlfn.TEXTJOIN(\"^\",,E60:E69)","v":"70111^70112"},null,6,{"$nulls":11},{"$f":"_xlfn.TEXTJOIN(\"^\",,T60:T69)","v":"70111"},null,6,{"$nulls":4},70112,70112,70114,{"$nulls":4},{"$f":"_xlfn.TEXTJOIN(\"^\",,AH60:AH69)","v":"70111^70111^70111"}]
[null,null,4,{"$nulls":12},{"$f":"_xlfn.TEXTJOIN(\"^\",,F60:F69)","v":"70112^70113^70111"},null,4,{"$nulls":11},{"$f":"_xlfn.TEXTJOIN(\"^\",,U60:U69)","v":"70113^70113^70112"},null,4,70114,70111,null,70111,70114,70111,70112,{"$nulls":4},{"$f":"_xlfn.TEXTJOIN(\"^\",,AI60:AI69)","v":"70115^70115^70115"}]
[null,null,2,{"$nulls":12},{"$f":"_xlfn.TEXTJOIN(\"^\",,G60:G69)","v":"70111^70112^70114"},null,2,{"$nulls":11},{"$f":"_xlfn.TEXTJOIN(\"^\",,V60:V69)","v":"70112^70111^70113"},null,2,70112,null,70115,70113,70113,70111,{"$nulls":5},{"$f":"_xlfn.TEXTJOIN(\"^\",,AJ60:AJ69)","v":"70111^70113^70114^70113^70111"}]
[null,null,1,70112,70111,70112,70111,70113,70115,70112,70112,70115,70113,null,null,{"$f":"_xlfn.TEXTJOIN(\"^\",,H60:H69)","v":"70113^70112^70114"},null,1,70113,70111,70113,70112,70115,70112,70113,{"$nulls":4},{"$f":"_xlfn.TEXTJOIN(\"^\",,W60:W69)","v":"70115^70116"},null,1,70116,70111,70115,70114,null,null,70113,{"$nulls":4},{"$f":"_xlfn.TEXTJOIN(\"^\",,AK60:AK69)","v":"70112^70114^70113^70113^70114^70112"}]
[null,null,3,70114,70112,70113,70112,70112,null,70114,70111,null,70112,null,null,{"$f":"_xlfn.TEXTJOIN(\"^\",,I60:I69)","v":"70115"},null,3,70112,null,70113,70111,70116,70111,70111,{"$nulls":4},{"$f":"_xlfn.TEXTJOIN(\"^\",,X60:X69)","v":"70112^70111^70113"},null,3,70112,null,70115,70113,70113,70111,{"$nulls":5},{"$f":"_xlfn.TEXTJOIN(\"^\",,AL60:AL69)","v":"70112^70111^70111^70111^70111^70112"}]
[null,null,5,null,null,70111,70114,70114,null,null,70113,null,70114,null,null,{"$f":"_xlfn.TEXTJOIN(\"^\",,J60:J69)","v":"70112^70114"},null,5,70111,null,70112,70113,null,70113,70112,{"$nulls":4},{"$f":"_xlfn.TEXTJOIN(\"^\",,Y60:Y69)","v":"70113^70111^70112"},null,5,70114,70111,null,70111,70114,70111,70112,{"$nulls":4},{"$f":"_xlfn.TEXTJOIN(\"^\",,AM60:AM69)","v":"70114^70112^70113^70112^70114"}]
[null,null,7,{"$nulls":12},{"$f":"_xlfn.TEXTJOIN(\"^\",,K60:K69)","v":"70112^70111^70113"},null,7,{"$nulls":11},{"$f":"_xlfn.TEXTJOIN(\"^\",,Z60:Z69)","v":""},null,7,{"$nulls":4},70112,70112,70114,{"$nulls":4},{"$f":"_xlfn.TEXTJOIN(\"^\",,AN60:AN69)","v":""}]
[null,null,9,{"$nulls":12},{"$f":"_xlfn.TEXTJOIN(\"^\",,L60:L69)","v":"70115"},null,9,{"$nulls":11},{"$f":"_xlfn.TEXTJOIN(\"^\",,AA60:AA69)","v":""},null,9,{"$nulls":11},{"$f":"_xlfn.TEXTJOIN(\"^\",,AO60:AO69)","v":""}]
[{"$nulls":15},{"$f":"_xlfn.TEXTJOIN(\"^\",,M60:M69)","v":"70113^70112^70114"},{"$nulls":13},{"$f":"_xlfn.TEXTJOIN(\"^\",,AB60:AB69)","v":""},{"$nulls":13},{"$f":"_xlfn.TEXTJOIN(\"^\",,AP60:AP69)","v":""}]
[{"$nulls":15},{"$f":"_xlfn.TEXTJOIN(\"^\",,N60:N69)","v":""},{"$nulls":13},{"$f":"_xlfn.TEXTJOIN(\"^\",,AC60:AC69)","v":""},{"$nulls":13},{"$f":"_xlfn.TEXTJOIN(\"^\",,AQ60:AQ69)","v":""}]
[{"$nulls":14},"最终",{"$f":"_xlfn.TEXTJOIN(\"|\",,P60:P70)","v":"70112^70114|70111^70112|70112^70113^70111|70111^70112^70114|70113^70112^70114|70115|70112^70114|70112^70111^70113|70115|70113^70112^70114"},{"$nulls":12},"最终",{"$f":"_xlfn.TEXTJOIN(\"|\",,AD60:AD70)","v":"70113^70112^70111|70111|70113^70113^70112|70112^70111^70113|70115^70116|70112^70111^70113|70113^70111^70112"},{"$nulls":12},"最终",{"$f":"_xlfn.TEXTJOIN(\"^\",,AR60:AR70)","v":"70114^70112^70116^70112^70114^70111^70111^70111^70115^70115^70115^70111^70113^70114^70113^70111^70112^70114^70113^70113^70114^70112^70112^70111^70111^70111^70111^70112^70114^70112^70113^70112^70114"}]
[null,null,8,{"$nulls":14},8,{"$nulls":13},8]
[null,null,6,{"$nulls":14},6,{"$nulls":13},6,{"$nulls":4},"独角兽","独角兽","木精灵"]
[null,null,4,{"$nulls":14},4,{"$nulls":13},4,"木精灵","雪怪",null,"雪怪","木精灵","雪怪","独角兽"]
[null,null,2,{"$nulls":14},2,{"$nulls":13},2,"独角兽",null,"雪山蜘蛛","雪原熊","雪原熊","雪怪"]
[null,null,1,"独角兽","雪怪","独角兽","雪怪","雪原熊","雪山蜘蛛","独角兽","独角兽","雪山蜘蛛","雪原熊",{"$nulls":4},1,"木精灵","雪怪","木精灵","独角兽","雪山蜘蛛","独角兽","雪原熊",{"$nulls":6},1,"祭祀精英","雪怪","雪山蜘蛛","木精灵",null,null,"雪原熊"]
[null,null,3,"木精灵","独角兽","雪原熊","独角兽","独角兽",null,"木精灵","雪怪",null,"独角兽",{"$nulls":4},3,"独角兽",null,"雪原熊","雪怪","祭祀精英","雪怪","雪怪",{"$nulls":6},3,"独角兽",null,"雪山蜘蛛","雪原熊","雪原熊","雪怪"]
[null,null,5,null,null,"雪怪","木精灵","木精灵",null,null,"雪原熊",null,"木精灵",{"$nulls":4},5,"雪怪",null,"独角兽","雪原熊",null,"木精灵","独角兽",{"$nulls":6},5,"木精灵","雪怪",null,"雪怪","木精灵","雪怪","独角兽"]
[null,null,7,{"$nulls":14},7,{"$nulls":13},7,{"$nulls":4},"独角兽","独角兽","木精灵"]
[null,null,9,{"$nulls":14},9,{"$nulls":13},9]
[]
[null,null,"位置",5,15,30,45,60,65,83,100,105,120,{"$nulls":4},"位置",3,15,30,46,50,65,85,{"$nulls":6},"位置",3,5,9,15,23,33,45,{"$nulls":4},{"$f":"_xlfn.TEXTJOIN(\"^\",,AG83:AG97)","v":"4^2^1^3^5"}]
[null,null,8,{"$nulls":12},{"$f":"_xlfn.TEXTJOIN(\"^\",,D83:D97)","v":"0^0"},null,8,{"$nulls":13},8,{"$nulls":11},{"$f":"_xlfn.TEXTJOIN(\"^\",,AH83:AH97)","v":"4^1^5"}]
[null,null,6,{"$nulls":12},{"$f":"_xlfn.TEXTJOIN(\"^\",,E83:E97)","v":"0^0"},null,6,{"$nulls":11},{"$f":"_xlfn.TEXTJOIN(\"^\",,S83:S97)","v":"0^0^0"},null,6,{"$nulls":4},{"$f":"$C84","v":6},6,6,{"$nulls":4},{"$f":"_xlfn.TEXTJOIN(\"^\",,AI83:AI97)","v":"102^103^104"}]
[null,null,4,{"$nulls":12},{"$f":"_xlfn.TEXTJOIN(\"^\",,F83:F97)","v":"0^0^0"},null,4,{"$nulls":11},{"$f":"_xlfn.TEXTJOIN(\"^\",,T83:T97)","v":"0"},null,4,{"$f":"$C85","v":4},4,null,{"$f":"$C85","v":4},4,4,4,{"$nulls":4},{"$f":"_xlfn.TEXTJOIN(\"^\",,AJ83:AJ97)","v":"4^2^1^3^5"}]
[null,null,2,{"$nulls":12},{"$f":"_xlfn.TEXTJOIN(\"^\",,G83:G97)","v":"0^0^0"},null,2,{"$nulls":11},{"$f":"_xlfn.TEXTJOIN(\"^\",,U83:U97)","v":"0^0^0"},null,2,2,null,null,2,2,2,{"$nulls":5},{"$f":"_xlfn.TEXTJOIN(\"^\",,AK83:AK97)","v":"6^4^2^3^5^7"}]
[null,null,1,0,0,0,0,0,100,0,0,100,0,null,null,{"$f":"_xlfn.TEXTJOIN(\"^\",,H83:H97)","v":"0^0^0"},null,1,0,0,0,0,100,0,0,{"$nulls":4},{"$f":"_xlfn.TEXTJOIN(\"^\",,V83:V97)","v":"0^0^0"},null,1,1,{"$f":"$C87","v":1},null,1,null,null,{"$f":"$C87","v":1},{"$nulls":4},{"$f":"_xlfn.TEXTJOIN(\"^\",,AL83:AL97)","v":"6^4^2^3^5^7"}]
[null,null,3,0,0,0,0,0,null,0,0,null,0,null,null,{"$f":"_xlfn.TEXTJOIN(\"^\",,I83:I97)","v":"100"},null,3,0,null,0,0,0,0,0,{"$nulls":4},{"$f":"_xlfn.TEXTJOIN(\"^\",,W83:W97)","v":"100^0"},null,3,{"$f":"$C88","v":3},null,null,3,3,3,{"$nulls":5},{"$f":"_xlfn.TEXTJOIN(\"^\",,AM83:AM97)","v":"6^4^1^5^7"}]
[null,null,5,null,null,0,0,0,null,null,0,null,0,null,null,{"$f":"_xlfn.TEXTJOIN(\"^\",,J83:J97)","v":"0^0"},null,5,0,null,0,0,null,0,0,{"$nulls":4},{"$f":"_xlfn.TEXTJOIN(\"^\",,X83:X97)","v":"0^0^0"},null,5,5,5,null,5,5,5,5,{"$nulls":4},{"$f":"_xlfn.TEXTJOIN(\"^\",,AN83:AN97)","v":""}]
[null,null,7,{"$nulls":12},{"$f":"_xlfn.TEXTJOIN(\"^\",,K83:K97)","v":"0^0^0"},null,7,{"$nulls":11},{"$f":"_xlfn.TEXTJOIN(\"^\",,Y83:Y97)","v":"0^0^0"},null,7,{"$nulls":4},7,7,7,{"$nulls":4},{"$f":"_xlfn.TEXTJOIN(\"^\",,AO83:AO97)","v":""}]
[null,null,9,{"$nulls":12},{"$f":"_xlfn.TEXTJOIN(\"^\",,L83:L97)","v":"100"},null,9,{"$nulls":13},9,{"$nulls":11},{"$f":"_xlfn.TEXTJOIN(\"^\",,AP83:AP97)","v":""}]
[null,null,"空降",{"$nulls":12},{"$f":"_xlfn.TEXTJOIN(\"^\",,M83:M97)","v":"0^0^0"},null,"空降",{"$nulls":13},"空降",{"$nulls":11},{"$f":"_xlfn.TEXTJOIN(\"^\",,AQ83:AQ91)","v":""}]
[null,null,101,{"$nulls":12},{"$f":"_xlfn.TEXTJOIN(\"^\",,N83:N97)","v":""},null,101,{"$nulls":11},{"$f":"_xlfn.TEXTJOIN(\"^\",,Z83:Z97)","v":""},null,101]
[null,null,102,{"$nulls":14},102,{"$nulls":11},{"$f":"_xlfn.TEXTJOIN(\"^\",,AA83:AA97)","v":""},null,102,null,null,{"$f":"$C94","v":102}]
[null,null,103,{"$nulls":14},103,{"$nulls":11},{"$f":"_xlfn.TEXTJOIN(\"^\",,AB83:AB97)","v":""},null,103,null,null,103]
[null,null,104,{"$nulls":14},104,{"$nulls":13},104,null,null,{"$f":"$C96","v":104}]
[null,null,105,{"$nulls":14},105,{"$nulls":13},105]
[{"$nulls":14},"最终",{"$f":"_xlfn.TEXTJOIN(\"|\",,P83:P97)","v":"0^0|0^0|0^0^0|0^0^0|0^0^0|100|0^0|0^0^0|100|0^0^0"},{"$nulls":12},"最终",{"$f":"_xlfn.TEXTJOIN(\"|\",,AD83:AD97)","v":"0^0^0|0|0^0^0|0^0^0|100^0|0^0^0|0^0^0"},{"$nulls":12},"最终",{"$f":"_xlfn.TEXTJOIN(\"^\",,AR82:AR97)","v":"4^2^1^3^5^4^1^5^102^103^104^4^2^1^3^5^6^4^2^3^5^7^6^4^2^3^5^7^6^4^1^5^7"}]
[]
[null,null,"时间",5,15,30,45,60,65,83,100,105,120,{"$nulls":4},"时间",3,15,30,46,50,65,85,{"$nulls":4},{"$f":"_xlfn.TEXTJOIN(\"^\",,S101:S109)","v":"4^6^12"},null,"时间",3,5,9,15,23,33,45,{"$nulls":4},{"$f":"_xlfn.TEXTJOIN(\"^\",,AG101:AG109)","v":"3^3^3^3^3"}]
[null,null,8,{"$nulls":12},{"$f":"_xlfn.TEXTJOIN(\"^\",,D101:D110)","v":"4^2"},null,8,{"$nulls":11},{"$f":"_xlfn.TEXTJOIN(\"^\",,T101:T109)","v":"12"},null,8,{"$nulls":11},{"$f":"_xlfn.TEXTJOIN(\"^\",,AH101:AH109)","v":"5^5^5"}]
[null,null,6,{"$nulls":12},{"$f":"_xlfn.TEXTJOIN(\"^\",,E101:E110)","v":"7^3"},null,6,{"$nulls":11},{"$f":"_xlfn.TEXTJOIN(\"^\",,U101:U109)","v":"3^4^4"},null,6,{"$nulls":4},{"$f":"AK$100","v":23},33,{"$f":"AM$100","v":45},{"$nulls":4},{"$f":"_xlfn.TEXTJOIN(\"^\",,AI101:AI109)","v":"9^9^9"}]
[null,null,4,{"$nulls":12},{"$f":"_xlfn.TEXTJOIN(\"^\",,F101:F110)","v":"3^3^5"},null,4,{"$nulls":11},{"$f":"_xlfn.TEXTJOIN(\"^\",,V101:V109)","v":"3^8^2"},null,4,{"$f":"AG$100","v":3},{"$f":"AH$100","v":5},null,{"$f":"AJ$100","v":15},23,33,{"$f":"AM$100","v":45},{"$nulls":4},{"$f":"_xlfn.TEXTJOIN(\"^\",,AJ101:AJ109)","v":"15^15^15^15^15"}]
[null,null,2,{"$nulls":12},{"$f":"_xlfn.TEXTJOIN(\"^\",,G101:G110)","v":"7^3^2"},null,2,{"$nulls":11},{"$f":"_xlfn.TEXTJOIN(\"^\",,W101:W109)","v":"8^1"},null,2,3,null,{"$f":"AI$100","v":9},15,23,33,{"$nulls":5},{"$f":"_xlfn.TEXTJOIN(\"^\",,AK101:AK109)","v":"23^23^23^23^23^23"}]
[null,null,1,4,7,3,7,4,7,6,3,8,3,null,null,{"$f":"_xlfn.TEXTJOIN(\"^\",,H101:H110)","v":"4^4^2"},null,1,4,12,3,3,8,3,3,{"$nulls":4},{"$f":"_xlfn.TEXTJOIN(\"^\",,X101:X109)","v":"3^9^2"},null,1,3,{"$f":"AH$100","v":5},{"$f":"AI$100","v":9},15,null,null,{"$f":"AM$100","v":45},{"$nulls":4},{"$f":"_xlfn.TEXTJOIN(\"^\",,AL101:AL109)","v":"33^33^33^33^33^33"}]
[null,null,3,2,3,3,3,4,null,3,7,null,6,null,null,{"$f":"_xlfn.TEXTJOIN(\"^\",,I101:I110)","v":"7"},null,3,6,null,4,8,1,9,7,{"$nulls":4},{"$f":"_xlfn.TEXTJOIN(\"^\",,Y101:Y109)","v":"3^7^4"},null,3,{"$f":"AG$100","v":3},null,{"$f":"AI$100","v":9},15,23,33,{"$nulls":5},{"$f":"_xlfn.TEXTJOIN(\"^\",,AM101:AM109)","v":"45^45^45^45^45"}]
[null,null,5,null,null,5,2,2,null,null,3,null,2,null,null,{"$f":"_xlfn.TEXTJOIN(\"^\",,J101:J110)","v":"6^3"},null,5,12,null,4,2,null,2,4,{"$nulls":4},{"$f":"_xlfn.TEXTJOIN(\"^\",,Z101:Z109)","v":""},null,5,3,{"$f":"AH$100","v":5},null,15,23,33,45,{"$nulls":4},{"$f":"_xlfn.TEXTJOIN(\"^\",,AN101:AN109)","v":""}]
[null,null,7,{"$nulls":12},{"$f":"_xlfn.TEXTJOIN(\"^\",,K101:K110)","v":"3^7^3"},null,7,{"$nulls":11},{"$f":"_xlfn.TEXTJOIN(\"^\",,AA101:AA109)","v":""},null,7,{"$nulls":4},23,33,45,{"$nulls":4},{"$f":"_xlfn.TEXTJOIN(\"^\",,AO101:AO109)","v":""}]
[null,null,9,{"$nulls":12},{"$f":"_xlfn.TEXTJOIN(\"^\",,L101:L110)","v":"8"},null,9,{"$nulls":11},{"$f":"_xlfn.TEXTJOIN(\"^\",,AB101:AB109)","v":""},null,9,{"$nulls":11},{"$f":"_xlfn.TEXTJOIN(\"^\",,AP101:AP109)","v":""}]
[{"$nulls":15},{"$f":"_xlfn.TEXTJOIN(\"^\",,M101:M110)","v":"3^6^2"},{"$nulls":13},{"$f":"_xlfn.TEXTJOIN(\"^\",,AC101:AC109)","v":""},{"$nulls":13},{"$f":"_xlfn.TEXTJOIN(\"^\",,AQ101:AQ109)","v":""}]
[{"$nulls":15},{"$f":"_xlfn.TEXTJOIN(\"^\",,N101:N110)","v":""},{"$nulls":12},"最终",{"$f":"_xlfn.TEXTJOIN(\"|\",,AD100:AD110)","v":"4^6^12|12|3^4^4|3^8^2|8^1|3^9^2|3^7^4"},{"$nulls":12},"最终",{"$f":"_xlfn.TEXTJOIN(\"^\",,AR100:AR110)","v":"3^3^3^3^3^5^5^5^9^9^9^15^15^15^15^15^23^23^23^23^23^23^33^33^33^33^33^33^45^45^45^45^45"}]
[{"$nulls":14},"最终",{"$f":"_xlfn.TEXTJOIN(\"|\",,P101:P111)","v":"4^2|7^3|3^3^5|7^3^2|4^4^2|7|6^3|3^7^3|8|3^6^2"}]
[{"$nulls":14},{"$f":"SUM(D101:N110)","v":97},{"$nulls":13},{"$f":"SUM(S101:AB110)","v":95},{"$nulls":13},{"$f":"COUNT(AG101:AP110)","v":33},{"$f":"AC113+AQ113+O113","v":225}]
[{"$nulls":4},{"$f":"E115-D115","v":6},{"$f":"F115-E115","v":7},8,5,10,10,10,5,10,{"$nulls":6},{"$f":"T115-S115","v":12},15,16,4,15,20,{"$nulls":8},{"$f":"AH115-AG115","v":3},4,5,6,7,8]
[1,"雪山-3","波1·怪物",4,10,17,25,30,40,50,60,65,75,null,null,null,3,"波2·怪物",3,15,30,46,50,65,85,{"$nulls":5},1,"波3·怪物",2,5,9,14,20,27,35]
[null,"5m",8,null,null,null,70122,null,null,70122,70121,null,70124,null,null,{"$f":"_xlfn.TEXTJOIN(\"^\",,D116:D125)","v":"70122^70121^70121^70122"},null,8,{"$nulls":11},{"$f":"_xlfn.TEXTJOIN(\"^\",,S116:S125)","v":"70122^70121^70124"},null,8,{"$nulls":4},70124,{"$nulls":6},{"$f":"_xlfn.TEXTJOIN(\"^\",,AG116:AG125)","v":"70121^70122^70122^70121"}]
[null,null,6,null,70124,70122,null,null,70124,null,70121,{"$nulls":4},{"$f":"_xlfn.TEXTJOIN(\"^\",,E116:E125)","v":"70124^70122^70122^70122^70124"},null,6,{"$nulls":11},{"$f":"_xlfn.TEXTJOIN(\"^\",,T116:T125)","v":"70122^70121"},null,6,null,null,null,70122,null,70122,70124,{"$nulls":4},{"$f":"_xlfn.TEXTJOIN(\"^\",,AH116:AH125)","v":"70124^70124^70124"}]
[null,null,4,70122,70122,null,70124,70125,70122,70121,70123,70125,70122,null,null,{"$f":"_xlfn.TEXTJOIN(\"^\",,F116:F125)","v":"70122^70123^70124^70123^70122"},null,4,{"$nulls":11},{"$f":"_xlfn.TEXTJOIN(\"^\",,U116:U125)","v":"70123^70122^70124"},null,4,70121,70124,null,70121,70121,70121,70122,{"$nulls":4},{"$f":"_xlfn.TEXTJOIN(\"^\",,AI116:AI125)","v":"70125^70125^70125"}]
[null,null,2,70121,null,70123,70121,70125,70123,70121,null,70125,70121,null,null,{"$f":"_xlfn.TEXTJOIN(\"^\",,G116:G125)","v":"70122^70124^70121^70122^70121^70124^70122"},null,2,{"$nulls":11},{"$f":"_xlfn.TEXTJOIN(\"^\",,V116:V125)","v":"70122^70121"},null,2,70122,null,70125,70123,70123,70121,70123,{"$nulls":4},{"$f":"_xlfn.TEXTJOIN(\"^\",,AJ116:AJ125)","v":"70122^70121^70123^70123^70121^70122"}]
[null,null,1,null,70122,70124,70122,70125,70122,70122,70124,70125,70126,null,null,{"$f":"_xlfn.TEXTJOIN(\"^\",,H116:H125)","v":"70125^70125^70125^70125^70125"},null,1,70122,70122,70123,70122,70125,70122,70123,{"$nulls":4},{"$f":"_xlfn.TEXTJOIN(\"^\",,W116:W125)","v":"70125^70127"},null,1,null,70124,70125,{"$nulls":8},{"$f":"_xlfn.TEXTJOIN(\"^\",,AK116:AK125)","v":"70124^70121^70123^70123^70121^70124"}]
[null,null,3,70121,null,70123,70121,70125,70123,70121,null,70125,70127,null,null,{"$f":"_xlfn.TEXTJOIN(\"^\",,I116:I125)","v":"70124^70122^70123^70122^70123^70122^70124"},null,3,70121,70121,70122,70121,70127,70121,70121,{"$nulls":4},{"$f":"_xlfn.TEXTJOIN(\"^\",,X116:X125)","v":"70122^70121^70124"},null,3,70122,null,70125,70123,70123,70121,70123,{"$nulls":4},{"$f":"_xlfn.TEXTJOIN(\"^\",,AL116:AL125)","v":"70122^70121^70121^70121^70121^70122"}]
[null,null,5,70122,70122,null,70124,70125,70122,70121,70123,70125,70122,null,null,{"$f":"_xlfn.TEXTJOIN(\"^\",,J116:J125)","v":"70122^70121^70121^70122^70121^70121^70122"},null,5,70124,null,70124,null,null,70124,70122,{"$nulls":4},{"$f":"_xlfn.TEXTJOIN(\"^\",,Y116:Y125)","v":"70123^70121^70122"},null,5,70121,70124,null,70121,null,70121,70122,{"$nulls":4},{"$f":"_xlfn.TEXTJOIN(\"^\",,AM116:AM125)","v":"70124^70122^70123^70123^70122^70124"}]
[null,null,7,null,70124,70122,null,null,70124,null,70121,{"$nulls":4},{"$f":"_xlfn.TEXTJOIN(\"^\",,K116:K125)","v":"70121^70121^70123^70124^70123^70121^70121"},null,7,{"$nulls":11},{"$f":"_xlfn.TEXTJOIN(\"^\",,Z116:Z125)","v":""},null,7,null,null,null,70122,70121,70122,70124,{"$nulls":4},{"$f":"_xlfn.TEXTJOIN(\"^\",,AN116:AN125)","v":""}]
[null,null,9,null,null,null,70122,null,null,70122,70121,null,70124,null,null,{"$f":"_xlfn.TEXTJOIN(\"^\",,L116:L125)","v":"70125^70125^70125^70125^70125"},null,9,{"$nulls":11},{"$f":"_xlfn.TEXTJOIN(\"^\",,AA116:AA125)","v":""},null,9,{"$nulls":4},70124,{"$nulls":6},{"$f":"_xlfn.TEXTJOIN(\"^\",,AO116:AO125)","v":""}]
[{"$nulls":15},{"$f":"_xlfn.TEXTJOIN(\"^\",,M116:M125)","v":"70124^70122^70121^70126^70127^70122^70124"},{"$nulls":13},{"$f":"_xlfn.TEXTJOIN(\"^\",,AB116:AB125)","v":""},{"$nulls":13},{"$f":"_xlfn.TEXTJOIN(\"^\",,AP116:AP125)","v":""}]
[{"$nulls":15},{"$f":"_xlfn.TEXTJOIN(\"^\",,N116:N125)","v":""},{"$nulls":13},{"$f":"_xlfn.TEXTJOIN(\"^\",,AC116:AC125)","v":""},{"$nulls":13},{"$f":"_xlfn.TEXTJOIN(\"^\",,AQ116:AQ125)","v":""}]
[{"$nulls":14},"最终",{"$f":"_xlfn.TEXTJOIN(\"^\",,P116:P126)","v":"70122^70121^70121^70122^70124^70122^70122^70122^70124^70122^70123^70124^70123^70122^70122^70124^70121^70122^70121^70124^70122^70125^70125^70125^70125^70125^70124^70122^70123^70122^70123^70122^70124^70122^70121^70121^70122^70121^70121^70122^70121^70121^70123^70124^70123^70121^70121^70125^70125^70125^70125^70125^70124^70122^70121^70126^70127^70122^70124"},{"$nulls":12},"最终",{"$f":"_xlfn.TEXTJOIN(\"|\",,AD116:AD126)","v":"70122^70121^70124|70122^70121|70123^70122^70124|70122^70121|70125^70127|70122^70121^70124|70123^70121^70122"},{"$nulls":12},"最终",{"$f":"_xlfn.TEXTJOIN(\"^\",,AR116:AR126)","v":"70121^70122^70122^70121^70124^70124^70124^70125^70125^70125^70122^70121^70123^70123^70121^70122^70124^70121^70123^70123^70121^70124^70122^70121^70121^70121^70121^70122^70124^70122^70123^70123^70122^70124"}]
[null,null,8,null,null,null,"独角兽",null,null,"独角兽","雪怪",null,"木精灵",{"$nulls":4},8,{"$nulls":13},8,{"$nulls":4},"木精灵"]
[null,null,6,null,"木精灵","独角兽",null,null,"木精灵",null,"雪怪",{"$nulls":6},6,{"$nulls":13},6,null,null,null,"独角兽",null,"独角兽","木精灵"]
[null,null,4,"独角兽","独角兽",null,"木精灵","雪山蜘蛛","独角兽","雪怪","雪原熊","雪山蜘蛛","独角兽",{"$nulls":4},4,{"$nulls":13},4,"雪怪","木精灵",null,"雪怪","雪怪","雪怪","独角兽"]
[null,null,2,"雪怪",null,"雪原熊","雪怪","雪山蜘蛛","雪原熊","雪怪",null,"雪山蜘蛛","雪怪",{"$nulls":4},2,{"$nulls":13},2,"独角兽",null,"雪山蜘蛛","雪原熊","雪原熊","雪怪","雪原熊"]
[null,null,1,null,"独角兽","木精灵","独角兽","雪山蜘蛛","独角兽","独角兽","木精灵","雪山蜘蛛","冰霜巨人",{"$nulls":4},1,"独角兽","独角兽","雪原熊","独角兽","雪山蜘蛛","独角兽","雪原熊",{"$nulls":6},1,null,"木精灵","雪山蜘蛛"]
[null,null,3,"雪怪",null,"雪原熊","雪怪","雪山蜘蛛","雪原熊","雪怪",null,"雪山蜘蛛","祭祀精英",{"$nulls":4},3,"雪怪","雪怪","独角兽","雪怪","祭祀精英","雪怪","雪怪",{"$nulls":6},3,"独角兽",null,"雪山蜘蛛","雪原熊","雪原熊","雪怪","雪原熊"]
[null,null,5,"独角兽","独角兽",null,"木精灵","雪山蜘蛛","独角兽","雪怪","雪原熊","雪山蜘蛛","独角兽",{"$nulls":4},5,"木精灵",null,"木精灵",null,null,"木精灵","独角兽",{"$nulls":6},5,"雪怪","木精灵",null,"雪怪",null,"雪怪","独角兽"]
[null,null,7,null,"木精灵","独角兽",null,null,"木精灵",null,"雪怪",{"$nulls":6},7,{"$nulls":13},7,null,null,null,"独角兽","雪怪","独角兽","木精灵"]
[null,null,9,null,null,null,"独角兽",null,null,"独角兽","雪怪",null,"木精灵",{"$nulls":4},9,{"$nulls":13},9,{"$nulls":4},"木精灵"]
[]
[null,null,"位置",4,10,17,25,30,40,50,60,65,75,{"$nulls":4},"位置",3,15,30,46,50,65,85,{"$nulls":6},"位置",2,5,9,14,20,27,35,{"$nulls":4},{"$f":"_xlfn.TEXTJOIN(\"^\",,AG139:AG153)","v":"4^2^3^5"}]
[null,null,8,null,null,null,{"$f":"$C139","v":8},null,null,{"$f":"$C139","v":8},{"$f":"$C139","v":8},null,{"$f":"$C139","v":8},null,null,{"$f":"_xlfn.TEXTJOIN(\"^\",,D139:D153)","v":"4^2^3^5"},null,8,{"$nulls":13},8,{"$nulls":4},{"$f":"$C139","v":8},{"$nulls":6},{"$f":"_xlfn.TEXTJOIN(\"^\",,AH139:AH153)","v":"4^1^5"}]
[null,null,6,null,{"$f":"$C140","v":6},{"$f":"$C140","v":6},null,null,{"$f":"$C140","v":6},null,{"$f":"$C140","v":6},{"$nulls":4},{"$f":"_xlfn.TEXTJOIN(\"^\",,E139:E153)","v":"6^4^1^5^7"},null,6,{"$nulls":11},{"$f":"_xlfn.TEXTJOIN(\"^\",,S139:S153)","v":"0^0^0"},null,6,null,null,null,{"$f":"$C140","v":6},null,{"$f":"$C140","v":6},6,{"$nulls":4},{"$f":"_xlfn.TEXTJOIN(\"^\",,AI139:AI153)","v":"102^103^104"}]
[null,null,4,{"$f":"$C141","v":4},{"$f":"$C141","v":4},null,{"$f":"$C141","v":4},null,4,4,4,null,{"$f":"$C141","v":4},null,null,{"$f":"_xlfn.TEXTJOIN(\"^\",,F139:F153)","v":"6^2^1^3^7"},null,4,{"$nulls":11},{"$f":"_xlfn.TEXTJOIN(\"^\",,T139:T153)","v":"0^0"},null,4,{"$f":"$C141","v":4},{"$f":"$C141","v":4},null,4,4,4,4,{"$nulls":4},{"$f":"_xlfn.TEXTJOIN(\"^\",,AJ139:AJ153)","v":"6^4^2^3^5^7"}]
[null,null,2,{"$f":"$C142","v":2},null,{"$f":"$C142","v":2},2,null,2,2,null,null,{"$f":"$C142","v":2},null,null,{"$f":"_xlfn.TEXTJOIN(\"^\",,G139:G153)","v":"8^4^2^1^3^5^9"},null,2,{"$nulls":11},{"$f":"_xlfn.TEXTJOIN(\"^\",,U139:U153)","v":"0^0^0"},null,2,2,null,null,2,2,2,2,{"$nulls":4},{"$f":"_xlfn.TEXTJOIN(\"^\",,AK139:AK153)","v":"8^4^2^3^7^9"}]
[null,null,1,null,{"$f":"$C143","v":1},1,1,null,1,1,{"$f":"$C143","v":1},null,{"$f":"$C143","v":1},null,null,{"$f":"_xlfn.TEXTJOIN(\"^\",,H139:H153)","v":"101^102^103^104^105"},null,1,0,0,0,0,100,0,0,{"$nulls":4},{"$f":"_xlfn.TEXTJOIN(\"^\",,V139:V153)","v":"0^0"},null,1,null,{"$f":"$C143","v":1},{"$nulls":9},{"$f":"_xlfn.TEXTJOIN(\"^\",,AL139:AL153)","v":"6^4^2^3^5^7"}]
[null,null,3,{"$f":"$C144","v":3},null,3,3,null,3,3,null,null,{"$f":"$C144","v":3},null,null,{"$f":"_xlfn.TEXTJOIN(\"^\",,I139:I153)","v":"6^4^2^1^3^5^7"},null,3,0,0,0,0,0,0,0,{"$nulls":4},{"$f":"_xlfn.TEXTJOIN(\"^\",,W139:W153)","v":"100^0"},null,3,{"$f":"$C144","v":3},null,null,{"$f":"$C144","v":3},{"$f":"$C144","v":3},{"$f":"$C144","v":3},3,{"$nulls":4},{"$f":"_xlfn.TEXTJOIN(\"^\",,AM139:AM153)","v":"6^4^2^3^5^7"}]
[null,null,5,{"$f":"$C145","v":5},{"$f":"$C145","v":5},null,5,null,5,5,5,null,{"$f":"$C145","v":5},null,null,{"$f":"_xlfn.TEXTJOIN(\"^\",,J139:J153)","v":"8^4^2^1^3^5^9"},null,5,0,null,0,null,null,0,0,{"$nulls":4},{"$f":"_xlfn.TEXTJOIN(\"^\",,X139:X153)","v":"0^0^0"},null,5,5,{"$f":"$C145","v":5},null,5,null,5,5,{"$nulls":4},{"$f":"_xlfn.TEXTJOIN(\"^\",,AN139:AN153)","v":""}]
[null,null,7,null,{"$f":"$C146","v":7},{"$f":"$C146","v":7},null,null,7,null,7,{"$nulls":4},{"$f":"_xlfn.TEXTJOIN(\"^\",,K139:K153)","v":"8^6^4^1^5^7^9"},null,7,{"$nulls":11},{"$f":"_xlfn.TEXTJOIN(\"^\",,Y139:Y153)","v":"0^0^0"},null,7,null,null,null,7,7,7,7,{"$nulls":4},{"$f":"_xlfn.TEXTJOIN(\"^\",,AO139:AO153)","v":""}]
[null,null,9,null,null,null,{"$f":"$C147","v":9},null,null,{"$f":"$C147","v":9},{"$f":"$C147","v":9},null,{"$f":"$C147","v":9},null,null,{"$f":"_xlfn.TEXTJOIN(\"^\",,L139:L153)","v":"101^102^103^104^105"},null,9,{"$nulls":13},9,{"$nulls":4},9,{"$nulls":6},{"$f":"_xlfn.TEXTJOIN(\"^\",,AP139:AP153)","v":""}]
[null,null,"空降",{"$nulls":12},{"$f":"_xlfn.TEXTJOIN(\"^\",,M139:M153)","v":"8^4^2^1^3^5^9"},null,"空降",{"$nulls":13},"空降",{"$nulls":11},{"$f":"_xlfn.TEXTJOIN(\"^\",,AQ139:AQ147)","v":""}]
[null,null,101,{"$nulls":4},{"$f":"$C149","v":101},null,null,null,{"$f":"$C149","v":101},null,null,null,{"$f":"_xlfn.TEXTJOIN(\"^\",,N139:N153)","v":""},null,101,{"$nulls":11},{"$f":"_xlfn.TEXTJOIN(\"^\",,Z139:Z153)","v":""},null,101]
[null,null,102,{"$nulls":4},{"$f":"$C150","v":102},null,null,null,{"$f":"$C150","v":102},{"$nulls":5},102,{"$nulls":11},{"$f":"_xlfn.TEXTJOIN(\"^\",,AA139:AA153)","v":""},null,102,null,null,{"$f":"$C150","v":102}]
[null,null,103,{"$nulls":4},{"$f":"$C151","v":103},null,null,null,{"$f":"$C151","v":103},{"$nulls":5},103,{"$nulls":11},{"$f":"_xlfn.TEXTJOIN(\"^\",,AB139:AB153)","v":""},null,103,null,null,{"$f":"$C151","v":103}]
[null,null,104,{"$nulls":4},{"$f":"$C152","v":104},null,null,null,{"$f":"$C152","v":104},{"$nulls":5},104,{"$nulls":13},104,null,null,{"$f":"$C152","v":104}]
[null,null,105,{"$nulls":4},{"$f":"$C153","v":105},null,null,null,{"$f":"$C153","v":105},{"$nulls":5},105,{"$nulls":13},105]
[{"$nulls":14},"最终",{"$f":"_xlfn.TEXTJOIN(\"^\",,P139:P153)","v":"4^2^3^5^6^4^1^5^7^6^2^1^3^7^8^4^2^1^3^5^9^101^102^103^104^105^6^4^2^1^3^5^7^8^4^2^1^3^5^9^8^6^4^1^5^7^9^101^102^103^104^105^8^4^2^1^3^5^9"},{"$nulls":12},"最终",{"$f":"_xlfn.TEXTJOIN(\"|\",,AD139:AD153)","v":"0^0^0|0^0|0^0^0|0^0|100^0|0^0^0|0^0^0"},{"$nulls":12},"最终",{"$f":"_xlfn.TEXTJOIN(\"^\",,AR138:AR153)","v":"4^2^3^5^4^1^5^102^103^104^6^4^2^3^5^7^8^4^2^3^7^9^6^4^2^3^5^7^6^4^2^3^5^7"}]
[]
[null,null,"时间",4,10,17,25,30,40,50,60,65,75,{"$nulls":4},"时间",3,15,30,46,50,65,85,{"$nulls":4},{"$f":"_xlfn.TEXTJOIN(\"^\",,S157:S165)","v":"5^16^3"},null,"时间",2,5,9,14,20,27,35,{"$nulls":4},{"$f":"_xlfn.TEXTJOIN(\"^\",,AG157:AG165)","v":"2^2^2^2"}]
[null,null,8,null,null,null,{"$f":"G$156","v":25},null,null,{"$f":"J$156","v":50},{"$f":"K$156","v":60},null,{"$f":"M$156","v":75},null,null,{"$f":"_xlfn.TEXTJOIN(\"^\",,D157:D166)","v":"4^4^4^4"},null,8,{"$nulls":11},{"$f":"_xlfn.TEXTJOIN(\"^\",,T157:T165)","v":"3^8"},null,8,{"$nulls":4},{"$f":"AK$156","v":20},{"$nulls":6},{"$f":"_xlfn.TEXTJOIN(\"^\",,AH157:AH165)","v":"5^5^5"}]
[null,null,6,null,{"$f":"E$156","v":10},{"$f":"F$156","v":17},null,null,{"$f":"I$156","v":40},null,60,{"$nulls":4},{"$f":"_xlfn.TEXTJOIN(\"^\",,E157:E166)","v":"10^10^10^10^10"},null,6,{"$nulls":11},{"$f":"_xlfn.TEXTJOIN(\"^\",,U157:U165)","v":"3^5^3"},null,6,null,null,null,{"$f":"AJ$156","v":14},null,{"$f":"AL$156","v":27},{"$f":"AM$156","v":35},{"$nulls":4},{"$f":"_xlfn.TEXTJOIN(\"^\",,AI157:AI165)","v":"9^9^9"}]
[null,null,4,{"$f":"D$156","v":4},{"$f":"E$156","v":10},null,{"$f":"G$156","v":25},{"$f":"H$156","v":30},40,50,60,{"$f":"L$156","v":65},75,null,null,{"$f":"_xlfn.TEXTJOIN(\"^\",,F157:F166)","v":"17^17^17^17^17"},null,4,{"$nulls":11},{"$f":"_xlfn.TEXTJOIN(\"^\",,V157:V165)","v":"4^8"},null,4,{"$f":"AG$156","v":2},{"$f":"AH$156","v":5},null,14,20,27,35,{"$nulls":4},{"$f":"_xlfn.TEXTJOIN(\"^\",,AJ157:AJ165)","v":"14^14^14^14^14^14"}]
[null,null,2,4,null,{"$f":"F$156","v":17},25,{"$f":"H$156","v":30},40,50,null,65,75,null,null,{"$f":"_xlfn.TEXTJOIN(\"^\",,G157:G166)","v":"25^25^25^25^25^25^25"},null,2,{"$nulls":11},{"$f":"_xlfn.TEXTJOIN(\"^\",,W157:W165)","v":"8^1"},null,2,2,null,{"$f":"AI$156","v":9},14,20,27,35,{"$nulls":4},{"$f":"_xlfn.TEXTJOIN(\"^\",,AK157:AK165)","v":"20^20^20^20^20^20"}]
[null,null,1,null,{"$f":"E$156","v":10},17,25,{"$f":"H$156","v":30},40,50,{"$f":"K$156","v":60},65,75,null,null,{"$f":"_xlfn.TEXTJOIN(\"^\",,H157:H166)","v":"30^30^30^30^30"},null,1,5,3,3,4,8,4,4,{"$nulls":4},{"$f":"_xlfn.TEXTJOIN(\"^\",,X157:X165)","v":"4^10^2"},null,1,null,{"$f":"AH$156","v":5},{"$f":"AI$156","v":9},{"$nulls":8},{"$f":"_xlfn.TEXTJOIN(\"^\",,AL157:AL165)","v":"27^27^27^27^27^27"}]
[null,null,3,{"$f":"D$156","v":4},null,17,25,{"$f":"H$156","v":30},40,50,null,65,75,null,null,{"$f":"_xlfn.TEXTJOIN(\"^\",,I157:I166)","v":"40^40^40^40^40^40^40"},null,3,16,8,5,8,1,10,12,{"$nulls":4},{"$f":"_xlfn.TEXTJOIN(\"^\",,Y157:Y165)","v":"4^12^3"},null,3,{"$f":"AG$156","v":2},null,{"$f":"AI$156","v":9},{"$f":"AJ$156","v":14},{"$f":"AK$156","v":20},{"$f":"AL$156","v":27},35,{"$nulls":4},{"$f":"_xlfn.TEXTJOIN(\"^\",,AM157:AM165)","v":"35^35^35^35^35^35"}]
[null,null,5,{"$f":"D$156","v":4},{"$f":"E$156","v":10},null,25,{"$f":"H$156","v":30},40,50,60,65,75,null,null,{"$f":"_xlfn.TEXTJOIN(\"^\",,J157:J166)","v":"50^50^50^50^50^50^50"},null,5,3,null,3,null,null,2,3,{"$nulls":4},{"$f":"_xlfn.TEXTJOIN(\"^\",,Z157:Z165)","v":""},null,5,2,{"$f":"AH$156","v":5},null,14,null,27,35,{"$nulls":4},{"$f":"_xlfn.TEXTJOIN(\"^\",,AN157:AN165)","v":""}]
[null,null,7,null,{"$f":"E$156","v":10},{"$f":"F$156","v":17},null,null,40,null,60,{"$nulls":4},{"$f":"_xlfn.TEXTJOIN(\"^\",,K157:K166)","v":"60^60^60^60^60^60^60"},null,7,{"$nulls":11},{"$f":"_xlfn.TEXTJOIN(\"^\",,AA157:AA165)","v":""},null,7,null,null,null,14,20,27,35,{"$nulls":4},{"$f":"_xlfn.TEXTJOIN(\"^\",,AO157:AO165)","v":""}]
[null,null,9,null,null,null,{"$f":"G$156","v":25},null,null,{"$f":"J$156","v":50},60,null,{"$f":"M$156","v":75},null,null,{"$f":"_xlfn.TEXTJOIN(\"^\",,L157:L166)","v":"65^65^65^65^65"},null,9,{"$nulls":11},{"$f":"_xlfn.TEXTJOIN(\"^\",,AB157:AB165)","v":""},null,9,{"$nulls":4},20,{"$nulls":6},{"$f":"_xlfn.TEXTJOIN(\"^\",,AP157:AP165)","v":""}]
[{"$nulls":15},{"$f":"_xlfn.TEXTJOIN(\"^\",,M157:M166)","v":"75^75^75^75^75^75^75"},{"$nulls":13},{"$f":"_xlfn.TEXTJOIN(\"^\",,AC157:AC165)","v":""},{"$nulls":13},{"$f":"_xlfn.TEXTJOIN(\"^\",,AQ157:AQ165)","v":""}]
[{"$nulls":15},{"$f":"_xlfn.TEXTJOIN(\"^\",,N157:N166)","v":""},{"$nulls":12},"最终",{"$f":"_xlfn.TEXTJOIN(\"|\",,AD156:AD166)","v":"5^16^3|3^8|3^5^3|4^8|8^1|4^10^2|4^12^3"},{"$nulls":12},"最终",{"$f":"_xlfn.TEXTJOIN(\"^\",,AR156:AR166)","v":"2^2^2^2^5^5^5^9^9^9^14^14^14^14^14^14^20^20^20^20^20^20^27^27^27^27^27^27^35^35^35^35^35^35"}]
[{"$nulls":14},"最终",{"$f":"_xlfn.TEXTJOIN(\"^\",,P157:P167)","v":"4^4^4^4^10^10^10^10^10^17^17^17^17^17^25^25^25^25^25^25^25^30^30^30^30^30^40^40^40^40^40^40^40^50^50^50^50^50^50^50^60^60^60^60^60^60^60^65^65^65^65^65^75^75^75^75^75^75^75"}]
[{"$nulls":14},{"$f":"COUNT(D157:N166)","v":59},{"$nulls":13},{"$f":"SUM(S157:AB166)","v":102},{"$nulls":13},{"$f":"COUNT(AG157:AP166)","v":34},{"$f":"AC169+AQ169+O169","v":195}]

{"sheet":"5","index":5,"n_rows":169,"n_cols":44,"rows_kept":169,"cut":false,"hidden":false,"merged":[]}
[]
[{"$nulls":4},{"$f":"E3-D3","v":10},{"$f":"F3-E3","v":15},16,14,15,16,17,18,4,{"$nulls":6},{"$f":"T3-S3","v":6},10,15,5,15,17,18,{"$nulls":7},{"$f":"AH3-AG3","v":2},4,7,7,8,10]
[3,"火山-1","波1·怪物",5,15,30,46,60,75,91,108,126,130,null,null,null,3,"波2·怪物",4,10,20,35,40,55,72,90,{"$nulls":4},1,"波3·怪物",2,4,8,15,22,30,40]
[null,"5m",8,{"$nulls":12},{"$f":"_xlfn.TEXTJOIN(\"^\",,D4:D13)","v":"70131^70132"},null,8,{"$nulls":11},{"$f":"_xlfn.TEXTJOIN(\"^\",,S4:S13)","v":"70131^70132"},null,8,{"$nulls":4},70134,{"$nulls":6},{"$f":"_xlfn.TEXTJOIN(\"^\",,AG4:AG13)","v":"70131^70131^70131^70131^70131"}]
[null,null,6,{"$nulls":12},{"$f":"_xlfn.TEXTJOIN(\"^\",,E4:E13)","v":"70132^70134"},null,6,{"$nulls":11},{"$f":"_xlfn.TEXTJOIN(\"^\",,T4:T13)","v":"70132^70134^70133"},null,6,{"$nulls":4},70132,70132,70134,{"$nulls":4},{"$f":"_xlfn.TEXTJOIN(\"^\",,AH4:AH13)","v":"70132^70134^70132"}]
[null,null,4,{"$nulls":12},{"$f":"_xlfn.TEXTJOIN(\"^\",,F4:F13)","v":"70131^70133^70132"},null,4,{"$nulls":11},{"$f":"_xlfn.TEXTJOIN(\"^\",,U4:U13)","v":"70133^70131^70134"},null,4,70131,70132,70135,70132,null,70131,70132,{"$nulls":4},{"$f":"_xlfn.TEXTJOIN(\"^\",,AI4:AI13)","v":"70135^70135^70135"}]
[null,null,2,{"$nulls":12},{"$f":"_xlfn.TEXTJOIN(\"^\",,G4:G13)","v":"70131^70132^70134"},null,2,{"$nulls":11},{"$f":"_xlfn.TEXTJOIN(\"^\",,V4:V13)","v":"70132^70131"},null,2,70131,null,null,70133,70131,70133,{"$nulls":5},{"$f":"_xlfn.TEXTJOIN(\"^\",,AJ4:AJ13)","v":"70132^70133^70134^70133^70132"}]
[null,null,1,70131,70132,70131,70131,70135,70133,70133,70132,70133,70135,null,null,{"$f":"_xlfn.TEXTJOIN(\"^\",,H4:H13)","v":"70135"},null,1,70131,70132,70133,70132,70135,70133,70133,70133,null,null,null,{"$f":"_xlfn.TEXTJOIN(\"^\",,W4:W13)","v":"70135^70136"},null,1,70131,70134,70135,70134,70131,70133,70132,{"$nulls":4},{"$f":"_xlfn.TEXTJOIN(\"^\",,AK4:AK13)","v":"70134^70132^70131^70131^70131^70132^70134"}]
[null,null,3,70132,70134,70133,70132,null,70132,70132,70131,70132,70136,null,null,{"$f":"_xlfn.TEXTJOIN(\"^\",,I4:I13)","v":"70133^70132^70134"},null,3,70132,70134,70131,70131,70136,70131,70131,70131,null,null,null,{"$f":"_xlfn.TEXTJOIN(\"^\",,X4:X13)","v":"70133^70131^70134"},null,3,70131,null,null,70133,70131,70133,{"$nulls":5},{"$f":"_xlfn.TEXTJOIN(\"^\",,AL4:AL13)","v":"70132^70131^70133^70133^70133^70131^70132"}]
[null,null,5,null,null,70132,70134,null,70134,70131,null,70134,null,null,null,{"$f":"_xlfn.TEXTJOIN(\"^\",,J4:J13)","v":"70133^70132^70131"},null,5,null,70133,70134,null,null,70134,70132,70132,null,null,null,{"$f":"_xlfn.TEXTJOIN(\"^\",,Y4:Y13)","v":"70133^70131^70132"},null,5,70131,70132,70135,70132,null,70131,70132,{"$nulls":4},{"$f":"_xlfn.TEXTJOIN(\"^\",,AM4:AM13)","v":"70134^70132^70132^70132^70134"}]
[null,null,7,{"$nulls":12},{"$f":"_xlfn.TEXTJOIN(\"^\",,K4:K13)","v":"70132^70131"},null,7,{"$nulls":11},{"$f":"_xlfn.TEXTJOIN(\"^\",,Z4:Z13)","v":"70133^70131^70132"},null,7,{"$nulls":4},70132,70132,70134,{"$nulls":4},{"$f":"_xlfn.TEXTJOIN(\"^\",,AN4:AN13)","v":""}]
[null,null,9,{"$nulls":12},{"$f":"_xlfn.TEXTJOIN(\"^\",,L4:L13)","v":"70133^70132^70134"},null,9,{"$nulls":11},{"$f":"_xlfn.TEXTJOIN(\"^\",,AA4:AA13)","v":""},null,9,{"$nulls":4},70134,{"$nulls":6},{"$f":"_xlfn.TEXTJOIN(\"^\",,AO4:AO13)","v":""}]
[{"$nulls":15},{"$f":"_xlfn.TEXTJOIN(\"^\",,M4:M13)","v":"70135^70136"},{"$nulls":13},{"$f":"_xlfn.TEXTJOIN(\"^\",,AB4:AB13)","v":""},{"$nulls":13},{"$f":"_xlfn.TEXTJOIN(\"^\",,AP4:AP13)","v":""}]
[{"$nulls":15},{"$f":"_xlfn.TEXTJOIN(\"^\",,N4:N13)","v":""},{"$nulls":13},{"$f":"_xlfn.TEXTJOIN(\"^\",,AC4:AC13)","v":""},{"$nulls":13},{"$f":"_xlfn.TEXTJOIN(\"^\",,AQ4:AQ13)","v":""}]
[{"$nulls":14},"最终",{"$f":"_xlfn.TEXTJOIN(\"|\",,P4:P14)","v":"70131^70132|70132^70134|70131^70133^70132|70131^70132^70134|70135|70133^70132^70134|70133^70132^70131|70132^70131|70133^70132^70134|70135^70136"},{"$nulls":12},"最终",{"$f":"_xlfn.TEXTJOIN(\"|\",,AD4:AD14)","v":"70131^70132|70132^70134^70133|70133^70131^70134|70132^70131|70135^70136|70133^70131^70134|70133^70131^70132|70133^70131^70132"},{"$nulls":12},"最终",{"$f":"_xlfn.TEXTJOIN(\"^\",,AR4:AR14)","v":"70131^70131^70131^70131^70131^70132^70134^70132^70135^70135^70135^70132^70133^70134^70133^70132^70134^70132^70131^70131^70131^70132^70134^70132^70131^70133^70133^70133^70131^70132^70134^70132^70132^70132^70134"}]
[null,null,8,{"$nulls":14},8,{"$nulls":13},8,{"$nulls":4},"火精灵"]
[null,null,6,{"$nulls":14},6,{"$nulls":13},6,{"$nulls":4},"岩浆人","岩浆人","火精灵"]
[null,null,4,{"$nulls":14},4,{"$nulls":13},4,"岩浆蝎","岩浆人","火山蜘蛛","岩浆人",null,"岩浆蝎","岩浆人"]
[null,null,2,{"$nulls":14},2,{"$nulls":13},2,"岩浆蝎",null,null,"岩浆战士","岩浆蝎","岩浆战士"]
[null,null,1,"岩浆蝎","岩浆人","岩浆蝎","岩浆蝎","火山蜘蛛","岩浆战士","岩浆战士","岩浆人","岩浆战士","火山蜘蛛",{"$nulls":4},1,"岩浆蝎","岩浆人","岩浆战士","岩浆人","火山蜘蛛","岩浆战士","岩浆战士","岩浆战士",{"$nulls":5},1,"岩浆蝎","火精灵","火山蜘蛛","火精灵","岩浆蝎","岩浆战士","岩浆人"]
[null,null,3,"岩浆人","火精灵","岩浆战士","岩浆人",null,"岩浆人","岩浆人","岩浆蝎","岩浆人","野蛮战士",{"$nulls":4},3,"岩浆人","火精灵","岩浆蝎","岩浆蝎","野蛮战士","岩浆蝎","岩浆蝎","岩浆蝎",{"$nulls":5},3,"岩浆蝎",null,null,"岩浆战士","岩浆蝎","岩浆战士"]
[null,null,5,null,null,"岩浆人","火精灵",null,"火精灵","岩浆蝎",null,"火精灵",{"$nulls":5},5,null,"岩浆战士","火精灵",null,null,"火精灵","岩浆人","岩浆人",{"$nulls":5},5,"岩浆蝎","岩浆人","火山蜘蛛","岩浆人",null,"岩浆蝎","岩浆人"]
[null,null,7,{"$nulls":14},7,{"$nulls":13},7,{"$nulls":4},"岩浆人","岩浆人","火精灵"]
[null,null,9,{"$nulls":14},9,{"$nulls":13},9,{"$nulls":4},"火精灵"]
[]
[null,null,"位置",5,15,30,46,60,75,91,108,126,130,{"$nulls":4},"位置",4,10,20,35,40,55,72,90,{"$nulls":5},"位置",2,4,8,15,22,30,40,{"$nulls":4},{"$f":"_xlfn.TEXTJOIN(\"^\",,AG27:AG41)","v":"4^2^1^3^5"}]
[null,null,8,{"$nulls":12},{"$f":"_xlfn.TEXTJOIN(\"^\",,D27:D41)","v":"0^0"},null,8,{"$nulls":13},8,{"$nulls":4},{"$f":"$C27","v":8},{"$nulls":6},{"$f":"_xlfn.TEXTJOIN(\"^\",,AH27:AH41)","v":"4^1^5"}]
[null,null,6,{"$nulls":12},{"$f":"_xlfn.TEXTJOIN(\"^\",,E27:E41)","v":"0^0"},null,6,{"$nulls":11},{"$f":"_xlfn.TEXTJOIN(\"^\",,S27:S41)","v":"0^0"},null,6,{"$nulls":4},6,6,6,{"$nulls":4},{"$f":"_xlfn.TEXTJOIN(\"^\",,AI27:AI41)","v":"101^103^105"}]
[null,null,4,{"$nulls":12},{"$f":"_xlfn.TEXTJOIN(\"^\",,F27:F41)","v":"0^0^0"},null,4,{"$nulls":11},{"$f":"_xlfn.TEXTJOIN(\"^\",,T27:T41)","v":"0^0^0"},null,4,{"$f":"$C29","v":4},4,null,{"$f":"$C29","v":4},null,4,4,{"$nulls":4},{"$f":"_xlfn.TEXTJOIN(\"^\",,AJ27:AJ41)","v":"4^2^1^3^5"}]
[null,null,2,{"$nulls":12},{"$f":"_xlfn.TEXTJOIN(\"^\",,G27:G41)","v":"0^0^0"},null,2,{"$nulls":11},{"$f":"_xlfn.TEXTJOIN(\"^\",,U27:U41)","v":"0^0^0"},null,2,2,null,null,2,2,2,{"$nulls":5},{"$f":"_xlfn.TEXTJOIN(\"^\",,AK27:AK41)","v":"8^6^2^1^3^7^9"}]
[null,null,1,0,0,0,0,100,0,0,0,0,100,null,null,{"$f":"_xlfn.TEXTJOIN(\"^\",,H27:H41)","v":"100"},null,1,0,0,0,0,100,0,0,0,null,null,null,{"$f":"_xlfn.TEXTJOIN(\"^\",,V27:V41)","v":"0^0"},null,1,1,{"$f":"$C31","v":1},null,1,1,1,{"$f":"$C31","v":1},{"$nulls":4},{"$f":"_xlfn.TEXTJOIN(\"^\",,AL27:AL41)","v":"6^4^2^1^3^5^7"}]
[null,null,3,0,0,0,0,null,0,0,0,0,0,null,null,{"$f":"_xlfn.TEXTJOIN(\"^\",,I27:I41)","v":"0^0^0"},null,3,0,0,0,0,0,0,0,0,null,null,null,{"$f":"_xlfn.TEXTJOIN(\"^\",,W27:W41)","v":"100^0"},null,3,{"$f":"$C32","v":3},null,null,3,3,3,{"$nulls":5},{"$f":"_xlfn.TEXTJOIN(\"^\",,AM27:AM41)","v":"6^4^1^5^7"}]
[null,null,5,null,null,0,0,null,0,0,null,0,null,null,null,{"$f":"_xlfn.TEXTJOIN(\"^\",,J27:J41)","v":"0^0^0"},null,5,null,0,0,null,null,0,0,0,null,null,null,{"$f":"_xlfn.TEXTJOIN(\"^\",,X27:X41)","v":"0^0^0"},null,5,5,5,null,5,null,5,5,{"$nulls":4},{"$f":"_xlfn.TEXTJOIN(\"^\",,AN27:AN41)","v":""}]
[null,null,7,{"$nulls":12},{"$f":"_xlfn.TEXTJOIN(\"^\",,K27:K41)","v":"0^0"},null,7,{"$nulls":11},{"$f":"_xlfn.TEXTJOIN(\"^\",,Y27:Y41)","v":"0^0^0"},null,7,{"$nulls":4},{"$f":"$C34","v":7},7,7,{"$nulls":4},{"$f":"_xlfn.TEXTJOIN(\"^\",,AO27:AO41)","v":""}]
[null,null,9,{"$nulls":12},{"$f":"_xlfn.TEXTJOIN(\"^\",,L27:L41)","v":"0^0^0"},null,9,{"$nulls":13},9,{"$nulls":4},9,{"$nulls":6},{"$f":"_xlfn.TEXTJOIN(\"^\",,AP27:AP41)","v":""}]
[null,null,"空降",{"$nulls":12},{"$f":"_xlfn.TEXTJOIN(\"^\",,M27:M41)","v":"100^0"},null,"空降",{"$nulls":13},"空降",{"$nulls":11},{"$f":"_xlfn.TEXTJOIN(\"^\",,AQ27:AQ35)","v":""}]
[null,null,101,{"$nulls":12},{"$f":"_xlfn.TEXTJOIN(\"^\",,N27:N41)","v":""},null,101,{"$nulls":11},{"$f":"_xlfn.TEXTJOIN(\"^\",,Z27:Z41)","v":"0^0^0"},null,101,null,null,{"$f":"$C37","v":101}]
[null,null,102,{"$nulls":14},102,{"$nulls":11},{"$f":"_xlfn.TEXTJOIN(\"^\",,AA27:AA41)","v":""},null,102]
[null,null,103,{"$nulls":14},103,{"$nulls":11},{"$f":"_xlfn.TEXTJOIN(\"^\",,AB27:AB41)","v":""},null,103,null,null,{"$f":"$C39","v":103}]
[null,null,104,{"$nulls":14},104,{"$nulls":13},104]
[null,null,105,{"$nulls":14},105,{"$nulls":13},105,null,null,{"$f":"$C41","v":105}]
[{"$nulls":14},"最终",{"$f":"_xlfn.TEXTJOIN(\"|\",,P27:P41)","v":"0^0|0^0|0^0^0|0^0^0|100|0^0^0|0^0^0|0^0|0^0^0|100^0"},{"$nulls":12},"最终",{"$f":"_xlfn.TEXTJOIN(\"|\",,AD27:AD41)","v":"0^0|0^0^0|0^0^0|0^0|100^0|0^0^0|0^0^0|0^0^0"},{"$nulls":12},"最终",{"$f":"_xlfn.TEXTJOIN(\"^\",,AR26:AR41)","v":"4^2^1^3^5^4^1^5^101^103^105^4^2^1^3^5^8^6^2^1^3^7^9^6^4^2^1^3^5^7^6^4^1^5^7"}]
[]
[null,null,"时间",5,15,30,46,60,75,91,108,126,130,{"$nulls":4},"时间",4,10,20,35,40,55,72,90,null,null,null,{"$f":"_xlfn.TEXTJOIN(\"^\",,S45:S53)","v":"16^6"},null,"时间",2,4,8,15,22,30,40,{"$nulls":4},{"$f":"_xlfn.TEXTJOIN(\"^\",,AG45:AG53)","v":"2^2^2^2^2"}]
[null,null,8,{"$nulls":12},{"$f":"_xlfn.TEXTJOIN(\"^\",,D45:D54)","v":"6^2"},null,8,{"$nulls":11},{"$f":"_xlfn.TEXTJOIN(\"^\",,T45:T53)","v":"5^3^2"},null,8,{"$nulls":4},{"$f":"AK$44","v":22},{"$nulls":6},{"$f":"_xlfn.TEXTJOIN(\"^\",,AH45:AH53)","v":"4^4^4"}]
[null,null,6,{"$nulls":12},{"$f":"_xlfn.TEXTJOIN(\"^\",,E45:E54)","v":"4^3"},null,6,{"$nulls":11},{"$f":"_xlfn.TEXTJOIN(\"^\",,U45:U53)","v":"2^8^2"},null,6,{"$nulls":4},22,30,{"$f":"AM$44","v":40},{"$nulls":4},{"$f":"_xlfn.TEXTJOIN(\"^\",,AI45:AI53)","v":"8^8^8"}]
[null,null,4,{"$nulls":12},{"$f":"_xlfn.TEXTJOIN(\"^\",,F45:F54)","v":"6^2^3"},null,4,{"$nulls":11},{"$f":"_xlfn.TEXTJOIN(\"^\",,V45:V53)","v":"4^8"},null,4,{"$f":"AG$44","v":2},{"$f":"AH$44","v":4},{"$f":"AI$44","v":8},{"$f":"AJ$44","v":15},null,30,{"$f":"AM$44","v":40},{"$nulls":4},{"$f":"_xlfn.TEXTJOIN(\"^\",,AJ45:AJ53)","v":"15^15^15^15^15"}]
[null,null,2,{"$nulls":12},{"$f":"_xlfn.TEXTJOIN(\"^\",,G45:G54)","v":"7^3^2"},null,2,{"$nulls":11},{"$f":"_xlfn.TEXTJOIN(\"^\",,W45:W53)","v":"8^1"},null,2,2,null,null,15,{"$f":"AK$44","v":22},30,{"$nulls":5},{"$f":"_xlfn.TEXTJOIN(\"^\",,AK45:AK53)","v":"22^22^22^22^22^22^22"}]
[null,null,1,6,4,6,7,8,3,2,4,3,8,null,null,{"$f":"_xlfn.TEXTJOIN(\"^\",,H45:H54)","v":"8"},null,1,16,5,2,4,8,2,2,3,null,null,null,{"$f":"_xlfn.TEXTJOIN(\"^\",,X45:X53)","v":"2^9^2"},null,1,2,{"$f":"AH$44","v":4},{"$f":"AI$44","v":8},15,{"$f":"AK$44","v":22},30,{"$f":"AM$44","v":40},{"$nulls":4},{"$f":"_xlfn.TEXTJOIN(\"^\",,AL45:AL53)","v":"30^30^30^30^30^30^30"}]
[null,null,3,2,3,2,3,null,4,3,8,4,1,null,null,{"$f":"_xlfn.TEXTJOIN(\"^\",,I45:I54)","v":"3^4^3"},null,3,6,3,8,8,1,9,9,8,null,null,null,{"$f":"_xlfn.TEXTJOIN(\"^\",,Y45:Y53)","v":"2^9^3"},null,3,{"$f":"AG$44","v":2},null,null,15,{"$f":"AK$44","v":22},{"$f":"AL$44","v":30},{"$nulls":5},{"$f":"_xlfn.TEXTJOIN(\"^\",,AM45:AM53)","v":"40^40^40^40^40"}]
[null,null,5,null,null,3,2,null,3,8,null,2,null,null,null,{"$f":"_xlfn.TEXTJOIN(\"^\",,J45:J54)","v":"2^3^8"},null,5,null,2,2,null,null,2,3,4,null,null,null,{"$f":"_xlfn.TEXTJOIN(\"^\",,Z45:Z53)","v":"3^8^4"},null,5,2,{"$f":"AH$44","v":4},{"$f":"AI$44","v":8},15,null,30,40,{"$nulls":4},{"$f":"_xlfn.TEXTJOIN(\"^\",,AN45:AN53)","v":""}]
[null,null,7,{"$nulls":12},{"$f":"_xlfn.TEXTJOIN(\"^\",,K45:K54)","v":"4^8"},null,7,{"$nulls":11},{"$f":"_xlfn.TEXTJOIN(\"^\",,AA45:AA53)","v":""},null,7,{"$nulls":4},{"$f":"AK$44","v":22},30,40,{"$nulls":4},{"$f":"_xlfn.TEXTJOIN(\"^\",,AO45:AO53)","v":""}]
[null,null,9,{"$nulls":12},{"$f":"_xlfn.TEXTJOIN(\"^\",,L45:L54)","v":"3^4^2"},null,9,{"$nulls":11},{"$f":"_xlfn.TEXTJOIN(\"^\",,AB45:AB53)","v":""},null,9,{"$nulls":4},22,{"$nulls":6},{"$f":"_xlfn.TEXTJOIN(\"^\",,AP45:AP53)","v":""}]
[{"$nulls":15},{"$f":"_xlfn.TEXTJOIN(\"^\",,M45:M54)","v":"8^1"},{"$nulls":13},{"$f":"_xlfn.TEXTJOIN(\"^\",,AC45:AC53)","v":""},{"$nulls":13},{"$f":"_xlfn.TEXTJOIN(\"^\",,AQ45:AQ53)","v":""}]
[{"$nulls":15},{"$f":"_xlfn.TEXTJOIN(\"^\",,N45:N54)","v":""},{"$nulls":12},"最终",{"$f":"_xlfn.TEXTJOIN(\"|\",,AD44:AD54)","v":"16^6|5^3^2|2^8^2|4^8|8^1|2^9^2|2^9^3|3^8^4"},{"$nulls":12},"最终",{"$f":"_xlfn.TEXTJOIN(\"^\",,AR44:AR54)","v":"2^2^2^2^2^4^4^4^8^8^8^15^15^15^15^15^22^22^22^22^22^22^22^30^30^30^30^30^30^30^40^40^40^40^40"}]
[{"$nulls":14},"最终",{"$f":"_xlfn.TEXTJOIN(\"|\",,P45:P55)","v":"6^2|4^3|6^2^3|7^3^2|8|3^4^3|2^3^8|4^8|3^4^2|8^1"}]
[{"$nulls":14},{"$f":"SUM(D45:N54)","v":99},{"$nulls":13},{"$f":"SUM(S45:AB54)","v":107},{"$nulls":13},{"$f":"COUNT(AG45:AP54)","v":35},{"$f":"AC57+AQ57+O57","v":241}]
[{"$nulls":4},{"$f":"E59-D59","v":9},{"$f":"F59-E59","v":15},16,4,15,5,15,5,15,{"$nulls":6},{"$f":"T59-S59","v":6},15,16,4,15,17,3,15,{"$nulls":6},{"$f":"AH59-AG59","v":2},3,4,5,8,{"$f":"AM59-AL59","v":10},{"$f":"AN59-AM59","v":10}]
[3,"火山-2","波1·怪物",6,15,30,46,50,65,70,85,90,105,null,null,null,3,"波2·怪物",4,10,25,41,45,60,77,80,95,null,null,null,1,"波3·怪物",3,5,8,12,17,25,35,45]
[null,"5m",8,{"$nulls":12},{"$f":"_xlfn.TEXTJOIN(\"^\",,D60:D69)","v":"70142^70144"},null,8,{"$nulls":11},{"$f":"_xlfn.TEXTJOIN(\"^\",,S60:S69)","v":"70141^70142"},null,8,{"$nulls":4},70144,null,70144,{"$nulls":4},{"$f":"_xlfn.TEXTJOIN(\"^\",,AG60:AG69)","v":"70144^70141^70141^70144"}]
[null,null,6,{"$nulls":12},{"$f":"_xlfn.TEXTJOIN(\"^\",,E60:E69)","v":"70141^70142"},null,6,{"$nulls":11},{"$f":"_xlfn.TEXTJOIN(\"^\",,T60:T69)","v":"70143^70142"},null,6,null,null,null,70142,70142,70142,70142,{"$nulls":4},{"$f":"_xlfn.TEXTJOIN(\"^\",,AH60:AH69)","v":"70142^70142^70142"}]
[null,null,4,{"$nulls":12},{"$f":"_xlfn.TEXTJOIN(\"^\",,F60:F69)","v":"70144^70143^70142"},null,4,{"$nulls":11},{"$f":"_xlfn.TEXTJOIN(\"^\",,U60:U69)","v":"70143^70141^70142"},null,4,70144,70142,70145,70141,70141,70141,70141,70142,null,null,null,{"$f":"_xlfn.TEXTJOIN(\"^\",,AI60:AI69)","v":"70145^70145^70145"}]
[null,null,2,70142,70141,70144,70141,70145,70143,70145,70142,70145,70143,null,null,{"$f":"_xlfn.TEXTJOIN(\"^\",,G60:G69)","v":"70141^70142^70144"},null,2,{"$nulls":11},{"$f":"_xlfn.TEXTJOIN(\"^\",,V60:V69)","v":"70143^70142^70141"},null,2,70141,null,null,70143,null,70143,null,70142,null,null,null,{"$f":"_xlfn.TEXTJOIN(\"^\",,AJ60:AJ69)","v":"70142^70141^70143^70146^70143^70141^70142"}]
[null,null,1,70144,70142,70143,70142,null,70142,null,70144,70146,70142,null,null,{"$f":"_xlfn.TEXTJOIN(\"^\",,H60:H69)","v":"70145"},null,1,70141,70143,70143,70143,70145,70142,70142,70145,70143,null,null,{"$f":"_xlfn.TEXTJOIN(\"^\",,W60:W69)","v":"70145"},null,1,null,70142,70145,70146,70142,null,null,70144,null,null,null,{"$f":"_xlfn.TEXTJOIN(\"^\",,AK60:AK69)","v":"70144^70142^70141^70142^70141^70142^70144"}]
[null,null,3,null,null,70142,70144,null,70144,null,70141,null,70144,null,null,{"$f":"_xlfn.TEXTJOIN(\"^\",,I60:I69)","v":"70143^70142^70144"},null,3,70142,70142,70141,70142,null,70143,70141,null,70141,null,null,{"$f":"_xlfn.TEXTJOIN(\"^\",,X60:X69)","v":"70142^70143^70143^70141"},null,3,70141,null,null,70143,null,70143,null,70142,null,null,null,{"$f":"_xlfn.TEXTJOIN(\"^\",,AL60:AL69)","v":"70142^70141^70143^70143^70141^70142"}]
[null,null,5,{"$nulls":12},{"$f":"_xlfn.TEXTJOIN(\"^\",,J60:J69)","v":"70145"},null,5,null,null,70142,70141,null,70143,null,null,70142,null,null,{"$f":"_xlfn.TEXTJOIN(\"^\",,Y60:Y69)","v":"70142^70141"},null,5,70144,70142,70145,70141,70141,70141,70141,70142,null,null,null,{"$f":"_xlfn.TEXTJOIN(\"^\",,AM60:AM69)","v":"70144^70142^70141^70141^70142^70144"}]
[null,null,7,{"$nulls":12},{"$f":"_xlfn.TEXTJOIN(\"^\",,K60:K69)","v":"70142^70144^70141"},null,7,{"$nulls":5},70141,{"$nulls":5},{"$f":"_xlfn.TEXTJOIN(\"^\",,Z60:Z69)","v":"70145"},null,7,null,null,null,70142,70142,70142,70142,{"$nulls":4},{"$f":"_xlfn.TEXTJOIN(\"^\",,AN60:AN69)","v":"70142^70142^70144^70142^70142"}]
[null,null,9,{"$nulls":12},{"$f":"_xlfn.TEXTJOIN(\"^\",,L60:L69)","v":"70145^70146"},null,9,{"$nulls":11},{"$f":"_xlfn.TEXTJOIN(\"^\",,AA60:AA69)","v":"70143^70141^70142"},null,9,{"$nulls":4},70144,null,70144,{"$nulls":4},{"$f":"_xlfn.TEXTJOIN(\"^\",,AO60:AO69)","v":""}]
[{"$nulls":15},{"$f":"_xlfn.TEXTJOIN(\"^\",,M60:M69)","v":"70143^70142^70144"},{"$nulls":13},{"$f":"_xlfn.TEXTJOIN(\"^\",,AB60:AB69)","v":""},{"$nulls":13},{"$f":"_xlfn.TEXTJOIN(\"^\",,AP60:AP69)","v":""}]
[{"$nulls":15},{"$f":"_xlfn.TEXTJOIN(\"^\",,N60:N69)","v":""},{"$nulls":13},{"$f":"_xlfn.TEXTJOIN(\"^\",,AC60:AC69)","v":""},{"$nulls":13},{"$f":"_xlfn.TEXTJOIN(\"^\",,AQ60:AQ69)","v":""}]
[{"$nulls":14},"最终",{"$f":"_xlfn.TEXTJOIN(\"|\",,P60:P70)","v":"70142^70144|70141^70142|70144^70143^70142|70141^70142^70144|70145|70143^70142^70144|70145|70142^70144^70141|70145^70146|70143^70142^70144"},{"$nulls":12},"最终",{"$f":"_xlfn.TEXTJOIN(\"|\",,AD60:AD70)","v":"70141^70142|70143^70142|70143^70141^70142|70143^70142^70141|70145|70142^70143^70143^70141|70142^70141|70145|70143^70141^70142"},{"$nulls":12},"最终",{"$f":"_xlfn.TEXTJOIN(\"^\",,AR60:AR70)","v":"70144^70141^70141^70144^70142^70142^70142^70145^70145^70145^70142^70141^70143^70146^70143^70141^70142^70144^70142^70141^70142^70141^70142^70144^70142^70141^70143^70143^70141^70142^70144^70142^70141^70141^70142^70144^70142^70142^70144^70142^70142"}]
[null,null,8,{"$nulls":14},8,{"$nulls":13},8,{"$nulls":4},"火精灵",null,"火精灵"]
[null,null,6,{"$nulls":14},6,{"$nulls":13},6,null,null,null,"岩浆人","岩浆人","岩浆人","岩浆人"]
[null,null,4,{"$nulls":14},4,{"$nulls":13},4,"火精灵","岩浆人","火山蜘蛛","岩浆蝎","岩浆蝎","岩浆蝎","岩浆蝎","岩浆人"]
[null,null,2,"岩浆人","岩浆蝎","火精灵","岩浆蝎","火山蜘蛛","岩浆战士","火山蜘蛛","岩浆人","火山蜘蛛","岩浆战士",{"$nulls":4},2,{"$nulls":13},2,"岩浆蝎",null,null,"岩浆战士",null,"岩浆战士",null,"岩浆人"]
[null,null,1,"火精灵","岩浆人","岩浆战士","岩浆人",null,"岩浆人",null,"火精灵","蘑菇王","岩浆人",{"$nulls":4},1,"岩浆蝎","火精灵","岩浆战士","火精灵","火山蜘蛛","岩浆人","岩浆人","火山蜘蛛","岩浆战士",{"$nulls":4},1,null,"岩浆人","火山蜘蛛","蘑菇王","岩浆人",null,null,"火精灵"]
[null,null,3,null,null,"岩浆人","火精灵",null,"火精灵",null,"岩浆蝎",null,"火精灵",{"$nulls":4},3,"岩浆人","岩浆人","岩浆蝎","岩浆人",null,"岩浆战士","岩浆蝎",null,"岩浆蝎",{"$nulls":4},3,"岩浆蝎",null,null,"岩浆战士",null,"岩浆战士",null,"岩浆人"]
[null,null,5,{"$nulls":14},5,null,null,"岩浆人","岩浆蝎",null,"火精灵",null,null,"岩浆人",{"$nulls":4},5,"火精灵","岩浆人","火山蜘蛛","岩浆蝎","岩浆蝎","岩浆蝎","岩浆蝎","岩浆人"]
[null,null,7,{"$nulls":14},7,{"$nulls":5},"岩浆蝎",{"$nulls":7},7,null,null,null,"岩浆人","岩浆人","岩浆人","岩浆人"]
[null,null,9,{"$nulls":14},9,{"$nulls":13},9,{"$nulls":4},"火精灵",null,"火精灵"]
[]
[null,null,"位置",6,15,30,46,50,65,70,85,90,105,{"$nulls":4},"位置",4,10,25,41,45,60,77,80,95,{"$nulls":4},"位置",3,5,8,12,17,25,35,45,null,null,null,{"$f":"_xlfn.TEXTJOIN(\"^\",,AG83:AG97)","v":"4^2^3^5"}]
[null,null,8,{"$nulls":12},{"$f":"_xlfn.TEXTJOIN(\"^\",,D83:D97)","v":"0^0"},null,8,{"$nulls":13},8,{"$nulls":4},{"$f":"$C83","v":8},null,{"$f":"$C83","v":8},{"$nulls":4},{"$f":"_xlfn.TEXTJOIN(\"^\",,AH83:AH97)","v":"4^1^5"}]
[null,null,6,{"$nulls":12},{"$f":"_xlfn.TEXTJOIN(\"^\",,E83:E97)","v":"0^0"},null,6,{"$nulls":11},{"$f":"_xlfn.TEXTJOIN(\"^\",,S83:S97)","v":"0^0"},null,6,null,null,null,{"$f":"$C84","v":6},6,6,6,{"$nulls":4},{"$f":"_xlfn.TEXTJOIN(\"^\",,AI83:AI97)","v":"101^103^105"}]
[null,null,4,{"$nulls":12},{"$f":"_xlfn.TEXTJOIN(\"^\",,F83:F97)","v":"0^0^0"},null,4,{"$nulls":11},{"$f":"_xlfn.TEXTJOIN(\"^\",,T83:T97)","v":"0^0"},null,4,{"$f":"$C85","v":4},{"$f":"$C85","v":4},null,4,4,4,4,4,null,null,null,{"$f":"_xlfn.TEXTJOIN(\"^\",,AJ83:AJ97)","v":"6^4^2^1^3^5^7"}]
[null,null,2,0,0,0,0,100,0,100,0,100,0,null,null,{"$f":"_xlfn.TEXTJOIN(\"^\",,G83:G97)","v":"0^0^0"},null,2,{"$nulls":11},{"$f":"_xlfn.TEXTJOIN(\"^\",,U83:U97)","v":"0^0^0"},null,2,2,null,null,2,null,2,null,2,null,null,null,{"$f":"_xlfn.TEXTJOIN(\"^\",,AK83:AK97)","v":"8^6^4^1^5^7^9"}]
[null,null,1,0,0,0,0,null,0,null,0,0,0,null,null,{"$f":"_xlfn.TEXTJOIN(\"^\",,H83:H97)","v":"100"},null,1,0,0,0,0,100,0,0,100,0,null,null,{"$f":"_xlfn.TEXTJOIN(\"^\",,V83:V97)","v":"0^0^0"},null,1,null,{"$f":"$C87","v":1},null,1,{"$f":"$C87","v":1},null,null,1,null,null,null,{"$f":"_xlfn.TEXTJOIN(\"^\",,AL83:AL97)","v":"6^4^2^3^5^7"}]
[null,null,3,null,null,0,0,null,0,null,0,null,0,null,null,{"$f":"_xlfn.TEXTJOIN(\"^\",,I83:I97)","v":"0^0^0"},null,3,0,0,0,0,null,0,0,null,0,null,null,{"$f":"_xlfn.TEXTJOIN(\"^\",,W83:W97)","v":"100"},null,3,{"$f":"$C88","v":3},null,null,{"$f":"$C88","v":3},null,{"$f":"$C88","v":3},null,3,null,null,null,{"$f":"_xlfn.TEXTJOIN(\"^\",,AM83:AM97)","v":"8^6^4^5^7^9"}]
[null,null,5,{"$nulls":12},{"$f":"_xlfn.TEXTJOIN(\"^\",,J83:J97)","v":"100"},null,5,null,null,0,0,null,0,null,null,0,null,null,{"$f":"_xlfn.TEXTJOIN(\"^\",,X83:X97)","v":"0^0^0^0"},null,5,5,{"$f":"$C89","v":5},null,5,5,5,5,5,null,null,null,{"$f":"_xlfn.TEXTJOIN(\"^\",,AN83:AN97)","v":"4^2^1^3^5"}]
[null,null,7,{"$nulls":12},{"$f":"_xlfn.TEXTJOIN(\"^\",,K83:K97)","v":"0^0^0"},null,7,{"$nulls":5},0,{"$nulls":5},{"$f":"_xlfn.TEXTJOIN(\"^\",,Y83:Y97)","v":"0^0"},null,7,null,null,null,7,7,7,7,{"$nulls":4},{"$f":"_xlfn.TEXTJOIN(\"^\",,AO83:AO97)","v":""}]
[null,null,9,{"$nulls":12},{"$f":"_xlfn.TEXTJOIN(\"^\",,L83:L97)","v":"100^0"},null,9,{"$nulls":13},9,{"$nulls":4},9,null,9,{"$nulls":4},{"$f":"_xlfn.TEXTJOIN(\"^\",,AP83:AP97)","v":""}]
[null,null,"空降",{"$nulls":12},{"$f":"_xlfn.TEXTJOIN(\"^\",,M83:M97)","v":"0^0^0"},null,"空降",{"$nulls":13},"空降",{"$nulls":11},{"$f":"_xlfn.TEXTJOIN(\"^\",,AQ83:AQ91)","v":""}]
[null,null,101,{"$nulls":12},{"$f":"_xlfn.TEXTJOIN(\"^\",,N83:N97)","v":""},null,101,{"$nulls":11},{"$f":"_xlfn.TEXTJOIN(\"^\",,Z83:Z97)","v":"100"},null,101,null,null,{"$f":"$C93","v":101}]
[null,null,102,{"$nulls":14},102,{"$nulls":11},{"$f":"_xlfn.TEXTJOIN(\"^\",,AA83:AA97)","v":"0^0^0"},null,102]
[null,null,103,{"$nulls":14},103,{"$nulls":11},{"$f":"_xlfn.TEXTJOIN(\"^\",,AB83:AB97)","v":""},null,103,null,null,{"$f":"$C95","v":103}]
[null,null,104,{"$nulls":14},104,{"$nulls":13},104]
[null,null,105,{"$nulls":14},105,{"$nulls":13},105,null,null,{"$f":"$C97","v":105}]
[{"$nulls":14},"最终",{"$f":"_xlfn.TEXTJOIN(\"|\",,P83:P97)","v":"0^0|0^0|0^0^0|0^0^0|100|0^0^0|100|0^0^0|100^0|0^0^0"},{"$nulls":12},"最终",{"$f":"_xlfn.TEXTJOIN(\"|\",,AD83:AD97)","v":"0^0|0^0|0^0^0|0^0^0|100|0^0^0^0|0^0|100|0^0^0"},{"$nulls":12},"最终",{"$f":"_xlfn.TEXTJOIN(\"^\",,AR82:AR97)","v":"4^2^3^5^4^1^5^101^103^105^6^4^2^1^3^5^7^8^6^4^1^5^7^9^6^4^2^3^5^7^8^6^4^5^7^9^4^2^1^3^5"}]
[]
[null,null,"时间",6,15,30,46,50,65,70,85,90,105,{"$nulls":4},"时间",4,10,25,41,45,60,77,80,95,null,null,{"$f":"_xlfn.TEXTJOIN(\"^\",,S101:S109)","v":"17^6"},null,"时间",3,5,8,12,17,25,35,45,null,null,null,{"$f":"_xlfn.TEXTJOIN(\"^\",,AG101:AG109)","v":"3^3^3^3"}]
[null,null,8,{"$nulls":12},{"$f":"_xlfn.TEXTJOIN(\"^\",,D101:D110)","v":"4^3"},null,8,{"$nulls":11},{"$f":"_xlfn.TEXTJOIN(\"^\",,T101:T109)","v":"4^4"},null,8,{"$nulls":4},{"$f":"AK$100","v":17},null,{"$f":"AM$100","v":35},{"$nulls":4},{"$f":"_xlfn.TEXTJOIN(\"^\",,AH101:AH109)","v":"5^5^5"}]
[null,null,6,{"$nulls":12},{"$f":"_xlfn.TEXTJOIN(\"^\",,E101:E110)","v":"8^3"},null,6,{"$nulls":11},{"$f":"_xlfn.TEXTJOIN(\"^\",,U101:U109)","v":"2^8^3"},null,6,null,null,null,{"$f":"AJ$100","v":12},17,25,35,{"$nulls":4},{"$f":"_xlfn.TEXTJOIN(\"^\",,AI101:AI109)","v":"8^8^8"}]
[null,null,4,{"$nulls":12},{"$f":"_xlfn.TEXTJOIN(\"^\",,F101:F110)","v":"2^3^4"},null,4,{"$nulls":11},{"$f":"_xlfn.TEXTJOIN(\"^\",,V101:V109)","v":"2^3^9"},null,4,{"$f":"AG$100","v":3},{"$f":"AH$100","v":5},{"$f":"AI$100","v":8},12,17,25,35,{"$f":"AN$100","v":45},null,null,null,{"$f":"_xlfn.TEXTJOIN(\"^\",,AJ101:AJ109)","v":"12^12^12^12^12^12^12"}]
[null,null,2,4,8,2,8,8,3,8,3,9,3,null,null,{"$f":"_xlfn.TEXTJOIN(\"^\",,G101:G110)","v":"8^3^2"},null,2,{"$nulls":11},{"$f":"_xlfn.TEXTJOIN(\"^\",,W101:W109)","v":"8"},null,2,3,null,null,12,null,25,null,{"$f":"AN$100","v":45},null,null,null,{"$f":"_xlfn.TEXTJOIN(\"^\",,AK101:AK109)","v":"17^17^17^17^17^17^17"}]
[null,null,1,3,3,3,3,null,4,null,2,1,4,null,null,{"$f":"_xlfn.TEXTJOIN(\"^\",,H101:H110)","v":"8"},null,1,17,4,2,2,8,3,3,9,2,null,null,{"$f":"_xlfn.TEXTJOIN(\"^\",,X101:X109)","v":"3^2^2^7"},null,1,null,{"$f":"AH$100","v":5},{"$f":"AI$100","v":8},12,{"$f":"AK$100","v":17},null,null,45,null,null,null,{"$f":"_xlfn.TEXTJOIN(\"^\",,AL101:AL109)","v":"25^25^25^25^25^25"}]
[null,null,3,null,null,4,2,null,3,null,8,null,2,null,null,{"$f":"_xlfn.TEXTJOIN(\"^\",,I101:I110)","v":"3^4^3"},null,3,6,4,8,3,null,2,9,null,8,null,null,{"$f":"_xlfn.TEXTJOIN(\"^\",,Y101:Y109)","v":"3^9"},null,3,{"$f":"AG$100","v":3},null,null,{"$f":"AJ$100","v":12},null,{"$f":"AL$100","v":25},null,45,null,null,null,{"$f":"_xlfn.TEXTJOIN(\"^\",,AM101:AM109)","v":"35^35^35^35^35^35"}]
[null,null,5,{"$nulls":12},{"$f":"_xlfn.TEXTJOIN(\"^\",,J101:J110)","v":"8"},null,5,null,null,3,9,null,2,null,null,3,null,null,{"$f":"_xlfn.TEXTJOIN(\"^\",,Z101:Z109)","v":"9"},null,5,3,{"$f":"AH$100","v":5},{"$f":"AI$100","v":8},12,17,25,35,45,null,null,null,{"$f":"_xlfn.TEXTJOIN(\"^\",,AN101:AN109)","v":"45^45^45^45^45"}]
[null,null,7,{"$nulls":12},{"$f":"_xlfn.TEXTJOIN(\"^\",,K101:K110)","v":"3^2^8"},null,7,{"$nulls":5},7,{"$nulls":5},{"$f":"_xlfn.TEXTJOIN(\"^\",,AA101:AA109)","v":"2^8^3"},null,7,null,null,null,12,17,25,35,{"$nulls":4},{"$f":"_xlfn.TEXTJOIN(\"^\",,AO101:AO109)","v":""}]
[null,null,9,{"$nulls":12},{"$f":"_xlfn.TEXTJOIN(\"^\",,L101:L110)","v":"9^1"},null,9,{"$nulls":11},{"$f":"_xlfn.TEXTJOIN(\"^\",,AB101:AB109)","v":""},null,9,{"$nulls":4},17,null,35,{"$nulls":4},{"$f":"_xlfn.TEXTJOIN(\"^\",,AP101:AP109)","v":""}]
[{"$nulls":15},{"$f":"_xlfn.TEXTJOIN(\"^\",,M101:M110)","v":"3^4^2"},{"$nulls":13},{"$f":"_xlfn.TEXTJOIN(\"^\",,AC101:AC109)","v":""},{"$nulls":13},{"$f":"_xlfn.TEXTJOIN(\"^\",,AQ101:AQ109)","v":""}]
[{"$nulls":15},{"$f":"_xlfn.TEXTJOIN(\"^\",,N101:N110)","v":""},{"$nulls":12},"最终",{"$f":"_xlfn.TEXTJOIN(\"|\",,AD100:AD110)","v":"17^6|4^4|2^8^3|2^3^9|8|3^2^2^7|3^9|9|2^8^3"},{"$nulls":12},"最终",{"$f":"_xlfn.TEXTJOIN(\"^\",,AR100:AR110)","v":"3^3^3^3^5^5^5^8^8^8^12^12^12^12^12^12^12^17^17^17^17^17^17^17^25^25^25^25^25^25^35^35^35^35^35^35^45^45^45^45^45"}]
[{"$nulls":14},"最终",{"$f":"_xlfn.TEXTJOIN(\"|\",,P101:P111)","v":"4^3|8^3|2^3^4|8^3^2|8|3^4^3|8|3^2^8|9^1|3^4^2"}]
[{"$nulls":14},{"$f":"SUM(D101:N110)","v":98},{"$nulls":13},{"$f":"SUM(S101:AB110)","v":114},{"$nulls":13},{"$f":"COUNT(AG101:AP110)","v":41},{"$f":"AC113+AQ113+O113","v":253}]
[{"$nulls":4},{"$f":"E115-D115","v":5},{"$f":"F115-E115","v":6},4,7,8,5,10,10,5,{"$nulls":6},{"$f":"T115-S115","v":6},15,16,4,15,17,3,15,{"$nulls":6},{"$f":"AH115-AG115","v":2},3,4,5,8,10,5]
[1,"火山-3","波1·怪物",5,10,16,20,27,35,40,50,60,65,null,null,null,3,"波2·怪物",4,10,25,41,45,60,77,80,95,null,null,null,1,"波3·怪物",3,5,8,12,17,25,35,40]
[null,"5m",8,null,null,70152,{"$nulls":5},70154,null,null,null,{"$f":"_xlfn.TEXTJOIN(\"^\",,D116:D125)","v":"70154^70151^70151^70151^70154"},null,8,{"$nulls":11},{"$f":"_xlfn.TEXTJOIN(\"^\",,S116:S125)","v":"70153^70152^70151"},null,8,{"$nulls":5},70154,{"$nulls":5},{"$f":"_xlfn.TEXTJOIN(\"^\",,AG116:AG125)","v":"70152^70151^70151^70151^70152"}]
[null,null,6,null,70152,null,null,70152,70154,null,70152,70152,null,null,null,{"$f":"_xlfn.TEXTJOIN(\"^\",,E116:E125)","v":"70152^70152^70152^70152"},null,6,{"$nulls":11},{"$f":"_xlfn.TEXTJOIN(\"^\",,T116:T125)","v":"70152^70151"},null,6,null,null,null,70154,70152,70152,70151,{"$nulls":4},{"$f":"_xlfn.TEXTJOIN(\"^\",,AH116:AH125)","v":"70154^70152^70154"}]
[null,null,4,70154,70152,null,70155,70151,70152,70155,70154,null,70155,null,null,{"$f":"_xlfn.TEXTJOIN(\"^\",,F116:F125)","v":"70152^70153^70154^70153^70152"},null,4,{"$nulls":11},{"$f":"_xlfn.TEXTJOIN(\"^\",,U116:U125)","v":"70153^70152^70153"},null,4,70152,70154,70155,70152,70151,null,70152,70155,null,null,null,{"$f":"_xlfn.TEXTJOIN(\"^\",,AI116:AI125)","v":"70155^70155^70155"}]
[null,null,2,70151,null,70153,70155,70152,70153,70155,70151,70153,70155,null,null,{"$f":"_xlfn.TEXTJOIN(\"^\",,G116:G125)","v":"70155^70155^70155^70155^70155"},null,2,{"$nulls":11},{"$f":"_xlfn.TEXTJOIN(\"^\",,V116:V125)","v":"70152^70151"},null,2,70151,null,null,70153,70151,70153,null,70155,null,null,null,{"$f":"_xlfn.TEXTJOIN(\"^\",,AJ116:AJ125)","v":"70154^70152^70153^70153^70152^70154"}]
[null,null,1,70151,null,70154,70155,70154,null,70155,70151,70156,70155,null,null,{"$f":"_xlfn.TEXTJOIN(\"^\",,H116:H125)","v":"70152^70151^70152^70154^70152^70151^70152"},null,1,70153,70152,70153,70152,70155,70153,70153,70155,70153,null,null,{"$f":"_xlfn.TEXTJOIN(\"^\",,W116:W125)","v":"70155^70156"},null,1,70151,70152,70155,null,null,70153,70154,70155,null,null,null,{"$f":"_xlfn.TEXTJOIN(\"^\",,AK116:AK125)","v":"70152^70151^70151^70151^70151^70152"}]
[null,null,3,70151,null,70153,70155,70152,70153,70155,70151,70153,70155,null,null,{"$f":"_xlfn.TEXTJOIN(\"^\",,I116:I125)","v":"70154^70152^70153^70153^70152^70154"},null,3,70152,70151,70152,70151,70156,70153,70151,null,70151,null,null,{"$f":"_xlfn.TEXTJOIN(\"^\",,X116:X125)","v":"70153^70153^70152^70151"},null,3,70151,null,null,70153,70151,70153,null,70155,null,null,null,{"$f":"_xlfn.TEXTJOIN(\"^\",,AL116:AL125)","v":"70154^70152^70153^70153^70153^70152^70154"}]
[null,null,5,70154,70152,null,70155,70151,70152,70155,70154,null,70155,null,null,{"$f":"_xlfn.TEXTJOIN(\"^\",,J116:J125)","v":"70155^70155^70155^70155^70155"},null,5,70151,null,70153,null,null,70152,70152,null,70152,null,null,{"$f":"_xlfn.TEXTJOIN(\"^\",,Y116:Y125)","v":"70153^70151^70152"},null,5,70152,70154,70155,70152,70151,null,70152,70155,null,null,null,{"$f":"_xlfn.TEXTJOIN(\"^\",,AM116:AM125)","v":"70151^70152^70154^70152^70151"}]
[null,null,7,null,70152,null,null,70152,70154,null,70152,70152,null,null,null,{"$f":"_xlfn.TEXTJOIN(\"^\",,K116:K125)","v":"70152^70154^70151^70151^70151^70154^70152"},null,7,{"$nulls":5},70151,{"$nulls":5},{"$f":"_xlfn.TEXTJOIN(\"^\",,Z116:Z125)","v":"70155"},null,7,null,null,null,70154,70152,70152,70151,{"$nulls":4},{"$f":"_xlfn.TEXTJOIN(\"^\",,AN116:AN125)","v":"70155^70155^70155^70155^70155"}]
[null,null,9,null,null,70152,{"$nulls":5},70154,null,null,null,{"$f":"_xlfn.TEXTJOIN(\"^\",,L116:L125)","v":"70154^70152^70153^70156^70153^70152^70154"},null,9,{"$nulls":11},{"$f":"_xlfn.TEXTJOIN(\"^\",,AA116:AA125)","v":"70153^70151^70152"},null,9,{"$nulls":5},70154,{"$nulls":5},{"$f":"_xlfn.TEXTJOIN(\"^\",,AO116:AO125)","v":""}]
[{"$nulls":15},{"$f":"_xlfn.TEXTJOIN(\"^\",,M116:M125)","v":"70155^70155^70155^70155^70155"},{"$nulls":13},{"$f":"_xlfn.TEXTJOIN(\"^\",,AB116:AB125)","v":""},{"$nulls":13},{"$f":"_xlfn.TEXTJOIN(\"^\",,AP116:AP125)","v":""}]
[{"$nulls":15},{"$f":"_xlfn.TEXTJOIN(\"^\",,N116:N125)","v":""},{"$nulls":13},{"$f":"_xlfn.TEXTJOIN(\"^\",,AC116:AC125)","v":""},{"$nulls":13},{"$f":"_xlfn.TEXTJOIN(\"^\",,AQ116:AQ125)","v":""}]
[{"$nulls":14},"最终",{"$f":"_xlfn.TEXTJOIN(\"^\",,P116:P126)","v":"70154^70151^70151^70151^70154^70152^70152^70152^70152^70152^70153^70154^70153^70152^70155^70155^70155^70155^70155^70152^70151^70152^70154^70152^70151^70152^70154^70152^70153^70153^70152^70154^70155^70155^70155^70155^70155^70152^70154^70151^70151^70151^70154^70152^70154^70152^70153^70156^70153^70152^70154^70155^70155^70155^70155^70155"},{"$nulls":12},"最终",{"$f":"_xlfn.TEXTJOIN(\"|\",,AD116:AD126)","v":"70153^70152^70151|70152^70151|70153^70152^70153|70152^70151|70155^70156|70153^70153^70152^70151|70153^70151^70152|70155|70153^70151^70152"},{"$nulls":12},"最终",{"$f":"_xlfn.TEXTJOIN(\"^\",,AR116:AR126)","v":"70152^70151^70151^70151^70152^70154^70152^70154^70155^70155^70155^70154^70152^70153^70153^70152^70154^70152^70151^70151^70151^70151^70152^70154^70152^70153^70153^70153^70152^70154^70151^70152^70154^70152^70151^70155^70155^70155^70155^70155"}]
[null,null,8,null,null,"岩浆人",{"$nulls":5},"火精灵",{"$nulls":5},8,{"$nulls":13},8,{"$nulls":5},"火精灵"]
[null,null,6,null,"岩浆人",null,null,"岩浆人","火精灵",null,"岩浆人","岩浆人",{"$nulls":5},6,{"$nulls":13},6,null,null,null,"火精灵","岩浆人","岩浆人","岩浆蝎"]
[null,null,4,"火精灵","岩浆人",null,"火山蜘蛛","岩浆蝎","岩浆人","火山蜘蛛","火精灵",null,"火山蜘蛛",{"$nulls":4},4,{"$nulls":13},4,"岩浆人","火精灵","火山蜘蛛","岩浆人","岩浆蝎",null,"岩浆人","火山蜘蛛"]
[null,null,2,"岩浆蝎",null,"岩浆战士","火山蜘蛛","岩浆人","岩浆战士","火山蜘蛛","岩浆蝎","岩浆战士","火山蜘蛛",{"$nulls":4},2,{"$nulls":13},2,"岩浆蝎",null,null,"岩浆战士","岩浆蝎","岩浆战士",null,"火山蜘蛛"]
[null,null,1,"岩浆蝎",null,"火精灵","火山蜘蛛","火精灵",null,"火山蜘蛛","岩浆蝎","蘑菇王","火山蜘蛛",{"$nulls":4},1,"火精灵","岩浆人","岩浆战士","岩浆人","火山蜘蛛","火精灵","火精灵","火山蜘蛛","岩浆战士",{"$nulls":4},1,"岩浆蝎","岩浆人","火山蜘蛛",null,null,"岩浆战士","火精灵","火山蜘蛛"]
[null,null,3,"岩浆蝎",null,"岩浆战士","火山蜘蛛","岩浆人","岩浆战士","火山蜘蛛","岩浆蝎","岩浆战士","火山蜘蛛",{"$nulls":4},3,"岩浆人","岩浆蝎","岩浆人","岩浆蝎","蘑菇王","岩浆战士","岩浆蝎",null,"岩浆蝎",{"$nulls":4},3,"岩浆蝎",null,null,"岩浆战士","岩浆蝎","岩浆战士",null,"火山蜘蛛"]
[null,null,5,"火精灵","岩浆人",null,"火山蜘蛛","岩浆蝎","岩浆人","火山蜘蛛","火精灵",null,"火山蜘蛛",{"$nulls":4},5,"岩浆蝎",null,"火精灵",null,null,"岩浆人","岩浆人",null,"岩浆人",{"$nulls":4},5,"岩浆人","火精灵","火山蜘蛛","岩浆人","岩浆蝎",null,"岩浆人","火山蜘蛛"]
[null,null,7,null,"岩浆人",null,null,"岩浆人","火精灵",null,"岩浆人","岩浆人",{"$nulls":5},7,{"$nulls":5},"岩浆蝎",{"$nulls":7},7,null,null,null,"火精灵","岩浆人","岩浆人","岩浆蝎"]
[null,null,9,null,null,"岩浆人",{"$nulls":5},"火精灵",{"$nulls":5},9,{"$nulls":13},9,{"$nulls":5},"火精灵"]
[]
[null,null,"位置",5,10,16,20,27,35,40,50,60,65,{"$nulls":4},"位置",4,10,25,41,45,60,77,80,95,{"$nulls":4},"位置",3,5,8,12,17,25,35,40,null,null,null,{"$f":"_xlfn.TEXTJOIN(\"^\",,AG139:AG153)","v":"4^2^1^3^5"}]
[null,null,8,null,null,{"$f":"$AF139","v":8},{"$nulls":5},{"$f":"$AF139","v":8},null,null,null,{"$f":"_xlfn.TEXTJOIN(\"^\",,D139:D153)","v":"4^2^1^3^5"},null,8,{"$nulls":13},8,{"$nulls":5},{"$f":"$AF139","v":8},{"$nulls":5},{"$f":"_xlfn.TEXTJOIN(\"^\",,AH139:AH153)","v":"4^1^5"}]
[null,null,6,null,{"$f":"$AF140","v":6},null,null,{"$f":"$AF140","v":6},6,null,{"$f":"$AF140","v":6},6,null,null,null,{"$f":"_xlfn.TEXTJOIN(\"^\",,E139:E153)","v":"6^4^5^7"},null,6,{"$nulls":11},{"$f":"_xlfn.TEXTJOIN(\"^\",,S139:S153)","v":"0^0^0"},null,6,null,null,null,{"$f":"$AF140","v":6},6,6,6,{"$nulls":4},{"$f":"_xlfn.TEXTJOIN(\"^\",,AI139:AI153)","v":"101^103^105"}]
[null,null,4,{"$f":"$AF141","v":4},4,null,null,4,4,null,4,{"$nulls":4},{"$f":"_xlfn.TEXTJOIN(\"^\",,F139:F153)","v":"8^2^1^3^9"},null,4,{"$nulls":11},{"$f":"_xlfn.TEXTJOIN(\"^\",,T139:T153)","v":"0^0"},null,4,{"$f":"$AF141","v":4},{"$f":"$AF141","v":4},null,4,4,null,4,{"$nulls":4},{"$f":"_xlfn.TEXTJOIN(\"^\",,AJ139:AJ153)","v":"6^4^2^3^5^7"}]
[null,null,2,2,null,{"$f":"$AF142","v":2},null,2,2,null,2,{"$f":"$AF142","v":2},null,null,null,{"$f":"_xlfn.TEXTJOIN(\"^\",,G139:G153)","v":"101^102^103^104^105"},null,2,{"$nulls":11},{"$f":"_xlfn.TEXTJOIN(\"^\",,U139:U153)","v":"0^0^0"},null,2,{"$f":"$AF142","v":2},null,null,2,2,{"$f":"$AF142","v":2},{"$nulls":5},{"$f":"_xlfn.TEXTJOIN(\"^\",,AK139:AK153)","v":"6^4^2^3^5^7"}]
[null,null,1,1,null,1,null,1,null,null,1,{"$f":"$AF143","v":1},null,null,null,{"$f":"_xlfn.TEXTJOIN(\"^\",,H139:H153)","v":"6^4^2^1^3^5^7"},null,1,0,0,0,0,100,0,0,100,0,null,null,{"$f":"_xlfn.TEXTJOIN(\"^\",,V139:V153)","v":"0^0"},null,1,{"$f":"$AF143","v":1},{"$f":"$AF143","v":1},null,null,null,{"$f":"$AF143","v":1},{"$f":"$AF143","v":1},{"$nulls":4},{"$f":"_xlfn.TEXTJOIN(\"^\",,AL139:AL153)","v":"8^6^2^1^3^7^9"}]
[null,null,3,{"$f":"$AF144","v":3},null,3,null,3,3,null,3,{"$f":"$AF144","v":3},null,null,null,{"$f":"_xlfn.TEXTJOIN(\"^\",,I139:I153)","v":"6^4^2^3^5^7"},null,3,0,0,0,0,0,0,0,null,0,null,null,{"$f":"_xlfn.TEXTJOIN(\"^\",,W139:W153)","v":"100^0"},null,3,{"$f":"$AF144","v":3},null,null,{"$f":"$AF144","v":3},3,{"$f":"$AF144","v":3},{"$nulls":5},{"$f":"_xlfn.TEXTJOIN(\"^\",,AM139:AM153)","v":"6^4^1^5^7"}]
[null,null,5,5,5,null,null,5,5,null,5,{"$nulls":4},{"$f":"_xlfn.TEXTJOIN(\"^\",,J139:J153)","v":"101^102^103^104^105"},null,5,0,null,0,null,null,0,0,null,0,null,null,{"$f":"_xlfn.TEXTJOIN(\"^\",,X139:X153)","v":"0^0^0^0"},null,5,5,{"$f":"$AF145","v":5},null,5,5,null,{"$f":"$AF145","v":5},{"$nulls":4},{"$f":"_xlfn.TEXTJOIN(\"^\",,AN139:AN153)","v":"101^102^103^104^105"}]
[null,null,7,null,7,null,null,7,7,null,7,7,null,null,null,{"$f":"_xlfn.TEXTJOIN(\"^\",,K139:K153)","v":"6^4^2^1^3^5^7"},null,7,{"$nulls":5},0,{"$nulls":5},{"$f":"_xlfn.TEXTJOIN(\"^\",,Y139:Y153)","v":"0^0^0"},null,7,null,null,null,7,7,7,7,{"$nulls":4},{"$f":"_xlfn.TEXTJOIN(\"^\",,AO139:AO153)","v":""}]
[null,null,9,null,null,{"$f":"$AF147","v":9},{"$nulls":5},9,null,null,null,{"$f":"_xlfn.TEXTJOIN(\"^\",,L139:L153)","v":"8^6^2^1^3^7^9"},null,9,{"$nulls":13},9,{"$nulls":5},9,{"$nulls":5},{"$f":"_xlfn.TEXTJOIN(\"^\",,AP139:AP153)","v":""}]
[null,null,"空降",{"$nulls":12},{"$f":"_xlfn.TEXTJOIN(\"^\",,M139:M153)","v":"101^102^103^104^105"},null,"空降",{"$nulls":13},"空降",{"$nulls":11},{"$f":"_xlfn.TEXTJOIN(\"^\",,AQ139:AQ147)","v":""}]
[null,null,101,null,null,null,{"$f":"$AF149","v":101},null,null,{"$f":"$AF149","v":101},null,null,{"$f":"$AF149","v":101},null,null,{"$f":"_xlfn.TEXTJOIN(\"^\",,N139:N153)","v":""},null,101,{"$nulls":11},{"$f":"_xlfn.TEXTJOIN(\"^\",,Z139:Z153)","v":"100"},null,101,null,null,{"$f":"$AF149","v":101},{"$nulls":4},{"$f":"$AF149","v":101}]
[null,null,102,null,null,null,{"$f":"$AF150","v":102},null,null,102,null,null,102,{"$nulls":4},102,{"$nulls":11},{"$f":"_xlfn.TEXTJOIN(\"^\",,AA139:AA153)","v":"0^0^0"},null,102,{"$nulls":7},102]
[null,null,103,null,null,null,{"$f":"$AF151","v":103},null,null,103,null,null,103,{"$nulls":4},103,{"$nulls":11},{"$f":"_xlfn.TEXTJOIN(\"^\",,AB139:AB153)","v":""},null,103,null,null,{"$f":"$AF151","v":103},{"$nulls":4},103]
[null,null,104,null,null,null,{"$f":"$AF152","v":104},null,null,104,null,null,104,{"$nulls":4},104,{"$nulls":13},104,{"$nulls":7},{"$f":"$AF152","v":104}]
[null,null,105,null,null,null,{"$f":"$AF153","v":105},null,null,105,null,null,105,{"$nulls":4},105,{"$nulls":13},105,null,null,{"$f":"$AF153","v":105},{"$nulls":4},105]
[{"$nulls":14},"最终",{"$f":"_xlfn.TEXTJOIN(\"^\",,P139:P153)","v":"4^2^1^3^5^6^4^5^7^8^2^1^3^9^101^102^103^104^105^6^4^2^1^3^5^7^6^4^2^3^5^7^101^102^103^104^105^6^4^2^1^3^5^7^8^6^2^1^3^7^9^101^102^103^104^105"},{"$nulls":12},"最终",{"$f":"_xlfn.TEXTJOIN(\"|\",,AD139:AD153)","v":"0^0^0|0^0|0^0^0|0^0|100^0|0^0^0^0|0^0^0|100|0^0^0"},{"$nulls":12},"最终",{"$f":"_xlfn.TEXTJOIN(\"^\",,AR138:AR153)","v":"4^2^1^3^5^4^1^5^101^103^105^6^4^2^3^5^7^6^4^2^3^5^7^8^6^2^1^3^7^9^6^4^1^5^7^101^102^103^104^105"}]
[]
[null,null,"时间",5,10,16,20,27,35,40,50,60,65,{"$nulls":4},"时间",4,10,25,41,45,60,77,80,95,null,null,{"$f":"_xlfn.TEXTJOIN(\"^\",,S157:S165)","v":"4^6^14"},null,"时间",3,5,8,12,17,25,35,40,null,null,null,{"$f":"_xlfn.TEXTJOIN(\"^\",,AG157:AG165)","v":"3^3^3^3^3"}]
[null,null,8,null,null,{"$f":"F$156","v":16},{"$nulls":5},{"$f":"L$156","v":60},null,null,null,{"$f":"_xlfn.TEXTJOIN(\"^\",,D157:D166)","v":"5^5^5^5^5"},null,8,{"$nulls":11},{"$f":"_xlfn.TEXTJOIN(\"^\",,T157:T165)","v":"3^7"},null,8,{"$nulls":5},{"$f":"AL$156","v":25},{"$nulls":5},{"$f":"_xlfn.TEXTJOIN(\"^\",,AH157:AH165)","v":"5^5^5"}]
[null,null,6,null,{"$f":"E$156","v":10},null,null,{"$f":"H$156","v":27},35,null,{"$f":"K$156","v":50},60,null,null,null,{"$f":"_xlfn.TEXTJOIN(\"^\",,E157:E166)","v":"10^10^10^10"},null,6,{"$nulls":11},{"$f":"_xlfn.TEXTJOIN(\"^\",,U157:U165)","v":"3^4^2"},null,6,null,null,null,{"$f":"AJ$156","v":12},17,25,35,{"$nulls":4},{"$f":"_xlfn.TEXTJOIN(\"^\",,AI157:AI165)","v":"8^8^8"}]
[null,null,4,{"$f":"D$156","v":5},10,null,{"$f":"G$156","v":20},27,35,40,50,null,{"$f":"M$156","v":65},null,null,{"$f":"_xlfn.TEXTJOIN(\"^\",,F157:F166)","v":"16^16^16^16^16"},null,4,{"$nulls":11},{"$f":"_xlfn.TEXTJOIN(\"^\",,V157:V165)","v":"3^8"},null,4,{"$f":"AG$156","v":3},{"$f":"AH$156","v":5},{"$f":"AI$156","v":8},12,17,null,35,40,null,null,null,{"$f":"_xlfn.TEXTJOIN(\"^\",,AJ157:AJ165)","v":"12^12^12^12^12^12"}]
[null,null,2,{"$f":"D$156","v":5},null,{"$f":"F$156","v":16},{"$f":"G$156","v":20},27,35,40,50,{"$f":"L$156","v":60},65,null,null,{"$f":"_xlfn.TEXTJOIN(\"^\",,G157:G166)","v":"20^20^20^20^20"},null,2,{"$nulls":11},{"$f":"_xlfn.TEXTJOIN(\"^\",,W157:W165)","v":"8^1"},null,2,3,null,null,{"$f":"AJ$156","v":12},{"$f":"AK$156","v":17},{"$f":"AL$156","v":25},null,40,null,null,null,{"$f":"_xlfn.TEXTJOIN(\"^\",,AK157:AK165)","v":"17^17^17^17^17^17"}]
[null,null,1,{"$f":"D$156","v":5},null,16,{"$f":"G$156","v":20},27,null,40,50,{"$f":"L$156","v":60},65,null,null,{"$f":"_xlfn.TEXTJOIN(\"^\",,H157:H166)","v":"27^27^27^27^27^27^27"},null,1,4,3,3,3,8,2,2,9,2,null,null,{"$f":"_xlfn.TEXTJOIN(\"^\",,X157:X165)","v":"2^2^3^6"},null,1,3,{"$f":"AH$156","v":5},{"$f":"AI$156","v":8},null,null,25,{"$f":"AM$156","v":35},40,null,null,null,{"$f":"_xlfn.TEXTJOIN(\"^\",,AL157:AL165)","v":"25^25^25^25^25^25^25"}]
[null,null,3,{"$f":"D$156","v":5},null,16,{"$f":"G$156","v":20},27,35,40,50,{"$f":"L$156","v":60},65,null,null,{"$f":"_xlfn.TEXTJOIN(\"^\",,I157:I166)","v":"35^35^35^35^35^35"},null,3,6,7,4,8,1,2,8,null,9,null,null,{"$f":"_xlfn.TEXTJOIN(\"^\",,Y157:Y165)","v":"2^8^3"},null,3,{"$f":"AG$156","v":3},null,null,{"$f":"AJ$156","v":12},17,{"$f":"AL$156","v":25},null,{"$f":"AN$156","v":40},null,null,null,{"$f":"_xlfn.TEXTJOIN(\"^\",,AM157:AM165)","v":"35^35^35^35^35"}]
[null,null,5,5,10,null,{"$f":"G$156","v":20},27,35,40,50,null,65,null,null,{"$f":"_xlfn.TEXTJOIN(\"^\",,J157:J166)","v":"40^40^40^40^40"},null,5,14,null,2,null,null,3,3,null,3,null,null,{"$f":"_xlfn.TEXTJOIN(\"^\",,Z157:Z165)","v":"9"},null,5,3,{"$f":"AH$156","v":5},{"$f":"AI$156","v":8},12,17,null,{"$f":"AM$156","v":35},40,null,null,null,{"$f":"_xlfn.TEXTJOIN(\"^\",,AN157:AN165)","v":"40^40^40^40^40"}]
[null,null,7,null,10,null,null,{"$f":"H$156","v":27},35,null,50,60,null,null,null,{"$f":"_xlfn.TEXTJOIN(\"^\",,K157:K166)","v":"50^50^50^50^50^50^50"},null,7,{"$nulls":5},6,{"$nulls":5},{"$f":"_xlfn.TEXTJOIN(\"^\",,AA157:AA165)","v":"2^9^3"},null,7,null,null,null,12,17,25,35,{"$nulls":4},{"$f":"_xlfn.TEXTJOIN(\"^\",,AO157:AO165)","v":""}]
[null,null,9,null,null,{"$f":"F$156","v":16},{"$nulls":5},60,null,null,null,{"$f":"_xlfn.TEXTJOIN(\"^\",,L157:L166)","v":"60^60^60^60^60^60^60"},null,9,{"$nulls":11},{"$f":"_xlfn.TEXTJOIN(\"^\",,AB157:AB165)","v":""},null,9,{"$nulls":5},25,{"$nulls":5},{"$f":"_xlfn.TEXTJOIN(\"^\",,AP157:AP165)","v":""}]
[{"$nulls":15},{"$f":"_xlfn.TEXTJOIN(\"^\",,M157:M166)","v":"65^65^65^65^65"},{"$nulls":13},{"$f":"_xlfn.TEXTJOIN(\"^\",,AC157:AC165)","v":""},{"$nulls":13},{"$f":"_xlfn.TEXTJOIN(\"^\",,AQ157:AQ165)","v":""}]
[{"$nulls":15},{"$f":"_xlfn.TEXTJOIN(\"^\",,N157:N166)","v":""},{"$nulls":12},"最终",{"$f":"_xlfn.TEXTJOIN(\"|\",,AD156:AD166)","v":"4^6^14|3^7|3^4^2|3^8|8^1|2^2^3^6|2^8^3|9|2^9^3"},{"$nulls":12},"最终",{"$f":"_xlfn.TEXTJOIN(\"^\",,AR156:AR166)","v":"3^3^3^3^3^5^5^5^8^8^8^12^12^12^12^12^12^17^17^17^17^17^17^25^25^25^25^25^25^25^35^35^35^35^35^40^40^40^40^40"}]
[{"$nulls":14},"最终",{"$f":"_xlfn.TEXTJOIN(\"^\",,P157:P167)","v":"5^5^5^5^5^10^10^10^10^16^16^16^16^16^20^20^20^20^20^27^27^27^27^27^27^27^35^35^35^35^35^35^40^40^40^40^40^50^50^50^50^50^50^50^60^60^60^60^60^60^60^65^65^65^65^65"}]
[{"$nulls":14},{"$f":"COUNT(D157:N166)","v":56},{"$nulls":13},{"$f":"SUM(S157:AB166)","v":112},{"$nulls":13},{"$f":"COUNT(AG157:AP166)","v":40},{"$f":"AC169+AQ169+O169","v":208}]

{"sheet":"6","index":6,"n_rows":169,"n_cols":58,"rows_kept":169,"cut":false,"hidden":false,"merged":[]}
[]
[{"$nulls":4},{"$f":"E3-D3","v":5},{"$f":"F3-E3","v":7},8,5,10,5,10,5,10,{"$nulls":6},{"$f":"T3-S3","v":5},5,15,16,4,15,15,{"$nulls":7},{"$f":"AH3-AG3","v":2},3,5,6,7,10,10,5]
[1,"炎地-1","波1·怪物",5,10,17,25,30,40,45,55,60,70,null,null,null,3,"波2·怪物",5,10,15,30,46,50,65,80,{"$nulls":4},1,"波3·怪物",2,4,7,12,18,25,35,45,50]
[null,"5m",8,null,null,null,70164,null,70162,null,70164,{"$nulls":4},{"$f":"_xlfn.TEXTJOIN(\"^\",,D4:D13)","v":"70164^70162^70162^70164"},null,8,{"$nulls":11},{"$f":"_xlfn.TEXTJOIN(\"^\",,S4:S13)","v":"70163^70164^70161"},null,8,{"$nulls":11},{"$f":"_xlfn.TEXTJOIN(\"^\",,AG4:AG13)","v":"70165^70165^70165^70165"}]
[null,null,6,null,70161,70162,70162,null,70164,null,70162,null,70164,null,null,{"$f":"_xlfn.TEXTJOIN(\"^\",,E4:E13)","v":"70161^70161^70164^70164^70161^70161"},null,6,{"$nulls":11},{"$f":"_xlfn.TEXTJOIN(\"^\",,T4:T13)","v":"70162^70161"},null,6,null,null,null,70161,null,70164,70162,70164,null,null,null,{"$f":"_xlfn.TEXTJOIN(\"^\",,AH4:AH13)","v":"70162^70162^70162"}]
[null,null,4,70164,70161,null,70161,70165,70161,70165,70161,70165,70162,null,null,{"$f":"_xlfn.TEXTJOIN(\"^\",,F4:F13)","v":"70162^70163^70162^70163^70162"},null,4,{"$nulls":11},{"$f":"_xlfn.TEXTJOIN(\"^\",,U4:U13)","v":"70165^70162"},null,4,70165,null,70164,70161,70163,70162,70161,70162,70165,null,null,{"$f":"_xlfn.TEXTJOIN(\"^\",,AI4:AI13)","v":"70164^70164^70164"}]
[null,null,2,70162,70164,70163,null,70165,70161,70165,70163,70165,70163,null,null,{"$f":"_xlfn.TEXTJOIN(\"^\",,G4:G13)","v":"70164^70162^70161^70162^70161^70162^70164"},null,2,{"$nulls":11},{"$f":"_xlfn.TEXTJOIN(\"^\",,V4:V13)","v":"70164^70163^70162^70161"},null,2,70165,70162,null,null,null,70161,70163,null,70165,null,null,{"$f":"_xlfn.TEXTJOIN(\"^\",,AJ4:AJ13)","v":"70161^70161^70161^70161"}]
[null,null,1,null,null,70162,70162,70165,70162,70165,null,70165,70166,null,null,{"$f":"_xlfn.TEXTJOIN(\"^\",,H4:H13)","v":"70165^70165^70165^70165^70165"},null,1,70163,70162,70165,70164,70161,70165,70163,70162,null,null,null,{"$f":"_xlfn.TEXTJOIN(\"^\",,W4:W13)","v":"70161^70162^70164"},null,1,null,70162,70164,null,70163,null,70164,70162,70165,null,null,{"$f":"_xlfn.TEXTJOIN(\"^\",,AK4:AK13)","v":"70163^70163^70163"}]
[null,null,3,70162,70164,70163,null,70165,70161,70165,70163,70165,70163,null,null,{"$f":"_xlfn.TEXTJOIN(\"^\",,I4:I13)","v":"70162^70164^70161^70161^70162^70161^70161^70164^70162"},null,3,70164,70161,70162,70163,70162,70161,70161,70164,null,null,null,{"$f":"_xlfn.TEXTJOIN(\"^\",,X4:X13)","v":"70165^70161"},null,3,70165,70162,null,null,null,70161,70163,null,70165,null,null,{"$f":"_xlfn.TEXTJOIN(\"^\",,AL4:AL13)","v":"70164^70162^70161^70161^70162^70164"}]
[null,null,5,70164,70161,null,70161,70165,70161,70165,70161,70165,70162,null,null,{"$f":"_xlfn.TEXTJOIN(\"^\",,J4:J13)","v":"70165^70165^70165^70165^70165"},null,5,70161,null,null,70162,70164,null,70162,70161,null,null,null,{"$f":"_xlfn.TEXTJOIN(\"^\",,Y4:Y13)","v":"70163^70161^70162"},null,5,70165,null,70164,70161,70163,70162,70161,70162,70165,null,null,{"$f":"_xlfn.TEXTJOIN(\"^\",,AM4:AM13)","v":"70162^70161^70163^70164^70163^70161^70162"}]
[null,null,7,null,70161,70162,70162,null,70164,null,70162,null,70164,null,null,{"$f":"_xlfn.TEXTJOIN(\"^\",,K4:K13)","v":"70164^70162^70161^70163^70163^70161^70162^70164"},null,7,null,null,null,70161,{"$nulls":7},{"$f":"_xlfn.TEXTJOIN(\"^\",,Z4:Z13)","v":"70162^70164^70161"},null,7,null,null,null,70161,null,70164,70162,70164,null,null,null,{"$f":"_xlfn.TEXTJOIN(\"^\",,AN4:AN13)","v":"70164^70162^70162^70162^70164"}]
[null,null,9,null,null,null,70164,null,70162,null,70164,{"$nulls":4},{"$f":"_xlfn.TEXTJOIN(\"^\",,L4:L13)","v":"70165^70165^70165^70165^70165"},null,9,{"$nulls":11},{"$f":"_xlfn.TEXTJOIN(\"^\",,AA4:AA13)","v":""},null,9,{"$nulls":11},{"$f":"_xlfn.TEXTJOIN(\"^\",,AO4:AO13)","v":"70165^70165^70165^70165^70165"}]
[{"$nulls":15},{"$f":"_xlfn.TEXTJOIN(\"^\",,M4:M13)","v":"70164^70162^70163^70166^70163^70162^70164"},{"$nulls":13},{"$f":"_xlfn.TEXTJOIN(\"^\",,AB4:AB13)","v":""},{"$nulls":13},{"$f":"_xlfn.TEXTJOIN(\"^\",,AP4:AP13)","v":""}]
[{"$nulls":15},{"$f":"_xlfn.TEXTJOIN(\"^\",,N4:N13)","v":""},{"$nulls":13},{"$f":"_xlfn.TEXTJOIN(\"^\",,AC4:AC13)","v":""},{"$nulls":13},{"$f":"_xlfn.TEXTJOIN(\"^\",,AQ4:AQ13)","v":""}]
[{"$nulls":14},"最终",{"$f":"_xlfn.TEXTJOIN(\"^\",,P4:P14)","v":"70164^70162^70162^70164^70161^70161^70164^70164^70161^70161^70162^70163^70162^70163^70162^70164^70162^70161^70162^70161^70162^70164^70165^70165^70165^70165^70165^70162^70164^70161^70161^70162^70161^70161^70164^70162^70165^70165^70165^70165^70165^70164^70162^70161^70163^70163^70161^70162^70164^70165^70165^70165^70165^70165^70164^70162^70163^70166^70163^70162^70164"},{"$nulls":12},"最终",{"$f":"_xlfn.TEXTJOIN(\"^\",,AD4:AD14)","v":"70163^70164^70161^70162^70161^70165^70162^70164^70163^70162^70161^70161^70162^70164^70165^70161^70163^70161^70162^70162^70164^70161"},{"$nulls":12},"最终",{"$f":"_xlfn.TEXTJOIN(\"^\",,AR4:AR14)","v":"70165^70165^70165^70165^70162^70162^70162^70164^70164^70164^70161^70161^70161^70161^70163^70163^70163^70164^70162^70161^70161^70162^70164^70162^70161^70163^70164^70163^70161^70162^70164^70162^70162^70162^70164^70165^70165^70165^70165^70165"}]
[null,null,8,null,null,null,"火精灵",null,"岩浆人",null,"火精灵",{"$nulls":6},8,{"$nulls":13},8]
[null,null,6,null,"岩浆蝎","岩浆人","岩浆人",null,"火精灵",null,"岩浆人",null,"火精灵",{"$nulls":4},6,{"$nulls":13},6,null,null,null,"岩浆蝎",null,"火精灵","岩浆人","火精灵"]
[null,null,4,"火精灵","岩浆蝎",null,"岩浆蝎","火山蜘蛛","岩浆蝎","火山蜘蛛","岩浆蝎","火山蜘蛛","岩浆人",{"$nulls":4},4,{"$nulls":13},4,"火山蜘蛛",null,"火精灵","岩浆蝎","岩浆战士","岩浆人","岩浆蝎","岩浆人","火山蜘蛛"]
[null,null,2,"岩浆人","火精灵","岩浆战士",null,"火山蜘蛛","岩浆蝎","火山蜘蛛","岩浆战士","火山蜘蛛","岩浆战士",{"$nulls":4},2,{"$nulls":13},2,"火山蜘蛛","岩浆人",null,null,null,"岩浆蝎","岩浆战士",null,"火山蜘蛛"]
[null,null,1,null,null,"岩浆人","岩浆人","火山蜘蛛","岩浆人","火山蜘蛛",null,"火山蜘蛛","蘑菇王",{"$nulls":4},1,"岩浆战士","岩浆人","火山蜘蛛","火精灵","岩浆蝎","火山蜘蛛","岩浆战士","岩浆人",{"$nulls":5},1,null,"岩浆人","火精灵",null,"岩浆战士",null,"火精灵","岩浆人","火山蜘蛛"]
[null,null,3,"岩浆人","火精灵","岩浆战士",null,"火山蜘蛛","岩浆蝎","火山蜘蛛","岩浆战士","火山蜘蛛","岩浆战士",{"$nulls":4},3,"火精灵","岩浆蝎","岩浆人","岩浆战士","岩浆人","岩浆蝎","岩浆蝎","火精灵",{"$nulls":5},3,"火山蜘蛛","岩浆人",null,null,null,"岩浆蝎","岩浆战士",null,"火山蜘蛛"]
[null,null,5,"火精灵","岩浆蝎",null,"岩浆蝎","火山蜘蛛","岩浆蝎","火山蜘蛛","岩浆蝎","火山蜘蛛","岩浆人",{"$nulls":4},5,"岩浆蝎",null,null,"岩浆人","火精灵",null,"岩浆人","岩浆蝎",{"$nulls":5},5,"火山蜘蛛",null,"火精灵","岩浆蝎","岩浆战士","岩浆人","岩浆蝎","岩浆人","火山蜘蛛"]
[null,null,7,null,"岩浆蝎","岩浆人","岩浆人",null,"火精灵",null,"岩浆人",null,"火精灵",{"$nulls":4},7,null,null,null,"岩浆蝎",{"$nulls":9},7,null,null,null,"岩浆蝎",null,"火精灵","岩浆人","火精灵"]
[null,null,9,null,null,null,"火精灵",null,"岩浆人",null,"火精灵",{"$nulls":6},9,{"$nulls":13},9]
[]
[null,null,"位置",5,10,17,25,30,40,45,55,60,70,{"$nulls":4},"位置",5,10,15,30,46,50,65,80,{"$nulls":5},"位置",2,4,7,12,18,25,35,45,50,null,null,{"$f":"_xlfn.TEXTJOIN(\"^\",,AG27:AG41)","v":"101^102^104^105"}]
[null,null,8,null,null,null,{"$f":"$C27","v":8},null,{"$f":"$C27","v":8},null,{"$f":"$C27","v":8},{"$nulls":4},{"$f":"_xlfn.TEXTJOIN(\"^\",,D27:D41)","v":"4^2^3^5"},null,8,{"$nulls":13},8,{"$nulls":11},{"$f":"_xlfn.TEXTJOIN(\"^\",,AH27:AH41)","v":"2^1^3"}]
[null,null,6,null,{"$f":"$C28","v":6},{"$f":"$C28","v":6},6,null,6,null,6,null,{"$f":"$C28","v":6},null,null,{"$f":"_xlfn.TEXTJOIN(\"^\",,E27:E41)","v":"6^4^2^3^5^7"},null,6,{"$nulls":11},{"$f":"_xlfn.TEXTJOIN(\"^\",,S27:S41)","v":"0^0^0"},null,6,null,null,null,{"$f":"$C28","v":6},null,{"$f":"$C28","v":6},6,6,null,null,null,{"$f":"_xlfn.TEXTJOIN(\"^\",,AI27:AI41)","v":"4^1^5"}]
[null,null,4,{"$f":"$C29","v":4},{"$f":"$C29","v":4},null,4,null,4,null,4,null,4,null,null,{"$f":"_xlfn.TEXTJOIN(\"^\",,F27:F41)","v":"6^2^1^3^7"},null,4,{"$nulls":11},{"$f":"_xlfn.TEXTJOIN(\"^\",,T27:T41)","v":"0^0"},null,4,null,null,{"$f":"$C29","v":4},4,{"$f":"$C29","v":4},4,4,4,null,null,null,{"$f":"_xlfn.TEXTJOIN(\"^\",,AJ27:AJ41)","v":"6^4^5^7"}]
[null,null,2,{"$f":"$C30","v":2},{"$f":"$C30","v":2},{"$f":"$C30","v":2},null,null,2,null,2,null,2,null,null,{"$f":"_xlfn.TEXTJOIN(\"^\",,G27:G41)","v":"8^6^4^1^5^7^9"},null,2,{"$nulls":11},{"$f":"_xlfn.TEXTJOIN(\"^\",,U27:U41)","v":"100^0"},null,2,null,{"$f":"$C30","v":2},null,null,null,2,2,{"$nulls":4},{"$f":"_xlfn.TEXTJOIN(\"^\",,AK27:AK41)","v":"4^1^5"}]
[null,null,1,null,null,1,1,null,1,null,null,null,1,null,null,{"$f":"_xlfn.TEXTJOIN(\"^\",,H27:H41)","v":"101^102^103^104^105"},null,1,0,0,100,0,0,100,0,0,null,null,null,{"$f":"_xlfn.TEXTJOIN(\"^\",,V27:V41)","v":"0^0^0^0"},null,1,null,1,{"$f":"$C31","v":1},null,{"$f":"$C31","v":1},null,1,{"$f":"$C31","v":1},null,null,null,{"$f":"_xlfn.TEXTJOIN(\"^\",,AL27:AL41)","v":"6^4^2^3^5^7"}]
[null,null,3,{"$f":"$C32","v":3},{"$f":"$C32","v":3},3,null,null,3,null,{"$f":"$C32","v":3},null,3,null,null,{"$f":"_xlfn.TEXTJOIN(\"^\",,I27:I41)","v":"8^6^4^2^1^3^5^7^9"},null,3,0,0,0,0,0,0,0,0,null,null,null,{"$f":"_xlfn.TEXTJOIN(\"^\",,W27:W41)","v":"0^0^0"},null,3,null,3,null,null,null,{"$f":"$C32","v":3},3,{"$nulls":4},{"$f":"_xlfn.TEXTJOIN(\"^\",,AM27:AM41)","v":"6^4^2^1^3^5^7"}]
[null,null,5,5,{"$f":"$C33","v":5},null,{"$f":"$C33","v":5},null,5,null,5,null,5,null,null,{"$f":"_xlfn.TEXTJOIN(\"^\",,J27:J41)","v":"101^102^103^104^105"},null,5,0,null,null,0,0,null,0,0,null,null,null,{"$f":"_xlfn.TEXTJOIN(\"^\",,X27:X41)","v":"100^0"},null,5,null,null,{"$f":"$C33","v":5},{"$f":"$C33","v":5},{"$f":"$C33","v":5},5,5,5,null,null,null,{"$f":"_xlfn.TEXTJOIN(\"^\",,AN27:AN41)","v":"6^4^1^5^7"}]
[null,null,7,null,{"$f":"$C34","v":7},{"$f":"$C34","v":7},7,null,7,null,7,null,7,null,null,{"$f":"_xlfn.TEXTJOIN(\"^\",,K27:K41)","v":"8^6^4^2^3^5^7^9"},null,7,null,null,null,0,{"$nulls":7},{"$f":"_xlfn.TEXTJOIN(\"^\",,Y27:Y41)","v":"0^0^0"},null,7,null,null,null,7,null,7,7,7,null,null,null,{"$f":"_xlfn.TEXTJOIN(\"^\",,AO27:AO41)","v":"101^102^103^104^105"}]
[null,null,9,null,null,null,9,null,9,null,9,{"$nulls":4},{"$f":"_xlfn.TEXTJOIN(\"^\",,L27:L41)","v":"101^102^103^104^105"},null,9,{"$nulls":13},9,{"$nulls":11},{"$f":"_xlfn.TEXTJOIN(\"^\",,AP27:AP41)","v":""}]
[null,null,"空降",{"$nulls":12},{"$f":"_xlfn.TEXTJOIN(\"^\",,M27:M41)","v":"6^4^2^1^3^5^7"},null,"空降",{"$nulls":13},"空降",{"$nulls":11},{"$f":"_xlfn.TEXTJOIN(\"^\",,AQ27:AQ35)","v":""}]
[null,null,101,{"$nulls":4},{"$f":"$C37","v":101},null,{"$f":"$C37","v":101},null,{"$f":"$C37","v":101},null,null,null,{"$f":"_xlfn.TEXTJOIN(\"^\",,N27:N41)","v":""},null,101,{"$nulls":11},{"$f":"_xlfn.TEXTJOIN(\"^\",,Z27:Z41)","v":"0^0^0"},null,101,{"$f":"$C37","v":101},{"$nulls":7},{"$f":"$C37","v":101}]
[null,null,102,{"$nulls":4},102,null,{"$f":"$C38","v":102},null,102,{"$nulls":5},102,{"$nulls":11},{"$f":"_xlfn.TEXTJOIN(\"^\",,AA27:AA41)","v":""},null,102,{"$f":"$C38","v":102},{"$nulls":7},102]
[null,null,103,{"$nulls":4},103,null,{"$f":"$C39","v":103},null,103,{"$nulls":5},103,{"$nulls":11},{"$f":"_xlfn.TEXTJOIN(\"^\",,AB27:AB41)","v":""},null,103,{"$nulls":8},103]
[null,null,104,{"$nulls":4},104,null,{"$f":"$C40","v":104},null,104,{"$nulls":5},104,{"$nulls":13},104,{"$f":"$C40","v":104},{"$nulls":7},{"$f":"$C40","v":104}]
[null,null,105,{"$nulls":4},105,null,{"$f":"$C41","v":105},null,105,{"$nulls":5},105,{"$nulls":13},105,{"$f":"$C41","v":105},{"$nulls":7},105]
[{"$nulls":14},"最终",{"$f":"_xlfn.TEXTJOIN(\"^\",,P27:P41)","v":"4^2^3^5^6^4^2^3^5^7^6^2^1^3^7^8^6^4^1^5^7^9^101^102^103^104^105^8^6^4^2^1^3^5^7^9^101^102^103^104^105^8^6^4^2^3^5^7^9^101^102^103^104^105^6^4^2^1^3^5^7"},{"$nulls":12},"最终",{"$f":"_xlfn.TEXTJOIN(\"^\",,AD27:AD41)","v":"0^0^0^0^0^100^0^0^0^0^0^0^0^0^100^0^0^0^0^0^0^0"},{"$nulls":12},"最终",{"$f":"_xlfn.TEXTJOIN(\"^\",,AR26:AR41)","v":"101^102^104^105^2^1^3^4^1^5^6^4^5^7^4^1^5^6^4^2^3^5^7^6^4^2^1^3^5^7^6^4^1^5^7^101^102^103^104^105"}]
[]
[null,null,"时间",5,10,17,25,30,40,45,55,60,70,{"$nulls":4},"时间",5,10,15,30,46,50,65,80,null,null,null,{"$f":"_xlfn.TEXTJOIN(\"^\",,S45:S53)","v":"4^5^15"},null,"时间",2,4,7,12,18,25,35,45,50,null,null,{"$f":"_xlfn.TEXTJOIN(\"^\",,AG45:AG53)","v":"2^2^2^2"}]
[null,null,8,null,null,null,{"$f":"G$44","v":25},null,{"$f":"I$44","v":40},null,{"$f":"K$44","v":55},{"$nulls":4},{"$f":"_xlfn.TEXTJOIN(\"^\",,D45:D54)","v":"5^5^5^5"},null,8,{"$nulls":11},{"$f":"_xlfn.TEXTJOIN(\"^\",,T45:T53)","v":"4^8"},null,8,{"$nulls":11},{"$f":"_xlfn.TEXTJOIN(\"^\",,AH45:AH53)","v":"4^4^4"}]
[null,null,6,null,{"$f":"E$44","v":10},{"$f":"F$44","v":17},25,null,40,null,55,null,{"$f":"M$44","v":70},null,null,{"$f":"_xlfn.TEXTJOIN(\"^\",,E45:E54)","v":"10^10^10^10^10^10"},null,6,{"$nulls":11},{"$f":"_xlfn.TEXTJOIN(\"^\",,U45:U53)","v":"8^4"},null,6,null,null,null,{"$f":"AJ$44","v":12},null,{"$f":"AL$44","v":25},35,45,null,null,null,{"$f":"_xlfn.TEXTJOIN(\"^\",,AI45:AI53)","v":"7^7^7"}]
[null,null,4,{"$f":"D$44","v":5},10,null,25,30,40,{"$f":"J$44","v":45},55,{"$f":"L$44","v":60},70,null,null,{"$f":"_xlfn.TEXTJOIN(\"^\",,F45:F54)","v":"17^17^17^17^17"},null,4,{"$nulls":11},{"$f":"_xlfn.TEXTJOIN(\"^\",,V45:V53)","v":"2^2^3^6"},null,4,{"$f":"AG$44","v":2},null,{"$f":"AI$44","v":7},12,{"$f":"AK$44","v":18},25,35,45,{"$f":"AO$44","v":50},null,null,{"$f":"_xlfn.TEXTJOIN(\"^\",,AJ45:AJ53)","v":"12^12^12^12"}]
[null,null,2,5,10,17,null,30,40,45,55,60,70,null,null,{"$f":"_xlfn.TEXTJOIN(\"^\",,G45:G54)","v":"25^25^25^25^25^25^25"},null,2,{"$nulls":11},{"$f":"_xlfn.TEXTJOIN(\"^\",,W45:W53)","v":"8^3^2"},null,2,{"$f":"AG$44","v":2},{"$f":"AH$44","v":4},null,null,null,25,35,null,{"$f":"AO$44","v":50},null,null,{"$f":"_xlfn.TEXTJOIN(\"^\",,AK45:AK53)","v":"18^18^18"}]
[null,null,1,null,null,17,25,30,40,45,null,60,70,null,null,{"$f":"_xlfn.TEXTJOIN(\"^\",,H45:H54)","v":"30^30^30^30^30"},null,1,4,4,8,2,8,7,2,3,null,null,null,{"$f":"_xlfn.TEXTJOIN(\"^\",,X45:X53)","v":"7^5"},null,1,null,4,{"$f":"AI$44","v":7},null,{"$f":"AK$44","v":18},null,35,{"$f":"AN$44","v":45},{"$f":"AO$44","v":50},null,null,{"$f":"_xlfn.TEXTJOIN(\"^\",,AL45:AL53)","v":"25^25^25^25^25^25"}]
[null,null,3,{"$f":"D$44","v":5},10,17,null,30,40,45,55,60,70,null,null,{"$f":"_xlfn.TEXTJOIN(\"^\",,I45:I54)","v":"40^40^40^40^40^40^40^40^40"},null,3,5,8,4,2,3,5,8,2,null,null,null,{"$f":"_xlfn.TEXTJOIN(\"^\",,Y45:Y53)","v":"2^8^3"},null,3,{"$f":"AG$44","v":2},4,null,null,null,{"$f":"AL$44","v":25},35,null,{"$f":"AO$44","v":50},null,null,{"$f":"_xlfn.TEXTJOIN(\"^\",,AM45:AM53)","v":"35^35^35^35^35^35^35"}]
[null,null,5,5,10,null,{"$f":"G$44","v":25},30,40,{"$f":"J$44","v":45},55,60,70,null,null,{"$f":"_xlfn.TEXTJOIN(\"^\",,J45:J54)","v":"45^45^45^45^45"},null,5,15,null,null,3,2,null,3,9,null,null,null,{"$f":"_xlfn.TEXTJOIN(\"^\",,Z45:Z53)","v":"3^2^9"},null,5,{"$f":"AG$44","v":2},null,{"$f":"AI$44","v":7},{"$f":"AJ$44","v":12},{"$f":"AK$44","v":18},25,35,45,50,null,null,{"$f":"_xlfn.TEXTJOIN(\"^\",,AN45:AN53)","v":"45^45^45^45^45"}]
[null,null,7,null,10,{"$f":"F$44","v":17},25,null,40,null,55,null,70,null,null,{"$f":"_xlfn.TEXTJOIN(\"^\",,K45:K54)","v":"55^55^55^55^55^55^55^55"},null,7,null,null,null,6,{"$nulls":7},{"$f":"_xlfn.TEXTJOIN(\"^\",,AA45:AA53)","v":""},null,7,null,null,null,12,null,25,35,45,null,null,null,{"$f":"_xlfn.TEXTJOIN(\"^\",,AO45:AO53)","v":"50^50^50^50^50"}]
[null,null,9,null,null,null,25,null,40,null,55,{"$nulls":4},{"$f":"_xlfn.TEXTJOIN(\"^\",,L45:L54)","v":"60^60^60^60^60"},null,9,{"$nulls":11},{"$f":"_xlfn.TEXTJOIN(\"^\",,AB45:AB53)","v":""},null,9,{"$nulls":11},{"$f":"_xlfn.TEXTJOIN(\"^\",,AP45:AP53)","v":""}]
[{"$nulls":15},{"$f":"_xlfn.TEXTJOIN(\"^\",,M45:M54)","v":"70^70^70^70^70^70^70"},{"$nulls":13},{"$f":"_xlfn.TEXTJOIN(\"^\",,AC45:AC53)","v":""},{"$nulls":13},{"$f":"_xlfn.TEXTJOIN(\"^\",,AQ45:AQ53)","v":""}]
[{"$nulls":15},{"$f":"_xlfn.TEXTJOIN(\"^\",,N45:N54)","v":""},{"$nulls":12},"最终",{"$f":"_xlfn.TEXTJOIN(\"^\",,AD44:AD54)","v":"4^5^15^4^8^8^4^2^2^3^6^8^3^2^7^5^2^8^3^3^2^9"},{"$nulls":12},"最终",{"$f":"_xlfn.TEXTJOIN(\"^\",,AR44:AR54)","v":"2^2^2^2^4^4^4^7^7^7^12^12^12^12^18^18^18^25^25^25^25^25^25^35^35^35^35^35^35^35^45^45^45^45^45^50^50^50^50^50"}]
[{"$nulls":14},"最终",{"$f":"_xlfn.TEXTJOIN(\"^\",,P45:P55)","v":"5^5^5^5^10^10^10^10^10^10^17^17^17^17^17^25^25^25^25^25^25^25^30^30^30^30^30^40^40^40^40^40^40^40^40^40^45^45^45^45^45^55^55^55^55^55^55^55^55^60^60^60^60^60^70^70^70^70^70^70^70"}]
[{"$nulls":14},{"$f":"COUNT(D45:N54)","v":61},{"$nulls":13},{"$f":"SUM(S45:AB54)","v":113},{"$nulls":13},{"$f":"COUNT(AG45:AP54)","v":40},{"$f":"AC57+AQ57+O57","v":214}]
[{"$nulls":4},{"$f":"E59-D59","v":10},{"$f":"F59-E59","v":15},5,15,16,4,15,16,4,{"$nulls":6},{"$f":"T59-S59","v":3},5,7,8,10,10,5,{"$nulls":7},{"$f":"AH59-AG59","v":2},4,6,5,15,16,17,2,{"$nulls":6},{"$f":"AV59-AU59","v":2},2,2,2,5,10,5]
[3,"炎地-2","波1·怪物",5,15,30,35,50,66,70,85,101,105,null,null,null,1,"波2·怪物",2,5,10,17,25,35,45,50,{"$nulls":4},3,"波3·怪物",3,5,9,15,20,35,51,68,70,null,null,null,1,"波4·怪物",2,4,6,8,10,15,25,30]
[null,"5m",8,{"$nulls":12},{"$f":"_xlfn.TEXTJOIN(\"^\",,D60:D69)","v":"70171^70172"},null,8,{"$nulls":5},70174,{"$nulls":5},{"$f":"_xlfn.TEXTJOIN(\"^\",,S60:S69)","v":"70172^70172^70172^70172^70172"},null,8,{"$nulls":11},{"$f":"_xlfn.TEXTJOIN(\"^\",,AG60:AG69)","v":"70173^70171"},null,8,{"$nulls":11},{"$f":"_xlfn.TEXTJOIN(\"^\",,AU60:AU69)","v":"70171^70171^70171^70171"}]
[null,null,6,{"$nulls":12},{"$f":"_xlfn.TEXTJOIN(\"^\",,E60:E69)","v":"70171^70172^70174"},null,6,null,null,70174,null,70172,70172,70172,{"$nulls":4},{"$f":"_xlfn.TEXTJOIN(\"^\",,T60:T69)","v":"70175^70175^70175^70175^70175"},null,6,{"$nulls":11},{"$f":"_xlfn.TEXTJOIN(\"^\",,AH60:AH69)","v":"70172^70171"},null,6,{"$nulls":5},70174,70172,{"$nulls":4},{"$f":"_xlfn.TEXTJOIN(\"^\",,AV60:AV69)","v":"70172^70172^70172"}]
[null,null,4,{"$nulls":12},{"$f":"_xlfn.TEXTJOIN(\"^\",,F60:F69)","v":"70173^70171^70172"},null,4,70172,70175,70173,70171,70171,70171,70171,70175,null,null,null,{"$f":"_xlfn.TEXTJOIN(\"^\",,U60:U69)","v":"70174^70173^70172^70176^70172^70173^70174"},null,4,{"$nulls":11},{"$f":"_xlfn.TEXTJOIN(\"^\",,AI60:AI69)","v":"70171^70172^70174"},null,4,70171,70172,null,70175,70173,70172,70171,70175,null,null,null,{"$f":"_xlfn.TEXTJOIN(\"^\",,AW60:AW69)","v":"70174^70174"}]
[null,null,2,{"$nulls":12},{"$f":"_xlfn.TEXTJOIN(\"^\",,G60:G69)","v":"70175^70171"},null,2,70172,70175,70172,70171,70171,70173,70173,70175,null,null,null,{"$f":"_xlfn.TEXTJOIN(\"^\",,V60:V69)","v":"70171^70171^70171^70171^70171"},null,2,{"$nulls":11},{"$f":"_xlfn.TEXTJOIN(\"^\",,AJ60:AJ69)","v":"70175^70173"},null,2,70171,null,70174,70175,null,70171,70173,70175,null,null,null,{"$f":"_xlfn.TEXTJOIN(\"^\",,AX60:AX69)","v":"70175^70175^70175^70175"}]
[null,null,1,70171,70171,70173,70175,70174,70173,70175,70173,70171,70175,null,null,{"$f":"_xlfn.TEXTJOIN(\"^\",,H60:H69)","v":"70174^70171^70172"},null,1,70172,70175,70176,70171,70172,null,70172,70175,null,null,null,{"$f":"_xlfn.TEXTJOIN(\"^\",,W60:W69)","v":"70172^70171^70171^70172^70171^70171^70172"},null,1,70173,70172,70171,70175,70171,70171,70173,70172,70175,null,null,{"$f":"_xlfn.TEXTJOIN(\"^\",,AK60:AK69)","v":"70171^70172"},null,1,null,70172,null,null,70173,null,70174,{"$nulls":4},{"$f":"_xlfn.TEXTJOIN(\"^\",,AY60:AY69)","v":"70173^70173^70173"}]
[null,null,3,70172,70172,70171,70171,70171,70172,70172,70171,70172,70173,null,null,{"$f":"_xlfn.TEXTJOIN(\"^\",,I60:I69)","v":"70173^70172^70174"},null,3,70172,70175,70172,70171,70171,70173,70173,70175,null,null,null,{"$f":"_xlfn.TEXTJOIN(\"^\",,X60:X69)","v":"70174^70172^70171^70173^70173^70171^70172^70174"},null,3,70171,70171,70172,70173,70172,70174,70171,70174,70172,null,null,{"$f":"_xlfn.TEXTJOIN(\"^\",,AL60:AL69)","v":"70171^70174^70172"},null,3,70171,null,70174,70175,null,70171,70173,70175,null,null,null,{"$f":"_xlfn.TEXTJOIN(\"^\",,AZ60:AZ69)","v":"70174^70172^70171^70171^70172^70174"}]
[null,null,5,null,70174,70172,null,70172,70174,null,70172,null,70176,null,null,{"$f":"_xlfn.TEXTJOIN(\"^\",,J60:J69)","v":"70175^70172"},null,5,70172,70175,70173,70171,70171,70171,70171,70175,null,null,null,{"$f":"_xlfn.TEXTJOIN(\"^\",,Y60:Y69)","v":"70172^70171^70173^70172^70173^70171^70172"},null,5,null,null,70174,null,null,70172,70172,{"$nulls":4},{"$f":"_xlfn.TEXTJOIN(\"^\",,AM60:AM69)","v":"70173^70171^70172"},null,5,70171,70172,null,70175,70173,70172,70171,70175,null,null,null,{"$f":"_xlfn.TEXTJOIN(\"^\",,BA60:BA69)","v":"70172^70171^70173^70174^70173^70171^70172"}]
[null,null,7,{"$nulls":7},70174,{"$nulls":4},{"$f":"_xlfn.TEXTJOIN(\"^\",,K60:K69)","v":"70173^70171^70172^70174"},null,7,null,null,70174,null,70172,70172,70172,{"$nulls":4},{"$f":"_xlfn.TEXTJOIN(\"^\",,Z60:Z69)","v":"70175^70175^70175^70175^70175"},null,7,{"$nulls":11},{"$f":"_xlfn.TEXTJOIN(\"^\",,AN60:AN69)","v":"70172^70174"},null,7,{"$nulls":5},70174,70172,{"$nulls":4},{"$f":"_xlfn.TEXTJOIN(\"^\",,BB60:BB69)","v":"70175^70175^70175^70175"}]
[null,null,9,{"$nulls":12},{"$f":"_xlfn.TEXTJOIN(\"^\",,L60:L69)","v":"70171^70172"},null,9,{"$nulls":5},70174,{"$nulls":5},{"$f":"_xlfn.TEXTJOIN(\"^\",,AA60:AA69)","v":""},null,9,{"$nulls":11},{"$f":"_xlfn.TEXTJOIN(\"^\",,AO60:AO69)","v":"70175^70172"},null,9,{"$nulls":11},{"$f":"_xlfn.TEXTJOIN(\"^\",,BC60:BC69)","v":""}]
[{"$nulls":15},{"$f":"_xlfn.TEXTJOIN(\"^\",,M60:M69)","v":"70175^70173^70176"},{"$nulls":13},{"$f":"_xlfn.TEXTJOIN(\"^\",,AB60:AB69)","v":""},{"$nulls":13},{"$f":"_xlfn.TEXTJOIN(\"^\",,AP60:AP69)","v":""},{"$nulls":13},{"$f":"_xlfn.TEXTJOIN(\"^\",,BD60:BD69)","v":""}]
[{"$nulls":15},{"$f":"_xlfn.TEXTJOIN(\"^\",,N60:N69)","v":""},{"$nulls":13},{"$f":"_xlfn.TEXTJOIN(\"^\",,AC60:AC69)","v":""},{"$nulls":13},{"$f":"_xlfn.TEXTJOIN(\"^\",,AQ60:AQ69)","v":""},{"$nulls":13},{"$f":"_xlfn.TEXTJOIN(\"^\",,BE60:BE69)","v":""}]
[{"$nulls":14},"最终",{"$f":"_xlfn.TEXTJOIN(\"^\",,P60:P70)","v":"70171^70172^70171^70172^70174^70173^70171^70172^70175^70171^70174^70171^70172^70173^70172^70174^70175^70172^70173^70171^70172^70174^70171^70172^70175^70173^70176"},{"$nulls":12},"最终",{"$f":"_xlfn.TEXTJOIN(\"^\",,AD60:AD70)","v":"70172^70172^70172^70172^70172^70175^70175^70175^70175^70175^70174^70173^70172^70176^70172^70173^70174^70171^70171^70171^70171^70171^70172^70171^70171^70172^70171^70171^70172^70174^70172^70171^70173^70173^70171^70172^70174^70172^70171^70173^70172^70173^70171^70172^70175^70175^70175^70175^70175"},{"$nulls":12},"最终",{"$f":"_xlfn.TEXTJOIN(\"^\",,AR60:AR70)","v":"70173^70171^70172^70171^70171^70172^70174^70175^70173^70171^70172^70171^70174^70172^70173^70171^70172^70172^70174^70175^70172"},{"$nulls":12},"最终",{"$f":"_xlfn.TEXTJOIN(\"^\",,BF60:BF70)","v":"70171^70171^70171^70171^70172^70172^70172^70174^70174^70175^70175^70175^70175^70173^70173^70173^70174^70172^70171^70171^70172^70174^70172^70171^70173^70174^70173^70171^70172^70175^70175^70175^70175"}]
[null,null,8,{"$nulls":14},8,{"$nulls":5},"火精灵",{"$nulls":7},8,{"$nulls":13},8]
[null,null,6,{"$nulls":14},6,null,null,"火精灵",null,"岩浆人","岩浆人","岩浆人",{"$nulls":6},6,{"$nulls":13},6,{"$nulls":5},"火精灵","岩浆人"]
[null,null,4,{"$nulls":14},4,"岩浆人","火山蜘蛛","岩浆战士","岩浆蝎","岩浆蝎","岩浆蝎","岩浆蝎","火山蜘蛛",{"$nulls":5},4,{"$nulls":13},4,"岩浆蝎","岩浆人",null,"火山蜘蛛","岩浆战士","岩浆人","岩浆蝎","火山蜘蛛"]
[null,null,2,{"$nulls":14},2,"岩浆人","火山蜘蛛","岩浆人","岩浆蝎","岩浆蝎","岩浆战士","岩浆战士","火山蜘蛛",{"$nulls":5},2,{"$nulls":13},2,"岩浆蝎",null,"火精灵","火山蜘蛛",null,"岩浆蝎","岩浆战士","火山蜘蛛"]
[null,null,1,"岩浆蝎","岩浆蝎","岩浆战士","火山蜘蛛","火精灵","岩浆战士","火山蜘蛛","岩浆战士","岩浆蝎","火山蜘蛛",{"$nulls":4},1,"岩浆人","火山蜘蛛","蘑菇王","岩浆蝎","岩浆人",null,"岩浆人","火山蜘蛛",{"$nulls":5},1,"岩浆战士","岩浆人","岩浆蝎","火山蜘蛛","岩浆蝎","岩浆蝎","岩浆战士","岩浆人","火山蜘蛛",{"$nulls":4},1,null,"岩浆人",null,null,"岩浆战士",null,"火精灵"]
[null,null,3,"岩浆人","岩浆人","岩浆蝎","岩浆蝎","岩浆蝎","岩浆人","岩浆人","岩浆蝎","岩浆人","岩浆战士",{"$nulls":4},3,"岩浆人","火山蜘蛛","岩浆人","岩浆蝎","岩浆蝎","岩浆战士","岩浆战士","火山蜘蛛",{"$nulls":5},3,"岩浆蝎","岩浆蝎","岩浆人","岩浆战士","岩浆人","火精灵","岩浆蝎","火精灵","岩浆人",{"$nulls":4},3,"岩浆蝎",null,"火精灵","火山蜘蛛",null,"岩浆蝎","岩浆战士","火山蜘蛛"]
[null,null,5,null,"火精灵","岩浆人",null,"岩浆人","火精灵",null,"岩浆人",null,"蘑菇王",{"$nulls":4},5,"岩浆人","火山蜘蛛","岩浆战士","岩浆蝎","岩浆蝎","岩浆蝎","岩浆蝎","火山蜘蛛",{"$nulls":5},5,null,null,"火精灵",null,null,"岩浆人","岩浆人",{"$nulls":6},5,"岩浆蝎","岩浆人",null,"火山蜘蛛","岩浆战士","岩浆人","岩浆蝎","火山蜘蛛"]
[null,null,7,{"$nulls":7},"火精灵",{"$nulls":6},7,null,null,"火精灵",null,"岩浆人","岩浆人","岩浆人",{"$nulls":6},7,{"$nulls":13},7,{"$nulls":5},"火精灵","岩浆人"]
[null,null,9,{"$nulls":14},9,{"$nulls":5},"火精灵",{"$nulls":7},9,{"$nulls":13},9]
[]
[null,null,"位置",5,15,30,46,50,66,70,85,90,105,{"$nulls":4},"位置",2,5,10,17,25,35,45,50,{"$nulls":5},"位置",3,5,9,15,25,40,55,60,null,null,null,{"$f":"_xlfn.TEXTJOIN(\"^\",,AG83:AG97)","v":"0^0"},null,"位置",2,4,6,8,10,15,25,30,null,null,null,{"$f":"_xlfn.TEXTJOIN(\"^\",,AU83:AU97)","v":"4^2^3^5"}]
[null,null,8,{"$nulls":12},{"$f":"_xlfn.TEXTJOIN(\"^\",,D83:D97)","v":"0^0"},null,8,{"$nulls":5},{"$f":"$C83","v":8},{"$nulls":7},8,{"$nulls":11},{"$f":"_xlfn.TEXTJOIN(\"^\",,AH83:AH97)","v":"0^0"},null,8,{"$nulls":11},{"$f":"_xlfn.TEXTJOIN(\"^\",,AV83:AV97)","v":"4^1^5"}]
[null,null,6,{"$nulls":12},{"$f":"_xlfn.TEXTJOIN(\"^\",,E83:E97)","v":"0^0^0"},null,6,null,null,{"$f":"$C84","v":6},null,{"$f":"$C84","v":6},6,6,{"$nulls":4},{"$f":"_xlfn.TEXTJOIN(\"^\",,S83:S97)","v":"4^2^1^3^5"},null,6,{"$nulls":11},{"$f":"_xlfn.TEXTJOIN(\"^\",,AI83:AI97)","v":"0^0^0"},null,6,{"$nulls":5},{"$f":"$C84","v":6},6,{"$nulls":4},{"$f":"_xlfn.TEXTJOIN(\"^\",,AW83:AW97)","v":"2^3"}]
[null,null,4,{"$nulls":12},{"$f":"_xlfn.TEXTJOIN(\"^\",,F83:F97)","v":"0^0^0"},null,4,{"$f":"$C85","v":4},null,4,4,4,4,4,{"$nulls":4},{"$f":"_xlfn.TEXTJOIN(\"^\",,T83:T97)","v":"101^102^103^104^105"},null,4,{"$nulls":11},{"$f":"_xlfn.TEXTJOIN(\"^\",,AJ83:AJ97)","v":"100^0"},null,4,{"$f":"$C85","v":4},{"$f":"$C85","v":4},null,null,{"$f":"$C85","v":4},4,4,{"$nulls":4},{"$f":"_xlfn.TEXTJOIN(\"^\",,AX83:AX97)","v":"101^102^104^105"}]
[null,null,2,{"$nulls":12},{"$f":"_xlfn.TEXTJOIN(\"^\",,G83:G97)","v":"100^0"},null,2,2,null,2,2,2,2,2,{"$nulls":4},{"$f":"_xlfn.TEXTJOIN(\"^\",,U83:U97)","v":"6^4^2^1^3^5^7"},null,2,{"$nulls":11},{"$f":"_xlfn.TEXTJOIN(\"^\",,AK83:AK97)","v":"0^0"},null,2,2,null,{"$f":"$C86","v":2},null,null,2,2,{"$nulls":4},{"$f":"_xlfn.TEXTJOIN(\"^\",,AY83:AY97)","v":"4^1^5"}]
[null,null,1,0,0,0,100,0,0,100,0,0,100,null,null,{"$f":"_xlfn.TEXTJOIN(\"^\",,H83:H97)","v":"0^0^0"},null,1,1,null,1,1,1,null,1,{"$nulls":4},{"$f":"_xlfn.TEXTJOIN(\"^\",,V83:V97)","v":"4^2^1^3^5"},null,1,0,0,0,100,0,0,0,0,100,null,null,{"$f":"_xlfn.TEXTJOIN(\"^\",,AL83:AL97)","v":"0^0^0"},null,1,null,{"$f":"$C87","v":1},null,null,{"$f":"$C87","v":1},null,1,{"$nulls":4},{"$f":"_xlfn.TEXTJOIN(\"^\",,AZ83:AZ97)","v":"6^4^2^3^5^7"}]
[null,null,3,0,0,0,0,0,0,0,0,0,0,null,null,{"$f":"_xlfn.TEXTJOIN(\"^\",,I83:I97)","v":"0^0^0"},null,3,3,null,3,3,3,3,3,{"$nulls":4},{"$f":"_xlfn.TEXTJOIN(\"^\",,W83:W97)","v":"6^4^2^1^3^5^7"},null,3,0,0,0,0,0,0,0,0,0,null,null,{"$f":"_xlfn.TEXTJOIN(\"^\",,AM83:AM97)","v":"0^0^0"},null,3,{"$f":"$C88","v":3},null,{"$f":"$C88","v":3},null,null,{"$f":"$C88","v":3},3,{"$nulls":4},{"$f":"_xlfn.TEXTJOIN(\"^\",,BA83:BA97)","v":"6^4^2^1^3^5^7"}]
[null,null,5,null,0,0,null,0,0,null,0,null,0,null,null,{"$f":"_xlfn.TEXTJOIN(\"^\",,J83:J97)","v":"100^0"},null,5,5,null,5,5,5,5,5,{"$nulls":4},{"$f":"_xlfn.TEXTJOIN(\"^\",,X83:X97)","v":"8^6^4^2^3^5^7^9"},null,5,null,null,0,null,null,0,0,{"$nulls":4},{"$f":"_xlfn.TEXTJOIN(\"^\",,AN83:AN97)","v":"0^0"},null,5,5,{"$f":"$C89","v":5},null,null,{"$f":"$C89","v":5},5,5,{"$nulls":4},{"$f":"_xlfn.TEXTJOIN(\"^\",,BB83:BB97)","v":"101^102^104^105"}]
[null,null,7,{"$nulls":7},0,{"$nulls":4},{"$f":"_xlfn.TEXTJOIN(\"^\",,K83:K97)","v":"0^0^0^0"},null,7,null,null,7,null,7,7,7,{"$nulls":4},{"$f":"_xlfn.TEXTJOIN(\"^\",,Y83:Y97)","v":"6^4^2^1^3^5^7"},null,7,{"$nulls":11},{"$f":"_xlfn.TEXTJOIN(\"^\",,AO83:AO97)","v":"100^0"},null,7,{"$nulls":5},7,7,{"$nulls":4},{"$f":"_xlfn.TEXTJOIN(\"^\",,BC83:BC97)","v":""}]
[null,null,9,{"$nulls":12},{"$f":"_xlfn.TEXTJOIN(\"^\",,L83:L97)","v":"0^0"},null,9,{"$nulls":5},9,{"$nulls":7},9,{"$nulls":11},{"$f":"_xlfn.TEXTJOIN(\"^\",,AP83:AP97)","v":""},null,9,{"$nulls":11},{"$f":"_xlfn.TEXTJOIN(\"^\",,BD83:BD97)","v":""}]
[null,null,"空降",{"$nulls":12},{"$f":"_xlfn.TEXTJOIN(\"^\",,M83:M97)","v":"100^0^0"},null,"空降",{"$nulls":13},"空降",{"$nulls":11},{"$f":"_xlfn.TEXTJOIN(\"^\",,AQ83:AQ91)","v":""},null,"空降",{"$nulls":11},{"$f":"_xlfn.TEXTJOIN(\"^\",,BE83:BE91)","v":""}]
[null,null,101,{"$nulls":12},{"$f":"_xlfn.TEXTJOIN(\"^\",,N83:N97)","v":""},null,101,null,{"$f":"$C93","v":101},{"$nulls":5},{"$f":"$C93","v":101},null,null,null,{"$f":"_xlfn.TEXTJOIN(\"^\",,Z83:Z97)","v":"101^102^103^104^105"},null,101,{"$nulls":13},101,null,null,null,{"$f":"$C93","v":101},null,null,null,{"$f":"$C93","v":101}]
[null,null,102,{"$nulls":14},102,null,{"$f":"$C94","v":102},{"$nulls":5},102,null,null,null,{"$f":"_xlfn.TEXTJOIN(\"^\",,AA83:AA97)","v":""},null,102,{"$nulls":13},102,null,null,null,102,null,null,null,102]
[null,null,103,{"$nulls":14},103,null,103,{"$nulls":5},103,null,null,null,{"$f":"_xlfn.TEXTJOIN(\"^\",,AB83:AB97)","v":""},null,103,{"$nulls":13},103]
[null,null,104,{"$nulls":14},104,null,104,{"$nulls":5},104,{"$nulls":5},104,{"$nulls":13},104,null,null,null,{"$f":"$C96","v":104},null,null,null,{"$f":"$C96","v":104}]
[null,null,105,{"$nulls":14},105,null,{"$f":"$C97","v":105},{"$nulls":5},105,{"$nulls":5},105,{"$nulls":13},105,null,null,null,105,null,null,null,105]
[{"$nulls":14},"最终",{"$f":"_xlfn.TEXTJOIN(\"^\",,P83:P97)","v":"0^0^0^0^0^0^0^0^100^0^0^0^0^0^0^0^100^0^0^0^0^0^0^0^100^0^0"},{"$nulls":12},"最终",{"$f":"_xlfn.TEXTJOIN(\"^\",,AD83:AD97)","v":"4^2^1^3^5^101^102^103^104^105^6^4^2^1^3^5^7^4^2^1^3^5^6^4^2^1^3^5^7^8^6^4^2^3^5^7^9^6^4^2^1^3^5^7^101^102^103^104^105"},{"$nulls":12},"最终",{"$f":"_xlfn.TEXTJOIN(\"^\",,AR82:AR97)","v":"0^0^0^0^0^0^0^100^0^0^0^0^0^0^0^0^0^0^0^100^0"},{"$nulls":12},"最终",{"$f":"_xlfn.TEXTJOIN(\"^\",,BF82:BF97)","v":"4^2^3^5^4^1^5^2^3^101^102^104^105^4^1^5^6^4^2^3^5^7^6^4^2^1^3^5^7^101^102^104^105"}]
[]
[null,null,"时间",5,15,30,46,50,66,70,85,90,105,{"$nulls":4},"时间",2,5,10,17,25,35,45,50,null,null,null,{"$f":"_xlfn.TEXTJOIN(\"^\",,S101:S109)","v":"2^2^2^2^2"},null,"时间",3,5,9,15,25,40,55,60,null,null,null,{"$f":"_xlfn.TEXTJOIN(\"^\",,AG101:AG109)","v":"6^14"},null,"时间",2,4,6,8,10,15,25,30,null,null,null,{"$f":"_xlfn.TEXTJOIN(\"^\",,AU101:AU109)","v":"2^2^2^2"}]
[null,null,8,{"$nulls":12},{"$f":"_xlfn.TEXTJOIN(\"^\",,D101:D110)","v":"8^3"},null,8,{"$nulls":5},{"$f":"X$100","v":35},{"$nulls":5},{"$f":"_xlfn.TEXTJOIN(\"^\",,T101:T109)","v":"5^5^5^5^5"},null,8,{"$nulls":11},{"$f":"_xlfn.TEXTJOIN(\"^\",,AH101:AH109)","v":"4^7"},null,8,{"$nulls":11},{"$f":"_xlfn.TEXTJOIN(\"^\",,AV101:AV109)","v":"4^4^4"}]
[null,null,6,{"$nulls":12},{"$f":"_xlfn.TEXTJOIN(\"^\",,E101:E110)","v":"7^3^2"},null,6,null,null,{"$f":"U$100","v":10},null,{"$f":"W$100","v":25},35,45,{"$nulls":4},{"$f":"_xlfn.TEXTJOIN(\"^\",,U101:U109)","v":"10^10^10^10^10^10^10"},null,6,{"$nulls":11},{"$f":"_xlfn.TEXTJOIN(\"^\",,AI101:AI109)","v":"7^3^3"},null,6,{"$nulls":5},{"$f":"AZ$100","v":15},25,{"$nulls":4},{"$f":"_xlfn.TEXTJOIN(\"^\",,AW101:AW109)","v":"6^6"}]
[null,null,4,{"$nulls":12},{"$f":"_xlfn.TEXTJOIN(\"^\",,F101:F110)","v":"3^8^2"},null,4,{"$f":"S$100","v":2},{"$f":"T$100","v":5},10,17,25,35,45,50,null,null,null,{"$f":"_xlfn.TEXTJOIN(\"^\",,V101:V109)","v":"17^17^17^17^17"},null,4,{"$nulls":11},{"$f":"_xlfn.TEXTJOIN(\"^\",,AJ101:AJ109)","v":"8^3"},null,4,{"$f":"AU$100","v":2},{"$f":"AV$100","v":4},null,{"$f":"AX$100","v":8},{"$f":"AY$100","v":10},15,25,{"$f":"BB$100","v":30},null,null,null,{"$f":"_xlfn.TEXTJOIN(\"^\",,AX101:AX109)","v":"8^8^8^8"}]
[null,null,2,{"$nulls":12},{"$f":"_xlfn.TEXTJOIN(\"^\",,G101:G110)","v":"8^5"},null,2,2,5,10,17,25,35,45,50,null,null,null,{"$f":"_xlfn.TEXTJOIN(\"^\",,W101:W109)","v":"25^25^25^25^25^25^25"},null,2,{"$nulls":11},{"$f":"_xlfn.TEXTJOIN(\"^\",,AK101:AK109)","v":"8^3"},null,2,2,null,{"$f":"AW$100","v":6},8,null,15,25,{"$f":"BB$100","v":30},null,null,null,{"$f":"_xlfn.TEXTJOIN(\"^\",,AY101:AY109)","v":"10^10^10"}]
[null,null,1,8,7,3,8,2,3,9,2,7,8,null,null,{"$f":"_xlfn.TEXTJOIN(\"^\",,H101:H110)","v":"2^7^3"},null,1,2,5,10,17,25,null,45,50,null,null,null,{"$f":"_xlfn.TEXTJOIN(\"^\",,X101:X109)","v":"35^35^35^35^35^35^35^35"},null,1,6,4,7,8,8,6,2,6,8,null,null,{"$f":"_xlfn.TEXTJOIN(\"^\",,AL101:AL109)","v":"6^2^4"},null,1,null,{"$f":"AV$100","v":4},null,null,{"$f":"AY$100","v":10},null,25,{"$nulls":4},{"$f":"_xlfn.TEXTJOIN(\"^\",,AZ101:AZ109)","v":"15^15^15^15^15^15"}]
[null,null,3,3,3,8,5,7,4,3,7,4,3,null,null,{"$f":"_xlfn.TEXTJOIN(\"^\",,I101:I110)","v":"3^4^3"},null,3,2,5,10,17,25,35,45,50,null,null,null,{"$f":"_xlfn.TEXTJOIN(\"^\",,Y101:Y109)","v":"45^45^45^45^45^45^45"},null,3,14,7,3,3,3,2,8,3,3,null,null,{"$f":"_xlfn.TEXTJOIN(\"^\",,AM101:AM109)","v":"2^8^3"},null,3,{"$f":"AU$100","v":2},null,{"$f":"AW$100","v":6},{"$f":"AX$100","v":8},null,{"$f":"AZ$100","v":15},25,30,null,null,null,{"$f":"_xlfn.TEXTJOIN(\"^\",,BA101:BA109)","v":"25^25^25^25^25^25^25"}]
[null,null,5,null,2,2,null,3,3,null,3,null,1,null,null,{"$f":"_xlfn.TEXTJOIN(\"^\",,J101:J110)","v":"9^3"},null,5,2,{"$f":"T$100","v":5},10,17,25,35,45,50,null,null,null,{"$f":"_xlfn.TEXTJOIN(\"^\",,Z101:Z109)","v":"50^50^50^50^50"},null,5,null,null,3,null,null,4,3,{"$nulls":4},{"$f":"_xlfn.TEXTJOIN(\"^\",,AN101:AN109)","v":"6^3"},null,5,2,{"$f":"AV$100","v":4},null,8,{"$f":"AY$100","v":10},15,25,30,null,null,null,{"$f":"_xlfn.TEXTJOIN(\"^\",,BB101:BB109)","v":"30^30^30^30"}]
[null,null,7,{"$nulls":7},2,{"$nulls":4},{"$f":"_xlfn.TEXTJOIN(\"^\",,K101:K110)","v":"2^7^3^2"},null,7,null,null,10,null,25,35,45,{"$nulls":4},{"$f":"_xlfn.TEXTJOIN(\"^\",,AA101:AA109)","v":""},null,7,{"$nulls":11},{"$f":"_xlfn.TEXTJOIN(\"^\",,AO101:AO109)","v":"8^3"},null,7,{"$nulls":5},15,25,{"$nulls":4},{"$f":"_xlfn.TEXTJOIN(\"^\",,BC101:BC109)","v":""}]
[null,null,9,{"$nulls":12},{"$f":"_xlfn.TEXTJOIN(\"^\",,L101:L110)","v":"7^4"},null,9,{"$nulls":5},35,{"$nulls":5},{"$f":"_xlfn.TEXTJOIN(\"^\",,AB101:AB109)","v":""},null,9,{"$nulls":11},{"$f":"_xlfn.TEXTJOIN(\"^\",,AP101:AP109)","v":""},null,9,{"$nulls":11},{"$f":"_xlfn.TEXTJOIN(\"^\",,BD101:BD109)","v":""}]
[{"$nulls":15},{"$f":"_xlfn.TEXTJOIN(\"^\",,M101:M110)","v":"8^3^1"},{"$nulls":13},{"$f":"_xlfn.TEXTJOIN(\"^\",,AC101:AC109)","v":""},{"$nulls":13},{"$f":"_xlfn.TEXTJOIN(\"^\",,AQ101:AQ109)","v":""},{"$nulls":13},{"$f":"_xlfn.TEXTJOIN(\"^\",,BE101:BE109)","v":""}]
[{"$nulls":15},{"$f":"_xlfn.TEXTJOIN(\"^\",,N101:N110)","v":""},{"$nulls":12},"最终",{"$f":"_xlfn.TEXTJOIN(\"^\",,AD100:AD110)","v":"2^2^2^2^2^5^5^5^5^5^10^10^10^10^10^10^10^17^17^17^17^17^25^25^25^25^25^25^25^35^35^35^35^35^35^35^35^45^45^45^45^45^45^45^50^50^50^50^50"},{"$nulls":12},"最终",{"$f":"_xlfn.TEXTJOIN(\"^\",,AR100:AR110)","v":"6^14^4^7^7^3^3^8^3^8^3^6^2^4^2^8^3^6^3^8^3"},{"$nulls":12},"最终",{"$f":"_xlfn.TEXTJOIN(\"^\",,BF100:BF110)","v":"2^2^2^2^4^4^4^6^6^8^8^8^8^10^10^10^15^15^15^15^15^15^25^25^25^25^25^25^25^30^30^30^30"}]
[{"$nulls":14},"最终",{"$f":"_xlfn.TEXTJOIN(\"^\",,P101:P111)","v":"8^3^7^3^2^3^8^2^8^5^2^7^3^3^4^3^9^3^2^7^3^2^7^4^8^3^1"}]
[{"$nulls":14},{"$f":"SUM(D101:N110)","v":120},{"$nulls":13},{"$f":"COUNT(S101:AB110)","v":49},{"$nulls":13},{"$f":"SUM(AG101:AP110)","v":111},{"$nulls":13},{"$f":"COUNT(AU101:BD110)","v":33},{"$f":"AQ113+BE113+AC113+O113","v":313}]
[{"$nulls":4},{"$f":"E115-D115","v":5},{"$f":"F115-E115","v":7},8,5,10,5,10,5,10,{"$nulls":6},{"$f":"T115-S115","v":5},5,5,5,15,16,17,{"$nulls":7},{"$f":"AH115-AG115","v":2},4,6,7,8,10,5,{"$nulls":7},{"$f":"AV115-AU115","v":2},2,2,2,7,8,10,10]
[1,"炎地-3","波1·怪物",5,10,17,25,30,40,45,55,60,70,null,null,null,3,"波2·怪物",5,10,15,20,25,40,56,73,{"$nulls":4},1,"波3·怪物",3,5,9,15,22,30,40,45,{"$nulls":4},1,"波4·怪物",2,4,6,8,10,17,25,35,45]
[null,"5m",8,null,null,null,70184,null,null,null,70184,{"$nulls":4},{"$f":"_xlfn.TEXTJOIN(\"^\",,D116:D125)","v":"70184^70181^70181^70184"},null,8,{"$nulls":11},{"$f":"_xlfn.TEXTJOIN(\"^\",,S116:S125)","v":"70182^70181"},null,8,{"$nulls":4},70184,{"$nulls":6},{"$f":"_xlfn.TEXTJOIN(\"^\",,AG116:AG125)","v":"70185^70185^70185^70185"},null,8,{"$nulls":7},70181,null,null,null,{"$f":"_xlfn.TEXTJOIN(\"^\",,AU116:AU125)","v":"70183^70183^70183"}]
[null,null,6,70184,null,70182,70182,null,70182,null,70182,null,70184,null,null,{"$f":"_xlfn.TEXTJOIN(\"^\",,E116:E125)","v":"70182^70182^70182^70182"},null,6,{"$nulls":11},{"$f":"_xlfn.TEXTJOIN(\"^\",,T116:T125)","v":"70184^70181^70182"},null,6,null,70182,null,null,70182,70182,70184,{"$nulls":4},{"$f":"_xlfn.TEXTJOIN(\"^\",,AH116:AH125)","v":"70182^70182^70182"},null,6,null,null,null,70181,null,70184,70182,70181,70182,null,null,{"$f":"_xlfn.TEXTJOIN(\"^\",,AV116:AV125)","v":"70182^70182^70182"}]
[null,null,4,null,70182,70181,70181,70185,70181,70185,70181,70185,70182,null,null,{"$f":"_xlfn.TEXTJOIN(\"^\",,F116:F125)","v":"70182^70181^70183^70182^70183^70181^70182"},null,4,{"$nulls":11},{"$f":"_xlfn.TEXTJOIN(\"^\",,U116:U125)","v":"70181^70183"},null,4,70185,null,70184,70183,null,70181,70182,70185,null,null,null,{"$f":"_xlfn.TEXTJOIN(\"^\",,AI116:AI125)","v":"70184^70181^70181^70181^70184"},null,4,null,70182,null,70181,70185,70182,70181,70181,70182,null,null,{"$f":"_xlfn.TEXTJOIN(\"^\",,AW116:AW125)","v":"70184^70184"}]
[null,null,2,70181,70182,70183,null,70185,70183,70185,70183,70185,70181,null,null,{"$f":"_xlfn.TEXTJOIN(\"^\",,G116:G125)","v":"70184^70182^70181^70182^70181^70182^70184"},null,2,{"$nulls":11},{"$f":"_xlfn.TEXTJOIN(\"^\",,V116:V125)","v":"70185^70182"},null,2,70185,null,70181,null,70181,70183,70182,70185,null,null,null,{"$f":"_xlfn.TEXTJOIN(\"^\",,AJ116:AJ125)","v":"70183^70183^70183"},null,2,70183,null,70184,null,70185,70183,null,70183,70182,null,null,{"$f":"_xlfn.TEXTJOIN(\"^\",,AX116:AX125)","v":"70181^70181^70181^70181"}]
[null,null,1,null,null,70182,70182,70185,null,70185,null,70185,70187,null,null,{"$f":"_xlfn.TEXTJOIN(\"^\",,H116:H125)","v":"70185^70185^70185^70185^70185"},null,1,70182,70184,70181,70185,70183,70183,70183,70186,null,null,null,{"$f":"_xlfn.TEXTJOIN(\"^\",,W116:W125)","v":"70183^70182"},null,1,null,70182,70181,70183,70182,null,null,70185,null,null,null,{"$f":"_xlfn.TEXTJOIN(\"^\",,AK116:AK125)","v":"70184^70182^70181^70182^70181^70182^70184"},null,1,70183,70182,null,null,70185,70187,70184,null,70182,null,null,{"$f":"_xlfn.TEXTJOIN(\"^\",,AY116:AY125)","v":"70185^70185^70185^70185^70185"}]
[null,null,3,70181,70182,70183,null,70185,70183,70185,70183,70185,70181,null,null,{"$f":"_xlfn.TEXTJOIN(\"^\",,I116:I125)","v":"70182^70181^70183^70183^70181^70182"},null,3,70181,70181,70183,70182,70182,70181,70181,70183,null,null,null,{"$f":"_xlfn.TEXTJOIN(\"^\",,X116:X125)","v":"70183^70181^70182^70184"},null,3,70185,null,70181,null,70181,70183,70182,70185,null,null,null,{"$f":"_xlfn.TEXTJOIN(\"^\",,AL116:AL125)","v":"70182^70181^70183^70183^70181^70182"},null,3,70183,null,70184,null,70185,70183,null,70183,70182,null,null,{"$f":"_xlfn.TEXTJOIN(\"^\",,AZ116:AZ125)","v":"70184^70182^70183^70187^70183^70182^70184"}]
[null,null,5,null,70182,70181,70181,70185,70181,70185,70181,70185,70182,null,null,{"$f":"_xlfn.TEXTJOIN(\"^\",,J116:J125)","v":"70185^70185^70185^70185^70185"},null,5,null,70182,null,null,null,70182,70182,70182,null,null,null,{"$f":"_xlfn.TEXTJOIN(\"^\",,Y116:Y125)","v":"70183^70181^70182"},null,5,70185,null,70184,70183,null,70181,70182,70185,null,null,null,{"$f":"_xlfn.TEXTJOIN(\"^\",,AM116:AM125)","v":"70184^70182^70182^70182^70182^70184"},null,5,null,70182,null,70181,70185,70182,70181,70181,70182,null,null,{"$f":"_xlfn.TEXTJOIN(\"^\",,BA116:BA125)","v":"70182^70181^70184^70181^70182"}]
[null,null,7,70184,null,70182,70182,null,70182,null,70182,null,70184,null,null,{"$f":"_xlfn.TEXTJOIN(\"^\",,K116:K125)","v":"70184^70182^70181^70183^70183^70181^70182^70184"},null,7,{"$nulls":5},70184,null,70187,null,null,null,{"$f":"_xlfn.TEXTJOIN(\"^\",,Z116:Z125)","v":"70186^70183^70182^70187"},null,7,null,70182,null,null,70182,70182,70184,{"$nulls":4},{"$f":"_xlfn.TEXTJOIN(\"^\",,AN116:AN125)","v":"70185^70185^70185^70185^70185"},null,7,null,null,null,70181,null,70184,70182,70181,70182,null,null,{"$f":"_xlfn.TEXTJOIN(\"^\",,BB116:BB125)","v":"70181^70181^70181^70183^70183^70181^70181^70181"}]
[null,null,9,null,null,null,70184,null,null,null,70184,{"$nulls":4},{"$f":"_xlfn.TEXTJOIN(\"^\",,L116:L125)","v":"70185^70185^70185^70185^70185"},null,9,{"$nulls":11},{"$f":"_xlfn.TEXTJOIN(\"^\",,AA116:AA125)","v":""},null,9,{"$nulls":4},70184,{"$nulls":6},{"$f":"_xlfn.TEXTJOIN(\"^\",,AO116:AO125)","v":""},null,9,{"$nulls":7},70181,null,null,null,{"$f":"_xlfn.TEXTJOIN(\"^\",,BC116:BC125)","v":"70182^70182^70182^70182^70182^70182^70182"}]
[{"$nulls":15},{"$f":"_xlfn.TEXTJOIN(\"^\",,M116:M125)","v":"70184^70182^70181^70187^70181^70182^70184"},{"$nulls":13},{"$f":"_xlfn.TEXTJOIN(\"^\",,AB116:AB125)","v":""},{"$nulls":13},{"$f":"_xlfn.TEXTJOIN(\"^\",,AP116:AP125)","v":""},{"$nulls":13},{"$f":"_xlfn.TEXTJOIN(\"^\",,BD116:BD125)","v":""}]
[{"$nulls":15},{"$f":"_xlfn.TEXTJOIN(\"^\",,N116:N125)","v":""},{"$nulls":13},{"$f":"_xlfn.TEXTJOIN(\"^\",,AC116:AC125)","v":""},{"$nulls":13},{"$f":"_xlfn.TEXTJOIN(\"^\",,AQ116:AQ125)","v":""},{"$nulls":13},{"$f":"_xlfn.TEXTJOIN(\"^\",,BE116:BE125)","v":""}]
[{"$nulls":14},"最终",{"$f":"_xlfn.TEXTJOIN(\"^\",,P116:P126)","v":"70184^70181^70181^70184^70182^70182^70182^70182^70182^70181^70183^70182^70183^70181^70182^70184^70182^70181^70182^70181^70182^70184^70185^70185^70185^70185^70185^70182^70181^70183^70183^70181^70182^70185^70185^70185^70185^70185^70184^70182^70181^70183^70183^70181^70182^70184^70185^70185^70185^70185^70185^70184^70182^70181^70187^70181^70182^70184"},{"$nulls":12},"最终",{"$f":"_xlfn.TEXTJOIN(\"^\",,AD116:AD126)","v":"70182^70181^70184^70181^70182^70181^70183^70185^70182^70183^70182^70183^70181^70182^70184^70183^70181^70182^70186^70183^70182^70187"},{"$nulls":12},"最终",{"$f":"_xlfn.TEXTJOIN(\"^\",,AR116:AR126)","v":"70185^70185^70185^70185^70182^70182^70182^70184^70181^70181^70181^70184^70183^70183^70183^70184^70182^70181^70182^70181^70182^70184^70182^70181^70183^70183^70181^70182^70184^70182^70182^70182^70182^70184^70185^70185^70185^70185^70185"},{"$nulls":12},"最终",{"$f":"_xlfn.TEXTJOIN(\"^\",,BF116:BF126)","v":"70183^70183^70183^70182^70182^70182^70184^70184^70181^70181^70181^70181^70185^70185^70185^70185^70185^70184^70182^70183^70187^70183^70182^70184^70182^70181^70184^70181^70182^70181^70181^70181^70183^70183^70181^70181^70181^70182^70182^70182^70182^70182^70182^70182"}]
[null,null,8,null,null,null,"火精灵",null,null,null,"火精灵",{"$nulls":6},8,{"$nulls":13},8,{"$nulls":4},"火精灵",{"$nulls":8},8,{"$nulls":7},"岩浆蝎"]
[null,null,6,"火精灵",null,"岩浆人","岩浆人",null,"岩浆人",null,"岩浆人",null,"火精灵",{"$nulls":4},6,{"$nulls":13},6,null,"岩浆人",null,null,"岩浆人","岩浆人","火精灵",{"$nulls":6},6,null,null,null,"岩浆蝎",null,"火精灵","岩浆人","岩浆蝎","岩浆人"]
[null,null,4,null,"岩浆人","岩浆蝎","岩浆蝎","火山蜘蛛","岩浆蝎","火山蜘蛛","岩浆蝎","火山蜘蛛","岩浆人",{"$nulls":4},4,{"$nulls":13},4,"火山蜘蛛",null,"火精灵","岩浆战士",null,"岩浆蝎","岩浆人","火山蜘蛛",{"$nulls":5},4,null,"岩浆人",null,"岩浆蝎","火山蜘蛛","岩浆人","岩浆蝎","岩浆蝎","岩浆人"]
[null,null,2,"岩浆蝎","岩浆人","岩浆战士",null,"火山蜘蛛","岩浆战士","火山蜘蛛","岩浆战士","火山蜘蛛","岩浆蝎",{"$nulls":4},2,{"$nulls":13},2,"火山蜘蛛",null,"岩浆蝎",null,"岩浆蝎","岩浆战士","岩浆人","火山蜘蛛",{"$nulls":5},2,"岩浆战士",null,"火精灵",null,"火山蜘蛛","岩浆战士",null,"岩浆战士","岩浆人"]
[null,null,1,null,null,"岩浆人","岩浆人","火山蜘蛛",null,"火山蜘蛛",null,"火山蜘蛛","蘑菇王",{"$nulls":4},1,"岩浆人","火精灵","岩浆蝎","火山蜘蛛","岩浆战士","岩浆战士","岩浆战士","岩浆巨兽",{"$nulls":5},1,null,"岩浆人","岩浆蝎","岩浆战士","岩浆人",null,null,"火山蜘蛛",{"$nulls":5},1,"岩浆战士","岩浆人",null,null,"火山蜘蛛","蘑菇王","火精灵",null,"岩浆人"]
[null,null,3,"岩浆蝎","岩浆人","岩浆战士",null,"火山蜘蛛","岩浆战士","火山蜘蛛","岩浆战士","火山蜘蛛","岩浆蝎",{"$nulls":4},3,"岩浆蝎","岩浆蝎","岩浆战士","岩浆人","岩浆人","岩浆蝎","岩浆蝎","岩浆战士",{"$nulls":5},3,"火山蜘蛛",null,"岩浆蝎",null,"岩浆蝎","岩浆战士","岩浆人","火山蜘蛛",{"$nulls":5},3,"岩浆战士",null,"火精灵",null,"火山蜘蛛","岩浆战士",null,"岩浆战士","岩浆人"]
[null,null,5,null,"岩浆人","岩浆蝎","岩浆蝎","火山蜘蛛","岩浆蝎","火山蜘蛛","岩浆蝎","火山蜘蛛","岩浆人",{"$nulls":4},5,null,"岩浆人",null,null,null,"岩浆人","岩浆人","岩浆人",{"$nulls":5},5,"火山蜘蛛",null,"火精灵","岩浆战士",null,"岩浆蝎","岩浆人","火山蜘蛛",{"$nulls":5},5,null,"岩浆人",null,"岩浆蝎","火山蜘蛛","岩浆人","岩浆蝎","岩浆蝎","岩浆人"]
[null,null,7,"火精灵",null,"岩浆人","岩浆人",null,"岩浆人",null,"岩浆人",null,"火精灵",{"$nulls":4},7,{"$nulls":5},"火精灵",null,"蘑菇王",{"$nulls":5},7,null,"岩浆人",null,null,"岩浆人","岩浆人","火精灵",{"$nulls":6},7,null,null,null,"岩浆蝎",null,"火精灵","岩浆人","岩浆蝎","岩浆人"]
[null,null,9,null,null,null,"火精灵",null,null,null,"火精灵",{"$nulls":6},9,{"$nulls":13},9,{"$nulls":4},"火精灵",{"$nulls":8},9,{"$nulls":7},"岩浆蝎"]
[]
[null,null,"位置",5,10,17,25,30,40,45,55,60,70,{"$nulls":4},"位置",5,10,15,20,25,40,56,73,{"$nulls":5},"位置",3,5,9,15,22,30,40,45,null,null,null,{"$f":"_xlfn.TEXTJOIN(\"^\",,AG139:AG153)","v":"101^102^104^105"},null,"位置",2,4,6,8,10,17,25,35,45,null,null,{"$f":"_xlfn.TEXTJOIN(\"^\",,AU139:AU153)","v":"2^1^3"}]
[null,null,8,null,null,null,{"$f":"$AT139","v":8},null,null,null,{"$f":"$AT139","v":8},{"$nulls":4},{"$f":"_xlfn.TEXTJOIN(\"^\",,D139:D153)","v":"6^2^3^7"},null,8,{"$nulls":13},8,{"$nulls":4},{"$f":"$AT139","v":8},{"$nulls":6},{"$f":"_xlfn.TEXTJOIN(\"^\",,AH139:AH153)","v":"6^1^7"},null,8,{"$nulls":7},{"$f":"$AT139","v":8},null,null,null,{"$f":"_xlfn.TEXTJOIN(\"^\",,AV139:AV153)","v":"4^1^5"}]
[null,null,6,{"$f":"$AT140","v":6},null,{"$f":"$AT140","v":6},6,null,{"$f":"$AT140","v":6},null,6,null,{"$f":"$AT140","v":6},null,null,{"$f":"_xlfn.TEXTJOIN(\"^\",,E139:E153)","v":"4^2^3^5"},null,6,{"$nulls":11},{"$f":"_xlfn.TEXTJOIN(\"^\",,S139:S153)","v":"0^0"},null,6,null,{"$f":"$AT140","v":6},null,null,6,6,6,{"$nulls":4},{"$f":"_xlfn.TEXTJOIN(\"^\",,AI139:AI153)","v":"4^2^1^3^5"},null,6,null,null,null,{"$f":"$AT140","v":6},null,{"$f":"$AT140","v":6},6,6,{"$f":"$AT140","v":6},null,null,{"$f":"_xlfn.TEXTJOIN(\"^\",,AW139:AW153)","v":"2^3"}]
[null,null,4,null,{"$f":"$AT141","v":4},4,4,null,4,null,4,null,4,null,null,{"$f":"_xlfn.TEXTJOIN(\"^\",,F139:F153)","v":"6^4^2^1^3^5^7"},null,4,{"$nulls":11},{"$f":"_xlfn.TEXTJOIN(\"^\",,T139:T153)","v":"0^0^0"},null,4,null,null,{"$f":"$AT141","v":4},{"$f":"$AT141","v":4},null,4,4,{"$nulls":4},{"$f":"_xlfn.TEXTJOIN(\"^\",,AJ139:AJ153)","v":"4^1^5"},null,4,null,{"$f":"$AT141","v":4},null,4,null,4,4,4,4,null,null,{"$f":"_xlfn.TEXTJOIN(\"^\",,AX139:AX153)","v":"6^4^5^7"}]
[null,null,2,{"$f":"$AT142","v":2},2,2,null,null,2,null,2,null,2,null,null,{"$f":"_xlfn.TEXTJOIN(\"^\",,G139:G153)","v":"8^6^4^1^5^7^9"},null,2,{"$nulls":11},{"$f":"_xlfn.TEXTJOIN(\"^\",,U139:U153)","v":"0^0"},null,2,null,null,2,null,{"$f":"$AT142","v":2},2,2,{"$nulls":4},{"$f":"_xlfn.TEXTJOIN(\"^\",,AK139:AK153)","v":"8^6^2^1^3^7^9"},null,2,{"$f":"$AT142","v":2},null,{"$f":"$AT142","v":2},null,null,2,null,2,2,null,null,{"$f":"_xlfn.TEXTJOIN(\"^\",,AY139:AY153)","v":"101^102^103^104^105"}]
[null,null,1,null,null,1,{"$f":"$AT143","v":1},{"$nulls":5},1,null,null,{"$f":"_xlfn.TEXTJOIN(\"^\",,H139:H153)","v":"101^102^103^104^105"},null,1,0,0,0,100,0,0,0,0,null,null,null,{"$f":"_xlfn.TEXTJOIN(\"^\",,V139:V153)","v":"100^0"},null,1,null,{"$f":"$AT143","v":1},1,{"$f":"$AT143","v":1},1,{"$nulls":6},{"$f":"_xlfn.TEXTJOIN(\"^\",,AL139:AL153)","v":"6^4^2^3^5^7"},null,1,{"$f":"$AT143","v":1},{"$f":"$AT143","v":1},null,null,null,1,{"$f":"$AT143","v":1},null,1,null,null,{"$f":"_xlfn.TEXTJOIN(\"^\",,AZ139:AZ153)","v":"6^4^2^1^3^5^7"}]
[null,null,3,{"$f":"$AT144","v":3},{"$f":"$AT144","v":3},3,null,null,{"$f":"$AT144","v":3},null,{"$f":"$AT144","v":3},null,{"$f":"$AT144","v":3},null,null,{"$f":"_xlfn.TEXTJOIN(\"^\",,I139:I153)","v":"6^4^2^3^5^7"},null,3,0,0,0,0,0,0,0,0,null,null,null,{"$f":"_xlfn.TEXTJOIN(\"^\",,W139:W153)","v":"0^0"},null,3,null,null,3,null,3,3,3,{"$nulls":4},{"$f":"_xlfn.TEXTJOIN(\"^\",,AM139:AM153)","v":"6^4^2^3^5^7"},null,3,{"$f":"$AT144","v":3},null,{"$f":"$AT144","v":3},null,null,{"$f":"$AT144","v":3},null,{"$f":"$AT144","v":3},3,null,null,{"$f":"_xlfn.TEXTJOIN(\"^\",,BA139:BA153)","v":"6^4^1^5^7"}]
[null,null,5,null,5,5,5,null,5,null,5,null,5,null,null,{"$f":"_xlfn.TEXTJOIN(\"^\",,J139:J153)","v":"101^102^103^104^105"},null,5,null,0,null,null,null,0,0,0,null,null,null,{"$f":"_xlfn.TEXTJOIN(\"^\",,X139:X153)","v":"0^0^0^0"},null,5,null,null,5,{"$f":"$AT145","v":5},null,5,5,{"$nulls":4},{"$f":"_xlfn.TEXTJOIN(\"^\",,AN139:AN153)","v":"101^102^103^104^105"},null,5,null,{"$f":"$AT145","v":5},null,{"$f":"$AT145","v":5},null,5,5,5,5,null,null,{"$f":"_xlfn.TEXTJOIN(\"^\",,BB139:BB153)","v":"8^6^4^2^3^5^7^9"}]
[null,null,7,{"$f":"$AT146","v":7},null,7,7,null,7,null,7,null,7,null,null,{"$f":"_xlfn.TEXTJOIN(\"^\",,K139:K153)","v":"8^6^4^2^3^5^7^9"},null,7,{"$nulls":5},0,null,0,null,null,null,{"$f":"_xlfn.TEXTJOIN(\"^\",,Y139:Y153)","v":"0^0^0"},null,7,null,{"$f":"$AT146","v":7},null,null,{"$f":"$AT146","v":7},7,7,{"$nulls":4},{"$f":"_xlfn.TEXTJOIN(\"^\",,AO139:AO153)","v":""},null,7,null,null,null,7,null,7,7,7,7,null,null,{"$f":"_xlfn.TEXTJOIN(\"^\",,BC139:BC153)","v":"6^4^2^1^3^5^7"}]
[null,null,9,null,null,null,9,null,null,null,9,{"$nulls":4},{"$f":"_xlfn.TEXTJOIN(\"^\",,L139:L153)","v":"101^102^103^104^105"},null,9,{"$nulls":13},9,{"$nulls":4},9,{"$nulls":6},{"$f":"_xlfn.TEXTJOIN(\"^\",,AP139:AP153)","v":""},null,9,{"$nulls":7},9,null,null,null,{"$f":"_xlfn.TEXTJOIN(\"^\",,BD139:BD153)","v":""}]
[null,null,"空降",{"$nulls":12},{"$f":"_xlfn.TEXTJOIN(\"^\",,M139:M153)","v":"6^4^2^1^3^5^7"},null,"空降",{"$nulls":13},"空降",{"$nulls":11},{"$f":"_xlfn.TEXTJOIN(\"^\",,AQ139:AQ147)","v":""},null,"空降",{"$nulls":11},{"$f":"_xlfn.TEXTJOIN(\"^\",,BE139:BE147)","v":""}]
[null,null,101,{"$nulls":4},{"$f":"$AT149","v":101},null,{"$f":"$AT149","v":101},null,{"$f":"$AT149","v":101},null,null,null,{"$f":"_xlfn.TEXTJOIN(\"^\",,N139:N153)","v":""},null,101,{"$nulls":11},{"$f":"_xlfn.TEXTJOIN(\"^\",,Z139:Z153)","v":"0^0^0^0"},null,101,{"$f":"$AT149","v":101},{"$nulls":6},{"$f":"$AT149","v":101},{"$nulls":5},101,{"$nulls":4},{"$f":"$AT149","v":101}]
[null,null,102,{"$nulls":4},102,null,102,null,102,{"$nulls":5},102,{"$nulls":11},{"$f":"_xlfn.TEXTJOIN(\"^\",,AA139:AA153)","v":""},null,102,102,{"$nulls":6},102,{"$nulls":5},102,{"$nulls":4},102]
[null,null,103,{"$nulls":4},103,null,103,null,{"$f":"$AT151","v":103},{"$nulls":5},103,{"$nulls":11},{"$f":"_xlfn.TEXTJOIN(\"^\",,AB139:AB153)","v":""},null,103,{"$nulls":7},103,{"$nulls":5},103,{"$nulls":4},103]
[null,null,104,{"$nulls":4},{"$f":"$AT152","v":104},null,104,null,104,{"$nulls":5},104,{"$nulls":13},104,{"$f":"$AT152","v":104},{"$nulls":6},104,{"$nulls":5},104,{"$nulls":4},{"$f":"$AT152","v":104}]
[null,null,105,{"$nulls":4},105,null,105,null,105,{"$nulls":5},105,{"$nulls":13},105,105,{"$nulls":6},105,{"$nulls":5},105,{"$nulls":4},105]
[{"$nulls":14},"最终",{"$f":"_xlfn.TEXTJOIN(\"^\",,P139:P153)","v":"6^2^3^7^4^2^3^5^6^4^2^1^3^5^7^8^6^4^1^5^7^9^101^102^103^104^105^6^4^2^3^5^7^101^102^103^104^105^8^6^4^2^3^5^7^9^101^102^103^104^105^6^4^2^1^3^5^7"},{"$nulls":12},"最终",{"$f":"_xlfn.TEXTJOIN(\"^\",,AD139:AD153)","v":"0^0^0^0^0^0^0^100^0^0^0^0^0^0^0^0^0^0^0^0^0^0"},{"$nulls":12},"最终",{"$f":"_xlfn.TEXTJOIN(\"^\",,AR138:AR153)","v":"101^102^104^105^6^1^7^4^2^1^3^5^4^1^5^8^6^2^1^3^7^9^6^4^2^3^5^7^6^4^2^3^5^7^101^102^103^104^105"},{"$nulls":12},"最终",{"$f":"_xlfn.TEXTJOIN(\"^\",,BF138:BF153)","v":"2^1^3^4^1^5^2^3^6^4^5^7^101^102^103^104^105^6^4^2^1^3^5^7^6^4^1^5^7^8^6^4^2^3^5^7^9^6^4^2^1^3^5^7"}]
[]
[null,null,"时间",5,10,17,25,30,40,45,55,60,70,{"$nulls":4},"时间",5,10,15,20,25,40,56,73,null,null,null,{"$f":"_xlfn.TEXTJOIN(\"^\",,S157:S165)","v":"8^14"},null,"时间",3,5,9,15,22,30,40,45,null,null,null,{"$f":"_xlfn.TEXTJOIN(\"^\",,AG157:AG165)","v":"3^3^3^3"},null,"时间",2,4,6,8,10,17,25,35,45,null,null,{"$f":"_xlfn.TEXTJOIN(\"^\",,AU157:AU165)","v":"2^2^2"}]
[null,null,8,null,null,null,{"$f":"G$156","v":25},null,null,null,{"$f":"K$156","v":55},{"$nulls":4},{"$f":"_xlfn.TEXTJOIN(\"^\",,D157:D166)","v":"5^5^5^5"},null,8,{"$nulls":11},{"$f":"_xlfn.TEXTJOIN(\"^\",,T157:T165)","v":"3^7^3"},null,8,{"$nulls":4},{"$f":"AK$156","v":22},{"$nulls":6},{"$f":"_xlfn.TEXTJOIN(\"^\",,AH157:AH165)","v":"5^5^5"},null,8,{"$nulls":7},{"$f":"BB$156","v":35},null,null,null,{"$f":"_xlfn.TEXTJOIN(\"^\",,AV157:AV165)","v":"4^4^4"}]
[null,null,6,{"$f":"D$156","v":5},null,{"$f":"F$156","v":17},25,null,{"$f":"I$156","v":40},null,55,null,{"$f":"M$156","v":70},null,null,{"$f":"_xlfn.TEXTJOIN(\"^\",,E157:E166)","v":"10^10^10^10"},null,6,{"$nulls":11},{"$f":"_xlfn.TEXTJOIN(\"^\",,U157:U165)","v":"9^3"},null,6,null,{"$f":"AH$156","v":5},null,null,22,30,40,{"$nulls":4},{"$f":"_xlfn.TEXTJOIN(\"^\",,AI157:AI165)","v":"9^9^9^9^9"},null,6,null,null,null,{"$f":"AX$156","v":8},null,{"$f":"AZ$156","v":17},25,35,45,null,null,{"$f":"_xlfn.TEXTJOIN(\"^\",,AW157:AW165)","v":"6^6"}]
[null,null,4,null,{"$f":"E$156","v":10},17,25,30,40,45,55,60,70,null,null,{"$f":"_xlfn.TEXTJOIN(\"^\",,F157:F166)","v":"17^17^17^17^17^17^17"},null,4,{"$nulls":11},{"$f":"_xlfn.TEXTJOIN(\"^\",,V157:V165)","v":"8^2"},null,4,{"$f":"AG$156","v":3},null,{"$f":"AI$156","v":9},{"$f":"AJ$156","v":15},null,30,40,45,null,null,null,{"$f":"_xlfn.TEXTJOIN(\"^\",,AJ157:AJ165)","v":"15^15^15"},null,4,null,{"$f":"AV$156","v":4},null,8,10,17,25,35,45,null,null,{"$f":"_xlfn.TEXTJOIN(\"^\",,AX157:AX165)","v":"8^8^8^8"}]
[null,null,2,{"$f":"D$156","v":5},10,17,null,30,40,45,55,60,70,null,null,{"$f":"_xlfn.TEXTJOIN(\"^\",,G157:G166)","v":"25^25^25^25^25^25^25"},null,2,{"$nulls":11},{"$f":"_xlfn.TEXTJOIN(\"^\",,W157:W165)","v":"3^6"},null,2,3,null,9,null,{"$f":"AK$156","v":22},30,40,45,null,null,null,{"$f":"_xlfn.TEXTJOIN(\"^\",,AK157:AK165)","v":"22^22^22^22^22^22^22"},null,2,{"$f":"AU$156","v":2},null,{"$f":"AW$156","v":6},null,10,17,null,35,45,null,null,{"$f":"_xlfn.TEXTJOIN(\"^\",,AY157:AY165)","v":"10^10^10^10^10"}]
[null,null,1,null,null,17,{"$f":"G$156","v":25},30,null,45,null,60,70,null,null,{"$f":"_xlfn.TEXTJOIN(\"^\",,H157:H166)","v":"30^30^30^30^30"},null,1,8,3,9,8,3,2,2,1,null,null,null,{"$f":"_xlfn.TEXTJOIN(\"^\",,X157:X165)","v":"2^5^3^2"},null,1,null,{"$f":"AH$156","v":5},9,{"$f":"AJ$156","v":15},22,null,null,45,null,null,null,{"$f":"_xlfn.TEXTJOIN(\"^\",,AL157:AL165)","v":"30^30^30^30^30^30"},null,1,{"$f":"AU$156","v":2},{"$f":"AV$156","v":4},null,null,10,17,{"$f":"BA$156","v":25},null,45,null,null,{"$f":"_xlfn.TEXTJOIN(\"^\",,AZ157:AZ165)","v":"17^17^17^17^17^17^17"}]
[null,null,3,{"$f":"D$156","v":5},{"$f":"E$156","v":10},17,null,{"$f":"H$156","v":30},40,45,55,60,70,null,null,{"$f":"_xlfn.TEXTJOIN(\"^\",,I157:I166)","v":"40^40^40^40^40^40"},null,3,14,7,3,2,6,5,8,2,null,null,null,{"$f":"_xlfn.TEXTJOIN(\"^\",,Y157:Y165)","v":"2^8^3"},null,3,{"$f":"AG$156","v":3},null,9,null,22,{"$f":"AL$156","v":30},{"$f":"AM$156","v":40},45,null,null,null,{"$f":"_xlfn.TEXTJOIN(\"^\",,AM157:AM165)","v":"40^40^40^40^40^40"},null,3,{"$f":"AU$156","v":2},null,{"$f":"AW$156","v":6},null,{"$f":"AY$156","v":10},17,null,{"$f":"BB$156","v":35},45,null,null,{"$f":"_xlfn.TEXTJOIN(\"^\",,BA157:BA165)","v":"25^25^25^25^25"}]
[null,null,5,null,10,17,25,30,40,45,55,60,70,null,null,{"$f":"_xlfn.TEXTJOIN(\"^\",,J157:J166)","v":"45^45^45^45^45"},null,5,null,3,null,null,null,3,3,4,null,null,null,{"$f":"_xlfn.TEXTJOIN(\"^\",,Z157:Z165)","v":"1^2^4^1"},null,5,3,null,9,{"$f":"AJ$156","v":15},null,{"$f":"AL$156","v":30},40,45,null,null,null,{"$f":"_xlfn.TEXTJOIN(\"^\",,AN157:AN165)","v":"45^45^45^45^45"},null,5,null,{"$f":"AV$156","v":4},null,{"$f":"AX$156","v":8},10,17,25,35,45,null,null,{"$f":"_xlfn.TEXTJOIN(\"^\",,BB157:BB165)","v":"35^35^35^35^35^35^35^35"}]
[null,null,7,{"$f":"D$156","v":5},null,{"$f":"F$156","v":17},25,null,40,null,55,null,70,null,null,{"$f":"_xlfn.TEXTJOIN(\"^\",,K157:K166)","v":"55^55^55^55^55^55^55^55"},null,7,{"$nulls":5},2,null,1,null,null,null,{"$f":"_xlfn.TEXTJOIN(\"^\",,AA157:AA165)","v":""},null,7,null,{"$f":"AH$156","v":5},null,null,{"$f":"AK$156","v":22},30,40,{"$nulls":4},{"$f":"_xlfn.TEXTJOIN(\"^\",,AO157:AO165)","v":""},null,7,null,null,null,8,null,17,25,35,45,null,null,{"$f":"_xlfn.TEXTJOIN(\"^\",,BC157:BC165)","v":"45^45^45^45^45^45^45"}]
[null,null,9,null,null,null,25,null,null,null,55,{"$nulls":4},{"$f":"_xlfn.TEXTJOIN(\"^\",,L157:L166)","v":"60^60^60^60^60"},null,9,{"$nulls":11},{"$f":"_xlfn.TEXTJOIN(\"^\",,AB157:AB165)","v":""},null,9,{"$nulls":4},22,{"$nulls":6},{"$f":"_xlfn.TEXTJOIN(\"^\",,AP157:AP165)","v":""},null,9,{"$nulls":7},35,null,null,null,{"$f":"_xlfn.TEXTJOIN(\"^\",,BD157:BD165)","v":""}]
[{"$nulls":15},{"$f":"_xlfn.TEXTJOIN(\"^\",,M157:M166)","v":"70^70^70^70^70^70^70"},{"$nulls":13},{"$f":"_xlfn.TEXTJOIN(\"^\",,AC157:AC165)","v":""},{"$nulls":13},{"$f":"_xlfn.TEXTJOIN(\"^\",,AQ157:AQ165)","v":""},{"$nulls":13},{"$f":"_xlfn.TEXTJOIN(\"^\",,BE157:BE165)","v":""}]
[{"$nulls":15},{"$f":"_xlfn.TEXTJOIN(\"^\",,N157:N166)","v":""},{"$nulls":12},"最终",{"$f":"_xlfn.TEXTJOIN(\"^\",,AD156:AD166)","v":"8^14^3^7^3^9^3^8^2^3^6^2^5^3^2^2^8^3^1^2^4^1"},{"$nulls":12},"最终",{"$f":"_xlfn.TEXTJOIN(\"^\",,AR156:AR166)","v":"3^3^3^3^5^5^5^9^9^9^9^9^15^15^15^22^22^22^22^22^22^22^30^30^30^30^30^30^40^40^40^40^40^40^45^45^45^45^45"},{"$nulls":12},"最终",{"$f":"_xlfn.TEXTJOIN(\"^\",,BF156:BF166)","v":"2^2^2^4^4^4^6^6^8^8^8^8^10^10^10^10^10^17^17^17^17^17^17^17^25^25^25^25^25^35^35^35^35^35^35^35^35^45^45^45^45^45^45^45"}]
[{"$nulls":14},"最终",{"$f":"_xlfn.TEXTJOIN(\"^\",,P157:P167)","v":"5^5^5^5^10^10^10^10^17^17^17^17^17^17^17^25^25^25^25^25^25^25^30^30^30^30^30^40^40^40^40^40^40^45^45^45^45^45^55^55^55^55^55^55^55^55^60^60^60^60^60^70^70^70^70^70^70^70"}]
[{"$nulls":14},{"$f":"COUNT(D157:N166)","v":58},{"$nulls":13},{"$f":"SUM(S157:AB166)","v":99},{"$nulls":13},{"$f":"COUNT(AG157:AP166)","v":39},{"$nulls":13},{"$f":"COUNT(AU157:BD166)","v":44},{"$f":"AQ169+BE169+AC169+O169","v":240}]

{"sheet":"7","index":7,"n_rows":169,"n_cols":58,"rows_kept":169,"cut":false,"hidden":false,"merged":[]}
[]
[{"$nulls":4},{"$f":"E3-D3","v":5},{"$f":"F3-E3","v":6},4,7,8,10,5,10,10,{"$nulls":6},{"$f":"T3-S3","v":5},5,5,10,15,15,10,{"$nulls":7},{"$f":"AH3-AG3","v":2},4,5,7,8,10,10,{"$nulls":7},{"$f":"AV3-AU3","v":2},2,2,2,7,8,10]
[1,"沼泽-1","波1·怪物",5,10,16,20,27,35,45,50,60,70,null,null,null,3,"波2·怪物",5,10,15,20,30,45,60,70,{"$nulls":4},1,"波3·怪物",4,6,10,15,22,30,40,50,{"$nulls":4},1,"波4·怪物",2,4,6,8,10,17,25,35]
[null,"5m",8,{"$nulls":4},70192,{"$nulls":4},70194,null,null,{"$f":"_xlfn.TEXTJOIN(\"^\",,D4:D13)","v":"70194^70192^70192^70194"},null,8,{"$nulls":11},{"$f":"_xlfn.TEXTJOIN(\"^\",,S4:S13)","v":"70195^70191"},null,8,null,70194,{"$nulls":5},70194,null,null,null,{"$f":"_xlfn.TEXTJOIN(\"^\",,AG4:AG13)","v":"70193^70191^70193^70191^70193"},null,8,{"$nulls":7},70192,null,null,null,{"$f":"_xlfn.TEXTJOIN(\"^\",,AU4:AU13)","v":"70191^70191^70191^70191"}]
[null,null,6,null,70192,70192,null,null,70192,70192,null,70192,70192,null,null,{"$f":"_xlfn.TEXTJOIN(\"^\",,E4:E13)","v":"70192^70191^70191^70191^70192"},null,6,{"$nulls":11},{"$f":"_xlfn.TEXTJOIN(\"^\",,T4:T13)","v":"70192^70191"},null,6,null,70192,70191,null,70194,70193,70192,70192,null,null,null,{"$f":"_xlfn.TEXTJOIN(\"^\",,AH4:AH13)","v":"70194^70192^70192^70192^70192^70194"},null,6,{"$nulls":5},70194,70192,70192,null,null,null,{"$f":"_xlfn.TEXTJOIN(\"^\",,AV4:AV13)","v":"70192^70192^70192"}]
[null,null,4,70194,null,70191,70195,70191,70191,70192,70195,70191,70191,null,null,{"$f":"_xlfn.TEXTJOIN(\"^\",,F4:F13)","v":"70192^70191^70193^70192^70193^70191^70192"},null,4,{"$nulls":11},{"$f":"_xlfn.TEXTJOIN(\"^\",,U4:U13)","v":"70193^70192"},null,4,70193,null,70191,70195,70192,null,70192,70191,null,null,null,{"$f":"_xlfn.TEXTJOIN(\"^\",,AI4:AI13)","v":"70191^70191^70192^70191^70191"},null,4,70191,70192,null,70195,70193,70191,70192,70191,null,null,null,{"$f":"_xlfn.TEXTJOIN(\"^\",,AW4:AW13)","v":"70194^70194"}]
[null,null,2,70192,70191,70193,70195,70194,70193,70191,70195,70191,70193,null,null,{"$f":"_xlfn.TEXTJOIN(\"^\",,G4:G13)","v":"70195^70195^70195^70195^70195"},null,2,{"$nulls":11},{"$f":"_xlfn.TEXTJOIN(\"^\",,V4:V13)","v":"70191^70194"},null,2,70191,70192,null,70195,70191,70193,70191,70193,null,null,null,{"$f":"_xlfn.TEXTJOIN(\"^\",,AJ4:AJ13)","v":"70195^70195^70195^70195^70195"},null,2,70191,null,70194,70195,null,70191,null,70193,null,null,null,{"$f":"_xlfn.TEXTJOIN(\"^\",,AX4:AX13)","v":"70195^70195^70195^70195"}]
[null,null,1,null,70191,70192,70195,70192,70194,70191,70195,70196,null,null,null,{"$f":"_xlfn.TEXTJOIN(\"^\",,H4:H13)","v":"70192^70191^70194^70192^70194^70191^70192"},null,1,70195,70192,70193,70191,70191,70193,70194,70195,null,null,null,{"$f":"_xlfn.TEXTJOIN(\"^\",,W4:W13)","v":"70191^70192"},null,1,70193,70192,70192,70195,70196,70194,70191,{"$nulls":4},{"$f":"_xlfn.TEXTJOIN(\"^\",,AK4:AK13)","v":"70194^70192^70191^70196^70191^70192^70194"},null,1,null,70192,null,null,70193,null,70192,{"$nulls":4},{"$f":"_xlfn.TEXTJOIN(\"^\",,AY4:AY13)","v":"70193^70193^70193"}]
[null,null,3,70192,70191,70193,70195,70194,70193,70191,70195,70191,70193,null,null,{"$f":"_xlfn.TEXTJOIN(\"^\",,I4:I13)","v":"70192^70191^70193^70194^70193^70191^70192"},null,3,70191,70191,70192,70194,70192,70191,70192,70192,null,null,null,{"$f":"_xlfn.TEXTJOIN(\"^\",,X4:X13)","v":"70193^70191^70192^70194"},null,3,70191,null,null,70195,70191,70193,70191,70193,null,null,null,{"$f":"_xlfn.TEXTJOIN(\"^\",,AL4:AL13)","v":"70193^70193^70194^70193^70193"},null,3,70191,null,70194,70195,null,70191,null,70193,null,null,null,{"$f":"_xlfn.TEXTJOIN(\"^\",,AZ4:AZ13)","v":"70194^70191^70191^70191^70191^70194"}]
[null,null,5,70194,null,70191,70195,70191,70191,70192,70195,70191,70191,null,null,{"$f":"_xlfn.TEXTJOIN(\"^\",,J4:J13)","v":"70192^70192^70191^70191^70191^70192^70192"},null,5,{"$nulls":5},70192,70191,{"$nulls":4},{"$f":"_xlfn.TEXTJOIN(\"^\",,Y4:Y13)","v":"70194^70192^70191"},null,5,70193,null,70191,70195,70192,null,70192,70191,null,null,null,{"$f":"_xlfn.TEXTJOIN(\"^\",,AM4:AM13)","v":"70192^70192^70191^70191^70191^70192^70192"},null,5,70191,70192,null,70195,70193,70191,70192,70191,null,null,null,{"$f":"_xlfn.TEXTJOIN(\"^\",,BA4:BA13)","v":"70192^70192^70192^70192^70192"}]
[null,null,7,null,70192,70192,null,null,70192,70192,null,70192,70192,null,null,{"$f":"_xlfn.TEXTJOIN(\"^\",,K4:K13)","v":"70195^70195^70195^70195^70195"},null,7,{"$nulls":5},70194,{"$nulls":5},{"$f":"_xlfn.TEXTJOIN(\"^\",,Z4:Z13)","v":"70195^70192"},null,7,null,70192,70191,null,70194,70193,70192,70192,null,null,null,{"$f":"_xlfn.TEXTJOIN(\"^\",,AN4:AN13)","v":"70194^70192^70191^70193^70193^70191^70192^70194"},null,7,{"$nulls":5},70194,70192,70192,null,null,null,{"$f":"_xlfn.TEXTJOIN(\"^\",,BB4:BB13)","v":"70192^70192^70191^70193^70193^70191^70192^70192"}]
[null,null,9,{"$nulls":4},70192,{"$nulls":4},70194,null,null,{"$f":"_xlfn.TEXTJOIN(\"^\",,L4:L13)","v":"70192^70191^70191^70196^70191^70191^70192"},null,9,{"$nulls":11},{"$f":"_xlfn.TEXTJOIN(\"^\",,AA4:AA13)","v":""},null,9,null,70194,{"$nulls":5},70194,null,null,null,{"$f":"_xlfn.TEXTJOIN(\"^\",,AO4:AO13)","v":""},null,9,{"$nulls":7},70192,null,null,null,{"$f":"_xlfn.TEXTJOIN(\"^\",,BC4:BC13)","v":""}]
[{"$nulls":15},{"$f":"_xlfn.TEXTJOIN(\"^\",,M4:M13)","v":"70194^70192^70191^70193^70193^70191^70192^70194"},{"$nulls":13},{"$f":"_xlfn.TEXTJOIN(\"^\",,AB4:AB13)","v":""},{"$nulls":13},{"$f":"_xlfn.TEXTJOIN(\"^\",,AP4:AP13)","v":""},{"$nulls":13},{"$f":"_xlfn.TEXTJOIN(\"^\",,BD4:BD13)","v":""}]
[{"$nulls":15},{"$f":"_xlfn.TEXTJOIN(\"^\",,N4:N13)","v":""},{"$nulls":13},{"$f":"_xlfn.TEXTJOIN(\"^\",,AC4:AC13)","v":""},{"$nulls":13},{"$f":"_xlfn.TEXTJOIN(\"^\",,AQ4:AQ13)","v":""},{"$nulls":13},{"$f":"_xlfn.TEXTJOIN(\"^\",,BE4:BE13)","v":""}]
[{"$nulls":14},"最终",{"$f":"_xlfn.TEXTJOIN(\"^\",,P4:P14)","v":"70194^70192^70192^70194^70192^70191^70191^70191^70192^70192^70191^70193^70192^70193^70191^70192^70195^70195^70195^70195^70195^70192^70191^70194^70192^70194^70191^70192^70192^70191^70193^70194^70193^70191^70192^70192^70192^70191^70191^70191^70192^70192^70195^70195^70195^70195^70195^70192^70191^70191^70196^70191^70191^70192^70194^70192^70191^70193^70193^70191^70192^70194"},{"$nulls":12},"最终",{"$f":"_xlfn.TEXTJOIN(\"^\",,AD4:AD14)","v":"70195^70191^70192^70191^70193^70192^70191^70194^70191^70192^70193^70191^70192^70194^70194^70192^70191^70195^70192"},{"$nulls":12},"最终",{"$f":"_xlfn.TEXTJOIN(\"^\",,AR4:AR14)","v":"70193^70191^70193^70191^70193^70194^70192^70192^70192^70192^70194^70191^70191^70192^70191^70191^70195^70195^70195^70195^70195^70194^70192^70191^70196^70191^70192^70194^70193^70193^70194^70193^70193^70192^70192^70191^70191^70191^70192^70192^70194^70192^70191^70193^70193^70191^70192^70194"},{"$nulls":12},"最终",{"$f":"_xlfn.TEXTJOIN(\"^\",,BF4:BF14)","v":"70191^70191^70191^70191^70192^70192^70192^70194^70194^70195^70195^70195^70195^70193^70193^70193^70194^70191^70191^70191^70191^70194^70192^70192^70192^70192^70192^70192^70192^70191^70193^70193^70191^70192^70192"}]
[null,null,8,{"$nulls":4},"毒蜘蛛",{"$nulls":4},"木精灵",{"$nulls":4},8,{"$nulls":13},8,null,"木精灵",{"$nulls":5},"木精灵",{"$nulls":5},8,{"$nulls":7},"毒蜘蛛"]
[null,null,6,null,"毒蜘蛛","毒蜘蛛",null,null,"毒蜘蛛","毒蜘蛛",null,"毒蜘蛛","毒蜘蛛",{"$nulls":4},6,{"$nulls":13},6,null,"毒蜘蛛","树精",null,"木精灵","哥布林","毒蜘蛛","毒蜘蛛",{"$nulls":5},6,{"$nulls":5},"木精灵","毒蜘蛛","毒蜘蛛"]
[null,null,4,"木精灵",null,"树精","森林蜘蛛","树精","树精","毒蜘蛛","森林蜘蛛","树精","树精",{"$nulls":4},4,{"$nulls":13},4,"哥布林",null,"树精","森林蜘蛛","毒蜘蛛",null,"毒蜘蛛","树精",{"$nulls":5},4,"树精","毒蜘蛛",null,"森林蜘蛛","哥布林","树精","毒蜘蛛","树精"]
[null,null,2,"毒蜘蛛","树精","哥布林","森林蜘蛛","木精灵","哥布林","树精","森林蜘蛛","树精","哥布林",{"$nulls":4},2,{"$nulls":13},2,"树精","毒蜘蛛",null,"森林蜘蛛","树精","哥布林","树精","哥布林",{"$nulls":5},2,"树精",null,"木精灵","森林蜘蛛",null,"树精",null,"哥布林"]
[null,null,1,null,"树精","毒蜘蛛","森林蜘蛛","毒蜘蛛","木精灵","树精","森林蜘蛛","黑暗法师",{"$nulls":5},1,"森林蜘蛛","毒蜘蛛","哥布林","树精","树精","哥布林","木精灵","森林蜘蛛",{"$nulls":5},1,"哥布林","毒蜘蛛","毒蜘蛛","森林蜘蛛","黑暗法师","木精灵","树精",{"$nulls":6},1,null,"毒蜘蛛",null,null,"哥布林",null,"毒蜘蛛"]
[null,null,3,"毒蜘蛛","树精","哥布林","森林蜘蛛","木精灵","哥布林","树精","森林蜘蛛","树精","哥布林",{"$nulls":4},3,"树精","树精","毒蜘蛛","木精灵","毒蜘蛛","树精","毒蜘蛛","毒蜘蛛",{"$nulls":5},3,"树精",null,null,"森林蜘蛛","树精","哥布林","树精","哥布林",{"$nulls":5},3,"树精",null,"木精灵","森林蜘蛛",null,"树精",null,"哥布林"]
[null,null,5,"木精灵",null,"树精","森林蜘蛛","树精","树精","毒蜘蛛","森林蜘蛛","树精","树精",{"$nulls":4},5,{"$nulls":5},"毒蜘蛛","树精",{"$nulls":6},5,"哥布林",null,"树精","森林蜘蛛","毒蜘蛛",null,"毒蜘蛛","树精",{"$nulls":5},5,"树精","毒蜘蛛",null,"森林蜘蛛","哥布林","树精","毒蜘蛛","树精"]
[null,null,7,null,"毒蜘蛛","毒蜘蛛",null,null,"毒蜘蛛","毒蜘蛛",null,"毒蜘蛛","毒蜘蛛",{"$nulls":4},7,{"$nulls":5},"木精灵",{"$nulls":7},7,null,"毒蜘蛛","树精",null,"木精灵","哥布林","毒蜘蛛","毒蜘蛛",{"$nulls":5},7,{"$nulls":5},"木精灵","毒蜘蛛","毒蜘蛛"]
[null,null,9,{"$nulls":4},"毒蜘蛛",{"$nulls":4},"木精灵",{"$nulls":4},9,{"$nulls":13},9,null,"木精灵",{"$nulls":5},"木精灵",{"$nulls":5},9,{"$nulls":7},"毒蜘蛛"]
[]
[null,null,"位置",5,10,16,20,27,35,45,50,60,70,{"$nulls":4},"位置",5,10,15,20,30,45,60,70,{"$nulls":5},"位置",4,6,10,15,22,30,40,50,null,null,null,{"$f":"_xlfn.TEXTJOIN(\"^\",,AG27:AG41)","v":"4^2^1^3^5"},null,"位置",2,4,6,8,10,17,25,35,null,null,null,{"$f":"_xlfn.TEXTJOIN(\"^\",,AU27:AU41)","v":"4^2^3^5"}]
[null,null,8,{"$nulls":4},{"$f":"$C27","v":8},{"$nulls":4},{"$f":"$C27","v":8},null,null,{"$f":"_xlfn.TEXTJOIN(\"^\",,D27:D41)","v":"4^2^3^5"},null,8,{"$nulls":13},8,null,{"$f":"$C27","v":8},{"$nulls":5},{"$f":"$C27","v":8},null,null,null,{"$f":"_xlfn.TEXTJOIN(\"^\",,AH27:AH41)","v":"8^6^2^1^7^9"},null,8,{"$nulls":7},{"$f":"$C27","v":8},null,null,null,{"$f":"_xlfn.TEXTJOIN(\"^\",,AV27:AV41)","v":"4^1^5"}]
[null,null,6,null,{"$f":"$C28","v":6},6,null,null,6,6,null,{"$f":"$C28","v":6},6,null,null,{"$f":"_xlfn.TEXTJOIN(\"^\",,E27:E41)","v":"6^2^1^3^7"},null,6,{"$nulls":11},{"$f":"_xlfn.TEXTJOIN(\"^\",,S27:S41)","v":"100^0"},null,6,null,6,6,null,{"$f":"$C28","v":6},{"$f":"$C28","v":6},{"$f":"$C28","v":6},6,null,null,null,{"$f":"_xlfn.TEXTJOIN(\"^\",,AI27:AI41)","v":"6^4^1^5^7"},null,6,{"$nulls":5},{"$f":"$C28","v":6},6,6,null,null,null,{"$f":"_xlfn.TEXTJOIN(\"^\",,AW27:AW41)","v":"2^3"}]
[null,null,4,4,null,4,null,4,4,4,null,4,4,null,null,{"$f":"_xlfn.TEXTJOIN(\"^\",,F27:F41)","v":"6^4^2^1^3^5^7"},null,4,{"$nulls":11},{"$f":"_xlfn.TEXTJOIN(\"^\",,T27:T41)","v":"0^0"},null,4,{"$f":"$C29","v":4},null,4,null,4,null,4,4,null,null,null,{"$f":"_xlfn.TEXTJOIN(\"^\",,AJ27:AJ41)","v":"101^102^103^104^105"},null,4,{"$f":"$C29","v":4},{"$f":"$C29","v":4},null,null,{"$f":"$C29","v":4},4,4,4,null,null,null,{"$f":"_xlfn.TEXTJOIN(\"^\",,AX27:AX41)","v":"101^102^104^105"}]
[null,null,2,2,2,2,null,2,2,2,null,2,2,null,null,{"$f":"_xlfn.TEXTJOIN(\"^\",,G27:G41)","v":"101^102^103^104^105"},null,2,{"$nulls":11},{"$f":"_xlfn.TEXTJOIN(\"^\",,U27:U41)","v":"0^0"},null,2,{"$f":"$C30","v":2},2,null,null,2,2,2,2,null,null,null,{"$f":"_xlfn.TEXTJOIN(\"^\",,AK27:AK41)","v":"6^4^2^1^3^5^7"},null,2,2,null,{"$f":"$C30","v":2},null,null,2,null,2,null,null,null,{"$f":"_xlfn.TEXTJOIN(\"^\",,AY27:AY41)","v":"4^1^5"}]
[null,null,1,null,1,1,null,1,1,1,null,1,null,null,null,{"$f":"_xlfn.TEXTJOIN(\"^\",,H27:H41)","v":"8^4^2^1^3^5^9"},null,1,100,0,0,0,0,0,0,100,null,null,null,{"$f":"_xlfn.TEXTJOIN(\"^\",,V27:V41)","v":"0^0"},null,1,{"$f":"$C31","v":1},1,1,null,1,1,1,{"$nulls":4},{"$f":"_xlfn.TEXTJOIN(\"^\",,AL27:AL41)","v":"6^2^1^3^7"},null,1,null,{"$f":"$C31","v":1},null,null,{"$f":"$C31","v":1},null,{"$f":"$C31","v":1},{"$nulls":4},{"$f":"_xlfn.TEXTJOIN(\"^\",,AZ27:AZ41)","v":"6^4^2^3^5^7"}]
[null,null,3,{"$f":"$C32","v":3},3,3,null,3,3,3,null,3,3,null,null,{"$f":"_xlfn.TEXTJOIN(\"^\",,I27:I41)","v":"6^4^2^1^3^5^7"},null,3,0,0,0,0,0,0,0,0,null,null,null,{"$f":"_xlfn.TEXTJOIN(\"^\",,W27:W41)","v":"0^0"},null,3,{"$f":"$C32","v":3},null,null,null,3,3,3,3,null,null,null,{"$f":"_xlfn.TEXTJOIN(\"^\",,AM27:AM41)","v":"6^4^2^1^3^5^7"},null,3,{"$f":"$C32","v":3},null,{"$f":"$C32","v":3},null,null,{"$f":"$C32","v":3},null,{"$f":"$C32","v":3},null,null,null,{"$f":"_xlfn.TEXTJOIN(\"^\",,BA27:BA41)","v":"6^4^1^5^7"}]
[null,null,5,5,null,5,null,5,5,5,null,5,5,null,null,{"$f":"_xlfn.TEXTJOIN(\"^\",,J27:J41)","v":"6^4^2^1^3^5^7"},null,5,{"$nulls":5},0,0,{"$nulls":4},{"$f":"_xlfn.TEXTJOIN(\"^\",,X27:X41)","v":"0^0^0^0"},null,5,{"$f":"$C33","v":5},null,{"$f":"$C33","v":5},null,5,null,5,5,null,null,null,{"$f":"_xlfn.TEXTJOIN(\"^\",,AN27:AN41)","v":"8^6^4^2^3^5^7^9"},null,5,5,{"$f":"$C33","v":5},null,null,{"$f":"$C33","v":5},5,5,5,null,null,null,{"$f":"_xlfn.TEXTJOIN(\"^\",,BB27:BB41)","v":"8^6^4^2^3^5^7^9"}]
[null,null,7,null,{"$f":"$C34","v":7},7,null,null,7,7,null,7,7,null,null,{"$f":"_xlfn.TEXTJOIN(\"^\",,K27:K41)","v":"101^102^103^104^105"},null,7,{"$nulls":5},0,{"$nulls":5},{"$f":"_xlfn.TEXTJOIN(\"^\",,Y27:Y41)","v":"0^0^0"},null,7,null,{"$f":"$C34","v":7},7,null,7,{"$f":"$C34","v":7},7,7,null,null,null,{"$f":"_xlfn.TEXTJOIN(\"^\",,AO27:AO41)","v":""},null,7,{"$nulls":5},7,7,7,null,null,null,{"$f":"_xlfn.TEXTJOIN(\"^\",,BC27:BC41)","v":""}]
[null,null,9,{"$nulls":4},9,{"$nulls":4},9,null,null,{"$f":"_xlfn.TEXTJOIN(\"^\",,L27:L41)","v":"6^4^2^1^3^5^7"},null,9,{"$nulls":13},9,null,9,{"$nulls":5},9,null,null,null,{"$f":"_xlfn.TEXTJOIN(\"^\",,AP27:AP41)","v":""},null,9,{"$nulls":7},9,null,null,null,{"$f":"_xlfn.TEXTJOIN(\"^\",,BD27:BD41)","v":""}]
[null,null,"空降",{"$nulls":12},{"$f":"_xlfn.TEXTJOIN(\"^\",,M27:M41)","v":"8^6^4^2^3^5^7^9"},null,"空降",{"$nulls":13},"空降",{"$nulls":11},{"$f":"_xlfn.TEXTJOIN(\"^\",,AQ27:AQ35)","v":""},null,"空降",{"$nulls":11},{"$f":"_xlfn.TEXTJOIN(\"^\",,BE27:BE35)","v":""}]
[null,null,101,null,null,null,{"$f":"$C37","v":101},null,null,null,{"$f":"$C37","v":101},{"$nulls":4},{"$f":"_xlfn.TEXTJOIN(\"^\",,N27:N41)","v":""},null,101,{"$nulls":11},{"$f":"_xlfn.TEXTJOIN(\"^\",,Z27:Z41)","v":"100^0"},null,101,null,null,null,{"$f":"$C37","v":101},{"$nulls":9},101,null,null,null,{"$f":"$C37","v":101}]
[null,null,102,null,null,null,102,null,null,null,102,{"$nulls":6},102,{"$nulls":11},{"$f":"_xlfn.TEXTJOIN(\"^\",,AA27:AA41)","v":""},null,102,null,null,null,102,{"$nulls":9},102,null,null,null,102]
[null,null,103,null,null,null,103,null,null,null,103,{"$nulls":6},103,{"$nulls":11},{"$f":"_xlfn.TEXTJOIN(\"^\",,AB27:AB41)","v":""},null,103,null,null,null,103,{"$nulls":9},103]
[null,null,104,null,null,null,104,null,null,null,104,{"$nulls":6},104,{"$nulls":13},104,null,null,null,104,{"$nulls":9},104,null,null,null,{"$f":"$C40","v":104}]
[null,null,105,null,null,null,105,null,null,null,105,{"$nulls":6},105,{"$nulls":13},105,null,null,null,105,{"$nulls":9},105,null,null,null,105]
[{"$nulls":14},"最终",{"$f":"_xlfn.TEXTJOIN(\"^\",,P27:P41)","v":"4^2^3^5^6^2^1^3^7^6^4^2^1^3^5^7^101^102^103^104^105^8^4^2^1^3^5^9^6^4^2^1^3^5^7^6^4^2^1^3^5^7^101^102^103^104^105^6^4^2^1^3^5^7^8^6^4^2^3^5^7^9"},{"$nulls":12},"最终",{"$f":"_xlfn.TEXTJOIN(\"^\",,AD27:AD41)","v":"100^0^0^0^0^0^0^0^0^0^0^0^0^0^0^0^0^100^0"},{"$nulls":12},"最终",{"$f":"_xlfn.TEXTJOIN(\"^\",,AR26:AR41)","v":"4^2^1^3^5^8^6^2^1^7^9^6^4^1^5^7^101^102^103^104^105^6^4^2^1^3^5^7^6^2^1^3^7^6^4^2^1^3^5^7^8^6^4^2^3^5^7^9"},{"$nulls":12},"最终",{"$f":"_xlfn.TEXTJOIN(\"^\",,BF26:BF41)","v":"4^2^3^5^4^1^5^2^3^101^102^104^105^4^1^5^6^4^2^3^5^7^6^4^1^5^7^8^6^4^2^3^5^7^9"}]
[]
[null,null,"时间",5,10,16,20,27,35,45,50,60,70,{"$nulls":4},"时间",5,10,15,20,30,45,60,70,null,null,null,{"$f":"_xlfn.TEXTJOIN(\"^\",,S45:S53)","v":"9^14"},null,"时间",4,6,10,15,22,30,40,50,null,null,null,{"$f":"_xlfn.TEXTJOIN(\"^\",,AG45:AG53)","v":"4^4^4^4^4"},null,"时间",2,4,6,8,10,17,25,35,null,null,null,{"$f":"_xlfn.TEXTJOIN(\"^\",,AU45:AU53)","v":"2^2^2^2"}]
[null,null,8,{"$nulls":4},{"$f":"H$44","v":27},{"$nulls":4},{"$f":"M$44","v":70},null,null,{"$f":"_xlfn.TEXTJOIN(\"^\",,D45:D54)","v":"5^5^5^5"},null,8,{"$nulls":11},{"$f":"_xlfn.TEXTJOIN(\"^\",,T45:T53)","v":"4^8"},null,8,null,{"$f":"AH$44","v":6},{"$nulls":5},{"$f":"AN$44","v":50},null,null,null,{"$f":"_xlfn.TEXTJOIN(\"^\",,AH45:AH53)","v":"6^6^6^6^6^6"},null,8,{"$nulls":7},{"$f":"BB$44","v":35},null,null,null,{"$f":"_xlfn.TEXTJOIN(\"^\",,AV45:AV53)","v":"4^4^4"}]
[null,null,6,null,{"$f":"E$44","v":10},{"$f":"F$44","v":16},null,null,{"$f":"I$44","v":35},45,null,{"$f":"L$44","v":60},70,null,null,{"$f":"_xlfn.TEXTJOIN(\"^\",,E45:E54)","v":"10^10^10^10^10"},null,6,{"$nulls":11},{"$f":"_xlfn.TEXTJOIN(\"^\",,U45:U53)","v":"3^5"},null,6,null,6,10,null,{"$f":"AK$44","v":22},30,40,50,null,null,null,{"$f":"_xlfn.TEXTJOIN(\"^\",,AI45:AI53)","v":"10^10^10^10^10"},null,6,{"$nulls":5},{"$f":"AZ$44","v":17},25,35,null,null,null,{"$f":"_xlfn.TEXTJOIN(\"^\",,AW45:AW53)","v":"6^6"}]
[null,null,4,{"$f":"D$44","v":5},null,16,20,27,35,45,50,60,70,null,null,{"$f":"_xlfn.TEXTJOIN(\"^\",,F45:F54)","v":"16^16^16^16^16^16^16"},null,4,{"$nulls":11},{"$f":"_xlfn.TEXTJOIN(\"^\",,V45:V53)","v":"9^2"},null,4,{"$f":"AG$44","v":4},null,10,15,22,null,40,50,null,null,null,{"$f":"_xlfn.TEXTJOIN(\"^\",,AJ45:AJ53)","v":"15^15^15^15^15"},null,4,{"$f":"AU$44","v":2},4,null,{"$f":"AX$44","v":8},10,17,25,35,null,null,null,{"$f":"_xlfn.TEXTJOIN(\"^\",,AX45:AX53)","v":"8^8^8^8"}]
[null,null,2,{"$f":"D$44","v":5},{"$f":"E$44","v":10},16,20,27,35,45,50,60,70,null,null,{"$f":"_xlfn.TEXTJOIN(\"^\",,G45:G54)","v":"20^20^20^20^20"},null,2,{"$nulls":11},{"$f":"_xlfn.TEXTJOIN(\"^\",,W45:W53)","v":"9^3"},null,2,4,6,null,15,22,30,40,50,null,null,null,{"$f":"_xlfn.TEXTJOIN(\"^\",,AK45:AK53)","v":"22^22^22^22^22^22^22"},null,2,2,null,{"$f":"AW$44","v":6},8,null,17,null,35,null,null,null,{"$f":"_xlfn.TEXTJOIN(\"^\",,AY45:AY53)","v":"10^10^10"}]
[null,null,1,null,10,16,20,27,35,45,50,60,null,null,null,{"$f":"_xlfn.TEXTJOIN(\"^\",,H45:H54)","v":"27^27^27^27^27^27^27"},null,1,9,4,3,9,9,2,2,7,null,null,null,{"$f":"_xlfn.TEXTJOIN(\"^\",,X45:X53)","v":"2^7^3^2"},null,1,4,6,10,15,22,30,40,{"$nulls":4},{"$f":"_xlfn.TEXTJOIN(\"^\",,AL45:AL53)","v":"30^30^30^30^30"},null,1,null,{"$f":"AV$44","v":4},null,null,{"$f":"AY$44","v":10},null,{"$f":"BA$44","v":25},{"$nulls":4},{"$f":"_xlfn.TEXTJOIN(\"^\",,AZ45:AZ53)","v":"17^17^17^17^17^17"}]
[null,null,3,{"$f":"D$44","v":5},10,16,20,27,35,45,50,60,70,null,null,{"$f":"_xlfn.TEXTJOIN(\"^\",,I45:I54)","v":"35^35^35^35^35^35^35"},null,3,14,8,5,2,3,7,3,4,null,null,null,{"$f":"_xlfn.TEXTJOIN(\"^\",,Y45:Y53)","v":"2^3^9"},null,3,4,null,null,15,22,30,40,50,null,null,null,{"$f":"_xlfn.TEXTJOIN(\"^\",,AM45:AM53)","v":"40^40^40^40^40^40^40"},null,3,{"$f":"AU$44","v":2},null,{"$f":"AW$44","v":6},8,null,{"$f":"AZ$44","v":17},null,{"$f":"BB$44","v":35},null,null,null,{"$f":"_xlfn.TEXTJOIN(\"^\",,BA45:BA53)","v":"25^25^25^25^25"}]
[null,null,5,5,null,16,20,27,35,45,50,60,70,null,null,{"$f":"_xlfn.TEXTJOIN(\"^\",,J45:J54)","v":"45^45^45^45^45^45^45"},null,5,{"$nulls":5},3,9,{"$nulls":4},{"$f":"_xlfn.TEXTJOIN(\"^\",,Z45:Z53)","v":"7^4"},null,5,4,null,{"$f":"AI$44","v":10},15,22,null,40,50,null,null,null,{"$f":"_xlfn.TEXTJOIN(\"^\",,AN45:AN53)","v":"50^50^50^50^50^50^50^50"},null,5,2,4,null,8,10,17,25,35,null,null,null,{"$f":"_xlfn.TEXTJOIN(\"^\",,BB45:BB53)","v":"35^35^35^35^35^35^35^35"}]
[null,null,7,null,{"$f":"E$44","v":10},16,null,null,35,45,null,{"$f":"L$44","v":60},70,null,null,{"$f":"_xlfn.TEXTJOIN(\"^\",,K45:K54)","v":"50^50^50^50^50"},null,7,{"$nulls":5},2,{"$nulls":5},{"$f":"_xlfn.TEXTJOIN(\"^\",,AA45:AA53)","v":""},null,7,null,{"$f":"AH$44","v":6},10,null,22,30,40,50,null,null,null,{"$f":"_xlfn.TEXTJOIN(\"^\",,AO45:AO53)","v":""},null,7,{"$nulls":5},17,25,35,null,null,null,{"$f":"_xlfn.TEXTJOIN(\"^\",,BC45:BC53)","v":""}]
[null,null,9,{"$nulls":4},{"$f":"H$44","v":27},{"$nulls":4},70,null,null,{"$f":"_xlfn.TEXTJOIN(\"^\",,L45:L54)","v":"60^60^60^60^60^60^60"},null,9,{"$nulls":11},{"$f":"_xlfn.TEXTJOIN(\"^\",,AB45:AB53)","v":""},null,9,null,6,{"$nulls":5},50,null,null,null,{"$f":"_xlfn.TEXTJOIN(\"^\",,AP45:AP53)","v":""},null,9,{"$nulls":7},35,null,null,null,{"$f":"_xlfn.TEXTJOIN(\"^\",,BD45:BD53)","v":""}]
[{"$nulls":15},{"$f":"_xlfn.TEXTJOIN(\"^\",,M45:M54)","v":"70^70^70^70^70^70^70^70"},{"$nulls":13},{"$f":"_xlfn.TEXTJOIN(\"^\",,AC45:AC53)","v":""},{"$nulls":13},{"$f":"_xlfn.TEXTJOIN(\"^\",,AQ45:AQ53)","v":""},{"$nulls":13},{"$f":"_xlfn.TEXTJOIN(\"^\",,BE45:BE53)","v":""}]
[{"$nulls":15},{"$f":"_xlfn.TEXTJOIN(\"^\",,N45:N54)","v":""},{"$nulls":12},"最终",{"$f":"_xlfn.TEXTJOIN(\"^\",,AD44:AD54)","v":"9^14^4^8^3^5^9^2^9^3^2^7^3^2^2^3^9^7^4"},{"$nulls":12},"最终",{"$f":"_xlfn.TEXTJOIN(\"^\",,AR44:AR54)","v":"4^4^4^4^4^6^6^6^6^6^6^10^10^10^10^10^15^15^15^15^15^22^22^22^22^22^22^22^30^30^30^30^30^40^40^40^40^40^40^40^50^50^50^50^50^50^50^50"},{"$nulls":12},"最终",{"$f":"_xlfn.TEXTJOIN(\"^\",,BF44:BF54)","v":"2^2^2^2^4^4^4^6^6^8^8^8^8^10^10^10^17^17^17^17^17^17^25^25^25^25^25^35^35^35^35^35^35^35^35"}]
[{"$nulls":14},"最终",{"$f":"_xlfn.TEXTJOIN(\"^\",,P45:P55)","v":"5^5^5^5^10^10^10^10^10^16^16^16^16^16^16^16^20^20^20^20^20^27^27^27^27^27^27^27^35^35^35^35^35^35^35^45^45^45^45^45^45^45^50^50^50^50^50^60^60^60^60^60^60^60^70^70^70^70^70^70^70^70"}]
[{"$nulls":14},{"$f":"COUNT(D45:N54)","v":62},{"$nulls":13},{"$f":"SUM(S45:AB54)","v":105},{"$nulls":13},{"$f":"COUNT(AG45:AP54)","v":48},{"$nulls":13},{"$f":"COUNT(AU45:BD54)","v":35},{"$f":"AQ57+BE57+AC57+O57","v":250}]
[{"$nulls":4},{"$f":"E59-D59","v":10},{"$f":"F59-E59","v":15},15,5,15,16,17,7,15,{"$nulls":6},{"$f":"T59-S59","v":5},5,7,8,10,10,5,{"$nulls":7},{"$f":"AH59-AG59","v":3},4,5,10,10,5,10,{"$nulls":7},{"$f":"AV59-AU59","v":2},3,4,5,6,7,10]
[3,"沼泽-2","波1·怪物",5,15,30,45,50,65,81,98,105,120,null,null,null,1,"波2·怪物",5,10,15,22,30,40,50,55,{"$nulls":4},1,"波3·怪物",3,6,10,15,25,35,40,50,{"$nulls":4},1,"波4·怪物",3,5,8,12,17,23,30,40]
[null,"5m",8,{"$nulls":12},{"$f":"_xlfn.TEXTJOIN(\"^\",,D60:D69)","v":"70202^70204^70201"},null,8,{"$nulls":4},70204,70202,70204,{"$nulls":4},{"$f":"_xlfn.TEXTJOIN(\"^\",,S60:S69)","v":"70204^70201^70201^70201^70204"},null,8,null,null,null,70202,70204,null,null,70204,null,null,null,{"$f":"_xlfn.TEXTJOIN(\"^\",,AG60:AG69)","v":"70205^70205^70205^70205^70205"},null,8,{"$nulls":5},70204,null,70202,null,null,null,{"$f":"_xlfn.TEXTJOIN(\"^\",,AU60:AU69)","v":"70203^70203^70203"}]
[null,null,6,{"$nulls":12},{"$f":"_xlfn.TEXTJOIN(\"^\",,E60:E69)","v":"70202^70201"},null,6,null,70202,null,70202,null,null,70202,{"$nulls":4},{"$f":"_xlfn.TEXTJOIN(\"^\",,T60:T69)","v":"70202^70201^70202^70201^70202"},null,6,null,70204,null,null,70201,70202,null,70202,null,null,null,{"$f":"_xlfn.TEXTJOIN(\"^\",,AH60:AH69)","v":"70204^70202^70207^70202^70204"},null,6,null,70202,null,null,null,70202,70202,70204,null,null,null,{"$f":"_xlfn.TEXTJOIN(\"^\",,AV60:AV69)","v":"70202^70202^70202"}]
[null,null,4,{"$nulls":12},{"$f":"_xlfn.TEXTJOIN(\"^\",,F60:F69)","v":"70203^70202^70204"},null,4,70204,null,70205,70203,70202,70201,70201,70205,null,null,null,{"$f":"_xlfn.TEXTJOIN(\"^\",,U60:U69)","v":"70205^70205^70205^70205^70205"},null,4,70205,null,70201,70201,70202,70201,70205,70201,null,null,null,{"$f":"_xlfn.TEXTJOIN(\"^\",,AI60:AI69)","v":"70201^70201^70201^70201^70201"},null,4,70203,null,null,70201,70205,null,70201,70202,null,null,null,{"$f":"_xlfn.TEXTJOIN(\"^\",,AW60:AW69)","v":"70204^70204"}]
[null,null,2,{"$nulls":12},{"$f":"_xlfn.TEXTJOIN(\"^\",,G60:G69)","v":"70202^70201"},null,2,70201,70201,70205,null,70201,70203,70201,70205,null,null,null,{"$f":"_xlfn.TEXTJOIN(\"^\",,V60:V69)","v":"70202^70203^70203^70203^70202"},null,2,70205,70202,70201,70203,null,70203,70205,70201,null,null,null,{"$f":"_xlfn.TEXTJOIN(\"^\",,AJ60:AJ69)","v":"70202^70201^70203^70202^70203^70201^70202"},null,2,null,null,70204,70201,70205,70203,70201,70203,null,null,null,{"$f":"_xlfn.TEXTJOIN(\"^\",,AX60:AX69)","v":"70201^70201^70201^70201"}]
[null,null,1,70202,70202,70203,70202,70205,70202,70203,70201,70205,70204,null,null,{"$f":"_xlfn.TEXTJOIN(\"^\",,H60:H69)","v":"70205^70203"},null,1,70201,70202,70205,70203,70202,70202,null,70205,null,null,null,{"$f":"_xlfn.TEXTJOIN(\"^\",,W60:W69)","v":"70204^70202^70201^70202^70201^70202^70204"},null,1,70205,70207,70201,70202,70202,70202,70205,70203,null,null,null,{"$f":"_xlfn.TEXTJOIN(\"^\",,AK60:AK69)","v":"70204^70201^70202^70202^70202^70201^70204"},null,1,70203,70202,null,null,70205,null,70204,{"$nulls":4},{"$f":"_xlfn.TEXTJOIN(\"^\",,AY60:AY69)","v":"70205^70205^70205^70205^70205"}]
[null,null,3,70204,70201,70202,70201,70203,70201,70202,70202,70202,70203,null,null,{"$f":"_xlfn.TEXTJOIN(\"^\",,I60:I69)","v":"70202^70201^70204"},null,3,70201,70201,70205,null,70201,70203,70201,70205,null,null,null,{"$f":"_xlfn.TEXTJOIN(\"^\",,X60:X69)","v":"70202^70201^70203^70202^70203^70201^70202"},null,3,70205,70202,70201,70203,null,70203,70205,70201,null,null,null,{"$f":"_xlfn.TEXTJOIN(\"^\",,AL60:AL69)","v":"70202^70201^70203^70202^70203^70201^70202"},null,3,null,null,70204,70201,70205,70203,70201,70203,null,null,null,{"$f":"_xlfn.TEXTJOIN(\"^\",,AZ60:AZ69)","v":"70204^70202^70203^70203^70202^70204"}]
[null,null,5,70201,null,70204,null,null,70204,70201,70204,70207,70201,null,null,{"$f":"_xlfn.TEXTJOIN(\"^\",,J60:J69)","v":"70203^70202^70201"},null,5,70204,null,70205,70203,70202,70201,70201,70205,null,null,null,{"$f":"_xlfn.TEXTJOIN(\"^\",,Y60:Y69)","v":"70204^70202^70201^70201^70201^70201^70202^70204"},null,5,70205,null,70201,70201,70202,70201,70205,70201,null,null,null,{"$f":"_xlfn.TEXTJOIN(\"^\",,AM60:AM69)","v":"70205^70205^70205^70205^70205"},null,5,70203,null,null,70201,70205,null,70201,70202,null,null,null,{"$f":"_xlfn.TEXTJOIN(\"^\",,BA60:BA69)","v":"70202^70201^70201^70204^70201^70201^70202"}]
[null,null,7,{"$nulls":9},70202,null,null,{"$f":"_xlfn.TEXTJOIN(\"^\",,K60:K69)","v":"70201^70202^70204"},null,7,null,70202,null,70202,null,null,70202,{"$nulls":4},{"$f":"_xlfn.TEXTJOIN(\"^\",,Z60:Z69)","v":"70205^70205^70205^70205^70205"},null,7,null,70204,null,null,70201,70202,null,70202,null,null,null,{"$f":"_xlfn.TEXTJOIN(\"^\",,AN60:AN69)","v":"70204^70202^70201^70201^70203^70201^70201^70202^70204"},null,7,null,70202,null,null,null,70202,70202,70204,null,null,null,{"$f":"_xlfn.TEXTJOIN(\"^\",,BB60:BB69)","v":"70202^70204^70202^70203^70203^70202^70204^70202"}]
[null,null,9,{"$nulls":12},{"$f":"_xlfn.TEXTJOIN(\"^\",,L60:L69)","v":"70205^70202^70207"},null,9,{"$nulls":4},70204,70202,70204,{"$nulls":4},{"$f":"_xlfn.TEXTJOIN(\"^\",,AA60:AA69)","v":""},null,9,null,null,null,70202,70204,null,null,70204,null,null,null,{"$f":"_xlfn.TEXTJOIN(\"^\",,AO60:AO69)","v":""},null,9,{"$nulls":5},70204,null,70202,null,null,null,{"$f":"_xlfn.TEXTJOIN(\"^\",,BC60:BC69)","v":""}]
[{"$nulls":15},{"$f":"_xlfn.TEXTJOIN(\"^\",,M60:M69)","v":"70204^70203^70201^70202"},{"$nulls":13},{"$f":"_xlfn.TEXTJOIN(\"^\",,AB60:AB69)","v":""},{"$nulls":13},{"$f":"_xlfn.TEXTJOIN(\"^\",,AP60:AP69)","v":""},{"$nulls":13},{"$f":"_xlfn.TEXTJOIN(\"^\",,BD60:BD69)","v":""}]
[{"$nulls":15},{"$f":"_xlfn.TEXTJOIN(\"^\",,N60:N69)","v":""},{"$nulls":13},{"$f":"_xlfn.TEXTJOIN(\"^\",,AC60:AC69)","v":""},{"$nulls":13},{"$f":"_xlfn.TEXTJOIN(\"^\",,AQ60:AQ69)","v":""},{"$nulls":13},{"$f":"_xlfn.TEXTJOIN(\"^\",,BE60:BE69)","v":""}]
[{"$nulls":14},"最终",{"$f":"_xlfn.TEXTJOIN(\"^\",,P60:P70)","v":"70202^70204^70201^70202^70201^70203^70202^70204^70202^70201^70205^70203^70202^70201^70204^70203^70202^70201^70201^70202^70204^70205^70202^70207^70204^70203^70201^70202"},{"$nulls":12},"最终",{"$f":"_xlfn.TEXTJOIN(\"^\",,AD60:AD70)","v":"70204^70201^70201^70201^70204^70202^70201^70202^70201^70202^70205^70205^70205^70205^70205^70202^70203^70203^70203^70202^70204^70202^70201^70202^70201^70202^70204^70202^70201^70203^70202^70203^70201^70202^70204^70202^70201^70201^70201^70201^70202^70204^70205^70205^70205^70205^70205"},{"$nulls":12},"最终",{"$f":"_xlfn.TEXTJOIN(\"^\",,AR60:AR70)","v":"70205^70205^70205^70205^70205^70204^70202^70207^70202^70204^70201^70201^70201^70201^70201^70202^70201^70203^70202^70203^70201^70202^70204^70201^70202^70202^70202^70201^70204^70202^70201^70203^70202^70203^70201^70202^70205^70205^70205^70205^70205^70204^70202^70201^70201^70203^70201^70201^70202^70204"},{"$nulls":12},"最终",{"$f":"_xlfn.TEXTJOIN(\"^\",,BF60:BF70)","v":"70203^70203^70203^70202^70202^70202^70204^70204^70201^70201^70201^70201^70205^70205^70205^70205^70205^70204^70202^70203^70203^70202^70204^70202^70201^70201^70204^70201^70201^70202^70202^70204^70202^70203^70203^70202^70204^70202"}]
[null,null,8,{"$nulls":14},8,{"$nulls":4},"木精灵","孢子人","木精灵",{"$nulls":6},8,null,null,null,"孢子人","木精灵",null,null,"木精灵",{"$nulls":5},8,{"$nulls":5},"木精灵",null,"孢子人"]
[null,null,6,{"$nulls":14},6,null,"孢子人",null,"孢子人",null,null,"孢子人",{"$nulls":6},6,null,"木精灵",null,null,"树精","孢子人",null,"孢子人",{"$nulls":5},6,null,"孢子人",null,null,null,"孢子人","孢子人","木精灵"]
[null,null,4,{"$nulls":14},4,"木精灵",null,"森林蜘蛛","哥布林","孢子人","树精","树精","森林蜘蛛",{"$nulls":5},4,"森林蜘蛛",null,"树精","树精","孢子人","树精","森林蜘蛛","树精",{"$nulls":5},4,"哥布林",null,null,"树精","森林蜘蛛",null,"树精","孢子人"]
[null,null,2,{"$nulls":14},2,"树精","树精","森林蜘蛛",null,"树精","哥布林","树精","森林蜘蛛",{"$nulls":5},2,"森林蜘蛛","孢子人","树精","哥布林",null,"哥布林","森林蜘蛛","树精",{"$nulls":5},2,null,null,"木精灵","树精","森林蜘蛛","哥布林","树精","哥布林"]
[null,null,1,"孢子人","孢子人","哥布林","孢子人","森林蜘蛛","孢子人","哥布林","树精","森林蜘蛛","木精灵",{"$nulls":4},1,"树精","孢子人","森林蜘蛛","哥布林","孢子人","孢子人",null,"森林蜘蛛",{"$nulls":5},1,"森林蜘蛛","黑暗法师","树精","孢子人","孢子人","孢子人","森林蜘蛛","哥布林",{"$nulls":5},1,"哥布林","孢子人",null,null,"森林蜘蛛",null,"木精灵"]
[null,null,3,"木精灵","树精","孢子人","树精","哥布林","树精","孢子人","孢子人","孢子人","哥布林",{"$nulls":4},3,"树精","树精","森林蜘蛛",null,"树精","哥布林","树精","森林蜘蛛",{"$nulls":5},3,"森林蜘蛛","孢子人","树精","哥布林",null,"哥布林","森林蜘蛛","树精",{"$nulls":5},3,null,null,"木精灵","树精","森林蜘蛛","哥布林","树精","哥布林"]
[null,null,5,"树精",null,"木精灵",null,null,"木精灵","树精","木精灵","黑暗法师","树精",{"$nulls":4},5,"木精灵",null,"森林蜘蛛","哥布林","孢子人","树精","树精","森林蜘蛛",{"$nulls":5},5,"森林蜘蛛",null,"树精","树精","孢子人","树精","森林蜘蛛","树精",{"$nulls":5},5,"哥布林",null,null,"树精","森林蜘蛛",null,"树精","孢子人"]
[null,null,7,{"$nulls":9},"孢子人",{"$nulls":4},7,null,"孢子人",null,"孢子人",null,null,"孢子人",{"$nulls":6},7,null,"木精灵",null,null,"树精","孢子人",null,"孢子人",{"$nulls":5},7,null,"孢子人",null,null,null,"孢子人","孢子人","木精灵"]
[null,null,9,{"$nulls":14},9,{"$nulls":4},"木精灵","孢子人","木精灵",{"$nulls":6},9,null,null,null,"孢子人","木精灵",null,null,"木精灵",{"$nulls":5},9,{"$nulls":5},"木精灵",null,"孢子人"]
[]
[null,null,"位置",5,15,30,45,50,65,81,98,105,120,{"$nulls":4},"位置",5,10,15,22,30,40,50,55,{"$nulls":5},"位置",3,6,10,15,25,35,40,50,null,null,null,{"$f":"_xlfn.TEXTJOIN(\"^\",,AG83:AG97)","v":"101^102^103^104^105"},null,"位置",3,5,8,12,17,23,30,40,null,null,null,{"$f":"_xlfn.TEXTJOIN(\"^\",,AU83:AU97)","v":"4^1^5"}]
[null,null,8,{"$nulls":12},{"$f":"_xlfn.TEXTJOIN(\"^\",,D83:D97)","v":"0^0^0"},null,8,{"$nulls":4},{"$f":"$C83","v":8},{"$f":"$C83","v":8},{"$f":"$C83","v":8},{"$nulls":6},8,null,null,null,{"$f":"$C83","v":8},{"$f":"$C83","v":8},null,null,{"$f":"$C83","v":8},null,null,null,{"$f":"_xlfn.TEXTJOIN(\"^\",,AH83:AH97)","v":"6^2^1^3^7"},null,8,{"$nulls":5},{"$f":"$C83","v":8},null,{"$f":"$C83","v":8},null,null,null,{"$f":"_xlfn.TEXTJOIN(\"^\",,AV83:AV97)","v":"6^1^7"}]
[null,null,6,{"$nulls":12},{"$f":"_xlfn.TEXTJOIN(\"^\",,E83:E97)","v":"0^0"},null,6,null,{"$f":"$C84","v":6},null,{"$f":"$C84","v":6},null,null,6,{"$nulls":4},{"$f":"_xlfn.TEXTJOIN(\"^\",,S83:S97)","v":"4^2^1^3^5"},null,6,null,{"$f":"$C84","v":6},null,null,6,6,null,6,null,null,null,{"$f":"_xlfn.TEXTJOIN(\"^\",,AI83:AI97)","v":"4^2^1^3^5"},null,6,null,{"$f":"$C84","v":6},null,null,null,6,6,6,null,null,null,{"$f":"_xlfn.TEXTJOIN(\"^\",,AW83:AW97)","v":"2^3"}]
[null,null,4,{"$nulls":12},{"$f":"_xlfn.TEXTJOIN(\"^\",,F83:F97)","v":"0^0^0"},null,4,{"$f":"$C85","v":4},null,null,{"$f":"$C85","v":4},{"$f":"$C85","v":4},4,4,{"$nulls":4},{"$f":"_xlfn.TEXTJOIN(\"^\",,T83:T97)","v":"6^2^1^3^7"},null,4,null,null,{"$f":"$C85","v":4},4,{"$f":"$C85","v":4},4,null,4,null,null,null,{"$f":"_xlfn.TEXTJOIN(\"^\",,AJ83:AJ97)","v":"8^4^2^1^3^5^9"},null,4,{"$f":"$C85","v":4},null,null,{"$f":"$C85","v":4},null,null,4,4,null,null,null,{"$f":"_xlfn.TEXTJOIN(\"^\",,AX83:AX97)","v":"4^2^3^5"}]
[null,null,2,{"$nulls":12},{"$f":"_xlfn.TEXTJOIN(\"^\",,G83:G97)","v":"0^0"},null,2,2,2,null,null,2,2,2,{"$nulls":4},{"$f":"_xlfn.TEXTJOIN(\"^\",,U83:U97)","v":"101^102^103^104^105"},null,2,null,{"$f":"$C86","v":2},2,2,null,2,null,2,null,null,null,{"$f":"_xlfn.TEXTJOIN(\"^\",,AK83:AK97)","v":"8^6^4^1^5^7^9"},null,2,null,null,{"$f":"$C86","v":2},2,null,{"$f":"$C86","v":2},2,2,null,null,null,{"$f":"_xlfn.TEXTJOIN(\"^\",,AY83:AY97)","v":"101^102^103^104^105"}]
[null,null,1,0,0,0,0,100,0,0,0,100,0,null,null,{"$f":"_xlfn.TEXTJOIN(\"^\",,H83:H97)","v":"100^0"},null,1,1,{"$f":"$C87","v":1},null,{"$f":"$C87","v":1},1,1,{"$nulls":5},{"$f":"_xlfn.TEXTJOIN(\"^\",,V83:V97)","v":"6^4^1^5^7"},null,1,null,{"$f":"$C87","v":1},1,1,{"$f":"$C87","v":1},1,null,1,null,null,null,{"$f":"_xlfn.TEXTJOIN(\"^\",,AL83:AL97)","v":"6^4^2^1^3^5^7"},null,1,{"$f":"$C87","v":1},1,{"$nulls":4},1,{"$nulls":4},{"$f":"_xlfn.TEXTJOIN(\"^\",,AZ83:AZ97)","v":"8^6^2^3^7^9"}]
[null,null,3,0,0,0,0,0,0,0,0,0,0,null,null,{"$f":"_xlfn.TEXTJOIN(\"^\",,I83:I97)","v":"0^0^0"},null,3,3,3,null,null,3,3,3,{"$nulls":4},{"$f":"_xlfn.TEXTJOIN(\"^\",,W83:W97)","v":"8^4^2^1^3^5^9"},null,3,null,{"$f":"$C88","v":3},3,3,null,3,null,3,null,null,null,{"$f":"_xlfn.TEXTJOIN(\"^\",,AM83:AM97)","v":"101^102^103^104^105"},null,3,null,null,{"$f":"$C88","v":3},3,null,{"$f":"$C88","v":3},3,3,null,null,null,{"$f":"_xlfn.TEXTJOIN(\"^\",,BA83:BA97)","v":"6^4^2^1^3^5^7"}]
[null,null,5,0,null,0,null,null,0,0,0,0,0,null,null,{"$f":"_xlfn.TEXTJOIN(\"^\",,J83:J97)","v":"0^0^0"},null,5,5,null,null,{"$f":"$C89","v":5},5,5,5,{"$nulls":4},{"$f":"_xlfn.TEXTJOIN(\"^\",,X83:X97)","v":"8^4^2^1^3^5^9"},null,5,null,null,5,5,5,5,null,5,null,null,null,{"$f":"_xlfn.TEXTJOIN(\"^\",,AN83:AN97)","v":"8^6^4^2^1^3^5^7^9"},null,5,{"$f":"$C89","v":5},null,null,5,null,null,5,5,null,null,null,{"$f":"_xlfn.TEXTJOIN(\"^\",,BB83:BB97)","v":"8^6^4^2^3^5^7^9"}]
[null,null,7,{"$nulls":9},0,null,null,{"$f":"_xlfn.TEXTJOIN(\"^\",,K83:K97)","v":"0^0^0"},null,7,null,{"$f":"$C90","v":7},null,{"$f":"$C90","v":7},null,null,7,{"$nulls":4},{"$f":"_xlfn.TEXTJOIN(\"^\",,Y83:Y97)","v":"8^6^4^2^3^5^7^9"},null,7,null,{"$f":"$C90","v":7},null,null,7,7,null,7,null,null,null,{"$f":"_xlfn.TEXTJOIN(\"^\",,AO83:AO97)","v":""},null,7,null,{"$f":"$C90","v":7},null,null,null,{"$f":"$C90","v":7},7,7,null,null,null,{"$f":"_xlfn.TEXTJOIN(\"^\",,BC83:BC97)","v":""}]
[null,null,9,{"$nulls":12},{"$f":"_xlfn.TEXTJOIN(\"^\",,L83:L97)","v":"100^0^0"},null,9,{"$nulls":4},{"$f":"$C91","v":9},{"$f":"$C91","v":9},9,{"$nulls":6},9,null,null,null,{"$f":"$C91","v":9},9,null,null,9,null,null,null,{"$f":"_xlfn.TEXTJOIN(\"^\",,AP83:AP97)","v":""},null,9,{"$nulls":5},9,null,9,null,null,null,{"$f":"_xlfn.TEXTJOIN(\"^\",,BD83:BD97)","v":""}]
[null,null,"空降",{"$nulls":12},{"$f":"_xlfn.TEXTJOIN(\"^\",,M83:M97)","v":"0^0^0^0"},null,"空降",{"$nulls":13},"空降",{"$nulls":11},{"$f":"_xlfn.TEXTJOIN(\"^\",,AQ83:AQ91)","v":""},null,"空降",{"$nulls":11},{"$f":"_xlfn.TEXTJOIN(\"^\",,BE83:BE91)","v":""}]
[null,null,101,{"$nulls":12},{"$f":"_xlfn.TEXTJOIN(\"^\",,N83:N97)","v":""},null,101,null,null,{"$f":"$C93","v":101},{"$nulls":4},{"$f":"$C93","v":101},null,null,null,{"$f":"_xlfn.TEXTJOIN(\"^\",,Z83:Z97)","v":"101^102^103^104^105"},null,101,{"$f":"$C93","v":101},{"$nulls":5},{"$f":"$C93","v":101},{"$nulls":6},101,{"$nulls":4},{"$f":"$C93","v":101}]
[null,null,102,{"$nulls":14},102,null,null,102,{"$nulls":4},102,null,null,null,{"$f":"_xlfn.TEXTJOIN(\"^\",,AA83:AA97)","v":""},null,102,102,{"$nulls":5},102,{"$nulls":6},102,{"$nulls":4},102]
[null,null,103,{"$nulls":14},103,null,null,103,{"$nulls":4},103,null,null,null,{"$f":"_xlfn.TEXTJOIN(\"^\",,AB83:AB97)","v":""},null,103,103,{"$nulls":5},103,{"$nulls":6},103,{"$nulls":4},103]
[null,null,104,{"$nulls":14},104,null,null,104,{"$nulls":4},104,{"$nulls":5},104,104,{"$nulls":5},104,{"$nulls":6},104,{"$nulls":4},{"$f":"$C96","v":104}]
[null,null,105,{"$nulls":14},105,null,null,105,{"$nulls":4},105,{"$nulls":5},105,105,{"$nulls":5},105,{"$nulls":6},105,{"$nulls":4},105]
[{"$nulls":14},"最终",{"$f":"_xlfn.TEXTJOIN(\"^\",,P83:P97)","v":"0^0^0^0^0^0^0^0^0^0^100^0^0^0^0^0^0^0^0^0^0^100^0^0^0^0^0^0"},{"$nulls":12},"最终",{"$f":"_xlfn.TEXTJOIN(\"^\",,AD83:AD97)","v":"4^2^1^3^5^6^2^1^3^7^101^102^103^104^105^6^4^1^5^7^8^4^2^1^3^5^9^8^4^2^1^3^5^9^8^6^4^2^3^5^7^9^101^102^103^104^105"},{"$nulls":12},"最终",{"$f":"_xlfn.TEXTJOIN(\"^\",,AR82:AR97)","v":"101^102^103^104^105^6^2^1^3^7^4^2^1^3^5^8^4^2^1^3^5^9^8^6^4^1^5^7^9^6^4^2^1^3^5^7^101^102^103^104^105^8^6^4^2^1^3^5^7^9"},{"$nulls":12},"最终",{"$f":"_xlfn.TEXTJOIN(\"^\",,BF82:BF97)","v":"4^1^5^6^1^7^2^3^4^2^3^5^101^102^103^104^105^8^6^2^3^7^9^6^4^2^1^3^5^7^8^6^4^2^3^5^7^9"}]
[]
[null,null,"时间",5,15,30,45,50,65,81,98,105,120,{"$nulls":4},"时间",5,10,15,22,30,40,50,55,null,null,null,{"$f":"_xlfn.TEXTJOIN(\"^\",,S101:S109)","v":"5^5^5^5^5"},null,"时间",3,6,10,15,25,35,40,50,null,null,null,{"$f":"_xlfn.TEXTJOIN(\"^\",,AG101:AG109)","v":"3^3^3^3^3"},null,"时间",3,5,8,12,17,23,30,40,null,null,null,{"$f":"_xlfn.TEXTJOIN(\"^\",,AU101:AU109)","v":"3^3^3"}]
[null,null,8,{"$nulls":12},{"$f":"_xlfn.TEXTJOIN(\"^\",,D101:D110)","v":"3^2^5"},null,8,{"$nulls":4},{"$f":"W$100","v":30},40,50,{"$nulls":4},{"$f":"_xlfn.TEXTJOIN(\"^\",,T101:T109)","v":"10^10^10^10^10"},null,8,null,null,null,{"$f":"AJ$100","v":15},25,null,null,{"$f":"AN$100","v":50},null,null,null,{"$f":"_xlfn.TEXTJOIN(\"^\",,AH101:AH109)","v":"6^6^6^6^6"},null,8,{"$nulls":5},{"$f":"AZ$100","v":23},null,{"$f":"BB$100","v":40},null,null,null,{"$f":"_xlfn.TEXTJOIN(\"^\",,AV101:AV109)","v":"5^5^5"}]
[null,null,6,{"$nulls":12},{"$f":"_xlfn.TEXTJOIN(\"^\",,E101:E110)","v":"4^8"},null,6,null,{"$f":"T$100","v":10},null,{"$f":"V$100","v":22},null,null,50,{"$nulls":4},{"$f":"_xlfn.TEXTJOIN(\"^\",,U101:U109)","v":"15^15^15^15^15"},null,6,null,{"$f":"AH$100","v":6},null,null,25,35,null,50,null,null,null,{"$f":"_xlfn.TEXTJOIN(\"^\",,AI101:AI109)","v":"10^10^10^10^10"},null,6,null,{"$f":"AV$100","v":5},null,null,null,23,30,40,null,null,null,{"$f":"_xlfn.TEXTJOIN(\"^\",,AW101:AW109)","v":"8^8"}]
[null,null,4,{"$nulls":12},{"$f":"_xlfn.TEXTJOIN(\"^\",,F101:F110)","v":"3^6^2"},null,4,{"$f":"S$100","v":5},null,{"$f":"U$100","v":15},22,30,40,50,55,null,null,null,{"$f":"_xlfn.TEXTJOIN(\"^\",,V101:V109)","v":"22^22^22^22^22"},null,4,{"$f":"AG$100","v":3},null,{"$f":"AI$100","v":10},15,25,35,40,50,null,null,null,{"$f":"_xlfn.TEXTJOIN(\"^\",,AJ101:AJ109)","v":"15^15^15^15^15^15^15"},null,4,{"$f":"AU$100","v":3},null,null,{"$f":"AX$100","v":12},17,null,30,40,null,null,null,{"$f":"_xlfn.TEXTJOIN(\"^\",,AX101:AX109)","v":"12^12^12^12"}]
[null,null,2,{"$nulls":12},{"$f":"_xlfn.TEXTJOIN(\"^\",,G101:G110)","v":"3^9"},null,2,5,10,15,null,30,40,50,55,null,null,null,{"$f":"_xlfn.TEXTJOIN(\"^\",,W101:W109)","v":"30^30^30^30^30^30^30"},null,2,3,6,10,15,null,35,40,50,null,null,null,{"$f":"_xlfn.TEXTJOIN(\"^\",,AK101:AK109)","v":"25^25^25^25^25^25^25"},null,2,null,null,{"$f":"AW$100","v":8},12,17,23,30,40,null,null,null,{"$f":"_xlfn.TEXTJOIN(\"^\",,AY101:AY109)","v":"17^17^17^17^17"}]
[null,null,1,3,4,3,3,8,3,2,9,8,2,null,null,{"$f":"_xlfn.TEXTJOIN(\"^\",,H101:H110)","v":"8^2"},null,1,5,10,15,22,30,40,null,55,null,null,null,{"$f":"_xlfn.TEXTJOIN(\"^\",,X101:X109)","v":"40^40^40^40^40^40^40"},null,1,3,6,10,15,25,35,40,50,null,null,null,{"$f":"_xlfn.TEXTJOIN(\"^\",,AL101:AL109)","v":"35^35^35^35^35^35^35"},null,1,{"$f":"AU$100","v":3},5,null,null,17,null,30,{"$nulls":4},{"$f":"_xlfn.TEXTJOIN(\"^\",,AZ101:AZ109)","v":"23^23^23^23^23^23"}]
[null,null,3,2,8,6,9,2,8,3,3,3,2,null,null,{"$f":"_xlfn.TEXTJOIN(\"^\",,I101:I110)","v":"3^8^2"},null,3,5,10,15,null,30,40,50,55,null,null,null,{"$f":"_xlfn.TEXTJOIN(\"^\",,Y101:Y109)","v":"50^50^50^50^50^50^50^50"},null,3,3,6,10,15,null,35,40,50,null,null,null,{"$f":"_xlfn.TEXTJOIN(\"^\",,AM101:AM109)","v":"40^40^40^40^40"},null,3,null,null,{"$f":"AW$100","v":8},12,17,23,30,40,null,null,null,{"$f":"_xlfn.TEXTJOIN(\"^\",,BA101:BA109)","v":"30^30^30^30^30^30^30"}]
[null,null,5,5,null,2,null,null,2,9,2,1,7,null,null,{"$f":"_xlfn.TEXTJOIN(\"^\",,J101:J110)","v":"2^3^9"},null,5,5,null,15,22,30,40,50,55,null,null,null,{"$f":"_xlfn.TEXTJOIN(\"^\",,Z101:Z109)","v":"55^55^55^55^55"},null,5,3,null,10,15,25,35,40,50,null,null,null,{"$f":"_xlfn.TEXTJOIN(\"^\",,AN101:AN109)","v":"50^50^50^50^50^50^50^50^50"},null,5,{"$f":"AU$100","v":3},null,null,12,17,null,30,40,null,null,null,{"$f":"_xlfn.TEXTJOIN(\"^\",,BB101:BB109)","v":"40^40^40^40^40^40^40^40"}]
[null,null,7,{"$nulls":9},3,null,null,{"$f":"_xlfn.TEXTJOIN(\"^\",,K101:K110)","v":"9^3^2"},null,7,null,{"$f":"T$100","v":10},null,22,null,null,50,{"$nulls":4},{"$f":"_xlfn.TEXTJOIN(\"^\",,AA101:AA109)","v":""},null,7,null,{"$f":"AH$100","v":6},null,null,25,35,null,50,null,null,null,{"$f":"_xlfn.TEXTJOIN(\"^\",,AO101:AO109)","v":""},null,7,null,{"$f":"AV$100","v":5},null,null,null,{"$f":"AZ$100","v":23},30,40,null,null,null,{"$f":"_xlfn.TEXTJOIN(\"^\",,BC101:BC109)","v":""}]
[null,null,9,{"$nulls":12},{"$f":"_xlfn.TEXTJOIN(\"^\",,L101:L110)","v":"8^3^1"},null,9,{"$nulls":4},{"$f":"W$100","v":30},40,50,{"$nulls":4},{"$f":"_xlfn.TEXTJOIN(\"^\",,AB101:AB109)","v":""},null,9,null,null,null,{"$f":"AJ$100","v":15},25,null,null,50,null,null,null,{"$f":"_xlfn.TEXTJOIN(\"^\",,AP101:AP109)","v":""},null,9,{"$nulls":5},23,null,40,null,null,null,{"$f":"_xlfn.TEXTJOIN(\"^\",,BD101:BD109)","v":""}]
[{"$nulls":15},{"$f":"_xlfn.TEXTJOIN(\"^\",,M101:M110)","v":"2^2^7^3"},{"$nulls":13},{"$f":"_xlfn.TEXTJOIN(\"^\",,AC101:AC109)","v":""},{"$nulls":13},{"$f":"_xlfn.TEXTJOIN(\"^\",,AQ101:AQ109)","v":""},{"$nulls":13},{"$f":"_xlfn.TEXTJOIN(\"^\",,BE101:BE109)","v":""}]
[{"$nulls":15},{"$f":"_xlfn.TEXTJOIN(\"^\",,N101:N110)","v":""},{"$nulls":12},"最终",{"$f":"_xlfn.TEXTJOIN(\"^\",,AD100:AD110)","v":"5^5^5^5^5^10^10^10^10^10^15^15^15^15^15^22^22^22^22^22^30^30^30^30^30^30^30^40^40^40^40^40^40^40^50^50^50^50^50^50^50^50^55^55^55^55^55"},{"$nulls":12},"最终",{"$f":"_xlfn.TEXTJOIN(\"^\",,AR100:AR110)","v":"3^3^3^3^3^6^6^6^6^6^10^10^10^10^10^15^15^15^15^15^15^15^25^25^25^25^25^25^25^35^35^35^35^35^35^35^40^40^40^40^40^50^50^50^50^50^50^50^50^50"},{"$nulls":12},"最终",{"$f":"_xlfn.TEXTJOIN(\"^\",,BF100:BF110)","v":"3^3^3^5^5^5^8^8^12^12^12^12^17^17^17^17^17^23^23^23^23^23^23^30^30^30^30^30^30^30^40^40^40^40^40^40^40^40"}]
[{"$nulls":14},"最终",{"$f":"_xlfn.TEXTJOIN(\"^\",,P101:P111)","v":"3^2^5^4^8^3^6^2^3^9^8^2^3^8^2^2^3^9^9^3^2^8^3^1^2^2^7^3"}]
[{"$nulls":14},{"$f":"SUM(D101:N110)","v":122},{"$nulls":13},{"$f":"COUNT(S101:AB110)","v":47},{"$nulls":13},{"$f":"COUNT(AG101:AP110)","v":50},{"$nulls":13},{"$f":"COUNT(AU101:BD110)","v":38},{"$f":"AQ113+BE113+AC113+O113","v":257}]
[{"$nulls":4},{"$f":"E115-D115","v":5},{"$f":"F115-E115","v":6},4,7,8,10,10,5,10,{"$nulls":6},{"$f":"T115-S115","v":3},4,5,7,8,5,10,{"$nulls":7},{"$f":"AH115-AG115","v":6},5,15,16,4,15,15,{"$nulls":7},{"$f":"AV115-AU115","v":2},3,4,5,6,7,10]
[1,"沼泽-3","波1·怪物",5,10,16,20,27,35,45,55,60,70,null,null,null,1,"波2·怪物",3,6,10,15,22,30,35,45,{"$nulls":4},3,"波3·怪物",4,10,15,30,46,50,65,80,{"$nulls":4},1,"波4·怪物",3,5,8,12,17,23,30,40]
[null,"5m",8,null,null,70212,null,70214,70214,70212,null,null,70212,null,null,{"$f":"_xlfn.TEXTJOIN(\"^\",,D116:D125)","v":"70214^70211^70211^70211^70214"},null,8,null,null,null,70214,null,70212,{"$nulls":5},{"$f":"_xlfn.TEXTJOIN(\"^\",,S116:S125)","v":"70215^70215^70215^70215"},null,8,{"$nulls":11},{"$f":"_xlfn.TEXTJOIN(\"^\",,AG116:AG125)","v":"70212^70214^70211"},null,8,{"$nulls":5},70212,null,70214,null,null,null,{"$f":"_xlfn.TEXTJOIN(\"^\",,AU116:AU125)","v":"70214^70213^70219^70213^70214"}]
[null,null,6,70214,null,70211,null,70212,null,70211,70214,null,70212,null,null,{"$f":"_xlfn.TEXTJOIN(\"^\",,E116:E125)","v":"70212^70212^70214^70212^70212"},null,6,null,70212,70214,null,70212,null,null,70214,null,null,null,{"$f":"_xlfn.TEXTJOIN(\"^\",,T116:T125)","v":"70212^70212^70212"},null,6,{"$nulls":11},{"$f":"_xlfn.TEXTJOIN(\"^\",,AH116:AH125)","v":"70213^70211"},null,6,null,70212,null,70211,70214,null,70212,70212,null,null,null,{"$f":"_xlfn.TEXTJOIN(\"^\",,AV116:AV125)","v":"70212^70212^70212"}]
[null,null,4,null,70212,null,70215,null,70212,70211,70212,70215,null,null,null,{"$f":"_xlfn.TEXTJOIN(\"^\",,F116:F125)","v":"70212^70211^70213^70211^70213^70211^70212"},null,4,70215,null,null,70212,70212,70211,70215,70219,null,null,null,{"$f":"_xlfn.TEXTJOIN(\"^\",,U116:U125)","v":"70214^70213^70213^70214"},null,4,{"$nulls":11},{"$f":"_xlfn.TEXTJOIN(\"^\",,AI116:AI125)","v":"70215^70212"},null,4,70214,null,70215,70211,70212,70211,70211,70211,null,null,null,{"$f":"_xlfn.TEXTJOIN(\"^\",,AW116:AW125)","v":"70215^70215^70215^70215"}]
[null,null,2,70211,70212,70213,70215,70211,70213,70211,70213,70215,70213,null,null,{"$f":"_xlfn.TEXTJOIN(\"^\",,G116:G125)","v":"70215^70215^70215^70215^70215"},null,2,70215,null,70213,70211,70213,70213,70215,{"$nulls":4},{"$f":"_xlfn.TEXTJOIN(\"^\",,V116:V125)","v":"70214^70212^70211^70211^70212^70214"},null,2,{"$nulls":11},{"$f":"_xlfn.TEXTJOIN(\"^\",,AJ116:AJ125)","v":"70213^70212^70214"},null,2,70213,null,70215,null,70213,70211,70211,70213,null,null,null,{"$f":"_xlfn.TEXTJOIN(\"^\",,AX116:AX125)","v":"70211^70211^70211^70211^70211"}]
[null,null,1,70211,70214,70211,70215,70211,70212,null,70212,70215,70219,null,null,{"$f":"_xlfn.TEXTJOIN(\"^\",,H116:H125)","v":"70214^70212^70211^70211^70211^70212^70214"},null,1,null,70212,null,null,70214,null,70215,70216,null,null,null,{"$f":"_xlfn.TEXTJOIN(\"^\",,W116:W125)","v":"70212^70212^70213^70214^70213^70212^70212"},null,1,70212,70213,70215,70213,70212,70215,70213,70213,null,null,null,{"$f":"_xlfn.TEXTJOIN(\"^\",,AK116:AK125)","v":"70212^70211"},null,1,70219,70212,null,70211,null,70214,70213,{"$nulls":4},{"$f":"_xlfn.TEXTJOIN(\"^\",,AY116:AY125)","v":"70214^70212^70213^70213^70212^70214"}]
[null,null,3,70211,70212,70213,70215,70211,70213,70211,70213,70215,70213,null,null,{"$f":"_xlfn.TEXTJOIN(\"^\",,I116:I125)","v":"70214^70212^70213^70212^70213^70212^70214"},null,3,70215,null,70213,70211,70213,70213,70215,{"$nulls":4},{"$f":"_xlfn.TEXTJOIN(\"^\",,X116:X125)","v":"70212^70211^70213^70213^70211^70212"},null,3,70214,70211,70212,70212,70211,70214,70212,70211,null,null,null,{"$f":"_xlfn.TEXTJOIN(\"^\",,AL116:AL125)","v":"70215^70214"},null,3,70213,null,70215,null,70213,70211,70211,70213,null,null,null,{"$f":"_xlfn.TEXTJOIN(\"^\",,AZ116:AZ125)","v":"70212^70211^70211^70214^70211^70211^70212"}]
[null,null,5,null,70212,null,70215,null,70212,70211,70212,70215,null,null,null,{"$f":"_xlfn.TEXTJOIN(\"^\",,J116:J125)","v":"70212^70211^70211^70211^70211^70211^70211^70212"},null,5,70215,null,null,70212,70212,70211,70215,70212,null,null,null,{"$f":"_xlfn.TEXTJOIN(\"^\",,Y116:Y125)","v":"70215^70215^70215^70215^70215"},null,5,70211,null,null,70214,null,null,70214,70212,null,null,null,{"$f":"_xlfn.TEXTJOIN(\"^\",,AM116:AM125)","v":"70213^70212^70214"},null,5,70214,null,70215,70211,70212,70211,70211,70211,null,null,null,{"$f":"_xlfn.TEXTJOIN(\"^\",,BA116:BA125)","v":"70212^70211^70211^70213^70211^70211^70212"}]
[null,null,7,70214,null,70211,null,70212,null,70211,70214,null,70212,null,null,{"$f":"_xlfn.TEXTJOIN(\"^\",,K116:K125)","v":"70214^70212^70213^70212^70213^70212^70214"},null,7,null,70212,70214,null,70212,null,null,70214,null,null,null,{"$f":"_xlfn.TEXTJOIN(\"^\",,Z116:Z125)","v":"70214^70219^70216^70212^70214"},null,7,{"$nulls":11},{"$f":"_xlfn.TEXTJOIN(\"^\",,AN116:AN125)","v":"70213^70211^70212"},null,7,null,70212,null,70211,70214,null,70212,70212,null,null,null,{"$f":"_xlfn.TEXTJOIN(\"^\",,BB116:BB125)","v":"70214^70212^70211^70213^70213^70211^70212^70214"}]
[null,null,9,null,null,70212,null,70214,70214,70212,null,null,70212,null,null,{"$f":"_xlfn.TEXTJOIN(\"^\",,L116:L125)","v":"70215^70215^70215^70215^70215"},null,9,null,null,null,70214,null,70212,{"$nulls":5},{"$f":"_xlfn.TEXTJOIN(\"^\",,AA116:AA125)","v":""},null,9,{"$nulls":11},{"$f":"_xlfn.TEXTJOIN(\"^\",,AO116:AO125)","v":""},null,9,{"$nulls":5},70212,null,70214,null,null,null,{"$f":"_xlfn.TEXTJOIN(\"^\",,BC116:BC125)","v":""}]
[{"$nulls":15},{"$f":"_xlfn.TEXTJOIN(\"^\",,M116:M125)","v":"70212^70212^70213^70219^70213^70212^70212"},{"$nulls":13},{"$f":"_xlfn.TEXTJOIN(\"^\",,AB116:AB125)","v":""},{"$nulls":13},{"$f":"_xlfn.TEXTJOIN(\"^\",,AP116:AP125)","v":""},{"$nulls":13},{"$f":"_xlfn.TEXTJOIN(\"^\",,BD116:BD125)","v":""}]
[{"$nulls":15},{"$f":"_xlfn.TEXTJOIN(\"^\",,N116:N125)","v":""},{"$nulls":13},{"$f":"_xlfn.TEXTJOIN(\"^\",,AC116:AC125)","v":""},{"$nulls":13},{"$f":"_xlfn.TEXTJOIN(\"^\",,AQ116:AQ125)","v":""},{"$nulls":13},{"$f":"_xlfn.TEXTJOIN(\"^\",,BE116:BE125)","v":""}]
[{"$nulls":14},"最终",{"$f":"_xlfn.TEXTJOIN(\"^\",,P116:P126)","v":"70214^70211^70211^70211^70214^70212^70212^70214^70212^70212^70212^70211^70213^70211^70213^70211^70212^70215^70215^70215^70215^70215^70214^70212^70211^70211^70211^70212^70214^70214^70212^70213^70212^70213^70212^70214^70212^70211^70211^70211^70211^70211^70211^70212^70214^70212^70213^70212^70213^70212^70214^70215^70215^70215^70215^70215^70212^70212^70213^70219^70213^70212^70212"},{"$nulls":12},"最终",{"$f":"_xlfn.TEXTJOIN(\"^\",,AD116:AD126)","v":"70215^70215^70215^70215^70212^70212^70212^70214^70213^70213^70214^70214^70212^70211^70211^70212^70214^70212^70212^70213^70214^70213^70212^70212^70212^70211^70213^70213^70211^70212^70215^70215^70215^70215^70215^70214^70219^70216^70212^70214"},{"$nulls":12},"最终",{"$f":"_xlfn.TEXTJOIN(\"|\",,AR116:AR126)","v":"70212^70214^70211|70213^70211|70215^70212|70213^70212^70214|70212^70211|70215^70214|70213^70212^70214|70213^70211^70212"},{"$nulls":12},"最终",{"$f":"_xlfn.TEXTJOIN(\"^\",,BF116:BF126)","v":"70214^70213^70219^70213^70214^70212^70212^70212^70215^70215^70215^70215^70211^70211^70211^70211^70211^70214^70212^70213^70213^70212^70214^70212^70211^70211^70214^70211^70211^70212^70212^70211^70211^70213^70211^70211^70212^70214^70212^70211^70213^70213^70211^70212^70214"}]
[null,null,8,null,null,"孢子人",null,"木精灵","木精灵","孢子人",null,null,"孢子人",{"$nulls":4},8,null,null,null,"木精灵",null,"孢子人",{"$nulls":7},8,{"$nulls":13},8,{"$nulls":5},"孢子人",null,"木精灵"]
[null,null,6,"木精灵",null,"树精",null,"孢子人",null,"树精","木精灵",null,"孢子人",{"$nulls":4},6,null,"孢子人","木精灵",null,"孢子人",null,null,"木精灵",{"$nulls":5},6,{"$nulls":13},6,null,"孢子人",null,"树精","木精灵",null,"孢子人","孢子人"]
[null,null,4,null,"孢子人",null,"森林蜘蛛",null,"孢子人","树精","孢子人","森林蜘蛛",{"$nulls":5},4,"森林蜘蛛",null,null,"孢子人","孢子人","树精","森林蜘蛛","黑暗法师",{"$nulls":5},4,{"$nulls":13},4,"木精灵",null,"森林蜘蛛","树精","孢子人","树精","树精","树精"]
[null,null,2,"树精","孢子人","哥布林","森林蜘蛛","树精","哥布林","树精","哥布林","森林蜘蛛","哥布林",{"$nulls":4},2,"森林蜘蛛",null,"哥布林","树精","哥布林","哥布林","森林蜘蛛",{"$nulls":6},2,{"$nulls":13},2,"哥布林",null,"森林蜘蛛",null,"哥布林","树精","树精","哥布林"]
[null,null,1,"树精","木精灵","树精","森林蜘蛛","树精","孢子人",null,"孢子人","森林蜘蛛","黑暗法师",{"$nulls":4},1,null,"孢子人",null,null,"木精灵",null,"森林蜘蛛","森林巨兽",{"$nulls":5},1,"孢子人","哥布林","森林蜘蛛","哥布林","孢子人","森林蜘蛛","哥布林","哥布林",{"$nulls":5},1,"黑暗法师","孢子人",null,"树精",null,"木精灵","哥布林"]
[null,null,3,"树精","孢子人","哥布林","森林蜘蛛","树精","哥布林","树精","哥布林","森林蜘蛛","哥布林",{"$nulls":4},3,"森林蜘蛛",null,"哥布林","树精","哥布林","哥布林","森林蜘蛛",{"$nulls":6},3,"木精灵","树精","孢子人","孢子人","树精","木精灵","孢子人","树精",{"$nulls":5},3,"哥布林",null,"森林蜘蛛",null,"哥布林","树精","树精","哥布林"]
[null,null,5,null,"孢子人",null,"森林蜘蛛",null,"孢子人","树精","孢子人","森林蜘蛛",{"$nulls":5},5,"森林蜘蛛",null,null,"孢子人","孢子人","树精","森林蜘蛛","孢子人",{"$nulls":5},5,"树精",null,null,"木精灵",null,null,"木精灵","孢子人",{"$nulls":5},5,"木精灵",null,"森林蜘蛛","树精","孢子人","树精","树精","树精"]
[null,null,7,"木精灵",null,"树精",null,"孢子人",null,"树精","木精灵",null,"孢子人",{"$nulls":4},7,null,"孢子人","木精灵",null,"孢子人",null,null,"木精灵",{"$nulls":5},7,{"$nulls":13},7,null,"孢子人",null,"树精","木精灵",null,"孢子人","孢子人"]
[null,null,9,null,null,"孢子人",null,"木精灵","木精灵","孢子人",null,null,"孢子人",{"$nulls":4},9,null,null,null,"木精灵",null,"孢子人",{"$nulls":7},9,{"$nulls":13},9,{"$nulls":5},"孢子人",null,"木精灵"]
[]
[null,null,"位置",5,10,16,20,27,35,45,55,60,70,{"$nulls":4},"位置",3,6,10,15,22,30,35,45,{"$nulls":5},"位置",4,10,15,30,46,50,65,80,null,null,null,{"$f":"_xlfn.TEXTJOIN(\"^\",,AG139:AG153)","v":"0^0^0"},null,"位置",3,5,8,12,17,23,30,40,null,null,null,{"$f":"_xlfn.TEXTJOIN(\"^\",,AU139:AU153)","v":"4^2^1^3^5"}]
[null,null,8,null,null,{"$f":"$C139","v":8},null,{"$f":"$C139","v":8},{"$f":"$C139","v":8},{"$f":"$C139","v":8},null,null,{"$f":"$C139","v":8},null,null,{"$f":"_xlfn.TEXTJOIN(\"^\",,D139:D153)","v":"6^2^1^3^7"},null,8,null,null,null,{"$f":"$C139","v":8},null,{"$f":"$C139","v":8},{"$nulls":7},8,{"$nulls":11},{"$f":"_xlfn.TEXTJOIN(\"^\",,AH139:AH153)","v":"0^0"},null,8,{"$nulls":5},{"$f":"$C139","v":8},null,{"$f":"$C139","v":8},null,null,null,{"$f":"_xlfn.TEXTJOIN(\"^\",,AV139:AV153)","v":"6^1^7"}]
[null,null,6,{"$f":"$C140","v":6},null,6,null,6,null,6,6,null,6,null,null,{"$f":"_xlfn.TEXTJOIN(\"^\",,E139:E153)","v":"4^2^1^3^5"},null,6,null,{"$f":"$C140","v":6},{"$f":"$C140","v":6},null,{"$f":"$C140","v":6},null,null,{"$f":"$C140","v":6},null,null,null,{"$f":"_xlfn.TEXTJOIN(\"^\",,S139:S153)","v":"101^102^104^105"},null,6,{"$nulls":11},{"$f":"_xlfn.TEXTJOIN(\"^\",,AI139:AI153)","v":"100^0"},null,6,null,{"$f":"$C140","v":6},null,{"$f":"$C140","v":6},6,null,{"$f":"$C140","v":6},6,null,null,null,{"$f":"_xlfn.TEXTJOIN(\"^\",,AW139:AW153)","v":"101^102^104^105"}]
[null,null,4,null,{"$f":"$C141","v":4},null,null,null,{"$f":"$C141","v":4},4,4,{"$nulls":4},{"$f":"_xlfn.TEXTJOIN(\"^\",,F139:F153)","v":"8^6^2^1^3^7^9"},null,4,null,null,null,{"$f":"$C141","v":4},4,4,null,4,null,null,null,{"$f":"_xlfn.TEXTJOIN(\"^\",,T139:T153)","v":"6^1^7"},null,4,{"$nulls":11},{"$f":"_xlfn.TEXTJOIN(\"^\",,AJ139:AJ153)","v":"0^0^0"},null,4,{"$f":"$C141","v":4},null,null,4,4,4,4,4,null,null,null,{"$f":"_xlfn.TEXTJOIN(\"^\",,AX139:AX153)","v":"6^4^1^5^7"}]
[null,null,2,{"$f":"$C142","v":2},2,{"$f":"$C142","v":2},null,{"$f":"$C142","v":2},2,2,2,null,{"$f":"$C142","v":2},null,null,{"$f":"_xlfn.TEXTJOIN(\"^\",,G139:G153)","v":"101^102^103^104^105"},null,2,null,null,{"$f":"$C142","v":2},2,2,2,{"$nulls":5},{"$f":"_xlfn.TEXTJOIN(\"^\",,U139:U153)","v":"6^2^3^7"},null,2,{"$nulls":11},{"$f":"_xlfn.TEXTJOIN(\"^\",,AK139:AK153)","v":"0^0"},null,2,2,null,null,null,{"$f":"$C142","v":2},2,2,2,null,null,null,{"$f":"_xlfn.TEXTJOIN(\"^\",,AY139:AY153)","v":"6^4^2^3^5^7"}]
[null,null,1,1,1,{"$f":"$C143","v":1},null,1,1,null,1,null,1,null,null,{"$f":"_xlfn.TEXTJOIN(\"^\",,H139:H153)","v":"8^6^2^1^3^7^9"},null,1,null,{"$f":"$C143","v":1},null,null,1,null,null,{"$f":"$C143","v":1},null,null,null,{"$f":"_xlfn.TEXTJOIN(\"^\",,V139:V153)","v":"8^4^2^3^5^9"},null,1,0,0,100,0,0,100,0,0,null,null,null,{"$f":"_xlfn.TEXTJOIN(\"^\",,AL139:AL153)","v":"100^0"},null,1,1,{"$f":"$C143","v":1},null,{"$f":"$C143","v":1},null,1,1,{"$nulls":4},{"$f":"_xlfn.TEXTJOIN(\"^\",,AZ139:AZ153)","v":"8^4^2^1^3^5^9"}]
[null,null,3,3,3,{"$f":"$C144","v":3},null,3,3,3,3,null,3,null,null,{"$f":"_xlfn.TEXTJOIN(\"^\",,I139:I153)","v":"8^4^2^1^3^5^9"},null,3,null,null,{"$f":"$C144","v":3},{"$f":"$C144","v":3},3,3,{"$nulls":5},{"$f":"_xlfn.TEXTJOIN(\"^\",,W139:W153)","v":"6^4^2^1^3^5^7"},null,3,0,0,0,0,0,0,0,0,null,null,null,{"$f":"_xlfn.TEXTJOIN(\"^\",,AM139:AM153)","v":"0^0^0"},null,3,{"$f":"$C144","v":3},null,null,null,{"$f":"$C144","v":3},3,3,3,null,null,null,{"$f":"_xlfn.TEXTJOIN(\"^\",,BA139:BA153)","v":"6^4^2^1^3^5^7"}]
[null,null,5,null,5,null,null,null,5,5,5,{"$nulls":4},{"$f":"_xlfn.TEXTJOIN(\"^\",,J139:J153)","v":"8^6^4^2^3^5^7^9"},null,5,null,null,null,5,5,5,null,{"$f":"$C145","v":5},null,null,null,{"$f":"_xlfn.TEXTJOIN(\"^\",,X139:X153)","v":"8^4^2^3^5^9"},null,5,0,null,null,0,null,null,0,0,null,null,null,{"$f":"_xlfn.TEXTJOIN(\"^\",,AN139:AN153)","v":"0^0^0"},null,5,5,null,null,{"$f":"$C145","v":5},5,5,5,5,null,null,null,{"$f":"_xlfn.TEXTJOIN(\"^\",,BB139:BB153)","v":"8^6^4^2^3^5^7^9"}]
[null,null,7,{"$f":"$C146","v":7},null,{"$f":"$C146","v":7},null,{"$f":"$C146","v":7},null,7,7,null,{"$f":"$C146","v":7},null,null,{"$f":"_xlfn.TEXTJOIN(\"^\",,K139:K153)","v":"6^4^2^1^3^5^7"},null,7,null,{"$f":"$C146","v":7},{"$f":"$C146","v":7},null,7,null,null,7,null,null,null,{"$f":"_xlfn.TEXTJOIN(\"^\",,Y139:Y153)","v":"101^102^103^104^105"},null,7,{"$nulls":11},{"$f":"_xlfn.TEXTJOIN(\"^\",,AO139:AO153)","v":""},null,7,null,{"$f":"$C146","v":7},null,7,7,null,7,7,null,null,null,{"$f":"_xlfn.TEXTJOIN(\"^\",,BC139:BC153)","v":""}]
[null,null,9,null,null,9,null,9,{"$f":"$C147","v":9},9,null,null,9,null,null,{"$f":"_xlfn.TEXTJOIN(\"^\",,L139:L153)","v":"101^102^103^104^105"},null,9,null,null,null,{"$f":"$C147","v":9},null,{"$f":"$C147","v":9},{"$nulls":7},9,{"$nulls":11},{"$f":"_xlfn.TEXTJOIN(\"^\",,AP139:AP153)","v":""},null,9,{"$nulls":5},{"$f":"$C147","v":9},null,9,null,null,null,{"$f":"_xlfn.TEXTJOIN(\"^\",,BD139:BD153)","v":""}]
[null,null,"空降",{"$nulls":12},{"$f":"_xlfn.TEXTJOIN(\"^\",,M139:M153)","v":"8^6^2^1^3^7^9"},null,"空降",{"$nulls":13},"空降",{"$nulls":11},{"$f":"_xlfn.TEXTJOIN(\"^\",,AQ139:AQ147)","v":""},null,"空降",{"$nulls":11},{"$f":"_xlfn.TEXTJOIN(\"^\",,BE139:BE147)","v":""}]
[null,null,101,null,null,null,{"$f":"$C149","v":101},{"$nulls":4},{"$f":"$C149","v":101},null,null,null,{"$f":"_xlfn.TEXTJOIN(\"^\",,N139:N153)","v":""},null,101,{"$f":"$C149","v":101},{"$nulls":5},{"$f":"$C149","v":101},{"$nulls":4},{"$f":"_xlfn.TEXTJOIN(\"^\",,Z139:Z153)","v":"6^4^1^5^7"},null,101,{"$nulls":13},101,null,null,{"$f":"$C149","v":101}]
[null,null,102,null,null,null,102,{"$nulls":4},{"$f":"$C150","v":102},{"$nulls":5},102,102,{"$nulls":5},102,{"$nulls":4},{"$f":"_xlfn.TEXTJOIN(\"^\",,AA139:AA153)","v":""},null,102,{"$nulls":13},102,null,null,102]
[null,null,103,null,null,null,103,{"$nulls":4},{"$f":"$C151","v":103},{"$nulls":5},103,{"$nulls":6},103,{"$nulls":4},{"$f":"_xlfn.TEXTJOIN(\"^\",,AB139:AB153)","v":""},null,103,{"$nulls":13},103]
[null,null,104,null,null,null,{"$f":"$C152","v":104},{"$nulls":4},104,{"$nulls":5},104,{"$f":"$C152","v":104},{"$nulls":5},104,{"$nulls":6},104,{"$nulls":13},104,null,null,{"$f":"$C152","v":104}]
[null,null,105,null,null,null,105,{"$nulls":4},105,{"$nulls":5},105,105,{"$nulls":5},105,{"$nulls":6},105,{"$nulls":13},105,null,null,105]
[{"$nulls":14},"最终",{"$f":"_xlfn.TEXTJOIN(\"^\",,P139:P153)","v":"6^2^1^3^7^4^2^1^3^5^8^6^2^1^3^7^9^101^102^103^104^105^8^6^2^1^3^7^9^8^4^2^1^3^5^9^8^6^4^2^3^5^7^9^6^4^2^1^3^5^7^101^102^103^104^105^8^6^2^1^3^7^9"},{"$nulls":12},"最终",{"$f":"_xlfn.TEXTJOIN(\"^\",,AD139:AD153)","v":"101^102^104^105^6^1^7^6^2^3^7^8^4^2^3^5^9^6^4^2^1^3^5^7^8^4^2^3^5^9^101^102^103^104^105^6^4^1^5^7"},{"$nulls":12},"最终",{"$f":"_xlfn.TEXTJOIN(\"|\",,AR138:AR153)","v":"0^0^0|0^0|100^0|0^0^0|0^0|100^0|0^0^0|0^0^0"},{"$nulls":12},"最终",{"$f":"_xlfn.TEXTJOIN(\"^\",,BF138:BF153)","v":"4^2^1^3^5^6^1^7^101^102^104^105^6^4^1^5^7^6^4^2^3^5^7^8^4^2^1^3^5^9^6^4^2^1^3^5^7^8^6^4^2^3^5^7^9"}]
[]
[null,null,"时间",5,10,16,20,27,35,45,55,60,70,{"$nulls":4},"时间",3,6,10,15,22,30,35,45,null,null,null,{"$f":"_xlfn.TEXTJOIN(\"^\",,S157:S165)","v":"3^3^3^3"},null,"时间",4,10,15,30,46,50,65,80,null,null,null,{"$f":"_xlfn.TEXTJOIN(\"^\",,AG157:AG165)","v":"6^4^16"},null,"时间",3,5,8,12,17,23,30,40,null,null,null,{"$f":"_xlfn.TEXTJOIN(\"^\",,AU157:AU165)","v":"3^3^3^3^3"}]
[null,null,8,null,null,{"$f":"F$156","v":16},null,{"$f":"H$156","v":27},35,45,null,null,70,null,null,{"$f":"_xlfn.TEXTJOIN(\"^\",,D157:D166)","v":"5^5^5^5^5"},null,8,null,null,null,{"$f":"V$156","v":15},null,{"$f":"X$156","v":30},{"$nulls":5},{"$f":"_xlfn.TEXTJOIN(\"^\",,T157:T165)","v":"6^6^6"},null,8,{"$nulls":11},{"$f":"_xlfn.TEXTJOIN(\"^\",,AH157:AH165)","v":"3^8"},null,8,{"$nulls":5},{"$f":"AZ$156","v":23},null,{"$f":"BB$156","v":40},null,null,null,{"$f":"_xlfn.TEXTJOIN(\"^\",,AV157:AV165)","v":"5^5^5"}]
[null,null,6,{"$f":"D$156","v":5},null,16,null,27,null,45,55,null,70,null,null,{"$f":"_xlfn.TEXTJOIN(\"^\",,E157:E166)","v":"10^10^10^10^10"},null,6,null,{"$f":"T$156","v":6},10,null,{"$f":"W$156","v":22},null,null,{"$f":"Z$156","v":45},null,null,null,{"$f":"_xlfn.TEXTJOIN(\"^\",,U157:U165)","v":"10^10^10^10"},null,6,{"$nulls":11},{"$f":"_xlfn.TEXTJOIN(\"^\",,AI157:AI165)","v":"8^4"},null,6,null,{"$f":"AV$156","v":5},null,{"$f":"AX$156","v":12},17,null,{"$f":"BA$156","v":30},40,null,null,null,{"$f":"_xlfn.TEXTJOIN(\"^\",,AW157:AW165)","v":"8^8^8^8"}]
[null,null,4,null,{"$f":"E$156","v":10},null,20,null,35,45,55,60,null,null,null,{"$f":"_xlfn.TEXTJOIN(\"^\",,F157:F166)","v":"16^16^16^16^16^16^16"},null,4,{"$f":"S$156","v":3},null,null,{"$f":"V$156","v":15},22,30,35,45,null,null,null,{"$f":"_xlfn.TEXTJOIN(\"^\",,V157:V165)","v":"15^15^15^15^15^15"},null,4,{"$nulls":11},{"$f":"_xlfn.TEXTJOIN(\"^\",,AJ157:AJ165)","v":"3^6^2"},null,4,{"$f":"AU$156","v":3},null,{"$f":"AW$156","v":8},12,17,23,30,40,null,null,null,{"$f":"_xlfn.TEXTJOIN(\"^\",,AX157:AX165)","v":"12^12^12^12^12"}]
[null,null,2,{"$f":"D$156","v":5},10,{"$f":"F$156","v":16},20,27,35,45,55,60,70,null,null,{"$f":"_xlfn.TEXTJOIN(\"^\",,G157:G166)","v":"20^20^20^20^20"},null,2,3,null,{"$f":"U$156","v":10},15,22,30,35,{"$nulls":4},{"$f":"_xlfn.TEXTJOIN(\"^\",,W157:W165)","v":"22^22^22^22^22^22^22"},null,2,{"$nulls":11},{"$f":"_xlfn.TEXTJOIN(\"^\",,AK157:AK165)","v":"3^9"},null,2,3,null,8,null,17,23,30,40,null,null,null,{"$f":"_xlfn.TEXTJOIN(\"^\",,AY157:AY165)","v":"17^17^17^17^17^17"}]
[null,null,1,5,10,{"$f":"F$156","v":16},20,27,35,null,55,60,70,null,null,{"$f":"_xlfn.TEXTJOIN(\"^\",,H157:H166)","v":"27^27^27^27^27^27^27"},null,1,null,{"$f":"T$156","v":6},null,null,22,null,35,45,null,null,null,{"$f":"_xlfn.TEXTJOIN(\"^\",,X157:X165)","v":"30^30^30^30^30^30"},null,1,6,3,8,3,3,8,3,2,null,null,null,{"$f":"_xlfn.TEXTJOIN(\"^\",,AL157:AL165)","v":"8^2"},null,1,3,{"$f":"AV$156","v":5},null,{"$f":"AX$156","v":12},null,23,30,{"$nulls":4},{"$f":"_xlfn.TEXTJOIN(\"^\",,AZ157:AZ165)","v":"23^23^23^23^23^23^23"}]
[null,null,3,5,10,{"$f":"F$156","v":16},{"$f":"G$156","v":20},27,35,45,55,60,70,null,null,{"$f":"_xlfn.TEXTJOIN(\"^\",,I157:I166)","v":"35^35^35^35^35^35^35"},null,3,{"$f":"S$156","v":3},null,{"$f":"U$156","v":10},15,22,30,35,{"$nulls":4},{"$f":"_xlfn.TEXTJOIN(\"^\",,Y157:Y165)","v":"35^35^35^35^35"},null,3,4,8,4,6,9,2,6,9,null,null,null,{"$f":"_xlfn.TEXTJOIN(\"^\",,AM157:AM165)","v":"3^6^2"},null,3,{"$f":"AU$156","v":3},null,{"$f":"AW$156","v":8},null,{"$f":"AY$156","v":17},23,30,40,null,null,null,{"$f":"_xlfn.TEXTJOIN(\"^\",,BA157:BA165)","v":"30^30^30^30^30^30^30"}]
[null,null,5,null,10,null,20,null,35,45,55,60,null,null,null,{"$f":"_xlfn.TEXTJOIN(\"^\",,J157:J166)","v":"45^45^45^45^45^45^45^45"},null,5,3,null,null,15,22,30,35,45,null,null,null,{"$f":"_xlfn.TEXTJOIN(\"^\",,Z157:Z165)","v":"45^45^45^45^45"},null,5,16,null,null,2,null,null,2,2,null,null,null,{"$f":"_xlfn.TEXTJOIN(\"^\",,AN157:AN165)","v":"2^9^2"},null,5,3,null,8,12,17,23,30,40,null,null,null,{"$f":"_xlfn.TEXTJOIN(\"^\",,BB157:BB165)","v":"40^40^40^40^40^40^40^40"}]
[null,null,7,{"$f":"D$156","v":5},null,{"$f":"F$156","v":16},null,{"$f":"H$156","v":27},null,45,55,null,70,null,null,{"$f":"_xlfn.TEXTJOIN(\"^\",,K157:K166)","v":"55^55^55^55^55^55^55"},null,7,null,{"$f":"T$156","v":6},10,null,22,null,null,45,null,null,null,{"$f":"_xlfn.TEXTJOIN(\"^\",,AA157:AA165)","v":""},null,7,{"$nulls":11},{"$f":"_xlfn.TEXTJOIN(\"^\",,AO157:AO165)","v":""},null,7,null,{"$f":"AV$156","v":5},null,12,17,null,30,40,null,null,null,{"$f":"_xlfn.TEXTJOIN(\"^\",,BC157:BC165)","v":""}]
[null,null,9,null,null,16,null,27,35,45,null,null,70,null,null,{"$f":"_xlfn.TEXTJOIN(\"^\",,L157:L166)","v":"60^60^60^60^60"},null,9,null,null,null,{"$f":"V$156","v":15},null,{"$f":"X$156","v":30},{"$nulls":5},{"$f":"_xlfn.TEXTJOIN(\"^\",,AB157:AB165)","v":""},null,9,{"$nulls":11},{"$f":"_xlfn.TEXTJOIN(\"^\",,AP157:AP165)","v":""},null,9,{"$nulls":5},{"$f":"AZ$156","v":23},null,40,null,null,null,{"$f":"_xlfn.TEXTJOIN(\"^\",,BD157:BD165)","v":""}]
[{"$nulls":15},{"$f":"_xlfn.TEXTJOIN(\"^\",,M157:M166)","v":"70^70^70^70^70^70^70"},{"$nulls":13},{"$f":"_xlfn.TEXTJOIN(\"^\",,AC157:AC165)","v":""},{"$nulls":13},{"$f":"_xlfn.TEXTJOIN(\"^\",,AQ157:AQ165)","v":""},{"$nulls":13},{"$f":"_xlfn.TEXTJOIN(\"^\",,BE157:BE165)","v":""}]
[{"$nulls":15},{"$f":"_xlfn.TEXTJOIN(\"^\",,N157:N166)","v":""},{"$nulls":12},"最终",{"$f":"_xlfn.TEXTJOIN(\"^\",,AD156:AD166)","v":"3^3^3^3^6^6^6^10^10^10^10^15^15^15^15^15^15^22^22^22^22^22^22^22^30^30^30^30^30^30^35^35^35^35^35^45^45^45^45^45"},{"$nulls":12},"最终",{"$f":"_xlfn.TEXTJOIN(\"|\",,AR156:AR166)","v":"6^4^16|3^8|8^4|3^6^2|3^9|8^2|3^6^2|2^9^2"},{"$nulls":12},"最终",{"$f":"_xlfn.TEXTJOIN(\"^\",,BF156:BF166)","v":"3^3^3^3^3^5^5^5^8^8^8^8^12^12^12^12^12^17^17^17^17^17^17^23^23^23^23^23^23^23^30^30^30^30^30^30^30^40^40^40^40^40^40^40^40"}]
[{"$nulls":14},"最终",{"$f":"_xlfn.TEXTJOIN(\"^\",,P157:P167)","v":"5^5^5^5^5^10^10^10^10^10^16^16^16^16^16^16^16^20^20^20^20^20^27^27^27^27^27^27^27^35^35^35^35^35^35^35^45^45^45^45^45^45^45^45^55^55^55^55^55^55^55^60^60^60^60^60^70^70^70^70^70^70^70"}]
[{"$nulls":14},{"$f":"COUNT(D157:N166)","v":63},{"$nulls":13},{"$f":"COUNT(S157:AB166)","v":40},{"$nulls":13},{"$f":"SUM(AG157:AP166)","v":106},{"$nulls":13},{"$f":"COUNT(AU157:BD166)","v":45},{"$f":"AQ169+BE169+AC169+O169","v":254}]

{"sheet":"8","index":8,"n_rows":169,"n_cols":58,"rows_kept":169,"cut":false,"hidden":false,"merged":[]}
[]
[{"$nulls":4},{"$f":"E3-D3","v":10},{"$f":"F3-E3","v":15},5,15,16,17,7,15,15,{"$nulls":6},{"$f":"T3-S3","v":3},4,5,7,8,10,5,{"$nulls":7},{"$f":"AH3-AG3","v":2},4,5,10,15,17,18,{"$nulls":7},{"$f":"AV3-AU3","v":2},2,2,2,5,10,10]
[3,"绿洲-1","波1·怪物",5,15,30,35,50,66,83,90,105,120,null,null,null,1,"波2·怪物",3,6,10,15,22,30,40,45,{"$nulls":4},3,"波3·怪物",4,6,10,15,25,40,57,75,{"$nulls":4},1,"波4·怪物",2,4,6,8,10,15,25,35]
[null,"5m",8,{"$nulls":12},{"$f":"_xlfn.TEXTJOIN(\"^\",,D4:D13)","v":"70222^70224"},null,8,{"$nulls":5},70224,{"$nulls":5},{"$f":"_xlfn.TEXTJOIN(\"^\",,S4:S13)","v":"70225^70225^70225^70225"},null,8,{"$nulls":11},{"$f":"_xlfn.TEXTJOIN(\"^\",,AG4:AG13)","v":"70223^70221"},null,8,{"$nulls":7},70222,null,null,null,{"$f":"_xlfn.TEXTJOIN(\"^\",,AU4:AU13)","v":"70221^70221^70221^70221"}]
[null,null,6,{"$nulls":12},{"$f":"_xlfn.TEXTJOIN(\"^\",,E4:E13)","v":"70221^70222"},null,6,null,null,70223,null,70222,70222,70222,{"$nulls":4},{"$f":"_xlfn.TEXTJOIN(\"^\",,T4:T13)","v":"70222^70222^70222"},null,6,{"$nulls":11},{"$f":"_xlfn.TEXTJOIN(\"^\",,AH4:AH13)","v":"70222^70224^70221"},null,6,{"$nulls":5},70224,70222,70222,null,null,null,{"$f":"_xlfn.TEXTJOIN(\"^\",,AV4:AV13)","v":"70222^70222^70222"}]
[null,null,4,{"$nulls":12},{"$f":"_xlfn.TEXTJOIN(\"^\",,F4:F13)","v":"70223^70221^70222"},null,4,70225,70222,null,70224,70221,70221,70221,70225,null,null,null,{"$f":"_xlfn.TEXTJOIN(\"^\",,U4:U13)","v":"70223^70226^70223"},null,4,{"$nulls":11},{"$f":"_xlfn.TEXTJOIN(\"^\",,AI4:AI13)","v":"70221^70222"},null,4,70221,70222,null,70225,70223,70221,70222,70221,null,null,null,{"$f":"_xlfn.TEXTJOIN(\"^\",,AW4:AW13)","v":"70224^70224"}]
[null,null,2,{"$nulls":12},{"$f":"_xlfn.TEXTJOIN(\"^\",,G4:G13)","v":"70225^70221"},null,2,70225,null,null,70221,70221,70223,70222,70225,null,null,null,{"$f":"_xlfn.TEXTJOIN(\"^\",,V4:V13)","v":"70224^70221^70221^70224"},null,2,{"$nulls":11},{"$f":"_xlfn.TEXTJOIN(\"^\",,AJ4:AJ13)","v":"70225^70223"},null,2,70221,null,70224,70225,null,70221,null,70223,null,null,null,{"$f":"_xlfn.TEXTJOIN(\"^\",,AX4:AX13)","v":"70225^70225^70225^70225"}]
[null,null,1,70222,70221,70223,70225,70222,70224,70221,70225,70224,70223,null,null,{"$f":"_xlfn.TEXTJOIN(\"^\",,H4:H13)","v":"70222^70224^70221"},null,1,null,70222,70226,null,70222,null,70224,70225,null,null,null,{"$f":"_xlfn.TEXTJOIN(\"^\",,W4:W13)","v":"70222^70221^70221^70222^70221^70221^70222"},null,1,70223,70222,70221,70225,70222,70224,70221,70223,null,null,null,{"$f":"_xlfn.TEXTJOIN(\"^\",,AK4:AK13)","v":"70222^70221^70224"},null,1,null,70222,null,null,70223,null,70222,{"$nulls":4},{"$f":"_xlfn.TEXTJOIN(\"^\",,AY4:AY13)","v":"70223^70223^70223"}]
[null,null,3,70224,70222,70221,70221,70224,70223,70222,70222,70221,70221,null,null,{"$f":"_xlfn.TEXTJOIN(\"^\",,I4:I13)","v":"70224^70223^70221^70222"},null,3,70225,null,null,70221,70221,70223,70222,70225,null,null,null,{"$f":"_xlfn.TEXTJOIN(\"^\",,X4:X13)","v":"70224^70222^70221^70223^70223^70221^70222^70224"},null,3,70221,70224,70222,70223,70221,70223,70222,70221,null,null,null,{"$f":"_xlfn.TEXTJOIN(\"^\",,AL4:AL13)","v":"70224^70223^70222"},null,3,70221,null,70224,70225,null,70221,null,70223,null,null,null,{"$f":"_xlfn.TEXTJOIN(\"^\",,AZ4:AZ13)","v":"70224^70221^70221^70221^70221^70224"}]
[null,null,5,null,null,70222,null,70221,70221,null,null,70222,70222,null,null,{"$f":"_xlfn.TEXTJOIN(\"^\",,J4:J13)","v":"70221^70222"},null,5,70225,70222,null,70224,70221,70221,70221,70225,null,null,null,{"$f":"_xlfn.TEXTJOIN(\"^\",,Y4:Y13)","v":"70222^70221^70222^70224^70222^70221^70222"},null,5,null,70221,null,null,70224,70222,70226,70222,null,null,null,{"$f":"_xlfn.TEXTJOIN(\"^\",,AM4:AM13)","v":"70221^70222^70226"},null,5,70221,70222,null,70225,70223,70221,70222,70221,null,null,null,{"$f":"_xlfn.TEXTJOIN(\"^\",,BA4:BA13)","v":"70222^70222^70222^70222^70222"}]
[null,null,7,{"$nulls":5},70222,null,null,null,70224,null,null,{"$f":"_xlfn.TEXTJOIN(\"^\",,K4:K13)","v":"70225^70222"},null,7,null,null,70223,null,70222,70222,70222,{"$nulls":4},{"$f":"_xlfn.TEXTJOIN(\"^\",,Z4:Z13)","v":"70225^70225^70225^70225^70225"},null,7,{"$nulls":7},70224,null,null,null,{"$f":"_xlfn.TEXTJOIN(\"^\",,AN4:AN13)","v":"70223^70221^70222^70224"},null,7,{"$nulls":5},70224,70222,70222,null,null,null,{"$f":"_xlfn.TEXTJOIN(\"^\",,BB4:BB13)","v":"70222^70222^70221^70223^70223^70221^70222^70222"}]
[null,null,9,{"$nulls":12},{"$f":"_xlfn.TEXTJOIN(\"^\",,L4:L13)","v":"70224^70221^70222"},null,9,{"$nulls":5},70224,{"$nulls":5},{"$f":"_xlfn.TEXTJOIN(\"^\",,AA4:AA13)","v":""},null,9,{"$nulls":11},{"$f":"_xlfn.TEXTJOIN(\"^\",,AO4:AO13)","v":""},null,9,{"$nulls":7},70222,null,null,null,{"$f":"_xlfn.TEXTJOIN(\"^\",,BC4:BC13)","v":""}]
[{"$nulls":15},{"$f":"_xlfn.TEXTJOIN(\"^\",,M4:M13)","v":"70223^70221^70222^70224"},{"$nulls":13},{"$f":"_xlfn.TEXTJOIN(\"^\",,AB4:AB13)","v":""},{"$nulls":13},{"$f":"_xlfn.TEXTJOIN(\"^\",,AP4:AP13)","v":""},{"$nulls":13},{"$f":"_xlfn.TEXTJOIN(\"^\",,BD4:BD13)","v":""}]
[{"$nulls":15},{"$f":"_xlfn.TEXTJOIN(\"^\",,N4:N13)","v":""},{"$nulls":13},{"$f":"_xlfn.TEXTJOIN(\"^\",,AC4:AC13)","v":""},{"$nulls":13},{"$f":"_xlfn.TEXTJOIN(\"^\",,AQ4:AQ13)","v":""},{"$nulls":13},{"$f":"_xlfn.TEXTJOIN(\"^\",,BE4:BE13)","v":""}]
[{"$nulls":14},"最终",{"$f":"_xlfn.TEXTJOIN(\"^\",,P4:P14)","v":"70222^70224^70221^70222^70223^70221^70222^70225^70221^70222^70224^70221^70224^70223^70221^70222^70221^70222^70225^70222^70224^70221^70222^70223^70221^70222^70224"},{"$nulls":12},"最终",{"$f":"_xlfn.TEXTJOIN(\"^\",,AD4:AD14)","v":"70225^70225^70225^70225^70222^70222^70222^70223^70226^70223^70224^70221^70221^70224^70222^70221^70221^70222^70221^70221^70222^70224^70222^70221^70223^70223^70221^70222^70224^70222^70221^70222^70224^70222^70221^70222^70225^70225^70225^70225^70225"},{"$nulls":12},"最终",{"$f":"_xlfn.TEXTJOIN(\"^\",,AR4:AR14)","v":"70223^70221^70222^70224^70221^70221^70222^70225^70223^70222^70221^70224^70224^70223^70222^70221^70222^70226^70223^70221^70222^70224"},{"$nulls":12},"最终",{"$f":"_xlfn.TEXTJOIN(\"^\",,BF4:BF14)","v":"70221^70221^70221^70221^70222^70222^70222^70224^70224^70225^70225^70225^70225^70223^70223^70223^70224^70221^70221^70221^70221^70224^70222^70222^70222^70222^70222^70222^70222^70221^70223^70223^70221^70222^70222"}]
[null,null,8,{"$nulls":14},8,{"$nulls":5},"木精灵",{"$nulls":7},8,{"$nulls":13},8,{"$nulls":7},"毒蜘蛛"]
[null,null,6,{"$nulls":14},6,null,null,"哥布林",null,"毒蜘蛛","毒蜘蛛","毒蜘蛛",{"$nulls":6},6,{"$nulls":13},6,{"$nulls":5},"木精灵","毒蜘蛛","毒蜘蛛"]
[null,null,4,{"$nulls":14},4,"森林蜘蛛","毒蜘蛛",null,"木精灵","树精","树精","树精","森林蜘蛛",{"$nulls":5},4,{"$nulls":13},4,"树精","毒蜘蛛",null,"森林蜘蛛","哥布林","树精","毒蜘蛛","树精"]
[null,null,2,{"$nulls":14},2,"森林蜘蛛",null,null,"树精","树精","哥布林","毒蜘蛛","森林蜘蛛",{"$nulls":5},2,{"$nulls":13},2,"树精",null,"木精灵","森林蜘蛛",null,"树精",null,"哥布林"]
[null,null,1,"毒蜘蛛","树精","哥布林","森林蜘蛛","毒蜘蛛","木精灵","树精","森林蜘蛛","木精灵","哥布林",{"$nulls":4},1,null,"毒蜘蛛","野蛮战士",null,"毒蜘蛛",null,"木精灵","森林蜘蛛",{"$nulls":5},1,"哥布林","毒蜘蛛","树精","森林蜘蛛","毒蜘蛛","木精灵","树精","哥布林",{"$nulls":5},1,null,"毒蜘蛛",null,null,"哥布林",null,"毒蜘蛛"]
[null,null,3,"木精灵","毒蜘蛛","树精","树精","木精灵","哥布林","毒蜘蛛","毒蜘蛛","树精","树精",{"$nulls":4},3,"森林蜘蛛",null,null,"树精","树精","哥布林","毒蜘蛛","森林蜘蛛",{"$nulls":5},3,"树精","木精灵","毒蜘蛛","哥布林","树精","哥布林","毒蜘蛛","树精",{"$nulls":5},3,"树精",null,"木精灵","森林蜘蛛",null,"树精",null,"哥布林"]
[null,null,5,null,null,"毒蜘蛛",null,"树精","树精",null,null,"毒蜘蛛","毒蜘蛛",{"$nulls":4},5,"森林蜘蛛","毒蜘蛛",null,"木精灵","树精","树精","树精","森林蜘蛛",{"$nulls":5},5,null,"树精",null,null,"木精灵","毒蜘蛛","野蛮战士","毒蜘蛛",{"$nulls":5},5,"树精","毒蜘蛛",null,"森林蜘蛛","哥布林","树精","毒蜘蛛","树精"]
[null,null,7,{"$nulls":5},"毒蜘蛛",null,null,null,"木精灵",{"$nulls":4},7,null,null,"哥布林",null,"毒蜘蛛","毒蜘蛛","毒蜘蛛",{"$nulls":6},7,{"$nulls":7},"木精灵",{"$nulls":5},7,{"$nulls":5},"木精灵","毒蜘蛛","毒蜘蛛"]
[null,null,9,{"$nulls":14},9,{"$nulls":5},"木精灵",{"$nulls":7},9,{"$nulls":13},9,{"$nulls":7},"毒蜘蛛"]
[]
[null,null,"位置",5,15,30,35,50,66,83,90,105,120,{"$nulls":4},"位置",3,6,10,15,22,30,40,45,{"$nulls":5},"位置",4,6,10,15,25,40,57,75,null,null,null,{"$f":"_xlfn.TEXTJOIN(\"^\",,AG27:AG41)","v":"0^0"},null,"位置",2,4,6,8,10,15,25,35,null,null,null,{"$f":"_xlfn.TEXTJOIN(\"^\",,AU27:AU41)","v":"4^2^3^5"}]
[null,null,8,{"$nulls":12},{"$f":"_xlfn.TEXTJOIN(\"^\",,D27:D41)","v":"0^0"},null,8,{"$nulls":5},{"$f":"$C27","v":8},{"$nulls":7},8,{"$nulls":11},{"$f":"_xlfn.TEXTJOIN(\"^\",,AH27:AH41)","v":"0^0^0"},null,8,{"$nulls":7},{"$f":"$C27","v":8},null,null,null,{"$f":"_xlfn.TEXTJOIN(\"^\",,AV27:AV41)","v":"4^1^5"}]
[null,null,6,{"$nulls":12},{"$f":"_xlfn.TEXTJOIN(\"^\",,E27:E41)","v":"0^0"},null,6,null,null,{"$f":"$C28","v":6},null,{"$f":"$C28","v":6},6,6,{"$nulls":4},{"$f":"_xlfn.TEXTJOIN(\"^\",,S27:S41)","v":"101^102^104^105"},null,6,{"$nulls":11},{"$f":"_xlfn.TEXTJOIN(\"^\",,AI27:AI41)","v":"0^0"},null,6,{"$nulls":5},{"$f":"$C28","v":6},6,6,null,null,null,{"$f":"_xlfn.TEXTJOIN(\"^\",,AW27:AW41)","v":"2^3"}]
[null,null,4,{"$nulls":12},{"$f":"_xlfn.TEXTJOIN(\"^\",,F27:F41)","v":"0^0^0"},null,4,null,{"$f":"$C29","v":4},null,{"$f":"$C29","v":4},4,4,4,{"$nulls":4},{"$f":"_xlfn.TEXTJOIN(\"^\",,T27:T41)","v":"4^1^5"},null,4,{"$nulls":11},{"$f":"_xlfn.TEXTJOIN(\"^\",,AJ27:AJ41)","v":"100^0"},null,4,{"$f":"$C29","v":4},{"$f":"$C29","v":4},null,null,{"$f":"$C29","v":4},4,4,4,null,null,null,{"$f":"_xlfn.TEXTJOIN(\"^\",,AX27:AX41)","v":"101^102^104^105"}]
[null,null,2,{"$nulls":12},{"$f":"_xlfn.TEXTJOIN(\"^\",,G27:G41)","v":"100^0"},null,2,null,null,null,2,2,2,2,{"$nulls":4},{"$f":"_xlfn.TEXTJOIN(\"^\",,U27:U41)","v":"6^1^7"},null,2,{"$nulls":11},{"$f":"_xlfn.TEXTJOIN(\"^\",,AK27:AK41)","v":"0^0^0"},null,2,2,null,{"$f":"$C30","v":2},null,null,2,null,2,null,null,null,{"$f":"_xlfn.TEXTJOIN(\"^\",,AY27:AY41)","v":"4^1^5"}]
[null,null,1,0,0,0,100,0,0,0,100,0,0,null,null,{"$f":"_xlfn.TEXTJOIN(\"^\",,H27:H41)","v":"0^0^0"},null,1,null,{"$f":"$C31","v":1},{"$f":"$C31","v":1},null,1,null,1,{"$nulls":4},{"$f":"_xlfn.TEXTJOIN(\"^\",,V27:V41)","v":"4^2^3^5"},null,1,0,0,0,100,0,0,0,0,null,null,null,{"$f":"_xlfn.TEXTJOIN(\"^\",,AL27:AL41)","v":"0^0^0"},null,1,null,{"$f":"$C31","v":1},null,null,{"$f":"$C31","v":1},null,{"$f":"$C31","v":1},{"$nulls":4},{"$f":"_xlfn.TEXTJOIN(\"^\",,AZ27:AZ41)","v":"6^4^2^3^5^7"}]
[null,null,3,0,0,0,0,0,0,0,0,0,0,null,null,{"$f":"_xlfn.TEXTJOIN(\"^\",,I27:I41)","v":"0^0^0^0"},null,3,null,null,null,3,3,3,3,{"$nulls":4},{"$f":"_xlfn.TEXTJOIN(\"^\",,W27:W41)","v":"6^4^2^1^3^5^7"},null,3,0,0,0,0,0,0,0,0,null,null,null,{"$f":"_xlfn.TEXTJOIN(\"^\",,AM27:AM41)","v":"0^0^0"},null,3,{"$f":"$C32","v":3},null,{"$f":"$C32","v":3},null,null,{"$f":"$C32","v":3},null,{"$f":"$C32","v":3},null,null,null,{"$f":"_xlfn.TEXTJOIN(\"^\",,BA27:BA41)","v":"6^4^1^5^7"}]
[null,null,5,null,null,0,null,0,0,null,null,0,0,null,null,{"$f":"_xlfn.TEXTJOIN(\"^\",,J27:J41)","v":"0^0"},null,5,null,{"$f":"$C33","v":5},null,5,5,5,5,{"$nulls":4},{"$f":"_xlfn.TEXTJOIN(\"^\",,X27:X41)","v":"8^6^4^2^3^5^7^9"},null,5,null,0,null,null,0,0,0,0,null,null,null,{"$f":"_xlfn.TEXTJOIN(\"^\",,AN27:AN41)","v":"0^0^0^0"},null,5,5,{"$f":"$C33","v":5},null,null,{"$f":"$C33","v":5},5,5,5,null,null,null,{"$f":"_xlfn.TEXTJOIN(\"^\",,BB27:BB41)","v":"8^6^4^2^3^5^7^9"}]
[null,null,7,{"$nulls":5},0,null,null,null,0,null,null,{"$f":"_xlfn.TEXTJOIN(\"^\",,K27:K41)","v":"100^0"},null,7,null,null,{"$f":"$C34","v":7},null,7,7,7,{"$nulls":4},{"$f":"_xlfn.TEXTJOIN(\"^\",,Y27:Y41)","v":"6^4^2^1^3^5^7"},null,7,{"$nulls":7},0,null,null,null,{"$f":"_xlfn.TEXTJOIN(\"^\",,AO27:AO41)","v":""},null,7,{"$nulls":5},7,7,7,null,null,null,{"$f":"_xlfn.TEXTJOIN(\"^\",,BC27:BC41)","v":""}]
[null,null,9,{"$nulls":12},{"$f":"_xlfn.TEXTJOIN(\"^\",,L27:L41)","v":"0^0^0"},null,9,{"$nulls":5},9,{"$nulls":7},9,{"$nulls":11},{"$f":"_xlfn.TEXTJOIN(\"^\",,AP27:AP41)","v":""},null,9,{"$nulls":7},9,null,null,null,{"$f":"_xlfn.TEXTJOIN(\"^\",,BD27:BD41)","v":""}]
[null,null,"空降",{"$nulls":12},{"$f":"_xlfn.TEXTJOIN(\"^\",,M27:M41)","v":"0^0^0^0"},null,"空降",{"$nulls":13},"空降",{"$nulls":11},{"$f":"_xlfn.TEXTJOIN(\"^\",,AQ27:AQ35)","v":""},null,"空降",{"$nulls":11},{"$f":"_xlfn.TEXTJOIN(\"^\",,BE27:BE35)","v":""}]
[null,null,101,{"$nulls":12},{"$f":"_xlfn.TEXTJOIN(\"^\",,N27:N41)","v":""},null,101,{"$f":"$C37","v":101},{"$nulls":6},{"$f":"$C37","v":101},null,null,null,{"$f":"_xlfn.TEXTJOIN(\"^\",,Z27:Z41)","v":"101^102^103^104^105"},null,101,{"$nulls":13},101,null,null,null,{"$f":"$C37","v":101}]
[null,null,102,{"$nulls":14},102,102,{"$nulls":6},102,null,null,null,{"$f":"_xlfn.TEXTJOIN(\"^\",,AA27:AA41)","v":""},null,102,{"$nulls":13},102,null,null,null,102]
[null,null,103,{"$nulls":14},103,{"$nulls":7},103,null,null,null,{"$f":"_xlfn.TEXTJOIN(\"^\",,AB27:AB41)","v":""},null,103,{"$nulls":13},103]
[null,null,104,{"$nulls":14},104,{"$f":"$C40","v":104},{"$nulls":6},104,{"$nulls":5},104,{"$nulls":13},104,null,null,null,{"$f":"$C40","v":104}]
[null,null,105,{"$nulls":14},105,105,{"$nulls":6},105,{"$nulls":5},105,{"$nulls":13},105,null,null,null,105]
[{"$nulls":14},"最终",{"$f":"_xlfn.TEXTJOIN(\"^\",,P27:P41)","v":"0^0^0^0^0^0^0^100^0^0^0^0^0^0^0^0^0^0^100^0^0^0^0^0^0^0^0"},{"$nulls":12},"最终",{"$f":"_xlfn.TEXTJOIN(\"^\",,AD27:AD41)","v":"101^102^104^105^4^1^5^6^1^7^4^2^3^5^6^4^2^1^3^5^7^8^6^4^2^3^5^7^9^6^4^2^1^3^5^7^101^102^103^104^105"},{"$nulls":12},"最终",{"$f":"_xlfn.TEXTJOIN(\"^\",,AR26:AR41)","v":"0^0^0^0^0^0^0^100^0^0^0^0^0^0^0^0^0^0^0^0^0^0"},{"$nulls":12},"最终",{"$f":"_xlfn.TEXTJOIN(\"^\",,BF26:BF41)","v":"4^2^3^5^4^1^5^2^3^101^102^104^105^4^1^5^6^4^2^3^5^7^6^4^1^5^7^8^6^4^2^3^5^7^9"}]
[]
[null,null,"时间",5,15,30,35,50,66,83,90,105,120,{"$nulls":4},"时间",3,6,10,15,22,30,40,45,null,null,null,{"$f":"_xlfn.TEXTJOIN(\"^\",,S45:S53)","v":"3^3^3^3"},null,"时间",4,6,10,15,25,40,57,75,null,null,null,{"$f":"_xlfn.TEXTJOIN(\"^\",,AG45:AG53)","v":"5^17"},null,"时间",2,4,6,8,10,15,25,35,null,null,null,{"$f":"_xlfn.TEXTJOIN(\"^\",,AU45:AU53)","v":"2^2^2^2"}]
[null,null,8,{"$nulls":12},{"$f":"_xlfn.TEXTJOIN(\"^\",,D45:D54)","v":"6^3"},null,8,{"$nulls":5},{"$f":"X$44","v":30},{"$nulls":5},{"$f":"_xlfn.TEXTJOIN(\"^\",,T45:T53)","v":"6^6^6"},null,8,{"$nulls":11},{"$f":"_xlfn.TEXTJOIN(\"^\",,AH45:AH53)","v":"3^2^6"},null,8,{"$nulls":7},{"$f":"BB$44","v":35},null,null,null,{"$f":"_xlfn.TEXTJOIN(\"^\",,AV45:AV53)","v":"4^4^4"}]
[null,null,6,{"$nulls":12},{"$f":"_xlfn.TEXTJOIN(\"^\",,E45:E54)","v":"9^4"},null,6,null,null,{"$f":"U$44","v":10},null,{"$f":"W$44","v":22},30,40,{"$nulls":4},{"$f":"_xlfn.TEXTJOIN(\"^\",,U45:U53)","v":"10^10^10"},null,6,{"$nulls":11},{"$f":"_xlfn.TEXTJOIN(\"^\",,AI45:AI53)","v":"7^4"},null,6,{"$nulls":5},{"$f":"AZ$44","v":15},25,35,null,null,null,{"$f":"_xlfn.TEXTJOIN(\"^\",,AW45:AW53)","v":"6^6"}]
[null,null,4,{"$nulls":12},{"$f":"_xlfn.TEXTJOIN(\"^\",,F45:F54)","v":"3^8^3"},null,4,{"$f":"S$44","v":3},6,null,{"$f":"V$44","v":15},22,30,40,45,null,null,null,{"$f":"_xlfn.TEXTJOIN(\"^\",,V45:V53)","v":"15^15^15^15"},null,4,{"$nulls":11},{"$f":"_xlfn.TEXTJOIN(\"^\",,AJ45:AJ53)","v":"6^3"},null,4,{"$f":"AU$44","v":2},4,null,{"$f":"AX$44","v":8},10,15,25,35,null,null,null,{"$f":"_xlfn.TEXTJOIN(\"^\",,AX45:AX53)","v":"8^8^8^8"}]
[null,null,2,{"$nulls":12},{"$f":"_xlfn.TEXTJOIN(\"^\",,G45:G54)","v":"6^6"},null,2,3,null,null,15,22,30,40,45,null,null,null,{"$f":"_xlfn.TEXTJOIN(\"^\",,W45:W53)","v":"22^22^22^22^22^22^22"},null,2,{"$nulls":11},{"$f":"_xlfn.TEXTJOIN(\"^\",,AK45:AK53)","v":"3^8^2"},null,2,2,null,{"$f":"AW$44","v":6},8,null,15,null,35,null,null,null,{"$f":"_xlfn.TEXTJOIN(\"^\",,AY45:AY53)","v":"10^10^10"}]
[null,null,1,6,9,3,6,3,2,9,8,2,2,null,null,{"$f":"_xlfn.TEXTJOIN(\"^\",,H45:H54)","v":"3^2^8"},null,1,null,{"$f":"T$44","v":6},10,null,22,null,40,45,null,null,null,{"$f":"_xlfn.TEXTJOIN(\"^\",,X45:X53)","v":"30^30^30^30^30^30^30^30"},null,1,5,3,7,6,3,2,9,2,null,null,null,{"$f":"_xlfn.TEXTJOIN(\"^\",,AL45:AL53)","v":"2^3^5"},null,1,null,{"$f":"AV$44","v":4},null,null,{"$f":"AY$44","v":10},null,{"$f":"BA$44","v":25},{"$nulls":4},{"$f":"_xlfn.TEXTJOIN(\"^\",,AZ45:AZ53)","v":"15^15^15^15^15^15"}]
[null,null,3,3,4,8,6,2,2,3,3,9,8,null,null,{"$f":"_xlfn.TEXTJOIN(\"^\",,I45:I54)","v":"2^2^7^3"},null,3,{"$f":"S$44","v":3},null,null,{"$f":"V$44","v":15},22,30,40,45,null,null,null,{"$f":"_xlfn.TEXTJOIN(\"^\",,Y45:Y53)","v":"40^40^40^40^40^40^40"},null,3,17,2,4,3,8,3,3,8,null,null,null,{"$f":"_xlfn.TEXTJOIN(\"^\",,AM45:AM53)","v":"9^3^1"},null,3,{"$f":"AU$44","v":2},null,{"$f":"AW$44","v":6},8,null,{"$f":"AZ$44","v":15},null,{"$f":"BB$44","v":35},null,null,null,{"$f":"_xlfn.TEXTJOIN(\"^\",,BA45:BA53)","v":"25^25^25^25^25"}]
[null,null,5,null,null,3,null,8,7,null,null,3,3,null,null,{"$f":"_xlfn.TEXTJOIN(\"^\",,J45:J54)","v":"9^3"},null,5,3,6,null,15,22,30,40,45,null,null,null,{"$f":"_xlfn.TEXTJOIN(\"^\",,Z45:Z53)","v":"45^45^45^45^45"},null,5,null,6,null,null,2,5,1,3,null,null,null,{"$f":"_xlfn.TEXTJOIN(\"^\",,AN45:AN53)","v":"2^8^3^2"},null,5,2,4,null,8,10,15,25,35,null,null,null,{"$f":"_xlfn.TEXTJOIN(\"^\",,BB45:BB53)","v":"35^35^35^35^35^35^35^35"}]
[null,null,7,{"$nulls":5},3,null,null,null,2,null,null,{"$f":"_xlfn.TEXTJOIN(\"^\",,K45:K54)","v":"8^3"},null,7,null,null,{"$f":"U$44","v":10},null,22,30,40,{"$nulls":4},{"$f":"_xlfn.TEXTJOIN(\"^\",,AA45:AA53)","v":""},null,7,{"$nulls":7},2,null,null,null,{"$f":"_xlfn.TEXTJOIN(\"^\",,AO45:AO53)","v":""},null,7,{"$nulls":5},15,25,35,null,null,null,{"$f":"_xlfn.TEXTJOIN(\"^\",,BC45:BC53)","v":""}]
[null,null,9,{"$nulls":12},{"$f":"_xlfn.TEXTJOIN(\"^\",,L45:L54)","v":"2^9^3"},null,9,{"$nulls":5},30,{"$nulls":5},{"$f":"_xlfn.TEXTJOIN(\"^\",,AB45:AB53)","v":""},null,9,{"$nulls":11},{"$f":"_xlfn.TEXTJOIN(\"^\",,AP45:AP53)","v":""},null,9,{"$nulls":7},35,null,null,null,{"$f":"_xlfn.TEXTJOIN(\"^\",,BD45:BD53)","v":""}]
[{"$nulls":15},{"$f":"_xlfn.TEXTJOIN(\"^\",,M45:M54)","v":"2^8^3^2"},{"$nulls":13},{"$f":"_xlfn.TEXTJOIN(\"^\",,AC45:AC53)","v":""},{"$nulls":13},{"$f":"_xlfn.TEXTJOIN(\"^\",,AQ45:AQ53)","v":""},{"$nulls":13},{"$f":"_xlfn.TEXTJOIN(\"^\",,BE45:BE53)","v":""}]
[{"$nulls":15},{"$f":"_xlfn.TEXTJOIN(\"^\",,N45:N54)","v":""},{"$nulls":12},"最终",{"$f":"_xlfn.TEXTJOIN(\"^\",,AD44:AD54)","v":"3^3^3^3^6^6^6^10^10^10^15^15^15^15^22^22^22^22^22^22^22^30^30^30^30^30^30^30^30^40^40^40^40^40^40^40^45^45^45^45^45"},{"$nulls":12},"最终",{"$f":"_xlfn.TEXTJOIN(\"^\",,AR44:AR54)","v":"5^17^3^2^6^7^4^6^3^3^8^2^2^3^5^9^3^1^2^8^3^2"},{"$nulls":12},"最终",{"$f":"_xlfn.TEXTJOIN(\"^\",,BF44:BF54)","v":"2^2^2^2^4^4^4^6^6^8^8^8^8^10^10^10^15^15^15^15^15^15^25^25^25^25^25^35^35^35^35^35^35^35^35"}]
[{"$nulls":14},"最终",{"$f":"_xlfn.TEXTJOIN(\"^\",,P45:P55)","v":"6^3^9^4^3^8^3^6^6^3^2^8^2^2^7^3^9^3^8^3^2^9^3^2^8^3^2"}]
[{"$nulls":14},{"$f":"SUM(D45:N54)","v":127},{"$nulls":13},{"$f":"COUNT(S45:AB54)","v":41},{"$nulls":13},{"$f":"SUM(AG45:AP54)","v":104},{"$nulls":13},{"$f":"COUNT(AU45:BD54)","v":35},{"$f":"AQ57+BE57+AC57+O57","v":307}]
[{"$nulls":4},{"$f":"E59-D59","v":5},{"$f":"F59-E59","v":7},8,5,10,10,10,5,10,{"$nulls":6},{"$f":"T59-S59","v":5},5,10,15,16,17,7,{"$nulls":7},{"$f":"AH59-AG59","v":3},4,7,8,10,5,10,{"$nulls":7},{"$f":"AV59-AU59","v":2},3,4,5,8,10,10]
[1,"绿洲-2","波1·怪物",5,10,17,25,30,40,50,60,65,75,null,null,null,3,"波2·怪物",5,10,15,25,40,56,73,80,{"$nulls":4},1,"波3·怪物",3,6,10,17,25,35,40,50,{"$nulls":4},1,"波4·怪物",3,5,8,12,17,25,35,45]
[null,"5m",8,null,null,null,70232,null,70234,70231,70234,{"$nulls":4},{"$f":"_xlfn.TEXTJOIN(\"^\",,D60:D69)","v":"70234^70232^70232^70234"},null,8,{"$nulls":11},{"$f":"_xlfn.TEXTJOIN(\"^\",,S60:S69)","v":"70231^70234^70233"},null,8,null,null,null,70232,70234,null,null,70234,null,null,null,{"$f":"_xlfn.TEXTJOIN(\"^\",,AG60:AG69)","v":"70235^70235^70235^70235^70235"},null,8,{"$nulls":5},70234,null,70232,null,null,null,{"$f":"_xlfn.TEXTJOIN(\"^\",,AU60:AU69)","v":"70233^70237^70233"}]
[null,null,6,70234,70231,70234,null,null,70231,70231,70232,null,70232,null,null,{"$f":"_xlfn.TEXTJOIN(\"^\",,E60:E69)","v":"70231^70231^70232^70232^70231^70231"},null,6,{"$nulls":11},{"$f":"_xlfn.TEXTJOIN(\"^\",,T60:T69)","v":"70232^70231"},null,6,null,70234,null,null,70231,70232,null,70232,null,null,null,{"$f":"_xlfn.TEXTJOIN(\"^\",,AH60:AH69)","v":"70234^70232^70232^70232^70234"},null,6,null,70232,null,null,null,70232,70232,70234,null,null,null,{"$f":"_xlfn.TEXTJOIN(\"^\",,AV60:AV69)","v":"70232^70232^70232"}]
[null,null,4,null,70231,70232,70231,70235,null,70232,70231,70235,70231,null,null,{"$f":"_xlfn.TEXTJOIN(\"^\",,F60:F69)","v":"70234^70232^70233^70232^70233^70232^70234"},null,4,{"$nulls":11},{"$f":"_xlfn.TEXTJOIN(\"^\",,U60:U69)","v":"70235^70232"},null,4,70235,null,70231,70231,70232,70231,70235,{"$nulls":4},{"$f":"_xlfn.TEXTJOIN(\"^\",,AI60:AI69)","v":"70231^70231^70231^70231^70231"},null,4,70233,null,null,70231,70235,null,70231,70232,null,null,null,{"$f":"_xlfn.TEXTJOIN(\"^\",,AW60:AW69)","v":"70234^70234"}]
[null,null,2,70232,70232,70233,70231,70235,70232,70233,null,70235,70233,null,null,{"$f":"_xlfn.TEXTJOIN(\"^\",,G60:G69)","v":"70232^70231^70231^70232^70231^70231^70232"},null,2,{"$nulls":11},{"$f":"_xlfn.TEXTJOIN(\"^\",,V60:V69)","v":"70233^70231"},null,2,70235,70232,70231,70233,null,70233,70235,70231,null,null,null,{"$f":"_xlfn.TEXTJOIN(\"^\",,AJ60:AJ69)","v":"70232^70231^70233^70233^70233^70231^70232"},null,2,null,null,70234,70231,70235,70233,70231,70233,null,null,null,{"$f":"_xlfn.TEXTJOIN(\"^\",,AX60:AX69)","v":"70231^70231^70231^70231"}]
[null,null,1,null,null,70232,70232,70235,70232,null,70232,70235,70237,null,null,{"$f":"_xlfn.TEXTJOIN(\"^\",,H60:H69)","v":"70235^70235^70235^70235^70235"},null,1,70231,70232,70235,70233,70234,70232,70232,70235,null,null,null,{"$f":"_xlfn.TEXTJOIN(\"^\",,W60:W69)","v":"70234^70231^70232"},null,1,70235,70232,70231,70233,70232,70232,70235,70233,null,null,null,{"$f":"_xlfn.TEXTJOIN(\"^\",,AK60:AK69)","v":"70234^70231^70232^70232^70232^70231^70234"},null,1,70237,70232,{"$nulls":4},70234,{"$nulls":4},{"$f":"_xlfn.TEXTJOIN(\"^\",,AY60:AY69)","v":"70235^70235^70235^70235"}]
[null,null,3,70232,70232,70233,70231,70235,70232,70233,null,70235,70233,null,null,{"$f":"_xlfn.TEXTJOIN(\"^\",,I60:I69)","v":"70234^70231^70232^70232^70232^70231^70234"},null,3,70234,70231,70232,70231,70231,70233,70234,70233,null,null,null,{"$f":"_xlfn.TEXTJOIN(\"^\",,X60:X69)","v":"70232^70233^70231"},null,3,70235,70232,70231,70233,null,70233,70235,70231,null,null,null,{"$f":"_xlfn.TEXTJOIN(\"^\",,AL60:AL69)","v":"70232^70231^70233^70232^70233^70231^70232"},null,3,null,null,70234,70231,70235,70233,70231,70233,null,null,null,{"$f":"_xlfn.TEXTJOIN(\"^\",,AZ60:AZ69)","v":"70234^70232^70233^70233^70232^70234"}]
[null,null,5,null,70231,70232,70231,70235,null,70232,70231,70235,70231,null,null,{"$f":"_xlfn.TEXTJOIN(\"^\",,J60:J69)","v":"70231^70231^70232^70233^70233^70232^70231^70231"},null,5,70233,null,null,null,70232,70231,70231,70237,null,null,null,{"$f":"_xlfn.TEXTJOIN(\"^\",,Y60:Y69)","v":"70232^70234^70231"},null,5,70235,null,70231,70231,70232,70231,70235,{"$nulls":4},{"$f":"_xlfn.TEXTJOIN(\"^\",,AM60:AM69)","v":"70235^70235^70235^70235^70235"},null,5,70233,null,null,70231,70235,null,70231,70232,null,null,null,{"$f":"_xlfn.TEXTJOIN(\"^\",,BA60:BA69)","v":"70232^70231^70231^70234^70231^70231^70232"}]
[null,null,7,70234,70231,70234,null,null,70231,70231,70232,null,70232,null,null,{"$f":"_xlfn.TEXTJOIN(\"^\",,K60:K69)","v":"70234^70232^70231^70232^70231^70232^70234"},null,7,{"$nulls":11},{"$f":"_xlfn.TEXTJOIN(\"^\",,Z60:Z69)","v":"70235^70233^70237"},null,7,null,70234,null,null,70231,70232,null,70232,null,null,null,{"$f":"_xlfn.TEXTJOIN(\"^\",,AN60:AN69)","v":"70234^70232^70231^70233^70231^70232^70234"},null,7,null,70232,null,null,null,70232,70232,70234,null,null,null,{"$f":"_xlfn.TEXTJOIN(\"^\",,BB60:BB69)","v":"70232^70234^70232^70233^70233^70232^70234^70232"}]
[null,null,9,null,null,null,70232,null,70234,70231,70234,{"$nulls":4},{"$f":"_xlfn.TEXTJOIN(\"^\",,L60:L69)","v":"70235^70235^70235^70235^70235"},null,9,{"$nulls":11},{"$f":"_xlfn.TEXTJOIN(\"^\",,AA60:AA69)","v":""},null,9,null,null,null,70232,70234,null,null,70234,null,null,null,{"$f":"_xlfn.TEXTJOIN(\"^\",,AO60:AO69)","v":""},null,9,{"$nulls":5},70234,null,70232,null,null,null,{"$f":"_xlfn.TEXTJOIN(\"^\",,BC60:BC69)","v":""}]
[{"$nulls":15},{"$f":"_xlfn.TEXTJOIN(\"^\",,M60:M69)","v":"70232^70231^70233^70237^70233^70231^70232"},{"$nulls":13},{"$f":"_xlfn.TEXTJOIN(\"^\",,AB60:AB69)","v":""},{"$nulls":13},{"$f":"_xlfn.TEXTJOIN(\"^\",,AP60:AP69)","v":""},{"$nulls":13},{"$f":"_xlfn.TEXTJOIN(\"^\",,BD60:BD69)","v":""}]
[{"$nulls":15},{"$f":"_xlfn.TEXTJOIN(\"^\",,N60:N69)","v":""},{"$nulls":13},{"$f":"_xlfn.TEXTJOIN(\"^\",,AC60:AC69)","v":""},{"$nulls":13},{"$f":"_xlfn.TEXTJOIN(\"^\",,AQ60:AQ69)","v":""},{"$nulls":13},{"$f":"_xlfn.TEXTJOIN(\"^\",,BE60:BE69)","v":""}]
[{"$nulls":14},"最终",{"$f":"_xlfn.TEXTJOIN(\"^\",,P60:P70)","v":"70234^70232^70232^70234^70231^70231^70232^70232^70231^70231^70234^70232^70233^70232^70233^70232^70234^70232^70231^70231^70232^70231^70231^70232^70235^70235^70235^70235^70235^70234^70231^70232^70232^70232^70231^70234^70231^70231^70232^70233^70233^70232^70231^70231^70234^70232^70231^70232^70231^70232^70234^70235^70235^70235^70235^70235^70232^70231^70233^70237^70233^70231^70232"},{"$nulls":12},"最终",{"$f":"_xlfn.TEXTJOIN(\"^\",,AD60:AD70)","v":"70231^70234^70233^70232^70231^70235^70232^70233^70231^70234^70231^70232^70232^70233^70231^70232^70234^70231^70235^70233^70237"},{"$nulls":12},"最终",{"$f":"_xlfn.TEXTJOIN(\"^\",,AR60:AR70)","v":"70235^70235^70235^70235^70235^70234^70232^70232^70232^70234^70231^70231^70231^70231^70231^70232^70231^70233^70233^70233^70231^70232^70234^70231^70232^70232^70232^70231^70234^70232^70231^70233^70232^70233^70231^70232^70235^70235^70235^70235^70235^70234^70232^70231^70233^70231^70232^70234"},{"$nulls":12},"最终",{"$f":"_xlfn.TEXTJOIN(\"^\",,BF60:BF70)","v":"70233^70237^70233^70232^70232^70232^70234^70234^70231^70231^70231^70231^70235^70235^70235^70235^70234^70232^70233^70233^70232^70234^70232^70231^70231^70234^70231^70231^70232^70232^70234^70232^70233^70233^70232^70234^70232"}]
[null,null,8,null,null,null,"孢子人",null,"木精灵","树精","木精灵",{"$nulls":6},8,{"$nulls":13},8,null,null,null,"孢子人","木精灵",null,null,"木精灵",{"$nulls":5},8,{"$nulls":5},"木精灵",null,"孢子人"]
[null,null,6,"木精灵","树精","木精灵",null,null,"树精","树精","孢子人",null,"孢子人",{"$nulls":4},6,{"$nulls":13},6,null,"木精灵",null,null,"树精","孢子人",null,"孢子人",{"$nulls":5},6,null,"孢子人",null,null,null,"孢子人","孢子人","木精灵"]
[null,null,4,null,"树精","孢子人","树精","森林蜘蛛",null,"孢子人","树精","森林蜘蛛","树精",{"$nulls":4},4,{"$nulls":13},4,"森林蜘蛛",null,"树精","树精","孢子人","树精","森林蜘蛛",{"$nulls":6},4,"哥布林",null,null,"树精","森林蜘蛛",null,"树精","孢子人"]
[null,null,2,"孢子人","孢子人","哥布林","树精","森林蜘蛛","孢子人","哥布林",null,"森林蜘蛛","哥布林",{"$nulls":4},2,{"$nulls":13},2,"森林蜘蛛","孢子人","树精","哥布林",null,"哥布林","森林蜘蛛","树精",{"$nulls":5},2,null,null,"木精灵","树精","森林蜘蛛","哥布林","树精","哥布林"]
[null,null,1,null,null,"孢子人","孢子人","森林蜘蛛","孢子人",null,"孢子人","森林蜘蛛","野蛮战士",{"$nulls":4},1,"树精","孢子人","森林蜘蛛","哥布林","木精灵","孢子人","孢子人","森林蜘蛛",{"$nulls":5},1,"森林蜘蛛","孢子人","树精","哥布林","孢子人","孢子人","森林蜘蛛","哥布林",{"$nulls":5},1,"野蛮战士","孢子人",{"$nulls":4},"木精灵"]
[null,null,3,"孢子人","孢子人","哥布林","树精","森林蜘蛛","孢子人","哥布林",null,"森林蜘蛛","哥布林",{"$nulls":4},3,"木精灵","树精","孢子人","树精","树精","哥布林","木精灵","哥布林",{"$nulls":5},3,"森林蜘蛛","孢子人","树精","哥布林",null,"哥布林","森林蜘蛛","树精",{"$nulls":5},3,null,null,"木精灵","树精","森林蜘蛛","哥布林","树精","哥布林"]
[null,null,5,null,"树精","孢子人","树精","森林蜘蛛",null,"孢子人","树精","森林蜘蛛","树精",{"$nulls":4},5,"哥布林",null,null,null,"孢子人","树精","树精","野蛮战士",{"$nulls":5},5,"森林蜘蛛",null,"树精","树精","孢子人","树精","森林蜘蛛",{"$nulls":6},5,"哥布林",null,null,"树精","森林蜘蛛",null,"树精","孢子人"]
[null,null,7,"木精灵","树精","木精灵",null,null,"树精","树精","孢子人",null,"孢子人",{"$nulls":4},7,{"$nulls":13},7,null,"木精灵",null,null,"树精","孢子人",null,"孢子人",{"$nulls":5},7,null,"孢子人",null,null,null,"孢子人","孢子人","木精灵"]
[null,null,9,null,null,null,"孢子人",null,"木精灵","树精","木精灵",{"$nulls":6},9,{"$nulls":13},9,null,null,null,"孢子人","木精灵",null,null,"木精灵",{"$nulls":5},9,{"$nulls":5},"木精灵",null,"孢子人"]
[]
[null,null,"位置",5,10,17,25,30,40,50,60,65,75,{"$nulls":4},"位置",5,10,15,25,40,56,73,80,{"$nulls":5},"位置",3,6,10,17,25,35,40,50,null,null,null,{"$f":"_xlfn.TEXTJOIN(\"^\",,AG83:AG97)","v":"101^102^103^104^105"},null,"位置",3,5,8,12,17,25,35,45,null,null,null,{"$f":"_xlfn.TEXTJOIN(\"^\",,AU83:AU97)","v":"4^1^5"}]
[null,null,8,null,null,null,{"$f":"$C83","v":8},null,{"$f":"$C83","v":8},8,8,{"$nulls":4},{"$f":"_xlfn.TEXTJOIN(\"^\",,D83:D97)","v":"6^2^3^7"},null,8,{"$nulls":13},8,null,null,null,{"$f":"$C83","v":8},{"$f":"$C83","v":8},null,null,{"$f":"$C83","v":8},null,null,null,{"$f":"_xlfn.TEXTJOIN(\"^\",,AH83:AH97)","v":"6^2^1^3^7"},null,8,{"$nulls":5},{"$f":"$C83","v":8},null,{"$f":"$C83","v":8},null,null,null,{"$f":"_xlfn.TEXTJOIN(\"^\",,AV83:AV97)","v":"6^1^7"}]
[null,null,6,{"$f":"$C84","v":6},{"$f":"$C84","v":6},{"$f":"$C84","v":6},null,null,6,6,6,null,{"$f":"$C84","v":6},null,null,{"$f":"_xlfn.TEXTJOIN(\"^\",,E83:E97)","v":"6^4^2^3^5^7"},null,6,{"$nulls":11},{"$f":"_xlfn.TEXTJOIN(\"^\",,S83:S97)","v":"0^0^0"},null,6,null,{"$f":"$C84","v":6},null,null,6,6,null,6,null,null,null,{"$f":"_xlfn.TEXTJOIN(\"^\",,AI83:AI97)","v":"4^2^1^3^5"},null,6,null,{"$f":"$C84","v":6},null,null,null,6,6,6,null,null,null,{"$f":"_xlfn.TEXTJOIN(\"^\",,AW83:AW97)","v":"2^3"}]
[null,null,4,null,{"$f":"$C85","v":4},4,4,null,null,4,4,null,4,null,null,{"$f":"_xlfn.TEXTJOIN(\"^\",,F83:F97)","v":"6^4^2^1^3^5^7"},null,4,{"$nulls":11},{"$f":"_xlfn.TEXTJOIN(\"^\",,T83:T97)","v":"0^0"},null,4,null,null,{"$f":"$C85","v":4},4,{"$f":"$C85","v":4},4,{"$nulls":5},{"$f":"_xlfn.TEXTJOIN(\"^\",,AJ83:AJ97)","v":"8^4^2^1^3^5^9"},null,4,{"$f":"$C85","v":4},null,null,{"$f":"$C85","v":4},null,null,4,4,null,null,null,{"$f":"_xlfn.TEXTJOIN(\"^\",,AX83:AX97)","v":"4^2^3^5"}]
[null,null,2,{"$f":"$C86","v":2},{"$f":"$C86","v":2},{"$f":"$C86","v":2},2,null,{"$f":"$C86","v":2},2,null,null,2,null,null,{"$f":"_xlfn.TEXTJOIN(\"^\",,G83:G97)","v":"8^4^2^1^3^5^9"},null,2,{"$nulls":11},{"$f":"_xlfn.TEXTJOIN(\"^\",,U83:U97)","v":"100^0"},null,2,null,{"$f":"$C86","v":2},2,2,null,2,null,{"$f":"$C86","v":2},null,null,null,{"$f":"_xlfn.TEXTJOIN(\"^\",,AK83:AK97)","v":"8^6^4^1^5^7^9"},null,2,null,null,{"$f":"$C86","v":2},2,null,{"$f":"$C86","v":2},2,2,null,null,null,{"$f":"_xlfn.TEXTJOIN(\"^\",,AY83:AY97)","v":"101^102^104^105"}]
[null,null,1,null,null,{"$f":"$C87","v":1},1,null,1,null,{"$f":"$C87","v":1},null,1,null,null,{"$f":"_xlfn.TEXTJOIN(\"^\",,H83:H97)","v":"101^102^103^104^105"},null,1,0,0,100,0,0,0,0,100,null,null,null,{"$f":"_xlfn.TEXTJOIN(\"^\",,V83:V97)","v":"0^0"},null,1,null,{"$f":"$C87","v":1},1,1,{"$f":"$C87","v":1},1,null,1,null,null,null,{"$f":"_xlfn.TEXTJOIN(\"^\",,AL83:AL97)","v":"6^4^2^1^3^5^7"},null,1,{"$f":"$C87","v":1},1,{"$nulls":4},1,{"$nulls":4},{"$f":"_xlfn.TEXTJOIN(\"^\",,AZ83:AZ97)","v":"8^6^2^3^7^9"}]
[null,null,3,{"$f":"$C88","v":3},3,3,3,null,3,3,null,null,3,null,null,{"$f":"_xlfn.TEXTJOIN(\"^\",,I83:I97)","v":"8^6^2^1^3^7^9"},null,3,0,0,0,0,0,0,0,0,null,null,null,{"$f":"_xlfn.TEXTJOIN(\"^\",,W83:W97)","v":"0^0^0"},null,3,null,{"$f":"$C88","v":3},3,3,null,3,null,3,null,null,null,{"$f":"_xlfn.TEXTJOIN(\"^\",,AM83:AM97)","v":"101^102^103^104^105"},null,3,null,null,{"$f":"$C88","v":3},3,null,{"$f":"$C88","v":3},3,3,null,null,null,{"$f":"_xlfn.TEXTJOIN(\"^\",,BA83:BA97)","v":"6^4^2^1^3^5^7"}]
[null,null,5,null,5,5,5,null,null,5,5,null,5,null,null,{"$f":"_xlfn.TEXTJOIN(\"^\",,J83:J97)","v":"8^6^4^2^3^5^7^9"},null,5,0,null,null,null,0,0,0,0,null,null,null,{"$f":"_xlfn.TEXTJOIN(\"^\",,X83:X97)","v":"0^0^0"},null,5,null,null,5,5,5,5,{"$nulls":5},{"$f":"_xlfn.TEXTJOIN(\"^\",,AN83:AN97)","v":"8^6^2^1^3^7^9"},null,5,{"$f":"$C89","v":5},null,null,5,null,null,5,5,null,null,null,{"$f":"_xlfn.TEXTJOIN(\"^\",,BB83:BB97)","v":"8^6^4^2^3^5^7^9"}]
[null,null,7,{"$f":"$C90","v":7},{"$f":"$C90","v":7},7,null,null,{"$f":"$C90","v":7},7,7,null,7,null,null,{"$f":"_xlfn.TEXTJOIN(\"^\",,K83:K97)","v":"8^6^4^1^5^7^9"},null,7,{"$nulls":11},{"$f":"_xlfn.TEXTJOIN(\"^\",,Y83:Y97)","v":"0^0^0"},null,7,null,{"$f":"$C90","v":7},null,null,7,7,null,{"$f":"$C90","v":7},null,null,null,{"$f":"_xlfn.TEXTJOIN(\"^\",,AO83:AO97)","v":""},null,7,null,{"$f":"$C90","v":7},null,null,null,{"$f":"$C90","v":7},7,7,null,null,null,{"$f":"_xlfn.TEXTJOIN(\"^\",,BC83:BC97)","v":""}]
[null,null,9,null,null,null,{"$f":"$C91","v":9},null,9,9,9,{"$nulls":4},{"$f":"_xlfn.TEXTJOIN(\"^\",,L83:L97)","v":"101^102^103^104^105"},null,9,{"$nulls":13},9,null,null,null,{"$f":"$C91","v":9},9,null,null,9,null,null,null,{"$f":"_xlfn.TEXTJOIN(\"^\",,AP83:AP97)","v":""},null,9,{"$nulls":5},9,null,9,null,null,null,{"$f":"_xlfn.TEXTJOIN(\"^\",,BD83:BD97)","v":""}]
[null,null,"空降",{"$nulls":12},{"$f":"_xlfn.TEXTJOIN(\"^\",,M83:M97)","v":"6^4^2^1^3^5^7"},null,"空降",{"$nulls":13},"空降",{"$nulls":11},{"$f":"_xlfn.TEXTJOIN(\"^\",,AQ83:AQ91)","v":""},null,"空降",{"$nulls":11},{"$f":"_xlfn.TEXTJOIN(\"^\",,BE83:BE91)","v":""}]
[null,null,101,{"$nulls":4},{"$f":"$C93","v":101},null,null,null,{"$f":"$C93","v":101},null,null,null,{"$f":"_xlfn.TEXTJOIN(\"^\",,N83:N97)","v":""},null,101,{"$nulls":11},{"$f":"_xlfn.TEXTJOIN(\"^\",,Z83:Z97)","v":"100^0^0"},null,101,{"$f":"$C93","v":101},{"$nulls":5},{"$f":"$C93","v":101},{"$nulls":6},101,{"$nulls":4},{"$f":"$C93","v":101}]
[null,null,102,{"$nulls":4},102,null,null,null,102,{"$nulls":5},102,{"$nulls":11},{"$f":"_xlfn.TEXTJOIN(\"^\",,AA83:AA97)","v":""},null,102,102,{"$nulls":5},102,{"$nulls":6},102,{"$nulls":4},102]
[null,null,103,{"$nulls":4},103,null,null,null,103,{"$nulls":5},103,{"$nulls":11},{"$f":"_xlfn.TEXTJOIN(\"^\",,AB83:AB97)","v":""},null,103,103,{"$nulls":5},103,{"$nulls":6},103]
[null,null,104,{"$nulls":4},104,null,null,null,104,{"$nulls":5},104,{"$nulls":13},104,104,{"$nulls":5},104,{"$nulls":6},104,{"$nulls":4},{"$f":"$C96","v":104}]
[null,null,105,{"$nulls":4},105,null,null,null,105,{"$nulls":5},105,{"$nulls":13},105,105,{"$nulls":5},105,{"$nulls":6},105,{"$nulls":4},105]
[{"$nulls":14},"最终",{"$f":"_xlfn.TEXTJOIN(\"^\",,P83:P97)","v":"6^2^3^7^6^4^2^3^5^7^6^4^2^1^3^5^7^8^4^2^1^3^5^9^101^102^103^104^105^8^6^2^1^3^7^9^8^6^4^2^3^5^7^9^8^6^4^1^5^7^9^101^102^103^104^105^6^4^2^1^3^5^7"},{"$nulls":12},"最终",{"$f":"_xlfn.TEXTJOIN(\"^\",,AD83:AD97)","v":"0^0^0^0^0^100^0^0^0^0^0^0^0^0^0^0^0^0^100^0^0"},{"$nulls":12},"最终",{"$f":"_xlfn.TEXTJOIN(\"^\",,AR82:AR97)","v":"101^102^103^104^105^6^2^1^3^7^4^2^1^3^5^8^4^2^1^3^5^9^8^6^4^1^5^7^9^6^4^2^1^3^5^7^101^102^103^104^105^8^6^2^1^3^7^9"},{"$nulls":12},"最终",{"$f":"_xlfn.TEXTJOIN(\"^\",,BF82:BF97)","v":"4^1^5^6^1^7^2^3^4^2^3^5^101^102^104^105^8^6^2^3^7^9^6^4^2^1^3^5^7^8^6^4^2^3^5^7^9"}]
[]
[null,null,"时间",5,10,17,25,30,40,50,60,65,75,{"$nulls":4},"时间",5,10,15,25,40,56,73,80,null,null,null,{"$f":"_xlfn.TEXTJOIN(\"^\",,S101:S109)","v":"17^5^3"},null,"时间",3,6,10,17,25,35,40,50,null,null,null,{"$f":"_xlfn.TEXTJOIN(\"^\",,AG101:AG109)","v":"3^3^3^3^3"},null,"时间",3,5,8,12,17,25,35,45,null,null,null,{"$f":"_xlfn.TEXTJOIN(\"^\",,AU101:AU109)","v":"3^3^3"}]
[null,null,8,null,null,null,{"$f":"G$100","v":25},null,{"$f":"I$100","v":40},50,60,{"$nulls":4},{"$f":"_xlfn.TEXTJOIN(\"^\",,D101:D110)","v":"5^5^5^5"},null,8,{"$nulls":11},{"$f":"_xlfn.TEXTJOIN(\"^\",,T101:T109)","v":"4^8"},null,8,null,null,null,{"$f":"AJ$100","v":17},25,null,null,{"$f":"AN$100","v":50},null,null,null,{"$f":"_xlfn.TEXTJOIN(\"^\",,AH101:AH109)","v":"6^6^6^6^6"},null,8,{"$nulls":5},{"$f":"AZ$100","v":25},null,{"$f":"BB$100","v":45},null,null,null,{"$f":"_xlfn.TEXTJOIN(\"^\",,AV101:AV109)","v":"5^5^5"}]
[null,null,6,{"$f":"D$100","v":5},{"$f":"E$100","v":10},17,null,null,40,50,60,null,{"$f":"M$100","v":75},null,null,{"$f":"_xlfn.TEXTJOIN(\"^\",,E101:E110)","v":"10^10^10^10^10^10"},null,6,{"$nulls":11},{"$f":"_xlfn.TEXTJOIN(\"^\",,U101:U109)","v":"8^4"},null,6,null,{"$f":"AH$100","v":6},null,null,25,35,null,50,null,null,null,{"$f":"_xlfn.TEXTJOIN(\"^\",,AI101:AI109)","v":"10^10^10^10^10"},null,6,null,{"$f":"AV$100","v":5},null,null,null,25,35,45,null,null,null,{"$f":"_xlfn.TEXTJOIN(\"^\",,AW101:AW109)","v":"8^8"}]
[null,null,4,null,10,17,25,30,null,50,60,65,75,null,null,{"$f":"_xlfn.TEXTJOIN(\"^\",,F101:F110)","v":"17^17^17^17^17^17^17"},null,4,{"$nulls":11},{"$f":"_xlfn.TEXTJOIN(\"^\",,V101:V109)","v":"2^9"},null,4,{"$f":"AG$100","v":3},null,{"$f":"AI$100","v":10},17,25,35,40,{"$nulls":4},{"$f":"_xlfn.TEXTJOIN(\"^\",,AJ101:AJ109)","v":"17^17^17^17^17^17^17"},null,4,{"$f":"AU$100","v":3},null,null,{"$f":"AX$100","v":12},17,null,35,45,null,null,null,{"$f":"_xlfn.TEXTJOIN(\"^\",,AX101:AX109)","v":"12^12^12^12"}]
[null,null,2,{"$f":"D$100","v":5},10,17,25,30,40,50,null,65,75,null,null,{"$f":"_xlfn.TEXTJOIN(\"^\",,G101:G110)","v":"25^25^25^25^25^25^25"},null,2,{"$nulls":11},{"$f":"_xlfn.TEXTJOIN(\"^\",,W101:W109)","v":"2^8^3"},null,2,3,6,10,17,null,35,40,50,null,null,null,{"$f":"_xlfn.TEXTJOIN(\"^\",,AK101:AK109)","v":"25^25^25^25^25^25^25"},null,2,null,null,{"$f":"AW$100","v":8},12,17,25,35,45,null,null,null,{"$f":"_xlfn.TEXTJOIN(\"^\",,AY101:AY109)","v":"17^17^17^17"}]
[null,null,1,null,null,17,25,30,40,null,{"$f":"K$100","v":60},65,75,null,null,{"$f":"_xlfn.TEXTJOIN(\"^\",,H101:H110)","v":"30^30^30^30^30"},null,1,17,4,8,2,2,3,3,7,null,null,null,{"$f":"_xlfn.TEXTJOIN(\"^\",,X101:X109)","v":"3^2^8"},null,1,3,6,10,17,25,35,40,50,null,null,null,{"$f":"_xlfn.TEXTJOIN(\"^\",,AL101:AL109)","v":"35^35^35^35^35^35^35"},null,1,{"$f":"AU$100","v":3},5,{"$nulls":4},35,{"$nulls":4},{"$f":"_xlfn.TEXTJOIN(\"^\",,AZ101:AZ109)","v":"25^25^25^25^25^25"}]
[null,null,3,{"$f":"D$100","v":5},10,17,25,30,40,50,null,65,75,null,null,{"$f":"_xlfn.TEXTJOIN(\"^\",,I101:I110)","v":"40^40^40^40^40^40^40"},null,3,5,8,4,9,8,2,2,3,null,null,null,{"$f":"_xlfn.TEXTJOIN(\"^\",,Y101:Y109)","v":"3^2^9"},null,3,3,6,10,17,null,35,40,50,null,null,null,{"$f":"_xlfn.TEXTJOIN(\"^\",,AM101:AM109)","v":"40^40^40^40^40"},null,3,null,null,{"$f":"AW$100","v":8},12,17,25,35,45,null,null,null,{"$f":"_xlfn.TEXTJOIN(\"^\",,BA101:BA109)","v":"35^35^35^35^35^35^35"}]
[null,null,5,null,10,17,25,30,null,50,60,65,75,null,null,{"$f":"_xlfn.TEXTJOIN(\"^\",,J101:J110)","v":"50^50^50^50^50^50^50^50"},null,5,3,null,null,null,3,8,9,1,null,null,null,{"$f":"_xlfn.TEXTJOIN(\"^\",,Z101:Z109)","v":"7^3^1"},null,5,3,null,10,17,25,35,40,{"$nulls":4},{"$f":"_xlfn.TEXTJOIN(\"^\",,AN101:AN109)","v":"50^50^50^50^50^50^50"},null,5,{"$f":"AU$100","v":3},null,null,12,17,null,35,45,null,null,null,{"$f":"_xlfn.TEXTJOIN(\"^\",,BB101:BB109)","v":"45^45^45^45^45^45^45^45"}]
[null,null,7,{"$f":"D$100","v":5},10,17,null,null,{"$f":"I$100","v":40},50,60,null,{"$f":"M$100","v":75},null,null,{"$f":"_xlfn.TEXTJOIN(\"^\",,K101:K110)","v":"60^60^60^60^60^60^60"},null,7,{"$nulls":11},{"$f":"_xlfn.TEXTJOIN(\"^\",,AA101:AA109)","v":""},null,7,null,{"$f":"AH$100","v":6},null,null,25,35,null,{"$f":"AN$100","v":50},null,null,null,{"$f":"_xlfn.TEXTJOIN(\"^\",,AO101:AO109)","v":""},null,7,null,{"$f":"AV$100","v":5},null,null,null,{"$f":"AZ$100","v":25},35,45,null,null,null,{"$f":"_xlfn.TEXTJOIN(\"^\",,BC101:BC109)","v":""}]
[null,null,9,null,null,null,{"$f":"G$100","v":25},null,40,50,60,{"$nulls":4},{"$f":"_xlfn.TEXTJOIN(\"^\",,L101:L110)","v":"65^65^65^65^65"},null,9,{"$nulls":11},{"$f":"_xlfn.TEXTJOIN(\"^\",,AB101:AB109)","v":""},null,9,null,null,null,{"$f":"AJ$100","v":17},25,null,null,50,null,null,null,{"$f":"_xlfn.TEXTJOIN(\"^\",,AP101:AP109)","v":""},null,9,{"$nulls":5},25,null,45,null,null,null,{"$f":"_xlfn.TEXTJOIN(\"^\",,BD101:BD109)","v":""}]
[{"$nulls":15},{"$f":"_xlfn.TEXTJOIN(\"^\",,M101:M110)","v":"75^75^75^75^75^75^75"},{"$nulls":13},{"$f":"_xlfn.TEXTJOIN(\"^\",,AC101:AC109)","v":""},{"$nulls":13},{"$f":"_xlfn.TEXTJOIN(\"^\",,AQ101:AQ109)","v":""},{"$nulls":13},{"$f":"_xlfn.TEXTJOIN(\"^\",,BE101:BE109)","v":""}]
[{"$nulls":15},{"$f":"_xlfn.TEXTJOIN(\"^\",,N101:N110)","v":""},{"$nulls":12},"最终",{"$f":"_xlfn.TEXTJOIN(\"^\",,AD100:AD110)","v":"17^5^3^4^8^8^4^2^9^2^8^3^3^2^8^3^2^9^7^3^1"},{"$nulls":12},"最终",{"$f":"_xlfn.TEXTJOIN(\"^\",,AR100:AR110)","v":"3^3^3^3^3^6^6^6^6^6^10^10^10^10^10^17^17^17^17^17^17^17^25^25^25^25^25^25^25^35^35^35^35^35^35^35^40^40^40^40^40^50^50^50^50^50^50^50"},{"$nulls":12},"最终",{"$f":"_xlfn.TEXTJOIN(\"^\",,BF100:BF110)","v":"3^3^3^5^5^5^8^8^12^12^12^12^17^17^17^17^25^25^25^25^25^25^35^35^35^35^35^35^35^45^45^45^45^45^45^45^45"}]
[{"$nulls":14},"最终",{"$f":"_xlfn.TEXTJOIN(\"^\",,P101:P111)","v":"5^5^5^5^10^10^10^10^10^10^17^17^17^17^17^17^17^25^25^25^25^25^25^25^30^30^30^30^30^40^40^40^40^40^40^40^50^50^50^50^50^50^50^50^60^60^60^60^60^60^60^65^65^65^65^65^75^75^75^75^75^75^75"}]
[{"$nulls":14},{"$f":"COUNT(D101:N110)","v":63},{"$nulls":13},{"$f":"SUM(S101:AB110)","v":111},{"$nulls":13},{"$f":"COUNT(AG101:AP110)","v":48},{"$nulls":13},{"$f":"COUNT(AU101:BD110)","v":37},{"$f":"AQ113+BE113+AC113+O113","v":259}]
[{"$nulls":4},{"$f":"E115-D115","v":10},{"$f":"F115-E115","v":15},5,15,16,17,17,5,15,{"$nulls":6},{"$f":"T115-S115","v":5},5,7,8,10,5,10,{"$nulls":7},{"$f":"AH115-AG115","v":6},5,15,16,4,15,15,{"$nulls":7},{"$f":"AV115-AU115","v":2},3,4,5,8,10,10]
[3,"绿洲-3","波1·怪物",5,15,30,35,50,66,83,100,105,120,null,null,null,1,"波2·怪物",5,10,15,22,30,40,45,55,{"$nulls":4},3,"波3·怪物",4,10,15,30,46,50,65,80,{"$nulls":4},1,"波4·怪物",3,5,8,12,17,25,35,45]
[null,"5m",8,{"$nulls":12},{"$f":"_xlfn.TEXTJOIN(\"^\",,D116:D125)","v":"70241^70244"},null,8,null,null,null,70244,null,70242,{"$nulls":5},{"$f":"_xlfn.TEXTJOIN(\"^\",,S116:S125)","v":"70245^70245^70245^70245^70245"},null,8,{"$nulls":11},{"$f":"_xlfn.TEXTJOIN(\"^\",,AG116:AG125)","v":"70242^70244^70241"},null,8,{"$nulls":5},70242,null,70244,null,null,null,{"$f":"_xlfn.TEXTJOIN(\"^\",,AU116:AU125)","v":"70244^70243^70243^70244"}]
[null,null,6,{"$nulls":12},{"$f":"_xlfn.TEXTJOIN(\"^\",,E116:E125)","v":"70244^70242^70241"},null,6,null,70242,70244,null,70242,null,null,70244,null,null,null,{"$f":"_xlfn.TEXTJOIN(\"^\",,T116:T125)","v":"70242^70242^70242"},null,6,{"$nulls":11},{"$f":"_xlfn.TEXTJOIN(\"^\",,AH116:AH125)","v":"70243^70241"},null,6,null,70242,null,70241,70244,null,70242,70242,null,null,null,{"$f":"_xlfn.TEXTJOIN(\"^\",,AV116:AV125)","v":"70242^70242^70242"}]
[null,null,4,{"$nulls":12},{"$f":"_xlfn.TEXTJOIN(\"^\",,F116:F125)","v":"70243^70241^70242"},null,4,70245,null,null,70242,70242,70241,70245,70249,null,null,null,{"$f":"_xlfn.TEXTJOIN(\"^\",,U116:U125)","v":"70244^70243^70243^70244"},null,4,{"$nulls":11},{"$f":"_xlfn.TEXTJOIN(\"^\",,AI116:AI125)","v":"70245^70241"},null,4,70244,null,70245,70241,70242,70241,70241,70241,null,null,null,{"$f":"_xlfn.TEXTJOIN(\"^\",,AW116:AW125)","v":"70245^70245^70245^70245"}]
[null,null,2,{"$nulls":12},{"$f":"_xlfn.TEXTJOIN(\"^\",,G116:G125)","v":"70245^70244"},null,2,70245,null,70243,70241,70243,70243,70245,{"$nulls":4},{"$f":"_xlfn.TEXTJOIN(\"^\",,V116:V125)","v":"70244^70242^70241^70241^70242^70244"},null,2,{"$nulls":11},{"$f":"_xlfn.TEXTJOIN(\"^\",,AJ116:AJ125)","v":"70243^70242^70244"},null,2,70243,null,70245,null,70243,70241,70241,70243,null,null,null,{"$f":"_xlfn.TEXTJOIN(\"^\",,AX116:AX125)","v":"70241^70241^70241^70241^70241"}]
[null,null,1,70241,70244,70243,70245,70241,70242,70241,70243,70245,70244,null,null,{"$f":"_xlfn.TEXTJOIN(\"^\",,H116:H125)","v":"70241^70242^70244"},null,1,70245,70242,null,null,70244,70243,70245,70246,null,null,null,{"$f":"_xlfn.TEXTJOIN(\"^\",,W116:W125)","v":"70242^70242^70243^70244^70243^70242^70242"},null,1,70242,70243,70245,70243,70242,70245,70243,70249,null,null,null,{"$f":"_xlfn.TEXTJOIN(\"^\",,AK116:AK125)","v":"70242^70241"},null,1,null,70242,null,70241,null,70244,70243,{"$nulls":4},{"$f":"_xlfn.TEXTJOIN(\"^\",,AY116:AY125)","v":"70244^70242^70243^70243^70242^70244"}]
[null,null,3,70244,70242,70241,70244,70242,70243,70242,70242,70242,70243,null,null,{"$f":"_xlfn.TEXTJOIN(\"^\",,I116:I125)","v":"70242^70243^70241"},null,3,70245,null,70243,70241,70243,70243,70245,{"$nulls":4},{"$f":"_xlfn.TEXTJOIN(\"^\",,X116:X125)","v":"70242^70241^70243^70243^70243^70241^70242"},null,3,70244,70241,70241,70242,70241,70242,70242,70241,null,null,null,{"$f":"_xlfn.TEXTJOIN(\"^\",,AL116:AL125)","v":"70245^70242"},null,3,70243,null,70245,null,70243,70241,70241,70243,null,null,null,{"$f":"_xlfn.TEXTJOIN(\"^\",,AZ116:AZ125)","v":"70242^70241^70241^70244^70241^70241^70242"}]
[null,null,5,null,70241,70242,null,70244,70241,null,70244,70249,70242,null,null,{"$f":"_xlfn.TEXTJOIN(\"^\",,J116:J125)","v":"70241^70242"},null,5,70245,null,null,70242,70242,70241,70245,70242,null,null,null,{"$f":"_xlfn.TEXTJOIN(\"^\",,Y116:Y125)","v":"70245^70245^70245^70245^70245"},null,5,70241,null,null,70244,null,null,70244,70242,null,null,null,{"$f":"_xlfn.TEXTJOIN(\"^\",,AM116:AM125)","v":"70243^70242^70244"},null,5,70244,null,70245,70241,70242,70241,70241,70241,null,null,null,{"$f":"_xlfn.TEXTJOIN(\"^\",,BA116:BA125)","v":"70242^70241^70241^70243^70241^70241^70242"}]
[null,null,7,{"$nulls":12},{"$f":"_xlfn.TEXTJOIN(\"^\",,K116:K125)","v":"70243^70242^70244"},null,7,null,70242,70244,null,70242,null,null,70244,null,null,null,{"$f":"_xlfn.TEXTJOIN(\"^\",,Z116:Z125)","v":"70244^70249^70246^70242^70244"},null,7,{"$nulls":11},{"$f":"_xlfn.TEXTJOIN(\"^\",,AN116:AN125)","v":"70249^70241^70242"},null,7,null,70242,null,70241,70244,null,70242,70242,null,null,null,{"$f":"_xlfn.TEXTJOIN(\"^\",,BB116:BB125)","v":"70244^70242^70241^70243^70243^70241^70242^70244"}]
[null,null,9,{"$nulls":12},{"$f":"_xlfn.TEXTJOIN(\"^\",,L116:L125)","v":"70245^70242^70249"},null,9,null,null,null,70244,null,70242,{"$nulls":5},{"$f":"_xlfn.TEXTJOIN(\"^\",,AA116:AA125)","v":""},null,9,{"$nulls":11},{"$f":"_xlfn.TEXTJOIN(\"^\",,AO116:AO125)","v":""},null,9,{"$nulls":5},70242,null,70244,null,null,null,{"$f":"_xlfn.TEXTJOIN(\"^\",,BC116:BC125)","v":""}]
[{"$nulls":15},{"$f":"_xlfn.TEXTJOIN(\"^\",,M116:M125)","v":"70244^70243^70242"},{"$nulls":13},{"$f":"_xlfn.TEXTJOIN(\"^\",,AB116:AB125)","v":""},{"$nulls":13},{"$f":"_xlfn.TEXTJOIN(\"^\",,AP116:AP125)","v":""},{"$nulls":13},{"$f":"_xlfn.TEXTJOIN(\"^\",,BD116:BD125)","v":""}]
[{"$nulls":15},{"$f":"_xlfn.TEXTJOIN(\"^\",,N116:N125)","v":""},{"$nulls":13},{"$f":"_xlfn.TEXTJOIN(\"^\",,AC116:AC125)","v":""},{"$nulls":13},{"$f":"_xlfn.TEXTJOIN(\"^\",,AQ116:AQ125)","v":""},{"$nulls":13},{"$f":"_xlfn.TEXTJOIN(\"^\",,BE116:BE125)","v":""}]
[{"$nulls":14},"最终",{"$f":"_xlfn.TEXTJOIN(\"^\",,P116:P126)","v":"70241^70244^70244^70242^70241^70243^70241^70242^70245^70244^70241^70242^70244^70242^70243^70241^70241^70242^70243^70242^70244^70245^70242^70249^70244^70243^70242"},{"$nulls":12},"最终",{"$f":"_xlfn.TEXTJOIN(\"^\",,AD116:AD126)","v":"70245^70245^70245^70245^70245^70242^70242^70242^70244^70243^70243^70244^70244^70242^70241^70241^70242^70244^70242^70242^70243^70244^70243^70242^70242^70242^70241^70243^70243^70243^70241^70242^70245^70245^70245^70245^70245^70244^70249^70246^70242^70244"},{"$nulls":12},"最终",{"$f":"_xlfn.TEXTJOIN(\"^\",,AR116:AR126)","v":"70242^70244^70241^70243^70241^70245^70241^70243^70242^70244^70242^70241^70245^70242^70243^70242^70244^70249^70241^70242"},{"$nulls":12},"最终",{"$f":"_xlfn.TEXTJOIN(\"^\",,BF116:BF126)","v":"70244^70243^70243^70244^70242^70242^70242^70245^70245^70245^70245^70241^70241^70241^70241^70241^70244^70242^70243^70243^70242^70244^70242^70241^70241^70244^70241^70241^70242^70242^70241^70241^70243^70241^70241^70242^70244^70242^70241^70243^70243^70241^70242^70244"}]
[null,null,8,{"$nulls":14},8,null,null,null,"木精灵",null,"孢子人",{"$nulls":7},8,{"$nulls":13},8,{"$nulls":5},"孢子人",null,"木精灵"]
[null,null,6,{"$nulls":14},6,null,"孢子人","木精灵",null,"孢子人",null,null,"木精灵",{"$nulls":5},6,{"$nulls":13},6,null,"孢子人",null,"树精","木精灵",null,"孢子人","孢子人"]
[null,null,4,{"$nulls":14},4,"森林蜘蛛",null,null,"孢子人","孢子人","树精","森林蜘蛛","黑暗法师",{"$nulls":5},4,{"$nulls":13},4,"木精灵",null,"森林蜘蛛","树精","孢子人","树精","树精","树精"]
[null,null,2,{"$nulls":14},2,"森林蜘蛛",null,"哥布林","树精","哥布林","哥布林","森林蜘蛛",{"$nulls":6},2,{"$nulls":13},2,"哥布林",null,"森林蜘蛛",null,"哥布林","树精","树精","哥布林"]
[null,null,1,"树精","木精灵","哥布林","森林蜘蛛","树精","孢子人","树精","哥布林","森林蜘蛛","木精灵",{"$nulls":4},1,"森林蜘蛛","孢子人",null,null,"木精灵","哥布林","森林蜘蛛","森林巨兽",{"$nulls":5},1,"孢子人","哥布林","森林蜘蛛","哥布林","孢子人","森林蜘蛛","哥布林","黑暗法师",{"$nulls":5},1,null,"孢子人",null,"树精",null,"木精灵","哥布林"]
[null,null,3,"木精灵","孢子人","树精","木精灵","孢子人","哥布林","孢子人","孢子人","孢子人","哥布林",{"$nulls":4},3,"森林蜘蛛",null,"哥布林","树精","哥布林","哥布林","森林蜘蛛",{"$nulls":6},3,"木精灵","树精","树精","孢子人","树精","孢子人","孢子人","树精",{"$nulls":5},3,"哥布林",null,"森林蜘蛛",null,"哥布林","树精","树精","哥布林"]
[null,null,5,null,"树精","孢子人",null,"木精灵","树精",null,"木精灵","黑暗法师","孢子人",{"$nulls":4},5,"森林蜘蛛",null,null,"孢子人","孢子人","树精","森林蜘蛛","孢子人",{"$nulls":5},5,"树精",null,null,"木精灵",null,null,"木精灵","孢子人",{"$nulls":5},5,"木精灵",null,"森林蜘蛛","树精","孢子人","树精","树精","树精"]
[null,null,7,{"$nulls":14},7,null,"孢子人","木精灵",null,"孢子人",null,null,"木精灵",{"$nulls":5},7,{"$nulls":13},7,null,"孢子人",null,"树精","木精灵",null,"孢子人","孢子人"]
[null,null,9,{"$nulls":14},9,null,null,null,"木精灵",null,"孢子人",{"$nulls":7},9,{"$nulls":13},9,{"$nulls":5},"孢子人",null,"木精灵"]
[]
[null,null,"位置",5,15,30,35,50,66,83,100,105,120,{"$nulls":4},"位置",5,10,15,22,30,40,45,55,{"$nulls":5},"位置",4,10,15,30,46,50,65,80,null,null,null,{"$f":"_xlfn.TEXTJOIN(\"^\",,AG139:AG153)","v":"0^0^0"},null,"位置",3,5,8,12,17,25,35,45,null,null,null,{"$f":"_xlfn.TEXTJOIN(\"^\",,AU139:AU153)","v":"4^2^3^5"}]
[null,null,8,{"$nulls":12},{"$f":"_xlfn.TEXTJOIN(\"^\",,D139:D153)","v":"0^0"},null,8,null,null,null,{"$f":"$C139","v":8},null,{"$f":"$C139","v":8},{"$nulls":7},8,{"$nulls":11},{"$f":"_xlfn.TEXTJOIN(\"^\",,AH139:AH153)","v":"0^0"},null,8,{"$nulls":5},{"$f":"$C139","v":8},null,{"$f":"$C139","v":8},null,null,null,{"$f":"_xlfn.TEXTJOIN(\"^\",,AV139:AV153)","v":"6^1^7"}]
[null,null,6,{"$nulls":12},{"$f":"_xlfn.TEXTJOIN(\"^\",,E139:E153)","v":"0^0^0"},null,6,null,{"$f":"$C140","v":6},{"$f":"$C140","v":6},null,{"$f":"$C140","v":6},null,null,{"$f":"$C140","v":6},null,null,null,{"$f":"_xlfn.TEXTJOIN(\"^\",,S139:S153)","v":"101^102^103^104^105"},null,6,{"$nulls":11},{"$f":"_xlfn.TEXTJOIN(\"^\",,AI139:AI153)","v":"100^0"},null,6,null,{"$f":"$C140","v":6},null,{"$f":"$C140","v":6},6,null,{"$f":"$C140","v":6},6,null,null,null,{"$f":"_xlfn.TEXTJOIN(\"^\",,AW139:AW153)","v":"101^102^104^105"}]
[null,null,4,{"$nulls":12},{"$f":"_xlfn.TEXTJOIN(\"^\",,F139:F153)","v":"0^0^0"},null,4,null,null,null,{"$f":"$C141","v":4},4,4,null,4,null,null,null,{"$f":"_xlfn.TEXTJOIN(\"^\",,T139:T153)","v":"6^1^7"},null,4,{"$nulls":11},{"$f":"_xlfn.TEXTJOIN(\"^\",,AJ139:AJ153)","v":"0^0^0"},null,4,{"$f":"$C141","v":4},null,null,4,4,4,4,4,null,null,null,{"$f":"_xlfn.TEXTJOIN(\"^\",,AX139:AX153)","v":"6^4^1^5^7"}]
[null,null,2,{"$nulls":12},{"$f":"_xlfn.TEXTJOIN(\"^\",,G139:G153)","v":"100^0"},null,2,null,null,{"$f":"$C142","v":2},2,2,2,{"$nulls":5},{"$f":"_xlfn.TEXTJOIN(\"^\",,U139:U153)","v":"6^2^3^7"},null,2,{"$nulls":11},{"$f":"_xlfn.TEXTJOIN(\"^\",,AK139:AK153)","v":"0^0"},null,2,2,null,null,null,{"$f":"$C142","v":2},2,2,2,null,null,null,{"$f":"_xlfn.TEXTJOIN(\"^\",,AY139:AY153)","v":"6^4^2^3^5^7"}]
[null,null,1,0,0,0,100,0,0,0,0,100,0,null,null,{"$f":"_xlfn.TEXTJOIN(\"^\",,H139:H153)","v":"0^0^0"},null,1,null,{"$f":"$C143","v":1},null,null,1,1,null,{"$f":"$C143","v":1},null,null,null,{"$f":"_xlfn.TEXTJOIN(\"^\",,V139:V153)","v":"8^4^2^3^5^9"},null,1,0,0,100,0,0,100,0,0,null,null,null,{"$f":"_xlfn.TEXTJOIN(\"^\",,AL139:AL153)","v":"100^0"},null,1,null,{"$f":"$C143","v":1},null,{"$f":"$C143","v":1},null,1,1,{"$nulls":4},{"$f":"_xlfn.TEXTJOIN(\"^\",,AZ139:AZ153)","v":"8^4^2^1^3^5^9"}]
[null,null,3,0,0,0,0,0,0,0,0,0,0,null,null,{"$f":"_xlfn.TEXTJOIN(\"^\",,I139:I153)","v":"0^0^0"},null,3,null,null,{"$f":"$C144","v":3},{"$f":"$C144","v":3},3,3,{"$nulls":5},{"$f":"_xlfn.TEXTJOIN(\"^\",,W139:W153)","v":"6^4^2^1^3^5^7"},null,3,0,0,0,0,0,0,0,0,null,null,null,{"$f":"_xlfn.TEXTJOIN(\"^\",,AM139:AM153)","v":"0^0^0"},null,3,{"$f":"$C144","v":3},null,null,null,{"$f":"$C144","v":3},3,3,3,null,null,null,{"$f":"_xlfn.TEXTJOIN(\"^\",,BA139:BA153)","v":"6^4^2^1^3^5^7"}]
[null,null,5,null,0,0,null,0,0,null,0,0,0,null,null,{"$f":"_xlfn.TEXTJOIN(\"^\",,J139:J153)","v":"0^0"},null,5,null,null,null,5,5,5,null,{"$f":"$C145","v":5},null,null,null,{"$f":"_xlfn.TEXTJOIN(\"^\",,X139:X153)","v":"8^4^2^1^3^5^9"},null,5,0,null,null,0,null,null,0,0,null,null,null,{"$f":"_xlfn.TEXTJOIN(\"^\",,AN139:AN153)","v":"0^0^0"},null,5,5,null,null,{"$f":"$C145","v":5},5,5,5,5,null,null,null,{"$f":"_xlfn.TEXTJOIN(\"^\",,BB139:BB153)","v":"8^6^4^2^3^5^7^9"}]
[null,null,7,{"$nulls":12},{"$f":"_xlfn.TEXTJOIN(\"^\",,K139:K153)","v":"0^0^0"},null,7,null,{"$f":"$C146","v":7},{"$f":"$C146","v":7},null,7,null,null,7,null,null,null,{"$f":"_xlfn.TEXTJOIN(\"^\",,Y139:Y153)","v":"101^102^103^104^105"},null,7,{"$nulls":11},{"$f":"_xlfn.TEXTJOIN(\"^\",,AO139:AO153)","v":""},null,7,null,{"$f":"$C146","v":7},null,7,7,null,7,7,null,null,null,{"$f":"_xlfn.TEXTJOIN(\"^\",,BC139:BC153)","v":""}]
[null,null,9,{"$nulls":12},{"$f":"_xlfn.TEXTJOIN(\"^\",,L139:L153)","v":"100^0^0"},null,9,null,null,null,{"$f":"$C147","v":9},null,{"$f":"$C147","v":9},{"$nulls":7},9,{"$nulls":11},{"$f":"_xlfn.TEXTJOIN(\"^\",,AP139:AP153)","v":""},null,9,{"$nulls":5},{"$f":"$C147","v":9},null,9,null,null,null,{"$f":"_xlfn.TEXTJOIN(\"^\",,BD139:BD153)","v":""}]
[null,null,"空降",{"$nulls":12},{"$f":"_xlfn.TEXTJOIN(\"^\",,M139:M153)","v":"0^0^0"},null,"空降",{"$nulls":13},"空降",{"$nulls":11},{"$f":"_xlfn.TEXTJOIN(\"^\",,AQ139:AQ147)","v":""},null,"空降",{"$nulls":11},{"$f":"_xlfn.TEXTJOIN(\"^\",,BE139:BE147)","v":""}]
[null,null,101,{"$nulls":12},{"$f":"_xlfn.TEXTJOIN(\"^\",,N139:N153)","v":""},null,101,{"$f":"$C149","v":101},{"$nulls":5},{"$f":"$C149","v":101},{"$nulls":4},{"$f":"_xlfn.TEXTJOIN(\"^\",,Z139:Z153)","v":"6^4^1^5^7"},null,101,{"$nulls":13},101,null,null,{"$f":"$C149","v":101}]
[null,null,102,{"$nulls":14},102,102,{"$nulls":5},102,{"$nulls":4},{"$f":"_xlfn.TEXTJOIN(\"^\",,AA139:AA153)","v":""},null,102,{"$nulls":13},102,null,null,102]
[null,null,103,{"$nulls":14},103,103,{"$nulls":5},103,{"$nulls":4},{"$f":"_xlfn.TEXTJOIN(\"^\",,AB139:AB153)","v":""},null,103,{"$nulls":13},103]
[null,null,104,{"$nulls":14},104,{"$f":"$C152","v":104},{"$nulls":5},104,{"$nulls":6},104,{"$nulls":13},104,null,null,{"$f":"$C152","v":104}]
[null,null,105,{"$nulls":14},105,105,{"$nulls":5},105,{"$nulls":6},105,{"$nulls":13},105,null,null,105]
[{"$nulls":14},"最终",{"$f":"_xlfn.TEXTJOIN(\"^\",,P139:P153)","v":"0^0^0^0^0^0^0^0^100^0^0^0^0^0^0^0^0^0^0^0^0^100^0^0^0^0^0"},{"$nulls":12},"最终",{"$f":"_xlfn.TEXTJOIN(\"^\",,AD139:AD153)","v":"101^102^103^104^105^6^1^7^6^2^3^7^8^4^2^3^5^9^6^4^2^1^3^5^7^8^4^2^1^3^5^9^101^102^103^104^105^6^4^1^5^7"},{"$nulls":12},"最终",{"$f":"_xlfn.TEXTJOIN(\"^\",,AR138:AR153)","v":"0^0^0^0^0^100^0^0^0^0^0^0^100^0^0^0^0^0^0^0"},{"$nulls":12},"最终",{"$f":"_xlfn.TEXTJOIN(\"^\",,BF138:BF153)","v":"4^2^3^5^6^1^7^101^102^104^105^6^4^1^5^7^6^4^2^3^5^7^8^4^2^1^3^5^9^6^4^2^1^3^5^7^8^6^4^2^3^5^7^9"}]
[]
[null,null,"时间",5,15,30,35,50,66,83,100,105,120,{"$nulls":4},"时间",5,10,15,22,30,40,45,55,null,null,null,{"$f":"_xlfn.TEXTJOIN(\"^\",,S157:S165)","v":"5^5^5^5^5"},null,"时间",4,10,15,30,46,50,65,80,null,null,null,{"$f":"_xlfn.TEXTJOIN(\"^\",,AG157:AG165)","v":"5^3^16"},null,"时间",3,5,8,12,17,25,35,45,null,null,null,{"$f":"_xlfn.TEXTJOIN(\"^\",,AU157:AU165)","v":"3^3^3^3"}]
[null,null,8,{"$nulls":12},{"$f":"_xlfn.TEXTJOIN(\"^\",,D157:D166)","v":"8^3"},null,8,null,null,null,{"$f":"V$156","v":22},null,{"$f":"X$156","v":40},{"$nulls":5},{"$f":"_xlfn.TEXTJOIN(\"^\",,T157:T165)","v":"10^10^10"},null,8,{"$nulls":11},{"$f":"_xlfn.TEXTJOIN(\"^\",,AH157:AH165)","v":"3^8"},null,8,{"$nulls":5},{"$f":"AZ$156","v":25},null,{"$f":"BB$156","v":45},null,null,null,{"$f":"_xlfn.TEXTJOIN(\"^\",,AV157:AV165)","v":"5^5^5"}]
[null,null,6,{"$nulls":12},{"$f":"_xlfn.TEXTJOIN(\"^\",,E157:E166)","v":"2^4^8"},null,6,null,{"$f":"T$156","v":10},15,null,{"$f":"W$156","v":30},null,null,{"$f":"Z$156","v":55},null,null,null,{"$f":"_xlfn.TEXTJOIN(\"^\",,U157:U165)","v":"15^15^15^15"},null,6,{"$nulls":11},{"$f":"_xlfn.TEXTJOIN(\"^\",,AI157:AI165)","v":"7^6"},null,6,null,{"$f":"AV$156","v":5},null,{"$f":"AX$156","v":12},17,null,{"$f":"BA$156","v":35},45,null,null,null,{"$f":"_xlfn.TEXTJOIN(\"^\",,AW157:AW165)","v":"8^8^8^8"}]
[null,null,4,{"$nulls":12},{"$f":"_xlfn.TEXTJOIN(\"^\",,F157:F166)","v":"2^8^3"},null,4,{"$f":"S$156","v":5},null,null,{"$f":"V$156","v":22},30,40,45,55,null,null,null,{"$f":"_xlfn.TEXTJOIN(\"^\",,V157:V165)","v":"22^22^22^22^22^22"},null,4,{"$nulls":11},{"$f":"_xlfn.TEXTJOIN(\"^\",,AJ157:AJ165)","v":"3^4^3"},null,4,{"$f":"AU$156","v":3},null,{"$f":"AW$156","v":8},12,17,25,35,45,null,null,null,{"$f":"_xlfn.TEXTJOIN(\"^\",,AX157:AX165)","v":"12^12^12^12^12"}]
[null,null,2,{"$nulls":12},{"$f":"_xlfn.TEXTJOIN(\"^\",,G157:G166)","v":"9^2"},null,2,5,null,{"$f":"U$156","v":15},22,30,40,45,{"$nulls":4},{"$f":"_xlfn.TEXTJOIN(\"^\",,W157:W165)","v":"30^30^30^30^30^30^30"},null,2,{"$nulls":11},{"$f":"_xlfn.TEXTJOIN(\"^\",,AK157:AK165)","v":"3^9"},null,2,3,null,8,null,17,25,35,45,null,null,null,{"$f":"_xlfn.TEXTJOIN(\"^\",,AY157:AY165)","v":"17^17^17^17^17^17"}]
[null,null,1,8,2,2,9,9,3,9,4,8,2,null,null,{"$f":"_xlfn.TEXTJOIN(\"^\",,H157:H166)","v":"9^3^2"},null,1,5,{"$f":"T$156","v":10},null,null,30,40,45,55,null,null,null,{"$f":"_xlfn.TEXTJOIN(\"^\",,X157:X165)","v":"40^40^40^40^40^40^40"},null,1,5,3,7,3,3,8,3,2,null,null,null,{"$f":"_xlfn.TEXTJOIN(\"^\",,AL157:AL165)","v":"8^2"},null,1,null,{"$f":"AV$156","v":5},null,{"$f":"AX$156","v":12},null,25,35,{"$nulls":4},{"$f":"_xlfn.TEXTJOIN(\"^\",,AZ157:AZ165)","v":"25^25^25^25^25^25^25"}]
[null,null,3,3,4,8,2,3,2,4,4,3,3,null,null,{"$f":"_xlfn.TEXTJOIN(\"^\",,I157:I166)","v":"3^2^10"},null,3,{"$f":"S$156","v":5},null,{"$f":"U$156","v":15},22,30,40,45,{"$nulls":4},{"$f":"_xlfn.TEXTJOIN(\"^\",,Y157:Y165)","v":"45^45^45^45^45"},null,3,3,8,6,4,9,2,5,9,null,null,null,{"$f":"_xlfn.TEXTJOIN(\"^\",,AM157:AM165)","v":"3^5^2"},null,3,{"$f":"AU$156","v":3},null,{"$f":"AW$156","v":8},null,{"$f":"AY$156","v":17},25,35,45,null,null,null,{"$f":"_xlfn.TEXTJOIN(\"^\",,BA157:BA165)","v":"35^35^35^35^35^35^35"}]
[null,null,5,null,8,3,null,2,10,null,2,1,5,null,null,{"$f":"_xlfn.TEXTJOIN(\"^\",,J157:J166)","v":"9^4"},null,5,5,null,null,22,30,40,45,55,null,null,null,{"$f":"_xlfn.TEXTJOIN(\"^\",,Z157:Z165)","v":"55^55^55^55^55"},null,5,16,null,null,3,null,null,2,3,null,null,null,{"$f":"_xlfn.TEXTJOIN(\"^\",,AN157:AN165)","v":"2^9^3"},null,5,3,null,8,12,17,25,35,45,null,null,null,{"$f":"_xlfn.TEXTJOIN(\"^\",,BB157:BB165)","v":"45^45^45^45^45^45^45^45"}]
[null,null,7,{"$nulls":12},{"$f":"_xlfn.TEXTJOIN(\"^\",,K157:K166)","v":"4^4^2"},null,7,null,{"$f":"T$156","v":10},15,null,30,null,null,55,null,null,null,{"$f":"_xlfn.TEXTJOIN(\"^\",,AA157:AA165)","v":""},null,7,{"$nulls":11},{"$f":"_xlfn.TEXTJOIN(\"^\",,AO157:AO165)","v":""},null,7,null,{"$f":"AV$156","v":5},null,12,17,null,35,45,null,null,null,{"$f":"_xlfn.TEXTJOIN(\"^\",,BC157:BC165)","v":""}]
[null,null,9,{"$nulls":12},{"$f":"_xlfn.TEXTJOIN(\"^\",,L157:L166)","v":"8^3^1"},null,9,null,null,null,{"$f":"V$156","v":22},null,{"$f":"X$156","v":40},{"$nulls":5},{"$f":"_xlfn.TEXTJOIN(\"^\",,AB157:AB165)","v":""},null,9,{"$nulls":11},{"$f":"_xlfn.TEXTJOIN(\"^\",,AP157:AP165)","v":""},null,9,{"$nulls":5},{"$f":"AZ$156","v":25},null,45,null,null,null,{"$f":"_xlfn.TEXTJOIN(\"^\",,BD157:BD165)","v":""}]
[{"$nulls":15},{"$f":"_xlfn.TEXTJOIN(\"^\",,M157:M166)","v":"2^3^5"},{"$nulls":13},{"$f":"_xlfn.TEXTJOIN(\"^\",,AC157:AC165)","v":""},{"$nulls":13},{"$f":"_xlfn.TEXTJOIN(\"^\",,AQ157:AQ165)","v":""},{"$nulls":13},{"$f":"_xlfn.TEXTJOIN(\"^\",,BE157:BE165)","v":""}]
[{"$nulls":15},{"$f":"_xlfn.TEXTJOIN(\"^\",,N157:N166)","v":""},{"$nulls":12},"最终",{"$f":"_xlfn.TEXTJOIN(\"^\",,AD156:AD166)","v":"5^5^5^5^5^10^10^10^15^15^15^15^22^22^22^22^22^22^30^30^30^30^30^30^30^40^40^40^40^40^40^40^45^45^45^45^45^55^55^55^55^55"},{"$nulls":12},"最终",{"$f":"_xlfn.TEXTJOIN(\"^\",,AR156:AR166)","v":"5^3^16^3^8^7^6^3^4^3^3^9^8^2^3^5^2^2^9^3"},{"$nulls":12},"最终",{"$f":"_xlfn.TEXTJOIN(\"^\",,BF156:BF166)","v":"3^3^3^3^5^5^5^8^8^8^8^12^12^12^12^12^17^17^17^17^17^17^25^25^25^25^25^25^25^35^35^35^35^35^35^35^45^45^45^45^45^45^45^45"}]
[{"$nulls":14},"最终",{"$f":"_xlfn.TEXTJOIN(\"^\",,P157:P167)","v":"8^3^2^4^8^2^8^3^9^2^9^3^2^3^2^10^9^4^4^4^2^8^3^1^2^3^5"}]
[{"$nulls":14},{"$f":"SUM(D157:N166)","v":123},{"$nulls":13},{"$f":"COUNT(S157:AB166)","v":42},{"$nulls":13},{"$f":"SUM(AG157:AP166)","v":104},{"$nulls":13},{"$f":"COUNT(AU157:BD166)","v":44},{"$f":"AQ169+BE169+AC169+O169","v":313}]

{"sheet":"9","index":9,"n_rows":169,"n_cols":58,"rows_kept":169,"cut":false,"hidden":false,"merged":[]}
[]
[{"$nulls":4},{"$f":"E3-D3","v":5},{"$f":"F3-E3","v":6},4,7,8,10,5,10,10,{"$nulls":6},{"$f":"T3-S3","v":5},5,5,10,15,15,10,{"$nulls":7},{"$f":"AH3-AG3","v":2},4,5,10,15,17,18,{"$nulls":7},{"$f":"AV3-AU3","v":2},2,2,2,5,10,10]
[1,"荒林-1","波1·怪物",5,10,16,20,27,35,45,50,60,70,null,null,null,3,"波2·怪物",5,10,15,20,30,45,60,70,{"$nulls":4},3,"波3·怪物",4,6,10,15,25,40,57,75,{"$nulls":4},1,"波4·怪物",2,4,6,8,10,15,25,35]
[null,"5m",8,{"$nulls":4},70252,{"$nulls":4},70254,null,null,{"$f":"_xlfn.TEXTJOIN(\"^\",,D4:D13)","v":"70254^70252^70252^70252^70254"},null,8,{"$nulls":11},{"$f":"_xlfn.TEXTJOIN(\"^\",,S4:S13)","v":"70255^70254^70252"},null,8,{"$nulls":11},{"$f":"_xlfn.TEXTJOIN(\"^\",,AG4:AG13)","v":"70253^70251"},null,8,{"$nulls":7},70252,null,null,null,{"$f":"_xlfn.TEXTJOIN(\"^\",,AU4:AU13)","v":"70251^70251^70251^70251"}]
[null,null,6,null,70252,70252,null,null,70252,70252,null,70252,70252,null,null,{"$f":"_xlfn.TEXTJOIN(\"^\",,E4:E13)","v":"70252^70251^70251^70251^70252"},null,6,{"$nulls":11},{"$f":"_xlfn.TEXTJOIN(\"^\",,T4:T13)","v":"70252^70251"},null,6,{"$nulls":11},{"$f":"_xlfn.TEXTJOIN(\"^\",,AH4:AH13)","v":"70251^70252^70254"},null,6,{"$nulls":5},70254,70252,70252,null,null,null,{"$f":"_xlfn.TEXTJOIN(\"^\",,AV4:AV13)","v":"70252^70252^70252"}]
[null,null,4,70254,null,70251,70255,70251,70251,70252,70255,70251,70251,null,null,{"$f":"_xlfn.TEXTJOIN(\"^\",,F4:F13)","v":"70252^70251^70253^70252^70253^70251^70252"},null,4,{"$nulls":11},{"$f":"_xlfn.TEXTJOIN(\"^\",,U4:U13)","v":"70253^70251^70252"},null,4,{"$nulls":11},{"$f":"_xlfn.TEXTJOIN(\"^\",,AI4:AI13)","v":"70251^70252"},null,4,70251,70252,null,70255,70253,70251,70252,70251,null,null,null,{"$f":"_xlfn.TEXTJOIN(\"^\",,AW4:AW13)","v":"70254^70254"}]
[null,null,2,70252,70251,70253,70255,70254,70253,70251,70255,70251,70253,null,null,{"$f":"_xlfn.TEXTJOIN(\"^\",,G4:G13)","v":"70255^70255^70255^70255^70255"},null,2,{"$nulls":11},{"$f":"_xlfn.TEXTJOIN(\"^\",,V4:V13)","v":"70251^70254"},null,2,{"$nulls":11},{"$f":"_xlfn.TEXTJOIN(\"^\",,AJ4:AJ13)","v":"70255^70253"},null,2,70251,null,70254,70255,null,70251,null,70253,null,null,null,{"$f":"_xlfn.TEXTJOIN(\"^\",,AX4:AX13)","v":"70255^70255^70255^70255"}]
[null,null,1,70252,70251,70252,70255,70252,70254,70251,70255,70256,70252,null,null,{"$f":"_xlfn.TEXTJOIN(\"^\",,H4:H13)","v":"70252^70251^70254^70252^70254^70251^70252"},null,1,70255,70252,70253,70251,70251,70253,70254,70255,null,null,null,{"$f":"_xlfn.TEXTJOIN(\"^\",,W4:W13)","v":"70251^70252"},null,1,70253,70251,70251,70255,70252,70254,70251,70253,null,null,null,{"$f":"_xlfn.TEXTJOIN(\"^\",,AK4:AK13)","v":"70252^70251^70254"},null,1,null,70252,null,null,70253,null,70256,{"$nulls":4},{"$f":"_xlfn.TEXTJOIN(\"^\",,AY4:AY13)","v":"70253^70253^70253"}]
[null,null,3,70252,70251,70253,70255,70254,70253,70251,70255,70251,70253,null,null,{"$f":"_xlfn.TEXTJOIN(\"^\",,I4:I13)","v":"70252^70251^70253^70254^70253^70251^70252"},null,3,70254,70251,70251,70254,70252,70251,70252,70252,null,null,null,{"$f":"_xlfn.TEXTJOIN(\"^\",,X4:X13)","v":"70253^70251^70252^70254"},null,3,70251,70252,70252,70253,70251,70253,70252,70251,null,null,null,{"$f":"_xlfn.TEXTJOIN(\"^\",,AL4:AL13)","v":"70254^70253^70251"},null,3,70251,null,70254,70255,null,70251,null,70253,null,null,null,{"$f":"_xlfn.TEXTJOIN(\"^\",,AZ4:AZ13)","v":"70254^70251^70251^70251^70251^70254"}]
[null,null,5,70254,null,70251,70255,70251,70251,70252,70255,70251,70251,null,null,{"$f":"_xlfn.TEXTJOIN(\"^\",,J4:J13)","v":"70252^70252^70251^70251^70251^70252^70252"},null,5,70252,null,70252,null,null,70252,70251,70256,null,null,null,{"$f":"_xlfn.TEXTJOIN(\"^\",,Y4:Y13)","v":"70254^70252^70251"},null,5,null,70254,null,null,70254,70251,null,70252,null,null,null,{"$f":"_xlfn.TEXTJOIN(\"^\",,AM4:AM13)","v":"70251^70252"},null,5,70251,70252,null,70255,70253,70251,70252,70251,null,null,null,{"$f":"_xlfn.TEXTJOIN(\"^\",,BA4:BA13)","v":"70252^70252^70256^70252^70252"}]
[null,null,7,null,70252,70252,null,null,70252,70252,null,70252,70252,null,null,{"$f":"_xlfn.TEXTJOIN(\"^\",,K4:K13)","v":"70255^70255^70255^70255^70255"},null,7,{"$nulls":5},70254,{"$nulls":5},{"$f":"_xlfn.TEXTJOIN(\"^\",,Z4:Z13)","v":"70255^70252^70256"},null,7,{"$nulls":7},70254,null,null,null,{"$f":"_xlfn.TEXTJOIN(\"^\",,AN4:AN13)","v":"70253^70251^70252^70254"},null,7,{"$nulls":5},70254,70252,70252,null,null,null,{"$f":"_xlfn.TEXTJOIN(\"^\",,BB4:BB13)","v":"70252^70252^70251^70253^70253^70251^70252^70252"}]
[null,null,9,{"$nulls":4},70252,{"$nulls":4},70254,null,null,{"$f":"_xlfn.TEXTJOIN(\"^\",,L4:L13)","v":"70252^70251^70251^70256^70251^70251^70252"},null,9,{"$nulls":11},{"$f":"_xlfn.TEXTJOIN(\"^\",,AA4:AA13)","v":""},null,9,{"$nulls":11},{"$f":"_xlfn.TEXTJOIN(\"^\",,AO4:AO13)","v":""},null,9,{"$nulls":7},70252,null,null,null,{"$f":"_xlfn.TEXTJOIN(\"^\",,BC4:BC13)","v":""}]
[{"$nulls":15},{"$f":"_xlfn.TEXTJOIN(\"^\",,M4:M13)","v":"70254^70252^70251^70253^70252^70253^70251^70252^70254"},{"$nulls":13},{"$f":"_xlfn.TEXTJOIN(\"^\",,AB4:AB13)","v":""},{"$nulls":13},{"$f":"_xlfn.TEXTJOIN(\"^\",,AP4:AP13)","v":""},{"$nulls":13},{"$f":"_xlfn.TEXTJOIN(\"^\",,BD4:BD13)","v":""}]
[{"$nulls":15},{"$f":"_xlfn.TEXTJOIN(\"^\",,N4:N13)","v":""},{"$nulls":13},{"$f":"_xlfn.TEXTJOIN(\"^\",,AC4:AC13)","v":""},{"$nulls":13},{"$f":"_xlfn.TEXTJOIN(\"^\",,AQ4:AQ13)","v":""},{"$nulls":13},{"$f":"_xlfn.TEXTJOIN(\"^\",,BE4:BE13)","v":""}]
[{"$nulls":14},"最终",{"$f":"_xlfn.TEXTJOIN(\"^\",,P4:P14)","v":"70254^70252^70252^70252^70254^70252^70251^70251^70251^70252^70252^70251^70253^70252^70253^70251^70252^70255^70255^70255^70255^70255^70252^70251^70254^70252^70254^70251^70252^70252^70251^70253^70254^70253^70251^70252^70252^70252^70251^70251^70251^70252^70252^70255^70255^70255^70255^70255^70252^70251^70251^70256^70251^70251^70252^70254^70252^70251^70253^70252^70253^70251^70252^70254"},{"$nulls":12},"最终",{"$f":"_xlfn.TEXTJOIN(\"^\",,AD4:AD14)","v":"70255^70254^70252^70252^70251^70253^70251^70252^70251^70254^70251^70252^70253^70251^70252^70254^70254^70252^70251^70255^70252^70256"},{"$nulls":12},"最终",{"$f":"_xlfn.TEXTJOIN(\"^\",,AR4:AR14)","v":"70253^70251^70251^70252^70254^70251^70252^70255^70253^70252^70251^70254^70254^70253^70251^70251^70252^70253^70251^70252^70254"},{"$nulls":12},"最终",{"$f":"_xlfn.TEXTJOIN(\"^\",,BF4:BF14)","v":"70251^70251^70251^70251^70252^70252^70252^70254^70254^70255^70255^70255^70255^70253^70253^70253^70254^70251^70251^70251^70251^70254^70252^70252^70256^70252^70252^70252^70252^70251^70253^70253^70251^70252^70252"}]
[null,null,8,{"$nulls":4},"毒蜘蛛",{"$nulls":4},"木精灵",{"$nulls":4},8,{"$nulls":13},8,{"$nulls":13},8,{"$nulls":7},"毒蜘蛛"]
[null,null,6,null,"毒蜘蛛","毒蜘蛛",null,null,"毒蜘蛛","毒蜘蛛",null,"毒蜘蛛","毒蜘蛛",{"$nulls":4},6,{"$nulls":13},6,{"$nulls":13},6,{"$nulls":5},"木精灵","毒蜘蛛","毒蜘蛛"]
[null,null,4,"木精灵",null,"树精","森林蜘蛛","树精","树精","毒蜘蛛","森林蜘蛛","树精","树精",{"$nulls":4},4,{"$nulls":13},4,{"$nulls":13},4,"树精","毒蜘蛛",null,"森林蜘蛛","哥布林","树精","毒蜘蛛","树精"]
[null,null,2,"毒蜘蛛","树精","哥布林","森林蜘蛛","木精灵","哥布林","树精","森林蜘蛛","树精","哥布林",{"$nulls":4},2,{"$nulls":13},2,{"$nulls":13},2,"树精",null,"木精灵","森林蜘蛛",null,"树精",null,"哥布林"]
[null,null,1,"毒蜘蛛","树精","毒蜘蛛","森林蜘蛛","毒蜘蛛","木精灵","树精","森林蜘蛛","森林祭祀","毒蜘蛛",{"$nulls":4},1,"森林蜘蛛","毒蜘蛛","哥布林","树精","树精","哥布林","木精灵","森林蜘蛛",{"$nulls":5},1,"哥布林","树精","树精","森林蜘蛛","毒蜘蛛","木精灵","树精","哥布林",{"$nulls":5},1,null,"毒蜘蛛",null,null,"哥布林",null,"森林祭祀"]
[null,null,3,"毒蜘蛛","树精","哥布林","森林蜘蛛","木精灵","哥布林","树精","森林蜘蛛","树精","哥布林",{"$nulls":4},3,"木精灵","树精","树精","木精灵","毒蜘蛛","树精","毒蜘蛛","毒蜘蛛",{"$nulls":5},3,"树精","毒蜘蛛","毒蜘蛛","哥布林","树精","哥布林","毒蜘蛛","树精",{"$nulls":5},3,"树精",null,"木精灵","森林蜘蛛",null,"树精",null,"哥布林"]
[null,null,5,"木精灵",null,"树精","森林蜘蛛","树精","树精","毒蜘蛛","森林蜘蛛","树精","树精",{"$nulls":4},5,"毒蜘蛛",null,"毒蜘蛛",null,null,"毒蜘蛛","树精","森林祭祀",{"$nulls":5},5,null,"木精灵",null,null,"木精灵","树精",null,"毒蜘蛛",{"$nulls":5},5,"树精","毒蜘蛛",null,"森林蜘蛛","哥布林","树精","毒蜘蛛","树精"]
[null,null,7,null,"毒蜘蛛","毒蜘蛛",null,null,"毒蜘蛛","毒蜘蛛",null,"毒蜘蛛","毒蜘蛛",{"$nulls":4},7,{"$nulls":5},"木精灵",{"$nulls":7},7,{"$nulls":7},"木精灵",{"$nulls":5},7,{"$nulls":5},"木精灵","毒蜘蛛","毒蜘蛛"]
[null,null,9,{"$nulls":4},"毒蜘蛛",{"$nulls":4},"木精灵",{"$nulls":4},9,{"$nulls":13},9,{"$nulls":13},9,{"$nulls":7},"毒蜘蛛"]
[]
[null,null,"位置",5,10,16,20,27,35,45,50,60,70,{"$nulls":4},"位置",5,10,15,20,30,45,60,70,{"$nulls":5},"位置",4,6,10,15,25,40,57,75,null,null,null,{"$f":"_xlfn.TEXTJOIN(\"^\",,AG27:AG41)","v":"0^0"},null,"位置",2,4,6,8,10,15,25,35,null,null,null,{"$f":"_xlfn.TEXTJOIN(\"^\",,AU27:AU41)","v":"4^2^3^5"}]
[null,null,8,{"$nulls":4},{"$f":"$C27","v":8},{"$nulls":4},{"$f":"$C27","v":8},null,null,{"$f":"_xlfn.TEXTJOIN(\"^\",,D27:D41)","v":"4^2^1^3^5"},null,8,{"$nulls":13},8,{"$nulls":11},{"$f":"_xlfn.TEXTJOIN(\"^\",,AH27:AH41)","v":"0^0^0"},null,8,{"$nulls":7},{"$f":"$C27","v":8},null,null,null,{"$f":"_xlfn.TEXTJOIN(\"^\",,AV27:AV41)","v":"4^1^5"}]
[null,null,6,null,{"$f":"$C28","v":6},6,null,null,6,6,null,{"$f":"$C28","v":6},6,null,null,{"$f":"_xlfn.TEXTJOIN(\"^\",,E27:E41)","v":"6^2^1^3^7"},null,6,{"$nulls":11},{"$f":"_xlfn.TEXTJOIN(\"^\",,S27:S41)","v":"100^0^0"},null,6,{"$nulls":11},{"$f":"_xlfn.TEXTJOIN(\"^\",,AI27:AI41)","v":"0^0"},null,6,{"$nulls":5},{"$f":"$C28","v":6},6,6,null,null,null,{"$f":"_xlfn.TEXTJOIN(\"^\",,AW27:AW41)","v":"2^3"}]
[null,null,4,4,null,4,null,4,4,4,null,4,4,null,null,{"$f":"_xlfn.TEXTJOIN(\"^\",,F27:F41)","v":"6^4^2^1^3^5^7"},null,4,{"$nulls":11},{"$f":"_xlfn.TEXTJOIN(\"^\",,T27:T41)","v":"0^0"},null,4,{"$nulls":11},{"$f":"_xlfn.TEXTJOIN(\"^\",,AJ27:AJ41)","v":"100^0"},null,4,{"$f":"$C29","v":4},{"$f":"$C29","v":4},null,null,{"$f":"$C29","v":4},4,4,4,null,null,null,{"$f":"_xlfn.TEXTJOIN(\"^\",,AX27:AX41)","v":"101^102^104^105"}]
[null,null,2,2,2,2,null,2,2,2,null,2,2,null,null,{"$f":"_xlfn.TEXTJOIN(\"^\",,G27:G41)","v":"101^102^103^104^105"},null,2,{"$nulls":11},{"$f":"_xlfn.TEXTJOIN(\"^\",,U27:U41)","v":"0^0^0"},null,2,{"$nulls":11},{"$f":"_xlfn.TEXTJOIN(\"^\",,AK27:AK41)","v":"0^0^0"},null,2,2,null,{"$f":"$C30","v":2},null,null,2,null,2,null,null,null,{"$f":"_xlfn.TEXTJOIN(\"^\",,AY27:AY41)","v":"4^1^5"}]
[null,null,1,1,1,1,null,1,1,1,null,1,1,null,null,{"$f":"_xlfn.TEXTJOIN(\"^\",,H27:H41)","v":"8^4^2^1^3^5^9"},null,1,100,0,0,0,0,0,0,100,null,null,null,{"$f":"_xlfn.TEXTJOIN(\"^\",,V27:V41)","v":"0^0"},null,1,0,0,0,100,0,0,0,0,null,null,null,{"$f":"_xlfn.TEXTJOIN(\"^\",,AL27:AL41)","v":"0^0^0"},null,1,null,{"$f":"$C31","v":1},null,null,{"$f":"$C31","v":1},null,{"$f":"$C31","v":1},{"$nulls":4},{"$f":"_xlfn.TEXTJOIN(\"^\",,AZ27:AZ41)","v":"6^4^2^3^5^7"}]
[null,null,3,3,3,3,null,3,3,3,null,3,3,null,null,{"$f":"_xlfn.TEXTJOIN(\"^\",,I27:I41)","v":"6^4^2^1^3^5^7"},null,3,0,0,0,0,0,0,0,0,null,null,null,{"$f":"_xlfn.TEXTJOIN(\"^\",,W27:W41)","v":"0^0"},null,3,0,0,0,0,0,0,0,0,null,null,null,{"$f":"_xlfn.TEXTJOIN(\"^\",,AM27:AM41)","v":"0^0"},null,3,{"$f":"$C32","v":3},null,{"$f":"$C32","v":3},null,null,{"$f":"$C32","v":3},null,{"$f":"$C32","v":3},null,null,null,{"$f":"_xlfn.TEXTJOIN(\"^\",,BA27:BA41)","v":"6^4^1^5^7"}]
[null,null,5,5,null,5,null,5,5,5,null,5,5,null,null,{"$f":"_xlfn.TEXTJOIN(\"^\",,J27:J41)","v":"6^4^2^1^3^5^7"},null,5,0,null,0,null,null,0,0,0,null,null,null,{"$f":"_xlfn.TEXTJOIN(\"^\",,X27:X41)","v":"0^0^0^0"},null,5,null,0,null,null,0,0,null,0,null,null,null,{"$f":"_xlfn.TEXTJOIN(\"^\",,AN27:AN41)","v":"0^0^0^0"},null,5,5,{"$f":"$C33","v":5},null,null,{"$f":"$C33","v":5},5,5,5,null,null,null,{"$f":"_xlfn.TEXTJOIN(\"^\",,BB27:BB41)","v":"8^6^4^2^3^5^7^9"}]
[null,null,7,null,{"$f":"$C34","v":7},7,null,null,7,7,null,7,7,null,null,{"$f":"_xlfn.TEXTJOIN(\"^\",,K27:K41)","v":"101^102^103^104^105"},null,7,{"$nulls":5},0,{"$nulls":5},{"$f":"_xlfn.TEXTJOIN(\"^\",,Y27:Y41)","v":"0^0^0"},null,7,{"$nulls":7},0,null,null,null,{"$f":"_xlfn.TEXTJOIN(\"^\",,AO27:AO41)","v":""},null,7,{"$nulls":5},7,7,7,null,null,null,{"$f":"_xlfn.TEXTJOIN(\"^\",,BC27:BC41)","v":""}]
[null,null,9,{"$nulls":4},9,{"$nulls":4},9,null,null,{"$f":"_xlfn.TEXTJOIN(\"^\",,L27:L41)","v":"6^4^2^1^3^5^7"},null,9,{"$nulls":13},9,{"$nulls":11},{"$f":"_xlfn.TEXTJOIN(\"^\",,AP27:AP41)","v":""},null,9,{"$nulls":7},9,null,null,null,{"$f":"_xlfn.TEXTJOIN(\"^\",,BD27:BD41)","v":""}]
[null,null,"空降",{"$nulls":12},{"$f":"_xlfn.TEXTJOIN(\"^\",,M27:M41)","v":"8^6^4^2^1^3^5^7^9"},null,"空降",{"$nulls":13},"空降",{"$nulls":11},{"$f":"_xlfn.TEXTJOIN(\"^\",,AQ27:AQ35)","v":""},null,"空降",{"$nulls":11},{"$f":"_xlfn.TEXTJOIN(\"^\",,BE27:BE35)","v":""}]
[null,null,101,null,null,null,{"$f":"$C37","v":101},null,null,null,{"$f":"$C37","v":101},{"$nulls":4},{"$f":"_xlfn.TEXTJOIN(\"^\",,N27:N41)","v":""},null,101,{"$nulls":11},{"$f":"_xlfn.TEXTJOIN(\"^\",,Z27:Z41)","v":"100^0^0"},null,101,{"$nulls":13},101,null,null,null,{"$f":"$C37","v":101}]
[null,null,102,null,null,null,102,null,null,null,102,{"$nulls":6},102,{"$nulls":11},{"$f":"_xlfn.TEXTJOIN(\"^\",,AA27:AA41)","v":""},null,102,{"$nulls":13},102,null,null,null,102]
[null,null,103,null,null,null,103,null,null,null,103,{"$nulls":6},103,{"$nulls":11},{"$f":"_xlfn.TEXTJOIN(\"^\",,AB27:AB41)","v":""},null,103,{"$nulls":13},103]
[null,null,104,null,null,null,104,null,null,null,104,{"$nulls":6},104,{"$nulls":13},104,{"$nulls":13},104,null,null,null,{"$f":"$C40","v":104}]
[null,null,105,null,null,null,105,null,null,null,105,{"$nulls":6},105,{"$nulls":13},105,{"$nulls":13},105,null,null,null,105]
[{"$nulls":14},"最终",{"$f":"_xlfn.TEXTJOIN(\"^\",,P27:P41)","v":"4^2^1^3^5^6^2^1^3^7^6^4^2^1^3^5^7^101^102^103^104^105^8^4^2^1^3^5^9^6^4^2^1^3^5^7^6^4^2^1^3^5^7^101^102^103^104^105^6^4^2^1^3^5^7^8^6^4^2^1^3^5^7^9"},{"$nulls":12},"最终",{"$f":"_xlfn.TEXTJOIN(\"^\",,AD27:AD41)","v":"100^0^0^0^0^0^0^0^0^0^0^0^0^0^0^0^0^0^0^100^0^0"},{"$nulls":12},"最终",{"$f":"_xlfn.TEXTJOIN(\"^\",,AR26:AR41)","v":"0^0^0^0^0^0^0^100^0^0^0^0^0^0^0^0^0^0^0^0^0"},{"$nulls":12},"最终",{"$f":"_xlfn.TEXTJOIN(\"^\",,BF26:BF41)","v":"4^2^3^5^4^1^5^2^3^101^102^104^105^4^1^5^6^4^2^3^5^7^6^4^1^5^7^8^6^4^2^3^5^7^9"}]
[]
[null,null,"时间",5,10,16,20,27,35,45,50,60,70,{"$nulls":4},"时间",5,10,15,20,30,45,60,70,null,null,null,{"$f":"_xlfn.TEXTJOIN(\"^\",,S45:S53)","v":"12^4^6"},null,"时间",4,6,10,15,25,40,57,75,null,null,null,{"$f":"_xlfn.TEXTJOIN(\"^\",,AG45:AG53)","v":"5^17"},null,"时间",2,4,6,8,10,15,25,35,null,null,null,{"$f":"_xlfn.TEXTJOIN(\"^\",,AU45:AU53)","v":"2^2^2^2"}]
[null,null,8,{"$nulls":4},{"$f":"H$44","v":27},{"$nulls":4},{"$f":"M$44","v":70},null,null,{"$f":"_xlfn.TEXTJOIN(\"^\",,D45:D54)","v":"5^5^5^5^5"},null,8,{"$nulls":11},{"$f":"_xlfn.TEXTJOIN(\"^\",,T45:T53)","v":"4^8"},null,8,{"$nulls":11},{"$f":"_xlfn.TEXTJOIN(\"^\",,AH45:AH53)","v":"10^3^2"},null,8,{"$nulls":7},{"$f":"BB$44","v":35},null,null,null,{"$f":"_xlfn.TEXTJOIN(\"^\",,AV45:AV53)","v":"4^4^4"}]
[null,null,6,null,{"$f":"E$44","v":10},{"$f":"F$44","v":16},null,null,{"$f":"I$44","v":35},45,null,{"$f":"L$44","v":60},70,null,null,{"$f":"_xlfn.TEXTJOIN(\"^\",,E45:E54)","v":"10^10^10^10^10"},null,6,{"$nulls":11},{"$f":"_xlfn.TEXTJOIN(\"^\",,U45:U53)","v":"3^8^3"},null,6,{"$nulls":11},{"$f":"_xlfn.TEXTJOIN(\"^\",,AI45:AI53)","v":"12^4"},null,6,{"$nulls":5},{"$f":"AZ$44","v":15},25,35,null,null,null,{"$f":"_xlfn.TEXTJOIN(\"^\",,AW45:AW53)","v":"6^6"}]
[null,null,4,{"$f":"D$44","v":5},null,16,20,27,35,45,50,60,70,null,null,{"$f":"_xlfn.TEXTJOIN(\"^\",,F45:F54)","v":"16^16^16^16^16^16^16"},null,4,{"$nulls":11},{"$f":"_xlfn.TEXTJOIN(\"^\",,V45:V53)","v":"13^2"},null,4,{"$nulls":11},{"$f":"_xlfn.TEXTJOIN(\"^\",,AJ45:AJ53)","v":"8^3"},null,4,{"$f":"AU$44","v":2},4,null,{"$f":"AX$44","v":8},10,15,25,35,null,null,null,{"$f":"_xlfn.TEXTJOIN(\"^\",,AX45:AX53)","v":"8^8^8^8"}]
[null,null,2,{"$f":"D$44","v":5},{"$f":"E$44","v":10},16,20,27,35,45,50,60,70,null,null,{"$f":"_xlfn.TEXTJOIN(\"^\",,G45:G54)","v":"20^20^20^20^20"},null,2,{"$nulls":11},{"$f":"_xlfn.TEXTJOIN(\"^\",,W45:W53)","v":"12^4"},null,2,{"$nulls":11},{"$f":"_xlfn.TEXTJOIN(\"^\",,AK45:AK53)","v":"3^13^2"},null,2,2,null,{"$f":"AW$44","v":6},8,null,15,null,35,null,null,null,{"$f":"_xlfn.TEXTJOIN(\"^\",,AY45:AY53)","v":"10^10^10"}]
[null,null,1,{"$f":"D$44","v":5},10,16,20,27,35,45,50,60,70,null,null,{"$f":"_xlfn.TEXTJOIN(\"^\",,H45:H54)","v":"27^27^27^27^27^27^27"},null,1,12,4,3,13,12,2,2,8,null,null,null,{"$f":"_xlfn.TEXTJOIN(\"^\",,X45:X53)","v":"2^11^3^2"},null,1,5,10,12,8,3,2,16,2,null,null,null,{"$f":"_xlfn.TEXTJOIN(\"^\",,AL45:AL53)","v":"2^3^14"},null,1,null,{"$f":"AV$44","v":4},null,null,{"$f":"AY$44","v":10},null,{"$f":"BA$44","v":25},{"$nulls":4},{"$f":"_xlfn.TEXTJOIN(\"^\",,AZ45:AZ53)","v":"15^15^15^15^15^15"}]
[null,null,3,{"$f":"D$44","v":5},10,16,20,27,35,45,50,60,70,null,null,{"$f":"_xlfn.TEXTJOIN(\"^\",,I45:I54)","v":"35^35^35^35^35^35^35"},null,3,4,8,8,2,4,11,3,4,null,null,null,{"$f":"_xlfn.TEXTJOIN(\"^\",,Y45:Y53)","v":"2^3^14"},null,3,17,3,4,3,13,3,4,14,null,null,null,{"$f":"_xlfn.TEXTJOIN(\"^\",,AM45:AM53)","v":"16^4"},null,3,{"$f":"AU$44","v":2},null,{"$f":"AW$44","v":6},8,null,{"$f":"AZ$44","v":15},null,{"$f":"BB$44","v":35},null,null,null,{"$f":"_xlfn.TEXTJOIN(\"^\",,BA45:BA53)","v":"25^25^25^25^25"}]
[null,null,5,5,null,16,20,27,35,45,50,60,70,null,null,{"$f":"_xlfn.TEXTJOIN(\"^\",,J45:J54)","v":"45^45^45^45^45^45^45"},null,5,6,null,3,null,null,3,14,1,null,null,null,{"$f":"_xlfn.TEXTJOIN(\"^\",,Z45:Z53)","v":"8^4^1"},null,5,null,2,null,null,2,14,null,3,null,null,null,{"$f":"_xlfn.TEXTJOIN(\"^\",,AN45:AN53)","v":"2^14^3^2"},null,5,2,4,null,8,10,15,25,35,null,null,null,{"$f":"_xlfn.TEXTJOIN(\"^\",,BB45:BB53)","v":"35^35^35^35^35^35^35^35"}]
[null,null,7,null,{"$f":"E$44","v":10},16,null,null,35,45,null,{"$f":"L$44","v":60},70,null,null,{"$f":"_xlfn.TEXTJOIN(\"^\",,K45:K54)","v":"50^50^50^50^50"},null,7,{"$nulls":5},2,{"$nulls":5},{"$f":"_xlfn.TEXTJOIN(\"^\",,AA45:AA53)","v":""},null,7,{"$nulls":7},2,null,null,null,{"$f":"_xlfn.TEXTJOIN(\"^\",,AO45:AO53)","v":""},null,7,{"$nulls":5},15,25,35,null,null,null,{"$f":"_xlfn.TEXTJOIN(\"^\",,BC45:BC53)","v":""}]
[null,null,9,{"$nulls":4},{"$f":"H$44","v":27},{"$nulls":4},70,null,null,{"$f":"_xlfn.TEXTJOIN(\"^\",,L45:L54)","v":"60^60^60^60^60^60^60"},null,9,{"$nulls":11},{"$f":"_xlfn.TEXTJOIN(\"^\",,AB45:AB53)","v":""},null,9,{"$nulls":11},{"$f":"_xlfn.TEXTJOIN(\"^\",,AP45:AP53)","v":""},null,9,{"$nulls":7},35,null,null,null,{"$f":"_xlfn.TEXTJOIN(\"^\",,BD45:BD53)","v":""}]
[{"$nulls":15},{"$f":"_xlfn.TEXTJOIN(\"^\",,M45:M54)","v":"70^70^70^70^70^70^70^70^70"},{"$nulls":13},{"$f":"_xlfn.TEXTJOIN(\"^\",,AC45:AC53)","v":""},{"$nulls":13},{"$f":"_xlfn.TEXTJOIN(\"^\",,AQ45:AQ53)","v":""},{"$nulls":13},{"$f":"_xlfn.TEXTJOIN(\"^\",,BE45:BE53)","v":""}]
[{"$nulls":15},{"$f":"_xlfn.TEXTJOIN(\"^\",,N45:N54)","v":""},{"$nulls":12},"最终",{"$f":"_xlfn.TEXTJOIN(\"^\",,AD44:AD54)","v":"12^4^6^4^8^3^8^3^13^2^12^4^2^11^3^2^2^3^14^8^4^1"},{"$nulls":12},"最终",{"$f":"_xlfn.TEXTJOIN(\"^\",,AR44:AR54)","v":"5^17^10^3^2^12^4^8^3^3^13^2^2^3^14^16^4^2^14^3^2"},{"$nulls":12},"最终",{"$f":"_xlfn.TEXTJOIN(\"^\",,BF44:BF54)","v":"2^2^2^2^4^4^4^6^6^8^8^8^8^10^10^10^15^15^15^15^15^15^25^25^25^25^25^35^35^35^35^35^35^35^35"}]
[{"$nulls":14},"最终",{"$f":"_xlfn.TEXTJOIN(\"^\",,P45:P55)","v":"5^5^5^5^5^10^10^10^10^10^16^16^16^16^16^16^16^20^20^20^20^20^27^27^27^27^27^27^27^35^35^35^35^35^35^35^45^45^45^45^45^45^45^50^50^50^50^50^60^60^60^60^60^60^60^70^70^70^70^70^70^70^70^70"}]
[{"$nulls":14},{"$f":"COUNT(D45:N54)","v":64},{"$nulls":13},{"$f":"SUM(S45:AB54)","v":129},{"$nulls":13},{"$f":"SUM(AG45:AP54)","v":142},{"$nulls":13},{"$f":"COUNT(AU45:BD54)","v":35},{"$f":"AQ57+BE57+AC57+O57","v":370}]
[{"$nulls":4},{"$f":"E59-D59","v":10},{"$f":"F59-E59","v":15},15,5,15,16,17,7,15,{"$nulls":6},{"$f":"T59-S59","v":3},4,7,8,10,10,5,{"$nulls":7},{"$f":"AH59-AG59","v":5},5,7,8,10,5,10,{"$nulls":7},{"$f":"AV59-AU59","v":2},3,4,5,6,8,10]
[3,"荒林-2","波1·怪物",5,15,30,45,50,65,81,98,105,120,null,null,null,1,"波2·怪物",3,6,10,17,25,35,45,50,{"$nulls":4},1,"波3·怪物",5,10,15,22,30,40,45,55,{"$nulls":4},1,"波4·怪物",2,4,7,11,16,22,30,40]
[null,"5m",8,{"$nulls":12},{"$f":"_xlfn.TEXTJOIN(\"^\",,D60:D69)","v":"70262^70261^70264"},null,8,{"$nulls":4},70264,70262,70264,{"$nulls":4},{"$f":"_xlfn.TEXTJOIN(\"^\",,S60:S69)","v":"70264^70261^70261^70264"},null,8,null,null,null,70262,70264,null,null,70264,null,null,null,{"$f":"_xlfn.TEXTJOIN(\"^\",,AG60:AG69)","v":"70265^70265^70265^70265^70265"},null,8,{"$nulls":5},70264,null,70262,null,null,null,{"$f":"_xlfn.TEXTJOIN(\"^\",,AU60:AU69)","v":"70263^70263^70263"}]
[null,null,6,{"$nulls":12},{"$f":"_xlfn.TEXTJOIN(\"^\",,E60:E69)","v":"70262^70261"},null,6,null,70262,{"$nulls":4},70262,{"$nulls":4},{"$f":"_xlfn.TEXTJOIN(\"^\",,T60:T69)","v":"70262^70262^70262"},null,6,null,70264,null,null,70261,70262,null,70262,null,null,null,{"$f":"_xlfn.TEXTJOIN(\"^\",,AH60:AH69)","v":"70264^70262^70262^70262^70264"},null,6,null,70262,null,null,null,70262,70262,70264,null,null,null,{"$f":"_xlfn.TEXTJOIN(\"^\",,AV60:AV69)","v":"70262^70262^70262"}]
[null,null,4,{"$nulls":12},{"$f":"_xlfn.TEXTJOIN(\"^\",,F60:F69)","v":"70262^70263^70264"},null,4,70264,null,70265,70263,70262,70261,70261,70265,null,null,null,{"$f":"_xlfn.TEXTJOIN(\"^\",,U60:U69)","v":"70265^70265^70265^70265^70265"},null,4,70265,null,70261,70261,70262,70261,70265,70261,null,null,null,{"$f":"_xlfn.TEXTJOIN(\"^\",,AI60:AI69)","v":"70261^70261^70261^70261^70261"},null,4,70263,null,null,70261,70265,null,70261,70262,null,null,null,{"$f":"_xlfn.TEXTJOIN(\"^\",,AW60:AW69)","v":"70264^70264"}]
[null,null,2,{"$nulls":12},{"$f":"_xlfn.TEXTJOIN(\"^\",,G60:G69)","v":"70262^70261"},null,2,70261,null,70265,70261,70261,70263,70261,70265,null,null,null,{"$f":"_xlfn.TEXTJOIN(\"^\",,V60:V69)","v":"70263^70261^70263^70261^70263"},null,2,70265,70262,70261,70263,70261,70263,70265,70267,null,null,null,{"$f":"_xlfn.TEXTJOIN(\"^\",,AJ60:AJ69)","v":"70262^70261^70263^70263^70263^70261^70262"},null,2,null,null,70264,70261,70265,70263,70261,70263,null,null,null,{"$f":"_xlfn.TEXTJOIN(\"^\",,AX60:AX69)","v":"70261^70261^70261^70261"}]
[null,null,1,70262,70262,70262,70262,70265,70262,70262,70262,70265,70264,null,null,{"$f":"_xlfn.TEXTJOIN(\"^\",,H60:H69)","v":"70265^70261"},null,1,null,70262,70265,70263,70261,70262,70267,70265,null,null,null,{"$f":"_xlfn.TEXTJOIN(\"^\",,W60:W69)","v":"70264^70262^70261^70261^70261^70262^70264"},null,1,70265,70262,70261,70263,70262,70264,70265,70263,null,null,null,{"$f":"_xlfn.TEXTJOIN(\"^\",,AK60:AK69)","v":"70264^70261^70262^70261^70262^70261^70262^70261^70264"},null,1,70263,70262,{"$nulls":4},70264,{"$nulls":4},{"$f":"_xlfn.TEXTJOIN(\"^\",,AY60:AY69)","v":"70265^70265^70265^70265"}]
[null,null,3,70261,70261,70263,70261,70261,70261,70263,70261,70262,70263,null,null,{"$f":"_xlfn.TEXTJOIN(\"^\",,I60:I69)","v":"70262^70261^70264"},null,3,70261,null,70265,70261,70261,70263,70261,70265,null,null,null,{"$f":"_xlfn.TEXTJOIN(\"^\",,X60:X69)","v":"70262^70261^70263^70262^70263^70261^70262"},null,3,70265,70262,70261,70263,70261,70263,70265,70268,null,null,null,{"$f":"_xlfn.TEXTJOIN(\"^\",,AL60:AL69)","v":"70262^70261^70263^70264^70263^70261^70262"},null,3,null,null,70264,70261,70265,70263,70261,70263,null,null,null,{"$f":"_xlfn.TEXTJOIN(\"^\",,AZ60:AZ69)","v":"70264^70262^70263^70263^70262^70264"}]
[null,null,5,70264,null,70264,null,null,70264,70261,70264,70268,70261,null,null,{"$f":"_xlfn.TEXTJOIN(\"^\",,J60:J69)","v":"70262^70263^70261"},null,5,70264,null,70265,70263,70262,70261,70261,70265,null,null,null,{"$f":"_xlfn.TEXTJOIN(\"^\",,Y60:Y69)","v":"70264^70262^70261^70261^70267^70261^70261^70262^70264"},null,5,70265,null,70261,70261,70262,70261,70265,70261,null,null,null,{"$f":"_xlfn.TEXTJOIN(\"^\",,AM60:AM69)","v":"70265^70265^70265^70265^70265"},null,5,70263,null,null,70261,70265,null,70261,70262,null,null,null,{"$f":"_xlfn.TEXTJOIN(\"^\",,BA60:BA69)","v":"70262^70261^70261^70264^70261^70261^70262"}]
[null,null,7,{"$nulls":9},70262,null,null,{"$f":"_xlfn.TEXTJOIN(\"^\",,K60:K69)","v":"70262^70261^70264"},null,7,null,70262,{"$nulls":4},70262,{"$nulls":4},{"$f":"_xlfn.TEXTJOIN(\"^\",,Z60:Z69)","v":"70265^70265^70265^70265^70265"},null,7,null,70264,null,null,70261,70262,null,70262,null,null,null,{"$f":"_xlfn.TEXTJOIN(\"^\",,AN60:AN69)","v":"70264^70262^70261^70267^70263^70268^70261^70262^70264"},null,7,null,70262,null,null,null,70262,70262,70264,null,null,null,{"$f":"_xlfn.TEXTJOIN(\"^\",,BB60:BB69)","v":"70262^70264^70262^70263^70263^70262^70264^70262"}]
[null,null,9,{"$nulls":12},{"$f":"_xlfn.TEXTJOIN(\"^\",,L60:L69)","v":"70265^70262^70268"},null,9,{"$nulls":4},70264,70262,70264,{"$nulls":4},{"$f":"_xlfn.TEXTJOIN(\"^\",,AA60:AA69)","v":""},null,9,null,null,null,70262,70264,null,null,70264,null,null,null,{"$f":"_xlfn.TEXTJOIN(\"^\",,AO60:AO69)","v":""},null,9,{"$nulls":5},70264,null,70262,null,null,null,{"$f":"_xlfn.TEXTJOIN(\"^\",,BC60:BC69)","v":""}]
[{"$nulls":15},{"$f":"_xlfn.TEXTJOIN(\"^\",,M60:M69)","v":"70264^70263^70261^70262"},{"$nulls":13},{"$f":"_xlfn.TEXTJOIN(\"^\",,AB60:AB69)","v":""},{"$nulls":13},{"$f":"_xlfn.TEXTJOIN(\"^\",,AP60:AP69)","v":""},{"$nulls":13},{"$f":"_xlfn.TEXTJOIN(\"^\",,BD60:BD69)","v":""}]
[{"$nulls":15},{"$f":"_xlfn.TEXTJOIN(\"^\",,N60:N69)","v":""},{"$nulls":13},{"$f":"_xlfn.TEXTJOIN(\"^\",,AC60:AC69)","v":""},{"$nulls":13},{"$f":"_xlfn.TEXTJOIN(\"^\",,AQ60:AQ69)","v":""},{"$nulls":13},{"$f":"_xlfn.TEXTJOIN(\"^\",,BE60:BE69)","v":""}]
[{"$nulls":14},"最终",{"$f":"_xlfn.TEXTJOIN(\"^\",,P60:P70)","v":"70262^70261^70264^70262^70261^70262^70263^70264^70262^70261^70265^70261^70262^70261^70264^70262^70263^70261^70262^70261^70264^70265^70262^70268^70264^70263^70261^70262"},{"$nulls":12},"最终",{"$f":"_xlfn.TEXTJOIN(\"^\",,AD60:AD70)","v":"70264^70261^70261^70264^70262^70262^70262^70265^70265^70265^70265^70265^70263^70261^70263^70261^70263^70264^70262^70261^70261^70261^70262^70264^70262^70261^70263^70262^70263^70261^70262^70264^70262^70261^70261^70267^70261^70261^70262^70264^70265^70265^70265^70265^70265"},{"$nulls":12},"最终",{"$f":"_xlfn.TEXTJOIN(\"^\",,AR60:AR70)","v":"70265^70265^70265^70265^70265^70264^70262^70262^70262^70264^70261^70261^70261^70261^70261^70262^70261^70263^70263^70263^70261^70262^70264^70261^70262^70261^70262^70261^70262^70261^70264^70262^70261^70263^70264^70263^70261^70262^70265^70265^70265^70265^70265^70264^70262^70261^70267^70263^70268^70261^70262^70264"},{"$nulls":12},"最终",{"$f":"_xlfn.TEXTJOIN(\"^\",,BF60:BF70)","v":"70263^70263^70263^70262^70262^70262^70264^70264^70261^70261^70261^70261^70265^70265^70265^70265^70264^70262^70263^70263^70262^70264^70262^70261^70261^70264^70261^70261^70262^70262^70264^70262^70263^70263^70262^70264^70262"}]
[null,null,8,{"$nulls":14},8,{"$nulls":4},"木精灵","孢子人","木精灵",{"$nulls":6},8,null,null,null,"孢子人","木精灵",null,null,"木精灵",{"$nulls":5},8,{"$nulls":5},"木精灵",null,"孢子人"]
[null,null,6,{"$nulls":14},6,null,"孢子人",{"$nulls":4},"孢子人",{"$nulls":6},6,null,"木精灵",null,null,"树精","孢子人",null,"孢子人",{"$nulls":5},6,null,"孢子人",null,null,null,"孢子人","孢子人","木精灵"]
[null,null,4,{"$nulls":14},4,"木精灵",null,"森林蜘蛛","哥布林","孢子人","树精","树精","森林蜘蛛",{"$nulls":5},4,"森林蜘蛛",null,"树精","树精","孢子人","树精","森林蜘蛛","树精",{"$nulls":5},4,"哥布林",null,null,"树精","森林蜘蛛",null,"树精","孢子人"]
[null,null,2,{"$nulls":14},2,"树精",null,"森林蜘蛛","孢子人","树精","哥布林","树精","森林蜘蛛",{"$nulls":5},2,"森林蜘蛛","孢子人","树精","哥布林","树精","哥布林","森林蜘蛛","森林祭祀",{"$nulls":5},2,null,null,"木精灵","树精","森林蜘蛛","哥布林","树精","哥布林"]
[null,null,1,"孢子人","孢子人","孢子人","孢子人","森林蜘蛛","孢子人","孢子人","孢子人","森林蜘蛛","木精灵",{"$nulls":4},1,null,"孢子人","森林蜘蛛","哥布林","树精","孢子人","森林祭祀","森林蜘蛛",{"$nulls":5},1,"森林蜘蛛","孢子人","树精","哥布林","孢子人","木精灵","森林蜘蛛","哥布林",{"$nulls":5},1,"哥布林","孢子人",{"$nulls":4},"木精灵"]
[null,null,3,"树精","树精","哥布林","树精","树精","树精","哥布林","树精","孢子人","哥布林",{"$nulls":4},3,"树精",null,"森林蜘蛛","孢子人","树精","哥布林","树精","森林蜘蛛",{"$nulls":5},3,"森林蜘蛛","孢子人","树精","哥布林","树精","哥布林","森林蜘蛛","黑暗法师",{"$nulls":5},3,null,null,"木精灵","树精","森林蜘蛛","哥布林","树精","哥布林"]
[null,null,5,"木精灵",null,"木精灵",null,null,"木精灵","树精","木精灵","黑暗法师","树精",{"$nulls":4},5,"木精灵",null,"森林蜘蛛","哥布林","孢子人","树精","树精","森林蜘蛛",{"$nulls":5},5,"森林蜘蛛",null,"树精","树精","孢子人","树精","森林蜘蛛","树精",{"$nulls":5},5,"哥布林",null,null,"树精","森林蜘蛛",null,"树精","孢子人"]
[null,null,7,{"$nulls":9},"孢子人",{"$nulls":4},7,null,"孢子人",{"$nulls":4},"孢子人",{"$nulls":6},7,null,"木精灵",null,null,"树精","孢子人",null,"孢子人",{"$nulls":5},7,null,"孢子人",null,null,null,"孢子人","孢子人","木精灵"]
[null,null,9,{"$nulls":14},9,{"$nulls":4},"木精灵","孢子人","木精灵",{"$nulls":6},9,null,null,null,"孢子人","木精灵",null,null,"木精灵",{"$nulls":5},9,{"$nulls":5},"木精灵",null,"孢子人"]
[]
[null,null,"位置",5,15,30,45,50,65,81,98,105,120,{"$nulls":4},"位置",3,6,10,17,25,35,45,50,{"$nulls":5},"位置",5,10,15,22,30,40,45,55,null,null,null,{"$f":"_xlfn.TEXTJOIN(\"^\",,AG83:AG97)","v":"101^102^103^104^105"},null,"位置",2,4,7,11,16,22,30,40,null,null,null,{"$f":"_xlfn.TEXTJOIN(\"^\",,AU83:AU97)","v":"4^1^5"}]
[null,null,8,{"$nulls":12},{"$f":"_xlfn.TEXTJOIN(\"^\",,D83:D97)","v":"0^0^0"},null,8,{"$nulls":4},{"$f":"$C83","v":8},{"$f":"$C83","v":8},{"$f":"$C83","v":8},{"$nulls":6},8,null,null,null,{"$f":"$C83","v":8},{"$f":"$C83","v":8},null,null,{"$f":"$C83","v":8},null,null,null,{"$f":"_xlfn.TEXTJOIN(\"^\",,AH83:AH97)","v":"6^2^1^3^7"},null,8,{"$nulls":5},{"$f":"$C83","v":8},null,{"$f":"$C83","v":8},null,null,null,{"$f":"_xlfn.TEXTJOIN(\"^\",,AV83:AV97)","v":"6^1^7"}]
[null,null,6,{"$nulls":12},{"$f":"_xlfn.TEXTJOIN(\"^\",,E83:E97)","v":"0^0"},null,6,null,{"$f":"$C84","v":6},{"$nulls":4},6,{"$nulls":4},{"$f":"_xlfn.TEXTJOIN(\"^\",,S83:S97)","v":"4^2^3^5"},null,6,null,{"$f":"$C84","v":6},null,null,6,6,null,6,null,null,null,{"$f":"_xlfn.TEXTJOIN(\"^\",,AI83:AI97)","v":"4^2^1^3^5"},null,6,null,{"$f":"$C84","v":6},null,null,null,6,6,6,null,null,null,{"$f":"_xlfn.TEXTJOIN(\"^\",,AW83:AW97)","v":"2^3"}]
[null,null,4,{"$nulls":12},{"$f":"_xlfn.TEXTJOIN(\"^\",,F83:F97)","v":"0^0^0"},null,4,{"$f":"$C85","v":4},null,null,{"$f":"$C85","v":4},{"$f":"$C85","v":4},4,4,{"$nulls":4},{"$f":"_xlfn.TEXTJOIN(\"^\",,T83:T97)","v":"6^1^7"},null,4,null,null,{"$f":"$C85","v":4},4,{"$f":"$C85","v":4},4,null,4,null,null,null,{"$f":"_xlfn.TEXTJOIN(\"^\",,AJ83:AJ97)","v":"8^4^2^1^3^5^9"},null,4,{"$f":"$C85","v":4},null,null,{"$f":"$C85","v":4},null,null,4,4,null,null,null,{"$f":"_xlfn.TEXTJOIN(\"^\",,AX83:AX97)","v":"4^2^3^5"}]
[null,null,2,{"$nulls":12},{"$f":"_xlfn.TEXTJOIN(\"^\",,G83:G97)","v":"0^0"},null,2,2,null,null,{"$f":"$C86","v":2},2,2,2,{"$nulls":4},{"$f":"_xlfn.TEXTJOIN(\"^\",,U83:U97)","v":"101^102^103^104^105"},null,2,null,{"$f":"$C86","v":2},2,2,2,2,null,2,null,null,null,{"$f":"_xlfn.TEXTJOIN(\"^\",,AK83:AK97)","v":"8^6^4^2^1^3^5^7^9"},null,2,null,null,{"$f":"$C86","v":2},2,null,{"$f":"$C86","v":2},2,2,null,null,null,{"$f":"_xlfn.TEXTJOIN(\"^\",,AY83:AY97)","v":"101^102^104^105"}]
[null,null,1,0,0,0,0,100,0,0,0,100,0,null,null,{"$f":"_xlfn.TEXTJOIN(\"^\",,H83:H97)","v":"100^0"},null,1,null,{"$f":"$C87","v":1},null,1,1,1,1,{"$nulls":4},{"$f":"_xlfn.TEXTJOIN(\"^\",,V83:V97)","v":"4^2^1^3^5"},null,1,null,{"$f":"$C87","v":1},1,1,1,1,null,1,null,null,null,{"$f":"_xlfn.TEXTJOIN(\"^\",,AL83:AL97)","v":"6^4^2^1^3^5^7"},null,1,{"$f":"$C87","v":1},1,{"$nulls":4},1,{"$nulls":4},{"$f":"_xlfn.TEXTJOIN(\"^\",,AZ83:AZ97)","v":"8^6^2^3^7^9"}]
[null,null,3,0,0,0,0,0,0,0,0,0,0,null,null,{"$f":"_xlfn.TEXTJOIN(\"^\",,I83:I97)","v":"0^0^0"},null,3,{"$f":"$C88","v":3},null,null,3,3,3,3,{"$nulls":4},{"$f":"_xlfn.TEXTJOIN(\"^\",,W83:W97)","v":"8^4^2^1^3^5^9"},null,3,null,{"$f":"$C88","v":3},3,3,3,3,null,3,null,null,null,{"$f":"_xlfn.TEXTJOIN(\"^\",,AM83:AM97)","v":"101^102^103^104^105"},null,3,null,null,{"$f":"$C88","v":3},3,null,{"$f":"$C88","v":3},3,3,null,null,null,{"$f":"_xlfn.TEXTJOIN(\"^\",,BA83:BA97)","v":"6^4^2^1^3^5^7"}]
[null,null,5,0,null,0,null,null,0,0,0,0,0,null,null,{"$f":"_xlfn.TEXTJOIN(\"^\",,J83:J97)","v":"0^0^0"},null,5,5,null,null,{"$f":"$C89","v":5},5,5,5,{"$nulls":4},{"$f":"_xlfn.TEXTJOIN(\"^\",,X83:X97)","v":"8^4^2^1^3^5^9"},null,5,null,null,5,5,5,5,null,5,null,null,null,{"$f":"_xlfn.TEXTJOIN(\"^\",,AN83:AN97)","v":"8^6^4^2^1^3^5^7^9"},null,5,{"$f":"$C89","v":5},null,null,5,null,null,5,5,null,null,null,{"$f":"_xlfn.TEXTJOIN(\"^\",,BB83:BB97)","v":"8^6^4^2^3^5^7^9"}]
[null,null,7,{"$nulls":9},0,null,null,{"$f":"_xlfn.TEXTJOIN(\"^\",,K83:K97)","v":"0^0^0"},null,7,null,{"$f":"$C90","v":7},{"$nulls":4},7,{"$nulls":4},{"$f":"_xlfn.TEXTJOIN(\"^\",,Y83:Y97)","v":"8^6^4^2^1^3^5^7^9"},null,7,null,{"$f":"$C90","v":7},null,null,7,7,null,7,null,null,null,{"$f":"_xlfn.TEXTJOIN(\"^\",,AO83:AO97)","v":""},null,7,null,{"$f":"$C90","v":7},null,null,null,{"$f":"$C90","v":7},7,7,null,null,null,{"$f":"_xlfn.TEXTJOIN(\"^\",,BC83:BC97)","v":""}]
[null,null,9,{"$nulls":12},{"$f":"_xlfn.TEXTJOIN(\"^\",,L83:L97)","v":"100^0^0"},null,9,{"$nulls":4},{"$f":"$C91","v":9},{"$f":"$C91","v":9},9,{"$nulls":6},9,null,null,null,{"$f":"$C91","v":9},9,null,null,9,null,null,null,{"$f":"_xlfn.TEXTJOIN(\"^\",,AP83:AP97)","v":""},null,9,{"$nulls":5},9,null,9,null,null,null,{"$f":"_xlfn.TEXTJOIN(\"^\",,BD83:BD97)","v":""}]
[null,null,"空降",{"$nulls":12},{"$f":"_xlfn.TEXTJOIN(\"^\",,M83:M97)","v":"0^0^0^0"},null,"空降",{"$nulls":13},"空降",{"$nulls":11},{"$f":"_xlfn.TEXTJOIN(\"^\",,AQ83:AQ91)","v":""},null,"空降",{"$nulls":11},{"$f":"_xlfn.TEXTJOIN(\"^\",,BE83:BE91)","v":""}]
[null,null,101,{"$nulls":12},{"$f":"_xlfn.TEXTJOIN(\"^\",,N83:N97)","v":""},null,101,null,null,{"$f":"$C93","v":101},{"$nulls":4},{"$f":"$C93","v":101},null,null,null,{"$f":"_xlfn.TEXTJOIN(\"^\",,Z83:Z97)","v":"101^102^103^104^105"},null,101,{"$f":"$C93","v":101},{"$nulls":5},{"$f":"$C93","v":101},{"$nulls":6},101,{"$nulls":4},{"$f":"$C93","v":101}]
[null,null,102,{"$nulls":14},102,null,null,102,{"$nulls":4},102,null,null,null,{"$f":"_xlfn.TEXTJOIN(\"^\",,AA83:AA97)","v":""},null,102,102,{"$nulls":5},102,{"$nulls":6},102,{"$nulls":4},102]
[null,null,103,{"$nulls":14},103,null,null,103,{"$nulls":4},103,null,null,null,{"$f":"_xlfn.TEXTJOIN(\"^\",,AB83:AB97)","v":""},null,103,103,{"$nulls":5},103,{"$nulls":6},103]
[null,null,104,{"$nulls":14},104,null,null,104,{"$nulls":4},104,{"$nulls":5},104,104,{"$nulls":5},104,{"$nulls":6},104,{"$nulls":4},{"$f":"$C96","v":104}]
[null,null,105,{"$nulls":14},105,null,null,105,{"$nulls":4},105,{"$nulls":5},105,105,{"$nulls":5},105,{"$nulls":6},105,{"$nulls":4},105]
[{"$nulls":14},"最终",{"$f":"_xlfn.TEXTJOIN(\"^\",,P83:P97)","v":"0^0^0^0^0^0^0^0^0^0^100^0^0^0^0^0^0^0^0^0^0^100^0^0^0^0^0^0"},{"$nulls":12},"最终",{"$f":"_xlfn.TEXTJOIN(\"^\",,AD83:AD97)","v":"4^2^3^5^6^1^7^101^102^103^104^105^4^2^1^3^5^8^4^2^1^3^5^9^8^4^2^1^3^5^9^8^6^4^2^1^3^5^7^9^101^102^103^104^105"},{"$nulls":12},"最终",{"$f":"_xlfn.TEXTJOIN(\"^\",,AR82:AR97)","v":"101^102^103^104^105^6^2^1^3^7^4^2^1^3^5^8^4^2^1^3^5^9^8^6^4^2^1^3^5^7^9^6^4^2^1^3^5^7^101^102^103^104^105^8^6^4^2^1^3^5^7^9"},{"$nulls":12},"最终",{"$f":"_xlfn.TEXTJOIN(\"^\",,BF82:BF97)","v":"4^1^5^6^1^7^2^3^4^2^3^5^101^102^104^105^8^6^2^3^7^9^6^4^2^1^3^5^7^8^6^4^2^3^5^7^9"}]
[]
[null,null,"时间",5,15,30,45,50,65,81,98,105,120,{"$nulls":4},"时间",3,6,10,17,25,35,45,50,null,null,null,{"$f":"_xlfn.TEXTJOIN(\"^\",,S101:S109)","v":"3^3^3^3"},null,"时间",5,10,15,22,30,40,45,55,null,null,null,{"$f":"_xlfn.TEXTJOIN(\"^\",,AG101:AG109)","v":"5^5^5^5^5"},null,"时间",2,4,7,11,16,22,30,40,null,null,null,{"$f":"_xlfn.TEXTJOIN(\"^\",,AU101:AU109)","v":"2^2^2"}]
[null,null,8,{"$nulls":12},{"$f":"_xlfn.TEXTJOIN(\"^\",,D101:D110)","v":"3^7^2"},null,8,{"$nulls":4},{"$f":"W$100","v":25},35,45,{"$nulls":4},{"$f":"_xlfn.TEXTJOIN(\"^\",,T101:T109)","v":"6^6^6"},null,8,null,null,null,{"$f":"AJ$100","v":22},30,null,null,{"$f":"AN$100","v":55},null,null,null,{"$f":"_xlfn.TEXTJOIN(\"^\",,AH101:AH109)","v":"10^10^10^10^10"},null,8,{"$nulls":5},{"$f":"AZ$100","v":22},null,{"$f":"BB$100","v":40},null,null,null,{"$f":"_xlfn.TEXTJOIN(\"^\",,AV101:AV109)","v":"4^4^4"}]
[null,null,6,{"$nulls":12},{"$f":"_xlfn.TEXTJOIN(\"^\",,E101:E110)","v":"4^11"},null,6,null,{"$f":"T$100","v":6},{"$nulls":4},45,{"$nulls":4},{"$f":"_xlfn.TEXTJOIN(\"^\",,U101:U109)","v":"10^10^10^10^10"},null,6,null,{"$f":"AH$100","v":10},null,null,30,40,null,55,null,null,null,{"$f":"_xlfn.TEXTJOIN(\"^\",,AI101:AI109)","v":"15^15^15^15^15"},null,6,null,{"$f":"AV$100","v":4},null,null,null,22,30,40,null,null,null,{"$f":"_xlfn.TEXTJOIN(\"^\",,AW101:AW109)","v":"7^7"}]
[null,null,4,{"$nulls":12},{"$f":"_xlfn.TEXTJOIN(\"^\",,F101:F110)","v":"6^3^3"},null,4,{"$f":"S$100","v":3},null,{"$f":"U$100","v":10},17,25,35,45,50,null,null,null,{"$f":"_xlfn.TEXTJOIN(\"^\",,V101:V109)","v":"17^17^17^17^17"},null,4,{"$f":"AG$100","v":5},null,{"$f":"AI$100","v":15},22,30,40,45,55,null,null,null,{"$f":"_xlfn.TEXTJOIN(\"^\",,AJ101:AJ109)","v":"22^22^22^22^22^22^22"},null,4,{"$f":"AU$100","v":2},null,null,{"$f":"AX$100","v":11},16,null,30,40,null,null,null,{"$f":"_xlfn.TEXTJOIN(\"^\",,AX101:AX109)","v":"11^11^11^11"}]
[null,null,2,{"$nulls":12},{"$f":"_xlfn.TEXTJOIN(\"^\",,G101:G110)","v":"4^12"},null,2,3,null,10,17,25,35,45,50,null,null,null,{"$f":"_xlfn.TEXTJOIN(\"^\",,W101:W109)","v":"25^25^25^25^25^25^25"},null,2,5,10,15,22,30,40,45,55,null,null,null,{"$f":"_xlfn.TEXTJOIN(\"^\",,AK101:AK109)","v":"30^30^30^30^30^30^30^30^30"},null,2,null,null,{"$f":"AW$100","v":7},11,16,22,30,40,null,null,null,{"$f":"_xlfn.TEXTJOIN(\"^\",,AY101:AY109)","v":"16^16^16^16"}]
[null,null,1,3,4,6,4,6,4,3,4,8,2,null,null,{"$f":"_xlfn.TEXTJOIN(\"^\",,H101:H110)","v":"6^11"},null,1,null,{"$f":"T$100","v":6},10,17,25,35,45,50,null,null,null,{"$f":"_xlfn.TEXTJOIN(\"^\",,X101:X109)","v":"35^35^35^35^35^35^35"},null,1,5,10,15,22,30,40,45,55,null,null,null,{"$f":"_xlfn.TEXTJOIN(\"^\",,AL101:AL109)","v":"40^40^40^40^40^40^40"},null,1,{"$f":"AU$100","v":2},4,{"$nulls":4},30,{"$nulls":4},{"$f":"_xlfn.TEXTJOIN(\"^\",,AZ101:AZ109)","v":"22^22^22^22^22^22"}]
[null,null,3,7,11,3,12,11,13,2,15,4,3,null,null,{"$f":"_xlfn.TEXTJOIN(\"^\",,I101:I110)","v":"4^13^2"},null,3,{"$f":"S$100","v":3},null,10,17,25,35,45,50,null,null,null,{"$f":"_xlfn.TEXTJOIN(\"^\",,Y101:Y109)","v":"45^45^45^45^45^45^45^45^45"},null,3,5,10,15,22,30,40,45,55,null,null,null,{"$f":"_xlfn.TEXTJOIN(\"^\",,AM101:AM109)","v":"45^45^45^45^45"},null,3,null,null,{"$f":"AW$100","v":7},11,16,22,30,40,null,null,null,{"$f":"_xlfn.TEXTJOIN(\"^\",,BA101:BA109)","v":"30^30^30^30^30^30^30"}]
[null,null,5,2,null,3,null,null,2,14,2,1,14,null,null,{"$f":"_xlfn.TEXTJOIN(\"^\",,J101:J110)","v":"3^2^14"},null,5,3,null,10,17,25,35,45,50,null,null,null,{"$f":"_xlfn.TEXTJOIN(\"^\",,Z101:Z109)","v":"50^50^50^50^50"},null,5,5,null,15,22,30,40,45,55,null,null,null,{"$f":"_xlfn.TEXTJOIN(\"^\",,AN101:AN109)","v":"55^55^55^55^55^55^55^55^55"},null,5,{"$f":"AU$100","v":2},null,null,11,16,null,30,40,null,null,null,{"$f":"_xlfn.TEXTJOIN(\"^\",,BB101:BB109)","v":"40^40^40^40^40^40^40^40"}]
[null,null,7,{"$nulls":9},3,null,null,{"$f":"_xlfn.TEXTJOIN(\"^\",,K101:K110)","v":"4^15^2"},null,7,null,{"$f":"T$100","v":6},{"$nulls":4},45,{"$nulls":4},{"$f":"_xlfn.TEXTJOIN(\"^\",,AA101:AA109)","v":""},null,7,null,{"$f":"AH$100","v":10},null,null,30,40,null,55,null,null,null,{"$f":"_xlfn.TEXTJOIN(\"^\",,AO101:AO109)","v":""},null,7,null,{"$f":"AV$100","v":4},null,null,null,{"$f":"AZ$100","v":22},30,40,null,null,null,{"$f":"_xlfn.TEXTJOIN(\"^\",,BC101:BC109)","v":""}]
[null,null,9,{"$nulls":12},{"$f":"_xlfn.TEXTJOIN(\"^\",,L101:L110)","v":"8^4^1"},null,9,{"$nulls":4},{"$f":"W$100","v":25},35,45,{"$nulls":4},{"$f":"_xlfn.TEXTJOIN(\"^\",,AB101:AB109)","v":""},null,9,null,null,null,{"$f":"AJ$100","v":22},30,null,null,55,null,null,null,{"$f":"_xlfn.TEXTJOIN(\"^\",,AP101:AP109)","v":""},null,9,{"$nulls":5},22,null,40,null,null,null,{"$f":"_xlfn.TEXTJOIN(\"^\",,BD101:BD109)","v":""}]
[{"$nulls":15},{"$f":"_xlfn.TEXTJOIN(\"^\",,M101:M110)","v":"2^3^14^3"},{"$nulls":13},{"$f":"_xlfn.TEXTJOIN(\"^\",,AC101:AC109)","v":""},{"$nulls":13},{"$f":"_xlfn.TEXTJOIN(\"^\",,AQ101:AQ109)","v":""},{"$nulls":13},{"$f":"_xlfn.TEXTJOIN(\"^\",,BE101:BE109)","v":""}]
[{"$nulls":15},{"$f":"_xlfn.TEXTJOIN(\"^\",,N101:N110)","v":""},{"$nulls":12},"最终",{"$f":"_xlfn.TEXTJOIN(\"^\",,AD100:AD110)","v":"3^3^3^3^6^6^6^10^10^10^10^10^17^17^17^17^17^25^25^25^25^25^25^25^35^35^35^35^35^35^35^45^45^45^45^45^45^45^45^45^50^50^50^50^50"},{"$nulls":12},"最终",{"$f":"_xlfn.TEXTJOIN(\"^\",,AR100:AR110)","v":"5^5^5^5^5^10^10^10^10^10^15^15^15^15^15^22^22^22^22^22^22^22^30^30^30^30^30^30^30^30^30^40^40^40^40^40^40^40^45^45^45^45^45^55^55^55^55^55^55^55^55^55"},{"$nulls":12},"最终",{"$f":"_xlfn.TEXTJOIN(\"^\",,BF100:BF110)","v":"2^2^2^4^4^4^7^7^11^11^11^11^16^16^16^16^22^22^22^22^22^22^30^30^30^30^30^30^30^40^40^40^40^40^40^40^40"}]
[{"$nulls":14},"最终",{"$f":"_xlfn.TEXTJOIN(\"^\",,P101:P111)","v":"3^7^2^4^11^6^3^3^4^12^6^11^4^13^2^3^2^14^4^15^2^8^4^1^2^3^14^3"}]
[{"$nulls":14},{"$f":"SUM(D101:N110)","v":166},{"$nulls":13},{"$f":"COUNT(S101:AB110)","v":45},{"$nulls":13},{"$f":"COUNT(AG101:AP110)","v":52},{"$nulls":13},{"$f":"COUNT(AU101:BD110)","v":37},{"$f":"AQ113+BE113+AC113+O113","v":300}]
[{"$nulls":4},{"$f":"E115-D115","v":5},{"$f":"F115-E115","v":6},4,7,8,10,10,5,10,{"$nulls":6},{"$f":"T115-S115","v":5},5,7,8,10,5,10,{"$nulls":7},{"$f":"AH115-AG115","v":6},5,15,16,4,15,15,{"$nulls":7},{"$f":"AV115-AU115","v":2},3,4,5,6,7,10]
[1,"荒林-3","波1·怪物",5,10,16,20,27,35,45,55,60,70,null,null,null,1,"波2·怪物",5,10,15,22,30,40,45,55,{"$nulls":4},3,"波3·怪物",4,10,15,30,46,50,65,80,{"$nulls":4},1,"波4·怪物",3,5,8,12,17,23,30,40]
[null,"5m",8,null,null,70272,null,70274,70274,70272,null,null,70272,null,null,{"$f":"_xlfn.TEXTJOIN(\"^\",,D116:D125)","v":"70274^70271^70271^70271^70274"},null,8,null,null,null,70274,null,70272,{"$nulls":5},{"$f":"_xlfn.TEXTJOIN(\"^\",,S116:S125)","v":"70275^70275^70275^70275"},null,8,{"$nulls":11},{"$f":"_xlfn.TEXTJOIN(\"^\",,AG116:AG125)","v":"70272^70274^70271"},null,8,{"$nulls":5},70272,null,70274,null,null,null,{"$f":"_xlfn.TEXTJOIN(\"^\",,AU116:AU125)","v":"70274^70273^70273^70274"}]
[null,null,6,70274,null,70271,null,70272,null,70271,70274,null,70272,null,null,{"$f":"_xlfn.TEXTJOIN(\"^\",,E116:E125)","v":"70272^70272^70274^70272^70272"},null,6,null,70272,70274,null,70272,null,null,70274,null,null,null,{"$f":"_xlfn.TEXTJOIN(\"^\",,T116:T125)","v":"70272^70272^70272"},null,6,{"$nulls":11},{"$f":"_xlfn.TEXTJOIN(\"^\",,AH116:AH125)","v":"70273^70271"},null,6,null,70272,null,70271,70274,null,70272,70272,null,null,null,{"$f":"_xlfn.TEXTJOIN(\"^\",,AV116:AV125)","v":"70272^70272^70272"}]
[null,null,4,null,70272,null,70275,null,70272,70271,70272,70275,70271,null,null,{"$f":"_xlfn.TEXTJOIN(\"^\",,F116:F125)","v":"70272^70271^70273^70272^70273^70271^70272"},null,4,70275,null,null,70272,70272,70271,70275,70272,null,null,null,{"$f":"_xlfn.TEXTJOIN(\"^\",,U116:U125)","v":"70274^70273^70273^70274"},null,4,{"$nulls":11},{"$f":"_xlfn.TEXTJOIN(\"^\",,AI116:AI125)","v":"70275^70272"},null,4,70274,null,70275,70271,70272,70271,70271,70271,null,null,null,{"$f":"_xlfn.TEXTJOIN(\"^\",,AW116:AW125)","v":"70275^70275^70275^70275"}]
[null,null,2,70271,70272,70273,70275,70271,70273,70271,70273,70275,70273,null,null,{"$f":"_xlfn.TEXTJOIN(\"^\",,G116:G125)","v":"70275^70275^70275^70275^70275"},null,2,70275,null,70273,70271,70273,70273,70275,{"$nulls":4},{"$f":"_xlfn.TEXTJOIN(\"^\",,V116:V125)","v":"70274^70272^70271^70271^70272^70274"},null,2,{"$nulls":11},{"$f":"_xlfn.TEXTJOIN(\"^\",,AJ116:AJ125)","v":"70271^70273^70272^70274"},null,2,70273,null,70275,null,70273,70271,70271,70273,null,null,null,{"$f":"_xlfn.TEXTJOIN(\"^\",,AX116:AX125)","v":"70271^70271^70271^70271^70271"}]
[null,null,1,70271,70274,70272,70275,70271,70272,70272,70272,70275,70279,null,null,{"$f":"_xlfn.TEXTJOIN(\"^\",,H116:H125)","v":"70274^70272^70271^70271^70271^70272^70274"},null,1,null,70272,null,null,70274,70273,70275,70276,null,null,null,{"$f":"_xlfn.TEXTJOIN(\"^\",,W116:W125)","v":"70272^70272^70273^70274^70273^70272^70272"},null,1,70272,70273,70275,70271,70272,70275,70271,70273,null,null,null,{"$f":"_xlfn.TEXTJOIN(\"^\",,AK116:AK125)","v":"70272^70271"},null,1,null,70272,null,70271,null,70274,70273,{"$nulls":4},{"$f":"_xlfn.TEXTJOIN(\"^\",,AY116:AY125)","v":"70274^70272^70273^70273^70272^70274"}]
[null,null,3,70271,70272,70273,70275,70271,70273,70271,70273,70275,70273,null,null,{"$f":"_xlfn.TEXTJOIN(\"^\",,I116:I125)","v":"70274^70272^70273^70272^70273^70272^70274"},null,3,70275,null,70273,70271,70273,70273,70275,{"$nulls":4},{"$f":"_xlfn.TEXTJOIN(\"^\",,X116:X125)","v":"70272^70271^70273^70273^70273^70271^70272"},null,3,70274,70271,70272,70273,70271,70274,70273,70271,null,null,null,{"$f":"_xlfn.TEXTJOIN(\"^\",,AL116:AL125)","v":"70275^70274"},null,3,70273,null,70275,null,70273,70271,70271,70273,null,null,null,{"$f":"_xlfn.TEXTJOIN(\"^\",,AZ116:AZ125)","v":"70272^70271^70271^70274^70271^70271^70272"}]
[null,null,5,null,70272,null,70275,null,70272,70271,70272,70275,70271,null,null,{"$f":"_xlfn.TEXTJOIN(\"^\",,J116:J125)","v":"70272^70271^70271^70271^70272^70271^70271^70271^70272"},null,5,70275,null,null,70272,70272,70271,70275,70279,null,null,null,{"$f":"_xlfn.TEXTJOIN(\"^\",,Y116:Y125)","v":"70275^70275^70275^70275^70275"},null,5,70271,null,null,70272,null,null,70272,70279,null,null,null,{"$f":"_xlfn.TEXTJOIN(\"^\",,AM116:AM125)","v":"70271^70273^70272^70274"},null,5,70274,null,70275,70271,70272,70271,70271,70271,null,null,null,{"$f":"_xlfn.TEXTJOIN(\"^\",,BA116:BA125)","v":"70272^70271^70271^70273^70271^70271^70272"}]
[null,null,7,70274,null,70271,null,70272,null,70271,70274,null,70272,null,null,{"$f":"_xlfn.TEXTJOIN(\"^\",,K116:K125)","v":"70274^70272^70273^70272^70273^70272^70274"},null,7,null,70272,70274,null,70272,null,null,70274,null,null,null,{"$f":"_xlfn.TEXTJOIN(\"^\",,Z116:Z125)","v":"70274^70272^70276^70279^70274"},null,7,null,null,null,70274,null,null,70274,{"$nulls":4},{"$f":"_xlfn.TEXTJOIN(\"^\",,AN116:AN125)","v":"70273^70271^70279"},null,7,null,70272,null,70271,70274,null,70272,70272,null,null,null,{"$f":"_xlfn.TEXTJOIN(\"^\",,BB116:BB125)","v":"70274^70272^70271^70273^70273^70271^70272^70274"}]
[null,null,9,null,null,70272,null,70274,70274,70272,null,null,70272,null,null,{"$f":"_xlfn.TEXTJOIN(\"^\",,L116:L125)","v":"70275^70275^70275^70275^70275"},null,9,null,null,null,70274,null,70272,{"$nulls":5},{"$f":"_xlfn.TEXTJOIN(\"^\",,AA116:AA125)","v":""},null,9,{"$nulls":11},{"$f":"_xlfn.TEXTJOIN(\"^\",,AO116:AO125)","v":""},null,9,{"$nulls":5},70272,null,70274,null,null,null,{"$f":"_xlfn.TEXTJOIN(\"^\",,BC116:BC125)","v":""}]
[{"$nulls":15},{"$f":"_xlfn.TEXTJOIN(\"^\",,M116:M125)","v":"70272^70272^70271^70273^70279^70273^70271^70272^70272"},{"$nulls":13},{"$f":"_xlfn.TEXTJOIN(\"^\",,AB116:AB125)","v":""},{"$nulls":13},{"$f":"_xlfn.TEXTJOIN(\"^\",,AP116:AP125)","v":""},{"$nulls":13},{"$f":"_xlfn.TEXTJOIN(\"^\",,BD116:BD125)","v":""}]
[{"$nulls":15},{"$f":"_xlfn.TEXTJOIN(\"^\",,N116:N125)","v":""},{"$nulls":13},{"$f":"_xlfn.TEXTJOIN(\"^\",,AC116:AC125)","v":""},{"$nulls":13},{"$f":"_xlfn.TEXTJOIN(\"^\",,AQ116:AQ125)","v":""},{"$nulls":13},{"$f":"_xlfn.TEXTJOIN(\"^\",,BE116:BE125)","v":""}]
[{"$nulls":14},"最终",{"$f":"_xlfn.TEXTJOIN(\"^\",,P116:P126)","v":"70274^70271^70271^70271^70274^70272^70272^70274^70272^70272^70272^70271^70273^70272^70273^70271^70272^70275^70275^70275^70275^70275^70274^70272^70271^70271^70271^70272^70274^70274^70272^70273^70272^70273^70272^70274^70272^70271^70271^70271^70272^70271^70271^70271^70272^70274^70272^70273^70272^70273^70272^70274^70275^70275^70275^70275^70275^70272^70272^70271^70273^70279^70273^70271^70272^70272"},{"$nulls":12},"最终",{"$f":"_xlfn.TEXTJOIN(\"^\",,AD116:AD126)","v":"70275^70275^70275^70275^70272^70272^70272^70274^70273^70273^70274^70274^70272^70271^70271^70272^70274^70272^70272^70273^70274^70273^70272^70272^70272^70271^70273^70273^70273^70271^70272^70275^70275^70275^70275^70275^70274^70272^70276^70279^70274"},{"$nulls":12},"最终",{"$f":"_xlfn.TEXTJOIN(\"^\",,AR116:AR126)","v":"70272^70274^70271^70273^70271^70275^70272^70271^70273^70272^70274^70272^70271^70275^70274^70271^70273^70272^70274^70273^70271^70279"},{"$nulls":12},"最终",{"$f":"_xlfn.TEXTJOIN(\"^\",,BF116:BF126)","v":"70274^70273^70273^70274^70272^70272^70272^70275^70275^70275^70275^70271^70271^70271^70271^70271^70274^70272^70273^70273^70272^70274^70272^70271^70271^70274^70271^70271^70272^70272^70271^70271^70273^70271^70271^70272^70274^70272^70271^70273^70273^70271^70272^70274"}]
[null,null,8,null,null,"孢子人",null,"木精灵","木精灵","孢子人",null,null,"孢子人",{"$nulls":4},8,null,null,null,"木精灵",null,"孢子人",{"$nulls":7},8,{"$nulls":13},8,{"$nulls":5},"孢子人",null,"木精灵"]
[null,null,6,"木精灵",null,"树精",null,"孢子人",null,"树精","木精灵",null,"孢子人",{"$nulls":4},6,null,"孢子人","木精灵",null,"孢子人",null,null,"木精灵",{"$nulls":5},6,{"$nulls":13},6,null,"孢子人",null,"树精","木精灵",null,"孢子人","孢子人"]
[null,null,4,null,"孢子人",null,"森林蜘蛛",null,"孢子人","树精","孢子人","森林蜘蛛","树精",{"$nulls":4},4,"森林蜘蛛",null,null,"孢子人","孢子人","树精","森林蜘蛛","孢子人",{"$nulls":5},4,{"$nulls":13},4,"木精灵",null,"森林蜘蛛","树精","孢子人","树精","树精","树精"]
[null,null,2,"树精","孢子人","哥布林","森林蜘蛛","树精","哥布林","树精","哥布林","森林蜘蛛","哥布林",{"$nulls":4},2,"森林蜘蛛",null,"哥布林","树精","哥布林","哥布林","森林蜘蛛",{"$nulls":6},2,{"$nulls":13},2,"哥布林",null,"森林蜘蛛",null,"哥布林","树精","树精","哥布林"]
[null,null,1,"树精","木精灵","孢子人","森林蜘蛛","树精","孢子人","孢子人","孢子人","森林蜘蛛","黑暗法师",{"$nulls":4},1,null,"孢子人",null,null,"木精灵","哥布林","森林蜘蛛","森林巨兽",{"$nulls":5},1,"孢子人","哥布林","森林蜘蛛","树精","孢子人","森林蜘蛛","树精","哥布林",{"$nulls":5},1,null,"孢子人",null,"树精",null,"木精灵","哥布林"]
[null,null,3,"树精","孢子人","哥布林","森林蜘蛛","树精","哥布林","树精","哥布林","森林蜘蛛","哥布林",{"$nulls":4},3,"森林蜘蛛",null,"哥布林","树精","哥布林","哥布林","森林蜘蛛",{"$nulls":6},3,"木精灵","树精","孢子人","哥布林","树精","木精灵","哥布林","树精",{"$nulls":5},3,"哥布林",null,"森林蜘蛛",null,"哥布林","树精","树精","哥布林"]
[null,null,5,null,"孢子人",null,"森林蜘蛛",null,"孢子人","树精","孢子人","森林蜘蛛","树精",{"$nulls":4},5,"森林蜘蛛",null,null,"孢子人","孢子人","树精","森林蜘蛛","黑暗法师",{"$nulls":5},5,"树精",null,null,"孢子人",null,null,"孢子人","黑暗法师",{"$nulls":5},5,"木精灵",null,"森林蜘蛛","树精","孢子人","树精","树精","树精"]
[null,null,7,"木精灵",null,"树精",null,"孢子人",null,"树精","木精灵",null,"孢子人",{"$nulls":4},7,null,"孢子人","木精灵",null,"孢子人",null,null,"木精灵",{"$nulls":5},7,null,null,null,"木精灵",null,null,"木精灵",{"$nulls":6},7,null,"孢子人",null,"树精","木精灵",null,"孢子人","孢子人"]
[null,null,9,null,null,"孢子人",null,"木精灵","木精灵","孢子人",null,null,"孢子人",{"$nulls":4},9,null,null,null,"木精灵",null,"孢子人",{"$nulls":7},9,{"$nulls":13},9,{"$nulls":5},"孢子人",null,"木精灵"]
[]
[null,null,"位置",5,10,16,20,27,35,45,55,60,70,{"$nulls":4},"位置",5,10,15,22,30,40,45,55,{"$nulls":5},"位置",4,10,15,30,46,50,65,80,null,null,null,{"$f":"_xlfn.TEXTJOIN(\"^\",,AG139:AG153)","v":"0^0^0"},null,"位置",3,5,8,12,17,23,30,40,null,null,null,{"$f":"_xlfn.TEXTJOIN(\"^\",,AU139:AU153)","v":"4^2^3^5"}]
[null,null,8,null,null,{"$f":"$C139","v":8},null,{"$f":"$C139","v":8},{"$f":"$C139","v":8},{"$f":"$C139","v":8},null,null,{"$f":"$C139","v":8},null,null,{"$f":"_xlfn.TEXTJOIN(\"^\",,D139:D153)","v":"6^2^1^3^7"},null,8,null,null,null,{"$f":"$C139","v":8},null,{"$f":"$C139","v":8},{"$nulls":7},8,{"$nulls":11},{"$f":"_xlfn.TEXTJOIN(\"^\",,AH139:AH153)","v":"0^0"},null,8,{"$nulls":5},{"$f":"$C139","v":8},null,{"$f":"$C139","v":8},null,null,null,{"$f":"_xlfn.TEXTJOIN(\"^\",,AV139:AV153)","v":"6^1^7"}]
[null,null,6,{"$f":"$C140","v":6},null,6,null,6,null,6,6,null,6,null,null,{"$f":"_xlfn.TEXTJOIN(\"^\",,E139:E153)","v":"4^2^1^3^5"},null,6,null,{"$f":"$C140","v":6},{"$f":"$C140","v":6},null,{"$f":"$C140","v":6},null,null,{"$f":"$C140","v":6},null,null,null,{"$f":"_xlfn.TEXTJOIN(\"^\",,S139:S153)","v":"101^102^104^105"},null,6,{"$nulls":11},{"$f":"_xlfn.TEXTJOIN(\"^\",,AI139:AI153)","v":"100^0"},null,6,null,{"$f":"$C140","v":6},null,{"$f":"$C140","v":6},6,null,{"$f":"$C140","v":6},6,null,null,null,{"$f":"_xlfn.TEXTJOIN(\"^\",,AW139:AW153)","v":"101^102^104^105"}]
[null,null,4,null,{"$f":"$C141","v":4},null,null,null,{"$f":"$C141","v":4},4,4,null,4,null,null,{"$f":"_xlfn.TEXTJOIN(\"^\",,F139:F153)","v":"8^6^2^1^3^7^9"},null,4,null,null,null,{"$f":"$C141","v":4},4,4,null,4,null,null,null,{"$f":"_xlfn.TEXTJOIN(\"^\",,T139:T153)","v":"6^1^7"},null,4,{"$nulls":11},{"$f":"_xlfn.TEXTJOIN(\"^\",,AJ139:AJ153)","v":"0^0^0^0"},null,4,{"$f":"$C141","v":4},null,null,4,4,4,4,4,null,null,null,{"$f":"_xlfn.TEXTJOIN(\"^\",,AX139:AX153)","v":"6^4^1^5^7"}]
[null,null,2,{"$f":"$C142","v":2},2,{"$f":"$C142","v":2},null,{"$f":"$C142","v":2},2,2,2,null,2,null,null,{"$f":"_xlfn.TEXTJOIN(\"^\",,G139:G153)","v":"101^102^103^104^105"},null,2,null,null,{"$f":"$C142","v":2},2,2,2,{"$nulls":5},{"$f":"_xlfn.TEXTJOIN(\"^\",,U139:U153)","v":"6^2^3^7"},null,2,{"$nulls":11},{"$f":"_xlfn.TEXTJOIN(\"^\",,AK139:AK153)","v":"0^0"},null,2,2,null,null,null,{"$f":"$C142","v":2},2,2,2,null,null,null,{"$f":"_xlfn.TEXTJOIN(\"^\",,AY139:AY153)","v":"6^4^2^3^5^7"}]
[null,null,1,1,1,1,null,1,1,1,1,null,1,null,null,{"$f":"_xlfn.TEXTJOIN(\"^\",,H139:H153)","v":"8^6^2^1^3^7^9"},null,1,null,{"$f":"$C143","v":1},null,null,1,1,null,{"$f":"$C143","v":1},null,null,null,{"$f":"_xlfn.TEXTJOIN(\"^\",,V139:V153)","v":"8^4^2^3^5^9"},null,1,0,0,100,0,0,100,0,0,null,null,null,{"$f":"_xlfn.TEXTJOIN(\"^\",,AL139:AL153)","v":"100^0"},null,1,null,{"$f":"$C143","v":1},null,{"$f":"$C143","v":1},null,1,1,{"$nulls":4},{"$f":"_xlfn.TEXTJOIN(\"^\",,AZ139:AZ153)","v":"8^4^2^1^3^5^9"}]
[null,null,3,3,3,{"$f":"$C144","v":3},null,3,3,3,3,null,3,null,null,{"$f":"_xlfn.TEXTJOIN(\"^\",,I139:I153)","v":"8^4^2^1^3^5^9"},null,3,null,null,{"$f":"$C144","v":3},{"$f":"$C144","v":3},3,3,{"$nulls":5},{"$f":"_xlfn.TEXTJOIN(\"^\",,W139:W153)","v":"6^4^2^1^3^5^7"},null,3,0,0,0,0,0,0,0,0,null,null,null,{"$f":"_xlfn.TEXTJOIN(\"^\",,AM139:AM153)","v":"0^0^0^0"},null,3,{"$f":"$C144","v":3},null,null,null,{"$f":"$C144","v":3},3,3,3,null,null,null,{"$f":"_xlfn.TEXTJOIN(\"^\",,BA139:BA153)","v":"6^4^2^1^3^5^7"}]
[null,null,5,null,5,null,null,null,5,5,5,null,5,null,null,{"$f":"_xlfn.TEXTJOIN(\"^\",,J139:J153)","v":"8^6^4^2^1^3^5^7^9"},null,5,null,null,null,5,5,5,null,{"$f":"$C145","v":5},null,null,null,{"$f":"_xlfn.TEXTJOIN(\"^\",,X139:X153)","v":"8^4^2^1^3^5^9"},null,5,0,null,null,0,null,null,0,0,null,null,null,{"$f":"_xlfn.TEXTJOIN(\"^\",,AN139:AN153)","v":"0^0^0"},null,5,5,null,null,{"$f":"$C145","v":5},5,5,5,5,null,null,null,{"$f":"_xlfn.TEXTJOIN(\"^\",,BB139:BB153)","v":"8^6^4^2^3^5^7^9"}]
[null,null,7,{"$f":"$C146","v":7},null,{"$f":"$C146","v":7},null,{"$f":"$C146","v":7},null,7,7,null,7,null,null,{"$f":"_xlfn.TEXTJOIN(\"^\",,K139:K153)","v":"6^4^2^1^3^5^7"},null,7,null,{"$f":"$C146","v":7},{"$f":"$C146","v":7},null,7,null,null,7,null,null,null,{"$f":"_xlfn.TEXTJOIN(\"^\",,Y139:Y153)","v":"101^102^103^104^105"},null,7,null,null,null,0,null,null,0,{"$nulls":4},{"$f":"_xlfn.TEXTJOIN(\"^\",,AO139:AO153)","v":""},null,7,null,{"$f":"$C146","v":7},null,7,7,null,7,7,null,null,null,{"$f":"_xlfn.TEXTJOIN(\"^\",,BC139:BC153)","v":""}]
[null,null,9,null,null,9,null,9,{"$f":"$C147","v":9},9,null,null,9,null,null,{"$f":"_xlfn.TEXTJOIN(\"^\",,L139:L153)","v":"101^102^103^104^105"},null,9,null,null,null,{"$f":"$C147","v":9},null,{"$f":"$C147","v":9},{"$nulls":7},9,{"$nulls":11},{"$f":"_xlfn.TEXTJOIN(\"^\",,AP139:AP153)","v":""},null,9,{"$nulls":5},{"$f":"$C147","v":9},null,9,null,null,null,{"$f":"_xlfn.TEXTJOIN(\"^\",,BD139:BD153)","v":""}]
[null,null,"空降",{"$nulls":12},{"$f":"_xlfn.TEXTJOIN(\"^\",,M139:M153)","v":"8^6^4^2^1^3^5^7^9"},null,"空降",{"$nulls":13},"空降",{"$nulls":11},{"$f":"_xlfn.TEXTJOIN(\"^\",,AQ139:AQ147)","v":""},null,"空降",{"$nulls":11},{"$f":"_xlfn.TEXTJOIN(\"^\",,BE139:BE147)","v":""}]
[null,null,101,null,null,null,{"$f":"$C149","v":101},{"$nulls":4},{"$f":"$C149","v":101},null,null,null,{"$f":"_xlfn.TEXTJOIN(\"^\",,N139:N153)","v":""},null,101,{"$f":"$C149","v":101},{"$nulls":5},{"$f":"$C149","v":101},{"$nulls":4},{"$f":"_xlfn.TEXTJOIN(\"^\",,Z139:Z153)","v":"6^4^1^5^7"},null,101,{"$nulls":13},101,null,null,{"$f":"$C149","v":101}]
[null,null,102,null,null,null,102,{"$nulls":4},{"$f":"$C150","v":102},{"$nulls":5},102,102,{"$nulls":5},102,{"$nulls":4},{"$f":"_xlfn.TEXTJOIN(\"^\",,AA139:AA153)","v":""},null,102,{"$nulls":13},102,null,null,102]
[null,null,103,null,null,null,103,{"$nulls":4},{"$f":"$C151","v":103},{"$nulls":5},103,{"$nulls":6},103,{"$nulls":4},{"$f":"_xlfn.TEXTJOIN(\"^\",,AB139:AB153)","v":""},null,103,{"$nulls":13},103]
[null,null,104,null,null,null,104,{"$nulls":4},{"$f":"$C152","v":104},{"$nulls":5},104,{"$f":"$C152","v":104},{"$nulls":5},104,{"$nulls":6},104,{"$nulls":13},104,null,null,{"$f":"$C152","v":104}]
[null,null,105,null,null,null,105,{"$nulls":4},105,{"$nulls":5},105,105,{"$nulls":5},105,{"$nulls":6},105,{"$nulls":13},105,null,null,105]
[{"$nulls":14},"最终",{"$f":"_xlfn.TEXTJOIN(\"^\",,P139:P153)","v":"6^2^1^3^7^4^2^1^3^5^8^6^2^1^3^7^9^101^102^103^104^105^8^6^2^1^3^7^9^8^4^2^1^3^5^9^8^6^4^2^1^3^5^7^9^6^4^2^1^3^5^7^101^102^103^104^105^8^6^4^2^1^3^5^7^9"},{"$nulls":12},"最终",{"$f":"_xlfn.TEXTJOIN(\"^\",,AD139:AD153)","v":"101^102^104^105^6^1^7^6^2^3^7^8^4^2^3^5^9^6^4^2^1^3^5^7^8^4^2^1^3^5^9^101^102^103^104^105^6^4^1^5^7"},{"$nulls":12},"最终",{"$f":"_xlfn.TEXTJOIN(\"^\",,AR138:AR153)","v":"0^0^0^0^0^100^0^0^0^0^0^0^0^100^0^0^0^0^0^0^0^0"},{"$nulls":12},"最终",{"$f":"_xlfn.TEXTJOIN(\"^\",,BF138:BF153)","v":"4^2^3^5^6^1^7^101^102^104^105^6^4^1^5^7^6^4^2^3^5^7^8^4^2^1^3^5^9^6^4^2^1^3^5^7^8^6^4^2^3^5^7^9"}]
[]
[null,null,"时间",5,10,16,20,27,35,45,55,60,70,{"$nulls":4},"时间",5,10,15,22,30,40,45,55,null,null,null,{"$f":"_xlfn.TEXTJOIN(\"^\",,S157:S165)","v":"5^5^5^5"},null,"时间",4,10,15,30,46,50,65,80,null,null,null,{"$f":"_xlfn.TEXTJOIN(\"^\",,AG157:AG165)","v":"6^4^18"},null,"时间",3,5,8,12,17,23,30,40,null,null,null,{"$f":"_xlfn.TEXTJOIN(\"^\",,AU157:AU165)","v":"3^3^3^3"}]
[null,null,8,null,null,{"$f":"F$156","v":16},null,{"$f":"H$156","v":27},35,45,null,null,70,null,null,{"$f":"_xlfn.TEXTJOIN(\"^\",,D157:D166)","v":"5^5^5^5^5"},null,8,null,null,null,{"$f":"V$156","v":22},null,{"$f":"X$156","v":40},{"$nulls":5},{"$f":"_xlfn.TEXTJOIN(\"^\",,T157:T165)","v":"10^10^10"},null,8,{"$nulls":11},{"$f":"_xlfn.TEXTJOIN(\"^\",,AH157:AH165)","v":"3^12"},null,8,{"$nulls":5},{"$f":"AZ$156","v":23},null,{"$f":"BB$156","v":40},null,null,null,{"$f":"_xlfn.TEXTJOIN(\"^\",,AV157:AV165)","v":"5^5^5"}]
[null,null,6,{"$f":"D$156","v":5},null,16,null,27,null,45,55,null,70,null,null,{"$f":"_xlfn.TEXTJOIN(\"^\",,E157:E166)","v":"10^10^10^10^10"},null,6,null,{"$f":"T$156","v":10},15,null,{"$f":"W$156","v":30},null,null,{"$f":"Z$156","v":55},null,null,null,{"$f":"_xlfn.TEXTJOIN(\"^\",,U157:U165)","v":"15^15^15^15"},null,6,{"$nulls":11},{"$f":"_xlfn.TEXTJOIN(\"^\",,AI157:AI165)","v":"8^3"},null,6,null,{"$f":"AV$156","v":5},null,{"$f":"AX$156","v":12},17,null,{"$f":"BA$156","v":30},40,null,null,null,{"$f":"_xlfn.TEXTJOIN(\"^\",,AW157:AW165)","v":"8^8^8^8"}]
[null,null,4,null,{"$f":"E$156","v":10},null,20,null,35,45,55,60,70,null,null,{"$f":"_xlfn.TEXTJOIN(\"^\",,F157:F166)","v":"16^16^16^16^16^16^16"},null,4,{"$f":"S$156","v":5},null,null,{"$f":"V$156","v":22},30,40,45,55,null,null,null,{"$f":"_xlfn.TEXTJOIN(\"^\",,V157:V165)","v":"22^22^22^22^22^22"},null,4,{"$nulls":11},{"$f":"_xlfn.TEXTJOIN(\"^\",,AJ157:AJ165)","v":"8^3^3^2"},null,4,{"$f":"AU$156","v":3},null,{"$f":"AW$156","v":8},12,17,23,30,40,null,null,null,{"$f":"_xlfn.TEXTJOIN(\"^\",,AX157:AX165)","v":"12^12^12^12^12"}]
[null,null,2,{"$f":"D$156","v":5},10,{"$f":"F$156","v":16},20,27,35,45,55,60,70,null,null,{"$f":"_xlfn.TEXTJOIN(\"^\",,G157:G166)","v":"20^20^20^20^20"},null,2,5,null,{"$f":"U$156","v":15},22,30,40,45,{"$nulls":4},{"$f":"_xlfn.TEXTJOIN(\"^\",,W157:W165)","v":"30^30^30^30^30^30^30"},null,2,{"$nulls":11},{"$f":"_xlfn.TEXTJOIN(\"^\",,AK157:AK165)","v":"3^14"},null,2,3,null,8,null,17,23,30,40,null,null,null,{"$f":"_xlfn.TEXTJOIN(\"^\",,AY157:AY165)","v":"17^17^17^17^17^17"}]
[null,null,1,5,10,16,20,27,35,45,55,60,70,null,null,{"$f":"_xlfn.TEXTJOIN(\"^\",,H157:H166)","v":"27^27^27^27^27^27^27"},null,1,null,{"$f":"T$156","v":10},null,null,30,40,45,55,null,null,null,{"$f":"_xlfn.TEXTJOIN(\"^\",,X157:X165)","v":"40^40^40^40^40^40^40"},null,1,6,3,8,8,3,8,12,3,null,null,null,{"$f":"_xlfn.TEXTJOIN(\"^\",,AL157:AL165)","v":"8^3"},null,1,null,{"$f":"AV$156","v":5},null,{"$f":"AX$156","v":12},null,23,30,{"$nulls":4},{"$f":"_xlfn.TEXTJOIN(\"^\",,AZ157:AZ165)","v":"23^23^23^23^23^23^23"}]
[null,null,3,5,10,{"$f":"F$156","v":16},20,27,35,45,55,60,70,null,null,{"$f":"_xlfn.TEXTJOIN(\"^\",,I157:I166)","v":"35^35^35^35^35^35^35"},null,3,{"$f":"S$156","v":5},null,{"$f":"U$156","v":15},22,30,40,45,{"$nulls":4},{"$f":"_xlfn.TEXTJOIN(\"^\",,Y157:Y165)","v":"45^45^45^45^45"},null,3,4,12,3,3,14,3,2,14,null,null,null,{"$f":"_xlfn.TEXTJOIN(\"^\",,AM157:AM165)","v":"12^2^3^2"},null,3,{"$f":"AU$156","v":3},null,{"$f":"AW$156","v":8},null,{"$f":"AY$156","v":17},23,30,40,null,null,null,{"$f":"_xlfn.TEXTJOIN(\"^\",,BA157:BA165)","v":"30^30^30^30^30^30^30"}]
[null,null,5,null,10,null,20,null,35,45,55,60,70,null,null,{"$f":"_xlfn.TEXTJOIN(\"^\",,J157:J166)","v":"45^45^45^45^45^45^45^45^45"},null,5,5,null,null,22,30,40,45,55,null,null,null,{"$f":"_xlfn.TEXTJOIN(\"^\",,Z157:Z165)","v":"55^55^55^55^55"},null,5,18,null,null,3,null,null,3,2,null,null,null,{"$f":"_xlfn.TEXTJOIN(\"^\",,AN157:AN165)","v":"3^14^2"},null,5,3,null,8,12,17,23,30,40,null,null,null,{"$f":"_xlfn.TEXTJOIN(\"^\",,BB157:BB165)","v":"40^40^40^40^40^40^40^40"}]
[null,null,7,{"$f":"D$156","v":5},null,{"$f":"F$156","v":16},null,{"$f":"H$156","v":27},null,45,55,null,70,null,null,{"$f":"_xlfn.TEXTJOIN(\"^\",,K157:K166)","v":"55^55^55^55^55^55^55"},null,7,null,{"$f":"T$156","v":10},15,null,30,null,null,55,null,null,null,{"$f":"_xlfn.TEXTJOIN(\"^\",,AA157:AA165)","v":""},null,7,null,null,null,2,null,null,2,{"$nulls":4},{"$f":"_xlfn.TEXTJOIN(\"^\",,AO157:AO165)","v":""},null,7,null,{"$f":"AV$156","v":5},null,12,17,null,30,40,null,null,null,{"$f":"_xlfn.TEXTJOIN(\"^\",,BC157:BC165)","v":""}]
[null,null,9,null,null,16,null,27,35,45,null,null,70,null,null,{"$f":"_xlfn.TEXTJOIN(\"^\",,L157:L166)","v":"60^60^60^60^60"},null,9,null,null,null,{"$f":"V$156","v":22},null,{"$f":"X$156","v":40},{"$nulls":5},{"$f":"_xlfn.TEXTJOIN(\"^\",,AB157:AB165)","v":""},null,9,{"$nulls":11},{"$f":"_xlfn.TEXTJOIN(\"^\",,AP157:AP165)","v":""},null,9,{"$nulls":5},{"$f":"AZ$156","v":23},null,40,null,null,null,{"$f":"_xlfn.TEXTJOIN(\"^\",,BD157:BD165)","v":""}]
[{"$nulls":15},{"$f":"_xlfn.TEXTJOIN(\"^\",,M157:M166)","v":"70^70^70^70^70^70^70^70^70"},{"$nulls":13},{"$f":"_xlfn.TEXTJOIN(\"^\",,AC157:AC165)","v":""},{"$nulls":13},{"$f":"_xlfn.TEXTJOIN(\"^\",,AQ157:AQ165)","v":""},{"$nulls":13},{"$f":"_xlfn.TEXTJOIN(\"^\",,BE157:BE165)","v":""}]
[{"$nulls":15},{"$f":"_xlfn.TEXTJOIN(\"^\",,N157:N166)","v":""},{"$nulls":12},"最终",{"$f":"_xlfn.TEXTJOIN(\"^\",,AD156:AD166)","v":"5^5^5^5^10^10^10^15^15^15^15^22^22^22^22^22^22^30^30^30^30^30^30^30^40^40^40^40^40^40^40^45^45^45^45^45^55^55^55^55^55"},{"$nulls":12},"最终",{"$f":"_xlfn.TEXTJOIN(\"^\",,AR156:AR166)","v":"6^4^18^3^12^8^3^8^3^3^2^3^14^8^3^12^2^3^2^3^14^2"},{"$nulls":12},"最终",{"$f":"_xlfn.TEXTJOIN(\"^\",,BF156:BF166)","v":"3^3^3^3^5^5^5^8^8^8^8^12^12^12^12^12^17^17^17^17^17^17^23^23^23^23^23^23^23^30^30^30^30^30^30^30^40^40^40^40^40^40^40^40"}]
[{"$nulls":14},"最终",{"$f":"_xlfn.TEXTJOIN(\"^\",,P157:P167)","v":"5^5^5^5^5^10^10^10^10^10^16^16^16^16^16^16^16^20^20^20^20^20^27^27^27^27^27^27^27^35^35^35^35^35^35^35^45^45^45^45^45^45^45^45^45^55^55^55^55^55^55^55^60^60^60^60^60^70^70^70^70^70^70^70^70^70"}]
[{"$nulls":14},{"$f":"COUNT(D157:N166)","v":66},{"$nulls":13},{"$f":"COUNT(S157:AB166)","v":41},{"$nulls":13},{"$f":"SUM(AG157:AP166)","v":136},{"$nulls":13},{"$f":"COUNT(AU157:BD166)","v":44},{"$f":"AQ169+BE169+AC169+O169","v":287}]

{"sheet":"10","index":10,"n_rows":169,"n_cols":58,"rows_kept":169,"cut":false,"hidden":false,"merged":[]}
[]
[{"$nulls":4},{"$f":"E3-D3","v":5},{"$f":"F3-E3","v":6},4,7,8,10,5,10,10,{"$nulls":6},{"$f":"T3-S3","v":5},5,5,10,15,15,10,{"$nulls":7},{"$f":"AH3-AG3","v":2},4,5,10,15,17,18,{"$nulls":7},{"$f":"AV3-AU3","v":2},2,2,2,7,8,10]
[1,"高原-1","波1·怪物",5,10,16,20,27,35,45,50,60,70,null,null,null,3,"波2·怪物",5,10,15,20,30,45,60,70,{"$nulls":4},3,"波3·怪物",4,6,10,15,25,40,57,75,{"$nulls":4},1,"波4·怪物",2,4,6,8,10,17,25,35]
[null,"5m",8,{"$nulls":5},70284,null,null,null,70284,null,null,{"$f":"_xlfn.TEXTJOIN(\"^\",,D4:D13)","v":"70284^70282^70282^70282^70284"},null,8,{"$nulls":11},{"$f":"_xlfn.TEXTJOIN(\"^\",,S4:S13)","v":"70285^70281^70284"},null,8,{"$nulls":11},{"$f":"_xlfn.TEXTJOIN(\"^\",,AG4:AG13)","v":"70283^70281^70284"},null,8,{"$nulls":7},70282,null,null,null,{"$f":"_xlfn.TEXTJOIN(\"^\",,AU4:AU13)","v":"70281^70281^70281^70281"}]
[null,null,6,null,70281,70284,null,70282,70282,70282,null,70282,70282,null,null,{"$f":"_xlfn.TEXTJOIN(\"^\",,E4:E13)","v":"70281^70281^70282^70281^70282^70281^70281"},null,6,{"$nulls":11},{"$f":"_xlfn.TEXTJOIN(\"^\",,T4:T13)","v":"70282^70281"},null,6,{"$nulls":11},{"$f":"_xlfn.TEXTJOIN(\"^\",,AH4:AH13)","v":"70281^70282"},null,6,{"$nulls":5},70284,70282,70282,null,null,null,{"$f":"_xlfn.TEXTJOIN(\"^\",,AV4:AV13)","v":"70282^70282^70282"}]
[null,null,4,70284,70281,70282,70285,70281,70281,70282,70285,70281,70281,null,null,{"$f":"_xlfn.TEXTJOIN(\"^\",,F4:F13)","v":"70284^70282^70283^70283^70283^70282^70284"},null,4,{"$nulls":11},{"$f":"_xlfn.TEXTJOIN(\"^\",,U4:U13)","v":"70283^70281^70282"},null,4,{"$nulls":11},{"$f":"_xlfn.TEXTJOIN(\"^\",,AI4:AI13)","v":"70281^70282^70283"},null,4,70281,70282,null,70285,70283,70281,70282,70281,null,null,null,{"$f":"_xlfn.TEXTJOIN(\"^\",,AW4:AW13)","v":"70284^70284"}]
[null,null,2,70282,70282,70283,70285,70281,70283,70281,70285,70281,70283,null,null,{"$f":"_xlfn.TEXTJOIN(\"^\",,G4:G13)","v":"70285^70285^70285^70285^70285"},null,2,{"$nulls":11},{"$f":"_xlfn.TEXTJOIN(\"^\",,V4:V13)","v":"70281^70284"},null,2,{"$nulls":11},{"$f":"_xlfn.TEXTJOIN(\"^\",,AJ4:AJ13)","v":"70285^70283"},null,2,70281,null,70284,70285,null,70281,null,70283,null,null,null,{"$f":"_xlfn.TEXTJOIN(\"^\",,AX4:AX13)","v":"70285^70285^70285^70285"}]
[null,null,1,70282,70281,70283,70285,70282,70282,70281,70285,70284,70284,null,null,{"$f":"_xlfn.TEXTJOIN(\"^\",,H4:H13)","v":"70282^70281^70281^70282^70281^70281^70282"},null,1,70285,70282,70283,70281,70281,70283,70284,70285,null,null,null,{"$f":"_xlfn.TEXTJOIN(\"^\",,W4:W13)","v":"70281^70282"},null,1,70283,70281,70281,70285,70282,70284,70281,70283,null,null,null,{"$f":"_xlfn.TEXTJOIN(\"^\",,AK4:AK13)","v":"70282^70281^70284"},null,1,null,70282,null,null,70283,null,70282,{"$nulls":4},{"$f":"_xlfn.TEXTJOIN(\"^\",,AY4:AY13)","v":"70283^70283^70283"}]
[null,null,3,70282,70282,70283,70285,70281,70283,70281,70285,70281,70283,null,null,{"$f":"_xlfn.TEXTJOIN(\"^\",,I4:I13)","v":"70284^70282^70281^70283^70282^70283^70281^70282^70284"},null,3,70281,70281,70281,70284,70282,70281,70282,70282,null,null,null,{"$f":"_xlfn.TEXTJOIN(\"^\",,X4:X13)","v":"70283^70281^70282^70284"},null,3,70281,70282,70282,70283,70281,70283,70282,70281,null,null,null,{"$f":"_xlfn.TEXTJOIN(\"^\",,AL4:AL13)","v":"70284^70283^70281"},null,3,70281,null,70284,70285,null,70281,null,70283,null,null,null,{"$f":"_xlfn.TEXTJOIN(\"^\",,AZ4:AZ13)","v":"70284^70281^70281^70281^70281^70284"}]
[null,null,5,70284,70281,70282,70285,70281,70281,70282,70285,70281,70281,null,null,{"$f":"_xlfn.TEXTJOIN(\"^\",,J4:J13)","v":"70282^70282^70281^70281^70281^70282^70282"},null,5,70284,null,70282,null,null,70282,70281,{"$nulls":4},{"$f":"_xlfn.TEXTJOIN(\"^\",,Y4:Y13)","v":"70284^70282^70281"},null,5,70284,null,70283,null,70284,70281,null,70282,null,null,null,{"$f":"_xlfn.TEXTJOIN(\"^\",,AM4:AM13)","v":"70281^70282"},null,5,70281,70282,null,70285,70283,70281,70282,70281,null,null,null,{"$f":"_xlfn.TEXTJOIN(\"^\",,BA4:BA13)","v":"70282^70282^70282^70282^70282"}]
[null,null,7,null,70281,70284,null,70282,70282,70282,null,70282,70282,null,null,{"$f":"_xlfn.TEXTJOIN(\"^\",,K4:K13)","v":"70285^70285^70285^70285^70285"},null,7,{"$nulls":5},70284,{"$nulls":5},{"$f":"_xlfn.TEXTJOIN(\"^\",,Z4:Z13)","v":"70285^70282"},null,7,{"$nulls":7},70284,null,null,null,{"$f":"_xlfn.TEXTJOIN(\"^\",,AN4:AN13)","v":"70283^70281^70282^70284"},null,7,{"$nulls":5},70284,70282,70282,null,null,null,{"$f":"_xlfn.TEXTJOIN(\"^\",,BB4:BB13)","v":"70282^70282^70281^70283^70283^70281^70282^70282"}]
[null,null,9,{"$nulls":5},70284,null,null,null,70284,null,null,{"$f":"_xlfn.TEXTJOIN(\"^\",,L4:L13)","v":"70282^70281^70281^70284^70281^70281^70282"},null,9,{"$nulls":11},{"$f":"_xlfn.TEXTJOIN(\"^\",,AA4:AA13)","v":""},null,9,{"$nulls":11},{"$f":"_xlfn.TEXTJOIN(\"^\",,AO4:AO13)","v":""},null,9,{"$nulls":7},70282,null,null,null,{"$f":"_xlfn.TEXTJOIN(\"^\",,BC4:BC13)","v":""}]
[{"$nulls":15},{"$f":"_xlfn.TEXTJOIN(\"^\",,M4:M13)","v":"70284^70282^70281^70283^70284^70283^70281^70282^70284"},{"$nulls":13},{"$f":"_xlfn.TEXTJOIN(\"^\",,AB4:AB13)","v":""},{"$nulls":13},{"$f":"_xlfn.TEXTJOIN(\"^\",,AP4:AP13)","v":""},{"$nulls":13},{"$f":"_xlfn.TEXTJOIN(\"^\",,BD4:BD13)","v":""}]
[{"$nulls":15},{"$f":"_xlfn.TEXTJOIN(\"^\",,N4:N13)","v":""},{"$nulls":13},{"$f":"_xlfn.TEXTJOIN(\"^\",,AC4:AC13)","v":""},{"$nulls":13},{"$f":"_xlfn.TEXTJOIN(\"^\",,AQ4:AQ13)","v":""},{"$nulls":13},{"$f":"_xlfn.TEXTJOIN(\"^\",,BE4:BE13)","v":""}]
[{"$nulls":14},"最终",{"$f":"_xlfn.TEXTJOIN(\"^\",,P4:P14)","v":"70284^70282^70282^70282^70284^70281^70281^70282^70281^70282^70281^70281^70284^70282^70283^70283^70283^70282^70284^70285^70285^70285^70285^70285^70282^70281^70281^70282^70281^70281^70282^70284^70282^70281^70283^70282^70283^70281^70282^70284^70282^70282^70281^70281^70281^70282^70282^70285^70285^70285^70285^70285^70282^70281^70281^70284^70281^70281^70282^70284^70282^70281^70283^70284^70283^70281^70282^70284"},{"$nulls":12},"最终",{"$f":"_xlfn.TEXTJOIN(\"^\",,AD4:AD14)","v":"70285^70281^70284^70282^70281^70283^70281^70282^70281^70284^70281^70282^70283^70281^70282^70284^70284^70282^70281^70285^70282"},{"$nulls":12},"最终",{"$f":"_xlfn.TEXTJOIN(\"^\",,AR4:AR14)","v":"70283^70281^70284^70281^70282^70281^70282^70283^70285^70283^70282^70281^70284^70284^70283^70281^70281^70282^70283^70281^70282^70284"},{"$nulls":12},"最终",{"$f":"_xlfn.TEXTJOIN(\"^\",,BF4:BF14)","v":"70281^70281^70281^70281^70282^70282^70282^70284^70284^70285^70285^70285^70285^70283^70283^70283^70284^70281^70281^70281^70281^70284^70282^70282^70282^70282^70282^70282^70282^70281^70283^70283^70281^70282^70282"}]
[null,null,8,{"$nulls":5},"木精灵",null,null,null,"木精灵",{"$nulls":4},8,{"$nulls":13},8,{"$nulls":13},8,{"$nulls":7},"独角兽"]
[null,null,6,null,"雪怪","木精灵",null,"独角兽","独角兽","独角兽",null,"独角兽","独角兽",{"$nulls":4},6,{"$nulls":13},6,{"$nulls":13},6,{"$nulls":5},"木精灵","独角兽","独角兽"]
[null,null,4,"木精灵","雪怪","独角兽","雪山蜘蛛","雪怪","雪怪","独角兽","雪山蜘蛛","雪怪","雪怪",{"$nulls":4},4,{"$nulls":13},4,{"$nulls":13},4,"雪怪","独角兽",null,"雪山蜘蛛","雪原兽","雪怪","独角兽","雪怪"]
[null,null,2,"独角兽","独角兽","雪原兽","雪山蜘蛛","雪怪","雪原兽","雪怪","雪山蜘蛛","雪怪","雪原兽",{"$nulls":4},2,{"$nulls":13},2,{"$nulls":13},2,"雪怪",null,"木精灵","雪山蜘蛛",null,"雪怪",null,"雪原兽"]
[null,null,1,"独角兽","雪怪","雪原兽","雪山蜘蛛","独角兽","独角兽","雪怪","雪山蜘蛛","木精灵","木精灵",{"$nulls":4},1,"雪山蜘蛛","独角兽","雪原兽","雪怪","雪怪","雪原兽","木精灵","雪山蜘蛛",{"$nulls":5},1,"雪原兽","雪怪","雪怪","雪山蜘蛛","独角兽","木精灵","雪怪","雪原兽",{"$nulls":5},1,null,"独角兽",null,null,"雪原兽",null,"独角兽"]
[null,null,3,"独角兽","独角兽","雪原兽","雪山蜘蛛","雪怪","雪原兽","雪怪","雪山蜘蛛","雪怪","雪原兽",{"$nulls":4},3,"雪怪","雪怪","雪怪","木精灵","独角兽","雪怪","独角兽","独角兽",{"$nulls":5},3,"雪怪","独角兽","独角兽","雪原兽","雪怪","雪原兽","独角兽","雪怪",{"$nulls":5},3,"雪怪",null,"木精灵","雪山蜘蛛",null,"雪怪",null,"雪原兽"]
[null,null,5,"木精灵","雪怪","独角兽","雪山蜘蛛","雪怪","雪怪","独角兽","雪山蜘蛛","雪怪","雪怪",{"$nulls":4},5,"木精灵",null,"独角兽",null,null,"独角兽","雪怪",{"$nulls":6},5,"木精灵",null,"雪原兽",null,"木精灵","雪怪",null,"独角兽",{"$nulls":5},5,"雪怪","独角兽",null,"雪山蜘蛛","雪原兽","雪怪","独角兽","雪怪"]
[null,null,7,null,"雪怪","木精灵",null,"独角兽","独角兽","独角兽",null,"独角兽","独角兽",{"$nulls":4},7,{"$nulls":5},"木精灵",{"$nulls":7},7,{"$nulls":7},"木精灵",{"$nulls":5},7,{"$nulls":5},"木精灵","独角兽","独角兽"]
[null,null,9,{"$nulls":5},"木精灵",null,null,null,"木精灵",{"$nulls":4},9,{"$nulls":13},9,{"$nulls":13},9,{"$nulls":7},"独角兽"]
[]
[null,null,"位置",5,10,16,20,27,35,45,50,60,70,{"$nulls":4},"位置",5,10,15,20,30,45,60,70,{"$nulls":5},"位置",4,6,10,15,25,40,57,75,null,null,null,{"$f":"_xlfn.TEXTJOIN(\"^\",,AG27:AG41)","v":"0^0^0"},null,"位置",2,4,6,8,10,17,25,35,null,null,null,{"$f":"_xlfn.TEXTJOIN(\"^\",,AU27:AU41)","v":"4^2^3^5"}]
[null,null,8,{"$nulls":5},{"$f":"$C27","v":8},null,null,null,{"$f":"$C27","v":8},null,null,{"$f":"_xlfn.TEXTJOIN(\"^\",,D27:D41)","v":"4^2^1^3^5"},null,8,{"$nulls":13},8,{"$nulls":11},{"$f":"_xlfn.TEXTJOIN(\"^\",,AH27:AH41)","v":"0^0"},null,8,{"$nulls":7},{"$f":"$C27","v":8},null,null,null,{"$f":"_xlfn.TEXTJOIN(\"^\",,AV27:AV41)","v":"4^1^5"}]
[null,null,6,null,{"$f":"$C28","v":6},6,null,{"$f":"$C28","v":6},6,6,null,{"$f":"$C28","v":6},6,null,null,{"$f":"_xlfn.TEXTJOIN(\"^\",,E27:E41)","v":"6^4^2^1^3^5^7"},null,6,{"$nulls":11},{"$f":"_xlfn.TEXTJOIN(\"^\",,S27:S41)","v":"100^0^0"},null,6,{"$nulls":11},{"$f":"_xlfn.TEXTJOIN(\"^\",,AI27:AI41)","v":"0^0^0"},null,6,{"$nulls":5},{"$f":"$C28","v":6},6,6,null,null,null,{"$f":"_xlfn.TEXTJOIN(\"^\",,AW27:AW41)","v":"2^3"}]
[null,null,4,{"$f":"$C29","v":4},4,4,null,4,4,4,null,4,4,null,null,{"$f":"_xlfn.TEXTJOIN(\"^\",,F27:F41)","v":"6^4^2^1^3^5^7"},null,4,{"$nulls":11},{"$f":"_xlfn.TEXTJOIN(\"^\",,T27:T41)","v":"0^0"},null,4,{"$nulls":11},{"$f":"_xlfn.TEXTJOIN(\"^\",,AJ27:AJ41)","v":"100^0"},null,4,{"$f":"$C29","v":4},{"$f":"$C29","v":4},null,null,{"$f":"$C29","v":4},4,4,4,null,null,null,{"$f":"_xlfn.TEXTJOIN(\"^\",,AX27:AX41)","v":"101^102^104^105"}]
[null,null,2,{"$f":"$C30","v":2},2,2,null,2,2,2,null,2,2,null,null,{"$f":"_xlfn.TEXTJOIN(\"^\",,G27:G41)","v":"101^102^103^104^105"},null,2,{"$nulls":11},{"$f":"_xlfn.TEXTJOIN(\"^\",,U27:U41)","v":"0^0^0"},null,2,{"$nulls":11},{"$f":"_xlfn.TEXTJOIN(\"^\",,AK27:AK41)","v":"0^0^0"},null,2,2,null,{"$f":"$C30","v":2},null,null,2,null,2,null,null,null,{"$f":"_xlfn.TEXTJOIN(\"^\",,AY27:AY41)","v":"4^1^5"}]
[null,null,1,{"$f":"$C31","v":1},1,1,null,1,1,1,null,1,1,null,null,{"$f":"_xlfn.TEXTJOIN(\"^\",,H27:H41)","v":"6^4^2^1^3^5^7"},null,1,100,0,0,0,0,0,0,100,null,null,null,{"$f":"_xlfn.TEXTJOIN(\"^\",,V27:V41)","v":"0^0"},null,1,0,0,0,100,0,0,0,0,null,null,null,{"$f":"_xlfn.TEXTJOIN(\"^\",,AL27:AL41)","v":"0^0^0"},null,1,null,{"$f":"$C31","v":1},null,null,{"$f":"$C31","v":1},null,{"$f":"$C31","v":1},{"$nulls":4},{"$f":"_xlfn.TEXTJOIN(\"^\",,AZ27:AZ41)","v":"6^4^2^3^5^7"}]
[null,null,3,{"$f":"$C32","v":3},3,3,null,3,3,3,null,3,3,null,null,{"$f":"_xlfn.TEXTJOIN(\"^\",,I27:I41)","v":"8^6^4^2^1^3^5^7^9"},null,3,0,0,0,0,0,0,0,0,null,null,null,{"$f":"_xlfn.TEXTJOIN(\"^\",,W27:W41)","v":"0^0"},null,3,0,0,0,0,0,0,0,0,null,null,null,{"$f":"_xlfn.TEXTJOIN(\"^\",,AM27:AM41)","v":"0^0"},null,3,{"$f":"$C32","v":3},null,{"$f":"$C32","v":3},null,null,{"$f":"$C32","v":3},null,{"$f":"$C32","v":3},null,null,null,{"$f":"_xlfn.TEXTJOIN(\"^\",,BA27:BA41)","v":"6^4^1^5^7"}]
[null,null,5,5,5,5,null,5,5,5,null,5,5,null,null,{"$f":"_xlfn.TEXTJOIN(\"^\",,J27:J41)","v":"6^4^2^1^3^5^7"},null,5,0,null,0,null,null,0,0,{"$nulls":4},{"$f":"_xlfn.TEXTJOIN(\"^\",,X27:X41)","v":"0^0^0^0"},null,5,0,null,0,null,0,0,null,0,null,null,null,{"$f":"_xlfn.TEXTJOIN(\"^\",,AN27:AN41)","v":"0^0^0^0"},null,5,5,{"$f":"$C33","v":5},null,null,{"$f":"$C33","v":5},5,5,5,null,null,null,{"$f":"_xlfn.TEXTJOIN(\"^\",,BB27:BB41)","v":"8^6^4^2^3^5^7^9"}]
[null,null,7,null,7,7,null,7,7,7,null,7,7,null,null,{"$f":"_xlfn.TEXTJOIN(\"^\",,K27:K41)","v":"101^102^103^104^105"},null,7,{"$nulls":5},0,{"$nulls":5},{"$f":"_xlfn.TEXTJOIN(\"^\",,Y27:Y41)","v":"0^0^0"},null,7,{"$nulls":7},0,null,null,null,{"$f":"_xlfn.TEXTJOIN(\"^\",,AO27:AO41)","v":""},null,7,{"$nulls":5},7,7,7,null,null,null,{"$f":"_xlfn.TEXTJOIN(\"^\",,BC27:BC41)","v":""}]
[null,null,9,{"$nulls":5},9,null,null,null,9,null,null,{"$f":"_xlfn.TEXTJOIN(\"^\",,L27:L41)","v":"6^4^2^1^3^5^7"},null,9,{"$nulls":13},9,{"$nulls":11},{"$f":"_xlfn.TEXTJOIN(\"^\",,AP27:AP41)","v":""},null,9,{"$nulls":7},9,null,null,null,{"$f":"_xlfn.TEXTJOIN(\"^\",,BD27:BD41)","v":""}]
[null,null,"空降",{"$nulls":12},{"$f":"_xlfn.TEXTJOIN(\"^\",,M27:M41)","v":"8^6^4^2^1^3^5^7^9"},null,"空降",{"$nulls":13},"空降",{"$nulls":11},{"$f":"_xlfn.TEXTJOIN(\"^\",,AQ27:AQ35)","v":""},null,"空降",{"$nulls":11},{"$f":"_xlfn.TEXTJOIN(\"^\",,BE27:BE35)","v":""}]
[null,null,101,null,null,null,{"$f":"$C37","v":101},null,null,null,{"$f":"$C37","v":101},{"$nulls":4},{"$f":"_xlfn.TEXTJOIN(\"^\",,N27:N41)","v":""},null,101,{"$nulls":11},{"$f":"_xlfn.TEXTJOIN(\"^\",,Z27:Z41)","v":"100^0"},null,101,{"$nulls":13},101,null,null,null,{"$f":"$C37","v":101}]
[null,null,102,null,null,null,102,null,null,null,102,{"$nulls":6},102,{"$nulls":11},{"$f":"_xlfn.TEXTJOIN(\"^\",,AA27:AA41)","v":""},null,102,{"$nulls":13},102,null,null,null,102]
[null,null,103,null,null,null,103,null,null,null,103,{"$nulls":6},103,{"$nulls":11},{"$f":"_xlfn.TEXTJOIN(\"^\",,AB27:AB41)","v":""},null,103,{"$nulls":13},103]
[null,null,104,null,null,null,104,null,null,null,104,{"$nulls":6},104,{"$nulls":13},104,{"$nulls":13},104,null,null,null,{"$f":"$C40","v":104}]
[null,null,105,null,null,null,105,null,null,null,105,{"$nulls":6},105,{"$nulls":13},105,{"$nulls":13},105,null,null,null,105]
[{"$nulls":14},"最终",{"$f":"_xlfn.TEXTJOIN(\"^\",,P27:P41)","v":"4^2^1^3^5^6^4^2^1^3^5^7^6^4^2^1^3^5^7^101^102^103^104^105^6^4^2^1^3^5^7^8^6^4^2^1^3^5^7^9^6^4^2^1^3^5^7^101^102^103^104^105^6^4^2^1^3^5^7^8^6^4^2^1^3^5^7^9"},{"$nulls":12},"最终",{"$f":"_xlfn.TEXTJOIN(\"^\",,AD27:AD41)","v":"100^0^0^0^0^0^0^0^0^0^0^0^0^0^0^0^0^0^0^100^0"},{"$nulls":12},"最终",{"$f":"_xlfn.TEXTJOIN(\"^\",,AR26:AR41)","v":"0^0^0^0^0^0^0^0^100^0^0^0^0^0^0^0^0^0^0^0^0^0"},{"$nulls":12},"最终",{"$f":"_xlfn.TEXTJOIN(\"^\",,BF26:BF41)","v":"4^2^3^5^4^1^5^2^3^101^102^104^105^4^1^5^6^4^2^3^5^7^6^4^1^5^7^8^6^4^2^3^5^7^9"}]
[]
[null,null,"时间",5,10,16,20,27,35,45,50,60,70,{"$nulls":4},"时间",5,10,15,20,30,45,60,70,null,null,null,{"$f":"_xlfn.TEXTJOIN(\"^\",,S45:S53)","v":"7^14^5"},null,"时间",4,6,10,15,25,40,57,75,null,null,null,{"$f":"_xlfn.TEXTJOIN(\"^\",,AG45:AG53)","v":"4^18^3"},null,"时间",2,4,6,8,10,17,25,35,null,null,null,{"$f":"_xlfn.TEXTJOIN(\"^\",,AU45:AU53)","v":"2^2^2^2"}]
[null,null,8,{"$nulls":5},{"$f":"I$44","v":35},null,null,null,{"$f":"M$44","v":70},null,null,{"$f":"_xlfn.TEXTJOIN(\"^\",,D45:D54)","v":"5^5^5^5^5"},null,8,{"$nulls":11},{"$f":"_xlfn.TEXTJOIN(\"^\",,T45:T53)","v":"4^10"},null,8,{"$nulls":11},{"$f":"_xlfn.TEXTJOIN(\"^\",,AH45:AH53)","v":"10^4"},null,8,{"$nulls":7},{"$f":"BB$44","v":35},null,null,null,{"$f":"_xlfn.TEXTJOIN(\"^\",,AV45:AV53)","v":"4^4^4"}]
[null,null,6,null,{"$f":"E$44","v":10},16,null,{"$f":"H$44","v":27},35,45,null,{"$f":"L$44","v":60},70,null,null,{"$f":"_xlfn.TEXTJOIN(\"^\",,E45:E54)","v":"10^10^10^10^10^10^10"},null,6,{"$nulls":11},{"$f":"_xlfn.TEXTJOIN(\"^\",,U45:U53)","v":"2^11^3"},null,6,{"$nulls":11},{"$f":"_xlfn.TEXTJOIN(\"^\",,AI45:AI53)","v":"11^3^2"},null,6,{"$nulls":5},{"$f":"AZ$44","v":17},25,35,null,null,null,{"$f":"_xlfn.TEXTJOIN(\"^\",,AW45:AW53)","v":"6^6"}]
[null,null,4,{"$f":"D$44","v":5},10,16,20,27,35,45,50,60,70,null,null,{"$f":"_xlfn.TEXTJOIN(\"^\",,F45:F54)","v":"16^16^16^16^16^16^16"},null,4,{"$nulls":11},{"$f":"_xlfn.TEXTJOIN(\"^\",,V45:V53)","v":"14^3"},null,4,{"$nulls":11},{"$f":"_xlfn.TEXTJOIN(\"^\",,AJ45:AJ53)","v":"8^3"},null,4,{"$f":"AU$44","v":2},{"$f":"AV$44","v":4},null,{"$f":"AX$44","v":8},{"$f":"AY$44","v":10},17,25,35,null,null,null,{"$f":"_xlfn.TEXTJOIN(\"^\",,AX45:AX53)","v":"8^8^8^8"}]
[null,null,2,5,10,16,20,27,35,45,50,60,70,null,null,{"$f":"_xlfn.TEXTJOIN(\"^\",,G45:G54)","v":"20^20^20^20^20"},null,2,{"$nulls":11},{"$f":"_xlfn.TEXTJOIN(\"^\",,W45:W53)","v":"15^4"},null,2,{"$nulls":11},{"$f":"_xlfn.TEXTJOIN(\"^\",,AK45:AK53)","v":"4^11^2"},null,2,2,null,{"$f":"AW$44","v":6},8,null,17,null,35,null,null,null,{"$f":"_xlfn.TEXTJOIN(\"^\",,AY45:AY53)","v":"10^10^10"}]
[null,null,1,5,10,16,20,27,35,45,50,60,70,null,null,{"$f":"_xlfn.TEXTJOIN(\"^\",,H45:H54)","v":"27^27^27^27^27^27^27"},null,1,7,4,2,14,15,2,2,8,null,null,null,{"$f":"_xlfn.TEXTJOIN(\"^\",,X45:X53)","v":"2^12^3^2"},null,1,4,10,11,8,4,2,15,2,null,null,null,{"$f":"_xlfn.TEXTJOIN(\"^\",,AL45:AL53)","v":"2^3^12"},null,1,null,{"$f":"AV$44","v":4},null,null,{"$f":"AY$44","v":10},null,{"$f":"BA$44","v":25},{"$nulls":4},{"$f":"_xlfn.TEXTJOIN(\"^\",,AZ45:AZ53)","v":"17^17^17^17^17^17"}]
[null,null,3,{"$f":"D$44","v":5},10,16,20,27,35,45,50,60,70,null,null,{"$f":"_xlfn.TEXTJOIN(\"^\",,I45:I54)","v":"35^35^35^35^35^35^35^35^35"},null,3,14,10,11,3,4,12,3,4,null,null,null,{"$f":"_xlfn.TEXTJOIN(\"^\",,Y45:Y53)","v":"2^3^15"},null,3,18,4,3,3,11,3,3,13,null,null,null,{"$f":"_xlfn.TEXTJOIN(\"^\",,AM45:AM53)","v":"15^3"},null,3,{"$f":"AU$44","v":2},null,{"$f":"AW$44","v":6},{"$f":"AX$44","v":8},null,{"$f":"AZ$44","v":17},null,{"$f":"BB$44","v":35},null,null,null,{"$f":"_xlfn.TEXTJOIN(\"^\",,BA45:BA53)","v":"25^25^25^25^25"}]
[null,null,5,5,10,16,20,27,35,45,50,60,70,null,null,{"$f":"_xlfn.TEXTJOIN(\"^\",,J45:J54)","v":"45^45^45^45^45^45^45"},null,5,5,null,3,null,null,3,15,{"$nulls":4},{"$f":"_xlfn.TEXTJOIN(\"^\",,Z45:Z53)","v":"8^4"},null,5,3,null,2,null,2,12,null,3,null,null,null,{"$f":"_xlfn.TEXTJOIN(\"^\",,AN45:AN53)","v":"2^13^3^2"},null,5,2,{"$f":"AV$44","v":4},null,8,{"$f":"AY$44","v":10},17,25,35,null,null,null,{"$f":"_xlfn.TEXTJOIN(\"^\",,BB45:BB53)","v":"35^35^35^35^35^35^35^35"}]
[null,null,7,null,10,16,null,27,35,45,null,60,70,null,null,{"$f":"_xlfn.TEXTJOIN(\"^\",,K45:K54)","v":"50^50^50^50^50"},null,7,{"$nulls":5},2,{"$nulls":5},{"$f":"_xlfn.TEXTJOIN(\"^\",,AA45:AA53)","v":""},null,7,{"$nulls":7},2,null,null,null,{"$f":"_xlfn.TEXTJOIN(\"^\",,AO45:AO53)","v":""},null,7,{"$nulls":5},17,25,35,null,null,null,{"$f":"_xlfn.TEXTJOIN(\"^\",,BC45:BC53)","v":""}]
[null,null,9,{"$nulls":5},35,null,null,null,70,null,null,{"$f":"_xlfn.TEXTJOIN(\"^\",,L45:L54)","v":"60^60^60^60^60^60^60"},null,9,{"$nulls":11},{"$f":"_xlfn.TEXTJOIN(\"^\",,AB45:AB53)","v":""},null,9,{"$nulls":11},{"$f":"_xlfn.TEXTJOIN(\"^\",,AP45:AP53)","v":""},null,9,{"$nulls":7},35,null,null,null,{"$f":"_xlfn.TEXTJOIN(\"^\",,BD45:BD53)","v":""}]
[{"$nulls":15},{"$f":"_xlfn.TEXTJOIN(\"^\",,M45:M54)","v":"70^70^70^70^70^70^70^70^70"},{"$nulls":13},{"$f":"_xlfn.TEXTJOIN(\"^\",,AC45:AC53)","v":""},{"$nulls":13},{"$f":"_xlfn.TEXTJOIN(\"^\",,AQ45:AQ53)","v":""},{"$nulls":13},{"$f":"_xlfn.TEXTJOIN(\"^\",,BE45:BE53)","v":""}]
[{"$nulls":15},{"$f":"_xlfn.TEXTJOIN(\"^\",,N45:N54)","v":""},{"$nulls":12},"最终",{"$f":"_xlfn.TEXTJOIN(\"^\",,AD44:AD54)","v":"7^14^5^4^10^2^11^3^14^3^15^4^2^12^3^2^2^3^15^8^4"},{"$nulls":12},"最终",{"$f":"_xlfn.TEXTJOIN(\"^\",,AR44:AR54)","v":"4^18^3^10^4^11^3^2^8^3^4^11^2^2^3^12^15^3^2^13^3^2"},{"$nulls":12},"最终",{"$f":"_xlfn.TEXTJOIN(\"^\",,BF44:BF54)","v":"2^2^2^2^4^4^4^6^6^8^8^8^8^10^10^10^17^17^17^17^17^17^25^25^25^25^25^35^35^35^35^35^35^35^35"}]
[{"$nulls":14},"最终",{"$f":"_xlfn.TEXTJOIN(\"^\",,P45:P55)","v":"5^5^5^5^5^10^10^10^10^10^10^10^16^16^16^16^16^16^16^20^20^20^20^20^27^27^27^27^27^27^27^35^35^35^35^35^35^35^35^35^45^45^45^45^45^45^45^50^50^50^50^50^60^60^60^60^60^60^60^70^70^70^70^70^70^70^70^70"}]
[{"$nulls":14},{"$f":"COUNT(D45:N54)","v":68},{"$nulls":13},{"$f":"SUM(S45:AB54)","v":143},{"$nulls":13},{"$f":"SUM(AG45:AP54)","v":138},{"$nulls":13},{"$f":"COUNT(AU45:BD54)","v":35},{"$f":"AQ57+BE57+AC57+O57","v":384}]
[{"$nulls":4},{"$f":"E59-D59","v":5},{"$f":"F59-E59","v":7},8,5,10,10,10,5,10,{"$nulls":6},{"$f":"T59-S59","v":5},5,7,8,10,10,5,{"$nulls":7},{"$f":"AH59-AG59","v":6},5,15,16,17,7,15,{"$nulls":7},{"$f":"AV59-AU59","v":2},3,4,6,7,10,10]
[1,"高原-2","波1·怪物",5,10,17,25,30,40,50,60,65,75,null,null,null,1,"波2·怪物",5,10,15,22,30,40,50,55,{"$nulls":4},3,"波3·怪物",4,10,15,30,46,63,70,85,{"$nulls":4},1,"波4·怪物",3,5,8,12,18,25,35,45]
[null,"5m",8,null,null,null,70292,null,70294,70291,70294,{"$nulls":4},{"$f":"_xlfn.TEXTJOIN(\"^\",,D60:D69)","v":"70294^70292^70292^70292^70294"},null,8,{"$nulls":4},70294,70292,70294,{"$nulls":4},{"$f":"_xlfn.TEXTJOIN(\"^\",,S60:S69)","v":"70294^70291^70291^70291^70294"},null,8,{"$nulls":11},{"$f":"_xlfn.TEXTJOIN(\"^\",,AG60:AG69)","v":"70295^70291"},null,8,{"$nulls":5},70294,null,70292,null,null,null,{"$f":"_xlfn.TEXTJOIN(\"^\",,AU60:AU69)","v":"70293^70293^70293"}]
[null,null,6,70294,70291,70294,null,null,70291,70291,70292,null,70292,null,null,{"$f":"_xlfn.TEXTJOIN(\"^\",,E60:E69)","v":"70291^70291^70291^70291^70291"},null,6,null,70292,{"$nulls":4},70292,{"$nulls":4},{"$f":"_xlfn.TEXTJOIN(\"^\",,T60:T69)","v":"70292^70292^70292"},null,6,{"$nulls":11},{"$f":"_xlfn.TEXTJOIN(\"^\",,AH60:AH69)","v":"70291^70292^70294"},null,6,null,70292,null,null,null,70292,70292,70294,null,null,null,{"$f":"_xlfn.TEXTJOIN(\"^\",,AV60:AV69)","v":"70292^70292^70292"}]
[null,null,4,null,null,70292,70291,70295,null,70292,70291,70295,70291,null,null,{"$f":"_xlfn.TEXTJOIN(\"^\",,F60:F69)","v":"70294^70292^70293^70292^70293^70292^70294"},null,4,70294,null,70295,70293,70292,70291,70291,70295,null,null,null,{"$f":"_xlfn.TEXTJOIN(\"^\",,U60:U69)","v":"70295^70295^70295^70295"},null,4,{"$nulls":11},{"$f":"_xlfn.TEXTJOIN(\"^\",,AI60:AI69)","v":"70291^70292"},null,4,70293,null,null,70291,70295,null,70291,70292,null,null,null,{"$f":"_xlfn.TEXTJOIN(\"^\",,AW60:AW69)","v":"70294^70294"}]
[null,null,2,70292,70291,70293,70291,70295,70292,70293,70291,70295,70293,null,null,{"$f":"_xlfn.TEXTJOIN(\"^\",,G60:G69)","v":"70292^70291^70291^70292^70291^70291^70292"},null,2,70291,null,70295,70292,70291,70293,70291,70295,null,null,null,{"$f":"_xlfn.TEXTJOIN(\"^\",,V60:V69)","v":"70293^70292^70293^70292^70293"},null,2,{"$nulls":11},{"$f":"_xlfn.TEXTJOIN(\"^\",,AJ60:AJ69)","v":"70293^70291^70292"},null,2,null,null,70294,70291,70295,70293,70291,70293,null,null,null,{"$f":"_xlfn.TEXTJOIN(\"^\",,AX60:AX69)","v":"70291^70291^70291^70291"}]
[null,null,1,70292,70291,70292,70292,70295,70292,70293,70292,70295,70294,null,null,{"$f":"_xlfn.TEXTJOIN(\"^\",,H60:H69)","v":"70295^70295^70295^70295^70295"},null,1,70291,70292,null,70293,70291,70292,70292,70295,null,null,null,{"$f":"_xlfn.TEXTJOIN(\"^\",,W60:W69)","v":"70294^70292^70291^70291^70291^70292^70294"},null,1,70295,70291,70291,70293,70292,70293,70295,70293,null,null,null,{"$f":"_xlfn.TEXTJOIN(\"^\",,AK60:AK69)","v":"70292^70291^70294"},null,1,70293,70292,{"$nulls":4},70294,{"$nulls":4},{"$f":"_xlfn.TEXTJOIN(\"^\",,AY60:AY69)","v":"70295^70295^70295^70295"}]
[null,null,3,70292,70291,70293,70291,70295,70292,70293,70291,70295,70293,null,null,{"$f":"_xlfn.TEXTJOIN(\"^\",,I60:I69)","v":"70294^70291^70292^70292^70292^70291^70294"},null,3,70291,null,70295,70292,70291,70293,70291,70295,null,null,null,{"$f":"_xlfn.TEXTJOIN(\"^\",,X60:X69)","v":"70292^70291^70293^70292^70293^70291^70292"},null,3,70291,70292,70292,70291,70291,70291,70292,70291,null,null,null,{"$f":"_xlfn.TEXTJOIN(\"^\",,AL60:AL69)","v":"70293^70291^70292"},null,3,null,null,70294,70291,70295,70293,70291,70293,null,null,null,{"$f":"_xlfn.TEXTJOIN(\"^\",,AZ60:AZ69)","v":"70294^70292^70293^70293^70292^70294"}]
[null,null,5,null,null,70292,70291,70295,null,70292,70291,70295,70291,null,null,{"$f":"_xlfn.TEXTJOIN(\"^\",,J60:J69)","v":"70291^70291^70292^70293^70293^70293^70292^70291^70291"},null,5,70294,null,70295,70293,70292,70291,70291,70295,null,null,null,{"$f":"_xlfn.TEXTJOIN(\"^\",,Y60:Y69)","v":"70294^70292^70291^70291^70292^70291^70291^70292^70294"},null,5,null,70294,null,70292,70294,70292,null,70292,null,null,null,{"$f":"_xlfn.TEXTJOIN(\"^\",,AM60:AM69)","v":"70295^70292"},null,5,70293,null,null,70291,70295,null,70291,70292,null,null,null,{"$f":"_xlfn.TEXTJOIN(\"^\",,BA60:BA69)","v":"70292^70291^70291^70294^70291^70291^70292"}]
[null,null,7,70294,70291,70294,null,null,70291,70291,70292,null,70292,null,null,{"$f":"_xlfn.TEXTJOIN(\"^\",,K60:K69)","v":"70294^70292^70291^70291^70292^70291^70291^70292^70294"},null,7,null,70292,{"$nulls":4},70292,{"$nulls":4},{"$f":"_xlfn.TEXTJOIN(\"^\",,Z60:Z69)","v":"70295^70295^70295^70295^70295"},null,7,{"$nulls":7},70294,null,null,null,{"$f":"_xlfn.TEXTJOIN(\"^\",,AN60:AN69)","v":"70293^70291^70292^70294"},null,7,null,70292,null,null,null,70292,70292,70294,null,null,null,{"$f":"_xlfn.TEXTJOIN(\"^\",,BB60:BB69)","v":"70292^70294^70292^70293^70293^70292^70294^70292"}]
[null,null,9,null,null,null,70292,null,70294,70291,70294,{"$nulls":4},{"$f":"_xlfn.TEXTJOIN(\"^\",,L60:L69)","v":"70295^70295^70295^70295^70295"},null,9,{"$nulls":4},70294,70292,70294,{"$nulls":4},{"$f":"_xlfn.TEXTJOIN(\"^\",,AA60:AA69)","v":""},null,9,{"$nulls":11},{"$f":"_xlfn.TEXTJOIN(\"^\",,AO60:AO69)","v":""},null,9,{"$nulls":5},70294,null,70292,null,null,null,{"$f":"_xlfn.TEXTJOIN(\"^\",,BC60:BC69)","v":""}]
[{"$nulls":15},{"$f":"_xlfn.TEXTJOIN(\"^\",,M60:M69)","v":"70292^70291^70293^70294^70293^70291^70292"},{"$nulls":13},{"$f":"_xlfn.TEXTJOIN(\"^\",,AB60:AB69)","v":""},{"$nulls":13},{"$f":"_xlfn.TEXTJOIN(\"^\",,AP60:AP69)","v":""},{"$nulls":13},{"$f":"_xlfn.TEXTJOIN(\"^\",,BD60:BD69)","v":""}]
[{"$nulls":15},{"$f":"_xlfn.TEXTJOIN(\"^\",,N60:N69)","v":""},{"$nulls":13},{"$f":"_xlfn.TEXTJOIN(\"^\",,AC60:AC69)","v":""},{"$nulls":13},{"$f":"_xlfn.TEXTJOIN(\"^\",,AQ60:AQ69)","v":""},{"$nulls":13},{"$f":"_xlfn.TEXTJOIN(\"^\",,BE60:BE69)","v":""}]
[{"$nulls":14},"最终",{"$f":"_xlfn.TEXTJOIN(\"^\",,P60:P70)","v":"70294^70292^70292^70292^70294^70291^70291^70291^70291^70291^70294^70292^70293^70292^70293^70292^70294^70292^70291^70291^70292^70291^70291^70292^70295^70295^70295^70295^70295^70294^70291^70292^70292^70292^70291^70294^70291^70291^70292^70293^70293^70293^70292^70291^70291^70294^70292^70291^70291^70292^70291^70291^70292^70294^70295^70295^70295^70295^70295^70292^70291^70293^70294^70293^70291^70292"},{"$nulls":12},"最终",{"$f":"_xlfn.TEXTJOIN(\"^\",,AD60:AD70)","v":"70294^70291^70291^70291^70294^70292^70292^70292^70295^70295^70295^70295^70293^70292^70293^70292^70293^70294^70292^70291^70291^70291^70292^70294^70292^70291^70293^70292^70293^70291^70292^70294^70292^70291^70291^70292^70291^70291^70292^70294^70295^70295^70295^70295^70295"},{"$nulls":12},"最终",{"$f":"_xlfn.TEXTJOIN(\"^\",,AR60:AR70)","v":"70295^70291^70291^70292^70294^70291^70292^70293^70291^70292^70292^70291^70294^70293^70291^70292^70295^70292^70293^70291^70292^70294"},{"$nulls":12},"最终",{"$f":"_xlfn.TEXTJOIN(\"^\",,BF60:BF70)","v":"70293^70293^70293^70292^70292^70292^70294^70294^70291^70291^70291^70291^70295^70295^70295^70295^70294^70292^70293^70293^70292^70294^70292^70291^70291^70294^70291^70291^70292^70292^70294^70292^70293^70293^70292^70294^70292"}]
[null,null,8,null,null,null,"巨魔矛手",null,"木精灵","雪怪","木精灵",{"$nulls":6},8,{"$nulls":4},"木精灵","巨魔矛手","木精灵",{"$nulls":6},8,{"$nulls":13},8,{"$nulls":5},"木精灵",null,"巨魔矛手"]
[null,null,6,"木精灵","雪怪","木精灵",null,null,"雪怪","雪怪","巨魔矛手",null,"巨魔矛手",{"$nulls":4},6,null,"巨魔矛手",{"$nulls":4},"巨魔矛手",{"$nulls":6},6,{"$nulls":13},6,null,"巨魔矛手",null,null,null,"巨魔矛手","巨魔矛手","木精灵"]
[null,null,4,null,null,"巨魔矛手","雪怪","雪山蜘蛛",null,"巨魔矛手","雪怪","雪山蜘蛛","雪怪",{"$nulls":4},4,"木精灵",null,"雪山蜘蛛","雪原兽","巨魔矛手","雪怪","雪怪","雪山蜘蛛",{"$nulls":5},4,{"$nulls":13},4,"雪原兽",null,null,"雪怪","雪山蜘蛛",null,"雪怪","巨魔矛手"]
[null,null,2,"巨魔矛手","雪怪","雪原兽","雪怪","雪山蜘蛛","巨魔矛手","雪原兽","雪怪","雪山蜘蛛","雪原兽",{"$nulls":4},2,"雪怪",null,"雪山蜘蛛","巨魔矛手","雪怪","雪原兽","雪怪","雪山蜘蛛",{"$nulls":5},2,{"$nulls":13},2,null,null,"木精灵","雪怪","雪山蜘蛛","雪原兽","雪怪","雪原兽"]
[null,null,1,"巨魔矛手","雪怪","巨魔矛手","巨魔矛手","雪山蜘蛛","巨魔矛手","雪原兽","巨魔矛手","雪山蜘蛛","木精灵",{"$nulls":4},1,"雪怪","巨魔矛手",null,"雪原兽","雪怪","巨魔矛手","巨魔矛手","雪山蜘蛛",{"$nulls":5},1,"雪山蜘蛛","雪怪","雪怪","雪原兽","巨魔矛手","雪原兽","雪山蜘蛛","雪原兽",{"$nulls":5},1,"雪原兽","巨魔矛手",{"$nulls":4},"木精灵"]
[null,null,3,"巨魔矛手","雪怪","雪原兽","雪怪","雪山蜘蛛","巨魔矛手","雪原兽","雪怪","雪山蜘蛛","雪原兽",{"$nulls":4},3,"雪怪",null,"雪山蜘蛛","巨魔矛手","雪怪","雪原兽","雪怪","雪山蜘蛛",{"$nulls":5},3,"雪怪","巨魔矛手","巨魔矛手","雪怪","雪怪","雪怪","巨魔矛手","雪怪",{"$nulls":5},3,null,null,"木精灵","雪怪","雪山蜘蛛","雪原兽","雪怪","雪原兽"]
[null,null,5,null,null,"巨魔矛手","雪怪","雪山蜘蛛",null,"巨魔矛手","雪怪","雪山蜘蛛","雪怪",{"$nulls":4},5,"木精灵",null,"雪山蜘蛛","雪原兽","巨魔矛手","雪怪","雪怪","雪山蜘蛛",{"$nulls":5},5,null,"木精灵",null,"巨魔矛手","木精灵","巨魔矛手",null,"巨魔矛手",{"$nulls":5},5,"雪原兽",null,null,"雪怪","雪山蜘蛛",null,"雪怪","巨魔矛手"]
[null,null,7,"木精灵","雪怪","木精灵",null,null,"雪怪","雪怪","巨魔矛手",null,"巨魔矛手",{"$nulls":4},7,null,"巨魔矛手",{"$nulls":4},"巨魔矛手",{"$nulls":6},7,{"$nulls":7},"木精灵",{"$nulls":5},7,null,"巨魔矛手",null,null,null,"巨魔矛手","巨魔矛手","木精灵"]
[null,null,9,null,null,null,"巨魔矛手",null,"木精灵","雪怪","木精灵",{"$nulls":6},9,{"$nulls":4},"木精灵","巨魔矛手","木精灵",{"$nulls":6},9,{"$nulls":13},9,{"$nulls":5},"木精灵",null,"巨魔矛手"]
[]
[null,null,"位置",5,10,17,25,30,40,50,60,65,75,{"$nulls":4},"位置",5,10,15,22,30,40,50,55,{"$nulls":5},"位置",4,10,15,30,46,63,70,85,null,null,null,{"$f":"_xlfn.TEXTJOIN(\"^\",,AG83:AG97)","v":"100^0"},null,"位置",3,5,8,12,18,25,35,45,null,null,null,{"$f":"_xlfn.TEXTJOIN(\"^\",,AU83:AU97)","v":"4^1^5"}]
[null,null,8,null,null,null,{"$f":"$C83","v":8},null,{"$f":"$C83","v":8},8,8,{"$nulls":4},{"$f":"_xlfn.TEXTJOIN(\"^\",,D83:D97)","v":"6^2^1^3^7"},null,8,{"$nulls":4},{"$f":"$C83","v":8},{"$f":"$C83","v":8},{"$f":"$C83","v":8},{"$nulls":6},8,{"$nulls":11},{"$f":"_xlfn.TEXTJOIN(\"^\",,AH83:AH97)","v":"0^0^0"},null,8,{"$nulls":5},{"$f":"$C83","v":8},null,{"$f":"$C83","v":8},null,null,null,{"$f":"_xlfn.TEXTJOIN(\"^\",,AV83:AV97)","v":"6^1^7"}]
[null,null,6,{"$f":"$C84","v":6},{"$f":"$C84","v":6},{"$f":"$C84","v":6},null,null,6,6,6,null,{"$f":"$C84","v":6},null,null,{"$f":"_xlfn.TEXTJOIN(\"^\",,E83:E97)","v":"6^2^1^3^7"},null,6,null,{"$f":"$C84","v":6},{"$nulls":4},6,{"$nulls":4},{"$f":"_xlfn.TEXTJOIN(\"^\",,S83:S97)","v":"4^2^1^3^5"},null,6,{"$nulls":11},{"$f":"_xlfn.TEXTJOIN(\"^\",,AI83:AI97)","v":"0^0"},null,6,null,{"$f":"$C84","v":6},null,null,null,6,6,6,null,null,null,{"$f":"_xlfn.TEXTJOIN(\"^\",,AW83:AW97)","v":"2^3"}]
[null,null,4,null,null,4,4,null,null,4,4,null,4,null,null,{"$f":"_xlfn.TEXTJOIN(\"^\",,F83:F97)","v":"6^4^2^1^3^5^7"},null,4,{"$f":"$C85","v":4},null,null,{"$f":"$C85","v":4},{"$f":"$C85","v":4},4,4,{"$nulls":4},{"$f":"_xlfn.TEXTJOIN(\"^\",,T83:T97)","v":"6^1^7"},null,4,{"$nulls":11},{"$f":"_xlfn.TEXTJOIN(\"^\",,AJ83:AJ97)","v":"0^0^0"},null,4,{"$f":"$C85","v":4},null,null,{"$f":"$C85","v":4},null,null,4,4,null,null,null,{"$f":"_xlfn.TEXTJOIN(\"^\",,AX83:AX97)","v":"4^2^3^5"}]
[null,null,2,{"$f":"$C86","v":2},{"$f":"$C86","v":2},{"$f":"$C86","v":2},2,null,{"$f":"$C86","v":2},2,2,null,2,null,null,{"$f":"_xlfn.TEXTJOIN(\"^\",,G83:G97)","v":"8^4^2^1^3^5^9"},null,2,2,null,null,2,2,2,2,{"$nulls":4},{"$f":"_xlfn.TEXTJOIN(\"^\",,U83:U97)","v":"101^102^104^105"},null,2,{"$nulls":11},{"$f":"_xlfn.TEXTJOIN(\"^\",,AK83:AK97)","v":"0^0^0"},null,2,null,null,{"$f":"$C86","v":2},2,null,{"$f":"$C86","v":2},2,2,null,null,null,{"$f":"_xlfn.TEXTJOIN(\"^\",,AY83:AY97)","v":"101^102^104^105"}]
[null,null,1,{"$f":"$C87","v":1},1,{"$f":"$C87","v":1},1,null,1,1,1,null,1,null,null,{"$f":"_xlfn.TEXTJOIN(\"^\",,H83:H97)","v":"101^102^103^104^105"},null,1,1,{"$f":"$C87","v":1},null,1,1,1,1,{"$nulls":4},{"$f":"_xlfn.TEXTJOIN(\"^\",,V83:V97)","v":"4^2^1^3^5"},null,1,100,0,0,0,0,0,100,0,null,null,null,{"$f":"_xlfn.TEXTJOIN(\"^\",,AL83:AL97)","v":"0^0^0"},null,1,{"$f":"$C87","v":1},1,{"$nulls":4},1,{"$nulls":4},{"$f":"_xlfn.TEXTJOIN(\"^\",,AZ83:AZ97)","v":"8^6^2^3^7^9"}]
[null,null,3,{"$f":"$C88","v":3},3,3,3,null,3,3,3,null,3,null,null,{"$f":"_xlfn.TEXTJOIN(\"^\",,I83:I97)","v":"8^6^2^1^3^7^9"},null,3,3,null,null,3,3,3,3,{"$nulls":4},{"$f":"_xlfn.TEXTJOIN(\"^\",,W83:W97)","v":"8^4^2^1^3^5^9"},null,3,0,0,0,0,0,0,0,0,null,null,null,{"$f":"_xlfn.TEXTJOIN(\"^\",,AM83:AM97)","v":"100^0"},null,3,null,null,{"$f":"$C88","v":3},3,null,{"$f":"$C88","v":3},3,3,null,null,null,{"$f":"_xlfn.TEXTJOIN(\"^\",,BA83:BA97)","v":"6^4^2^1^3^5^7"}]
[null,null,5,null,null,5,5,null,null,5,5,null,5,null,null,{"$f":"_xlfn.TEXTJOIN(\"^\",,J83:J97)","v":"8^6^4^2^1^3^5^7^9"},null,5,5,null,null,{"$f":"$C89","v":5},5,5,5,{"$nulls":4},{"$f":"_xlfn.TEXTJOIN(\"^\",,X83:X97)","v":"8^4^2^1^3^5^9"},null,5,null,0,null,0,0,0,null,0,null,null,null,{"$f":"_xlfn.TEXTJOIN(\"^\",,AN83:AN97)","v":"0^0^0^0"},null,5,{"$f":"$C89","v":5},null,null,5,null,null,5,5,null,null,null,{"$f":"_xlfn.TEXTJOIN(\"^\",,BB83:BB97)","v":"8^6^4^2^3^5^7^9"}]
[null,null,7,{"$f":"$C90","v":7},{"$f":"$C90","v":7},7,null,null,{"$f":"$C90","v":7},7,7,null,7,null,null,{"$f":"_xlfn.TEXTJOIN(\"^\",,K83:K97)","v":"8^6^4^2^1^3^5^7^9"},null,7,null,{"$f":"$C90","v":7},{"$nulls":4},7,{"$nulls":4},{"$f":"_xlfn.TEXTJOIN(\"^\",,Y83:Y97)","v":"8^6^4^2^1^3^5^7^9"},null,7,{"$nulls":7},0,null,null,null,{"$f":"_xlfn.TEXTJOIN(\"^\",,AO83:AO97)","v":""},null,7,null,{"$f":"$C90","v":7},null,null,null,{"$f":"$C90","v":7},7,7,null,null,null,{"$f":"_xlfn.TEXTJOIN(\"^\",,BC83:BC97)","v":""}]
[null,null,9,null,null,null,{"$f":"$C91","v":9},null,9,9,9,{"$nulls":4},{"$f":"_xlfn.TEXTJOIN(\"^\",,L83:L97)","v":"101^102^103^104^105"},null,9,{"$nulls":4},{"$f":"$C91","v":9},{"$f":"$C91","v":9},9,{"$nulls":6},9,{"$nulls":11},{"$f":"_xlfn.TEXTJOIN(\"^\",,AP83:AP97)","v":""},null,9,{"$nulls":5},9,null,9,null,null,null,{"$f":"_xlfn.TEXTJOIN(\"^\",,BD83:BD97)","v":""}]
[null,null,"空降",{"$nulls":12},{"$f":"_xlfn.TEXTJOIN(\"^\",,M83:M97)","v":"6^4^2^1^3^5^7"},null,"空降",{"$nulls":13},"空降",{"$nulls":11},{"$f":"_xlfn.TEXTJOIN(\"^\",,AQ83:AQ91)","v":""},null,"空降",{"$nulls":11},{"$f":"_xlfn.TEXTJOIN(\"^\",,BE83:BE91)","v":""}]
[null,null,101,{"$nulls":4},{"$f":"$C93","v":101},null,null,null,{"$f":"$C93","v":101},null,null,null,{"$f":"_xlfn.TEXTJOIN(\"^\",,N83:N97)","v":""},null,101,null,null,{"$f":"$C93","v":101},{"$nulls":4},{"$f":"$C93","v":101},null,null,null,{"$f":"_xlfn.TEXTJOIN(\"^\",,Z83:Z97)","v":"101^102^103^104^105"},null,101,{"$nulls":13},101,{"$nulls":4},{"$f":"$C93","v":101}]
[null,null,102,{"$nulls":4},102,null,null,null,102,{"$nulls":5},102,null,null,102,{"$nulls":4},102,null,null,null,{"$f":"_xlfn.TEXTJOIN(\"^\",,AA83:AA97)","v":""},null,102,{"$nulls":13},102,{"$nulls":4},102]
[null,null,103,{"$nulls":4},103,null,null,null,103,{"$nulls":5},103,{"$nulls":7},103,null,null,null,{"$f":"_xlfn.TEXTJOIN(\"^\",,AB83:AB97)","v":""},null,103,{"$nulls":13},103]
[null,null,104,{"$nulls":4},104,null,null,null,104,{"$nulls":5},104,null,null,{"$f":"$C96","v":104},{"$nulls":4},104,{"$nulls":5},104,{"$nulls":13},104,{"$nulls":4},{"$f":"$C96","v":104}]
[null,null,105,{"$nulls":4},105,null,null,null,105,{"$nulls":5},105,null,null,105,{"$nulls":4},105,{"$nulls":5},105,{"$nulls":13},105,{"$nulls":4},105]
[{"$nulls":14},"最终",{"$f":"_xlfn.TEXTJOIN(\"^\",,P83:P97)","v":"6^2^1^3^7^6^2^1^3^7^6^4^2^1^3^5^7^8^4^2^1^3^5^9^101^102^103^104^105^8^6^2^1^3^7^9^8^6^4^2^1^3^5^7^9^8^6^4^2^1^3^5^7^9^101^102^103^104^105^6^4^2^1^3^5^7"},{"$nulls":12},"最终",{"$f":"_xlfn.TEXTJOIN(\"^\",,AD83:AD97)","v":"4^2^1^3^5^6^1^7^101^102^104^105^4^2^1^3^5^8^4^2^1^3^5^9^8^4^2^1^3^5^9^8^6^4^2^1^3^5^7^9^101^102^103^104^105"},{"$nulls":12},"最终",{"$f":"_xlfn.TEXTJOIN(\"^\",,AR82:AR97)","v":"100^0^0^0^0^0^0^0^0^0^0^0^0^0^0^0^100^0^0^0^0^0"},{"$nulls":12},"最终",{"$f":"_xlfn.TEXTJOIN(\"^\",,BF82:BF97)","v":"4^1^5^6^1^7^2^3^4^2^3^5^101^102^104^105^8^6^2^3^7^9^6^4^2^1^3^5^7^8^6^4^2^3^5^7^9"}]
[]
[null,null,"时间",5,10,17,25,30,40,50,60,65,75,{"$nulls":4},"时间",5,10,15,22,30,40,50,55,null,null,null,{"$f":"_xlfn.TEXTJOIN(\"^\",,S101:S109)","v":"5^5^5^5^5"},null,"时间",4,10,15,30,46,63,70,85,null,null,null,{"$f":"_xlfn.TEXTJOIN(\"^\",,AG101:AG109)","v":"7^18"},null,"时间",3,5,8,12,18,25,35,45,null,null,null,{"$f":"_xlfn.TEXTJOIN(\"^\",,AU101:AU109)","v":"3^3^3"}]
[null,null,8,null,null,null,{"$f":"G$100","v":25},null,{"$f":"I$100","v":40},50,60,{"$nulls":4},{"$f":"_xlfn.TEXTJOIN(\"^\",,D101:D110)","v":"5^5^5^5^5"},null,8,{"$nulls":4},{"$f":"W$100","v":30},{"$f":"X$100","v":40},{"$f":"Y$100","v":50},{"$nulls":4},{"$f":"_xlfn.TEXTJOIN(\"^\",,T101:T109)","v":"10^10^10"},null,8,{"$nulls":11},{"$f":"_xlfn.TEXTJOIN(\"^\",,AH101:AH109)","v":"9^3^2"},null,8,{"$nulls":5},{"$f":"AZ$100","v":25},null,{"$f":"BB$100","v":45},null,null,null,{"$f":"_xlfn.TEXTJOIN(\"^\",,AV101:AV109)","v":"5^5^5"}]
[null,null,6,{"$f":"D$100","v":5},{"$f":"E$100","v":10},{"$f":"F$100","v":17},null,null,40,50,60,null,{"$f":"M$100","v":75},null,null,{"$f":"_xlfn.TEXTJOIN(\"^\",,E101:E110)","v":"10^10^10^10^10"},null,6,null,{"$f":"T$100","v":10},{"$nulls":4},50,{"$nulls":4},{"$f":"_xlfn.TEXTJOIN(\"^\",,U101:U109)","v":"15^15^15^15"},null,6,{"$nulls":11},{"$f":"_xlfn.TEXTJOIN(\"^\",,AI101:AI109)","v":"11^4"},null,6,null,{"$f":"AV$100","v":5},null,null,null,25,35,45,null,null,null,{"$f":"_xlfn.TEXTJOIN(\"^\",,AW101:AW109)","v":"8^8"}]
[null,null,4,null,null,17,25,30,null,50,60,65,75,null,null,{"$f":"_xlfn.TEXTJOIN(\"^\",,F101:F110)","v":"17^17^17^17^17^17^17"},null,4,{"$f":"S$100","v":5},null,{"$f":"U$100","v":15},{"$f":"V$100","v":22},{"$f":"W$100","v":30},40,50,55,null,null,null,{"$f":"_xlfn.TEXTJOIN(\"^\",,V101:V109)","v":"22^22^22^22^22"},null,4,{"$nulls":11},{"$f":"_xlfn.TEXTJOIN(\"^\",,AJ101:AJ109)","v":"2^12^3"},null,4,{"$f":"AU$100","v":3},null,null,{"$f":"AX$100","v":12},18,null,35,45,null,null,null,{"$f":"_xlfn.TEXTJOIN(\"^\",,AX101:AX109)","v":"12^12^12^12"}]
[null,null,2,{"$f":"D$100","v":5},10,17,25,30,40,50,60,65,75,null,null,{"$f":"_xlfn.TEXTJOIN(\"^\",,G101:G110)","v":"25^25^25^25^25^25^25"},null,2,5,null,15,22,30,40,50,55,null,null,null,{"$f":"_xlfn.TEXTJOIN(\"^\",,W101:W109)","v":"30^30^30^30^30^30^30"},null,2,{"$nulls":11},{"$f":"_xlfn.TEXTJOIN(\"^\",,AK101:AK109)","v":"4^12^2"},null,2,null,null,{"$f":"AW$100","v":8},12,18,{"$f":"AZ$100","v":25},35,45,null,null,null,{"$f":"_xlfn.TEXTJOIN(\"^\",,AY101:AY109)","v":"18^18^18^18"}]
[null,null,1,5,10,17,25,30,40,50,60,65,75,null,null,{"$f":"_xlfn.TEXTJOIN(\"^\",,H101:H110)","v":"30^30^30^30^30"},null,1,5,{"$f":"T$100","v":10},null,22,30,40,50,55,null,null,null,{"$f":"_xlfn.TEXTJOIN(\"^\",,X101:X109)","v":"40^40^40^40^40^40^40"},null,1,7,9,11,2,4,2,8,2,null,null,null,{"$f":"_xlfn.TEXTJOIN(\"^\",,AL101:AL109)","v":"2^14^3"},null,1,{"$f":"AU$100","v":3},{"$f":"AV$100","v":5},{"$nulls":4},35,{"$nulls":4},{"$f":"_xlfn.TEXTJOIN(\"^\",,AZ101:AZ109)","v":"25^25^25^25^25^25"}]
[null,null,3,5,10,17,25,30,40,50,60,65,75,null,null,{"$f":"_xlfn.TEXTJOIN(\"^\",,I101:I110)","v":"40^40^40^40^40^40^40"},null,3,5,null,{"$f":"U$100","v":15},22,30,40,50,55,null,null,null,{"$f":"_xlfn.TEXTJOIN(\"^\",,Y101:Y109)","v":"50^50^50^50^50^50^50^50^50"},null,3,18,3,4,12,12,14,4,14,null,null,null,{"$f":"_xlfn.TEXTJOIN(\"^\",,AM101:AM109)","v":"8^4"},null,3,null,null,{"$f":"AW$100","v":8},{"$f":"AX$100","v":12},18,{"$f":"AZ$100","v":25},35,45,null,null,null,{"$f":"_xlfn.TEXTJOIN(\"^\",,BA101:BA109)","v":"35^35^35^35^35^35^35"}]
[null,null,5,null,null,17,25,30,null,50,60,65,75,null,null,{"$f":"_xlfn.TEXTJOIN(\"^\",,J101:J110)","v":"50^50^50^50^50^50^50^50^50"},null,5,5,null,15,{"$f":"V$100","v":22},30,40,50,55,null,null,null,{"$f":"_xlfn.TEXTJOIN(\"^\",,Z101:Z109)","v":"55^55^55^55^55"},null,5,null,2,null,3,2,3,null,3,null,null,null,{"$f":"_xlfn.TEXTJOIN(\"^\",,AN101:AN109)","v":"2^14^3^2"},null,5,{"$f":"AU$100","v":3},null,null,12,18,null,35,45,null,null,null,{"$f":"_xlfn.TEXTJOIN(\"^\",,BB101:BB109)","v":"45^45^45^45^45^45^45^45"}]
[null,null,7,{"$f":"D$100","v":5},{"$f":"E$100","v":10},17,null,null,{"$f":"I$100","v":40},50,60,null,75,null,null,{"$f":"_xlfn.TEXTJOIN(\"^\",,K101:K110)","v":"60^60^60^60^60^60^60^60^60"},null,7,null,{"$f":"T$100","v":10},{"$nulls":4},50,{"$nulls":4},{"$f":"_xlfn.TEXTJOIN(\"^\",,AA101:AA109)","v":""},null,7,{"$nulls":7},2,null,null,null,{"$f":"_xlfn.TEXTJOIN(\"^\",,AO101:AO109)","v":""},null,7,null,{"$f":"AV$100","v":5},null,null,null,{"$f":"AZ$100","v":25},35,45,null,null,null,{"$f":"_xlfn.TEXTJOIN(\"^\",,BC101:BC109)","v":""}]
[null,null,9,null,null,null,{"$f":"G$100","v":25},null,40,50,60,{"$nulls":4},{"$f":"_xlfn.TEXTJOIN(\"^\",,L101:L110)","v":"65^65^65^65^65"},null,9,{"$nulls":4},{"$f":"W$100","v":30},{"$f":"X$100","v":40},50,{"$nulls":4},{"$f":"_xlfn.TEXTJOIN(\"^\",,AB101:AB109)","v":""},null,9,{"$nulls":11},{"$f":"_xlfn.TEXTJOIN(\"^\",,AP101:AP109)","v":""},null,9,{"$nulls":5},25,null,45,null,null,null,{"$f":"_xlfn.TEXTJOIN(\"^\",,BD101:BD109)","v":""}]
[{"$nulls":15},{"$f":"_xlfn.TEXTJOIN(\"^\",,M101:M110)","v":"75^75^75^75^75^75^75"},{"$nulls":13},{"$f":"_xlfn.TEXTJOIN(\"^\",,AC101:AC109)","v":""},{"$nulls":13},{"$f":"_xlfn.TEXTJOIN(\"^\",,AQ101:AQ109)","v":""},{"$nulls":13},{"$f":"_xlfn.TEXTJOIN(\"^\",,BE101:BE109)","v":""}]
[{"$nulls":15},{"$f":"_xlfn.TEXTJOIN(\"^\",,N101:N110)","v":""},{"$nulls":12},"最终",{"$f":"_xlfn.TEXTJOIN(\"^\",,AD100:AD110)","v":"5^5^5^5^5^10^10^10^15^15^15^15^22^22^22^22^22^30^30^30^30^30^30^30^40^40^40^40^40^40^40^50^50^50^50^50^50^50^50^50^55^55^55^55^55"},{"$nulls":12},"最终",{"$f":"_xlfn.TEXTJOIN(\"^\",,AR100:AR110)","v":"7^18^9^3^2^11^4^2^12^3^4^12^2^2^14^3^8^4^2^14^3^2"},{"$nulls":12},"最终",{"$f":"_xlfn.TEXTJOIN(\"^\",,BF100:BF110)","v":"3^3^3^5^5^5^8^8^12^12^12^12^18^18^18^18^25^25^25^25^25^25^35^35^35^35^35^35^35^45^45^45^45^45^45^45^45"}]
[{"$nulls":14},"最终",{"$f":"_xlfn.TEXTJOIN(\"^\",,P101:P111)","v":"5^5^5^5^5^10^10^10^10^10^17^17^17^17^17^17^17^25^25^25^25^25^25^25^30^30^30^30^30^40^40^40^40^40^40^40^50^50^50^50^50^50^50^50^50^60^60^60^60^60^60^60^60^60^65^65^65^65^65^75^75^75^75^75^75^75"}]
[{"$nulls":14},{"$f":"COUNT(D101:N110)","v":66},{"$nulls":13},{"$f":"COUNT(S101:AB110)","v":45},{"$nulls":13},{"$f":"SUM(AG101:AP110)","v":141},{"$nulls":13},{"$f":"COUNT(AU101:BD110)","v":37},{"$f":"AQ113+BE113+AC113+O113","v":289}]
[{"$nulls":4},{"$f":"E115-D115","v":10},{"$f":"F115-E115","v":15},5,15,16,17,17,5,15,{"$nulls":6},{"$f":"T115-S115","v":5},5,7,8,10,5,10,{"$nulls":7},{"$f":"AH115-AG115","v":5},5,7,8,5,10,10,{"$nulls":7},{"$f":"AV115-AU115","v":2},3,4,6,7,10,10]
[3,"高原-3","波1·怪物",5,15,30,35,50,66,83,100,105,120,null,null,null,1,"波2·怪物",5,10,15,22,30,40,45,55,{"$nulls":4},1,"波3·怪物",5,10,15,22,30,35,45,55,{"$nulls":4},1,"波4·怪物",3,5,8,12,18,25,35,45]
[null,"5m",8,{"$nulls":12},{"$f":"_xlfn.TEXTJOIN(\"^\",,D116:D125)","v":"70301^70304"},null,8,null,null,null,70304,null,70302,{"$nulls":5},{"$f":"_xlfn.TEXTJOIN(\"^\",,S116:S125)","v":"70305^70305^70305^70305"},null,8,{"$nulls":6},70304,70302,null,null,null,{"$f":"_xlfn.TEXTJOIN(\"^\",,AG116:AG125)","v":"70304^70302^70302^70302^70304"},null,8,{"$nulls":5},70302,null,70304,null,null,null,{"$f":"_xlfn.TEXTJOIN(\"^\",,AU116:AU125)","v":"70304^70303^70303^70304"}]
[null,null,6,{"$nulls":12},{"$f":"_xlfn.TEXTJOIN(\"^\",,E116:E125)","v":"70301^70302"},null,6,null,70302,70304,null,70302,null,null,70304,null,null,null,{"$f":"_xlfn.TEXTJOIN(\"^\",,T116:T125)","v":"70302^70302^70302^70302"},null,6,null,70301,null,70304,70302,null,null,70302,null,null,null,{"$f":"_xlfn.TEXTJOIN(\"^\",,AH116:AH125)","v":"70301^70303^70302^70303^70302^70303^70301"},null,6,null,70302,null,70301,70304,null,70302,70302,null,null,null,{"$f":"_xlfn.TEXTJOIN(\"^\",,AV116:AV125)","v":"70302^70302^70302"}]
[null,null,4,{"$nulls":12},{"$f":"_xlfn.TEXTJOIN(\"^\",,F116:F125)","v":"70301^70302^70303"},null,4,70305,null,null,70302,70302,70301,70305,70302,null,null,null,{"$f":"_xlfn.TEXTJOIN(\"^\",,U116:U125)","v":"70304^70303^70303^70304"},null,4,70304,70303,70305,70302,70301,70305,70302,70301,null,null,null,{"$f":"_xlfn.TEXTJOIN(\"^\",,AI116:AI125)","v":"70305^70305^70305^70305^70305"},null,4,70304,null,70305,70301,70302,70301,70301,70301,null,null,null,{"$f":"_xlfn.TEXTJOIN(\"^\",,AW116:AW125)","v":"70305^70305^70305^70305"}]
[null,null,2,{"$nulls":12},{"$f":"_xlfn.TEXTJOIN(\"^\",,G116:G125)","v":"70305^70302^70303"},null,2,70305,null,70303,70301,70303,70303,70305,{"$nulls":4},{"$f":"_xlfn.TEXTJOIN(\"^\",,V116:V125)","v":"70304^70302^70301^70301^70301^70302^70304"},null,2,70302,70302,70305,70303,70301,70305,70303,70301,null,null,null,{"$f":"_xlfn.TEXTJOIN(\"^\",,AJ116:AJ125)","v":"70304^70302^70303^70303^70303^70302^70304"},null,2,70303,null,70305,null,70303,70301,70301,70303,null,null,null,{"$f":"_xlfn.TEXTJOIN(\"^\",,AX116:AX125)","v":"70301^70301^70301^70301^70301"}]
[null,null,1,70301,70301,70301,70305,70301,70301,70301,70303,70305,70304,null,null,{"$f":"_xlfn.TEXTJOIN(\"^\",,H116:H125)","v":"70301^70302^70304"},null,1,null,70302,null,70301,70304,70303,70305,70306,null,null,null,{"$f":"_xlfn.TEXTJOIN(\"^\",,W116:W125)","v":"70302^70302^70303^70304^70303^70302^70302"},null,1,70302,70303,70305,70303,70302,70305,70302,70303,null,null,null,{"$f":"_xlfn.TEXTJOIN(\"^\",,AK116:AK125)","v":"70302^70301^70301^70302^70301^70301^70302"},null,1,null,70302,null,70301,null,70304,70303,{"$nulls":4},{"$f":"_xlfn.TEXTJOIN(\"^\",,AY116:AY125)","v":"70304^70302^70303^70303^70302^70304"}]
[null,null,3,70304,70302,70302,70302,70302,70302,70302,70302,70301,70303,null,null,{"$f":"_xlfn.TEXTJOIN(\"^\",,I116:I125)","v":"70301^70302^70303^70304"},null,3,70305,70302,70303,70301,70303,70303,70305,{"$nulls":4},{"$f":"_xlfn.TEXTJOIN(\"^\",,X116:X125)","v":"70302^70301^70303^70303^70303^70301^70302"},null,3,70302,70302,70305,70303,70301,70305,70303,70301,null,null,null,{"$f":"_xlfn.TEXTJOIN(\"^\",,AL116:AL125)","v":"70305^70305^70305^70305^70305"},null,3,70303,null,70305,null,70303,70301,70301,70303,null,null,null,{"$f":"_xlfn.TEXTJOIN(\"^\",,AZ116:AZ125)","v":"70302^70301^70301^70304^70301^70301^70302"}]
[null,null,5,null,null,70303,70303,70304,70303,null,70304,70304,70302,null,null,{"$f":"_xlfn.TEXTJOIN(\"^\",,J116:J125)","v":"70301^70302"},null,5,70305,null,null,70302,70302,70301,70305,70302,null,null,null,{"$f":"_xlfn.TEXTJOIN(\"^\",,Y116:Y125)","v":"70305^70305^70305^70305^70305"},null,5,70304,70303,70305,70302,70301,70305,70302,70301,null,null,null,{"$f":"_xlfn.TEXTJOIN(\"^\",,AM116:AM125)","v":"70304^70302^70303^70302^70303^70302^70304"},null,5,70304,null,70305,70301,70302,70301,70301,70301,null,null,null,{"$f":"_xlfn.TEXTJOIN(\"^\",,BA116:BA125)","v":"70302^70301^70301^70303^70301^70301^70302"}]
[null,null,7,{"$nulls":5},70304,{"$nulls":6},{"$f":"_xlfn.TEXTJOIN(\"^\",,K116:K125)","v":"70303^70302^70304"},null,7,null,70302,70304,null,70302,null,null,70304,null,null,null,{"$f":"_xlfn.TEXTJOIN(\"^\",,Z116:Z125)","v":"70304^70302^70306^70302^70304"},null,7,null,70301,null,70304,70302,null,null,70302,null,null,null,{"$f":"_xlfn.TEXTJOIN(\"^\",,AN116:AN125)","v":"70302^70302^70301^70301^70303^70301^70301^70302^70302"},null,7,null,70302,null,70301,70304,null,70302,70302,null,null,null,{"$f":"_xlfn.TEXTJOIN(\"^\",,BB116:BB125)","v":"70304^70302^70301^70303^70303^70301^70302^70304"}]
[null,null,9,{"$nulls":12},{"$f":"_xlfn.TEXTJOIN(\"^\",,L116:L125)","v":"70305^70301^70304"},null,9,null,null,null,70304,null,70302,{"$nulls":5},{"$f":"_xlfn.TEXTJOIN(\"^\",,AA116:AA125)","v":""},null,9,{"$nulls":6},70304,70302,null,null,null,{"$f":"_xlfn.TEXTJOIN(\"^\",,AO116:AO125)","v":""},null,9,{"$nulls":5},70302,null,70304,null,null,null,{"$f":"_xlfn.TEXTJOIN(\"^\",,BC116:BC125)","v":""}]
[{"$nulls":15},{"$f":"_xlfn.TEXTJOIN(\"^\",,M116:M125)","v":"70304^70303^70302"},{"$nulls":13},{"$f":"_xlfn.TEXTJOIN(\"^\",,AB116:AB125)","v":""},{"$nulls":13},{"$f":"_xlfn.TEXTJOIN(\"^\",,AP116:AP125)","v":""},{"$nulls":13},{"$f":"_xlfn.TEXTJOIN(\"^\",,BD116:BD125)","v":""}]
[{"$nulls":15},{"$f":"_xlfn.TEXTJOIN(\"^\",,N116:N125)","v":""},{"$nulls":13},{"$f":"_xlfn.TEXTJOIN(\"^\",,AC116:AC125)","v":""},{"$nulls":13},{"$f":"_xlfn.TEXTJOIN(\"^\",,AQ116:AQ125)","v":""},{"$nulls":13},{"$f":"_xlfn.TEXTJOIN(\"^\",,BE116:BE125)","v":""}]
[{"$nulls":14},"最终",{"$f":"_xlfn.TEXTJOIN(\"^\",,P116:P126)","v":"70301^70304^70301^70302^70301^70302^70303^70305^70302^70303^70301^70302^70304^70301^70302^70303^70304^70301^70302^70303^70302^70304^70305^70301^70304^70304^70303^70302"},{"$nulls":12},"最终",{"$f":"_xlfn.TEXTJOIN(\"^\",,AD116:AD126)","v":"70305^70305^70305^70305^70302^70302^70302^70302^70304^70303^70303^70304^70304^70302^70301^70301^70301^70302^70304^70302^70302^70303^70304^70303^70302^70302^70302^70301^70303^70303^70303^70301^70302^70305^70305^70305^70305^70305^70304^70302^70306^70302^70304"},{"$nulls":12},"最终",{"$f":"_xlfn.TEXTJOIN(\"^\",,AR116:AR126)","v":"70304^70302^70302^70302^70304^70301^70303^70302^70303^70302^70303^70301^70305^70305^70305^70305^70305^70304^70302^70303^70303^70303^70302^70304^70302^70301^70301^70302^70301^70301^70302^70305^70305^70305^70305^70305^70304^70302^70303^70302^70303^70302^70304^70302^70302^70301^70301^70303^70301^70301^70302^70302"},{"$nulls":12},"最终",{"$f":"_xlfn.TEXTJOIN(\"^\",,BF116:BF126)","v":"70304^70303^70303^70304^70302^70302^70302^70305^70305^70305^70305^70301^70301^70301^70301^70301^70304^70302^70303^70303^70302^70304^70302^70301^70301^70304^70301^70301^70302^70302^70301^70301^70303^70301^70301^70302^70304^70302^70301^70303^70303^70301^70302^70304"}]
[null,null,8,{"$nulls":14},8,null,null,null,"木精灵",null,"巨魔矛手",{"$nulls":7},8,{"$nulls":6},"木精灵","巨魔矛手",{"$nulls":5},8,{"$nulls":5},"巨魔矛手",null,"木精灵"]
[null,null,6,{"$nulls":14},6,null,"巨魔矛手","木精灵",null,"巨魔矛手",null,null,"木精灵",{"$nulls":5},6,null,"雪怪",null,"木精灵","巨魔矛手",null,null,"巨魔矛手",{"$nulls":5},6,null,"巨魔矛手",null,"雪怪","木精灵",null,"巨魔矛手","巨魔矛手"]
[null,null,4,{"$nulls":14},4,"雪山蜘蛛",null,null,"巨魔矛手","巨魔矛手","雪怪","雪山蜘蛛","巨魔矛手",{"$nulls":5},4,"木精灵","雪原兽","雪山蜘蛛","巨魔矛手","雪怪","雪山蜘蛛","巨魔矛手","雪怪",{"$nulls":5},4,"木精灵",null,"雪山蜘蛛","雪怪","巨魔矛手","雪怪","雪怪","雪怪"]
[null,null,2,{"$nulls":14},2,"雪山蜘蛛",null,"雪原兽","雪怪","雪原兽","雪原兽","雪山蜘蛛",{"$nulls":6},2,"巨魔矛手","巨魔矛手","雪山蜘蛛","雪原兽","雪怪","雪山蜘蛛","雪原兽","雪怪",{"$nulls":5},2,"雪原兽",null,"雪山蜘蛛",null,"雪原兽","雪怪","雪怪","雪原兽"]
[null,null,1,"雪怪","雪怪","雪怪","雪山蜘蛛","雪怪","雪怪","雪怪","雪原兽","雪山蜘蛛","木精灵",{"$nulls":4},1,null,"巨魔矛手",null,"雪怪","木精灵","雪原兽","雪山蜘蛛","冰霜巨人",{"$nulls":5},1,"巨魔矛手","雪原兽","雪山蜘蛛","雪原兽","巨魔矛手","雪山蜘蛛","巨魔矛手","雪原兽",{"$nulls":5},1,null,"巨魔矛手",null,"雪怪",null,"木精灵","雪原兽"]
[null,null,3,"木精灵","巨魔矛手","巨魔矛手","巨魔矛手","巨魔矛手","巨魔矛手","巨魔矛手","巨魔矛手","雪怪","雪原兽",{"$nulls":4},3,"雪山蜘蛛","巨魔矛手","雪原兽","雪怪","雪原兽","雪原兽","雪山蜘蛛",{"$nulls":6},3,"巨魔矛手","巨魔矛手","雪山蜘蛛","雪原兽","雪怪","雪山蜘蛛","雪原兽","雪怪",{"$nulls":5},3,"雪原兽",null,"雪山蜘蛛",null,"雪原兽","雪怪","雪怪","雪原兽"]
[null,null,5,null,null,"雪原兽","雪原兽","木精灵","雪原兽",null,"木精灵","木精灵","巨魔矛手",{"$nulls":4},5,"雪山蜘蛛",null,null,"巨魔矛手","巨魔矛手","雪怪","雪山蜘蛛","巨魔矛手",{"$nulls":5},5,"木精灵","雪原兽","雪山蜘蛛","巨魔矛手","雪怪","雪山蜘蛛","巨魔矛手","雪怪",{"$nulls":5},5,"木精灵",null,"雪山蜘蛛","雪怪","巨魔矛手","雪怪","雪怪","雪怪"]
[null,null,7,{"$nulls":5},"木精灵",{"$nulls":8},7,null,"巨魔矛手","木精灵",null,"巨魔矛手",null,null,"木精灵",{"$nulls":5},7,null,"雪怪",null,"木精灵","巨魔矛手",null,null,"巨魔矛手",{"$nulls":5},7,null,"巨魔矛手",null,"雪怪","木精灵",null,"巨魔矛手","巨魔矛手"]
[null,null,9,{"$nulls":14},9,null,null,null,"木精灵",null,"巨魔矛手",{"$nulls":7},9,{"$nulls":6},"木精灵","巨魔矛手",{"$nulls":5},9,{"$nulls":5},"巨魔矛手",null,"木精灵"]
[]
[null,null,"位置",5,15,30,35,50,66,83,100,105,120,{"$nulls":4},"位置",5,10,15,22,30,40,45,55,{"$nulls":5},"位置",5,10,15,22,30,35,45,55,null,null,null,{"$f":"_xlfn.TEXTJOIN(\"^\",,AG139:AG153)","v":"4^2^1^3^5"},null,"位置",3,5,8,12,18,25,35,45,null,null,null,{"$f":"_xlfn.TEXTJOIN(\"^\",,AU139:AU153)","v":"4^2^3^5"}]
[null,null,8,{"$nulls":12},{"$f":"_xlfn.TEXTJOIN(\"^\",,D139:D153)","v":"0^0"},null,8,null,null,null,{"$f":"$C139","v":8},null,{"$f":"$C139","v":8},{"$nulls":7},8,{"$nulls":6},{"$f":"$C139","v":8},{"$f":"$C139","v":8},null,null,null,{"$f":"_xlfn.TEXTJOIN(\"^\",,AH139:AH153)","v":"6^4^2^1^3^5^7"},null,8,{"$nulls":5},{"$f":"$C139","v":8},null,{"$f":"$C139","v":8},null,null,null,{"$f":"_xlfn.TEXTJOIN(\"^\",,AV139:AV153)","v":"6^1^7"}]
[null,null,6,{"$nulls":12},{"$f":"_xlfn.TEXTJOIN(\"^\",,E139:E153)","v":"0^0"},null,6,null,{"$f":"$C140","v":6},{"$f":"$C140","v":6},null,{"$f":"$C140","v":6},null,null,{"$f":"$C140","v":6},null,null,null,{"$f":"_xlfn.TEXTJOIN(\"^\",,S139:S153)","v":"101^102^104^105"},null,6,null,{"$f":"$C140","v":6},null,{"$f":"$C140","v":6},6,null,null,6,null,null,null,{"$f":"_xlfn.TEXTJOIN(\"^\",,AI139:AI153)","v":"101^102^103^104^105"},null,6,null,{"$f":"$C140","v":6},null,{"$f":"$C140","v":6},6,null,{"$f":"$C140","v":6},6,null,null,null,{"$f":"_xlfn.TEXTJOIN(\"^\",,AW139:AW153)","v":"101^102^104^105"}]
[null,null,4,{"$nulls":12},{"$f":"_xlfn.TEXTJOIN(\"^\",,F139:F153)","v":"0^0^0"},null,4,null,null,null,{"$f":"$C141","v":4},4,4,null,4,null,null,null,{"$f":"_xlfn.TEXTJOIN(\"^\",,T139:T153)","v":"6^1^3^7"},null,4,{"$f":"$C141","v":4},{"$f":"$C141","v":4},null,4,4,null,{"$f":"$C141","v":4},4,null,null,null,{"$f":"_xlfn.TEXTJOIN(\"^\",,AJ139:AJ153)","v":"6^4^2^1^3^5^7"},null,4,{"$f":"$C141","v":4},null,null,4,4,4,4,4,null,null,null,{"$f":"_xlfn.TEXTJOIN(\"^\",,AX139:AX153)","v":"6^4^1^5^7"}]
[null,null,2,{"$nulls":12},{"$f":"_xlfn.TEXTJOIN(\"^\",,G139:G153)","v":"100^0^0"},null,2,null,null,{"$f":"$C142","v":2},2,2,2,{"$nulls":5},{"$f":"_xlfn.TEXTJOIN(\"^\",,U139:U153)","v":"6^2^3^7"},null,2,2,2,null,2,2,null,2,2,null,null,null,{"$f":"_xlfn.TEXTJOIN(\"^\",,AK139:AK153)","v":"6^4^2^1^3^5^7"},null,2,2,null,null,null,{"$f":"$C142","v":2},2,2,2,null,null,null,{"$f":"_xlfn.TEXTJOIN(\"^\",,AY139:AY153)","v":"6^4^2^3^5^7"}]
[null,null,1,0,0,0,100,0,0,0,0,100,0,null,null,{"$f":"_xlfn.TEXTJOIN(\"^\",,H139:H153)","v":"0^0^0"},null,1,null,{"$f":"$C143","v":1},null,1,1,1,null,{"$f":"$C143","v":1},null,null,null,{"$f":"_xlfn.TEXTJOIN(\"^\",,V139:V153)","v":"8^4^2^1^3^5^9"},null,1,1,1,null,1,1,null,1,1,null,null,null,{"$f":"_xlfn.TEXTJOIN(\"^\",,AL139:AL153)","v":"101^102^103^104^105"},null,1,null,{"$f":"$C143","v":1},null,{"$f":"$C143","v":1},null,1,1,{"$nulls":4},{"$f":"_xlfn.TEXTJOIN(\"^\",,AZ139:AZ153)","v":"8^4^2^1^3^5^9"}]
[null,null,3,0,0,0,0,0,0,0,0,0,0,null,null,{"$f":"_xlfn.TEXTJOIN(\"^\",,I139:I153)","v":"0^0^0^0"},null,3,null,{"$f":"$C144","v":3},{"$f":"$C144","v":3},3,3,3,{"$nulls":5},{"$f":"_xlfn.TEXTJOIN(\"^\",,W139:W153)","v":"6^4^2^1^3^5^7"},null,3,3,3,null,3,3,null,3,3,null,null,null,{"$f":"_xlfn.TEXTJOIN(\"^\",,AM139:AM153)","v":"8^4^2^1^3^5^9"},null,3,{"$f":"$C144","v":3},null,null,null,{"$f":"$C144","v":3},3,3,3,null,null,null,{"$f":"_xlfn.TEXTJOIN(\"^\",,BA139:BA153)","v":"6^4^2^1^3^5^7"}]
[null,null,5,null,null,0,0,0,0,null,0,0,0,null,null,{"$f":"_xlfn.TEXTJOIN(\"^\",,J139:J153)","v":"0^0"},null,5,null,null,null,5,5,5,null,{"$f":"$C145","v":5},null,null,null,{"$f":"_xlfn.TEXTJOIN(\"^\",,X139:X153)","v":"8^4^2^1^3^5^9"},null,5,5,5,null,5,5,null,5,5,null,null,null,{"$f":"_xlfn.TEXTJOIN(\"^\",,AN139:AN153)","v":"8^6^4^2^1^3^5^7^9"},null,5,5,null,null,{"$f":"$C145","v":5},5,5,5,5,null,null,null,{"$f":"_xlfn.TEXTJOIN(\"^\",,BB139:BB153)","v":"8^6^4^2^3^5^7^9"}]
[null,null,7,{"$nulls":5},0,{"$nulls":6},{"$f":"_xlfn.TEXTJOIN(\"^\",,K139:K153)","v":"0^0^0"},null,7,null,{"$f":"$C146","v":7},{"$f":"$C146","v":7},null,7,null,null,7,null,null,null,{"$f":"_xlfn.TEXTJOIN(\"^\",,Y139:Y153)","v":"101^102^103^104^105"},null,7,null,7,null,7,7,null,null,7,null,null,null,{"$f":"_xlfn.TEXTJOIN(\"^\",,AO139:AO153)","v":""},null,7,null,{"$f":"$C146","v":7},null,7,7,null,7,7,null,null,null,{"$f":"_xlfn.TEXTJOIN(\"^\",,BC139:BC153)","v":""}]
[null,null,9,{"$nulls":12},{"$f":"_xlfn.TEXTJOIN(\"^\",,L139:L153)","v":"100^0^0"},null,9,null,null,null,{"$f":"$C147","v":9},null,{"$f":"$C147","v":9},{"$nulls":7},9,{"$nulls":6},{"$f":"$C147","v":9},9,null,null,null,{"$f":"_xlfn.TEXTJOIN(\"^\",,AP139:AP153)","v":""},null,9,{"$nulls":5},{"$f":"$C147","v":9},null,9,null,null,null,{"$f":"_xlfn.TEXTJOIN(\"^\",,BD139:BD153)","v":""}]
[null,null,"空降",{"$nulls":12},{"$f":"_xlfn.TEXTJOIN(\"^\",,M139:M153)","v":"0^0^0"},null,"空降",{"$nulls":13},"空降",{"$nulls":11},{"$f":"_xlfn.TEXTJOIN(\"^\",,AQ139:AQ147)","v":""},null,"空降",{"$nulls":11},{"$f":"_xlfn.TEXTJOIN(\"^\",,BE139:BE147)","v":""}]
[null,null,101,{"$nulls":12},{"$f":"_xlfn.TEXTJOIN(\"^\",,N139:N153)","v":""},null,101,{"$f":"$C149","v":101},{"$nulls":5},{"$f":"$C149","v":101},{"$nulls":4},{"$f":"_xlfn.TEXTJOIN(\"^\",,Z139:Z153)","v":"6^4^1^5^7"},null,101,null,null,{"$f":"$C149","v":101},null,null,{"$f":"$C149","v":101},{"$nulls":7},101,null,null,{"$f":"$C149","v":101}]
[null,null,102,{"$nulls":14},102,102,{"$nulls":5},102,{"$nulls":4},{"$f":"_xlfn.TEXTJOIN(\"^\",,AA139:AA153)","v":""},null,102,null,null,102,null,null,102,{"$nulls":7},102,null,null,102]
[null,null,103,{"$nulls":14},103,{"$nulls":6},103,{"$nulls":4},{"$f":"_xlfn.TEXTJOIN(\"^\",,AB139:AB153)","v":""},null,103,null,null,103,null,null,103,{"$nulls":7},103]
[null,null,104,{"$nulls":14},104,{"$f":"$C152","v":104},{"$nulls":5},104,{"$nulls":6},104,null,null,104,null,null,104,{"$nulls":7},104,null,null,{"$f":"$C152","v":104}]
[null,null,105,{"$nulls":14},105,105,{"$nulls":5},105,{"$nulls":6},105,null,null,105,null,null,105,{"$nulls":7},105,null,null,105]
[{"$nulls":14},"最终",{"$f":"_xlfn.TEXTJOIN(\"^\",,P139:P153)","v":"0^0^0^0^0^0^0^100^0^0^0^0^0^0^0^0^0^0^0^0^0^0^100^0^0^0^0^0"},{"$nulls":12},"最终",{"$f":"_xlfn.TEXTJOIN(\"^\",,AD139:AD153)","v":"101^102^104^105^6^1^3^7^6^2^3^7^8^4^2^1^3^5^9^6^4^2^1^3^5^7^8^4^2^1^3^5^9^101^102^103^104^105^6^4^1^5^7"},{"$nulls":12},"最终",{"$f":"_xlfn.TEXTJOIN(\"^\",,AR138:AR153)","v":"4^2^1^3^5^6^4^2^1^3^5^7^101^102^103^104^105^6^4^2^1^3^5^7^6^4^2^1^3^5^7^101^102^103^104^105^8^4^2^1^3^5^9^8^6^4^2^1^3^5^7^9"},{"$nulls":12},"最终",{"$f":"_xlfn.TEXTJOIN(\"^\",,BF138:BF153)","v":"4^2^3^5^6^1^7^101^102^104^105^6^4^1^5^7^6^4^2^3^5^7^8^4^2^1^3^5^9^6^4^2^1^3^5^7^8^6^4^2^3^5^7^9"}]
[]
[null,null,"时间",5,15,30,35,50,66,83,100,105,120,{"$nulls":4},"时间",5,10,15,22,30,40,45,55,null,null,null,{"$f":"_xlfn.TEXTJOIN(\"^\",,S157:S165)","v":"5^5^5^5"},null,"时间",5,10,15,22,30,35,45,55,null,null,null,{"$f":"_xlfn.TEXTJOIN(\"^\",,AG157:AG165)","v":"5^5^5^5^5"},null,"时间",3,5,8,12,18,25,35,45,null,null,null,{"$f":"_xlfn.TEXTJOIN(\"^\",,AU157:AU165)","v":"3^3^3^3"}]
[null,null,8,{"$nulls":12},{"$f":"_xlfn.TEXTJOIN(\"^\",,D157:D166)","v":"9^3"},null,8,null,null,null,{"$f":"V$156","v":22},null,{"$f":"X$156","v":40},{"$nulls":5},{"$f":"_xlfn.TEXTJOIN(\"^\",,T157:T165)","v":"10^10^10^10"},null,8,{"$nulls":6},{"$f":"AM$156","v":45},55,null,null,null,{"$f":"_xlfn.TEXTJOIN(\"^\",,AH157:AH165)","v":"10^10^10^10^10^10^10"},null,8,{"$nulls":5},{"$f":"AZ$156","v":25},null,{"$f":"BB$156","v":45},null,null,null,{"$f":"_xlfn.TEXTJOIN(\"^\",,AV157:AV165)","v":"5^5^5"}]
[null,null,6,{"$nulls":12},{"$f":"_xlfn.TEXTJOIN(\"^\",,E157:E166)","v":"9^4"},null,6,null,{"$f":"T$156","v":10},15,null,30,null,null,55,null,null,null,{"$f":"_xlfn.TEXTJOIN(\"^\",,U157:U165)","v":"15^15^15^15"},null,6,null,{"$f":"AH$156","v":10},null,{"$f":"AJ$156","v":22},30,null,null,55,null,null,null,{"$f":"_xlfn.TEXTJOIN(\"^\",,AI157:AI165)","v":"15^15^15^15^15"},null,6,null,{"$f":"AV$156","v":5},null,{"$f":"AX$156","v":12},18,null,{"$f":"BA$156","v":35},45,null,null,null,{"$f":"_xlfn.TEXTJOIN(\"^\",,AW157:AW165)","v":"8^8^8^8"}]
[null,null,4,{"$nulls":12},{"$f":"_xlfn.TEXTJOIN(\"^\",,F157:F166)","v":"10^3^2"},null,4,{"$f":"S$156","v":5},null,null,{"$f":"V$156","v":22},30,40,45,55,null,null,null,{"$f":"_xlfn.TEXTJOIN(\"^\",,V157:V165)","v":"22^22^22^22^22^22^22"},null,4,5,10,15,22,30,35,45,55,null,null,null,{"$f":"_xlfn.TEXTJOIN(\"^\",,AJ157:AJ165)","v":"22^22^22^22^22^22^22"},null,4,{"$f":"AU$156","v":3},null,{"$f":"AW$156","v":8},12,18,25,35,45,null,null,null,{"$f":"_xlfn.TEXTJOIN(\"^\",,AX157:AX165)","v":"12^12^12^12^12"}]
[null,null,2,{"$nulls":12},{"$f":"_xlfn.TEXTJOIN(\"^\",,G157:G166)","v":"8^3^2"},null,2,5,null,{"$f":"U$156","v":15},22,30,40,45,{"$nulls":4},{"$f":"_xlfn.TEXTJOIN(\"^\",,W157:W165)","v":"30^30^30^30^30^30^30"},null,2,5,10,15,22,30,35,45,55,null,null,null,{"$f":"_xlfn.TEXTJOIN(\"^\",,AK157:AK165)","v":"30^30^30^30^30^30^30"},null,2,3,null,8,null,18,25,35,45,null,null,null,{"$f":"_xlfn.TEXTJOIN(\"^\",,AY157:AY165)","v":"18^18^18^18^18^18"}]
[null,null,1,9,9,10,8,11,11,14,15,8,2,null,null,{"$f":"_xlfn.TEXTJOIN(\"^\",,H157:H166)","v":"11^4^2"},null,1,null,{"$f":"T$156","v":10},null,22,30,40,45,55,null,null,null,{"$f":"_xlfn.TEXTJOIN(\"^\",,X157:X165)","v":"40^40^40^40^40^40^40"},null,1,5,10,15,22,30,35,45,55,null,null,null,{"$f":"_xlfn.TEXTJOIN(\"^\",,AL157:AL165)","v":"35^35^35^35^35"},null,1,null,{"$f":"AV$156","v":5},null,{"$f":"AX$156","v":12},null,25,35,{"$nulls":4},{"$f":"_xlfn.TEXTJOIN(\"^\",,AZ157:AZ165)","v":"25^25^25^25^25^25^25"}]
[null,null,3,3,4,3,3,4,3,4,2,10,3,null,null,{"$f":"_xlfn.TEXTJOIN(\"^\",,I157:I166)","v":"11^3^2^2"},null,3,{"$f":"S$156","v":5},10,15,22,30,40,45,{"$nulls":4},{"$f":"_xlfn.TEXTJOIN(\"^\",,Y157:Y165)","v":"45^45^45^45^45"},null,3,5,10,15,22,30,35,45,55,null,null,null,{"$f":"_xlfn.TEXTJOIN(\"^\",,AM157:AM165)","v":"45^45^45^45^45^45^45"},null,3,{"$f":"AU$156","v":3},null,{"$f":"AW$156","v":8},null,{"$f":"AY$156","v":18},25,35,45,null,null,null,{"$f":"_xlfn.TEXTJOIN(\"^\",,BA157:BA165)","v":"35^35^35^35^35^35^35"}]
[null,null,5,null,null,2,2,2,2,null,2,2,4,null,null,{"$f":"_xlfn.TEXTJOIN(\"^\",,J157:J166)","v":"14^4"},null,5,5,null,null,22,30,40,45,55,null,null,null,{"$f":"_xlfn.TEXTJOIN(\"^\",,Z157:Z165)","v":"55^55^55^55^55"},null,5,5,10,15,22,30,35,45,55,null,null,null,{"$f":"_xlfn.TEXTJOIN(\"^\",,AN157:AN165)","v":"55^55^55^55^55^55^55^55^55"},null,5,3,null,8,12,18,25,35,45,null,null,null,{"$f":"_xlfn.TEXTJOIN(\"^\",,BB157:BB165)","v":"45^45^45^45^45^45^45^45"}]
[null,null,7,{"$nulls":5},2,{"$nulls":6},{"$f":"_xlfn.TEXTJOIN(\"^\",,K157:K166)","v":"15^2^2"},null,7,null,{"$f":"T$156","v":10},15,null,30,null,null,55,null,null,null,{"$f":"_xlfn.TEXTJOIN(\"^\",,AA157:AA165)","v":""},null,7,null,10,null,22,30,null,null,55,null,null,null,{"$f":"_xlfn.TEXTJOIN(\"^\",,AO157:AO165)","v":""},null,7,null,{"$f":"AV$156","v":5},null,12,18,null,35,45,null,null,null,{"$f":"_xlfn.TEXTJOIN(\"^\",,BC157:BC165)","v":""}]
[null,null,9,{"$nulls":12},{"$f":"_xlfn.TEXTJOIN(\"^\",,L157:L166)","v":"8^10^2"},null,9,null,null,null,{"$f":"V$156","v":22},null,40,{"$nulls":5},{"$f":"_xlfn.TEXTJOIN(\"^\",,AB157:AB165)","v":""},null,9,{"$nulls":6},{"$f":"AM$156","v":45},55,null,null,null,{"$f":"_xlfn.TEXTJOIN(\"^\",,AP157:AP165)","v":""},null,9,{"$nulls":5},{"$f":"AZ$156","v":25},null,45,null,null,null,{"$f":"_xlfn.TEXTJOIN(\"^\",,BD157:BD165)","v":""}]
[{"$nulls":15},{"$f":"_xlfn.TEXTJOIN(\"^\",,M157:M166)","v":"2^3^4"},{"$nulls":13},{"$f":"_xlfn.TEXTJOIN(\"^\",,AC157:AC165)","v":""},{"$nulls":13},{"$f":"_xlfn.TEXTJOIN(\"^\",,AQ157:AQ165)","v":""},{"$nulls":13},{"$f":"_xlfn.TEXTJOIN(\"^\",,BE157:BE165)","v":""}]
[{"$nulls":15},{"$f":"_xlfn.TEXTJOIN(\"^\",,N157:N166)","v":""},{"$nulls":12},"最终",{"$f":"_xlfn.TEXTJOIN(\"^\",,AD156:AD166)","v":"5^5^5^5^10^10^10^10^15^15^15^15^22^22^22^22^22^22^22^30^30^30^30^30^30^30^40^40^40^40^40^40^40^45^45^45^45^45^55^55^55^55^55"},{"$nulls":12},"最终",{"$f":"_xlfn.TEXTJOIN(\"^\",,AR156:AR166)","v":"5^5^5^5^5^10^10^10^10^10^10^10^15^15^15^15^15^22^22^22^22^22^22^22^30^30^30^30^30^30^30^35^35^35^35^35^45^45^45^45^45^45^45^55^55^55^55^55^55^55^55^55"},{"$nulls":12},"最终",{"$f":"_xlfn.TEXTJOIN(\"^\",,BF156:BF166)","v":"3^3^3^3^5^5^5^8^8^8^8^12^12^12^12^12^18^18^18^18^18^18^25^25^25^25^25^25^25^35^35^35^35^35^35^35^45^45^45^45^45^45^45^45"}]
[{"$nulls":14},"最终",{"$f":"_xlfn.TEXTJOIN(\"^\",,P157:P167)","v":"9^3^9^4^10^3^2^8^3^2^11^4^2^11^3^2^2^14^4^15^2^2^8^10^2^2^3^4"}]
[{"$nulls":14},{"$f":"SUM(D157:N166)","v":154},{"$nulls":13},{"$f":"COUNT(S157:AB166)","v":43},{"$nulls":13},{"$f":"COUNT(AG157:AP166)","v":52},{"$nulls":13},{"$f":"COUNT(AU157:BD166)","v":44},{"$f":"AQ169+BE169+AC169+O169","v":293}]

{"sheet":"11","index":11,"n_rows":169,"n_cols":58,"rows_kept":169,"cut":false,"hidden":false,"merged":[]}
[]
[{"$nulls":4},{"$f":"E3-D3","v":10},{"$f":"F3-E3","v":15},5,15,16,17,7,15,15,{"$nulls":6},{"$f":"T3-S3","v":5},5,5,7,8,10,5,{"$nulls":7},{"$f":"AH3-AG3","v":2},4,5,10,15,17,18,{"$nulls":7},{"$f":"AV3-AU3","v":2},2,2,2,5,7,8]
[3,"雪谷-1","波1·怪物",5,15,30,35,50,66,83,90,105,120,null,null,null,1,"波2·怪物",5,10,15,20,27,35,45,50,{"$nulls":4},3,"波3·怪物",4,6,10,15,25,40,57,75,{"$nulls":4},1,"波4·怪物",2,4,6,8,10,15,22,30]
[null,"5m",8,{"$nulls":12},{"$f":"_xlfn.TEXTJOIN(\"^\",,D4:D13)","v":"70311^70312^70314"},null,8,null,70312,null,null,null,70314,{"$nulls":5},{"$f":"_xlfn.TEXTJOIN(\"^\",,S4:S13)","v":"70315^70315^70315^70315"},null,8,{"$nulls":11},{"$f":"_xlfn.TEXTJOIN(\"^\",,AG4:AG13)","v":"70311^70313"},null,8,{"$nulls":7},70312,null,null,null,{"$f":"_xlfn.TEXTJOIN(\"^\",,AU4:AU13)","v":"70311^70311^70311^70311"}]
[null,null,6,{"$nulls":12},{"$f":"_xlfn.TEXTJOIN(\"^\",,E4:E13)","v":"70311^70312"},null,6,null,null,70313,null,70312,70312,70312,{"$nulls":4},{"$f":"_xlfn.TEXTJOIN(\"^\",,T4:T13)","v":"70312^70312^70312^70312"},null,6,{"$nulls":11},{"$f":"_xlfn.TEXTJOIN(\"^\",,AH4:AH13)","v":"70311^70312^70314"},null,6,{"$nulls":5},70314,70312,70312,null,null,null,{"$f":"_xlfn.TEXTJOIN(\"^\",,AV4:AV13)","v":"70312^70312^70312"}]
[null,null,4,{"$nulls":12},{"$f":"_xlfn.TEXTJOIN(\"^\",,F4:F13)","v":"70311^70312^70313^70314"},null,4,70315,70312,null,70314,70311,70311,70311,70315,null,null,null,{"$f":"_xlfn.TEXTJOIN(\"^\",,U4:U13)","v":"70313^70313^70313"},null,4,{"$nulls":11},{"$f":"_xlfn.TEXTJOIN(\"^\",,AI4:AI13)","v":"70311^70312"},null,4,70311,70312,null,70315,70313,70311,70312,70311,null,null,null,{"$f":"_xlfn.TEXTJOIN(\"^\",,AW4:AW13)","v":"70314^70314"}]
[null,null,2,{"$nulls":12},{"$f":"_xlfn.TEXTJOIN(\"^\",,G4:G13)","v":"70315^70313"},null,2,70315,null,null,70311,70311,70313,70312,70315,null,null,null,{"$f":"_xlfn.TEXTJOIN(\"^\",,V4:V13)","v":"70314^70311^70311^70311^70314"},null,2,{"$nulls":11},{"$f":"_xlfn.TEXTJOIN(\"^\",,AJ4:AJ13)","v":"70315^70312^70311"},null,2,70311,null,70314,70315,null,70311,null,70313,null,null,null,{"$f":"_xlfn.TEXTJOIN(\"^\",,AX4:AX13)","v":"70315^70315^70315^70315"}]
[null,null,1,70311,70311,70311,70315,70311,70311,70311,70315,70311,70311,null,null,{"$f":"_xlfn.TEXTJOIN(\"^\",,H4:H13)","v":"70311^70312"},null,1,null,70312,70313,70311,70312,70313,70314,70315,null,null,null,{"$f":"_xlfn.TEXTJOIN(\"^\",,W4:W13)","v":"70312^70311^70311^70312^70311^70311^70312"},null,1,70311,70311,70311,70315,70311,70311,70311,70311,null,null,null,{"$f":"_xlfn.TEXTJOIN(\"^\",,AK4:AK13)","v":"70311^70312^70314"},null,1,null,70312,null,null,70313,null,70312,{"$nulls":4},{"$f":"_xlfn.TEXTJOIN(\"^\",,AY4:AY13)","v":"70313^70313^70313"}]
[null,null,3,70312,70312,70312,70313,70312,70312,70312,70312,70314,70312,null,null,{"$f":"_xlfn.TEXTJOIN(\"^\",,I4:I13)","v":"70311^70312^70313^70314"},null,3,70315,null,null,70311,70311,70313,70312,70315,null,null,null,{"$f":"_xlfn.TEXTJOIN(\"^\",,X4:X13)","v":"70314^70312^70311^70313^70313^70313^70311^70312^70314"},null,3,70313,70312,70312,70312,70312,70313,70312,70312,null,null,null,{"$f":"_xlfn.TEXTJOIN(\"^\",,AL4:AL13)","v":"70311^70313^70314"},null,3,70311,null,70314,70315,null,70311,null,70313,null,null,null,{"$f":"_xlfn.TEXTJOIN(\"^\",,AZ4:AZ13)","v":"70314^70311^70311^70311^70311^70314"}]
[null,null,5,70314,null,70313,null,null,70313,null,null,null,70313,null,null,{"$f":"_xlfn.TEXTJOIN(\"^\",,J4:J13)","v":"70311^70312"},null,5,70315,70312,null,70314,70311,70311,70311,70315,null,null,null,{"$f":"_xlfn.TEXTJOIN(\"^\",,Y4:Y13)","v":"70312^70311^70312^70314^70312^70311^70312"},null,5,null,70314,null,70311,70314,70314,null,70313,null,null,null,{"$f":"_xlfn.TEXTJOIN(\"^\",,AM4:AM13)","v":"70311^70312"},null,5,70311,70312,null,70315,70313,70311,70312,70311,null,null,null,{"$f":"_xlfn.TEXTJOIN(\"^\",,BA4:BA13)","v":"70312^70312^70312^70312^70312"}]
[null,null,7,null,null,70314,null,null,70314,null,null,null,70314,null,null,{"$f":"_xlfn.TEXTJOIN(\"^\",,K4:K13)","v":"70315^70312"},null,7,null,null,70313,null,70312,70312,70312,{"$nulls":4},{"$f":"_xlfn.TEXTJOIN(\"^\",,Z4:Z13)","v":"70315^70315^70315^70315^70315"},null,7,{"$nulls":7},70314,null,null,null,{"$f":"_xlfn.TEXTJOIN(\"^\",,AN4:AN13)","v":"70311^70312^70313^70314"},null,7,{"$nulls":5},70314,70312,70312,null,null,null,{"$f":"_xlfn.TEXTJOIN(\"^\",,BB4:BB13)","v":"70312^70312^70311^70313^70313^70311^70312^70312"}]
[null,null,9,{"$nulls":12},{"$f":"_xlfn.TEXTJOIN(\"^\",,L4:L13)","v":"70311^70314"},null,9,{"$nulls":5},70314,{"$nulls":5},{"$f":"_xlfn.TEXTJOIN(\"^\",,AA4:AA13)","v":""},null,9,{"$nulls":11},{"$f":"_xlfn.TEXTJOIN(\"^\",,AO4:AO13)","v":""},null,9,{"$nulls":7},70312,null,null,null,{"$f":"_xlfn.TEXTJOIN(\"^\",,BC4:BC13)","v":""}]
[{"$nulls":15},{"$f":"_xlfn.TEXTJOIN(\"^\",,M4:M13)","v":"70311^70312^70313^70314"},{"$nulls":13},{"$f":"_xlfn.TEXTJOIN(\"^\",,AB4:AB13)","v":""},{"$nulls":13},{"$f":"_xlfn.TEXTJOIN(\"^\",,AP4:AP13)","v":""},{"$nulls":13},{"$f":"_xlfn.TEXTJOIN(\"^\",,BD4:BD13)","v":""}]
[{"$nulls":15},{"$f":"_xlfn.TEXTJOIN(\"^\",,N4:N13)","v":""},{"$nulls":13},{"$f":"_xlfn.TEXTJOIN(\"^\",,AC4:AC13)","v":""},{"$nulls":13},{"$f":"_xlfn.TEXTJOIN(\"^\",,AQ4:AQ13)","v":""},{"$nulls":13},{"$f":"_xlfn.TEXTJOIN(\"^\",,BE4:BE13)","v":""}]
[{"$nulls":14},"最终",{"$f":"_xlfn.TEXTJOIN(\"^\",,P4:P14)","v":"70311^70312^70314^70311^70312^70311^70312^70313^70314^70315^70313^70311^70312^70311^70312^70313^70314^70311^70312^70315^70312^70311^70314^70311^70312^70313^70314"},{"$nulls":12},"最终",{"$f":"_xlfn.TEXTJOIN(\"^\",,AD4:AD14)","v":"70315^70315^70315^70315^70312^70312^70312^70312^70313^70313^70313^70314^70311^70311^70311^70314^70312^70311^70311^70312^70311^70311^70312^70314^70312^70311^70313^70313^70313^70311^70312^70314^70312^70311^70312^70314^70312^70311^70312^70315^70315^70315^70315^70315"},{"$nulls":12},"最终",{"$f":"_xlfn.TEXTJOIN(\"^\",,AR4:AR14)","v":"70311^70313^70311^70312^70314^70311^70312^70315^70312^70311^70311^70312^70314^70311^70313^70314^70311^70312^70311^70312^70313^70314"},{"$nulls":12},"最终",{"$f":"_xlfn.TEXTJOIN(\"^\",,BF4:BF14)","v":"70311^70311^70311^70311^70312^70312^70312^70314^70314^70315^70315^70315^70315^70313^70313^70313^70314^70311^70311^70311^70311^70314^70312^70312^70312^70312^70312^70312^70312^70311^70313^70313^70311^70312^70312"}]
[null,null,8,{"$nulls":14},8,null,"独角兽",null,null,null,"木精灵",{"$nulls":7},8,{"$nulls":13},8,{"$nulls":7},"独角兽"]
[null,null,6,{"$nulls":14},6,null,null,"雪原熊",null,"独角兽","独角兽","独角兽",{"$nulls":6},6,{"$nulls":13},6,{"$nulls":5},"木精灵","独角兽","独角兽"]
[null,null,4,{"$nulls":14},4,"雪山蜘蛛","独角兽",null,"木精灵","雪怪","雪怪","雪怪","雪山蜘蛛",{"$nulls":5},4,{"$nulls":13},4,"雪怪","独角兽",null,"雪山蜘蛛","雪原熊","雪怪","独角兽","雪怪"]
[null,null,2,{"$nulls":14},2,"雪山蜘蛛",null,null,"雪怪","雪怪","雪原熊","独角兽","雪山蜘蛛",{"$nulls":5},2,{"$nulls":13},2,"雪怪",null,"木精灵","雪山蜘蛛",null,"雪怪",null,"雪原熊"]
[null,null,1,"雪怪","雪怪","雪怪","雪山蜘蛛","雪怪","雪怪","雪怪","雪山蜘蛛","雪怪","雪怪",{"$nulls":4},1,null,"独角兽","雪原熊","雪怪","独角兽","雪原熊","木精灵","雪山蜘蛛",{"$nulls":5},1,"雪怪","雪怪","雪怪","雪山蜘蛛","雪怪","雪怪","雪怪","雪怪",{"$nulls":5},1,null,"独角兽",null,null,"雪原熊",null,"独角兽"]
[null,null,3,"独角兽","独角兽","独角兽","雪原熊","独角兽","独角兽","独角兽","独角兽","木精灵","独角兽",{"$nulls":4},3,"雪山蜘蛛",null,null,"雪怪","雪怪","雪原熊","独角兽","雪山蜘蛛",{"$nulls":5},3,"雪原熊","独角兽","独角兽","独角兽","独角兽","雪原熊","独角兽","独角兽",{"$nulls":5},3,"雪怪",null,"木精灵","雪山蜘蛛",null,"雪怪",null,"雪原熊"]
[null,null,5,"木精灵",null,"雪原熊",null,null,"雪原熊",null,null,null,"雪原熊",{"$nulls":4},5,"雪山蜘蛛","独角兽",null,"木精灵","雪怪","雪怪","雪怪","雪山蜘蛛",{"$nulls":5},5,null,"木精灵",null,"雪怪","木精灵","木精灵",null,"雪原熊",{"$nulls":5},5,"雪怪","独角兽",null,"雪山蜘蛛","雪原熊","雪怪","独角兽","雪怪"]
[null,null,7,null,null,"木精灵",null,null,"木精灵",null,null,null,"木精灵",{"$nulls":4},7,null,null,"雪原熊",null,"独角兽","独角兽","独角兽",{"$nulls":6},7,{"$nulls":7},"木精灵",{"$nulls":5},7,{"$nulls":5},"木精灵","独角兽","独角兽"]
[null,null,9,{"$nulls":14},9,{"$nulls":5},"木精灵",{"$nulls":7},9,{"$nulls":13},9,{"$nulls":7},"独角兽"]
[]
[null,null,"位置",5,15,30,35,50,66,83,90,105,120,{"$nulls":4},"位置",5,10,15,20,27,35,45,50,{"$nulls":5},"位置",4,6,10,15,25,40,57,75,null,null,null,{"$f":"_xlfn.TEXTJOIN(\"^\",,AG27:AG41)","v":"0^0"},null,"位置",2,4,6,8,10,15,22,30,null,null,null,{"$f":"_xlfn.TEXTJOIN(\"^\",,AU27:AU41)","v":"4^2^3^5"}]
[null,null,8,{"$nulls":12},{"$f":"_xlfn.TEXTJOIN(\"^\",,D27:D41)","v":"0^0^0"},null,8,null,{"$f":"$C27","v":8},null,null,null,{"$f":"$C27","v":8},{"$nulls":7},8,{"$nulls":11},{"$f":"_xlfn.TEXTJOIN(\"^\",,AH27:AH41)","v":"0^0^0"},null,8,{"$nulls":7},{"$f":"$C27","v":8},null,null,null,{"$f":"_xlfn.TEXTJOIN(\"^\",,AV27:AV41)","v":"4^1^5"}]
[null,null,6,{"$nulls":12},{"$f":"_xlfn.TEXTJOIN(\"^\",,E27:E41)","v":"0^0"},null,6,null,null,{"$f":"$C28","v":6},null,{"$f":"$C28","v":6},6,6,{"$nulls":4},{"$f":"_xlfn.TEXTJOIN(\"^\",,S27:S41)","v":"101^102^104^105"},null,6,{"$nulls":11},{"$f":"_xlfn.TEXTJOIN(\"^\",,AI27:AI41)","v":"0^0"},null,6,{"$nulls":5},{"$f":"$C28","v":6},6,6,null,null,null,{"$f":"_xlfn.TEXTJOIN(\"^\",,AW27:AW41)","v":"2^3"}]
[null,null,4,{"$nulls":12},{"$f":"_xlfn.TEXTJOIN(\"^\",,F27:F41)","v":"0^0^0^0"},null,4,null,{"$f":"$C29","v":4},null,{"$f":"$C29","v":4},4,4,4,{"$nulls":4},{"$f":"_xlfn.TEXTJOIN(\"^\",,T27:T41)","v":"8^4^1^5"},null,4,{"$nulls":11},{"$f":"_xlfn.TEXTJOIN(\"^\",,AJ27:AJ41)","v":"100^0^0"},null,4,{"$f":"$C29","v":4},{"$f":"$C29","v":4},null,null,{"$f":"$C29","v":4},4,4,4,null,null,null,{"$f":"_xlfn.TEXTJOIN(\"^\",,AX27:AX41)","v":"101^102^104^105"}]
[null,null,2,{"$nulls":12},{"$f":"_xlfn.TEXTJOIN(\"^\",,G27:G41)","v":"100^0"},null,2,null,null,null,2,2,2,2,{"$nulls":4},{"$f":"_xlfn.TEXTJOIN(\"^\",,U27:U41)","v":"6^1^7"},null,2,{"$nulls":11},{"$f":"_xlfn.TEXTJOIN(\"^\",,AK27:AK41)","v":"0^0^0"},null,2,2,null,{"$f":"$C30","v":2},null,null,2,null,2,null,null,null,{"$f":"_xlfn.TEXTJOIN(\"^\",,AY27:AY41)","v":"4^1^5"}]
[null,null,1,0,0,0,100,0,0,0,100,0,0,null,null,{"$f":"_xlfn.TEXTJOIN(\"^\",,H27:H41)","v":"0^0"},null,1,null,{"$f":"$C31","v":1},{"$f":"$C31","v":1},1,1,1,1,{"$nulls":4},{"$f":"_xlfn.TEXTJOIN(\"^\",,V27:V41)","v":"4^2^1^3^5"},null,1,0,0,0,100,0,0,0,0,null,null,null,{"$f":"_xlfn.TEXTJOIN(\"^\",,AL27:AL41)","v":"0^0^0"},null,1,null,{"$f":"$C31","v":1},null,null,{"$f":"$C31","v":1},null,{"$f":"$C31","v":1},{"$nulls":4},{"$f":"_xlfn.TEXTJOIN(\"^\",,AZ27:AZ41)","v":"6^4^2^3^5^7"}]
[null,null,3,0,0,0,0,0,0,0,0,0,0,null,null,{"$f":"_xlfn.TEXTJOIN(\"^\",,I27:I41)","v":"0^0^0^0"},null,3,null,null,null,3,3,3,3,{"$nulls":4},{"$f":"_xlfn.TEXTJOIN(\"^\",,W27:W41)","v":"6^4^2^1^3^5^7"},null,3,0,0,0,0,0,0,0,0,null,null,null,{"$f":"_xlfn.TEXTJOIN(\"^\",,AM27:AM41)","v":"0^0"},null,3,{"$f":"$C32","v":3},null,{"$f":"$C32","v":3},null,null,{"$f":"$C32","v":3},null,{"$f":"$C32","v":3},null,null,null,{"$f":"_xlfn.TEXTJOIN(\"^\",,BA27:BA41)","v":"6^4^1^5^7"}]
[null,null,5,0,null,0,null,null,0,null,null,null,0,null,null,{"$f":"_xlfn.TEXTJOIN(\"^\",,J27:J41)","v":"0^0"},null,5,null,{"$f":"$C33","v":5},null,5,5,5,5,{"$nulls":4},{"$f":"_xlfn.TEXTJOIN(\"^\",,X27:X41)","v":"8^6^4^2^1^3^5^7^9"},null,5,null,0,null,0,0,0,null,0,null,null,null,{"$f":"_xlfn.TEXTJOIN(\"^\",,AN27:AN41)","v":"0^0^0^0"},null,5,5,{"$f":"$C33","v":5},null,null,{"$f":"$C33","v":5},5,5,5,null,null,null,{"$f":"_xlfn.TEXTJOIN(\"^\",,BB27:BB41)","v":"8^6^4^2^3^5^7^9"}]
[null,null,7,null,null,0,null,null,0,null,null,null,0,null,null,{"$f":"_xlfn.TEXTJOIN(\"^\",,K27:K41)","v":"100^0"},null,7,null,null,{"$f":"$C34","v":7},null,7,7,7,{"$nulls":4},{"$f":"_xlfn.TEXTJOIN(\"^\",,Y27:Y41)","v":"6^4^2^1^3^5^7"},null,7,{"$nulls":7},0,null,null,null,{"$f":"_xlfn.TEXTJOIN(\"^\",,AO27:AO41)","v":""},null,7,{"$nulls":5},7,7,7,null,null,null,{"$f":"_xlfn.TEXTJOIN(\"^\",,BC27:BC41)","v":""}]
[null,null,9,{"$nulls":12},{"$f":"_xlfn.TEXTJOIN(\"^\",,L27:L41)","v":"0^0"},null,9,{"$nulls":5},9,{"$nulls":7},9,{"$nulls":11},{"$f":"_xlfn.TEXTJOIN(\"^\",,AP27:AP41)","v":""},null,9,{"$nulls":7},9,null,null,null,{"$f":"_xlfn.TEXTJOIN(\"^\",,BD27:BD41)","v":""}]
[null,null,"空降",{"$nulls":12},{"$f":"_xlfn.TEXTJOIN(\"^\",,M27:M41)","v":"0^0^0^0"},null,"空降",{"$nulls":13},"空降",{"$nulls":11},{"$f":"_xlfn.TEXTJOIN(\"^\",,AQ27:AQ35)","v":""},null,"空降",{"$nulls":11},{"$f":"_xlfn.TEXTJOIN(\"^\",,BE27:BE35)","v":""}]
[null,null,101,{"$nulls":12},{"$f":"_xlfn.TEXTJOIN(\"^\",,N27:N41)","v":""},null,101,{"$f":"$C37","v":101},{"$nulls":6},{"$f":"$C37","v":101},null,null,null,{"$f":"_xlfn.TEXTJOIN(\"^\",,Z27:Z41)","v":"101^102^103^104^105"},null,101,{"$nulls":13},101,null,null,null,{"$f":"$C37","v":101}]
[null,null,102,{"$nulls":14},102,102,{"$nulls":6},102,null,null,null,{"$f":"_xlfn.TEXTJOIN(\"^\",,AA27:AA41)","v":""},null,102,{"$nulls":13},102,null,null,null,102]
[null,null,103,{"$nulls":14},103,{"$nulls":7},103,null,null,null,{"$f":"_xlfn.TEXTJOIN(\"^\",,AB27:AB41)","v":""},null,103,{"$nulls":13},103]
[null,null,104,{"$nulls":14},104,{"$f":"$C40","v":104},{"$nulls":6},104,{"$nulls":5},104,{"$nulls":13},104,null,null,null,{"$f":"$C40","v":104}]
[null,null,105,{"$nulls":14},105,105,{"$nulls":6},105,{"$nulls":5},105,{"$nulls":13},105,null,null,null,105]
[{"$nulls":14},"最终",{"$f":"_xlfn.TEXTJOIN(\"^\",,P27:P41)","v":"0^0^0^0^0^0^0^0^0^100^0^0^0^0^0^0^0^0^0^100^0^0^0^0^0^0^0"},{"$nulls":12},"最终",{"$f":"_xlfn.TEXTJOIN(\"^\",,AD27:AD41)","v":"101^102^104^105^8^4^1^5^6^1^7^4^2^1^3^5^6^4^2^1^3^5^7^8^6^4^2^1^3^5^7^9^6^4^2^1^3^5^7^101^102^103^104^105"},{"$nulls":12},"最终",{"$f":"_xlfn.TEXTJOIN(\"^\",,AR26:AR41)","v":"0^0^0^0^0^0^0^100^0^0^0^0^0^0^0^0^0^0^0^0^0^0"},{"$nulls":12},"最终",{"$f":"_xlfn.TEXTJOIN(\"^\",,BF26:BF41)","v":"4^2^3^5^4^1^5^2^3^101^102^104^105^4^1^5^6^4^2^3^5^7^6^4^1^5^7^8^6^4^2^3^5^7^9"}]
[]
[null,null,"时间",5,15,30,35,50,66,83,90,105,120,{"$nulls":4},"时间",5,10,15,20,27,35,45,50,null,null,null,{"$f":"_xlfn.TEXTJOIN(\"^\",,S45:S53)","v":"5^5^5^5"},null,"时间",4,6,10,15,25,40,57,75,null,null,null,{"$f":"_xlfn.TEXTJOIN(\"^\",,AG45:AG53)","v":"18^6"},null,"时间",2,4,6,8,10,15,22,30,null,null,null,{"$f":"_xlfn.TEXTJOIN(\"^\",,AU45:AU53)","v":"2^2^2^2"}]
[null,null,8,{"$nulls":12},{"$f":"_xlfn.TEXTJOIN(\"^\",,D45:D54)","v":"8^3^2"},null,8,null,{"$f":"T$44","v":10},null,null,null,{"$f":"X$44","v":35},{"$nulls":5},{"$f":"_xlfn.TEXTJOIN(\"^\",,T45:T53)","v":"10^10^10^10"},null,8,{"$nulls":11},{"$f":"_xlfn.TEXTJOIN(\"^\",,AH45:AH53)","v":"10^3^2"},null,8,{"$nulls":7},{"$f":"BB$44","v":30},null,null,null,{"$f":"_xlfn.TEXTJOIN(\"^\",,AV45:AV53)","v":"4^4^4"}]
[null,null,6,{"$nulls":12},{"$f":"_xlfn.TEXTJOIN(\"^\",,E45:E54)","v":"11^4"},null,6,null,null,{"$f":"U$44","v":15},null,{"$f":"W$44","v":27},35,45,{"$nulls":4},{"$f":"_xlfn.TEXTJOIN(\"^\",,U45:U53)","v":"15^15^15"},null,6,{"$nulls":11},{"$f":"_xlfn.TEXTJOIN(\"^\",,AI45:AI53)","v":"12^4"},null,6,{"$nulls":5},{"$f":"AZ$44","v":15},22,30,null,null,null,{"$f":"_xlfn.TEXTJOIN(\"^\",,AW45:AW53)","v":"6^6"}]
[null,null,4,{"$nulls":12},{"$f":"_xlfn.TEXTJOIN(\"^\",,F45:F54)","v":"9^3^2^2"},null,4,{"$f":"S$44","v":5},{"$f":"T$44","v":10},null,{"$f":"V$44","v":20},27,35,45,50,null,null,null,{"$f":"_xlfn.TEXTJOIN(\"^\",,V45:V53)","v":"20^20^20^20^20"},null,4,{"$nulls":11},{"$f":"_xlfn.TEXTJOIN(\"^\",,AJ45:AJ53)","v":"7^2^8"},null,4,{"$f":"AU$44","v":2},{"$f":"AV$44","v":4},null,{"$f":"AX$44","v":8},{"$f":"AY$44","v":10},15,22,30,null,null,null,{"$f":"_xlfn.TEXTJOIN(\"^\",,AX45:AX53)","v":"8^8^8^8"}]
[null,null,2,{"$nulls":12},{"$f":"_xlfn.TEXTJOIN(\"^\",,G45:G54)","v":"9^3"},null,2,5,null,null,20,27,35,45,50,null,null,null,{"$f":"_xlfn.TEXTJOIN(\"^\",,W45:W53)","v":"27^27^27^27^27^27^27"},null,2,{"$nulls":11},{"$f":"_xlfn.TEXTJOIN(\"^\",,AK45:AK53)","v":"13^3^2"},null,2,2,null,{"$f":"AW$44","v":6},8,null,15,null,30,null,null,null,{"$f":"_xlfn.TEXTJOIN(\"^\",,AY45:AY53)","v":"10^10^10"}]
[null,null,1,8,11,9,9,13,11,15,9,16,14,null,null,{"$f":"_xlfn.TEXTJOIN(\"^\",,H45:H54)","v":"13^4"},null,1,null,{"$f":"T$44","v":10},{"$f":"U$44","v":15},20,27,35,45,50,null,null,null,{"$f":"_xlfn.TEXTJOIN(\"^\",,X45:X53)","v":"35^35^35^35^35^35^35^35^35"},null,1,18,10,12,7,13,14,15,13,null,null,null,{"$f":"_xlfn.TEXTJOIN(\"^\",,AL45:AL53)","v":"14^3^2"},null,1,null,{"$f":"AV$44","v":4},null,null,{"$f":"AY$44","v":10},null,{"$f":"BA$44","v":22},{"$nulls":4},{"$f":"_xlfn.TEXTJOIN(\"^\",,AZ45:AZ53)","v":"15^15^15^15^15^15"}]
[null,null,3,3,4,3,3,4,3,4,4,3,3,null,null,{"$f":"_xlfn.TEXTJOIN(\"^\",,I45:I54)","v":"11^3^2^2"},null,3,{"$f":"S$44","v":5},null,null,20,27,35,45,50,null,null,null,{"$f":"_xlfn.TEXTJOIN(\"^\",,Y45:Y53)","v":"45^45^45^45^45^45^45"},null,3,6,3,4,2,3,3,4,3,null,null,null,{"$f":"_xlfn.TEXTJOIN(\"^\",,AM45:AM53)","v":"15^4"},null,3,{"$f":"AU$44","v":2},null,{"$f":"AW$44","v":6},{"$f":"AX$44","v":8},null,{"$f":"AZ$44","v":15},null,{"$f":"BB$44","v":30},null,null,null,{"$f":"_xlfn.TEXTJOIN(\"^\",,BA45:BA53)","v":"22^22^22^22^22"}]
[null,null,5,2,null,2,null,null,2,null,null,null,2,null,null,{"$f":"_xlfn.TEXTJOIN(\"^\",,J45:J54)","v":"15^4"},null,5,5,{"$f":"T$44","v":10},null,20,27,35,45,50,null,null,null,{"$f":"_xlfn.TEXTJOIN(\"^\",,Z45:Z53)","v":"50^50^50^50^50"},null,5,null,2,null,8,2,2,null,3,null,null,null,{"$f":"_xlfn.TEXTJOIN(\"^\",,AN45:AN53)","v":"13^3^3^2"},null,5,2,{"$f":"AV$44","v":4},null,8,{"$f":"AY$44","v":10},15,22,30,null,null,null,{"$f":"_xlfn.TEXTJOIN(\"^\",,BB45:BB53)","v":"30^30^30^30^30^30^30^30"}]
[null,null,7,null,null,2,null,null,2,null,null,null,2,null,null,{"$f":"_xlfn.TEXTJOIN(\"^\",,K45:K54)","v":"9^4"},null,7,null,null,{"$f":"U$44","v":15},null,27,35,45,{"$nulls":4},{"$f":"_xlfn.TEXTJOIN(\"^\",,AA45:AA53)","v":""},null,7,{"$nulls":7},2,null,null,null,{"$f":"_xlfn.TEXTJOIN(\"^\",,AO45:AO53)","v":""},null,7,{"$nulls":5},15,22,30,null,null,null,{"$f":"_xlfn.TEXTJOIN(\"^\",,BC45:BC53)","v":""}]
[null,null,9,{"$nulls":12},{"$f":"_xlfn.TEXTJOIN(\"^\",,L45:L54)","v":"16^3"},null,9,{"$nulls":5},35,{"$nulls":5},{"$f":"_xlfn.TEXTJOIN(\"^\",,AB45:AB53)","v":""},null,9,{"$nulls":11},{"$f":"_xlfn.TEXTJOIN(\"^\",,AP45:AP53)","v":""},null,9,{"$nulls":7},30,null,null,null,{"$f":"_xlfn.TEXTJOIN(\"^\",,BD45:BD53)","v":""}]
[{"$nulls":15},{"$f":"_xlfn.TEXTJOIN(\"^\",,M45:M54)","v":"14^3^2^2"},{"$nulls":13},{"$f":"_xlfn.TEXTJOIN(\"^\",,AC45:AC53)","v":""},{"$nulls":13},{"$f":"_xlfn.TEXTJOIN(\"^\",,AQ45:AQ53)","v":""},{"$nulls":13},{"$f":"_xlfn.TEXTJOIN(\"^\",,BE45:BE53)","v":""}]
[{"$nulls":15},{"$f":"_xlfn.TEXTJOIN(\"^\",,N45:N54)","v":""},{"$nulls":12},"最终",{"$f":"_xlfn.TEXTJOIN(\"^\",,AD44:AD54)","v":"5^5^5^5^10^10^10^10^15^15^15^20^20^20^20^20^27^27^27^27^27^27^27^35^35^35^35^35^35^35^35^35^45^45^45^45^45^45^45^50^50^50^50^50"},{"$nulls":12},"最终",{"$f":"_xlfn.TEXTJOIN(\"^\",,AR44:AR54)","v":"18^6^10^3^2^12^4^7^2^8^13^3^2^14^3^2^15^4^13^3^3^2"},{"$nulls":12},"最终",{"$f":"_xlfn.TEXTJOIN(\"^\",,BF44:BF54)","v":"2^2^2^2^4^4^4^6^6^8^8^8^8^10^10^10^15^15^15^15^15^15^22^22^22^22^22^30^30^30^30^30^30^30^30"}]
[{"$nulls":14},"最终",{"$f":"_xlfn.TEXTJOIN(\"^\",,P45:P55)","v":"8^3^2^11^4^9^3^2^2^9^3^13^4^11^3^2^2^15^4^9^4^16^3^14^3^2^2"}]
[{"$nulls":14},{"$f":"SUM(D45:N54)","v":163},{"$nulls":13},{"$f":"COUNT(S45:AB54)","v":44},{"$nulls":13},{"$f":"SUM(AG45:AP54)","v":149},{"$nulls":13},{"$f":"COUNT(AU45:BD54)","v":35},{"$f":"AQ57+BE57+AC57+O57","v":391}]
[{"$nulls":4},{"$f":"E59-D59","v":5},{"$f":"F59-E59","v":7},8,5,10,10,10,5,10,{"$nulls":6},{"$f":"T59-S59","v":5},5,10,15,16,17,7,{"$nulls":7},{"$f":"AH59-AG59","v":6},7,8,10,10,5,10,{"$nulls":7},{"$f":"AV59-AU59","v":2},3,4,6,7,10,10]
[1,"雪谷-2","波1·怪物",5,10,17,25,30,40,50,60,65,75,null,null,null,3,"波2·怪物",5,10,15,25,40,56,73,80,{"$nulls":4},1,"波3·怪物",4,10,17,25,35,45,50,60,{"$nulls":4},1,"波4·怪物",3,5,8,12,18,25,35,45]
[null,"5m",8,null,null,null,70322,null,70324,70321,70324,{"$nulls":4},{"$f":"_xlfn.TEXTJOIN(\"^\",,D60:D69)","v":"70324^70322^70322^70322^70324"},null,8,{"$nulls":11},{"$f":"_xlfn.TEXTJOIN(\"^\",,S60:S69)","v":"70321^70324^70323"},null,8,null,null,70322,70322,70324,null,null,70324,null,null,null,{"$f":"_xlfn.TEXTJOIN(\"^\",,AG60:AG69)","v":"70325^70325^70325^70325^70325"},null,8,{"$nulls":5},70324,null,70322,null,null,null,{"$f":"_xlfn.TEXTJOIN(\"^\",,AU60:AU69)","v":"70323^70323^70323"}]
[null,null,6,70324,70321,70324,null,null,70321,70321,70322,null,70322,null,null,{"$f":"_xlfn.TEXTJOIN(\"^\",,E60:E69)","v":"70321^70321^70321^70321^70321"},null,6,{"$nulls":11},{"$f":"_xlfn.TEXTJOIN(\"^\",,T60:T69)","v":"70321^70322"},null,6,null,70324,null,null,70321,70322,null,70322,null,null,null,{"$f":"_xlfn.TEXTJOIN(\"^\",,AH60:AH69)","v":"70324^70321^70322^70322^70322^70321^70324"},null,6,null,70322,null,null,null,70322,70322,70324,null,null,null,{"$f":"_xlfn.TEXTJOIN(\"^\",,AV60:AV69)","v":"70322^70322^70322"}]
[null,null,4,null,null,70322,70321,70325,null,70322,70321,70325,70321,null,null,{"$f":"_xlfn.TEXTJOIN(\"^\",,F60:F69)","v":"70324^70322^70323^70322^70323^70322^70324"},null,4,{"$nulls":11},{"$f":"_xlfn.TEXTJOIN(\"^\",,U60:U69)","v":"70325^70322^70324"},null,4,70325,70321,70321,70321,70322,70321,70325,70322,null,null,null,{"$f":"_xlfn.TEXTJOIN(\"^\",,AI60:AI69)","v":"70322^70321^70321^70321^70321^70321^70322"},null,4,70323,null,null,70321,70325,null,70321,70322,null,null,null,{"$f":"_xlfn.TEXTJOIN(\"^\",,AW60:AW69)","v":"70324^70324"}]
[null,null,2,70322,70321,70323,70321,70325,70322,70323,70321,70325,70323,null,null,{"$f":"_xlfn.TEXTJOIN(\"^\",,G60:G69)","v":"70322^70321^70321^70322^70321^70321^70322"},null,2,{"$nulls":11},{"$f":"_xlfn.TEXTJOIN(\"^\",,V60:V69)","v":"70321^70323"},null,2,70325,70322,70321,70323,70321,70323,70325,70321,null,null,null,{"$f":"_xlfn.TEXTJOIN(\"^\",,AJ60:AJ69)","v":"70322^70321^70323^70323^70323^70321^70322"},null,2,null,null,70324,70321,70325,70323,70321,70323,null,null,null,{"$f":"_xlfn.TEXTJOIN(\"^\",,AX60:AX69)","v":"70321^70321^70321^70321"}]
[null,null,1,70322,70321,70322,70322,70325,70322,70323,70322,70325,70324,null,null,{"$f":"_xlfn.TEXTJOIN(\"^\",,H60:H69)","v":"70325^70325^70325^70325^70325"},null,1,70321,70321,70325,70321,70321,70321,70321,70325,null,null,null,{"$f":"_xlfn.TEXTJOIN(\"^\",,W60:W69)","v":"70321^70322^70324"},null,1,70325,70322,70321,70323,70322,70323,70325,70323,null,null,null,{"$f":"_xlfn.TEXTJOIN(\"^\",,AK60:AK69)","v":"70324^70321^70322^70321^70322^70321^70322^70321^70324"},null,1,70323,70322,{"$nulls":4},70324,{"$nulls":4},{"$f":"_xlfn.TEXTJOIN(\"^\",,AY60:AY69)","v":"70325^70325^70325^70325"}]
[null,null,3,70322,70321,70323,70321,70325,70322,70323,70321,70325,70323,null,null,{"$f":"_xlfn.TEXTJOIN(\"^\",,I60:I69)","v":"70324^70321^70322^70322^70322^70321^70324"},null,3,70324,70322,70322,70323,70322,70322,70322,70322,null,null,null,{"$f":"_xlfn.TEXTJOIN(\"^\",,X60:X69)","v":"70321^70322^70323"},null,3,70325,70322,70321,70323,70321,70323,70325,70321,null,null,null,{"$f":"_xlfn.TEXTJOIN(\"^\",,AL60:AL69)","v":"70322^70321^70323^70323^70323^70321^70322"},null,3,null,null,70324,70321,70325,70323,70321,70323,null,null,null,{"$f":"_xlfn.TEXTJOIN(\"^\",,AZ60:AZ69)","v":"70324^70322^70323^70323^70322^70324"}]
[null,null,5,null,null,70322,70321,70325,null,70322,70321,70325,70321,null,null,{"$f":"_xlfn.TEXTJOIN(\"^\",,J60:J69)","v":"70321^70321^70322^70323^70323^70323^70322^70321^70321"},null,5,70323,null,70324,null,70324,70323,70324,70323,null,null,null,{"$f":"_xlfn.TEXTJOIN(\"^\",,Y60:Y69)","v":"70321^70322^70324"},null,5,70325,70321,70321,70321,70322,70321,70325,70322,null,null,null,{"$f":"_xlfn.TEXTJOIN(\"^\",,AM60:AM69)","v":"70325^70325^70325^70325^70325"},null,5,70323,null,null,70321,70325,null,70321,70322,null,null,null,{"$f":"_xlfn.TEXTJOIN(\"^\",,BA60:BA69)","v":"70322^70321^70321^70324^70321^70321^70322"}]
[null,null,7,70324,70321,70324,null,null,70321,70321,70322,null,70322,null,null,{"$f":"_xlfn.TEXTJOIN(\"^\",,K60:K69)","v":"70324^70322^70321^70321^70322^70321^70321^70322^70324"},null,7,{"$nulls":11},{"$f":"_xlfn.TEXTJOIN(\"^\",,Z60:Z69)","v":"70325^70322^70323"},null,7,null,70324,null,null,70321,70322,null,70322,null,null,null,{"$f":"_xlfn.TEXTJOIN(\"^\",,AN60:AN69)","v":"70324^70322^70322^70321^70323^70321^70322^70322^70324"},null,7,null,70322,null,null,null,70322,70322,70324,null,null,null,{"$f":"_xlfn.TEXTJOIN(\"^\",,BB60:BB69)","v":"70322^70324^70322^70323^70323^70322^70324^70322"}]
[null,null,9,null,null,null,70322,null,70324,70321,70324,{"$nulls":4},{"$f":"_xlfn.TEXTJOIN(\"^\",,L60:L69)","v":"70325^70325^70325^70325^70325"},null,9,{"$nulls":11},{"$f":"_xlfn.TEXTJOIN(\"^\",,AA60:AA69)","v":""},null,9,null,null,70322,70322,70324,null,null,70324,null,null,null,{"$f":"_xlfn.TEXTJOIN(\"^\",,AO60:AO69)","v":""},null,9,{"$nulls":5},70324,null,70322,null,null,null,{"$f":"_xlfn.TEXTJOIN(\"^\",,BC60:BC69)","v":""}]
[{"$nulls":15},{"$f":"_xlfn.TEXTJOIN(\"^\",,M60:M69)","v":"70322^70321^70323^70324^70323^70321^70322"},{"$nulls":13},{"$f":"_xlfn.TEXTJOIN(\"^\",,AB60:AB69)","v":""},{"$nulls":13},{"$f":"_xlfn.TEXTJOIN(\"^\",,AP60:AP69)","v":""},{"$nulls":13},{"$f":"_xlfn.TEXTJOIN(\"^\",,BD60:BD69)","v":""}]
[{"$nulls":15},{"$f":"_xlfn.TEXTJOIN(\"^\",,N60:N69)","v":""},{"$nulls":13},{"$f":"_xlfn.TEXTJOIN(\"^\",,AC60:AC69)","v":""},{"$nulls":13},{"$f":"_xlfn.TEXTJOIN(\"^\",,AQ60:AQ69)","v":""},{"$nulls":13},{"$f":"_xlfn.TEXTJOIN(\"^\",,BE60:BE69)","v":""}]
[{"$nulls":14},"最终",{"$f":"_xlfn.TEXTJOIN(\"^\",,P60:P70)","v":"70324^70322^70322^70322^70324^70321^70321^70321^70321^70321^70324^70322^70323^70322^70323^70322^70324^70322^70321^70321^70322^70321^70321^70322^70325^70325^70325^70325^70325^70324^70321^70322^70322^70322^70321^70324^70321^70321^70322^70323^70323^70323^70322^70321^70321^70324^70322^70321^70321^70322^70321^70321^70322^70324^70325^70325^70325^70325^70325^70322^70321^70323^70324^70323^70321^70322"},{"$nulls":12},"最终",{"$f":"_xlfn.TEXTJOIN(\"^\",,AD60:AD70)","v":"70321^70324^70323^70321^70322^70325^70322^70324^70321^70323^70321^70322^70324^70321^70322^70323^70321^70322^70324^70325^70322^70323"},{"$nulls":12},"最终",{"$f":"_xlfn.TEXTJOIN(\"^\",,AR60:AR70)","v":"70325^70325^70325^70325^70325^70324^70321^70322^70322^70322^70321^70324^70322^70321^70321^70321^70321^70321^70322^70322^70321^70323^70323^70323^70321^70322^70324^70321^70322^70321^70322^70321^70322^70321^70324^70322^70321^70323^70323^70323^70321^70322^70325^70325^70325^70325^70325^70324^70322^70322^70321^70323^70321^70322^70322^70324"},{"$nulls":12},"最终",{"$f":"_xlfn.TEXTJOIN(\"^\",,BF60:BF70)","v":"70323^70323^70323^70322^70322^70322^70324^70324^70321^70321^70321^70321^70325^70325^70325^70325^70324^70322^70323^70323^70322^70324^70322^70321^70321^70324^70321^70321^70322^70322^70324^70322^70323^70323^70322^70324^70322"}]
[null,null,8,null,null,null,"巨魔矛手",null,"木精灵","雪怪","木精灵",{"$nulls":6},8,{"$nulls":13},8,null,null,"巨魔矛手","巨魔矛手","木精灵",null,null,"木精灵",{"$nulls":5},8,{"$nulls":5},"木精灵",null,"巨魔矛手"]
[null,null,6,"木精灵","雪怪","木精灵",null,null,"雪怪","雪怪","巨魔矛手",null,"巨魔矛手",{"$nulls":4},6,{"$nulls":13},6,null,"木精灵",null,null,"雪怪","巨魔矛手",null,"巨魔矛手",{"$nulls":5},6,null,"巨魔矛手",null,null,null,"巨魔矛手","巨魔矛手","木精灵"]
[null,null,4,null,null,"巨魔矛手","雪怪","雪山蜘蛛",null,"巨魔矛手","雪怪","雪山蜘蛛","雪怪",{"$nulls":4},4,{"$nulls":13},4,"雪山蜘蛛","雪怪","雪怪","雪怪","巨魔矛手","雪怪","雪山蜘蛛","巨魔矛手",{"$nulls":5},4,"雪原熊",null,null,"雪怪","雪山蜘蛛",null,"雪怪","巨魔矛手"]
[null,null,2,"巨魔矛手","雪怪","雪原熊","雪怪","雪山蜘蛛","巨魔矛手","雪原熊","雪怪","雪山蜘蛛","雪原熊",{"$nulls":4},2,{"$nulls":13},2,"雪山蜘蛛","巨魔矛手","雪怪","雪原熊","雪怪","雪原熊","雪山蜘蛛","雪怪",{"$nulls":5},2,null,null,"木精灵","雪怪","雪山蜘蛛","雪原熊","雪怪","雪原熊"]
[null,null,1,"巨魔矛手","雪怪","巨魔矛手","巨魔矛手","雪山蜘蛛","巨魔矛手","雪原熊","巨魔矛手","雪山蜘蛛","木精灵",{"$nulls":4},1,"雪怪","雪怪","雪山蜘蛛","雪怪","雪怪","雪怪","雪怪","雪山蜘蛛",{"$nulls":5},1,"雪山蜘蛛","巨魔矛手","雪怪","雪原熊","巨魔矛手","雪原熊","雪山蜘蛛","雪原熊",{"$nulls":5},1,"雪原熊","巨魔矛手",{"$nulls":4},"木精灵"]
[null,null,3,"巨魔矛手","雪怪","雪原熊","雪怪","雪山蜘蛛","巨魔矛手","雪原熊","雪怪","雪山蜘蛛","雪原熊",{"$nulls":4},3,"木精灵","巨魔矛手","巨魔矛手","雪原熊","巨魔矛手","巨魔矛手","巨魔矛手","巨魔矛手",{"$nulls":5},3,"雪山蜘蛛","巨魔矛手","雪怪","雪原熊","雪怪","雪原熊","雪山蜘蛛","雪怪",{"$nulls":5},3,null,null,"木精灵","雪怪","雪山蜘蛛","雪原熊","雪怪","雪原熊"]
[null,null,5,null,null,"巨魔矛手","雪怪","雪山蜘蛛",null,"巨魔矛手","雪怪","雪山蜘蛛","雪怪",{"$nulls":4},5,"雪原熊",null,"木精灵",null,"木精灵","雪原熊","木精灵","雪原熊",{"$nulls":5},5,"雪山蜘蛛","雪怪","雪怪","雪怪","巨魔矛手","雪怪","雪山蜘蛛","巨魔矛手",{"$nulls":5},5,"雪原熊",null,null,"雪怪","雪山蜘蛛",null,"雪怪","巨魔矛手"]
[null,null,7,"木精灵","雪怪","木精灵",null,null,"雪怪","雪怪","巨魔矛手",null,"巨魔矛手",{"$nulls":4},7,{"$nulls":13},7,null,"木精灵",null,null,"雪怪","巨魔矛手",null,"巨魔矛手",{"$nulls":5},7,null,"巨魔矛手",null,null,null,"巨魔矛手","巨魔矛手","木精灵"]
[null,null,9,null,null,null,"巨魔矛手",null,"木精灵","雪怪","木精灵",{"$nulls":6},9,{"$nulls":13},9,null,null,"巨魔矛手","巨魔矛手","木精灵",null,null,"木精灵",{"$nulls":5},9,{"$nulls":5},"木精灵",null,"巨魔矛手"]
[]
[null,null,"位置",5,10,17,25,30,40,50,60,65,75,{"$nulls":4},"位置",5,10,15,25,40,56,73,80,{"$nulls":5},"位置",4,10,17,25,35,45,50,60,null,null,null,{"$f":"_xlfn.TEXTJOIN(\"^\",,AG83:AG97)","v":"101^102^103^104^105"},null,"位置",3,5,8,12,18,25,35,45,null,null,null,{"$f":"_xlfn.TEXTJOIN(\"^\",,AU83:AU97)","v":"4^1^5"}]
[null,null,8,null,null,null,{"$f":"$C83","v":8},null,{"$f":"$C83","v":8},8,8,{"$nulls":4},{"$f":"_xlfn.TEXTJOIN(\"^\",,D83:D97)","v":"6^2^1^3^7"},null,8,{"$nulls":13},8,null,null,{"$f":"$C83","v":8},{"$f":"$C83","v":8},{"$f":"$C83","v":8},null,null,{"$f":"$C83","v":8},null,null,null,{"$f":"_xlfn.TEXTJOIN(\"^\",,AH83:AH97)","v":"6^4^2^1^3^5^7"},null,8,{"$nulls":5},{"$f":"$C83","v":8},null,{"$f":"$C83","v":8},null,null,null,{"$f":"_xlfn.TEXTJOIN(\"^\",,AV83:AV97)","v":"6^1^7"}]
[null,null,6,{"$f":"$C84","v":6},{"$f":"$C84","v":6},{"$f":"$C84","v":6},null,null,6,6,6,null,{"$f":"$C84","v":6},null,null,{"$f":"_xlfn.TEXTJOIN(\"^\",,E83:E97)","v":"6^2^1^3^7"},null,6,{"$nulls":11},{"$f":"_xlfn.TEXTJOIN(\"^\",,S83:S97)","v":"0^0^0"},null,6,null,{"$f":"$C84","v":6},null,null,6,6,null,6,null,null,null,{"$f":"_xlfn.TEXTJOIN(\"^\",,AI83:AI97)","v":"8^4^2^1^3^5^9"},null,6,null,{"$f":"$C84","v":6},null,null,null,6,6,6,null,null,null,{"$f":"_xlfn.TEXTJOIN(\"^\",,AW83:AW97)","v":"2^3"}]
[null,null,4,null,null,4,4,null,null,4,4,null,4,null,null,{"$f":"_xlfn.TEXTJOIN(\"^\",,F83:F97)","v":"6^4^2^1^3^5^7"},null,4,{"$nulls":11},{"$f":"_xlfn.TEXTJOIN(\"^\",,T83:T97)","v":"0^0"},null,4,null,{"$f":"$C85","v":4},4,4,{"$f":"$C85","v":4},4,null,4,null,null,null,{"$f":"_xlfn.TEXTJOIN(\"^\",,AJ83:AJ97)","v":"8^4^2^1^3^5^9"},null,4,{"$f":"$C85","v":4},null,null,{"$f":"$C85","v":4},null,null,4,4,null,null,null,{"$f":"_xlfn.TEXTJOIN(\"^\",,AX83:AX97)","v":"4^2^3^5"}]
[null,null,2,{"$f":"$C86","v":2},{"$f":"$C86","v":2},{"$f":"$C86","v":2},2,null,{"$f":"$C86","v":2},2,2,null,2,null,null,{"$f":"_xlfn.TEXTJOIN(\"^\",,G83:G97)","v":"8^4^2^1^3^5^9"},null,2,{"$nulls":11},{"$f":"_xlfn.TEXTJOIN(\"^\",,U83:U97)","v":"100^0^0"},null,2,null,2,2,2,2,2,null,2,null,null,null,{"$f":"_xlfn.TEXTJOIN(\"^\",,AK83:AK97)","v":"8^6^4^2^1^3^5^7^9"},null,2,null,null,{"$f":"$C86","v":2},2,null,{"$f":"$C86","v":2},2,2,null,null,null,{"$f":"_xlfn.TEXTJOIN(\"^\",,AY83:AY97)","v":"101^102^104^105"}]
[null,null,1,{"$f":"$C87","v":1},1,1,1,null,1,1,1,null,1,null,null,{"$f":"_xlfn.TEXTJOIN(\"^\",,H83:H97)","v":"101^102^103^104^105"},null,1,0,0,100,0,0,0,0,100,null,null,null,{"$f":"_xlfn.TEXTJOIN(\"^\",,V83:V97)","v":"0^0"},null,1,null,1,1,1,1,1,null,1,null,null,null,{"$f":"_xlfn.TEXTJOIN(\"^\",,AL83:AL97)","v":"6^4^2^1^3^5^7"},null,1,{"$f":"$C87","v":1},1,{"$nulls":4},1,{"$nulls":4},{"$f":"_xlfn.TEXTJOIN(\"^\",,AZ83:AZ97)","v":"8^6^2^3^7^9"}]
[null,null,3,{"$f":"$C88","v":3},3,3,3,null,3,3,3,null,3,null,null,{"$f":"_xlfn.TEXTJOIN(\"^\",,I83:I97)","v":"8^6^2^1^3^7^9"},null,3,0,0,0,0,0,0,0,0,null,null,null,{"$f":"_xlfn.TEXTJOIN(\"^\",,W83:W97)","v":"0^0^0"},null,3,null,3,3,3,3,3,null,3,null,null,null,{"$f":"_xlfn.TEXTJOIN(\"^\",,AM83:AM97)","v":"101^102^103^104^105"},null,3,null,null,{"$f":"$C88","v":3},3,null,{"$f":"$C88","v":3},3,3,null,null,null,{"$f":"_xlfn.TEXTJOIN(\"^\",,BA83:BA97)","v":"6^4^2^1^3^5^7"}]
[null,null,5,null,null,5,5,null,null,5,5,null,5,null,null,{"$f":"_xlfn.TEXTJOIN(\"^\",,J83:J97)","v":"8^6^4^2^1^3^5^7^9"},null,5,0,null,0,null,0,0,0,0,null,null,null,{"$f":"_xlfn.TEXTJOIN(\"^\",,X83:X97)","v":"0^0^0"},null,5,null,5,5,5,5,5,null,5,null,null,null,{"$f":"_xlfn.TEXTJOIN(\"^\",,AN83:AN97)","v":"8^6^4^2^1^3^5^7^9"},null,5,{"$f":"$C89","v":5},null,null,5,null,null,5,5,null,null,null,{"$f":"_xlfn.TEXTJOIN(\"^\",,BB83:BB97)","v":"8^6^4^2^3^5^7^9"}]
[null,null,7,{"$f":"$C90","v":7},{"$f":"$C90","v":7},7,null,null,{"$f":"$C90","v":7},7,7,null,7,null,null,{"$f":"_xlfn.TEXTJOIN(\"^\",,K83:K97)","v":"8^6^4^2^1^3^5^7^9"},null,7,{"$nulls":11},{"$f":"_xlfn.TEXTJOIN(\"^\",,Y83:Y97)","v":"0^0^0"},null,7,null,{"$f":"$C90","v":7},null,null,7,7,null,7,null,null,null,{"$f":"_xlfn.TEXTJOIN(\"^\",,AO83:AO97)","v":""},null,7,null,{"$f":"$C90","v":7},null,null,null,{"$f":"$C90","v":7},7,7,null,null,null,{"$f":"_xlfn.TEXTJOIN(\"^\",,BC83:BC97)","v":""}]
[null,null,9,null,null,null,{"$f":"$C91","v":9},null,9,9,9,{"$nulls":4},{"$f":"_xlfn.TEXTJOIN(\"^\",,L83:L97)","v":"101^102^103^104^105"},null,9,{"$nulls":13},9,null,null,9,{"$f":"$C91","v":9},9,null,null,9,null,null,null,{"$f":"_xlfn.TEXTJOIN(\"^\",,AP83:AP97)","v":""},null,9,{"$nulls":5},9,null,9,null,null,null,{"$f":"_xlfn.TEXTJOIN(\"^\",,BD83:BD97)","v":""}]
[null,null,"空降",{"$nulls":12},{"$f":"_xlfn.TEXTJOIN(\"^\",,M83:M97)","v":"6^4^2^1^3^5^7"},null,"空降",{"$nulls":13},"空降",{"$nulls":11},{"$f":"_xlfn.TEXTJOIN(\"^\",,AQ83:AQ91)","v":""},null,"空降",{"$nulls":11},{"$f":"_xlfn.TEXTJOIN(\"^\",,BE83:BE91)","v":""}]
[null,null,101,{"$nulls":4},{"$f":"$C93","v":101},null,null,null,{"$f":"$C93","v":101},null,null,null,{"$f":"_xlfn.TEXTJOIN(\"^\",,N83:N97)","v":""},null,101,{"$nulls":11},{"$f":"_xlfn.TEXTJOIN(\"^\",,Z83:Z97)","v":"100^0^0"},null,101,{"$f":"$C93","v":101},{"$nulls":5},{"$f":"$C93","v":101},{"$nulls":6},101,{"$nulls":4},{"$f":"$C93","v":101}]
[null,null,102,{"$nulls":4},102,null,null,null,102,{"$nulls":5},102,{"$nulls":11},{"$f":"_xlfn.TEXTJOIN(\"^\",,AA83:AA97)","v":""},null,102,102,{"$nulls":5},102,{"$nulls":6},102,{"$nulls":4},102]
[null,null,103,{"$nulls":4},103,null,null,null,103,{"$nulls":5},103,{"$nulls":11},{"$f":"_xlfn.TEXTJOIN(\"^\",,AB83:AB97)","v":""},null,103,103,{"$nulls":5},103,{"$nulls":6},103]
[null,null,104,{"$nulls":4},104,null,null,null,104,{"$nulls":5},104,{"$nulls":13},104,104,{"$nulls":5},104,{"$nulls":6},104,{"$nulls":4},{"$f":"$C96","v":104}]
[null,null,105,{"$nulls":4},105,null,null,null,105,{"$nulls":5},105,{"$nulls":13},105,105,{"$nulls":5},105,{"$nulls":6},105,{"$nulls":4},105]
[{"$nulls":14},"最终",{"$f":"_xlfn.TEXTJOIN(\"^\",,P83:P97)","v":"6^2^1^3^7^6^2^1^3^7^6^4^2^1^3^5^7^8^4^2^1^3^5^9^101^102^103^104^105^8^6^2^1^3^7^9^8^6^4^2^1^3^5^7^9^8^6^4^2^1^3^5^7^9^101^102^103^104^105^6^4^2^1^3^5^7"},{"$nulls":12},"最终",{"$f":"_xlfn.TEXTJOIN(\"^\",,AD83:AD97)","v":"0^0^0^0^0^100^0^0^0^0^0^0^0^0^0^0^0^0^0^100^0^0"},{"$nulls":12},"最终",{"$f":"_xlfn.TEXTJOIN(\"^\",,AR82:AR97)","v":"101^102^103^104^105^6^4^2^1^3^5^7^8^4^2^1^3^5^9^8^4^2^1^3^5^9^8^6^4^2^1^3^5^7^9^6^4^2^1^3^5^7^101^102^103^104^105^8^6^4^2^1^3^5^7^9"},{"$nulls":12},"最终",{"$f":"_xlfn.TEXTJOIN(\"^\",,BF82:BF97)","v":"4^1^5^6^1^7^2^3^4^2^3^5^101^102^104^105^8^6^2^3^7^9^6^4^2^1^3^5^7^8^6^4^2^3^5^7^9"}]
[]
[null,null,"时间",5,10,17,25,30,40,50,60,65,75,{"$nulls":4},"时间",5,10,15,25,40,56,73,80,null,null,null,{"$f":"_xlfn.TEXTJOIN(\"^\",,S101:S109)","v":"18^6^4"},null,"时间",4,10,17,25,35,45,50,60,null,null,null,{"$f":"_xlfn.TEXTJOIN(\"^\",,AG101:AG109)","v":"4^4^4^4^4"},null,"时间",3,5,8,12,18,25,35,45,null,null,null,{"$f":"_xlfn.TEXTJOIN(\"^\",,AU101:AU109)","v":"3^3^3"}]
[null,null,8,null,null,null,{"$f":"G$100","v":25},null,{"$f":"I$100","v":40},50,60,{"$nulls":4},{"$f":"_xlfn.TEXTJOIN(\"^\",,D101:D110)","v":"5^5^5^5^5"},null,8,{"$nulls":11},{"$f":"_xlfn.TEXTJOIN(\"^\",,T101:T109)","v":"12^4"},null,8,null,null,{"$f":"AI$100","v":17},{"$f":"AJ$100","v":25},{"$f":"AK$100","v":35},null,null,{"$f":"AN$100","v":60},null,null,null,{"$f":"_xlfn.TEXTJOIN(\"^\",,AH101:AH109)","v":"10^10^10^10^10^10^10"},null,8,{"$nulls":5},{"$f":"AZ$100","v":25},null,{"$f":"BB$100","v":45},null,null,null,{"$f":"_xlfn.TEXTJOIN(\"^\",,AV101:AV109)","v":"5^5^5"}]
[null,null,6,{"$f":"D$100","v":5},{"$f":"E$100","v":10},{"$f":"F$100","v":17},null,null,40,50,60,null,{"$f":"M$100","v":75},null,null,{"$f":"_xlfn.TEXTJOIN(\"^\",,E101:E110)","v":"10^10^10^10^10"},null,6,{"$nulls":11},{"$f":"_xlfn.TEXTJOIN(\"^\",,U101:U109)","v":"8^3^2"},null,6,null,{"$f":"AH$100","v":10},null,null,35,45,null,60,null,null,null,{"$f":"_xlfn.TEXTJOIN(\"^\",,AI101:AI109)","v":"17^17^17^17^17^17^17"},null,6,null,{"$f":"AV$100","v":5},null,null,null,25,35,45,null,null,null,{"$f":"_xlfn.TEXTJOIN(\"^\",,AW101:AW109)","v":"8^8"}]
[null,null,4,null,null,17,25,30,null,50,60,65,75,null,null,{"$f":"_xlfn.TEXTJOIN(\"^\",,F101:F110)","v":"17^17^17^17^17^17^17"},null,4,{"$nulls":11},{"$f":"_xlfn.TEXTJOIN(\"^\",,V101:V109)","v":"13^3"},null,4,{"$f":"AG$100","v":4},10,17,25,35,45,50,60,null,null,null,{"$f":"_xlfn.TEXTJOIN(\"^\",,AJ101:AJ109)","v":"25^25^25^25^25^25^25"},null,4,{"$f":"AU$100","v":3},null,null,{"$f":"AX$100","v":12},18,null,35,45,null,null,null,{"$f":"_xlfn.TEXTJOIN(\"^\",,AX101:AX109)","v":"12^12^12^12"}]
[null,null,2,{"$f":"D$100","v":5},10,17,25,30,40,50,60,65,75,null,null,{"$f":"_xlfn.TEXTJOIN(\"^\",,G101:G110)","v":"25^25^25^25^25^25^25"},null,2,{"$nulls":11},{"$f":"_xlfn.TEXTJOIN(\"^\",,W101:W109)","v":"12^3^2"},null,2,4,10,17,25,35,45,50,60,null,null,null,{"$f":"_xlfn.TEXTJOIN(\"^\",,AK101:AK109)","v":"35^35^35^35^35^35^35^35^35"},null,2,null,null,{"$f":"AW$100","v":8},12,18,{"$f":"AZ$100","v":25},35,45,null,null,null,{"$f":"_xlfn.TEXTJOIN(\"^\",,AY101:AY109)","v":"18^18^18^18"}]
[null,null,1,5,10,17,25,30,40,50,{"$f":"K$100","v":60},65,75,null,null,{"$f":"_xlfn.TEXTJOIN(\"^\",,H101:H110)","v":"30^30^30^30^30"},null,1,18,12,8,13,12,13,14,6,null,null,null,{"$f":"_xlfn.TEXTJOIN(\"^\",,X101:X109)","v":"13^3^2"},null,1,4,10,17,25,35,45,50,60,null,null,null,{"$f":"_xlfn.TEXTJOIN(\"^\",,AL101:AL109)","v":"45^45^45^45^45^45^45"},null,1,{"$f":"AU$100","v":3},{"$f":"AV$100","v":5},{"$nulls":4},35,{"$nulls":4},{"$f":"_xlfn.TEXTJOIN(\"^\",,AZ101:AZ109)","v":"25^25^25^25^25^25"}]
[null,null,3,5,10,17,25,30,40,50,60,65,75,null,null,{"$f":"_xlfn.TEXTJOIN(\"^\",,I101:I110)","v":"40^40^40^40^40^40^40"},null,3,6,4,3,3,3,3,4,2,null,null,null,{"$f":"_xlfn.TEXTJOIN(\"^\",,Y101:Y109)","v":"14^4^2"},null,3,4,10,17,25,35,45,50,60,null,null,null,{"$f":"_xlfn.TEXTJOIN(\"^\",,AM101:AM109)","v":"50^50^50^50^50"},null,3,null,null,{"$f":"AW$100","v":8},{"$f":"AX$100","v":12},18,{"$f":"AZ$100","v":25},35,45,null,null,null,{"$f":"_xlfn.TEXTJOIN(\"^\",,BA101:BA109)","v":"35^35^35^35^35^35^35"}]
[null,null,5,null,null,17,25,30,null,50,60,65,75,null,null,{"$f":"_xlfn.TEXTJOIN(\"^\",,J101:J110)","v":"50^50^50^50^50^50^50^50^50"},null,5,4,null,2,null,2,2,2,13,null,null,null,{"$f":"_xlfn.TEXTJOIN(\"^\",,Z101:Z109)","v":"6^2^13"},null,5,4,10,17,25,35,45,50,60,null,null,null,{"$f":"_xlfn.TEXTJOIN(\"^\",,AN101:AN109)","v":"60^60^60^60^60^60^60^60^60"},null,5,{"$f":"AU$100","v":3},null,null,12,18,null,35,45,null,null,null,{"$f":"_xlfn.TEXTJOIN(\"^\",,BB101:BB109)","v":"45^45^45^45^45^45^45^45"}]
[null,null,7,{"$f":"D$100","v":5},{"$f":"E$100","v":10},17,null,null,{"$f":"I$100","v":40},50,60,null,75,null,null,{"$f":"_xlfn.TEXTJOIN(\"^\",,K101:K110)","v":"60^60^60^60^60^60^60^60^60"},null,7,{"$nulls":11},{"$f":"_xlfn.TEXTJOIN(\"^\",,AA101:AA109)","v":""},null,7,null,{"$f":"AH$100","v":10},null,null,35,45,null,60,null,null,null,{"$f":"_xlfn.TEXTJOIN(\"^\",,AO101:AO109)","v":""},null,7,null,{"$f":"AV$100","v":5},null,null,null,{"$f":"AZ$100","v":25},35,45,null,null,null,{"$f":"_xlfn.TEXTJOIN(\"^\",,BC101:BC109)","v":""}]
[null,null,9,null,null,null,{"$f":"G$100","v":25},null,40,50,60,{"$nulls":4},{"$f":"_xlfn.TEXTJOIN(\"^\",,L101:L110)","v":"65^65^65^65^65"},null,9,{"$nulls":11},{"$f":"_xlfn.TEXTJOIN(\"^\",,AB101:AB109)","v":""},null,9,null,null,17,{"$f":"AJ$100","v":25},35,null,null,60,null,null,null,{"$f":"_xlfn.TEXTJOIN(\"^\",,AP101:AP109)","v":""},null,9,{"$nulls":5},25,null,45,null,null,null,{"$f":"_xlfn.TEXTJOIN(\"^\",,BD101:BD109)","v":""}]
[{"$nulls":15},{"$f":"_xlfn.TEXTJOIN(\"^\",,M101:M110)","v":"75^75^75^75^75^75^75"},{"$nulls":13},{"$f":"_xlfn.TEXTJOIN(\"^\",,AC101:AC109)","v":""},{"$nulls":13},{"$f":"_xlfn.TEXTJOIN(\"^\",,AQ101:AQ109)","v":""},{"$nulls":13},{"$f":"_xlfn.TEXTJOIN(\"^\",,BE101:BE109)","v":""}]
[{"$nulls":15},{"$f":"_xlfn.TEXTJOIN(\"^\",,N101:N110)","v":""},{"$nulls":12},"最终",{"$f":"_xlfn.TEXTJOIN(\"^\",,AD100:AD110)","v":"18^6^4^12^4^8^3^2^13^3^12^3^2^13^3^2^14^4^2^6^2^13"},{"$nulls":12},"最终",{"$f":"_xlfn.TEXTJOIN(\"^\",,AR100:AR110)","v":"4^4^4^4^4^10^10^10^10^10^10^10^17^17^17^17^17^17^17^25^25^25^25^25^25^25^35^35^35^35^35^35^35^35^35^45^45^45^45^45^45^45^50^50^50^50^50^60^60^60^60^60^60^60^60^60"},{"$nulls":12},"最终",{"$f":"_xlfn.TEXTJOIN(\"^\",,BF100:BF110)","v":"3^3^3^5^5^5^8^8^12^12^12^12^18^18^18^18^25^25^25^25^25^25^35^35^35^35^35^35^35^45^45^45^45^45^45^45^45"}]
[{"$nulls":14},"最终",{"$f":"_xlfn.TEXTJOIN(\"^\",,P101:P111)","v":"5^5^5^5^5^10^10^10^10^10^17^17^17^17^17^17^17^25^25^25^25^25^25^25^30^30^30^30^30^40^40^40^40^40^40^40^50^50^50^50^50^50^50^50^50^60^60^60^60^60^60^60^60^60^65^65^65^65^65^75^75^75^75^75^75^75"}]
[{"$nulls":14},{"$f":"COUNT(D101:N110)","v":66},{"$nulls":13},{"$f":"SUM(S101:AB110)","v":149},{"$nulls":13},{"$f":"COUNT(AG101:AP110)","v":56},{"$nulls":13},{"$f":"COUNT(AU101:BD110)","v":37},{"$f":"AQ113+BE113+AC113+O113","v":308}]
[{"$nulls":4},{"$f":"E115-D115","v":5},{"$f":"F115-E115","v":6},4,7,8,10,10,5,10,{"$nulls":6},{"$f":"T115-S115","v":5},5,7,8,10,5,10,{"$nulls":7},{"$f":"AH115-AG115","v":6},5,15,16,4,15,15,{"$nulls":7},{"$f":"AV115-AU115","v":2},3,4,5,6,7,10]
[1,"雪谷-3","波1·怪物",5,10,16,20,27,35,45,55,60,70,null,null,null,1,"波2·怪物",5,10,15,22,30,40,45,55,{"$nulls":4},3,"波3·怪物",4,10,15,30,46,50,65,80,{"$nulls":4},1,"波4·怪物",3,5,8,12,17,23,30,40]
[null,"5m",8,null,null,70332,null,70334,70334,70332,null,null,70332,null,null,{"$f":"_xlfn.TEXTJOIN(\"^\",,D116:D125)","v":"70334^70331^70331^70331^70334"},null,8,null,null,null,70334,null,70332,{"$nulls":5},{"$f":"_xlfn.TEXTJOIN(\"^\",,S116:S125)","v":"70335^70335^70335^70335"},null,8,{"$nulls":11},{"$f":"_xlfn.TEXTJOIN(\"^\",,AG116:AG125)","v":"70331^70332^70334"},null,8,{"$nulls":5},70332,null,70334,null,null,null,{"$f":"_xlfn.TEXTJOIN(\"^\",,AU116:AU125)","v":"70334^70333^70333^70334"}]
[null,null,6,70334,70331,70331,null,70332,null,70331,70334,null,70332,null,null,{"$f":"_xlfn.TEXTJOIN(\"^\",,E116:E125)","v":"70331^70332^70332^70331^70332^70332^70331"},null,6,null,70332,70334,null,70332,null,null,70334,null,null,null,{"$f":"_xlfn.TEXTJOIN(\"^\",,T116:T125)","v":"70332^70332^70332^70332"},null,6,{"$nulls":11},{"$f":"_xlfn.TEXTJOIN(\"^\",,AH116:AH125)","v":"70331^70333"},null,6,null,70332,null,70331,70334,null,70332,70332,null,null,null,{"$f":"_xlfn.TEXTJOIN(\"^\",,AV116:AV125)","v":"70332^70332^70332"}]
[null,null,4,null,70332,null,70335,70332,70332,70331,70332,70335,70331,null,null,{"$f":"_xlfn.TEXTJOIN(\"^\",,F116:F125)","v":"70332^70331^70333^70333^70333^70331^70332"},null,4,70335,null,null,70332,70332,70331,70335,70332,null,null,null,{"$f":"_xlfn.TEXTJOIN(\"^\",,U116:U125)","v":"70334^70333^70333^70334"},null,4,{"$nulls":11},{"$f":"_xlfn.TEXTJOIN(\"^\",,AI116:AI125)","v":"70335^70332"},null,4,70334,null,70335,70331,70332,70331,70331,70331,null,null,null,{"$f":"_xlfn.TEXTJOIN(\"^\",,AW116:AW125)","v":"70335^70335^70335^70335"}]
[null,null,2,70331,70332,70333,70335,70331,70333,70331,70333,70335,70333,null,null,{"$f":"_xlfn.TEXTJOIN(\"^\",,G116:G125)","v":"70335^70335^70335^70335^70335"},null,2,70335,null,70333,70331,70333,70333,70335,{"$nulls":4},{"$f":"_xlfn.TEXTJOIN(\"^\",,V116:V125)","v":"70334^70332^70331^70331^70331^70332^70334"},null,2,{"$nulls":11},{"$f":"_xlfn.TEXTJOIN(\"^\",,AJ116:AJ125)","v":"70331^70332^70333^70334"},null,2,70333,null,70335,null,70333,70331,70331,70333,null,null,null,{"$f":"_xlfn.TEXTJOIN(\"^\",,AX116:AX125)","v":"70331^70331^70331^70331^70331"}]
[null,null,1,70331,70331,70333,70335,70331,70332,70332,70332,70335,70334,null,null,{"$f":"_xlfn.TEXTJOIN(\"^\",,H116:H125)","v":"70334^70332^70332^70331^70331^70331^70331^70332^70334"},null,1,null,70332,null,70331,70334,70334,70335,70336,null,null,null,{"$f":"_xlfn.TEXTJOIN(\"^\",,W116:W125)","v":"70332^70332^70333^70334^70333^70332^70332"},null,1,70331,70331,70335,70331,70331,70335,70331,70331,null,null,null,{"$f":"_xlfn.TEXTJOIN(\"^\",,AK116:AK125)","v":"70331^70332"},null,1,null,70332,null,70331,null,70334,70333,{"$nulls":4},{"$f":"_xlfn.TEXTJOIN(\"^\",,AY116:AY125)","v":"70334^70332^70333^70333^70332^70334"}]
[null,null,3,70331,70332,70333,70335,70331,70333,70331,70333,70335,70333,null,null,{"$f":"_xlfn.TEXTJOIN(\"^\",,I116:I125)","v":"70334^70332^70333^70332^70333^70332^70334"},null,3,70335,70332,70333,70331,70333,70333,70335,{"$nulls":4},{"$f":"_xlfn.TEXTJOIN(\"^\",,X116:X125)","v":"70332^70331^70333^70334^70333^70331^70332"},null,3,70332,70333,70332,70332,70332,70331,70333,70333,null,null,null,{"$f":"_xlfn.TEXTJOIN(\"^\",,AL116:AL125)","v":"70335^70331^70334"},null,3,70333,null,70335,null,70333,70331,70331,70333,null,null,null,{"$f":"_xlfn.TEXTJOIN(\"^\",,AZ116:AZ125)","v":"70332^70331^70331^70334^70331^70331^70332"}]
[null,null,5,null,70332,null,70335,70331,70332,70331,70332,70335,70331,null,null,{"$f":"_xlfn.TEXTJOIN(\"^\",,J116:J125)","v":"70332^70331^70331^70331^70332^70331^70331^70331^70332"},null,5,70335,null,null,70332,70332,70331,70335,70332,null,null,null,{"$f":"_xlfn.TEXTJOIN(\"^\",,Y116:Y125)","v":"70335^70335^70335^70335^70335"},null,5,70334,null,null,70333,null,70334,70332,70332,null,null,null,{"$f":"_xlfn.TEXTJOIN(\"^\",,AM116:AM125)","v":"70331^70333^70332^70334"},null,5,70334,null,70335,70331,70332,70331,70331,70331,null,null,null,{"$f":"_xlfn.TEXTJOIN(\"^\",,BA116:BA125)","v":"70332^70331^70331^70333^70331^70331^70332"}]
[null,null,7,70334,70331,70331,null,70332,null,70331,70334,null,70332,null,null,{"$f":"_xlfn.TEXTJOIN(\"^\",,K116:K125)","v":"70334^70332^70333^70332^70333^70332^70334"},null,7,null,70332,70334,null,70332,null,null,70334,null,null,null,{"$f":"_xlfn.TEXTJOIN(\"^\",,Z116:Z125)","v":"70334^70332^70336^70332^70334"},null,7,null,null,null,70334,null,null,70334,{"$nulls":4},{"$f":"_xlfn.TEXTJOIN(\"^\",,AN116:AN125)","v":"70331^70333^70332"},null,7,null,70332,null,70331,70334,null,70332,70332,null,null,null,{"$f":"_xlfn.TEXTJOIN(\"^\",,BB116:BB125)","v":"70334^70332^70331^70333^70333^70331^70332^70334"}]
[null,null,9,null,null,70332,null,70334,70334,70332,null,null,70332,null,null,{"$f":"_xlfn.TEXTJOIN(\"^\",,L116:L125)","v":"70335^70335^70335^70335^70335"},null,9,null,null,null,70334,null,70332,{"$nulls":5},{"$f":"_xlfn.TEXTJOIN(\"^\",,AA116:AA125)","v":""},null,9,{"$nulls":11},{"$f":"_xlfn.TEXTJOIN(\"^\",,AO116:AO125)","v":""},null,9,{"$nulls":5},70332,null,70334,null,null,null,{"$f":"_xlfn.TEXTJOIN(\"^\",,BC116:BC125)","v":""}]
[{"$nulls":15},{"$f":"_xlfn.TEXTJOIN(\"^\",,M116:M125)","v":"70332^70332^70331^70333^70334^70333^70331^70332^70332"},{"$nulls":13},{"$f":"_xlfn.TEXTJOIN(\"^\",,AB116:AB125)","v":""},{"$nulls":13},{"$f":"_xlfn.TEXTJOIN(\"^\",,AP116:AP125)","v":""},{"$nulls":13},{"$f":"_xlfn.TEXTJOIN(\"^\",,BD116:BD125)","v":""}]
[{"$nulls":15},{"$f":"_xlfn.TEXTJOIN(\"^\",,N116:N125)","v":""},{"$nulls":13},{"$f":"_xlfn.TEXTJOIN(\"^\",,AC116:AC125)","v":""},{"$nulls":13},{"$f":"_xlfn.TEXTJOIN(\"^\",,AQ116:AQ125)","v":""},{"$nulls":13},{"$f":"_xlfn.TEXTJOIN(\"^\",,BE116:BE125)","v":""}]
[{"$nulls":14},"最终",{"$f":"_xlfn.TEXTJOIN(\"^\",,P116:P126)","v":"70334^70331^70331^70331^70334^70331^70332^70332^70331^70332^70332^70331^70332^70331^70333^70333^70333^70331^70332^70335^70335^70335^70335^70335^70334^70332^70332^70331^70331^70331^70331^70332^70334^70334^70332^70333^70332^70333^70332^70334^70332^70331^70331^70331^70332^70331^70331^70331^70332^70334^70332^70333^70332^70333^70332^70334^70335^70335^70335^70335^70335^70332^70332^70331^70333^70334^70333^70331^70332^70332"},{"$nulls":12},"最终",{"$f":"_xlfn.TEXTJOIN(\"^\",,AD116:AD126)","v":"70335^70335^70335^70335^70332^70332^70332^70332^70334^70333^70333^70334^70334^70332^70331^70331^70331^70332^70334^70332^70332^70333^70334^70333^70332^70332^70332^70331^70333^70334^70333^70331^70332^70335^70335^70335^70335^70335^70334^70332^70336^70332^70334"},{"$nulls":12},"最终",{"$f":"_xlfn.TEXTJOIN(\"^\",,AR116:AR126)","v":"70331^70332^70334^70331^70333^70335^70332^70331^70332^70333^70334^70331^70332^70335^70331^70334^70331^70333^70332^70334^70331^70333^70332"},{"$nulls":12},"最终",{"$f":"_xlfn.TEXTJOIN(\"^\",,BF116:BF126)","v":"70334^70333^70333^70334^70332^70332^70332^70335^70335^70335^70335^70331^70331^70331^70331^70331^70334^70332^70333^70333^70332^70334^70332^70331^70331^70334^70331^70331^70332^70332^70331^70331^70333^70331^70331^70332^70334^70332^70331^70333^70333^70331^70332^70334"}]
[null,null,8,null,null,"巨魔矛手",null,"木精灵","木精灵","巨魔矛手",null,null,"巨魔矛手",{"$nulls":4},8,null,null,null,"木精灵",null,"巨魔矛手",{"$nulls":7},8,{"$nulls":13},8,{"$nulls":5},"巨魔矛手",null,"木精灵"]
[null,null,6,"木精灵","雪怪","雪怪",null,"巨魔矛手",null,"雪怪","木精灵",null,"巨魔矛手",{"$nulls":4},6,null,"巨魔矛手","木精灵",null,"巨魔矛手",null,null,"木精灵",{"$nulls":5},6,{"$nulls":13},6,null,"巨魔矛手",null,"雪怪","木精灵",null,"巨魔矛手","巨魔矛手"]
[null,null,4,null,"巨魔矛手",null,"雪山蜘蛛","巨魔矛手","巨魔矛手","雪怪","巨魔矛手","雪山蜘蛛","雪怪",{"$nulls":4},4,"雪山蜘蛛",null,null,"巨魔矛手","巨魔矛手","雪怪","雪山蜘蛛","巨魔矛手",{"$nulls":5},4,{"$nulls":13},4,"木精灵",null,"雪山蜘蛛","雪怪","巨魔矛手","雪怪","雪怪","雪怪"]
[null,null,2,"雪怪","巨魔矛手","雪原熊","雪山蜘蛛","雪怪","雪原熊","雪怪","雪原熊","雪山蜘蛛","雪原熊",{"$nulls":4},2,"雪山蜘蛛",null,"雪原熊","雪怪","雪原熊","雪原熊","雪山蜘蛛",{"$nulls":6},2,{"$nulls":13},2,"雪原熊",null,"雪山蜘蛛",null,"雪原熊","雪怪","雪怪","雪原熊"]
[null,null,1,"雪怪","雪怪",null,"雪山蜘蛛","雪怪","巨魔矛手","巨魔矛手","巨魔矛手","雪山蜘蛛","木精灵",{"$nulls":4},1,null,"巨魔矛手",null,"雪怪","木精灵","木精灵","雪山蜘蛛","冰霜巨人",{"$nulls":5},1,"雪怪","雪怪","雪山蜘蛛","雪怪","雪怪","雪山蜘蛛","雪怪","雪怪",{"$nulls":5},1,null,"巨魔矛手",null,"雪怪",null,"木精灵","雪原熊"]
[null,null,3,"雪怪","巨魔矛手","雪原熊","雪山蜘蛛","雪怪","雪原熊","雪怪","雪原熊","雪山蜘蛛","雪原熊",{"$nulls":4},3,"雪山蜘蛛","巨魔矛手","雪原熊","雪怪","雪原熊","雪原熊","雪山蜘蛛",{"$nulls":6},3,"巨魔矛手","雪原熊","巨魔矛手","巨魔矛手","巨魔矛手","雪怪","雪原熊","雪原熊",{"$nulls":5},3,"雪原熊",null,"雪山蜘蛛",null,"雪原熊","雪怪","雪怪","雪原熊"]
[null,null,5,null,"巨魔矛手",null,"雪山蜘蛛","雪怪","巨魔矛手","雪怪","巨魔矛手","雪山蜘蛛","雪怪",{"$nulls":4},5,"雪山蜘蛛",null,null,"巨魔矛手","巨魔矛手","雪怪","雪山蜘蛛","巨魔矛手",{"$nulls":5},5,"木精灵",null,null,"雪原熊",null,"木精灵","巨魔矛手","巨魔矛手",{"$nulls":5},5,"木精灵",null,"雪山蜘蛛","雪怪","巨魔矛手","雪怪","雪怪","雪怪"]
[null,null,7,"木精灵","雪怪","雪怪",null,"巨魔矛手",null,"雪怪","木精灵",null,"巨魔矛手",{"$nulls":4},7,null,"巨魔矛手","木精灵",null,"巨魔矛手",null,null,"木精灵",{"$nulls":5},7,null,null,null,"木精灵",null,null,"木精灵",{"$nulls":6},7,null,"巨魔矛手",null,"雪怪","木精灵",null,"巨魔矛手","巨魔矛手"]
[null,null,9,null,null,"巨魔矛手",null,"木精灵","木精灵","巨魔矛手",null,null,"巨魔矛手",{"$nulls":4},9,null,null,null,"木精灵",null,"巨魔矛手",{"$nulls":7},9,{"$nulls":13},9,{"$nulls":5},"巨魔矛手",null,"木精灵"]
[]
[null,null,"位置",5,10,16,20,27,35,45,55,60,70,{"$nulls":4},"位置",5,10,15,22,30,40,45,55,{"$nulls":5},"位置",4,10,15,30,46,50,65,80,null,null,null,{"$f":"_xlfn.TEXTJOIN(\"^\",,AG139:AG153)","v":"0^0^0"},null,"位置",3,5,8,12,17,23,30,40,null,null,null,{"$f":"_xlfn.TEXTJOIN(\"^\",,AU139:AU153)","v":"4^2^3^5"}]
[null,null,8,null,null,{"$f":"$C139","v":8},null,{"$f":"$C139","v":8},{"$f":"$C139","v":8},{"$f":"$C139","v":8},null,null,{"$f":"$C139","v":8},null,null,{"$f":"_xlfn.TEXTJOIN(\"^\",,D139:D153)","v":"6^2^1^3^7"},null,8,null,null,null,{"$f":"$C139","v":8},null,{"$f":"$C139","v":8},{"$nulls":7},8,{"$nulls":11},{"$f":"_xlfn.TEXTJOIN(\"^\",,AH139:AH153)","v":"0^0"},null,8,{"$nulls":5},{"$f":"$C139","v":8},null,{"$f":"$C139","v":8},null,null,null,{"$f":"_xlfn.TEXTJOIN(\"^\",,AV139:AV153)","v":"6^1^7"}]
[null,null,6,{"$f":"$C140","v":6},{"$f":"$C140","v":6},6,null,6,null,6,6,null,6,null,null,{"$f":"_xlfn.TEXTJOIN(\"^\",,E139:E153)","v":"6^4^2^1^3^5^7"},null,6,null,{"$f":"$C140","v":6},{"$f":"$C140","v":6},null,{"$f":"$C140","v":6},null,null,{"$f":"$C140","v":6},null,null,null,{"$f":"_xlfn.TEXTJOIN(\"^\",,S139:S153)","v":"101^102^104^105"},null,6,{"$nulls":11},{"$f":"_xlfn.TEXTJOIN(\"^\",,AI139:AI153)","v":"100^0"},null,6,null,{"$f":"$C140","v":6},null,{"$f":"$C140","v":6},6,null,{"$f":"$C140","v":6},6,null,null,null,{"$f":"_xlfn.TEXTJOIN(\"^\",,AW139:AW153)","v":"101^102^104^105"}]
[null,null,4,null,4,null,null,4,4,4,4,null,4,null,null,{"$f":"_xlfn.TEXTJOIN(\"^\",,F139:F153)","v":"8^6^2^1^3^7^9"},null,4,null,null,null,{"$f":"$C141","v":4},4,4,null,4,null,null,null,{"$f":"_xlfn.TEXTJOIN(\"^\",,T139:T153)","v":"6^1^3^7"},null,4,{"$nulls":11},{"$f":"_xlfn.TEXTJOIN(\"^\",,AJ139:AJ153)","v":"0^0^0^0"},null,4,{"$f":"$C141","v":4},null,null,4,4,4,4,4,null,null,null,{"$f":"_xlfn.TEXTJOIN(\"^\",,AX139:AX153)","v":"6^4^1^5^7"}]
[null,null,2,{"$f":"$C142","v":2},2,{"$f":"$C142","v":2},null,2,2,2,2,null,2,null,null,{"$f":"_xlfn.TEXTJOIN(\"^\",,G139:G153)","v":"101^102^103^104^105"},null,2,null,null,{"$f":"$C142","v":2},2,2,2,{"$nulls":5},{"$f":"_xlfn.TEXTJOIN(\"^\",,U139:U153)","v":"6^2^3^7"},null,2,{"$nulls":11},{"$f":"_xlfn.TEXTJOIN(\"^\",,AK139:AK153)","v":"0^0"},null,2,2,null,null,null,{"$f":"$C142","v":2},2,2,2,null,null,null,{"$f":"_xlfn.TEXTJOIN(\"^\",,AY139:AY153)","v":"6^4^2^3^5^7"}]
[null,null,1,1,1,{"$f":"$C143","v":1},null,1,1,1,1,null,1,null,null,{"$f":"_xlfn.TEXTJOIN(\"^\",,H139:H153)","v":"8^6^4^2^1^3^5^7^9"},null,1,null,{"$f":"$C143","v":1},null,1,1,1,null,{"$f":"$C143","v":1},null,null,null,{"$f":"_xlfn.TEXTJOIN(\"^\",,V139:V153)","v":"8^4^2^1^3^5^9"},null,1,0,0,100,0,0,100,0,0,null,null,null,{"$f":"_xlfn.TEXTJOIN(\"^\",,AL139:AL153)","v":"100^0^0"},null,1,null,{"$f":"$C143","v":1},null,{"$f":"$C143","v":1},null,1,1,{"$nulls":4},{"$f":"_xlfn.TEXTJOIN(\"^\",,AZ139:AZ153)","v":"8^4^2^1^3^5^9"}]
[null,null,3,3,3,{"$f":"$C144","v":3},null,3,3,3,3,null,3,null,null,{"$f":"_xlfn.TEXTJOIN(\"^\",,I139:I153)","v":"8^4^2^1^3^5^9"},null,3,null,{"$f":"$C144","v":3},{"$f":"$C144","v":3},3,3,3,{"$nulls":5},{"$f":"_xlfn.TEXTJOIN(\"^\",,W139:W153)","v":"6^4^2^1^3^5^7"},null,3,0,0,0,0,0,0,0,0,null,null,null,{"$f":"_xlfn.TEXTJOIN(\"^\",,AM139:AM153)","v":"0^0^0^0"},null,3,{"$f":"$C144","v":3},null,null,null,{"$f":"$C144","v":3},3,3,3,null,null,null,{"$f":"_xlfn.TEXTJOIN(\"^\",,BA139:BA153)","v":"6^4^2^1^3^5^7"}]
[null,null,5,null,5,null,null,5,5,5,5,null,5,null,null,{"$f":"_xlfn.TEXTJOIN(\"^\",,J139:J153)","v":"8^6^4^2^1^3^5^7^9"},null,5,null,null,null,5,5,5,null,{"$f":"$C145","v":5},null,null,null,{"$f":"_xlfn.TEXTJOIN(\"^\",,X139:X153)","v":"8^4^2^1^3^5^9"},null,5,0,null,null,0,null,0,0,0,null,null,null,{"$f":"_xlfn.TEXTJOIN(\"^\",,AN139:AN153)","v":"0^0^0"},null,5,5,null,null,{"$f":"$C145","v":5},5,5,5,5,null,null,null,{"$f":"_xlfn.TEXTJOIN(\"^\",,BB139:BB153)","v":"8^6^4^2^3^5^7^9"}]
[null,null,7,{"$f":"$C146","v":7},7,7,null,7,null,7,7,null,7,null,null,{"$f":"_xlfn.TEXTJOIN(\"^\",,K139:K153)","v":"6^4^2^1^3^5^7"},null,7,null,{"$f":"$C146","v":7},{"$f":"$C146","v":7},null,7,null,null,7,null,null,null,{"$f":"_xlfn.TEXTJOIN(\"^\",,Y139:Y153)","v":"101^102^103^104^105"},null,7,null,null,null,0,null,null,0,{"$nulls":4},{"$f":"_xlfn.TEXTJOIN(\"^\",,AO139:AO153)","v":""},null,7,null,{"$f":"$C146","v":7},null,7,7,null,7,7,null,null,null,{"$f":"_xlfn.TEXTJOIN(\"^\",,BC139:BC153)","v":""}]
[null,null,9,null,null,9,null,9,{"$f":"$C147","v":9},9,null,null,9,null,null,{"$f":"_xlfn.TEXTJOIN(\"^\",,L139:L153)","v":"101^102^103^104^105"},null,9,null,null,null,{"$f":"$C147","v":9},null,{"$f":"$C147","v":9},{"$nulls":7},9,{"$nulls":11},{"$f":"_xlfn.TEXTJOIN(\"^\",,AP139:AP153)","v":""},null,9,{"$nulls":5},{"$f":"$C147","v":9},null,9,null,null,null,{"$f":"_xlfn.TEXTJOIN(\"^\",,BD139:BD153)","v":""}]
[null,null,"空降",{"$nulls":12},{"$f":"_xlfn.TEXTJOIN(\"^\",,M139:M153)","v":"8^6^4^2^1^3^5^7^9"},null,"空降",{"$nulls":13},"空降",{"$nulls":11},{"$f":"_xlfn.TEXTJOIN(\"^\",,AQ139:AQ147)","v":""},null,"空降",{"$nulls":11},{"$f":"_xlfn.TEXTJOIN(\"^\",,BE139:BE147)","v":""}]
[null,null,101,null,null,null,{"$f":"$C149","v":101},{"$nulls":4},{"$f":"$C149","v":101},null,null,null,{"$f":"_xlfn.TEXTJOIN(\"^\",,N139:N153)","v":""},null,101,{"$f":"$C149","v":101},{"$nulls":5},{"$f":"$C149","v":101},{"$nulls":4},{"$f":"_xlfn.TEXTJOIN(\"^\",,Z139:Z153)","v":"6^4^1^5^7"},null,101,{"$nulls":13},101,null,null,{"$f":"$C149","v":101}]
[null,null,102,null,null,null,102,{"$nulls":4},{"$f":"$C150","v":102},{"$nulls":5},102,102,{"$nulls":5},102,{"$nulls":4},{"$f":"_xlfn.TEXTJOIN(\"^\",,AA139:AA153)","v":""},null,102,{"$nulls":13},102,null,null,102]
[null,null,103,null,null,null,103,{"$nulls":4},{"$f":"$C151","v":103},{"$nulls":5},103,{"$nulls":6},103,{"$nulls":4},{"$f":"_xlfn.TEXTJOIN(\"^\",,AB139:AB153)","v":""},null,103,{"$nulls":13},103]
[null,null,104,null,null,null,104,{"$nulls":4},{"$f":"$C152","v":104},{"$nulls":5},104,{"$f":"$C152","v":104},{"$nulls":5},104,{"$nulls":6},104,{"$nulls":13},104,null,null,{"$f":"$C152","v":104}]
[null,null,105,null,null,null,105,{"$nulls":4},105,{"$nulls":5},105,105,{"$nulls":5},105,{"$nulls":6},105,{"$nulls":13},105,null,null,105]
[{"$nulls":14},"最终",{"$f":"_xlfn.TEXTJOIN(\"^\",,P139:P153)","v":"6^2^1^3^7^6^4^2^1^3^5^7^8^6^2^1^3^7^9^101^102^103^104^105^8^6^4^2^1^3^5^7^9^8^4^2^1^3^5^9^8^6^4^2^1^3^5^7^9^6^4^2^1^3^5^7^101^102^103^104^105^8^6^4^2^1^3^5^7^9"},{"$nulls":12},"最终",{"$f":"_xlfn.TEXTJOIN(\"^\",,AD139:AD153)","v":"101^102^104^105^6^1^3^7^6^2^3^7^8^4^2^1^3^5^9^6^4^2^1^3^5^7^8^4^2^1^3^5^9^101^102^103^104^105^6^4^1^5^7"},{"$nulls":12},"最终",{"$f":"_xlfn.TEXTJOIN(\"^\",,AR138:AR153)","v":"0^0^0^0^0^100^0^0^0^0^0^0^0^100^0^0^0^0^0^0^0^0^0"},{"$nulls":12},"最终",{"$f":"_xlfn.TEXTJOIN(\"^\",,BF138:BF153)","v":"4^2^3^5^6^1^7^101^102^104^105^6^4^1^5^7^6^4^2^3^5^7^8^4^2^1^3^5^9^6^4^2^1^3^5^7^8^6^4^2^3^5^7^9"}]
[]
[null,null,"时间",5,10,16,20,27,35,45,55,60,70,{"$nulls":4},"时间",5,10,15,22,30,40,45,55,null,null,null,{"$f":"_xlfn.TEXTJOIN(\"^\",,S157:S165)","v":"5^5^5^5"},null,"时间",4,10,15,30,46,50,65,80,null,null,null,{"$f":"_xlfn.TEXTJOIN(\"^\",,AG157:AG165)","v":"18^5^3"},null,"时间",3,5,8,12,17,23,30,40,null,null,null,{"$f":"_xlfn.TEXTJOIN(\"^\",,AU157:AU165)","v":"3^3^3^3"}]
[null,null,8,null,null,{"$f":"F$156","v":16},null,{"$f":"H$156","v":27},{"$f":"I$156","v":35},{"$f":"J$156","v":45},null,null,70,null,null,{"$f":"_xlfn.TEXTJOIN(\"^\",,D157:D166)","v":"5^5^5^5^5"},null,8,null,null,null,{"$f":"V$156","v":22},null,{"$f":"X$156","v":40},{"$nulls":5},{"$f":"_xlfn.TEXTJOIN(\"^\",,T157:T165)","v":"10^10^10^10"},null,8,{"$nulls":11},{"$f":"_xlfn.TEXTJOIN(\"^\",,AH157:AH165)","v":"12^3"},null,8,{"$nulls":5},{"$f":"AZ$156","v":23},null,{"$f":"BB$156","v":40},null,null,null,{"$f":"_xlfn.TEXTJOIN(\"^\",,AV157:AV165)","v":"5^5^5"}]
[null,null,6,{"$f":"D$156","v":5},{"$f":"E$156","v":10},16,null,27,null,45,55,null,70,null,null,{"$f":"_xlfn.TEXTJOIN(\"^\",,E157:E166)","v":"10^10^10^10^10^10^10"},null,6,null,{"$f":"T$156","v":10},15,null,30,null,null,55,null,null,null,{"$f":"_xlfn.TEXTJOIN(\"^\",,U157:U165)","v":"15^15^15^15"},null,6,{"$nulls":11},{"$f":"_xlfn.TEXTJOIN(\"^\",,AI157:AI165)","v":"9^4"},null,6,null,{"$f":"AV$156","v":5},null,{"$f":"AX$156","v":12},17,null,{"$f":"BA$156","v":30},40,null,null,null,{"$f":"_xlfn.TEXTJOIN(\"^\",,AW157:AW165)","v":"8^8^8^8"}]
[null,null,4,null,10,null,{"$f":"G$156","v":20},27,35,45,55,60,70,null,null,{"$f":"_xlfn.TEXTJOIN(\"^\",,F157:F166)","v":"16^16^16^16^16^16^16"},null,4,{"$f":"S$156","v":5},null,null,{"$f":"V$156","v":22},30,40,45,55,null,null,null,{"$f":"_xlfn.TEXTJOIN(\"^\",,V157:V165)","v":"22^22^22^22^22^22^22"},null,4,{"$nulls":11},{"$f":"_xlfn.TEXTJOIN(\"^\",,AJ157:AJ165)","v":"10^3^2^2"},null,4,{"$f":"AU$156","v":3},null,{"$f":"AW$156","v":8},12,17,23,30,40,null,null,null,{"$f":"_xlfn.TEXTJOIN(\"^\",,AX157:AX165)","v":"12^12^12^12^12"}]
[null,null,2,{"$f":"D$156","v":5},10,{"$f":"F$156","v":16},20,27,35,45,55,60,70,null,null,{"$f":"_xlfn.TEXTJOIN(\"^\",,G157:G166)","v":"20^20^20^20^20"},null,2,5,null,{"$f":"U$156","v":15},22,30,40,45,{"$nulls":4},{"$f":"_xlfn.TEXTJOIN(\"^\",,W157:W165)","v":"30^30^30^30^30^30^30"},null,2,{"$nulls":11},{"$f":"_xlfn.TEXTJOIN(\"^\",,AK157:AK165)","v":"14^4"},null,2,3,null,8,null,17,23,30,40,null,null,null,{"$f":"_xlfn.TEXTJOIN(\"^\",,AY157:AY165)","v":"17^17^17^17^17^17"}]
[null,null,1,5,10,16,20,27,35,45,55,60,70,null,null,{"$f":"_xlfn.TEXTJOIN(\"^\",,H157:H166)","v":"27^27^27^27^27^27^27^27^27"},null,1,null,{"$f":"T$156","v":10},null,22,30,40,45,55,null,null,null,{"$f":"_xlfn.TEXTJOIN(\"^\",,X157:X165)","v":"40^40^40^40^40^40^40"},null,1,18,12,9,10,14,7,14,15,null,null,null,{"$f":"_xlfn.TEXTJOIN(\"^\",,AL157:AL165)","v":"7^10^2"},null,1,null,{"$f":"AV$156","v":5},null,{"$f":"AX$156","v":12},null,23,30,{"$nulls":4},{"$f":"_xlfn.TEXTJOIN(\"^\",,AZ157:AZ165)","v":"23^23^23^23^23^23^23"}]
[null,null,3,5,10,{"$f":"F$156","v":16},20,27,35,45,55,60,70,null,null,{"$f":"_xlfn.TEXTJOIN(\"^\",,I157:I166)","v":"35^35^35^35^35^35^35"},null,3,{"$f":"S$156","v":5},10,15,22,30,40,45,{"$nulls":4},{"$f":"_xlfn.TEXTJOIN(\"^\",,Y157:Y165)","v":"45^45^45^45^45"},null,3,5,3,4,3,4,10,2,2,null,null,null,{"$f":"_xlfn.TEXTJOIN(\"^\",,AM157:AM165)","v":"14^2^3^2"},null,3,{"$f":"AU$156","v":3},null,{"$f":"AW$156","v":8},null,{"$f":"AY$156","v":17},23,30,40,null,null,null,{"$f":"_xlfn.TEXTJOIN(\"^\",,BA157:BA165)","v":"30^30^30^30^30^30^30"}]
[null,null,5,null,10,null,20,27,35,45,55,60,70,null,null,{"$f":"_xlfn.TEXTJOIN(\"^\",,J157:J166)","v":"45^45^45^45^45^45^45^45^45"},null,5,5,null,null,22,30,40,45,55,null,null,null,{"$f":"_xlfn.TEXTJOIN(\"^\",,Z157:Z165)","v":"55^55^55^55^55"},null,5,3,null,null,2,null,2,3,3,null,null,null,{"$f":"_xlfn.TEXTJOIN(\"^\",,AN157:AN165)","v":"15^2^3"},null,5,3,null,8,12,17,23,30,40,null,null,null,{"$f":"_xlfn.TEXTJOIN(\"^\",,BB157:BB165)","v":"40^40^40^40^40^40^40^40"}]
[null,null,7,{"$f":"D$156","v":5},10,16,null,27,null,45,55,null,70,null,null,{"$f":"_xlfn.TEXTJOIN(\"^\",,K157:K166)","v":"55^55^55^55^55^55^55"},null,7,null,{"$f":"T$156","v":10},15,null,30,null,null,55,null,null,null,{"$f":"_xlfn.TEXTJOIN(\"^\",,AA157:AA165)","v":""},null,7,null,null,null,2,null,null,2,{"$nulls":4},{"$f":"_xlfn.TEXTJOIN(\"^\",,AO157:AO165)","v":""},null,7,null,{"$f":"AV$156","v":5},null,12,17,null,30,40,null,null,null,{"$f":"_xlfn.TEXTJOIN(\"^\",,BC157:BC165)","v":""}]
[null,null,9,null,null,16,null,27,{"$f":"I$156","v":35},45,null,null,70,null,null,{"$f":"_xlfn.TEXTJOIN(\"^\",,L157:L166)","v":"60^60^60^60^60"},null,9,null,null,null,{"$f":"V$156","v":22},null,40,{"$nulls":5},{"$f":"_xlfn.TEXTJOIN(\"^\",,AB157:AB165)","v":""},null,9,{"$nulls":11},{"$f":"_xlfn.TEXTJOIN(\"^\",,AP157:AP165)","v":""},null,9,{"$nulls":5},{"$f":"AZ$156","v":23},null,40,null,null,null,{"$f":"_xlfn.TEXTJOIN(\"^\",,BD157:BD165)","v":""}]
[{"$nulls":15},{"$f":"_xlfn.TEXTJOIN(\"^\",,M157:M166)","v":"70^70^70^70^70^70^70^70^70"},{"$nulls":13},{"$f":"_xlfn.TEXTJOIN(\"^\",,AC157:AC165)","v":""},{"$nulls":13},{"$f":"_xlfn.TEXTJOIN(\"^\",,AQ157:AQ165)","v":""},{"$nulls":13},{"$f":"_xlfn.TEXTJOIN(\"^\",,BE157:BE165)","v":""}]
[{"$nulls":15},{"$f":"_xlfn.TEXTJOIN(\"^\",,N157:N166)","v":""},{"$nulls":12},"最终",{"$f":"_xlfn.TEXTJOIN(\"^\",,AD156:AD166)","v":"5^5^5^5^10^10^10^10^15^15^15^15^22^22^22^22^22^22^22^30^30^30^30^30^30^30^40^40^40^40^40^40^40^45^45^45^45^45^55^55^55^55^55"},{"$nulls":12},"最终",{"$f":"_xlfn.TEXTJOIN(\"^\",,AR156:AR166)","v":"18^5^3^12^3^9^4^10^3^2^2^14^4^7^10^2^14^2^3^2^15^2^3"},{"$nulls":12},"最终",{"$f":"_xlfn.TEXTJOIN(\"^\",,BF156:BF166)","v":"3^3^3^3^5^5^5^8^8^8^8^12^12^12^12^12^17^17^17^17^17^17^23^23^23^23^23^23^23^30^30^30^30^30^30^30^40^40^40^40^40^40^40^40"}]
[{"$nulls":14},"最终",{"$f":"_xlfn.TEXTJOIN(\"^\",,P157:P167)","v":"5^5^5^5^5^10^10^10^10^10^10^10^16^16^16^16^16^16^16^20^20^20^20^20^27^27^27^27^27^27^27^27^27^35^35^35^35^35^35^35^45^45^45^45^45^45^45^45^45^55^55^55^55^55^55^55^60^60^60^60^60^70^70^70^70^70^70^70^70^70"}]
[{"$nulls":14},{"$f":"COUNT(D157:N166)","v":70},{"$nulls":13},{"$f":"COUNT(S157:AB166)","v":43},{"$nulls":13},{"$f":"SUM(AG157:AP166)","v":149},{"$nulls":13},{"$f":"COUNT(AU157:BD166)","v":44},{"$f":"AQ169+BE169+AC169+O169","v":306}]

{"sheet":"12","index":12,"n_rows":169,"n_cols":58,"rows_kept":169,"cut":false,"hidden":false,"merged":[]}
[]
[{"$nulls":4},{"$f":"E3-D3","v":5},{"$f":"F3-E3","v":6},4,7,8,10,5,10,10,{"$nulls":6},{"$f":"T3-S3","v":5},5,5,10,15,15,10,{"$nulls":7},{"$f":"AH3-AG3","v":2},4,5,10,10,10,10,{"$nulls":7},{"$f":"AV3-AU3","v":2},2,2,2,5,10,10]
[1,"冰原-1","波1·怪物",5,10,16,20,27,35,45,50,60,70,null,null,null,3,"波2·怪物",5,10,15,20,30,45,60,70,{"$nulls":4},1,"波3·怪物",4,6,10,15,25,35,45,55,{"$nulls":4},1,"波4·怪物",2,4,6,8,10,15,25,35]
[null,"5m",8,{"$nulls":5},70344,null,null,null,70344,null,null,{"$f":"_xlfn.TEXTJOIN(\"^\",,D4:D13)","v":"70344^70342^70342^70342^70344"},null,8,{"$nulls":11},{"$f":"_xlfn.TEXTJOIN(\"^\",,S4:S13)","v":"70345^70343^70344"},null,8,null,70344,{"$nulls":5},70344,null,null,null,{"$f":"_xlfn.TEXTJOIN(\"^\",,AG4:AG13)","v":"70341^70343^70341^70343^70341^70343^70341"},null,8,{"$nulls":7},70342,null,null,null,{"$f":"_xlfn.TEXTJOIN(\"^\",,AU4:AU13)","v":"70341^70341^70341^70341"}]
[null,null,6,null,70341,70344,null,70342,70342,70342,null,70342,70342,null,null,{"$f":"_xlfn.TEXTJOIN(\"^\",,E4:E13)","v":"70341^70341^70342^70341^70342^70341^70341"},null,6,{"$nulls":11},{"$f":"_xlfn.TEXTJOIN(\"^\",,T4:T13)","v":"70341^70342"},null,6,70341,70342,70341,null,70344,70343,70342,70342,null,null,null,{"$f":"_xlfn.TEXTJOIN(\"^\",,AH4:AH13)","v":"70344^70342^70341^70342^70341^70342^70344"},null,6,{"$nulls":5},70344,70342,70342,null,null,null,{"$f":"_xlfn.TEXTJOIN(\"^\",,AV4:AV13)","v":"70342^70342^70342"}]
[null,null,4,70344,70341,70342,70345,70341,70341,70342,70345,70341,70341,null,null,{"$f":"_xlfn.TEXTJOIN(\"^\",,F4:F13)","v":"70344^70342^70343^70343^70343^70342^70344"},null,4,{"$nulls":11},{"$f":"_xlfn.TEXTJOIN(\"^\",,U4:U13)","v":"70341^70342^70343"},null,4,70343,null,70341,70345,70342,70342,70342,70341,null,null,null,{"$f":"_xlfn.TEXTJOIN(\"^\",,AI4:AI13)","v":"70341^70341^70343^70342^70343^70341^70341"},null,4,70341,70342,null,70345,70343,70341,70342,70341,null,null,null,{"$f":"_xlfn.TEXTJOIN(\"^\",,AW4:AW13)","v":"70344^70344"}]
[null,null,2,70342,70342,70343,70345,70341,70343,70341,70345,70341,70343,null,null,{"$f":"_xlfn.TEXTJOIN(\"^\",,G4:G13)","v":"70345^70345^70345^70345^70345"},null,2,{"$nulls":11},{"$f":"_xlfn.TEXTJOIN(\"^\",,V4:V13)","v":"70341^70342^70344"},null,2,70341,70341,70343,70345,70341,70343,70341,70343,null,null,null,{"$f":"_xlfn.TEXTJOIN(\"^\",,AJ4:AJ13)","v":"70345^70345^70345^70345^70345"},null,2,70341,null,70344,70345,null,70341,null,70343,null,null,null,{"$f":"_xlfn.TEXTJOIN(\"^\",,AX4:AX13)","v":"70345^70345^70345^70345"}]
[null,null,1,70342,70341,70343,70345,70342,null,70341,70345,70344,70342,null,null,{"$f":"_xlfn.TEXTJOIN(\"^\",,H4:H13)","v":"70342^70341^70341^70342^70341^70341^70342"},null,1,70345,70341,70341,70341,70341,70341,70341,70345,null,null,null,{"$f":"_xlfn.TEXTJOIN(\"^\",,W4:W13)","v":"70341^70343"},null,1,70343,70342,70342,70345,70342,70344,70341,70342,null,null,null,{"$f":"_xlfn.TEXTJOIN(\"^\",,AK4:AK13)","v":"70344^70342^70341^70342^70341^70342^70344"},null,1,null,70342,null,null,70343,null,70342,{"$nulls":4},{"$f":"_xlfn.TEXTJOIN(\"^\",,AY4:AY13)","v":"70343^70343^70343"}]
[null,null,3,70342,70342,70343,70345,70341,70343,70341,70345,70341,70343,null,null,{"$f":"_xlfn.TEXTJOIN(\"^\",,I4:I13)","v":"70344^70342^70341^70343^70343^70341^70342^70344"},null,3,70343,70342,70342,70342,70343,70342,70342,70342,null,null,null,{"$f":"_xlfn.TEXTJOIN(\"^\",,X4:X13)","v":"70341^70342^70343^70344"},null,3,70341,70341,70343,70345,70341,70343,70341,70343,null,null,null,{"$f":"_xlfn.TEXTJOIN(\"^\",,AL4:AL13)","v":"70343^70342^70343^70344^70343^70342^70343"},null,3,70341,null,70344,70345,null,70341,null,70343,null,null,null,{"$f":"_xlfn.TEXTJOIN(\"^\",,AZ4:AZ13)","v":"70344^70341^70341^70341^70341^70344"}]
[null,null,5,70344,70341,70342,70345,70341,70341,70342,70345,70341,70341,null,null,{"$f":"_xlfn.TEXTJOIN(\"^\",,J4:J13)","v":"70342^70342^70341^70341^70341^70342^70342"},null,5,70344,null,70343,70344,null,70343,70344,70343,null,null,null,{"$f":"_xlfn.TEXTJOIN(\"^\",,Y4:Y13)","v":"70341^70342^70344"},null,5,70343,null,70341,70345,70342,70342,70342,70341,null,null,null,{"$f":"_xlfn.TEXTJOIN(\"^\",,AM4:AM13)","v":"70342^70342^70341^70341^70341^70342^70342"},null,5,70341,70342,null,70345,70343,70341,70342,70341,null,null,null,{"$f":"_xlfn.TEXTJOIN(\"^\",,BA4:BA13)","v":"70342^70342^70342^70342^70342"}]
[null,null,7,null,70341,70344,null,70342,70342,70342,null,70342,70342,null,null,{"$f":"_xlfn.TEXTJOIN(\"^\",,K4:K13)","v":"70345^70345^70345^70345^70345"},null,7,{"$nulls":5},70344,{"$nulls":5},{"$f":"_xlfn.TEXTJOIN(\"^\",,Z4:Z13)","v":"70345^70342^70343"},null,7,70341,70342,70341,null,70344,70343,70342,70342,null,null,null,{"$f":"_xlfn.TEXTJOIN(\"^\",,AN4:AN13)","v":"70344^70342^70341^70343^70342^70343^70341^70342^70344"},null,7,{"$nulls":5},70344,70342,70342,null,null,null,{"$f":"_xlfn.TEXTJOIN(\"^\",,BB4:BB13)","v":"70342^70342^70341^70343^70343^70341^70342^70342"}]
[null,null,9,{"$nulls":5},70344,null,null,null,70344,null,null,{"$f":"_xlfn.TEXTJOIN(\"^\",,L4:L13)","v":"70342^70341^70341^70344^70341^70341^70342"},null,9,{"$nulls":11},{"$f":"_xlfn.TEXTJOIN(\"^\",,AA4:AA13)","v":""},null,9,null,70344,{"$nulls":5},70344,null,null,null,{"$f":"_xlfn.TEXTJOIN(\"^\",,AO4:AO13)","v":""},null,9,{"$nulls":7},70342,null,null,null,{"$f":"_xlfn.TEXTJOIN(\"^\",,BC4:BC13)","v":""}]
[{"$nulls":15},{"$f":"_xlfn.TEXTJOIN(\"^\",,M4:M13)","v":"70344^70342^70341^70343^70342^70343^70341^70342^70344"},{"$nulls":13},{"$f":"_xlfn.TEXTJOIN(\"^\",,AB4:AB13)","v":""},{"$nulls":13},{"$f":"_xlfn.TEXTJOIN(\"^\",,AP4:AP13)","v":""},{"$nulls":13},{"$f":"_xlfn.TEXTJOIN(\"^\",,BD4:BD13)","v":""}]
[{"$nulls":15},{"$f":"_xlfn.TEXTJOIN(\"^\",,N4:N13)","v":""},{"$nulls":13},{"$f":"_xlfn.TEXTJOIN(\"^\",,AC4:AC13)","v":""},{"$nulls":13},{"$f":"_xlfn.TEXTJOIN(\"^\",,AQ4:AQ13)","v":""},{"$nulls":13},{"$f":"_xlfn.TEXTJOIN(\"^\",,BE4:BE13)","v":""}]
[{"$nulls":14},"最终",{"$f":"_xlfn.TEXTJOIN(\"^\",,P4:P14)","v":"70344^70342^70342^70342^70344^70341^70341^70342^70341^70342^70341^70341^70344^70342^70343^70343^70343^70342^70344^70345^70345^70345^70345^70345^70342^70341^70341^70342^70341^70341^70342^70344^70342^70341^70343^70343^70341^70342^70344^70342^70342^70341^70341^70341^70342^70342^70345^70345^70345^70345^70345^70342^70341^70341^70344^70341^70341^70342^70344^70342^70341^70343^70342^70343^70341^70342^70344"},{"$nulls":12},"最终",{"$f":"_xlfn.TEXTJOIN(\"|\",,AD4:AD14)","v":"70345^70343^70344|70341^70342|70341^70342^70343|70341^70342^70344|70341^70343|70341^70342^70343^70344|70341^70342^70344|70345^70342^70343"},{"$nulls":12},"最终",{"$f":"_xlfn.TEXTJOIN(\"^\",,AR4:AR14)","v":"70341^70343^70341^70343^70341^70343^70341^70344^70342^70341^70342^70341^70342^70344^70341^70341^70343^70342^70343^70341^70341^70345^70345^70345^70345^70345^70344^70342^70341^70342^70341^70342^70344^70343^70342^70343^70344^70343^70342^70343^70342^70342^70341^70341^70341^70342^70342^70344^70342^70341^70343^70342^70343^70341^70342^70344"},{"$nulls":12},"最终",{"$f":"_xlfn.TEXTJOIN(\"^\",,BF4:BF14)","v":"70341^70341^70341^70341^70342^70342^70342^70344^70344^70345^70345^70345^70345^70343^70343^70343^70344^70341^70341^70341^70341^70344^70342^70342^70342^70342^70342^70342^70342^70341^70343^70343^70341^70342^70342"}]
[null,null,8,{"$nulls":5},"木精灵",null,null,null,"木精灵",{"$nulls":4},8,{"$nulls":13},8,null,"木精灵",{"$nulls":5},"木精灵",{"$nulls":5},8,{"$nulls":7},"独角兽"]
[null,null,6,null,"雪怪","木精灵",null,"独角兽","独角兽","独角兽",null,"独角兽","独角兽",{"$nulls":4},6,{"$nulls":13},6,"雪怪","独角兽","雪怪",null,"木精灵","雪原兽","独角兽","独角兽",{"$nulls":5},6,{"$nulls":5},"木精灵","独角兽","独角兽"]
[null,null,4,"木精灵","雪怪","独角兽","雪山蜘蛛","雪怪","雪怪","独角兽","雪山蜘蛛","雪怪","雪怪",{"$nulls":4},4,{"$nulls":13},4,"雪原兽",null,"雪怪","雪山蜘蛛","独角兽","独角兽","独角兽","雪怪",{"$nulls":5},4,"雪怪","独角兽",null,"雪山蜘蛛","雪原兽","雪怪","独角兽","雪怪"]
[null,null,2,"独角兽","独角兽","雪原兽","雪山蜘蛛","雪怪","雪原兽","雪怪","雪山蜘蛛","雪怪","雪原兽",{"$nulls":4},2,{"$nulls":13},2,"雪怪","雪怪","雪原兽","雪山蜘蛛","雪怪","雪原兽","雪怪","雪原兽",{"$nulls":5},2,"雪怪",null,"木精灵","雪山蜘蛛",null,"雪怪",null,"雪原兽"]
[null,null,1,"独角兽","雪怪","雪原兽","雪山蜘蛛","独角兽",null,"雪怪","雪山蜘蛛","木精灵","独角兽",{"$nulls":4},1,"雪山蜘蛛","雪怪","雪怪","雪怪","雪怪","雪怪","雪怪","雪山蜘蛛",{"$nulls":5},1,"雪原兽","独角兽","独角兽","雪山蜘蛛","独角兽","木精灵","雪怪","独角兽",{"$nulls":5},1,null,"独角兽",null,null,"雪原兽",null,"独角兽"]
[null,null,3,"独角兽","独角兽","雪原兽","雪山蜘蛛","雪怪","雪原兽","雪怪","雪山蜘蛛","雪怪","雪原兽",{"$nulls":4},3,"雪原兽","独角兽","独角兽","独角兽","雪原兽","独角兽","独角兽","独角兽",{"$nulls":5},3,"雪怪","雪怪","雪原兽","雪山蜘蛛","雪怪","雪原兽","雪怪","雪原兽",{"$nulls":5},3,"雪怪",null,"木精灵","雪山蜘蛛",null,"雪怪",null,"雪原兽"]
[null,null,5,"木精灵","雪怪","独角兽","雪山蜘蛛","雪怪","雪怪","独角兽","雪山蜘蛛","雪怪","雪怪",{"$nulls":4},5,"木精灵",null,"雪原兽","木精灵",null,"雪原兽","木精灵","雪原兽",{"$nulls":5},5,"雪原兽",null,"雪怪","雪山蜘蛛","独角兽","独角兽","独角兽","雪怪",{"$nulls":5},5,"雪怪","独角兽",null,"雪山蜘蛛","雪原兽","雪怪","独角兽","雪怪"]
[null,null,7,null,"雪怪","木精灵",null,"独角兽","独角兽","独角兽",null,"独角兽","独角兽",{"$nulls":4},7,{"$nulls":5},"木精灵",{"$nulls":7},7,"雪怪","独角兽","雪怪",null,"木精灵","雪原兽","独角兽","独角兽",{"$nulls":5},7,{"$nulls":5},"木精灵","独角兽","独角兽"]
[null,null,9,{"$nulls":5},"木精灵",null,null,null,"木精灵",{"$nulls":4},9,{"$nulls":13},9,null,"木精灵",{"$nulls":5},"木精灵",{"$nulls":5},9,{"$nulls":7},"独角兽"]
[]
[null,null,"位置",5,10,16,20,27,35,45,50,60,70,{"$nulls":4},"位置",5,10,15,20,30,45,60,70,{"$nulls":5},"位置",4,6,10,15,25,35,45,55,null,null,null,{"$f":"_xlfn.TEXTJOIN(\"^\",,AG27:AG41)","v":"6^4^2^1^3^5^7"},null,"位置",2,4,6,8,10,15,25,35,null,null,null,{"$f":"_xlfn.TEXTJOIN(\"^\",,AU27:AU41)","v":"4^2^3^5"}]
[null,null,8,{"$nulls":5},{"$f":"$C27","v":8},null,null,null,{"$f":"$C27","v":8},null,null,{"$f":"_xlfn.TEXTJOIN(\"^\",,D27:D41)","v":"4^2^1^3^5"},null,8,{"$nulls":13},8,null,{"$f":"$C27","v":8},{"$nulls":5},{"$f":"$C27","v":8},null,null,null,{"$f":"_xlfn.TEXTJOIN(\"^\",,AH27:AH41)","v":"8^6^2^1^3^7^9"},null,8,{"$nulls":7},{"$f":"$C27","v":8},null,null,null,{"$f":"_xlfn.TEXTJOIN(\"^\",,AV27:AV41)","v":"4^1^5"}]
[null,null,6,null,{"$f":"$C28","v":6},6,null,{"$f":"$C28","v":6},6,6,null,{"$f":"$C28","v":6},6,null,null,{"$f":"_xlfn.TEXTJOIN(\"^\",,E27:E41)","v":"6^4^2^1^3^5^7"},null,6,{"$nulls":11},{"$f":"_xlfn.TEXTJOIN(\"^\",,S27:S41)","v":"100^0^0"},null,6,6,6,6,null,{"$f":"$C28","v":6},{"$f":"$C28","v":6},{"$f":"$C28","v":6},6,null,null,null,{"$f":"_xlfn.TEXTJOIN(\"^\",,AI27:AI41)","v":"6^4^2^1^3^5^7"},null,6,{"$nulls":5},{"$f":"$C28","v":6},6,6,null,null,null,{"$f":"_xlfn.TEXTJOIN(\"^\",,AW27:AW41)","v":"2^3"}]
[null,null,4,{"$f":"$C29","v":4},4,4,null,4,4,4,null,4,4,null,null,{"$f":"_xlfn.TEXTJOIN(\"^\",,F27:F41)","v":"6^4^2^1^3^5^7"},null,4,{"$nulls":11},{"$f":"_xlfn.TEXTJOIN(\"^\",,T27:T41)","v":"0^0"},null,4,4,null,4,null,4,4,4,4,null,null,null,{"$f":"_xlfn.TEXTJOIN(\"^\",,AJ27:AJ41)","v":"101^102^103^104^105"},null,4,{"$f":"$C29","v":4},{"$f":"$C29","v":4},null,null,{"$f":"$C29","v":4},4,4,4,null,null,null,{"$f":"_xlfn.TEXTJOIN(\"^\",,AX27:AX41)","v":"101^102^104^105"}]
[null,null,2,{"$f":"$C30","v":2},2,2,null,2,2,2,null,2,2,null,null,{"$f":"_xlfn.TEXTJOIN(\"^\",,G27:G41)","v":"101^102^103^104^105"},null,2,{"$nulls":11},{"$f":"_xlfn.TEXTJOIN(\"^\",,U27:U41)","v":"0^0^0"},null,2,2,2,2,null,2,2,2,2,null,null,null,{"$f":"_xlfn.TEXTJOIN(\"^\",,AK27:AK41)","v":"6^4^2^1^3^5^7"},null,2,2,null,{"$f":"$C30","v":2},null,null,2,null,2,null,null,null,{"$f":"_xlfn.TEXTJOIN(\"^\",,AY27:AY41)","v":"4^1^5"}]
[null,null,1,{"$f":"$C31","v":1},1,1,null,1,null,1,null,1,1,null,null,{"$f":"_xlfn.TEXTJOIN(\"^\",,H27:H41)","v":"6^4^2^1^3^5^7"},null,1,100,0,0,0,0,0,0,100,null,null,null,{"$f":"_xlfn.TEXTJOIN(\"^\",,V27:V41)","v":"0^0^0"},null,1,1,1,1,null,1,1,1,1,null,null,null,{"$f":"_xlfn.TEXTJOIN(\"^\",,AL27:AL41)","v":"6^4^2^1^3^5^7"},null,1,null,{"$f":"$C31","v":1},null,null,{"$f":"$C31","v":1},null,{"$f":"$C31","v":1},{"$nulls":4},{"$f":"_xlfn.TEXTJOIN(\"^\",,AZ27:AZ41)","v":"6^4^2^3^5^7"}]
[null,null,3,{"$f":"$C32","v":3},3,3,null,3,3,3,null,3,3,null,null,{"$f":"_xlfn.TEXTJOIN(\"^\",,I27:I41)","v":"8^6^4^2^3^5^7^9"},null,3,0,0,0,0,0,0,0,0,null,null,null,{"$f":"_xlfn.TEXTJOIN(\"^\",,W27:W41)","v":"0^0"},null,3,3,3,3,null,3,3,3,3,null,null,null,{"$f":"_xlfn.TEXTJOIN(\"^\",,AM27:AM41)","v":"6^4^2^1^3^5^7"},null,3,{"$f":"$C32","v":3},null,{"$f":"$C32","v":3},null,null,{"$f":"$C32","v":3},null,{"$f":"$C32","v":3},null,null,null,{"$f":"_xlfn.TEXTJOIN(\"^\",,BA27:BA41)","v":"6^4^1^5^7"}]
[null,null,5,5,5,5,null,5,5,5,null,5,5,null,null,{"$f":"_xlfn.TEXTJOIN(\"^\",,J27:J41)","v":"6^4^2^1^3^5^7"},null,5,0,null,0,0,null,0,0,0,null,null,null,{"$f":"_xlfn.TEXTJOIN(\"^\",,X27:X41)","v":"0^0^0^0"},null,5,5,null,5,null,5,5,5,5,null,null,null,{"$f":"_xlfn.TEXTJOIN(\"^\",,AN27:AN41)","v":"8^6^4^2^1^3^5^7^9"},null,5,5,{"$f":"$C33","v":5},null,null,{"$f":"$C33","v":5},5,5,5,null,null,null,{"$f":"_xlfn.TEXTJOIN(\"^\",,BB27:BB41)","v":"8^6^4^2^3^5^7^9"}]
[null,null,7,null,7,7,null,7,7,7,null,7,7,null,null,{"$f":"_xlfn.TEXTJOIN(\"^\",,K27:K41)","v":"101^102^103^104^105"},null,7,{"$nulls":5},0,{"$nulls":5},{"$f":"_xlfn.TEXTJOIN(\"^\",,Y27:Y41)","v":"0^0^0"},null,7,7,7,7,null,7,{"$f":"$C34","v":7},7,7,null,null,null,{"$f":"_xlfn.TEXTJOIN(\"^\",,AO27:AO41)","v":""},null,7,{"$nulls":5},7,7,7,null,null,null,{"$f":"_xlfn.TEXTJOIN(\"^\",,BC27:BC41)","v":""}]
[null,null,9,{"$nulls":5},9,null,null,null,9,null,null,{"$f":"_xlfn.TEXTJOIN(\"^\",,L27:L41)","v":"6^4^2^1^3^5^7"},null,9,{"$nulls":13},9,null,9,{"$nulls":5},9,null,null,null,{"$f":"_xlfn.TEXTJOIN(\"^\",,AP27:AP41)","v":""},null,9,{"$nulls":7},9,null,null,null,{"$f":"_xlfn.TEXTJOIN(\"^\",,BD27:BD41)","v":""}]
[null,null,"空降",{"$nulls":12},{"$f":"_xlfn.TEXTJOIN(\"^\",,M27:M41)","v":"8^6^4^2^1^3^5^7^9"},null,"空降",{"$nulls":13},"空降",{"$nulls":11},{"$f":"_xlfn.TEXTJOIN(\"^\",,AQ27:AQ35)","v":""},null,"空降",{"$nulls":11},{"$f":"_xlfn.TEXTJOIN(\"^\",,BE27:BE35)","v":""}]
[null,null,101,null,null,null,{"$f":"$C37","v":101},null,null,null,{"$f":"$C37","v":101},{"$nulls":4},{"$f":"_xlfn.TEXTJOIN(\"^\",,N27:N41)","v":""},null,101,{"$nulls":11},{"$f":"_xlfn.TEXTJOIN(\"^\",,Z27:Z41)","v":"100^0^0"},null,101,null,null,null,{"$f":"$C37","v":101},{"$nulls":9},101,null,null,null,{"$f":"$C37","v":101}]
[null,null,102,null,null,null,102,null,null,null,102,{"$nulls":6},102,{"$nulls":11},{"$f":"_xlfn.TEXTJOIN(\"^\",,AA27:AA41)","v":""},null,102,null,null,null,102,{"$nulls":9},102,null,null,null,102]
[null,null,103,null,null,null,103,null,null,null,103,{"$nulls":6},103,{"$nulls":11},{"$f":"_xlfn.TEXTJOIN(\"^\",,AB27:AB41)","v":""},null,103,null,null,null,103,{"$nulls":9},103]
[null,null,104,null,null,null,104,null,null,null,104,{"$nulls":6},104,{"$nulls":13},104,null,null,null,104,{"$nulls":9},104,null,null,null,{"$f":"$C40","v":104}]
[null,null,105,null,null,null,105,null,null,null,105,{"$nulls":6},105,{"$nulls":13},105,null,null,null,105,{"$nulls":9},105,null,null,null,105]
[{"$nulls":14},"最终",{"$f":"_xlfn.TEXTJOIN(\"^\",,P27:P41)","v":"4^2^1^3^5^6^4^2^1^3^5^7^6^4^2^1^3^5^7^101^102^103^104^105^6^4^2^1^3^5^7^8^6^4^2^3^5^7^9^6^4^2^1^3^5^7^101^102^103^104^105^6^4^2^1^3^5^7^8^6^4^2^1^3^5^7^9"},{"$nulls":12},"最终",{"$f":"_xlfn.TEXTJOIN(\"|\",,AD27:AD41)","v":"100^0^0|0^0|0^0^0|0^0^0|0^0|0^0^0^0|0^0^0|100^0^0"},{"$nulls":12},"最终",{"$f":"_xlfn.TEXTJOIN(\"^\",,AR26:AR41)","v":"6^4^2^1^3^5^7^8^6^2^1^3^7^9^6^4^2^1^3^5^7^101^102^103^104^105^6^4^2^1^3^5^7^6^4^2^1^3^5^7^6^4^2^1^3^5^7^8^6^4^2^1^3^5^7^9"},{"$nulls":12},"最终",{"$f":"_xlfn.TEXTJOIN(\"^\",,BF26:BF41)","v":"4^2^3^5^4^1^5^2^3^101^102^104^105^4^1^5^6^4^2^3^5^7^6^4^1^5^7^8^6^4^2^3^5^7^9"}]
[]
[null,null,"时间",5,15,26,30,42,55,70,75,85,100,{"$nulls":4},"时间",5,10,15,20,30,45,60,70,null,null,null,{"$f":"_xlfn.TEXTJOIN(\"^\",,S45:S53)","v":"12^6^6"},null,"时间",4,6,10,15,25,35,45,55,null,null,null,{"$f":"_xlfn.TEXTJOIN(\"^\",,AG45:AG53)","v":"4^4^4^4^4^4^4"},null,"时间",2,4,6,8,10,15,25,35,null,null,null,{"$f":"_xlfn.TEXTJOIN(\"^\",,AU45:AU53)","v":"2^2^2^2"}]
[null,null,8,{"$nulls":5},{"$f":"I$44","v":55},null,null,null,{"$f":"M$44","v":100},null,null,{"$f":"_xlfn.TEXTJOIN(\"^\",,D45:D54)","v":"5^5^5^5^5"},null,8,{"$nulls":11},{"$f":"_xlfn.TEXTJOIN(\"^\",,T45:T53)","v":"10^4"},null,8,null,{"$f":"AH$44","v":6},{"$nulls":5},{"$f":"AN$44","v":55},null,null,null,{"$f":"_xlfn.TEXTJOIN(\"^\",,AH45:AH53)","v":"6^6^6^6^6^6^6"},null,8,{"$nulls":7},{"$f":"BB$44","v":35},null,null,null,{"$f":"_xlfn.TEXTJOIN(\"^\",,AV45:AV53)","v":"4^4^4"}]
[null,null,6,null,{"$f":"E$44","v":15},26,null,{"$f":"H$44","v":42},55,70,null,{"$f":"L$44","v":85},100,null,null,{"$f":"_xlfn.TEXTJOIN(\"^\",,E45:E54)","v":"15^15^15^15^15^15^15"},null,6,{"$nulls":11},{"$f":"_xlfn.TEXTJOIN(\"^\",,U45:U53)","v":"11^3^2"},null,6,4,6,10,null,{"$f":"AK$44","v":25},{"$f":"AL$44","v":35},{"$f":"AM$44","v":45},55,null,null,null,{"$f":"_xlfn.TEXTJOIN(\"^\",,AI45:AI53)","v":"10^10^10^10^10^10^10"},null,6,{"$nulls":5},{"$f":"AZ$44","v":15},25,35,null,null,null,{"$f":"_xlfn.TEXTJOIN(\"^\",,AW45:AW53)","v":"6^6"}]
[null,null,4,{"$f":"D$44","v":5},15,26,30,42,55,70,75,85,100,null,null,{"$f":"_xlfn.TEXTJOIN(\"^\",,F45:F54)","v":"26^26^26^26^26^26^26"},null,4,{"$nulls":11},{"$f":"_xlfn.TEXTJOIN(\"^\",,V45:V53)","v":"12^3^2"},null,4,4,null,10,15,25,35,45,55,null,null,null,{"$f":"_xlfn.TEXTJOIN(\"^\",,AJ45:AJ53)","v":"15^15^15^15^15"},null,4,{"$f":"AU$44","v":2},{"$f":"AV$44","v":4},null,{"$f":"AX$44","v":8},{"$f":"AY$44","v":10},15,25,35,null,null,null,{"$f":"_xlfn.TEXTJOIN(\"^\",,AX45:AX53)","v":"8^8^8^8"}]
[null,null,2,5,15,26,30,42,55,70,75,85,100,null,null,{"$f":"_xlfn.TEXTJOIN(\"^\",,G45:G54)","v":"30^30^30^30^30"},null,2,{"$nulls":11},{"$f":"_xlfn.TEXTJOIN(\"^\",,W45:W53)","v":"15^3"},null,2,4,6,10,15,25,35,45,55,null,null,null,{"$f":"_xlfn.TEXTJOIN(\"^\",,AK45:AK53)","v":"25^25^25^25^25^25^25"},null,2,2,null,{"$f":"AW$44","v":6},8,null,15,null,35,null,null,null,{"$f":"_xlfn.TEXTJOIN(\"^\",,AY45:AY53)","v":"10^10^10"}]
[null,null,1,5,15,26,30,42,null,70,75,85,100,null,null,{"$f":"_xlfn.TEXTJOIN(\"^\",,H45:H54)","v":"42^42^42^42^42^42^42"},null,1,12,10,11,12,15,12,14,15,null,null,null,{"$f":"_xlfn.TEXTJOIN(\"^\",,X45:X53)","v":"12^3^2^2"},null,1,4,6,10,15,25,35,45,55,null,null,null,{"$f":"_xlfn.TEXTJOIN(\"^\",,AL45:AL53)","v":"35^35^35^35^35^35^35"},null,1,null,{"$f":"AV$44","v":4},null,null,{"$f":"AY$44","v":10},null,{"$f":"BA$44","v":25},{"$nulls":4},{"$f":"_xlfn.TEXTJOIN(\"^\",,AZ45:AZ53)","v":"15^15^15^15^15^15"}]
[null,null,3,{"$f":"D$44","v":5},15,26,30,42,55,70,75,85,100,null,null,{"$f":"_xlfn.TEXTJOIN(\"^\",,I45:I54)","v":"55^55^55^55^55^55^55^55"},null,3,6,4,3,3,3,3,4,3,null,null,null,{"$f":"_xlfn.TEXTJOIN(\"^\",,Y45:Y53)","v":"14^4^2"},null,3,4,6,10,15,25,35,45,55,null,null,null,{"$f":"_xlfn.TEXTJOIN(\"^\",,AM45:AM53)","v":"45^45^45^45^45^45^45"},null,3,{"$f":"AU$44","v":2},null,{"$f":"AW$44","v":6},{"$f":"AX$44","v":8},null,{"$f":"AZ$44","v":15},null,{"$f":"BB$44","v":35},null,null,null,{"$f":"_xlfn.TEXTJOIN(\"^\",,BA45:BA53)","v":"25^25^25^25^25"}]
[null,null,5,5,15,26,30,42,55,70,75,85,100,null,null,{"$f":"_xlfn.TEXTJOIN(\"^\",,J45:J54)","v":"70^70^70^70^70^70^70"},null,5,6,null,2,2,null,2,2,3,null,null,null,{"$f":"_xlfn.TEXTJOIN(\"^\",,Z45:Z53)","v":"15^3^3"},null,5,4,null,10,15,25,35,45,55,null,null,null,{"$f":"_xlfn.TEXTJOIN(\"^\",,AN45:AN53)","v":"55^55^55^55^55^55^55^55^55"},null,5,2,{"$f":"AV$44","v":4},null,8,{"$f":"AY$44","v":10},15,25,35,null,null,null,{"$f":"_xlfn.TEXTJOIN(\"^\",,BB45:BB53)","v":"35^35^35^35^35^35^35^35"}]
[null,null,7,null,15,26,null,42,55,70,null,85,100,null,null,{"$f":"_xlfn.TEXTJOIN(\"^\",,K45:K54)","v":"75^75^75^75^75"},null,7,{"$nulls":5},2,{"$nulls":5},{"$f":"_xlfn.TEXTJOIN(\"^\",,AA45:AA53)","v":""},null,7,4,6,10,null,25,{"$f":"AL$44","v":35},45,55,null,null,null,{"$f":"_xlfn.TEXTJOIN(\"^\",,AO45:AO53)","v":""},null,7,{"$nulls":5},15,25,35,null,null,null,{"$f":"_xlfn.TEXTJOIN(\"^\",,BC45:BC53)","v":""}]
[null,null,9,{"$nulls":5},55,null,null,null,100,null,null,{"$f":"_xlfn.TEXTJOIN(\"^\",,L45:L54)","v":"85^85^85^85^85^85^85"},null,9,{"$nulls":11},{"$f":"_xlfn.TEXTJOIN(\"^\",,AB45:AB53)","v":""},null,9,null,6,{"$nulls":5},55,null,null,null,{"$f":"_xlfn.TEXTJOIN(\"^\",,AP45:AP53)","v":""},null,9,{"$nulls":7},35,null,null,null,{"$f":"_xlfn.TEXTJOIN(\"^\",,BD45:BD53)","v":""}]
[{"$nulls":15},{"$f":"_xlfn.TEXTJOIN(\"^\",,M45:M54)","v":"100^100^100^100^100^100^100^100^100"},{"$nulls":13},{"$f":"_xlfn.TEXTJOIN(\"^\",,AC45:AC53)","v":""},{"$nulls":13},{"$f":"_xlfn.TEXTJOIN(\"^\",,AQ45:AQ53)","v":""},{"$nulls":13},{"$f":"_xlfn.TEXTJOIN(\"^\",,BE45:BE53)","v":""}]
[{"$nulls":15},{"$f":"_xlfn.TEXTJOIN(\"^\",,N45:N54)","v":""},{"$nulls":12},"最终",{"$f":"_xlfn.TEXTJOIN(\"|\",,AD44:AD54)","v":"12^6^6|10^4|11^3^2|12^3^2|15^3|12^3^2^2|14^4^2|15^3^3"},{"$nulls":12},"最终",{"$f":"_xlfn.TEXTJOIN(\"^\",,AR44:AR54)","v":"4^4^4^4^4^4^4^6^6^6^6^6^6^6^10^10^10^10^10^10^10^15^15^15^15^15^25^25^25^25^25^25^25^35^35^35^35^35^35^35^45^45^45^45^45^45^45^55^55^55^55^55^55^55^55^55"},{"$nulls":12},"最终",{"$f":"_xlfn.TEXTJOIN(\"^\",,BF44:BF54)","v":"2^2^2^2^4^4^4^6^6^8^8^8^8^10^10^10^15^15^15^15^15^15^25^25^25^25^25^35^35^35^35^35^35^35^35"}]
[{"$nulls":14},"最终",{"$f":"_xlfn.TEXTJOIN(\"^\",,P45:P55)","v":"5^5^5^5^5^15^15^15^15^15^15^15^26^26^26^26^26^26^26^30^30^30^30^30^42^42^42^42^42^42^42^55^55^55^55^55^55^55^55^70^70^70^70^70^70^70^75^75^75^75^75^85^85^85^85^85^85^85^100^100^100^100^100^100^100^100^100"}]
[{"$nulls":14},{"$f":"COUNT(D45:N54)","v":67},{"$nulls":13},{"$f":"SUM(S45:AB54)","v":149},{"$nulls":13},{"$f":"COUNT(AG45:AP54)","v":56},{"$nulls":13},{"$f":"COUNT(AU45:BD54)","v":35},{"$f":"AQ57+BE57+AC57+O57","v":307}]
[{"$nulls":4},{"$f":"E59-D59","v":5},{"$f":"F59-E59","v":7},8,5,10,10,10,5,10,{"$nulls":6},{"$f":"T59-S59","v":5},5,10,15,16,17,7,{"$nulls":7},{"$f":"AH59-AG59","v":3},4,6,9,10,5,10,{"$nulls":7},{"$f":"AV59-AU59","v":2},3,4,6,7,10,10]
[1,"冰原-2","波1·怪物",5,10,17,25,30,40,50,60,65,75,null,null,null,3,"波2·怪物",5,10,15,25,40,56,73,80,{"$nulls":4},1,"波3·怪物",3,6,10,16,25,35,40,50,{"$nulls":4},1,"波4·怪物",3,5,8,12,18,25,35,45]
[null,"5m",8,null,null,null,70352,null,70354,70351,70354,{"$nulls":4},{"$f":"_xlfn.TEXTJOIN(\"^\",,D60:D69)","v":"70354^70352^70352^70352^70354"},null,8,{"$nulls":11},{"$f":"_xlfn.TEXTJOIN(\"^\",,S60:S69)","v":"70351^70354^70352"},null,8,null,null,null,70352,70354,null,null,70354,null,null,null,{"$f":"_xlfn.TEXTJOIN(\"^\",,AG60:AG69)","v":"70355^70355^70355^70355"},null,8,{"$nulls":5},70354,null,70352,null,null,null,{"$f":"_xlfn.TEXTJOIN(\"^\",,AU60:AU69)","v":"70353^70353^70353"}]
[null,null,6,70354,70351,70354,70352,null,70351,70351,70352,null,70352,null,null,{"$f":"_xlfn.TEXTJOIN(\"^\",,E60:E69)","v":"70351^70352^70351^70351^70351^70352^70351"},null,6,{"$nulls":11},{"$f":"_xlfn.TEXTJOIN(\"^\",,T60:T69)","v":"70351^70352"},null,6,null,70354,null,null,70351,70352,null,70352,null,null,null,{"$f":"_xlfn.TEXTJOIN(\"^\",,AH60:AH69)","v":"70354^70352^70352^70354"},null,6,null,70352,null,null,null,70352,70352,70354,null,null,null,{"$f":"_xlfn.TEXTJOIN(\"^\",,AV60:AV69)","v":"70352^70352^70352"}]
[null,null,4,null,70352,70352,70351,70355,70351,70352,70351,70355,70351,null,null,{"$f":"_xlfn.TEXTJOIN(\"^\",,F60:F69)","v":"70354^70352^70353^70353^70353^70352^70354"},null,4,{"$nulls":11},{"$f":"_xlfn.TEXTJOIN(\"^\",,U60:U69)","v":"70355^70352"},null,4,70355,null,70351,70351,70352,70351,70355,70352,null,null,null,{"$f":"_xlfn.TEXTJOIN(\"^\",,AI60:AI69)","v":"70351^70351^70351^70351^70351"},null,4,70353,null,null,70351,70355,null,70351,70352,null,null,null,{"$f":"_xlfn.TEXTJOIN(\"^\",,AW60:AW69)","v":"70354^70354"}]
[null,null,2,70352,70351,70353,70351,70355,70352,70353,null,70355,70353,null,null,{"$f":"_xlfn.TEXTJOIN(\"^\",,G60:G69)","v":"70352^70352^70351^70351^70352^70351^70351^70351^70352"},null,2,{"$nulls":11},{"$f":"_xlfn.TEXTJOIN(\"^\",,V60:V69)","v":"70351^70353"},null,2,70355,70352,70351,70353,70351,70353,70355,70351,null,null,null,{"$f":"_xlfn.TEXTJOIN(\"^\",,AJ60:AJ69)","v":"70352^70351^70353^70352^70353^70351^70352"},null,2,null,null,70354,70351,70355,70353,70351,70353,null,null,null,{"$f":"_xlfn.TEXTJOIN(\"^\",,AX60:AX69)","v":"70351^70351^70351^70351"}]
[null,null,1,70352,70351,70353,70352,70355,70352,70352,70352,70355,70354,null,null,{"$f":"_xlfn.TEXTJOIN(\"^\",,H60:H69)","v":"70355^70355^70355^70355^70355"},null,1,70351,70351,70355,70351,70351,70351,70351,70355,null,null,null,{"$f":"_xlfn.TEXTJOIN(\"^\",,W60:W69)","v":"70351^70352^70354"},null,1,null,null,70351,70352,70352,70352,70355,70353,null,null,null,{"$f":"_xlfn.TEXTJOIN(\"^\",,AK60:AK69)","v":"70354^70351^70352^70351^70352^70351^70352^70351^70354"},null,1,70353,70352,{"$nulls":4},70354,{"$nulls":4},{"$f":"_xlfn.TEXTJOIN(\"^\",,AY60:AY69)","v":"70355^70355^70355^70355"}]
[null,null,3,70352,70351,70353,70351,70355,70352,70353,null,70355,70353,null,null,{"$f":"_xlfn.TEXTJOIN(\"^\",,I60:I69)","v":"70354^70351^70351^70352^70352^70352^70351^70351^70354"},null,3,70354,70352,70352,70353,70352,70352,70352,70353,null,null,null,{"$f":"_xlfn.TEXTJOIN(\"^\",,X60:X69)","v":"70351^70352^70353"},null,3,70355,70352,70351,70353,70351,70353,70355,70351,null,null,null,{"$f":"_xlfn.TEXTJOIN(\"^\",,AL60:AL69)","v":"70352^70351^70353^70352^70353^70351^70352"},null,3,null,null,70354,70351,70355,70353,70351,70353,null,null,null,{"$f":"_xlfn.TEXTJOIN(\"^\",,AZ60:AZ69)","v":"70354^70352^70353^70353^70352^70354"}]
[null,null,5,null,70352,70352,70351,70355,70351,70352,70351,70355,70351,null,null,{"$f":"_xlfn.TEXTJOIN(\"^\",,J60:J69)","v":"70351^70351^70352^70353^70352^70353^70352^70351^70351"},null,5,70352,null,null,null,70354,70353,70354,70354,null,null,null,{"$f":"_xlfn.TEXTJOIN(\"^\",,Y60:Y69)","v":"70351^70352^70354"},null,5,70355,null,70351,70351,70352,70351,70355,70352,null,null,null,{"$f":"_xlfn.TEXTJOIN(\"^\",,AM60:AM69)","v":"70355^70355^70355^70355^70355"},null,5,70353,null,null,70351,70355,null,70351,70352,null,null,null,{"$f":"_xlfn.TEXTJOIN(\"^\",,BA60:BA69)","v":"70352^70351^70351^70354^70351^70351^70352"}]
[null,null,7,70354,70351,70354,70351,null,70351,70351,70352,null,70352,null,null,{"$f":"_xlfn.TEXTJOIN(\"^\",,K60:K69)","v":"70354^70352^70351^70352^70351^70352^70354"},null,7,{"$nulls":11},{"$f":"_xlfn.TEXTJOIN(\"^\",,Z60:Z69)","v":"70355^70353^70354"},null,7,null,70354,null,null,70351,70352,null,70352,null,null,null,{"$f":"_xlfn.TEXTJOIN(\"^\",,AN60:AN69)","v":"70354^70352^70352^70351^70353^70351^70352^70352^70354"},null,7,null,70352,null,null,null,70352,70352,70354,null,null,null,{"$f":"_xlfn.TEXTJOIN(\"^\",,BB60:BB69)","v":"70352^70354^70352^70353^70353^70352^70354^70352"}]
[null,null,9,null,null,null,70352,null,70354,70351,70354,{"$nulls":4},{"$f":"_xlfn.TEXTJOIN(\"^\",,L60:L69)","v":"70355^70355^70355^70355^70355"},null,9,{"$nulls":11},{"$f":"_xlfn.TEXTJOIN(\"^\",,AA60:AA69)","v":""},null,9,null,null,null,70352,70354,null,null,70354,null,null,null,{"$f":"_xlfn.TEXTJOIN(\"^\",,AO60:AO69)","v":""},null,9,{"$nulls":5},70354,null,70352,null,null,null,{"$f":"_xlfn.TEXTJOIN(\"^\",,BC60:BC69)","v":""}]
[{"$nulls":15},{"$f":"_xlfn.TEXTJOIN(\"^\",,M60:M69)","v":"70352^70351^70353^70354^70353^70351^70352"},{"$nulls":13},{"$f":"_xlfn.TEXTJOIN(\"^\",,AB60:AB69)","v":""},{"$nulls":13},{"$f":"_xlfn.TEXTJOIN(\"^\",,AP60:AP69)","v":""},{"$nulls":13},{"$f":"_xlfn.TEXTJOIN(\"^\",,BD60:BD69)","v":""}]
[{"$nulls":15},{"$f":"_xlfn.TEXTJOIN(\"^\",,N60:N69)","v":""},{"$nulls":13},{"$f":"_xlfn.TEXTJOIN(\"^\",,AC60:AC69)","v":""},{"$nulls":13},{"$f":"_xlfn.TEXTJOIN(\"^\",,AQ60:AQ69)","v":""},{"$nulls":13},{"$f":"_xlfn.TEXTJOIN(\"^\",,BE60:BE69)","v":""}]
[{"$nulls":14},"最终",{"$f":"_xlfn.TEXTJOIN(\"^\",,P60:P70)","v":"70354^70352^70352^70352^70354^70351^70352^70351^70351^70351^70352^70351^70354^70352^70353^70353^70353^70352^70354^70352^70352^70351^70351^70352^70351^70351^70351^70352^70355^70355^70355^70355^70355^70354^70351^70351^70352^70352^70352^70351^70351^70354^70351^70351^70352^70353^70352^70353^70352^70351^70351^70354^70352^70351^70352^70351^70352^70354^70355^70355^70355^70355^70355^70352^70351^70353^70354^70353^70351^70352"},{"$nulls":12},"最终",{"$f":"_xlfn.TEXTJOIN(\"^\",,AD60:AD70)","v":"70351^70354^70352^70351^70352^70355^70352^70351^70353^70351^70352^70354^70351^70352^70353^70351^70352^70354^70355^70353^70354"},{"$nulls":12},"最终",{"$f":"_xlfn.TEXTJOIN(\"^\",,AR60:AR70)","v":"70355^70355^70355^70355^70354^70352^70352^70354^70351^70351^70351^70351^70351^70352^70351^70353^70352^70353^70351^70352^70354^70351^70352^70351^70352^70351^70352^70351^70354^70352^70351^70353^70352^70353^70351^70352^70355^70355^70355^70355^70355^70354^70352^70352^70351^70353^70351^70352^70352^70354"},{"$nulls":12},"最终",{"$f":"_xlfn.TEXTJOIN(\"^\",,BF60:BF70)","v":"70353^70353^70353^70352^70352^70352^70354^70354^70351^70351^70351^70351^70355^70355^70355^70355^70354^70352^70353^70353^70352^70354^70352^70351^70351^70354^70351^70351^70352^70352^70354^70352^70353^70353^70352^70354^70352"}]
[null,null,8,null,null,null,"巨魔矛手",null,"木精灵","雪怪","木精灵",{"$nulls":6},8,{"$nulls":13},8,null,null,null,"巨魔矛手","木精灵",null,null,"木精灵",{"$nulls":5},8,{"$nulls":5},"木精灵",null,"巨魔矛手"]
[null,null,6,"木精灵","雪怪","木精灵","巨魔矛手",null,"雪怪","雪怪","巨魔矛手",null,"巨魔矛手",{"$nulls":4},6,{"$nulls":13},6,null,"木精灵",null,null,"雪怪","巨魔矛手",null,"巨魔矛手",{"$nulls":5},6,null,"巨魔矛手",null,null,null,"巨魔矛手","巨魔矛手","木精灵"]
[null,null,4,null,"巨魔矛手","巨魔矛手","雪怪","雪山蜘蛛","雪怪","巨魔矛手","雪怪","雪山蜘蛛","雪怪",{"$nulls":4},4,{"$nulls":13},4,"雪山蜘蛛",null,"雪怪","雪怪","巨魔矛手","雪怪","雪山蜘蛛","巨魔矛手",{"$nulls":5},4,"雪原兽",null,null,"雪怪","雪山蜘蛛",null,"雪怪","巨魔矛手"]
[null,null,2,"巨魔矛手","雪怪","雪原兽","雪怪","雪山蜘蛛","巨魔矛手","雪原兽",null,"雪山蜘蛛","雪原兽",{"$nulls":4},2,{"$nulls":13},2,"雪山蜘蛛","巨魔矛手","雪怪","雪原兽","雪怪","雪原兽","雪山蜘蛛","雪怪",{"$nulls":5},2,null,null,"木精灵","雪怪","雪山蜘蛛","雪原兽","雪怪","雪原兽"]
[null,null,1,"巨魔矛手","雪怪","雪原兽","巨魔矛手","雪山蜘蛛","巨魔矛手","巨魔矛手","巨魔矛手","雪山蜘蛛","木精灵",{"$nulls":4},1,"雪怪","雪怪","雪山蜘蛛","雪怪","雪怪","雪怪","雪怪","雪山蜘蛛",{"$nulls":5},1,null,null,"雪怪","巨魔矛手","巨魔矛手","巨魔矛手","雪山蜘蛛","雪原兽",{"$nulls":5},1,"雪原兽","巨魔矛手",{"$nulls":4},"木精灵"]
[null,null,3,"巨魔矛手","雪怪","雪原兽","雪怪","雪山蜘蛛","巨魔矛手","雪原兽",null,"雪山蜘蛛","雪原兽",{"$nulls":4},3,"木精灵","巨魔矛手","巨魔矛手","雪原兽","巨魔矛手","巨魔矛手","巨魔矛手","雪原兽",{"$nulls":5},3,"雪山蜘蛛","巨魔矛手","雪怪","雪原兽","雪怪","雪原兽","雪山蜘蛛","雪怪",{"$nulls":5},3,null,null,"木精灵","雪怪","雪山蜘蛛","雪原兽","雪怪","雪原兽"]
[null,null,5,null,"巨魔矛手","巨魔矛手","雪怪","雪山蜘蛛","雪怪","巨魔矛手","雪怪","雪山蜘蛛","雪怪",{"$nulls":4},5,"巨魔矛手",null,null,null,"木精灵","雪原兽","木精灵","木精灵",{"$nulls":5},5,"雪山蜘蛛",null,"雪怪","雪怪","巨魔矛手","雪怪","雪山蜘蛛","巨魔矛手",{"$nulls":5},5,"雪原兽",null,null,"雪怪","雪山蜘蛛",null,"雪怪","巨魔矛手"]
[null,null,7,"木精灵","雪怪","木精灵","雪怪",null,"雪怪","雪怪","巨魔矛手",null,"巨魔矛手",{"$nulls":4},7,{"$nulls":13},7,null,"木精灵",null,null,"雪怪","巨魔矛手",null,"巨魔矛手",{"$nulls":5},7,null,"巨魔矛手",null,null,null,"巨魔矛手","巨魔矛手","木精灵"]
[null,null,9,null,null,null,"巨魔矛手",null,"木精灵","雪怪","木精灵",{"$nulls":6},9,{"$nulls":13},9,null,null,null,"巨魔矛手","木精灵",null,null,"木精灵",{"$nulls":5},9,{"$nulls":5},"木精灵",null,"巨魔矛手"]
[]
[null,null,"位置",5,10,17,25,30,40,50,60,65,75,{"$nulls":4},"位置",5,10,15,25,40,56,73,80,{"$nulls":5},"位置",3,6,10,16,25,35,40,50,null,null,null,{"$f":"_xlfn.TEXTJOIN(\"^\",,AG83:AG97)","v":"101^102^104^105"},null,"位置",3,5,8,12,18,25,35,45,null,null,null,{"$f":"_xlfn.TEXTJOIN(\"^\",,AU83:AU97)","v":"4^1^5"}]
[null,null,8,null,null,null,{"$f":"$C83","v":8},null,{"$f":"$C83","v":8},8,8,{"$nulls":4},{"$f":"_xlfn.TEXTJOIN(\"^\",,D83:D97)","v":"6^2^1^3^7"},null,8,{"$nulls":13},8,null,null,null,{"$f":"$C83","v":8},{"$f":"$C83","v":8},null,null,{"$f":"$C83","v":8},null,null,null,{"$f":"_xlfn.TEXTJOIN(\"^\",,AH83:AH97)","v":"6^2^3^7"},null,8,{"$nulls":5},{"$f":"$C83","v":8},null,{"$f":"$C83","v":8},null,null,null,{"$f":"_xlfn.TEXTJOIN(\"^\",,AV83:AV97)","v":"6^1^7"}]
[null,null,6,{"$f":"$C84","v":6},{"$f":"$C84","v":6},{"$f":"$C84","v":6},6,null,6,6,6,null,{"$f":"$C84","v":6},null,null,{"$f":"_xlfn.TEXTJOIN(\"^\",,E83:E97)","v":"6^4^2^1^3^5^7"},null,6,{"$nulls":11},{"$f":"_xlfn.TEXTJOIN(\"^\",,S83:S97)","v":"0^0^0"},null,6,null,{"$f":"$C84","v":6},null,null,6,6,null,6,null,null,null,{"$f":"_xlfn.TEXTJOIN(\"^\",,AI83:AI97)","v":"4^2^1^3^5"},null,6,null,{"$f":"$C84","v":6},null,null,null,6,6,6,null,null,null,{"$f":"_xlfn.TEXTJOIN(\"^\",,AW83:AW97)","v":"2^3"}]
[null,null,4,null,4,4,4,null,4,4,4,null,4,null,null,{"$f":"_xlfn.TEXTJOIN(\"^\",,F83:F97)","v":"6^4^2^1^3^5^7"},null,4,{"$nulls":11},{"$f":"_xlfn.TEXTJOIN(\"^\",,T83:T97)","v":"0^0"},null,4,null,null,{"$f":"$C85","v":4},4,{"$f":"$C85","v":4},4,null,4,null,null,null,{"$f":"_xlfn.TEXTJOIN(\"^\",,AJ83:AJ97)","v":"8^4^2^1^3^5^9"},null,4,{"$f":"$C85","v":4},null,null,{"$f":"$C85","v":4},null,null,4,4,null,null,null,{"$f":"_xlfn.TEXTJOIN(\"^\",,AX83:AX97)","v":"4^2^3^5"}]
[null,null,2,{"$f":"$C86","v":2},2,{"$f":"$C86","v":2},2,null,2,2,null,null,2,null,null,{"$f":"_xlfn.TEXTJOIN(\"^\",,G83:G97)","v":"8^6^4^2^1^3^5^7^9"},null,2,{"$nulls":11},{"$f":"_xlfn.TEXTJOIN(\"^\",,U83:U97)","v":"100^0"},null,2,null,{"$f":"$C86","v":2},2,2,2,2,null,2,null,null,null,{"$f":"_xlfn.TEXTJOIN(\"^\",,AK83:AK97)","v":"8^6^4^2^1^3^5^7^9"},null,2,null,null,{"$f":"$C86","v":2},2,null,{"$f":"$C86","v":2},2,2,null,null,null,{"$f":"_xlfn.TEXTJOIN(\"^\",,AY83:AY97)","v":"101^102^104^105"}]
[null,null,1,{"$f":"$C87","v":1},1,1,1,null,1,1,{"$f":"$C87","v":1},null,1,null,null,{"$f":"_xlfn.TEXTJOIN(\"^\",,H83:H97)","v":"101^102^103^104^105"},null,1,0,0,100,0,0,0,0,100,null,null,null,{"$f":"_xlfn.TEXTJOIN(\"^\",,V83:V97)","v":"0^0"},null,1,null,null,1,1,{"$f":"$C87","v":1},1,null,1,null,null,null,{"$f":"_xlfn.TEXTJOIN(\"^\",,AL83:AL97)","v":"6^4^2^1^3^5^7"},null,1,{"$f":"$C87","v":1},1,{"$nulls":4},1,{"$nulls":4},{"$f":"_xlfn.TEXTJOIN(\"^\",,AZ83:AZ97)","v":"8^6^2^3^7^9"}]
[null,null,3,{"$f":"$C88","v":3},3,3,3,null,3,3,null,null,3,null,null,{"$f":"_xlfn.TEXTJOIN(\"^\",,I83:I97)","v":"8^6^4^2^1^3^5^7^9"},null,3,0,0,0,0,0,0,0,0,null,null,null,{"$f":"_xlfn.TEXTJOIN(\"^\",,W83:W97)","v":"0^0^0"},null,3,null,{"$f":"$C88","v":3},3,3,3,3,null,3,null,null,null,{"$f":"_xlfn.TEXTJOIN(\"^\",,AM83:AM97)","v":"101^102^103^104^105"},null,3,null,null,{"$f":"$C88","v":3},3,null,{"$f":"$C88","v":3},3,3,null,null,null,{"$f":"_xlfn.TEXTJOIN(\"^\",,BA83:BA97)","v":"6^4^2^1^3^5^7"}]
[null,null,5,null,5,5,5,null,5,5,5,null,5,null,null,{"$f":"_xlfn.TEXTJOIN(\"^\",,J83:J97)","v":"8^6^4^2^1^3^5^7^9"},null,5,0,null,null,null,0,0,0,0,null,null,null,{"$f":"_xlfn.TEXTJOIN(\"^\",,X83:X97)","v":"0^0^0"},null,5,null,null,5,5,5,5,null,5,null,null,null,{"$f":"_xlfn.TEXTJOIN(\"^\",,AN83:AN97)","v":"8^6^4^2^1^3^5^7^9"},null,5,{"$f":"$C89","v":5},null,null,5,null,null,5,5,null,null,null,{"$f":"_xlfn.TEXTJOIN(\"^\",,BB83:BB97)","v":"8^6^4^2^3^5^7^9"}]
[null,null,7,{"$f":"$C90","v":7},{"$f":"$C90","v":7},7,7,null,7,7,7,null,7,null,null,{"$f":"_xlfn.TEXTJOIN(\"^\",,K83:K97)","v":"8^6^4^1^5^7^9"},null,7,{"$nulls":11},{"$f":"_xlfn.TEXTJOIN(\"^\",,Y83:Y97)","v":"0^0^0"},null,7,null,{"$f":"$C90","v":7},null,null,7,7,null,7,null,null,null,{"$f":"_xlfn.TEXTJOIN(\"^\",,AO83:AO97)","v":""},null,7,null,{"$f":"$C90","v":7},null,null,null,{"$f":"$C90","v":7},7,7,null,null,null,{"$f":"_xlfn.TEXTJOIN(\"^\",,BC83:BC97)","v":""}]
[null,null,9,null,null,null,{"$f":"$C91","v":9},null,9,9,9,{"$nulls":4},{"$f":"_xlfn.TEXTJOIN(\"^\",,L83:L97)","v":"101^102^103^104^105"},null,9,{"$nulls":13},9,null,null,null,{"$f":"$C91","v":9},9,null,null,9,null,null,null,{"$f":"_xlfn.TEXTJOIN(\"^\",,AP83:AP97)","v":""},null,9,{"$nulls":5},9,null,9,null,null,null,{"$f":"_xlfn.TEXTJOIN(\"^\",,BD83:BD97)","v":""}]
[null,null,"空降",{"$nulls":12},{"$f":"_xlfn.TEXTJOIN(\"^\",,M83:M97)","v":"6^4^2^1^3^5^7"},null,"空降",{"$nulls":13},"空降",{"$nulls":11},{"$f":"_xlfn.TEXTJOIN(\"^\",,AQ83:AQ91)","v":""},null,"空降",{"$nulls":11},{"$f":"_xlfn.TEXTJOIN(\"^\",,BE83:BE91)","v":""}]
[null,null,101,{"$nulls":4},{"$f":"$C93","v":101},null,null,null,{"$f":"$C93","v":101},null,null,null,{"$f":"_xlfn.TEXTJOIN(\"^\",,N83:N97)","v":""},null,101,{"$nulls":11},{"$f":"_xlfn.TEXTJOIN(\"^\",,Z83:Z97)","v":"100^0^0"},null,101,{"$f":"$C93","v":101},{"$nulls":5},{"$f":"$C93","v":101},{"$nulls":6},101,{"$nulls":4},{"$f":"$C93","v":101}]
[null,null,102,{"$nulls":4},102,null,null,null,102,{"$nulls":5},102,{"$nulls":11},{"$f":"_xlfn.TEXTJOIN(\"^\",,AA83:AA97)","v":""},null,102,102,{"$nulls":5},102,{"$nulls":6},102,{"$nulls":4},102]
[null,null,103,{"$nulls":4},103,null,null,null,103,{"$nulls":5},103,{"$nulls":11},{"$f":"_xlfn.TEXTJOIN(\"^\",,AB83:AB97)","v":""},null,103,{"$nulls":6},103,{"$nulls":6},103]
[null,null,104,{"$nulls":4},104,null,null,null,104,{"$nulls":5},104,{"$nulls":13},104,{"$f":"$C96","v":104},{"$nulls":5},104,{"$nulls":6},104,{"$nulls":4},{"$f":"$C96","v":104}]
[null,null,105,{"$nulls":4},105,null,null,null,105,{"$nulls":5},105,{"$nulls":13},105,105,{"$nulls":5},105,{"$nulls":6},105,{"$nulls":4},105]
[{"$nulls":14},"最终",{"$f":"_xlfn.TEXTJOIN(\"^\",,P83:P97)","v":"6^2^1^3^7^6^4^2^1^3^5^7^6^4^2^1^3^5^7^8^6^4^2^1^3^5^7^9^101^102^103^104^105^8^6^4^2^1^3^5^7^9^8^6^4^2^1^3^5^7^9^8^6^4^1^5^7^9^101^102^103^104^105^6^4^2^1^3^5^7"},{"$nulls":12},"最终",{"$f":"_xlfn.TEXTJOIN(\"^\",,AD83:AD97)","v":"0^0^0^0^0^100^0^0^0^0^0^0^0^0^0^0^0^0^100^0^0"},{"$nulls":12},"最终",{"$f":"_xlfn.TEXTJOIN(\"^\",,AR82:AR97)","v":"101^102^104^105^6^2^3^7^4^2^1^3^5^8^4^2^1^3^5^9^8^6^4^2^1^3^5^7^9^6^4^2^1^3^5^7^101^102^103^104^105^8^6^4^2^1^3^5^7^9"},{"$nulls":12},"最终",{"$f":"_xlfn.TEXTJOIN(\"^\",,BF82:BF97)","v":"4^1^5^6^1^7^2^3^4^2^3^5^101^102^104^105^8^6^2^3^7^9^6^4^2^1^3^5^7^8^6^4^2^3^5^7^9"}]
[]
[null,null,"时间",5,10,17,25,30,40,50,60,65,75,{"$nulls":4},"时间",5,10,15,25,40,56,73,80,null,null,null,{"$f":"_xlfn.TEXTJOIN(\"^\",,S101:S109)","v":"18^6^4"},null,"时间",3,6,10,16,25,35,40,50,null,null,null,{"$f":"_xlfn.TEXTJOIN(\"^\",,AG101:AG109)","v":"3^3^3^3"},null,"时间",3,5,8,12,18,25,35,45,null,null,null,{"$f":"_xlfn.TEXTJOIN(\"^\",,AU101:AU109)","v":"3^3^3"}]
[null,null,8,null,null,null,{"$f":"G$100","v":25},null,{"$f":"I$100","v":40},50,60,{"$nulls":4},{"$f":"_xlfn.TEXTJOIN(\"^\",,D101:D110)","v":"5^5^5^5^5"},null,8,{"$nulls":11},{"$f":"_xlfn.TEXTJOIN(\"^\",,T101:T109)","v":"13^3"},null,8,null,null,null,{"$f":"AJ$100","v":16},{"$f":"AK$100","v":25},null,null,{"$f":"AN$100","v":50},null,null,null,{"$f":"_xlfn.TEXTJOIN(\"^\",,AH101:AH109)","v":"6^6^6^6"},null,8,{"$nulls":5},{"$f":"AZ$100","v":25},null,{"$f":"BB$100","v":45},null,null,null,{"$f":"_xlfn.TEXTJOIN(\"^\",,AV101:AV109)","v":"5^5^5"}]
[null,null,6,{"$f":"D$100","v":5},{"$f":"E$100","v":10},{"$f":"F$100","v":17},25,null,40,50,60,null,{"$f":"M$100","v":75},null,null,{"$f":"_xlfn.TEXTJOIN(\"^\",,E101:E110)","v":"10^10^10^10^10^10^10"},null,6,{"$nulls":11},{"$f":"_xlfn.TEXTJOIN(\"^\",,U101:U109)","v":"8^4"},null,6,null,{"$f":"AH$100","v":6},null,null,25,35,null,50,null,null,null,{"$f":"_xlfn.TEXTJOIN(\"^\",,AI101:AI109)","v":"10^10^10^10^10"},null,6,null,{"$f":"AV$100","v":5},null,null,null,25,35,45,null,null,null,{"$f":"_xlfn.TEXTJOIN(\"^\",,AW101:AW109)","v":"8^8"}]
[null,null,4,null,10,17,25,30,40,50,60,65,75,null,null,{"$f":"_xlfn.TEXTJOIN(\"^\",,F101:F110)","v":"17^17^17^17^17^17^17"},null,4,{"$nulls":11},{"$f":"_xlfn.TEXTJOIN(\"^\",,V101:V109)","v":"14^3"},null,4,{"$f":"AG$100","v":3},null,{"$f":"AI$100","v":10},16,25,35,40,50,null,null,null,{"$f":"_xlfn.TEXTJOIN(\"^\",,AJ101:AJ109)","v":"16^16^16^16^16^16^16"},null,4,{"$f":"AU$100","v":3},null,null,{"$f":"AX$100","v":12},18,null,35,45,null,null,null,{"$f":"_xlfn.TEXTJOIN(\"^\",,AX101:AX109)","v":"12^12^12^12"}]
[null,null,2,{"$f":"D$100","v":5},10,17,25,30,40,50,null,65,75,null,null,{"$f":"_xlfn.TEXTJOIN(\"^\",,G101:G110)","v":"25^25^25^25^25^25^25^25^25"},null,2,{"$nulls":11},{"$f":"_xlfn.TEXTJOIN(\"^\",,W101:W109)","v":"14^3^2"},null,2,3,{"$f":"AH$100","v":6},10,16,25,35,40,50,null,null,null,{"$f":"_xlfn.TEXTJOIN(\"^\",,AK101:AK109)","v":"25^25^25^25^25^25^25^25^25"},null,2,null,null,{"$f":"AW$100","v":8},12,18,{"$f":"AZ$100","v":25},35,45,null,null,null,{"$f":"_xlfn.TEXTJOIN(\"^\",,AY101:AY109)","v":"18^18^18^18"}]
[null,null,1,5,10,17,25,30,40,50,{"$f":"K$100","v":60},65,75,null,null,{"$f":"_xlfn.TEXTJOIN(\"^\",,H101:H110)","v":"30^30^30^30^30"},null,1,18,13,8,14,14,14,15,9,null,null,null,{"$f":"_xlfn.TEXTJOIN(\"^\",,X101:X109)","v":"14^3^3"},null,1,null,null,10,16,{"$f":"AK$100","v":25},35,40,50,null,null,null,{"$f":"_xlfn.TEXTJOIN(\"^\",,AL101:AL109)","v":"35^35^35^35^35^35^35"},null,1,{"$f":"AU$100","v":3},{"$f":"AV$100","v":5},{"$nulls":4},35,{"$nulls":4},{"$f":"_xlfn.TEXTJOIN(\"^\",,AZ101:AZ109)","v":"25^25^25^25^25^25"}]
[null,null,3,5,10,17,25,30,40,50,null,65,75,null,null,{"$f":"_xlfn.TEXTJOIN(\"^\",,I101:I110)","v":"40^40^40^40^40^40^40^40^40"},null,3,6,3,4,3,3,3,4,3,null,null,null,{"$f":"_xlfn.TEXTJOIN(\"^\",,Y101:Y109)","v":"15^4^2"},null,3,{"$f":"AG$100","v":3},{"$f":"AH$100","v":6},10,16,25,35,40,50,null,null,null,{"$f":"_xlfn.TEXTJOIN(\"^\",,AM101:AM109)","v":"40^40^40^40^40"},null,3,null,null,{"$f":"AW$100","v":8},{"$f":"AX$100","v":12},18,{"$f":"AZ$100","v":25},35,45,null,null,null,{"$f":"_xlfn.TEXTJOIN(\"^\",,BA101:BA109)","v":"35^35^35^35^35^35^35"}]
[null,null,5,null,10,17,25,30,40,50,60,65,75,null,null,{"$f":"_xlfn.TEXTJOIN(\"^\",,J101:J110)","v":"50^50^50^50^50^50^50^50^50"},null,5,4,null,null,null,2,3,2,2,null,null,null,{"$f":"_xlfn.TEXTJOIN(\"^\",,Z101:Z109)","v":"9^3^2"},null,5,3,null,10,16,25,35,40,50,null,null,null,{"$f":"_xlfn.TEXTJOIN(\"^\",,AN101:AN109)","v":"50^50^50^50^50^50^50^50^50"},null,5,{"$f":"AU$100","v":3},null,null,12,18,null,35,45,null,null,null,{"$f":"_xlfn.TEXTJOIN(\"^\",,BB101:BB109)","v":"45^45^45^45^45^45^45^45"}]
[null,null,7,{"$f":"D$100","v":5},{"$f":"E$100","v":10},17,25,null,40,50,60,null,75,null,null,{"$f":"_xlfn.TEXTJOIN(\"^\",,K101:K110)","v":"60^60^60^60^60^60^60"},null,7,{"$nulls":11},{"$f":"_xlfn.TEXTJOIN(\"^\",,AA101:AA109)","v":""},null,7,null,{"$f":"AH$100","v":6},null,null,25,35,null,50,null,null,null,{"$f":"_xlfn.TEXTJOIN(\"^\",,AO101:AO109)","v":""},null,7,null,{"$f":"AV$100","v":5},null,null,null,{"$f":"AZ$100","v":25},35,45,null,null,null,{"$f":"_xlfn.TEXTJOIN(\"^\",,BC101:BC109)","v":""}]
[null,null,9,null,null,null,{"$f":"G$100","v":25},null,40,50,60,{"$nulls":4},{"$f":"_xlfn.TEXTJOIN(\"^\",,L101:L110)","v":"65^65^65^65^65"},null,9,{"$nulls":11},{"$f":"_xlfn.TEXTJOIN(\"^\",,AB101:AB109)","v":""},null,9,null,null,null,{"$f":"AJ$100","v":16},25,null,null,50,null,null,null,{"$f":"_xlfn.TEXTJOIN(\"^\",,AP101:AP109)","v":""},null,9,{"$nulls":5},25,null,45,null,null,null,{"$f":"_xlfn.TEXTJOIN(\"^\",,BD101:BD109)","v":""}]
[{"$nulls":15},{"$f":"_xlfn.TEXTJOIN(\"^\",,M101:M110)","v":"75^75^75^75^75^75^75"},{"$nulls":13},{"$f":"_xlfn.TEXTJOIN(\"^\",,AC101:AC109)","v":""},{"$nulls":13},{"$f":"_xlfn.TEXTJOIN(\"^\",,AQ101:AQ109)","v":""},{"$nulls":13},{"$f":"_xlfn.TEXTJOIN(\"^\",,BE101:BE109)","v":""}]
[{"$nulls":15},{"$f":"_xlfn.TEXTJOIN(\"^\",,N101:N110)","v":""},{"$nulls":12},"最终",{"$f":"_xlfn.TEXTJOIN(\"^\",,AD100:AD110)","v":"18^6^4^13^3^8^4^14^3^14^3^2^14^3^3^15^4^2^9^3^2"},{"$nulls":12},"最终",{"$f":"_xlfn.TEXTJOIN(\"^\",,AR100:AR110)","v":"3^3^3^3^6^6^6^6^10^10^10^10^10^16^16^16^16^16^16^16^25^25^25^25^25^25^25^25^25^35^35^35^35^35^35^35^40^40^40^40^40^50^50^50^50^50^50^50^50^50"},{"$nulls":12},"最终",{"$f":"_xlfn.TEXTJOIN(\"^\",,BF100:BF110)","v":"3^3^3^5^5^5^8^8^12^12^12^12^18^18^18^18^25^25^25^25^25^25^35^35^35^35^35^35^35^45^45^45^45^45^45^45^45"}]
[{"$nulls":14},"最终",{"$f":"_xlfn.TEXTJOIN(\"^\",,P101:P111)","v":"5^5^5^5^5^10^10^10^10^10^10^10^17^17^17^17^17^17^17^25^25^25^25^25^25^25^25^25^30^30^30^30^30^40^40^40^40^40^40^40^40^40^50^50^50^50^50^50^50^50^50^60^60^60^60^60^60^60^65^65^65^65^65^75^75^75^75^75^75^75"}]
[{"$nulls":14},{"$f":"COUNT(D101:N110)","v":70},{"$nulls":13},{"$f":"SUM(S101:AB110)","v":147},{"$nulls":13},{"$f":"COUNT(AG101:AP110)","v":50},{"$nulls":13},{"$f":"COUNT(AU101:BD110)","v":37},{"$f":"AQ113+BE113+AC113+O113","v":304}]
[{"$nulls":4},{"$f":"E115-D115","v":10},{"$f":"F115-E115","v":15},5,15,16,17,17,5,15,{"$nulls":6},{"$f":"T115-S115","v":5},5,7,8,10,5,10,{"$nulls":7},{"$f":"AH115-AG115","v":6},5,15,16,4,15,15,{"$nulls":7},{"$f":"AV115-AU115","v":2},3,4,6,7,10,10]
[3,"冰原-3","波1·怪物",5,15,30,35,50,66,83,100,105,120,null,null,null,1,"波2·怪物",5,10,15,22,30,40,45,55,{"$nulls":4},3,"波3·怪物",4,10,15,30,46,50,65,80,{"$nulls":4},1,"波4·怪物",3,5,8,12,18,25,35,45]
[null,"5m",8,{"$nulls":12},{"$f":"_xlfn.TEXTJOIN(\"^\",,D116:D125)","v":"70361^70364"},null,8,null,null,null,70364,null,70362,{"$nulls":5},{"$f":"_xlfn.TEXTJOIN(\"^\",,S116:S125)","v":"70365^70365^70365^70365"},null,8,{"$nulls":11},{"$f":"_xlfn.TEXTJOIN(\"^\",,AG116:AG125)","v":"70361^70362^70364"},null,8,{"$nulls":5},70362,null,70364,null,null,null,{"$f":"_xlfn.TEXTJOIN(\"^\",,AU116:AU125)","v":"70364^70363^70363^70364"}]
[null,null,6,{"$nulls":12},{"$f":"_xlfn.TEXTJOIN(\"^\",,E116:E125)","v":"70361^70362"},null,6,null,70362,70364,null,70362,null,null,70364,null,null,null,{"$f":"_xlfn.TEXTJOIN(\"^\",,T116:T125)","v":"70362^70362^70362^70362"},null,6,{"$nulls":11},{"$f":"_xlfn.TEXTJOIN(\"^\",,AH116:AH125)","v":"70361^70363"},null,6,null,70362,null,70361,70364,null,70362,70362,null,null,null,{"$f":"_xlfn.TEXTJOIN(\"^\",,AV116:AV125)","v":"70362^70362^70362"}]
[null,null,4,{"$nulls":12},{"$f":"_xlfn.TEXTJOIN(\"^\",,F116:F125)","v":"70361^70362^70363"},null,4,70365,null,null,70362,70362,70361,70365,70362,null,null,null,{"$f":"_xlfn.TEXTJOIN(\"^\",,U116:U125)","v":"70364^70363^70363^70364"},null,4,{"$nulls":11},{"$f":"_xlfn.TEXTJOIN(\"^\",,AI116:AI125)","v":"70365^70362^70361"},null,4,70364,null,70365,70361,70362,70361,70361,70361,null,null,null,{"$f":"_xlfn.TEXTJOIN(\"^\",,AW116:AW125)","v":"70365^70365^70365^70365"}]
[null,null,2,{"$nulls":12},{"$f":"_xlfn.TEXTJOIN(\"^\",,G116:G125)","v":"70365^70363^70364"},null,2,70365,null,70363,70361,70363,70363,70365,{"$nulls":4},{"$f":"_xlfn.TEXTJOIN(\"^\",,V116:V125)","v":"70364^70362^70361^70361^70361^70362^70364"},null,2,{"$nulls":11},{"$f":"_xlfn.TEXTJOIN(\"^\",,AJ116:AJ125)","v":"70361^70363^70362^70364"},null,2,70363,null,70365,null,70363,70361,70361,70363,null,null,null,{"$f":"_xlfn.TEXTJOIN(\"^\",,AX116:AX125)","v":"70361^70361^70361^70361^70361"}]
[null,null,1,70361,70361,70361,70365,70361,70361,70361,70361,70365,70361,null,null,{"$f":"_xlfn.TEXTJOIN(\"^\",,H116:H125)","v":"70361^70362"},null,1,null,70362,null,70361,70364,70363,70365,70366,null,null,null,{"$f":"_xlfn.TEXTJOIN(\"^\",,W116:W125)","v":"70362^70362^70363^70364^70363^70362^70362"},null,1,70361,70361,70365,70361,70361,70365,70361,70361,null,null,null,{"$f":"_xlfn.TEXTJOIN(\"^\",,AK116:AK125)","v":"70361^70362"},null,1,null,70362,null,70361,null,70364,70363,{"$nulls":4},{"$f":"_xlfn.TEXTJOIN(\"^\",,AY116:AY125)","v":"70364^70362^70363^70363^70362^70364"}]
[null,null,3,70364,70362,70362,70363,70362,70362,70362,70363,70362,70362,null,null,{"$f":"_xlfn.TEXTJOIN(\"^\",,I116:I125)","v":"70361^70362^70363^70364"},null,3,70365,70362,70363,70361,70363,70363,70365,{"$nulls":4},{"$f":"_xlfn.TEXTJOIN(\"^\",,X116:X125)","v":"70362^70361^70363^70363^70363^70361^70362"},null,3,70362,70363,70362,70363,70362,70363,70362,70362,null,null,null,{"$f":"_xlfn.TEXTJOIN(\"^\",,AL116:AL125)","v":"70365^70363^70364"},null,3,70363,null,70365,null,70363,70361,70361,70363,null,null,null,{"$f":"_xlfn.TEXTJOIN(\"^\",,AZ116:AZ125)","v":"70362^70361^70361^70364^70361^70361^70362"}]
[null,null,5,null,null,70363,70364,null,70363,null,70364,null,70363,null,null,{"$f":"_xlfn.TEXTJOIN(\"^\",,J116:J125)","v":"70361^70362"},null,5,70365,null,null,70362,70362,70361,70365,70362,null,null,null,{"$f":"_xlfn.TEXTJOIN(\"^\",,Y116:Y125)","v":"70365^70365^70365^70365^70365"},null,5,70364,null,70361,70362,null,70364,70363,{"$nulls":4},{"$f":"_xlfn.TEXTJOIN(\"^\",,AM116:AM125)","v":"70361^70362^70363^70364"},null,5,70364,null,70365,70361,70362,70361,70361,70361,null,null,null,{"$f":"_xlfn.TEXTJOIN(\"^\",,BA116:BA125)","v":"70362^70361^70361^70363^70361^70361^70362"}]
[null,null,7,{"$nulls":5},70364,null,null,null,70364,null,null,{"$f":"_xlfn.TEXTJOIN(\"^\",,K116:K125)","v":"70361^70363^70364"},null,7,null,70362,70364,null,70362,null,null,70364,null,null,null,{"$f":"_xlfn.TEXTJOIN(\"^\",,Z116:Z125)","v":"70364^70362^70366^70362^70364"},null,7,null,null,null,70364,null,null,70364,{"$nulls":4},{"$f":"_xlfn.TEXTJOIN(\"^\",,AN116:AN125)","v":"70361^70362"},null,7,null,70362,null,70361,70364,null,70362,70362,null,null,null,{"$f":"_xlfn.TEXTJOIN(\"^\",,BB116:BB125)","v":"70364^70362^70361^70363^70363^70361^70362^70364"}]
[null,null,9,{"$nulls":12},{"$f":"_xlfn.TEXTJOIN(\"^\",,L116:L125)","v":"70365^70362"},null,9,null,null,null,70364,null,70362,{"$nulls":5},{"$f":"_xlfn.TEXTJOIN(\"^\",,AA116:AA125)","v":""},null,9,{"$nulls":11},{"$f":"_xlfn.TEXTJOIN(\"^\",,AO116:AO125)","v":""},null,9,{"$nulls":5},70362,null,70364,null,null,null,{"$f":"_xlfn.TEXTJOIN(\"^\",,BC116:BC125)","v":""}]
[{"$nulls":15},{"$f":"_xlfn.TEXTJOIN(\"^\",,M116:M125)","v":"70361^70362^70363^70364"},{"$nulls":13},{"$f":"_xlfn.TEXTJOIN(\"^\",,AB116:AB125)","v":""},{"$nulls":13},{"$f":"_xlfn.TEXTJOIN(\"^\",,AP116:AP125)","v":""},{"$nulls":13},{"$f":"_xlfn.TEXTJOIN(\"^\",,BD116:BD125)","v":""}]
[{"$nulls":15},{"$f":"_xlfn.TEXTJOIN(\"^\",,N116:N125)","v":""},{"$nulls":13},{"$f":"_xlfn.TEXTJOIN(\"^\",,AC116:AC125)","v":""},{"$nulls":13},{"$f":"_xlfn.TEXTJOIN(\"^\",,AQ116:AQ125)","v":""},{"$nulls":13},{"$f":"_xlfn.TEXTJOIN(\"^\",,BE116:BE125)","v":""}]
[{"$nulls":14},"最终",{"$f":"_xlfn.TEXTJOIN(\"^\",,P116:P126)","v":"70361^70364^70361^70362^70361^70362^70363^70365^70363^70364^70361^70362^70361^70362^70363^70364^70361^70362^70361^70363^70364^70365^70362^70361^70362^70363^70364"},{"$nulls":12},"最终",{"$f":"_xlfn.TEXTJOIN(\"^\",,AD116:AD126)","v":"70365^70365^70365^70365^70362^70362^70362^70362^70364^70363^70363^70364^70364^70362^70361^70361^70361^70362^70364^70362^70362^70363^70364^70363^70362^70362^70362^70361^70363^70363^70363^70361^70362^70365^70365^70365^70365^70365^70364^70362^70366^70362^70364"},{"$nulls":12},"最终",{"$f":"_xlfn.TEXTJOIN(\"^\",,AR116:AR126)","v":"70361^70362^70364^70361^70363^70365^70362^70361^70361^70363^70362^70364^70361^70362^70365^70363^70364^70361^70362^70363^70364^70361^70362"},{"$nulls":12},"最终",{"$f":"_xlfn.TEXTJOIN(\"^\",,BF116:BF126)","v":"70364^70363^70363^70364^70362^70362^70362^70365^70365^70365^70365^70361^70361^70361^70361^70361^70364^70362^70363^70363^70362^70364^70362^70361^70361^70364^70361^70361^70362^70362^70361^70361^70363^70361^70361^70362^70364^70362^70361^70363^70363^70361^70362^70364"}]
[null,null,8,{"$nulls":14},8,null,null,null,"木精灵",null,"巨魔矛手",{"$nulls":7},8,{"$nulls":13},8,{"$nulls":5},"巨魔矛手",null,"木精灵"]
[null,null,6,{"$nulls":14},6,null,"巨魔矛手","木精灵",null,"巨魔矛手",null,null,"木精灵",{"$nulls":5},6,{"$nulls":13},6,null,"巨魔矛手",null,"雪怪","木精灵",null,"巨魔矛手","巨魔矛手"]
[null,null,4,{"$nulls":14},4,"雪山蜘蛛",null,null,"巨魔矛手","巨魔矛手","雪怪","雪山蜘蛛","巨魔矛手",{"$nulls":5},4,{"$nulls":13},4,"木精灵",null,"雪山蜘蛛","雪怪","巨魔矛手","雪怪","雪怪","雪怪"]
[null,null,2,{"$nulls":14},2,"雪山蜘蛛",null,"雪原兽","雪怪","雪原兽","雪原兽","雪山蜘蛛",{"$nulls":6},2,{"$nulls":13},2,"雪原兽",null,"雪山蜘蛛",null,"雪原兽","雪怪","雪怪","雪原兽"]
[null,null,1,"雪怪","雪怪","雪怪","雪山蜘蛛","雪怪","雪怪","雪怪","雪怪","雪山蜘蛛","雪怪",{"$nulls":4},1,null,"巨魔矛手",null,"雪怪","木精灵","雪原兽","雪山蜘蛛","冰霜巨人",{"$nulls":5},1,"雪怪","雪怪","雪山蜘蛛","雪怪","雪怪","雪山蜘蛛","雪怪","雪怪",{"$nulls":5},1,null,"巨魔矛手",null,"雪怪",null,"木精灵","雪原兽"]
[null,null,3,"木精灵","巨魔矛手","巨魔矛手","雪原兽","巨魔矛手","巨魔矛手","巨魔矛手","雪原兽","巨魔矛手","巨魔矛手",{"$nulls":4},3,"雪山蜘蛛","巨魔矛手","雪原兽","雪怪","雪原兽","雪原兽","雪山蜘蛛",{"$nulls":6},3,"巨魔矛手","雪原兽","巨魔矛手","雪原兽","巨魔矛手","雪原兽","巨魔矛手","巨魔矛手",{"$nulls":5},3,"雪原兽",null,"雪山蜘蛛",null,"雪原兽","雪怪","雪怪","雪原兽"]
[null,null,5,null,null,"雪原兽","木精灵",null,"雪原兽",null,"木精灵",null,"雪原兽",{"$nulls":4},5,"雪山蜘蛛",null,null,"巨魔矛手","巨魔矛手","雪怪","雪山蜘蛛","巨魔矛手",{"$nulls":5},5,"木精灵",null,"雪怪","巨魔矛手",null,"木精灵","雪原兽",{"$nulls":6},5,"木精灵",null,"雪山蜘蛛","雪怪","巨魔矛手","雪怪","雪怪","雪怪"]
[null,null,7,{"$nulls":5},"木精灵",null,null,null,"木精灵",{"$nulls":4},7,null,"巨魔矛手","木精灵",null,"巨魔矛手",null,null,"木精灵",{"$nulls":5},7,null,null,null,"木精灵",null,null,"木精灵",{"$nulls":6},7,null,"巨魔矛手",null,"雪怪","木精灵",null,"巨魔矛手","巨魔矛手"]
[null,null,9,{"$nulls":14},9,null,null,null,"木精灵",null,"巨魔矛手",{"$nulls":7},9,{"$nulls":13},9,{"$nulls":5},"巨魔矛手",null,"木精灵"]
[]
[null,null,"位置",5,15,30,35,50,66,83,100,105,120,{"$nulls":4},"位置",5,10,15,22,30,40,45,55,{"$nulls":5},"位置",4,10,15,30,46,50,65,80,null,null,null,{"$f":"_xlfn.TEXTJOIN(\"^\",,AG139:AG153)","v":"0^0^0"},null,"位置",3,5,8,12,18,25,35,45,null,null,null,{"$f":"_xlfn.TEXTJOIN(\"^\",,AU139:AU153)","v":"4^2^3^5"}]
[null,null,8,{"$nulls":12},{"$f":"_xlfn.TEXTJOIN(\"^\",,D139:D153)","v":"0^0"},null,8,null,null,null,{"$f":"$C139","v":8},null,{"$f":"$C139","v":8},{"$nulls":7},8,{"$nulls":11},{"$f":"_xlfn.TEXTJOIN(\"^\",,AH139:AH153)","v":"0^0"},null,8,{"$nulls":5},{"$f":"$C139","v":8},null,{"$f":"$C139","v":8},null,null,null,{"$f":"_xlfn.TEXTJOIN(\"^\",,AV139:AV153)","v":"6^1^7"}]
[null,null,6,{"$nulls":12},{"$f":"_xlfn.TEXTJOIN(\"^\",,E139:E153)","v":"0^0"},null,6,null,{"$f":"$C140","v":6},{"$f":"$C140","v":6},null,{"$f":"$C140","v":6},null,null,{"$f":"$C140","v":6},null,null,null,{"$f":"_xlfn.TEXTJOIN(\"^\",,S139:S153)","v":"101^102^104^105"},null,6,{"$nulls":11},{"$f":"_xlfn.TEXTJOIN(\"^\",,AI139:AI153)","v":"100^0^0"},null,6,null,{"$f":"$C140","v":6},null,{"$f":"$C140","v":6},6,null,{"$f":"$C140","v":6},6,null,null,null,{"$f":"_xlfn.TEXTJOIN(\"^\",,AW139:AW153)","v":"101^102^104^105"}]
[null,null,4,{"$nulls":12},{"$f":"_xlfn.TEXTJOIN(\"^\",,F139:F153)","v":"0^0^0"},null,4,null,null,null,{"$f":"$C141","v":4},4,4,null,4,null,null,null,{"$f":"_xlfn.TEXTJOIN(\"^\",,T139:T153)","v":"6^1^3^7"},null,4,{"$nulls":11},{"$f":"_xlfn.TEXTJOIN(\"^\",,AJ139:AJ153)","v":"0^0^0^0"},null,4,{"$f":"$C141","v":4},null,null,4,4,4,4,4,null,null,null,{"$f":"_xlfn.TEXTJOIN(\"^\",,AX139:AX153)","v":"6^4^1^5^7"}]
[null,null,2,{"$nulls":12},{"$f":"_xlfn.TEXTJOIN(\"^\",,G139:G153)","v":"100^0^0"},null,2,null,null,{"$f":"$C142","v":2},2,2,2,{"$nulls":5},{"$f":"_xlfn.TEXTJOIN(\"^\",,U139:U153)","v":"6^2^3^7"},null,2,{"$nulls":11},{"$f":"_xlfn.TEXTJOIN(\"^\",,AK139:AK153)","v":"0^0"},null,2,2,null,null,null,{"$f":"$C142","v":2},2,2,2,null,null,null,{"$f":"_xlfn.TEXTJOIN(\"^\",,AY139:AY153)","v":"6^4^2^3^5^7"}]
[null,null,1,0,0,0,100,0,0,0,0,100,0,null,null,{"$f":"_xlfn.TEXTJOIN(\"^\",,H139:H153)","v":"0^0"},null,1,null,{"$f":"$C143","v":1},null,1,1,1,null,{"$f":"$C143","v":1},null,null,null,{"$f":"_xlfn.TEXTJOIN(\"^\",,V139:V153)","v":"8^4^2^1^3^5^9"},null,1,0,0,100,0,0,100,0,0,null,null,null,{"$f":"_xlfn.TEXTJOIN(\"^\",,AL139:AL153)","v":"100^0^0"},null,1,null,{"$f":"$C143","v":1},null,{"$f":"$C143","v":1},null,1,1,{"$nulls":4},{"$f":"_xlfn.TEXTJOIN(\"^\",,AZ139:AZ153)","v":"8^4^2^1^3^5^9"}]
[null,null,3,0,0,0,0,0,0,0,0,0,0,null,null,{"$f":"_xlfn.TEXTJOIN(\"^\",,I139:I153)","v":"0^0^0^0"},null,3,null,{"$f":"$C144","v":3},{"$f":"$C144","v":3},3,3,3,{"$nulls":5},{"$f":"_xlfn.TEXTJOIN(\"^\",,W139:W153)","v":"6^4^2^1^3^5^7"},null,3,0,0,0,0,0,0,0,0,null,null,null,{"$f":"_xlfn.TEXTJOIN(\"^\",,AM139:AM153)","v":"0^0^0^0"},null,3,{"$f":"$C144","v":3},null,null,null,{"$f":"$C144","v":3},3,3,3,null,null,null,{"$f":"_xlfn.TEXTJOIN(\"^\",,BA139:BA153)","v":"6^4^2^1^3^5^7"}]
[null,null,5,null,null,0,0,null,0,null,0,null,0,null,null,{"$f":"_xlfn.TEXTJOIN(\"^\",,J139:J153)","v":"0^0"},null,5,null,null,null,5,5,5,null,{"$f":"$C145","v":5},null,null,null,{"$f":"_xlfn.TEXTJOIN(\"^\",,X139:X153)","v":"8^4^2^1^3^5^9"},null,5,0,null,0,0,null,0,0,{"$nulls":4},{"$f":"_xlfn.TEXTJOIN(\"^\",,AN139:AN153)","v":"0^0"},null,5,5,null,null,{"$f":"$C145","v":5},5,5,5,5,null,null,null,{"$f":"_xlfn.TEXTJOIN(\"^\",,BB139:BB153)","v":"8^6^4^2^3^5^7^9"}]
[null,null,7,{"$nulls":5},0,null,null,null,0,null,null,{"$f":"_xlfn.TEXTJOIN(\"^\",,K139:K153)","v":"0^0^0"},null,7,null,{"$f":"$C146","v":7},{"$f":"$C146","v":7},null,7,null,null,7,null,null,null,{"$f":"_xlfn.TEXTJOIN(\"^\",,Y139:Y153)","v":"101^102^103^104^105"},null,7,null,null,null,0,null,null,0,{"$nulls":4},{"$f":"_xlfn.TEXTJOIN(\"^\",,AO139:AO153)","v":""},null,7,null,{"$f":"$C146","v":7},null,7,7,null,7,7,null,null,null,{"$f":"_xlfn.TEXTJOIN(\"^\",,BC139:BC153)","v":""}]
[null,null,9,{"$nulls":12},{"$f":"_xlfn.TEXTJOIN(\"^\",,L139:L153)","v":"100^0"},null,9,null,null,null,{"$f":"$C147","v":9},null,{"$f":"$C147","v":9},{"$nulls":7},9,{"$nulls":11},{"$f":"_xlfn.TEXTJOIN(\"^\",,AP139:AP153)","v":""},null,9,{"$nulls":5},{"$f":"$C147","v":9},null,9,null,null,null,{"$f":"_xlfn.TEXTJOIN(\"^\",,BD139:BD153)","v":""}]
[null,null,"空降",{"$nulls":12},{"$f":"_xlfn.TEXTJOIN(\"^\",,M139:M153)","v":"0^0^0^0"},null,"空降",{"$nulls":13},"空降",{"$nulls":11},{"$f":"_xlfn.TEXTJOIN(\"^\",,AQ139:AQ147)","v":""},null,"空降",{"$nulls":11},{"$f":"_xlfn.TEXTJOIN(\"^\",,BE139:BE147)","v":""}]
[null,null,101,{"$nulls":12},{"$f":"_xlfn.TEXTJOIN(\"^\",,N139:N153)","v":""},null,101,{"$f":"$C149","v":101},{"$nulls":5},{"$f":"$C149","v":101},{"$nulls":4},{"$f":"_xlfn.TEXTJOIN(\"^\",,Z139:Z153)","v":"6^4^1^5^7"},null,101,{"$nulls":13},101,null,null,{"$f":"$C149","v":101}]
[null,null,102,{"$nulls":14},102,102,{"$nulls":5},102,{"$nulls":4},{"$f":"_xlfn.TEXTJOIN(\"^\",,AA139:AA153)","v":""},null,102,{"$nulls":13},102,null,null,102]
[null,null,103,{"$nulls":14},103,{"$nulls":6},103,{"$nulls":4},{"$f":"_xlfn.TEXTJOIN(\"^\",,AB139:AB153)","v":""},null,103,{"$nulls":13},103]
[null,null,104,{"$nulls":14},104,{"$f":"$C152","v":104},{"$nulls":5},104,{"$nulls":6},104,{"$nulls":13},104,null,null,{"$f":"$C152","v":104}]
[null,null,105,{"$nulls":14},105,105,{"$nulls":5},105,{"$nulls":6},105,{"$nulls":13},105,null,null,105]
[{"$nulls":14},"最终",{"$f":"_xlfn.TEXTJOIN(\"^\",,P139:P153)","v":"0^0^0^0^0^0^0^100^0^0^0^0^0^0^0^0^0^0^0^0^0^100^0^0^0^0^0"},{"$nulls":12},"最终",{"$f":"_xlfn.TEXTJOIN(\"^\",,AD139:AD153)","v":"101^102^104^105^6^1^3^7^6^2^3^7^8^4^2^1^3^5^9^6^4^2^1^3^5^7^8^4^2^1^3^5^9^101^102^103^104^105^6^4^1^5^7"},{"$nulls":12},"最终",{"$f":"_xlfn.TEXTJOIN(\"^\",,AR138:AR153)","v":"0^0^0^0^0^100^0^0^0^0^0^0^0^0^100^0^0^0^0^0^0^0^0"},{"$nulls":12},"最终",{"$f":"_xlfn.TEXTJOIN(\"^\",,BF138:BF153)","v":"4^2^3^5^6^1^7^101^102^104^105^6^4^1^5^7^6^4^2^3^5^7^8^4^2^1^3^5^9^6^4^2^1^3^5^7^8^6^4^2^3^5^7^9"}]
[]
[null,null,"时间",5,15,30,35,50,66,83,100,105,120,{"$nulls":4},"时间",5,10,15,22,30,40,45,55,null,null,null,{"$f":"_xlfn.TEXTJOIN(\"^\",,S157:S165)","v":"5^5^5^5"},null,"时间",4,10,15,30,46,50,65,80,null,null,null,{"$f":"_xlfn.TEXTJOIN(\"^\",,AG157:AG165)","v":"17^6^3"},null,"时间",3,5,8,12,18,25,35,45,null,null,null,{"$f":"_xlfn.TEXTJOIN(\"^\",,AU157:AU165)","v":"3^3^3^3"}]
[null,null,8,{"$nulls":12},{"$f":"_xlfn.TEXTJOIN(\"^\",,D157:D166)","v":"11^3"},null,8,null,null,null,{"$f":"V$156","v":22},null,{"$f":"X$156","v":40},{"$nulls":5},{"$f":"_xlfn.TEXTJOIN(\"^\",,T157:T165)","v":"10^10^10^10"},null,8,{"$nulls":11},{"$f":"_xlfn.TEXTJOIN(\"^\",,AH157:AH165)","v":"13^3"},null,8,{"$nulls":5},{"$f":"AZ$156","v":25},null,{"$f":"BB$156","v":45},null,null,null,{"$f":"_xlfn.TEXTJOIN(\"^\",,AV157:AV165)","v":"5^5^5"}]
[null,null,6,{"$nulls":12},{"$f":"_xlfn.TEXTJOIN(\"^\",,E157:E166)","v":"11^4"},null,6,null,{"$f":"T$156","v":10},15,null,30,null,null,55,null,null,null,{"$f":"_xlfn.TEXTJOIN(\"^\",,U157:U165)","v":"15^15^15^15"},null,6,{"$nulls":11},{"$f":"_xlfn.TEXTJOIN(\"^\",,AI157:AI165)","v":"7^3^7"},null,6,null,{"$f":"AV$156","v":5},null,{"$f":"AX$156","v":12},18,null,{"$f":"BA$156","v":35},45,null,null,null,{"$f":"_xlfn.TEXTJOIN(\"^\",,AW157:AW165)","v":"8^8^8^8"}]
[null,null,4,{"$nulls":12},{"$f":"_xlfn.TEXTJOIN(\"^\",,F157:F166)","v":"12^3^2"},null,4,{"$f":"S$156","v":5},null,null,{"$f":"V$156","v":22},30,40,45,55,null,null,null,{"$f":"_xlfn.TEXTJOIN(\"^\",,V157:V165)","v":"22^22^22^22^22^22^22"},null,4,{"$nulls":11},{"$f":"_xlfn.TEXTJOIN(\"^\",,AJ157:AJ165)","v":"12^2^3^2"},null,4,{"$f":"AU$156","v":3},null,{"$f":"AW$156","v":8},12,18,25,35,45,null,null,null,{"$f":"_xlfn.TEXTJOIN(\"^\",,AX157:AX165)","v":"12^12^12^12^12"}]
[null,null,2,{"$nulls":12},{"$f":"_xlfn.TEXTJOIN(\"^\",,G157:G166)","v":"9^3^2"},null,2,5,null,{"$f":"U$156","v":15},22,30,40,45,{"$nulls":4},{"$f":"_xlfn.TEXTJOIN(\"^\",,W157:W165)","v":"30^30^30^30^30^30^30"},null,2,{"$nulls":11},{"$f":"_xlfn.TEXTJOIN(\"^\",,AK157:AK165)","v":"15^4"},null,2,3,null,8,null,18,25,35,45,null,null,null,{"$f":"_xlfn.TEXTJOIN(\"^\",,AY157:AY165)","v":"18^18^18^18^18^18"}]
[null,null,1,11,11,12,9,14,12,16,16,9,14,null,null,{"$f":"_xlfn.TEXTJOIN(\"^\",,H157:H166)","v":"14^4"},null,1,null,{"$f":"T$156","v":10},null,22,30,40,45,55,null,null,null,{"$f":"_xlfn.TEXTJOIN(\"^\",,X157:X165)","v":"40^40^40^40^40^40^40"},null,1,17,13,7,12,15,9,13,18,null,null,null,{"$f":"_xlfn.TEXTJOIN(\"^\",,AL157:AL165)","v":"9^3^2"},null,1,null,{"$f":"AV$156","v":5},null,{"$f":"AX$156","v":12},null,25,35,{"$nulls":4},{"$f":"_xlfn.TEXTJOIN(\"^\",,AZ157:AZ165)","v":"25^25^25^25^25^25^25"}]
[null,null,3,3,4,3,3,4,3,4,3,5,3,null,null,{"$f":"_xlfn.TEXTJOIN(\"^\",,I157:I166)","v":"12^3^2^2"},null,3,{"$f":"S$156","v":5},10,15,22,30,40,45,{"$nulls":4},{"$f":"_xlfn.TEXTJOIN(\"^\",,Y157:Y165)","v":"45^45^45^45^45"},null,3,6,3,3,2,4,3,3,4,null,null,null,{"$f":"_xlfn.TEXTJOIN(\"^\",,AM157:AM165)","v":"13^3^2^2"},null,3,{"$f":"AU$156","v":3},null,{"$f":"AW$156","v":8},null,{"$f":"AY$156","v":18},25,35,45,null,null,null,{"$f":"_xlfn.TEXTJOIN(\"^\",,BA157:BA165)","v":"35^35^35^35^35^35^35"}]
[null,null,5,null,null,2,2,null,2,null,2,null,3,null,null,{"$f":"_xlfn.TEXTJOIN(\"^\",,J157:J166)","v":"16^4"},null,5,5,null,null,22,30,40,45,55,null,null,null,{"$f":"_xlfn.TEXTJOIN(\"^\",,Z157:Z165)","v":"55^55^55^55^55"},null,5,3,null,7,3,null,2,2,{"$nulls":4},{"$f":"_xlfn.TEXTJOIN(\"^\",,AN157:AN165)","v":"18^4"},null,5,3,null,8,12,18,25,35,45,null,null,null,{"$f":"_xlfn.TEXTJOIN(\"^\",,BB157:BB165)","v":"45^45^45^45^45^45^45^45"}]
[null,null,7,{"$nulls":5},2,null,null,null,2,null,null,{"$f":"_xlfn.TEXTJOIN(\"^\",,K157:K166)","v":"16^3^2"},null,7,null,{"$f":"T$156","v":10},15,null,30,null,null,55,null,null,null,{"$f":"_xlfn.TEXTJOIN(\"^\",,AA157:AA165)","v":""},null,7,null,null,null,2,null,null,2,{"$nulls":4},{"$f":"_xlfn.TEXTJOIN(\"^\",,AO157:AO165)","v":""},null,7,null,{"$f":"AV$156","v":5},null,12,18,null,35,45,null,null,null,{"$f":"_xlfn.TEXTJOIN(\"^\",,BC157:BC165)","v":""}]
[null,null,9,{"$nulls":12},{"$f":"_xlfn.TEXTJOIN(\"^\",,L157:L166)","v":"9^5"},null,9,null,null,null,{"$f":"V$156","v":22},null,40,{"$nulls":5},{"$f":"_xlfn.TEXTJOIN(\"^\",,AB157:AB165)","v":""},null,9,{"$nulls":11},{"$f":"_xlfn.TEXTJOIN(\"^\",,AP157:AP165)","v":""},null,9,{"$nulls":5},{"$f":"AZ$156","v":25},null,45,null,null,null,{"$f":"_xlfn.TEXTJOIN(\"^\",,BD157:BD165)","v":""}]
[{"$nulls":15},{"$f":"_xlfn.TEXTJOIN(\"^\",,M157:M166)","v":"14^3^3^2"},{"$nulls":13},{"$f":"_xlfn.TEXTJOIN(\"^\",,AC157:AC165)","v":""},{"$nulls":13},{"$f":"_xlfn.TEXTJOIN(\"^\",,AQ157:AQ165)","v":""},{"$nulls":13},{"$f":"_xlfn.TEXTJOIN(\"^\",,BE157:BE165)","v":""}]
[{"$nulls":15},{"$f":"_xlfn.TEXTJOIN(\"^\",,N157:N166)","v":""},{"$nulls":12},"最终",{"$f":"_xlfn.TEXTJOIN(\"^\",,AD156:AD166)","v":"5^5^5^5^10^10^10^10^15^15^15^15^22^22^22^22^22^22^22^30^30^30^30^30^30^30^40^40^40^40^40^40^40^45^45^45^45^45^55^55^55^55^55"},{"$nulls":12},"最终",{"$f":"_xlfn.TEXTJOIN(\"^\",,AR156:AR166)","v":"17^6^3^13^3^7^3^7^12^2^3^2^15^4^9^3^2^13^3^2^2^18^4"},{"$nulls":12},"最终",{"$f":"_xlfn.TEXTJOIN(\"^\",,BF156:BF166)","v":"3^3^3^3^5^5^5^8^8^8^8^12^12^12^12^12^18^18^18^18^18^18^25^25^25^25^25^25^25^35^35^35^35^35^35^35^45^45^45^45^45^45^45^45"}]
[{"$nulls":14},"最终",{"$f":"_xlfn.TEXTJOIN(\"^\",,P157:P167)","v":"11^3^11^4^12^3^2^9^3^2^14^4^12^3^2^2^16^4^16^3^2^9^5^14^3^3^2"}]
[{"$nulls":14},{"$f":"SUM(D157:N166)","v":174},{"$nulls":13},{"$f":"COUNT(S157:AB166)","v":43},{"$nulls":13},{"$f":"SUM(AG157:AP166)","v":153},{"$nulls":13},{"$f":"COUNT(AU157:BD166)","v":44},{"$f":"AQ169+BE169+AC169+O169","v":414}]

{"sheet":"13","index":13,"n_rows":169,"n_cols":58,"rows_kept":169,"cut":false,"hidden":false,"merged":[]}
[]
[{"$nulls":4},{"$f":"E3-D3","v":10},{"$f":"F3-E3","v":15},5,15,16,17,7,15,15,{"$nulls":6},{"$f":"T3-S3","v":3},5,7,8,10,10,5,{"$nulls":7},{"$f":"AH3-AG3","v":2},4,5,10,15,17,18,{"$nulls":7},{"$f":"AV3-AU3","v":2},2,2,2,5,7,8]
[3,"熔岩-1","波1·怪物",5,15,30,35,50,66,83,90,105,120,null,null,null,1,"波2·怪物",2,5,10,17,25,35,45,50,{"$nulls":4},3,"波3·怪物",4,6,10,15,25,40,57,75,{"$nulls":4},1,"波4·怪物",2,4,6,8,10,15,22,30]
[null,"5m",8,{"$nulls":12},{"$f":"_xlfn.TEXTJOIN(\"^\",,D4:D13)","v":"70371^70374"},null,8,{"$nulls":5},70374,{"$nulls":5},{"$f":"_xlfn.TEXTJOIN(\"^\",,S4:S13)","v":"70375^70375^70375^70375^70375"},null,8,{"$nulls":11},{"$f":"_xlfn.TEXTJOIN(\"^\",,AG4:AG13)","v":"70371^70373"},null,8,{"$nulls":7},70372,null,null,null,{"$f":"_xlfn.TEXTJOIN(\"^\",,AU4:AU13)","v":"70371^70371^70371^70371"}]
[null,null,6,{"$nulls":12},{"$f":"_xlfn.TEXTJOIN(\"^\",,E4:E13)","v":"70371^70372"},null,6,null,70372,70373,null,70372,70372,70372,{"$nulls":4},{"$f":"_xlfn.TEXTJOIN(\"^\",,T4:T13)","v":"70372^70372^70372^70372"},null,6,{"$nulls":11},{"$f":"_xlfn.TEXTJOIN(\"^\",,AH4:AH13)","v":"70371^70372^70374"},null,6,{"$nulls":5},70374,70372,70372,null,null,null,{"$f":"_xlfn.TEXTJOIN(\"^\",,AV4:AV13)","v":"70372^70372^70372"}]
[null,null,4,{"$nulls":12},{"$f":"_xlfn.TEXTJOIN(\"^\",,F4:F13)","v":"70371^70372^70373^70374"},null,4,70375,70372,null,70374,70371,70371,70371,70375,null,null,null,{"$f":"_xlfn.TEXTJOIN(\"^\",,U4:U13)","v":"70373^70373^70373"},null,4,{"$nulls":11},{"$f":"_xlfn.TEXTJOIN(\"^\",,AI4:AI13)","v":"70371^70372"},null,4,70371,70372,null,70375,70373,70371,70372,70371,null,null,null,{"$f":"_xlfn.TEXTJOIN(\"^\",,AW4:AW13)","v":"70374^70374"}]
[null,null,2,{"$nulls":12},{"$f":"_xlfn.TEXTJOIN(\"^\",,G4:G13)","v":"70375^70373"},null,2,70375,null,null,70371,70371,70373,70372,70375,null,null,null,{"$f":"_xlfn.TEXTJOIN(\"^\",,V4:V13)","v":"70374^70371^70371^70371^70374"},null,2,{"$nulls":11},{"$f":"_xlfn.TEXTJOIN(\"^\",,AJ4:AJ13)","v":"70375^70373"},null,2,70371,null,70374,70375,null,70371,null,70373,null,null,null,{"$f":"_xlfn.TEXTJOIN(\"^\",,AX4:AX13)","v":"70375^70375^70375^70375"}]
[null,null,1,70371,70371,70371,70375,70371,70371,70371,70375,70371,70371,null,null,{"$f":"_xlfn.TEXTJOIN(\"^\",,H4:H13)","v":"70371^70372^70374"},null,1,70375,null,70373,70371,70373,70372,70374,70375,null,null,null,{"$f":"_xlfn.TEXTJOIN(\"^\",,W4:W13)","v":"70372^70371^70371^70373^70371^70371^70372"},null,1,70371,70371,70371,70375,70371,70371,70371,70371,null,null,null,{"$f":"_xlfn.TEXTJOIN(\"^\",,AK4:AK13)","v":"70371^70372^70374"},null,1,null,70372,null,null,70373,null,70372,{"$nulls":4},{"$f":"_xlfn.TEXTJOIN(\"^\",,AY4:AY13)","v":"70373^70373^70373"}]
[null,null,3,70374,70372,70372,70373,70372,70372,70372,70372,70372,70372,null,null,{"$f":"_xlfn.TEXTJOIN(\"^\",,I4:I13)","v":"70371^70372^70373"},null,3,70375,null,null,70371,70371,70373,70372,70375,null,null,null,{"$f":"_xlfn.TEXTJOIN(\"^\",,X4:X13)","v":"70374^70372^70371^70373^70372^70373^70371^70372^70374"},null,3,70373,70372,70372,70373,70372,70373,70372,70372,null,null,null,{"$f":"_xlfn.TEXTJOIN(\"^\",,AL4:AL13)","v":"70371^70373^70374"},null,3,70371,null,70374,70375,null,70371,null,70373,null,null,null,{"$f":"_xlfn.TEXTJOIN(\"^\",,AZ4:AZ13)","v":"70374^70371^70371^70371^70371^70374"}]
[null,null,5,null,null,70373,null,70374,70373,null,70374,70373,70373,null,null,{"$f":"_xlfn.TEXTJOIN(\"^\",,J4:J13)","v":"70371^70372"},null,5,70375,70372,null,70374,70371,70371,70371,70375,null,null,null,{"$f":"_xlfn.TEXTJOIN(\"^\",,Y4:Y13)","v":"70372^70371^70372^70374^70372^70371^70372"},null,5,null,70374,null,null,70374,70374,null,70373,null,null,null,{"$f":"_xlfn.TEXTJOIN(\"^\",,AM4:AM13)","v":"70371^70372"},null,5,70371,70372,null,70375,70373,70371,70372,70371,null,null,null,{"$f":"_xlfn.TEXTJOIN(\"^\",,BA4:BA13)","v":"70372^70372^70372^70372^70372"}]
[null,null,7,null,null,70374,{"$nulls":6},70374,null,null,{"$f":"_xlfn.TEXTJOIN(\"^\",,K4:K13)","v":"70375^70372^70374"},null,7,null,70372,70373,null,70372,70372,70372,{"$nulls":4},{"$f":"_xlfn.TEXTJOIN(\"^\",,Z4:Z13)","v":"70375^70375^70375^70375^70375"},null,7,{"$nulls":7},70374,null,null,null,{"$f":"_xlfn.TEXTJOIN(\"^\",,AN4:AN13)","v":"70371^70372^70373^70374"},null,7,{"$nulls":5},70374,70372,70372,null,null,null,{"$f":"_xlfn.TEXTJOIN(\"^\",,BB4:BB13)","v":"70372^70372^70371^70373^70373^70371^70372^70372"}]
[null,null,9,{"$nulls":12},{"$f":"_xlfn.TEXTJOIN(\"^\",,L4:L13)","v":"70371^70372^70373"},null,9,{"$nulls":5},70374,{"$nulls":5},{"$f":"_xlfn.TEXTJOIN(\"^\",,AA4:AA13)","v":""},null,9,{"$nulls":11},{"$f":"_xlfn.TEXTJOIN(\"^\",,AO4:AO13)","v":""},null,9,{"$nulls":7},70372,null,null,null,{"$f":"_xlfn.TEXTJOIN(\"^\",,BC4:BC13)","v":""}]
[{"$nulls":15},{"$f":"_xlfn.TEXTJOIN(\"^\",,M4:M13)","v":"70371^70372^70373^70374"},{"$nulls":13},{"$f":"_xlfn.TEXTJOIN(\"^\",,AB4:AB13)","v":""},{"$nulls":13},{"$f":"_xlfn.TEXTJOIN(\"^\",,AP4:AP13)","v":""},{"$nulls":13},{"$f":"_xlfn.TEXTJOIN(\"^\",,BD4:BD13)","v":""}]
[{"$nulls":15},{"$f":"_xlfn.TEXTJOIN(\"^\",,N4:N13)","v":""},{"$nulls":13},{"$f":"_xlfn.TEXTJOIN(\"^\",,AC4:AC13)","v":""},{"$nulls":13},{"$f":"_xlfn.TEXTJOIN(\"^\",,AQ4:AQ13)","v":""},{"$nulls":13},{"$f":"_xlfn.TEXTJOIN(\"^\",,BE4:BE13)","v":""}]
[{"$nulls":14},"最终",{"$f":"_xlfn.TEXTJOIN(\"^\",,P4:P14)","v":"70371^70374^70371^70372^70371^70372^70373^70374^70375^70373^70371^70372^70374^70371^70372^70373^70371^70372^70375^70372^70374^70371^70372^70373^70371^70372^70373^70374"},{"$nulls":12},"最终",{"$f":"_xlfn.TEXTJOIN(\"^\",,AD4:AD14)","v":"70375^70375^70375^70375^70375^70372^70372^70372^70372^70373^70373^70373^70374^70371^70371^70371^70374^70372^70371^70371^70373^70371^70371^70372^70374^70372^70371^70373^70372^70373^70371^70372^70374^70372^70371^70372^70374^70372^70371^70372^70375^70375^70375^70375^70375"},{"$nulls":12},"最终",{"$f":"_xlfn.TEXTJOIN(\"^\",,AR4:AR14)","v":"70371^70373^70371^70372^70374^70371^70372^70375^70373^70371^70372^70374^70371^70373^70374^70371^70372^70371^70372^70373^70374"},{"$nulls":12},"最终",{"$f":"_xlfn.TEXTJOIN(\"^\",,BF4:BF14)","v":"70371^70371^70371^70371^70372^70372^70372^70374^70374^70375^70375^70375^70375^70373^70373^70373^70374^70371^70371^70371^70371^70374^70372^70372^70372^70372^70372^70372^70372^70371^70373^70373^70371^70372^70372"}]
[null,null,8,{"$nulls":14},8,{"$nulls":5},"火精灵",{"$nulls":7},8,{"$nulls":13},8,{"$nulls":7},"岩浆人"]
[null,null,6,{"$nulls":14},6,null,"岩浆人","岩浆战士",null,"岩浆人","岩浆人","岩浆人",{"$nulls":6},6,{"$nulls":13},6,{"$nulls":5},"火精灵","岩浆人","岩浆人"]
[null,null,4,{"$nulls":14},4,"火山蜘蛛","岩浆人",null,"火精灵","岩浆蝎","岩浆蝎","岩浆蝎","火山蜘蛛",{"$nulls":5},4,{"$nulls":13},4,"岩浆蝎","岩浆人",null,"火山蜘蛛","岩浆战士","岩浆蝎","岩浆人","岩浆蝎"]
[null,null,2,{"$nulls":14},2,"火山蜘蛛",null,null,"岩浆蝎","岩浆蝎","岩浆战士","岩浆人","火山蜘蛛",{"$nulls":5},2,{"$nulls":13},2,"岩浆蝎",null,"火精灵","火山蜘蛛",null,"岩浆蝎",null,"岩浆战士"]
[null,null,1,"岩浆蝎","岩浆蝎","岩浆蝎","火山蜘蛛","岩浆蝎","岩浆蝎","岩浆蝎","火山蜘蛛","岩浆蝎","岩浆蝎",{"$nulls":4},1,"火山蜘蛛",null,"岩浆战士","岩浆蝎","岩浆战士","岩浆人","火精灵","火山蜘蛛",{"$nulls":5},1,"岩浆蝎","岩浆蝎","岩浆蝎","火山蜘蛛","岩浆蝎","岩浆蝎","岩浆蝎","岩浆蝎",{"$nulls":5},1,null,"岩浆人",null,null,"岩浆战士",null,"岩浆人"]
[null,null,3,"火精灵","岩浆人","岩浆人","岩浆战士","岩浆人","岩浆人","岩浆人","岩浆人","岩浆人","岩浆人",{"$nulls":4},3,"火山蜘蛛",null,null,"岩浆蝎","岩浆蝎","岩浆战士","岩浆人","火山蜘蛛",{"$nulls":5},3,"岩浆战士","岩浆人","岩浆人","岩浆战士","岩浆人","岩浆战士","岩浆人","岩浆人",{"$nulls":5},3,"岩浆蝎",null,"火精灵","火山蜘蛛",null,"岩浆蝎",null,"岩浆战士"]
[null,null,5,null,null,"岩浆战士",null,"火精灵","岩浆战士",null,"火精灵","岩浆战士","岩浆战士",{"$nulls":4},5,"火山蜘蛛","岩浆人",null,"火精灵","岩浆蝎","岩浆蝎","岩浆蝎","火山蜘蛛",{"$nulls":5},5,null,"火精灵",null,null,"火精灵","火精灵",null,"岩浆战士",{"$nulls":5},5,"岩浆蝎","岩浆人",null,"火山蜘蛛","岩浆战士","岩浆蝎","岩浆人","岩浆蝎"]
[null,null,7,null,null,"火精灵",{"$nulls":6},"火精灵",{"$nulls":4},7,null,"岩浆人","岩浆战士",null,"岩浆人","岩浆人","岩浆人",{"$nulls":6},7,{"$nulls":7},"火精灵",{"$nulls":5},7,{"$nulls":5},"火精灵","岩浆人","岩浆人"]
[null,null,9,{"$nulls":14},9,{"$nulls":5},"火精灵",{"$nulls":7},9,{"$nulls":13},9,{"$nulls":7},"岩浆人"]
[]
[null,null,"位置",5,15,30,35,50,66,83,90,105,120,{"$nulls":4},"位置",2,5,10,17,25,35,45,50,{"$nulls":5},"位置",4,6,10,15,25,40,57,75,null,null,null,{"$f":"_xlfn.TEXTJOIN(\"^\",,AG27:AG41)","v":"0^0"},null,"位置",2,4,6,8,10,15,22,30,null,null,null,{"$f":"_xlfn.TEXTJOIN(\"^\",,AU27:AU41)","v":"4^2^3^5"}]
[null,null,8,{"$nulls":12},{"$f":"_xlfn.TEXTJOIN(\"^\",,D27:D41)","v":"0^0"},null,8,{"$nulls":5},{"$f":"$C27","v":8},{"$nulls":7},8,{"$nulls":11},{"$f":"_xlfn.TEXTJOIN(\"^\",,AH27:AH41)","v":"0^0^0"},null,8,{"$nulls":7},{"$f":"$C27","v":8},null,null,null,{"$f":"_xlfn.TEXTJOIN(\"^\",,AV27:AV41)","v":"4^1^5"}]
[null,null,6,{"$nulls":12},{"$f":"_xlfn.TEXTJOIN(\"^\",,E27:E41)","v":"0^0"},null,6,null,{"$f":"$C28","v":6},{"$f":"$C28","v":6},null,{"$f":"$C28","v":6},6,6,{"$nulls":4},{"$f":"_xlfn.TEXTJOIN(\"^\",,S27:S41)","v":"101^102^103^104^105"},null,6,{"$nulls":11},{"$f":"_xlfn.TEXTJOIN(\"^\",,AI27:AI41)","v":"0^0"},null,6,{"$nulls":5},{"$f":"$C28","v":6},6,6,null,null,null,{"$f":"_xlfn.TEXTJOIN(\"^\",,AW27:AW41)","v":"2^3"}]
[null,null,4,{"$nulls":12},{"$f":"_xlfn.TEXTJOIN(\"^\",,F27:F41)","v":"0^0^0^0"},null,4,null,{"$f":"$C29","v":4},null,{"$f":"$C29","v":4},4,4,4,{"$nulls":4},{"$f":"_xlfn.TEXTJOIN(\"^\",,T27:T41)","v":"6^4^5^7"},null,4,{"$nulls":11},{"$f":"_xlfn.TEXTJOIN(\"^\",,AJ27:AJ41)","v":"100^0"},null,4,{"$f":"$C29","v":4},{"$f":"$C29","v":4},null,null,{"$f":"$C29","v":4},4,4,4,null,null,null,{"$f":"_xlfn.TEXTJOIN(\"^\",,AX27:AX41)","v":"101^102^104^105"}]
[null,null,2,{"$nulls":12},{"$f":"_xlfn.TEXTJOIN(\"^\",,G27:G41)","v":"100^0"},null,2,null,null,null,2,2,2,2,{"$nulls":4},{"$f":"_xlfn.TEXTJOIN(\"^\",,U27:U41)","v":"6^1^7"},null,2,{"$nulls":11},{"$f":"_xlfn.TEXTJOIN(\"^\",,AK27:AK41)","v":"0^0^0"},null,2,2,null,{"$f":"$C30","v":2},null,null,2,null,2,null,null,null,{"$f":"_xlfn.TEXTJOIN(\"^\",,AY27:AY41)","v":"4^1^5"}]
[null,null,1,0,0,0,100,0,0,0,100,0,0,null,null,{"$f":"_xlfn.TEXTJOIN(\"^\",,H27:H41)","v":"0^0^0"},null,1,null,null,{"$f":"$C31","v":1},1,1,1,1,{"$nulls":4},{"$f":"_xlfn.TEXTJOIN(\"^\",,V27:V41)","v":"4^2^1^3^5"},null,1,0,0,0,100,0,0,0,0,null,null,null,{"$f":"_xlfn.TEXTJOIN(\"^\",,AL27:AL41)","v":"0^0^0"},null,1,null,{"$f":"$C31","v":1},null,null,{"$f":"$C31","v":1},null,{"$f":"$C31","v":1},{"$nulls":4},{"$f":"_xlfn.TEXTJOIN(\"^\",,AZ27:AZ41)","v":"6^4^2^3^5^7"}]
[null,null,3,0,0,0,0,0,0,0,0,0,0,null,null,{"$f":"_xlfn.TEXTJOIN(\"^\",,I27:I41)","v":"0^0^0"},null,3,null,null,null,3,3,3,3,{"$nulls":4},{"$f":"_xlfn.TEXTJOIN(\"^\",,W27:W41)","v":"6^4^2^1^3^5^7"},null,3,0,0,0,0,0,0,0,0,null,null,null,{"$f":"_xlfn.TEXTJOIN(\"^\",,AM27:AM41)","v":"0^0"},null,3,{"$f":"$C32","v":3},null,{"$f":"$C32","v":3},null,null,{"$f":"$C32","v":3},null,{"$f":"$C32","v":3},null,null,null,{"$f":"_xlfn.TEXTJOIN(\"^\",,BA27:BA41)","v":"6^4^1^5^7"}]
[null,null,5,null,null,0,null,0,0,null,0,0,0,null,null,{"$f":"_xlfn.TEXTJOIN(\"^\",,J27:J41)","v":"0^0"},null,5,null,{"$f":"$C33","v":5},null,5,5,5,5,{"$nulls":4},{"$f":"_xlfn.TEXTJOIN(\"^\",,X27:X41)","v":"8^6^4^2^1^3^5^7^9"},null,5,null,0,null,null,0,0,null,0,null,null,null,{"$f":"_xlfn.TEXTJOIN(\"^\",,AN27:AN41)","v":"0^0^0^0"},null,5,5,{"$f":"$C33","v":5},null,null,{"$f":"$C33","v":5},5,5,5,null,null,null,{"$f":"_xlfn.TEXTJOIN(\"^\",,BB27:BB41)","v":"8^6^4^2^3^5^7^9"}]
[null,null,7,null,null,0,{"$nulls":6},0,null,null,{"$f":"_xlfn.TEXTJOIN(\"^\",,K27:K41)","v":"100^0^0"},null,7,null,{"$f":"$C34","v":7},{"$f":"$C34","v":7},null,7,7,7,{"$nulls":4},{"$f":"_xlfn.TEXTJOIN(\"^\",,Y27:Y41)","v":"6^4^2^1^3^5^7"},null,7,{"$nulls":7},0,null,null,null,{"$f":"_xlfn.TEXTJOIN(\"^\",,AO27:AO41)","v":""},null,7,{"$nulls":5},7,7,7,null,null,null,{"$f":"_xlfn.TEXTJOIN(\"^\",,BC27:BC41)","v":""}]
[null,null,9,{"$nulls":12},{"$f":"_xlfn.TEXTJOIN(\"^\",,L27:L41)","v":"0^0^0"},null,9,{"$nulls":5},9,{"$nulls":7},9,{"$nulls":11},{"$f":"_xlfn.TEXTJOIN(\"^\",,AP27:AP41)","v":""},null,9,{"$nulls":7},9,null,null,null,{"$f":"_xlfn.TEXTJOIN(\"^\",,BD27:BD41)","v":""}]
[null,null,"空降",{"$nulls":12},{"$f":"_xlfn.TEXTJOIN(\"^\",,M27:M41)","v":"0^0^0^0"},null,"空降",{"$nulls":13},"空降",{"$nulls":11},{"$f":"_xlfn.TEXTJOIN(\"^\",,AQ27:AQ35)","v":""},null,"空降",{"$nulls":11},{"$f":"_xlfn.TEXTJOIN(\"^\",,BE27:BE35)","v":""}]
[null,null,101,{"$nulls":12},{"$f":"_xlfn.TEXTJOIN(\"^\",,N27:N41)","v":""},null,101,{"$f":"$C37","v":101},{"$nulls":6},{"$f":"$C37","v":101},null,null,null,{"$f":"_xlfn.TEXTJOIN(\"^\",,Z27:Z41)","v":"101^102^103^104^105"},null,101,{"$nulls":13},101,null,null,null,{"$f":"$C37","v":101}]
[null,null,102,{"$nulls":14},102,102,{"$nulls":6},102,null,null,null,{"$f":"_xlfn.TEXTJOIN(\"^\",,AA27:AA41)","v":""},null,102,{"$nulls":13},102,null,null,null,102]
[null,null,103,{"$nulls":14},103,103,{"$nulls":6},103,null,null,null,{"$f":"_xlfn.TEXTJOIN(\"^\",,AB27:AB41)","v":""},null,103,{"$nulls":13},103]
[null,null,104,{"$nulls":14},104,104,{"$nulls":6},104,{"$nulls":5},104,{"$nulls":13},104,null,null,null,{"$f":"$C40","v":104}]
[null,null,105,{"$nulls":14},105,105,{"$nulls":6},105,{"$nulls":5},105,{"$nulls":13},105,null,null,null,105]
[{"$nulls":14},"最终",{"$f":"_xlfn.TEXTJOIN(\"^\",,P27:P41)","v":"0^0^0^0^0^0^0^0^100^0^0^0^0^0^0^0^0^0^100^0^0^0^0^0^0^0^0^0"},{"$nulls":12},"最终",{"$f":"_xlfn.TEXTJOIN(\"^\",,AD27:AD41)","v":"101^102^103^104^105^6^4^5^7^6^1^7^4^2^1^3^5^6^4^2^1^3^5^7^8^6^4^2^1^3^5^7^9^6^4^2^1^3^5^7^101^102^103^104^105"},{"$nulls":12},"最终",{"$f":"_xlfn.TEXTJOIN(\"^\",,AR26:AR41)","v":"0^0^0^0^0^0^0^100^0^0^0^0^0^0^0^0^0^0^0^0^0"},{"$nulls":12},"最终",{"$f":"_xlfn.TEXTJOIN(\"^\",,BF26:BF41)","v":"4^2^3^5^4^1^5^2^3^101^102^104^105^4^1^5^6^4^2^3^5^7^6^4^1^5^7^8^6^4^2^3^5^7^9"}]
[]
[null,null,"时间",5,15,30,35,50,66,83,90,105,120,{"$nulls":4},"时间",2,5,10,17,25,35,45,50,null,null,null,{"$f":"_xlfn.TEXTJOIN(\"^\",,S45:S53)","v":"2^2^2^2^2"},null,"时间",4,6,10,15,25,40,57,75,null,null,null,{"$f":"_xlfn.TEXTJOIN(\"^\",,AG45:AG53)","v":"18^6"},null,"时间",2,4,6,8,10,15,22,30,null,null,null,{"$f":"_xlfn.TEXTJOIN(\"^\",,AU45:AU53)","v":"2^2^2^2"}]
[null,null,8,{"$nulls":12},{"$f":"_xlfn.TEXTJOIN(\"^\",,D45:D54)","v":"12^3"},null,8,{"$nulls":5},{"$f":"X$44","v":35},{"$nulls":5},{"$f":"_xlfn.TEXTJOIN(\"^\",,T45:T53)","v":"5^5^5^5"},null,8,{"$nulls":11},{"$f":"_xlfn.TEXTJOIN(\"^\",,AH45:AH53)","v":"11^4^2"},null,8,{"$nulls":7},{"$f":"BB$44","v":30},null,null,null,{"$f":"_xlfn.TEXTJOIN(\"^\",,AV45:AV53)","v":"4^4^4"}]
[null,null,6,{"$nulls":12},{"$f":"_xlfn.TEXTJOIN(\"^\",,E45:E54)","v":"12^4"},null,6,null,{"$f":"T$44","v":5},10,null,{"$f":"W$44","v":25},35,45,{"$nulls":4},{"$f":"_xlfn.TEXTJOIN(\"^\",,U45:U53)","v":"10^10^10"},null,6,{"$nulls":11},{"$f":"_xlfn.TEXTJOIN(\"^\",,AI45:AI53)","v":"13^4"},null,6,{"$nulls":5},{"$f":"AZ$44","v":15},22,30,null,null,null,{"$f":"_xlfn.TEXTJOIN(\"^\",,AW45:AW53)","v":"6^6"}]
[null,null,4,{"$nulls":12},{"$f":"_xlfn.TEXTJOIN(\"^\",,F45:F54)","v":"10^3^2^2"},null,4,{"$f":"S$44","v":2},5,null,{"$f":"V$44","v":17},25,35,45,50,null,null,null,{"$f":"_xlfn.TEXTJOIN(\"^\",,V45:V53)","v":"17^17^17^17^17"},null,4,{"$nulls":11},{"$f":"_xlfn.TEXTJOIN(\"^\",,AJ45:AJ53)","v":"9^3"},null,4,{"$f":"AU$44","v":2},4,null,{"$f":"AX$44","v":8},10,15,22,30,null,null,null,{"$f":"_xlfn.TEXTJOIN(\"^\",,AX45:AX53)","v":"8^8^8^8"}]
[null,null,2,{"$nulls":12},{"$f":"_xlfn.TEXTJOIN(\"^\",,G45:G54)","v":"9^3"},null,2,2,null,null,17,25,35,45,50,null,null,null,{"$f":"_xlfn.TEXTJOIN(\"^\",,W45:W53)","v":"25^25^25^25^25^25^25"},null,2,{"$nulls":11},{"$f":"_xlfn.TEXTJOIN(\"^\",,AK45:AK53)","v":"14^3^2"},null,2,2,null,{"$f":"AW$44","v":6},8,null,15,null,30,null,null,null,{"$f":"_xlfn.TEXTJOIN(\"^\",,AY45:AY53)","v":"10^10^10"}]
[null,null,1,12,12,10,9,13,14,15,9,15,15,null,null,{"$f":"_xlfn.TEXTJOIN(\"^\",,H45:H54)","v":"13^3^2"},null,1,2,null,{"$f":"U$44","v":10},17,25,35,45,50,null,null,null,{"$f":"_xlfn.TEXTJOIN(\"^\",,X45:X53)","v":"35^35^35^35^35^35^35^35^35"},null,1,18,11,13,9,14,15,16,14,null,null,null,{"$f":"_xlfn.TEXTJOIN(\"^\",,AL45:AL53)","v":"15^3^2"},null,1,null,{"$f":"AV$44","v":4},null,null,{"$f":"AY$44","v":10},null,{"$f":"BA$44","v":22},{"$nulls":4},{"$f":"_xlfn.TEXTJOIN(\"^\",,AZ45:AZ53)","v":"15^15^15^15^15^15"}]
[null,null,3,3,4,3,3,3,3,4,3,3,3,null,null,{"$f":"_xlfn.TEXTJOIN(\"^\",,I45:I54)","v":"14^3^2"},null,3,2,null,null,17,25,35,45,50,null,null,null,{"$f":"_xlfn.TEXTJOIN(\"^\",,Y45:Y53)","v":"45^45^45^45^45^45^45"},null,3,6,4,4,3,3,3,4,3,null,null,null,{"$f":"_xlfn.TEXTJOIN(\"^\",,AM45:AM53)","v":"16^4"},null,3,{"$f":"AU$44","v":2},null,{"$f":"AW$44","v":6},8,null,{"$f":"AZ$44","v":15},null,{"$f":"BB$44","v":30},null,null,null,{"$f":"_xlfn.TEXTJOIN(\"^\",,BA45:BA53)","v":"22^22^22^22^22"}]
[null,null,5,null,null,2,null,2,2,null,2,2,2,null,null,{"$f":"_xlfn.TEXTJOIN(\"^\",,J45:J54)","v":"15^4"},null,5,2,5,null,17,25,35,45,50,null,null,null,{"$f":"_xlfn.TEXTJOIN(\"^\",,Z45:Z53)","v":"50^50^50^50^50"},null,5,null,2,null,null,2,2,null,2,null,null,null,{"$f":"_xlfn.TEXTJOIN(\"^\",,AN45:AN53)","v":"14^3^2^2"},null,5,2,4,null,8,10,15,22,30,null,null,null,{"$f":"_xlfn.TEXTJOIN(\"^\",,BB45:BB53)","v":"30^30^30^30^30^30^30^30"}]
[null,null,7,null,null,2,{"$nulls":6},2,null,null,{"$f":"_xlfn.TEXTJOIN(\"^\",,K45:K54)","v":"9^3^2"},null,7,null,5,10,null,25,35,45,{"$nulls":4},{"$f":"_xlfn.TEXTJOIN(\"^\",,AA45:AA53)","v":""},null,7,{"$nulls":7},2,null,null,null,{"$f":"_xlfn.TEXTJOIN(\"^\",,AO45:AO53)","v":""},null,7,{"$nulls":5},15,22,30,null,null,null,{"$f":"_xlfn.TEXTJOIN(\"^\",,BC45:BC53)","v":""}]
[null,null,9,{"$nulls":12},{"$f":"_xlfn.TEXTJOIN(\"^\",,L45:L54)","v":"15^3^2"},null,9,{"$nulls":5},35,{"$nulls":5},{"$f":"_xlfn.TEXTJOIN(\"^\",,AB45:AB53)","v":""},null,9,{"$nulls":11},{"$f":"_xlfn.TEXTJOIN(\"^\",,AP45:AP53)","v":""},null,9,{"$nulls":7},30,null,null,null,{"$f":"_xlfn.TEXTJOIN(\"^\",,BD45:BD53)","v":""}]
[{"$nulls":15},{"$f":"_xlfn.TEXTJOIN(\"^\",,M45:M54)","v":"15^3^2^2"},{"$nulls":13},{"$f":"_xlfn.TEXTJOIN(\"^\",,AC45:AC53)","v":""},{"$nulls":13},{"$f":"_xlfn.TEXTJOIN(\"^\",,AQ45:AQ53)","v":""},{"$nulls":13},{"$f":"_xlfn.TEXTJOIN(\"^\",,BE45:BE53)","v":""}]
[{"$nulls":15},{"$f":"_xlfn.TEXTJOIN(\"^\",,N45:N54)","v":""},{"$nulls":12},"最终",{"$f":"_xlfn.TEXTJOIN(\"^\",,AD44:AD54)","v":"2^2^2^2^2^5^5^5^5^10^10^10^17^17^17^17^17^25^25^25^25^25^25^25^35^35^35^35^35^35^35^35^35^45^45^45^45^45^45^45^50^50^50^50^50"},{"$nulls":12},"最终",{"$f":"_xlfn.TEXTJOIN(\"^\",,AR44:AR54)","v":"18^6^11^4^2^13^4^9^3^14^3^2^15^3^2^16^4^14^3^2^2"},{"$nulls":12},"最终",{"$f":"_xlfn.TEXTJOIN(\"^\",,BF44:BF54)","v":"2^2^2^2^4^4^4^6^6^8^8^8^8^10^10^10^15^15^15^15^15^15^22^22^22^22^22^30^30^30^30^30^30^30^30"}]
[{"$nulls":14},"最终",{"$f":"_xlfn.TEXTJOIN(\"^\",,P45:P55)","v":"12^3^12^4^10^3^2^2^9^3^13^3^2^14^3^2^15^4^9^3^2^15^3^2^15^3^2^2"}]
[{"$nulls":14},{"$f":"SUM(D45:N54)","v":172},{"$nulls":13},{"$f":"COUNT(S45:AB54)","v":45},{"$nulls":13},{"$f":"SUM(AG45:AP54)","v":150},{"$nulls":13},{"$f":"COUNT(AU45:BD54)","v":35},{"$f":"AQ57+BE57+AC57+O57","v":402}]
[{"$nulls":4},{"$f":"E59-D59","v":5},{"$f":"F59-E59","v":7},8,10,5,10,10,10,5,{"$nulls":6},{"$f":"T59-S59","v":5},5,10,15,16,17,7,{"$nulls":7},{"$f":"AH59-AG59","v":3},4,5,10,10,10,5,{"$nulls":7},{"$f":"AV59-AU59","v":2},3,4,6,7,10,10]
[1,"熔岩-2","波1·怪物",5,10,17,25,35,40,50,60,70,75,null,null,null,3,"波2·怪物",5,10,15,25,40,56,73,80,{"$nulls":4},1,"波3·怪物",3,6,10,15,25,35,45,50,{"$nulls":4},1,"波4·怪物",3,5,8,12,18,25,35,45]
[null,"5m",8,null,null,70382,null,70384,null,70381,70384,{"$nulls":4},{"$f":"_xlfn.TEXTJOIN(\"^\",,D60:D69)","v":"70381^70381^70381^70381^70381"},null,8,{"$nulls":11},{"$f":"_xlfn.TEXTJOIN(\"^\",,S60:S69)","v":"70381^70382^70384"},null,8,{"$nulls":4},70384,70381,{"$nulls":5},{"$f":"_xlfn.TEXTJOIN(\"^\",,AG60:AG69)","v":"70383^70383^70383"},null,8,{"$nulls":5},70384,null,70382,null,null,null,{"$f":"_xlfn.TEXTJOIN(\"^\",,AU60:AU69)","v":"70385^70385^70385"}]
[null,null,6,null,70384,null,70382,70382,null,70381,70382,70382,null,null,null,{"$f":"_xlfn.TEXTJOIN(\"^\",,E60:E69)","v":"70384^70382^70382^70382^70384"},null,6,{"$nulls":11},{"$f":"_xlfn.TEXTJOIN(\"^\",,T60:T69)","v":"70381^70382"},null,6,null,70384,null,70382,70382,70381,70382,{"$nulls":4},{"$f":"_xlfn.TEXTJOIN(\"^\",,AH60:AH69)","v":"70384^70382^70382^70384"},null,6,null,null,70384,null,70382,null,70382,{"$nulls":4},{"$f":"_xlfn.TEXTJOIN(\"^\",,AV60:AV69)","v":"70382^70382^70382"}]
[null,null,4,70381,null,70381,70381,null,70385,70382,70381,70381,70385,null,null,{"$f":"_xlfn.TEXTJOIN(\"^\",,F60:F69)","v":"70382^70381^70383^70384^70383^70381^70382"},null,4,{"$nulls":11},{"$f":"_xlfn.TEXTJOIN(\"^\",,U60:U69)","v":"70381^70383"},null,4,70383,null,70385,70381,null,70382,70381,70385,null,null,null,{"$f":"_xlfn.TEXTJOIN(\"^\",,AI60:AI69)","v":"70385^70385^70385^70385^70385"},null,4,70385,null,null,70381,70381,70381,70381,70382,null,null,null,{"$f":"_xlfn.TEXTJOIN(\"^\",,AW60:AW69)","v":"70384^70383^70384"}]
[null,null,2,70381,70382,70383,70381,70383,70385,null,70383,70383,70385,null,null,{"$f":"_xlfn.TEXTJOIN(\"^\",,G60:G69)","v":"70382^70381^70381^70384^70381^70381^70382"},null,2,{"$nulls":11},{"$f":"_xlfn.TEXTJOIN(\"^\",,V60:V69)","v":"70385^70382"},null,2,null,70382,70385,70383,70381,70381,70383,70385,null,null,null,{"$f":"_xlfn.TEXTJOIN(\"^\",,AJ60:AJ69)","v":"70382^70381^70383^70384^70383^70381^70382"},null,2,null,70382,null,70381,70383,70382,70383,70381,null,null,null,{"$f":"_xlfn.TEXTJOIN(\"^\",,AX60:AX69)","v":"70381^70381^70381^70381"}]
[null,null,1,70381,70382,70384,70384,70383,70385,70382,70383,70382,70385,null,null,{"$f":"_xlfn.TEXTJOIN(\"^\",,H60:H69)","v":"70384^70382^70383^70383^70383^70382^70384"},null,1,70381,70381,70381,70385,70381,70381,70381,70385,null,null,null,{"$f":"_xlfn.TEXTJOIN(\"^\",,W60:W69)","v":"70381^70382^70384"},null,1,70383,null,70385,70384,70381,70382,70384,70385,null,null,null,{"$f":"_xlfn.TEXTJOIN(\"^\",,AK60:AK69)","v":"70384^70382^70381^70381^70381^70382^70384"},null,1,70385,70382,70383,null,null,70382,70384,70383,null,null,null,{"$f":"_xlfn.TEXTJOIN(\"^\",,AY60:AY69)","v":"70382^70381^70383^70383^70381^70382"}]
[null,null,3,70381,70382,70383,70381,70383,70385,null,70383,70383,70385,null,null,{"$f":"_xlfn.TEXTJOIN(\"^\",,I60:I69)","v":"70385^70385^70385^70385^70385"},null,3,70382,70382,70383,70382,70382,70382,70382,70381,null,null,null,{"$f":"_xlfn.TEXTJOIN(\"^\",,X60:X69)","v":"70381^70382^70383^70384"},null,3,null,70382,70385,70383,70381,70381,70383,70385,null,null,null,{"$f":"_xlfn.TEXTJOIN(\"^\",,AL60:AL69)","v":"70381^70381^70382^70381^70382^70381^70382^70381^70381"},null,3,null,70382,null,70381,70383,70382,70383,70381,null,null,null,{"$f":"_xlfn.TEXTJOIN(\"^\",,AZ60:AZ69)","v":"70384^70381^70382^70382^70382^70381^70384"}]
[null,null,5,70381,null,70381,70381,null,70385,70382,70381,70381,70385,null,null,{"$f":"_xlfn.TEXTJOIN(\"^\",,J60:J69)","v":"70381^70381^70382^70382^70382^70381^70381"},null,5,70384,null,null,null,70384,70383,null,70384,null,null,null,{"$f":"_xlfn.TEXTJOIN(\"^\",,Y60:Y69)","v":"70381^70382"},null,5,70383,null,70385,70381,null,70382,70381,70385,null,null,null,{"$f":"_xlfn.TEXTJOIN(\"^\",,AM60:AM69)","v":"70382^70381^70383^70384^70383^70381^70382"},null,5,70385,null,null,70381,70381,70381,70381,70382,null,null,null,{"$f":"_xlfn.TEXTJOIN(\"^\",,BA60:BA69)","v":"70382^70381^70383^70384^70383^70381^70382"}]
[null,null,7,null,70384,null,70382,70382,null,70381,70382,70382,null,null,null,{"$f":"_xlfn.TEXTJOIN(\"^\",,K60:K69)","v":"70384^70382^70381^70383^70383^70383^70381^70382^70384"},null,7,{"$nulls":5},70384,{"$nulls":5},{"$f":"_xlfn.TEXTJOIN(\"^\",,Z60:Z69)","v":"70385^70381^70384"},null,7,null,70384,null,70382,70382,70381,70382,{"$nulls":4},{"$f":"_xlfn.TEXTJOIN(\"^\",,AN60:AN69)","v":"70385^70385^70385^70385^70385"},null,7,null,null,70384,null,70382,null,70382,{"$nulls":4},{"$f":"_xlfn.TEXTJOIN(\"^\",,BB60:BB69)","v":"70382^70382^70381^70383^70381^70382^70382"}]
[null,null,9,null,null,70382,null,70384,null,70381,70384,{"$nulls":4},{"$f":"_xlfn.TEXTJOIN(\"^\",,L60:L69)","v":"70382^70381^70383^70382^70383^70381^70382"},null,9,{"$nulls":11},{"$f":"_xlfn.TEXTJOIN(\"^\",,AA60:AA69)","v":""},null,9,{"$nulls":4},70384,70381,{"$nulls":5},{"$f":"_xlfn.TEXTJOIN(\"^\",,AO60:AO69)","v":""},null,9,{"$nulls":5},70384,null,70382,null,null,null,{"$f":"_xlfn.TEXTJOIN(\"^\",,BC60:BC69)","v":""}]
[{"$nulls":15},{"$f":"_xlfn.TEXTJOIN(\"^\",,M60:M69)","v":"70385^70385^70385^70385^70385"},{"$nulls":13},{"$f":"_xlfn.TEXTJOIN(\"^\",,AB60:AB69)","v":""},{"$nulls":13},{"$f":"_xlfn.TEXTJOIN(\"^\",,AP60:AP69)","v":""},{"$nulls":13},{"$f":"_xlfn.TEXTJOIN(\"^\",,BD60:BD69)","v":""}]
[{"$nulls":15},{"$f":"_xlfn.TEXTJOIN(\"^\",,N60:N69)","v":""},{"$nulls":13},{"$f":"_xlfn.TEXTJOIN(\"^\",,AC60:AC69)","v":""},{"$nulls":13},{"$f":"_xlfn.TEXTJOIN(\"^\",,AQ60:AQ69)","v":""},{"$nulls":13},{"$f":"_xlfn.TEXTJOIN(\"^\",,BE60:BE69)","v":""}]
[{"$nulls":14},"最终",{"$f":"_xlfn.TEXTJOIN(\"^\",,P60:P70)","v":"70381^70381^70381^70381^70381^70384^70382^70382^70382^70384^70382^70381^70383^70384^70383^70381^70382^70382^70381^70381^70384^70381^70381^70382^70384^70382^70383^70383^70383^70382^70384^70385^70385^70385^70385^70385^70381^70381^70382^70382^70382^70381^70381^70384^70382^70381^70383^70383^70383^70381^70382^70384^70382^70381^70383^70382^70383^70381^70382^70385^70385^70385^70385^70385"},{"$nulls":12},"最终",{"$f":"_xlfn.TEXTJOIN(\"^\",,AD60:AD70)","v":"70381^70382^70384^70381^70382^70381^70383^70385^70382^70381^70382^70384^70381^70382^70383^70384^70381^70382^70385^70381^70384"},{"$nulls":12},"最终",{"$f":"_xlfn.TEXTJOIN(\"^\",,AR60:AR70)","v":"70383^70383^70383^70384^70382^70382^70384^70385^70385^70385^70385^70385^70382^70381^70383^70384^70383^70381^70382^70384^70382^70381^70381^70381^70382^70384^70381^70381^70382^70381^70382^70381^70382^70381^70381^70382^70381^70383^70384^70383^70381^70382^70385^70385^70385^70385^70385"},{"$nulls":12},"最终",{"$f":"_xlfn.TEXTJOIN(\"^\",,BF60:BF70)","v":"70385^70385^70385^70382^70382^70382^70384^70383^70384^70381^70381^70381^70381^70382^70381^70383^70383^70381^70382^70384^70381^70382^70382^70382^70381^70384^70382^70381^70383^70384^70383^70381^70382^70382^70382^70381^70383^70381^70382^70382"}]
[null,null,8,null,null,"巨魔矛手",null,"火精灵",null,"岩浆蝎","火精灵",{"$nulls":6},8,{"$nulls":13},8,{"$nulls":4},"火精灵","岩浆蝎",{"$nulls":7},8,{"$nulls":5},"火精灵",null,"巨魔矛手"]
[null,null,6,null,"火精灵",null,"巨魔矛手","巨魔矛手",null,"岩浆蝎","巨魔矛手","巨魔矛手",{"$nulls":5},6,{"$nulls":13},6,null,"火精灵",null,"巨魔矛手","巨魔矛手","岩浆蝎","巨魔矛手",{"$nulls":6},6,null,null,"火精灵",null,"巨魔矛手",null,"巨魔矛手"]
[null,null,4,"岩浆蝎",null,"岩浆蝎","岩浆蝎",null,"火山蜘蛛","巨魔矛手","岩浆蝎","岩浆蝎","火山蜘蛛",{"$nulls":4},4,{"$nulls":13},4,"岩浆战士",null,"火山蜘蛛","岩浆蝎",null,"巨魔矛手","岩浆蝎","火山蜘蛛",{"$nulls":5},4,"火山蜘蛛",null,null,"岩浆蝎","岩浆蝎","岩浆蝎","岩浆蝎","巨魔矛手"]
[null,null,2,"岩浆蝎","巨魔矛手","岩浆战士","岩浆蝎","岩浆战士","火山蜘蛛",null,"岩浆战士","岩浆战士","火山蜘蛛",{"$nulls":4},2,{"$nulls":13},2,null,"巨魔矛手","火山蜘蛛","岩浆战士","岩浆蝎","岩浆蝎","岩浆战士","火山蜘蛛",{"$nulls":5},2,null,"巨魔矛手",null,"岩浆蝎","岩浆战士","巨魔矛手","岩浆战士","岩浆蝎"]
[null,null,1,"岩浆蝎","巨魔矛手","火精灵","火精灵","岩浆战士","火山蜘蛛","巨魔矛手","岩浆战士","巨魔矛手","火山蜘蛛",{"$nulls":4},1,"岩浆蝎","岩浆蝎","岩浆蝎","火山蜘蛛","岩浆蝎","岩浆蝎","岩浆蝎","火山蜘蛛",{"$nulls":5},1,"岩浆战士",null,"火山蜘蛛","火精灵","岩浆蝎","巨魔矛手","火精灵","火山蜘蛛",{"$nulls":5},1,"火山蜘蛛","巨魔矛手","岩浆战士",null,null,"巨魔矛手","火精灵","岩浆战士"]
[null,null,3,"岩浆蝎","巨魔矛手","岩浆战士","岩浆蝎","岩浆战士","火山蜘蛛",null,"岩浆战士","岩浆战士","火山蜘蛛",{"$nulls":4},3,"巨魔矛手","巨魔矛手","岩浆战士","巨魔矛手","巨魔矛手","巨魔矛手","巨魔矛手","岩浆蝎",{"$nulls":5},3,null,"巨魔矛手","火山蜘蛛","岩浆战士","岩浆蝎","岩浆蝎","岩浆战士","火山蜘蛛",{"$nulls":5},3,null,"巨魔矛手",null,"岩浆蝎","岩浆战士","巨魔矛手","岩浆战士","岩浆蝎"]
[null,null,5,"岩浆蝎",null,"岩浆蝎","岩浆蝎",null,"火山蜘蛛","巨魔矛手","岩浆蝎","岩浆蝎","火山蜘蛛",{"$nulls":4},5,"火精灵",null,null,null,"火精灵","岩浆战士",null,"火精灵",{"$nulls":5},5,"岩浆战士",null,"火山蜘蛛","岩浆蝎",null,"巨魔矛手","岩浆蝎","火山蜘蛛",{"$nulls":5},5,"火山蜘蛛",null,null,"岩浆蝎","岩浆蝎","岩浆蝎","岩浆蝎","巨魔矛手"]
[null,null,7,null,"火精灵",null,"巨魔矛手","巨魔矛手",null,"岩浆蝎","巨魔矛手","巨魔矛手",{"$nulls":5},7,{"$nulls":5},"火精灵",{"$nulls":7},7,null,"火精灵",null,"巨魔矛手","巨魔矛手","岩浆蝎","巨魔矛手",{"$nulls":6},7,null,null,"火精灵",null,"巨魔矛手",null,"巨魔矛手"]
[null,null,9,null,null,"巨魔矛手",null,"火精灵",null,"岩浆蝎","火精灵",{"$nulls":6},9,{"$nulls":13},9,{"$nulls":4},"火精灵","岩浆蝎",{"$nulls":7},9,{"$nulls":5},"火精灵",null,"巨魔矛手"]
[]
[null,null,"位置",5,10,17,25,35,40,50,60,70,75,{"$nulls":4},"位置",5,10,15,25,40,56,73,80,{"$nulls":5},"位置",3,6,10,15,25,35,45,50,null,null,null,{"$f":"_xlfn.TEXTJOIN(\"^\",,AG83:AG97)","v":"4^1^5"},null,"位置",3,5,8,12,18,25,35,45,null,null,null,{"$f":"_xlfn.TEXTJOIN(\"^\",,AU83:AU97)","v":"101^103^105"}]
[null,null,8,null,null,{"$f":"$C83","v":8},null,{"$f":"$C83","v":8},null,{"$f":"$C83","v":8},8,{"$nulls":4},{"$f":"_xlfn.TEXTJOIN(\"^\",,D83:D97)","v":"4^2^1^3^5"},null,8,{"$nulls":13},8,{"$nulls":4},{"$f":"$C83","v":8},8,{"$nulls":5},{"$f":"_xlfn.TEXTJOIN(\"^\",,AH83:AH97)","v":"6^2^3^7"},null,8,{"$nulls":5},{"$f":"$C83","v":8},null,{"$f":"$C83","v":8},null,null,null,{"$f":"_xlfn.TEXTJOIN(\"^\",,AV83:AV97)","v":"2^1^3"}]
[null,null,6,null,{"$f":"$C84","v":6},null,{"$f":"$C84","v":6},6,null,6,6,6,null,null,null,{"$f":"_xlfn.TEXTJOIN(\"^\",,E83:E97)","v":"6^2^1^3^7"},null,6,{"$nulls":11},{"$f":"_xlfn.TEXTJOIN(\"^\",,S83:S97)","v":"0^0^0"},null,6,null,{"$f":"$C84","v":6},null,{"$f":"$C84","v":6},6,6,6,{"$nulls":4},{"$f":"_xlfn.TEXTJOIN(\"^\",,AI83:AI97)","v":"101^102^103^104^105"},null,6,null,null,{"$f":"$C84","v":6},null,{"$f":"$C84","v":6},null,{"$f":"$C84","v":6},{"$nulls":4},{"$f":"_xlfn.TEXTJOIN(\"^\",,AW83:AW97)","v":"6^1^7"}]
[null,null,4,{"$f":"$C85","v":4},null,{"$f":"$C85","v":4},4,null,null,4,4,4,null,null,null,{"$f":"_xlfn.TEXTJOIN(\"^\",,F83:F97)","v":"8^4^2^1^3^5^9"},null,4,{"$nulls":11},{"$f":"_xlfn.TEXTJOIN(\"^\",,T83:T97)","v":"0^0"},null,4,{"$f":"$C85","v":4},null,null,4,null,4,4,{"$nulls":4},{"$f":"_xlfn.TEXTJOIN(\"^\",,AJ83:AJ97)","v":"6^4^2^1^3^5^7"},null,4,null,null,null,{"$f":"$C85","v":4},4,4,4,4,null,null,null,{"$f":"_xlfn.TEXTJOIN(\"^\",,AX83:AX97)","v":"4^2^3^5"}]
[null,null,2,{"$f":"$C86","v":2},{"$f":"$C86","v":2},2,2,{"$f":"$C86","v":2},null,null,2,{"$f":"$C86","v":2},null,null,null,{"$f":"_xlfn.TEXTJOIN(\"^\",,G83:G97)","v":"6^4^2^1^3^5^7"},null,2,{"$nulls":11},{"$f":"_xlfn.TEXTJOIN(\"^\",,U83:U97)","v":"0^0"},null,2,null,{"$f":"$C86","v":2},null,2,2,2,2,{"$nulls":4},{"$f":"_xlfn.TEXTJOIN(\"^\",,AK83:AK97)","v":"8^6^2^1^3^7^9"},null,2,null,{"$f":"$C86","v":2},null,2,2,2,2,2,null,null,null,{"$f":"_xlfn.TEXTJOIN(\"^\",,AY83:AY97)","v":"6^4^2^3^5^7"}]
[null,null,1,{"$f":"$C87","v":1},1,1,1,{"$f":"$C87","v":1},null,{"$f":"$C87","v":1},1,1,null,null,null,{"$f":"_xlfn.TEXTJOIN(\"^\",,H83:H97)","v":"8^6^2^1^3^7^9"},null,1,0,0,0,100,0,0,0,100,null,null,null,{"$f":"_xlfn.TEXTJOIN(\"^\",,V83:V97)","v":"100^0"},null,1,{"$f":"$C87","v":1},null,null,1,1,{"$f":"$C87","v":1},1,{"$nulls":4},{"$f":"_xlfn.TEXTJOIN(\"^\",,AL83:AL97)","v":"8^6^4^2^1^3^5^7^9"},null,1,null,1,{"$f":"$C87","v":1},null,null,1,1,1,null,null,null,{"$f":"_xlfn.TEXTJOIN(\"^\",,AZ83:AZ97)","v":"8^4^2^1^3^5^9"}]
[null,null,3,{"$f":"$C88","v":3},3,3,3,{"$f":"$C88","v":3},null,null,3,{"$f":"$C88","v":3},null,null,null,{"$f":"_xlfn.TEXTJOIN(\"^\",,I83:I97)","v":"101^102^103^104^105"},null,3,0,0,0,0,0,0,0,0,null,null,null,{"$f":"_xlfn.TEXTJOIN(\"^\",,W83:W97)","v":"0^0^0"},null,3,null,{"$f":"$C88","v":3},null,3,3,3,3,{"$nulls":4},{"$f":"_xlfn.TEXTJOIN(\"^\",,AM83:AM97)","v":"6^4^2^1^3^5^7"},null,3,null,3,null,{"$f":"$C88","v":3},3,3,3,3,null,null,null,{"$f":"_xlfn.TEXTJOIN(\"^\",,BA83:BA97)","v":"6^4^2^1^3^5^7"}]
[null,null,5,5,null,5,5,null,null,{"$f":"$C89","v":5},5,5,null,null,null,{"$f":"_xlfn.TEXTJOIN(\"^\",,J83:J97)","v":"8^6^4^1^5^7^9"},null,5,0,null,null,null,0,0,null,0,null,null,null,{"$f":"_xlfn.TEXTJOIN(\"^\",,X83:X97)","v":"0^0^0^0"},null,5,{"$f":"$C89","v":5},null,null,5,null,5,5,{"$nulls":4},{"$f":"_xlfn.TEXTJOIN(\"^\",,AN83:AN97)","v":"101^102^103^104^105"},null,5,null,null,null,5,5,5,5,5,null,null,null,{"$f":"_xlfn.TEXTJOIN(\"^\",,BB83:BB97)","v":"8^4^2^1^3^5^9"}]
[null,null,7,null,{"$f":"$C90","v":7},null,7,7,null,7,7,7,null,null,null,{"$f":"_xlfn.TEXTJOIN(\"^\",,K83:K97)","v":"8^6^4^2^1^3^5^7^9"},null,7,{"$nulls":5},0,{"$nulls":5},{"$f":"_xlfn.TEXTJOIN(\"^\",,Y83:Y97)","v":"0^0"},null,7,null,{"$f":"$C90","v":7},null,7,7,7,7,{"$nulls":4},{"$f":"_xlfn.TEXTJOIN(\"^\",,AO83:AO97)","v":""},null,7,null,null,{"$f":"$C90","v":7},null,7,null,7,{"$nulls":4},{"$f":"_xlfn.TEXTJOIN(\"^\",,BC83:BC97)","v":""}]
[null,null,9,null,null,{"$f":"$C91","v":9},null,9,null,9,9,{"$nulls":4},{"$f":"_xlfn.TEXTJOIN(\"^\",,L83:L97)","v":"6^4^2^1^3^5^7"},null,9,{"$nulls":13},9,{"$nulls":4},9,9,{"$nulls":5},{"$f":"_xlfn.TEXTJOIN(\"^\",,AP83:AP97)","v":""},null,9,{"$nulls":5},{"$f":"$C91","v":9},null,{"$f":"$C91","v":9},null,null,null,{"$f":"_xlfn.TEXTJOIN(\"^\",,BD83:BD97)","v":""}]
[null,null,"空降",{"$nulls":12},{"$f":"_xlfn.TEXTJOIN(\"^\",,M83:M97)","v":"101^102^103^104^105"},null,"空降",{"$nulls":13},"空降",{"$nulls":11},{"$f":"_xlfn.TEXTJOIN(\"^\",,AQ83:AQ91)","v":""},null,"空降",{"$nulls":11},{"$f":"_xlfn.TEXTJOIN(\"^\",,BE83:BE91)","v":""}]
[null,null,101,{"$nulls":5},{"$f":"$C93","v":101},null,null,null,{"$f":"$C93","v":101},null,null,{"$f":"_xlfn.TEXTJOIN(\"^\",,N83:N97)","v":""},null,101,{"$nulls":11},{"$f":"_xlfn.TEXTJOIN(\"^\",,Z83:Z97)","v":"100^0^0"},null,101,null,null,{"$f":"$C93","v":101},{"$nulls":4},{"$f":"$C93","v":101},{"$nulls":5},101,{"$f":"$C93","v":101}]
[null,null,102,{"$nulls":5},102,null,null,null,102,{"$nulls":4},102,{"$nulls":11},{"$f":"_xlfn.TEXTJOIN(\"^\",,AA83:AA97)","v":""},null,102,null,null,102,{"$nulls":4},102,{"$nulls":5},102]
[null,null,103,{"$nulls":5},103,null,null,null,103,{"$nulls":4},103,{"$nulls":11},{"$f":"_xlfn.TEXTJOIN(\"^\",,AB83:AB97)","v":""},null,103,null,null,103,{"$nulls":4},103,{"$nulls":5},103,{"$f":"$C95","v":103}]
[null,null,104,{"$nulls":5},104,null,null,null,104,{"$nulls":4},104,{"$nulls":13},104,null,null,104,{"$nulls":4},104,{"$nulls":5},104]
[null,null,105,{"$nulls":5},105,null,null,null,105,{"$nulls":4},105,{"$nulls":13},105,null,null,105,{"$nulls":4},105,{"$nulls":5},105,{"$f":"$C97","v":105}]
[{"$nulls":14},"最终",{"$f":"_xlfn.TEXTJOIN(\"^\",,P83:P97)","v":"4^2^1^3^5^6^2^1^3^7^8^4^2^1^3^5^9^6^4^2^1^3^5^7^8^6^2^1^3^7^9^101^102^103^104^105^8^6^4^1^5^7^9^8^6^4^2^1^3^5^7^9^6^4^2^1^3^5^7^101^102^103^104^105"},{"$nulls":12},"最终",{"$f":"_xlfn.TEXTJOIN(\"^\",,AD83:AD97)","v":"0^0^0^0^0^0^0^100^0^0^0^0^0^0^0^0^0^0^100^0^0"},{"$nulls":12},"最终",{"$f":"_xlfn.TEXTJOIN(\"^\",,AR82:AR97)","v":"4^1^5^6^2^3^7^101^102^103^104^105^6^4^2^1^3^5^7^8^6^2^1^3^7^9^8^6^4^2^1^3^5^7^9^6^4^2^1^3^5^7^101^102^103^104^105"},{"$nulls":12},"最终",{"$f":"_xlfn.TEXTJOIN(\"^\",,BF82:BF97)","v":"101^103^105^2^1^3^6^1^7^4^2^3^5^6^4^2^3^5^7^8^4^2^1^3^5^9^6^4^2^1^3^5^7^8^4^2^1^3^5^9"}]
[]
[null,null,"时间",5,10,17,25,35,40,50,60,70,75,{"$nulls":4},"时间",5,10,15,25,40,56,73,80,null,null,null,{"$f":"_xlfn.TEXTJOIN(\"^\",,S101:S109)","v":"17^5^5"},null,"时间",3,6,10,15,25,35,45,50,null,null,null,{"$f":"_xlfn.TEXTJOIN(\"^\",,AG101:AG109)","v":"3^3^3"},null,"时间",3,5,8,12,18,25,35,45,null,null,null,{"$f":"_xlfn.TEXTJOIN(\"^\",,AU101:AU109)","v":"3^3^3"}]
[null,null,8,null,null,{"$f":"F$100","v":17},null,{"$f":"H$100","v":35},null,{"$f":"J$100","v":50},60,{"$nulls":4},{"$f":"_xlfn.TEXTJOIN(\"^\",,D101:D110)","v":"5^5^5^5^5"},null,8,{"$nulls":11},{"$f":"_xlfn.TEXTJOIN(\"^\",,T101:T109)","v":"11^4"},null,8,{"$nulls":4},{"$f":"AK$100","v":25},35,{"$nulls":5},{"$f":"_xlfn.TEXTJOIN(\"^\",,AH101:AH109)","v":"6^6^6^6"},null,8,{"$nulls":5},{"$f":"AZ$100","v":25},null,{"$f":"BB$100","v":45},null,null,null,{"$f":"_xlfn.TEXTJOIN(\"^\",,AV101:AV109)","v":"5^5^5"}]
[null,null,6,null,{"$f":"E$100","v":10},null,{"$f":"G$100","v":25},35,null,50,60,70,null,null,null,{"$f":"_xlfn.TEXTJOIN(\"^\",,E101:E110)","v":"10^10^10^10^10"},null,6,{"$nulls":11},{"$f":"_xlfn.TEXTJOIN(\"^\",,U101:U109)","v":"13^3"},null,6,null,{"$f":"AH$100","v":6},null,{"$f":"AJ$100","v":15},25,35,45,{"$nulls":4},{"$f":"_xlfn.TEXTJOIN(\"^\",,AI101:AI109)","v":"10^10^10^10^10"},null,6,null,null,{"$f":"AW$100","v":8},null,{"$f":"AY$100","v":18},null,{"$f":"BA$100","v":35},{"$nulls":4},{"$f":"_xlfn.TEXTJOIN(\"^\",,AW101:AW109)","v":"8^8^8"}]
[null,null,4,{"$f":"D$100","v":5},null,{"$f":"F$100","v":17},25,null,{"$f":"I$100","v":40},50,60,70,75,null,null,{"$f":"_xlfn.TEXTJOIN(\"^\",,F101:F110)","v":"17^17^17^17^17^17^17"},null,4,{"$nulls":11},{"$f":"_xlfn.TEXTJOIN(\"^\",,V101:V109)","v":"9^4"},null,4,{"$f":"AG$100","v":3},null,{"$f":"AI$100","v":10},15,null,35,45,50,null,null,null,{"$f":"_xlfn.TEXTJOIN(\"^\",,AJ101:AJ109)","v":"15^15^15^15^15^15^15"},null,4,{"$f":"AU$100","v":3},null,null,{"$f":"AX$100","v":12},18,25,35,45,null,null,null,{"$f":"_xlfn.TEXTJOIN(\"^\",,AX101:AX109)","v":"12^12^12^12"}]
[null,null,2,5,10,17,25,{"$f":"H$100","v":35},40,null,60,70,75,null,null,{"$f":"_xlfn.TEXTJOIN(\"^\",,G101:G110)","v":"25^25^25^25^25^25^25"},null,2,{"$nulls":11},{"$f":"_xlfn.TEXTJOIN(\"^\",,W101:W109)","v":"12^3^2"},null,2,null,{"$f":"AH$100","v":6},10,15,25,35,45,50,null,null,null,{"$f":"_xlfn.TEXTJOIN(\"^\",,AK101:AK109)","v":"25^25^25^25^25^25^25"},null,2,null,{"$f":"AV$100","v":5},null,12,18,25,35,45,null,null,null,{"$f":"_xlfn.TEXTJOIN(\"^\",,AY101:AY109)","v":"18^18^18^18^18^18"}]
[null,null,1,5,10,17,25,{"$f":"H$100","v":35},40,{"$f":"J$100","v":50},60,70,75,null,null,{"$f":"_xlfn.TEXTJOIN(\"^\",,H101:H110)","v":"35^35^35^35^35^35^35"},null,1,17,11,13,9,12,12,16,6,null,null,null,{"$f":"_xlfn.TEXTJOIN(\"^\",,X101:X109)","v":"12^3^2^2"},null,1,{"$f":"AG$100","v":3},null,10,15,25,{"$f":"AL$100","v":35},45,50,null,null,null,{"$f":"_xlfn.TEXTJOIN(\"^\",,AL101:AL109)","v":"35^35^35^35^35^35^35^35^35"},null,1,{"$f":"AU$100","v":3},5,{"$f":"AW$100","v":8},null,null,25,35,45,null,null,null,{"$f":"_xlfn.TEXTJOIN(\"^\",,AZ101:AZ109)","v":"25^25^25^25^25^25^25"}]
[null,null,3,5,10,17,25,{"$f":"H$100","v":35},40,null,60,70,75,null,null,{"$f":"_xlfn.TEXTJOIN(\"^\",,I101:I110)","v":"40^40^40^40^40"},null,3,5,4,3,4,3,3,4,14,null,null,null,{"$f":"_xlfn.TEXTJOIN(\"^\",,Y101:Y109)","v":"16^4"},null,3,null,{"$f":"AH$100","v":6},10,15,25,35,45,50,null,null,null,{"$f":"_xlfn.TEXTJOIN(\"^\",,AM101:AM109)","v":"45^45^45^45^45^45^45"},null,3,null,5,null,{"$f":"AX$100","v":12},18,25,35,45,null,null,null,{"$f":"_xlfn.TEXTJOIN(\"^\",,BA101:BA109)","v":"35^35^35^35^35^35^35"}]
[null,null,5,5,null,17,25,null,40,50,60,70,75,null,null,{"$f":"_xlfn.TEXTJOIN(\"^\",,J101:J110)","v":"50^50^50^50^50^50^50"},null,5,5,null,null,null,2,2,null,2,null,null,null,{"$f":"_xlfn.TEXTJOIN(\"^\",,Z101:Z109)","v":"6^14^2"},null,5,{"$f":"AG$100","v":3},null,10,15,null,35,45,50,null,null,null,{"$f":"_xlfn.TEXTJOIN(\"^\",,AN101:AN109)","v":"50^50^50^50^50"},null,5,{"$f":"AU$100","v":3},null,null,12,18,25,35,45,null,null,null,{"$f":"_xlfn.TEXTJOIN(\"^\",,BB101:BB109)","v":"45^45^45^45^45^45^45"}]
[null,null,7,null,{"$f":"E$100","v":10},null,25,35,null,50,60,70,null,null,null,{"$f":"_xlfn.TEXTJOIN(\"^\",,K101:K110)","v":"60^60^60^60^60^60^60^60^60"},null,7,{"$nulls":5},2,{"$nulls":5},{"$f":"_xlfn.TEXTJOIN(\"^\",,AA101:AA109)","v":""},null,7,null,{"$f":"AH$100","v":6},null,15,25,35,45,{"$nulls":4},{"$f":"_xlfn.TEXTJOIN(\"^\",,AO101:AO109)","v":""},null,7,null,null,{"$f":"AW$100","v":8},null,18,null,35,{"$nulls":4},{"$f":"_xlfn.TEXTJOIN(\"^\",,BC101:BC109)","v":""}]
[null,null,9,null,null,{"$f":"F$100","v":17},null,35,null,50,60,{"$nulls":4},{"$f":"_xlfn.TEXTJOIN(\"^\",,L101:L110)","v":"70^70^70^70^70^70^70"},null,9,{"$nulls":11},{"$f":"_xlfn.TEXTJOIN(\"^\",,AB101:AB109)","v":""},null,9,{"$nulls":4},25,35,{"$nulls":5},{"$f":"_xlfn.TEXTJOIN(\"^\",,AP101:AP109)","v":""},null,9,{"$nulls":5},{"$f":"AZ$100","v":25},null,{"$f":"BB$100","v":45},null,null,null,{"$f":"_xlfn.TEXTJOIN(\"^\",,BD101:BD109)","v":""}]
[{"$nulls":15},{"$f":"_xlfn.TEXTJOIN(\"^\",,M101:M110)","v":"75^75^75^75^75"},{"$nulls":13},{"$f":"_xlfn.TEXTJOIN(\"^\",,AC101:AC109)","v":""},{"$nulls":13},{"$f":"_xlfn.TEXTJOIN(\"^\",,AQ101:AQ109)","v":""},{"$nulls":13},{"$f":"_xlfn.TEXTJOIN(\"^\",,BE101:BE109)","v":""}]
[{"$nulls":15},{"$f":"_xlfn.TEXTJOIN(\"^\",,N101:N110)","v":""},{"$nulls":12},"最终",{"$f":"_xlfn.TEXTJOIN(\"^\",,AD100:AD110)","v":"17^5^5^11^4^13^3^9^4^12^3^2^12^3^2^2^16^4^6^14^2"},{"$nulls":12},"最终",{"$f":"_xlfn.TEXTJOIN(\"^\",,AR100:AR110)","v":"3^3^3^6^6^6^6^10^10^10^10^10^15^15^15^15^15^15^15^25^25^25^25^25^25^25^35^35^35^35^35^35^35^35^35^45^45^45^45^45^45^45^50^50^50^50^50"},{"$nulls":12},"最终",{"$f":"_xlfn.TEXTJOIN(\"^\",,BF100:BF110)","v":"3^3^3^5^5^5^8^8^8^12^12^12^12^18^18^18^18^18^18^25^25^25^25^25^25^25^35^35^35^35^35^35^35^45^45^45^45^45^45^45"}]
[{"$nulls":14},"最终",{"$f":"_xlfn.TEXTJOIN(\"^\",,P101:P111)","v":"5^5^5^5^5^10^10^10^10^10^17^17^17^17^17^17^17^25^25^25^25^25^25^25^35^35^35^35^35^35^35^40^40^40^40^40^50^50^50^50^50^50^50^60^60^60^60^60^60^60^60^60^70^70^70^70^70^70^70^75^75^75^75^75"}]
[{"$nulls":14},{"$f":"COUNT(D101:N110)","v":64},{"$nulls":13},{"$f":"SUM(S101:AB110)","v":149},{"$nulls":13},{"$f":"COUNT(AG101:AP110)","v":47},{"$nulls":13},{"$f":"COUNT(AU101:BD110)","v":40},{"$f":"AQ113+BE113+AC113+O113","v":300}]
[{"$nulls":4},{"$f":"E115-D115","v":5},{"$f":"F115-E115","v":6},4,7,8,10,10,5,10,{"$nulls":6},{"$f":"T115-S115","v":5},5,7,8,10,5,10,{"$nulls":7},{"$f":"AH115-AG115","v":6},5,15,16,4,15,15,{"$nulls":7},{"$f":"AV115-AU115","v":2},3,4,6,7,10,10]
[1,"熔岩-3","波1·怪物",5,10,16,20,27,35,45,55,60,70,null,null,null,1,"波2·怪物",5,10,15,22,30,40,45,55,{"$nulls":4},3,"波3·怪物",4,10,15,30,46,50,65,80,{"$nulls":4},1,"波4·怪物",3,5,8,12,18,25,35,45]
[null,"5m",8,null,null,70392,null,70394,70394,70392,null,null,70392,null,null,{"$f":"_xlfn.TEXTJOIN(\"^\",,D116:D125)","v":"70394^70391^70391^70391^70394"},null,8,null,null,null,70394,null,70392,{"$nulls":5},{"$f":"_xlfn.TEXTJOIN(\"^\",,S116:S125)","v":"70395^70395^70395^70395"},null,8,{"$nulls":11},{"$f":"_xlfn.TEXTJOIN(\"^\",,AG116:AG125)","v":"70391^70392^70394"},null,8,{"$nulls":5},70392,null,70394,null,null,null,{"$f":"_xlfn.TEXTJOIN(\"^\",,AU116:AU125)","v":"70394^70393^70393^70394"}]
[null,null,6,70394,70391,70391,null,70392,null,70391,70394,null,70392,null,null,{"$f":"_xlfn.TEXTJOIN(\"^\",,E116:E125)","v":"70391^70392^70392^70391^70392^70392^70391"},null,6,null,70392,70394,null,70392,null,null,70394,null,null,null,{"$f":"_xlfn.TEXTJOIN(\"^\",,T116:T125)","v":"70392^70392^70392^70392"},null,6,{"$nulls":11},{"$f":"_xlfn.TEXTJOIN(\"^\",,AH116:AH125)","v":"70391^70393"},null,6,null,70392,null,70391,70394,null,70392,70392,null,null,null,{"$f":"_xlfn.TEXTJOIN(\"^\",,AV116:AV125)","v":"70392^70392^70392^70392"}]
[null,null,4,null,70392,null,70395,70392,70392,70391,70392,70395,70391,null,null,{"$f":"_xlfn.TEXTJOIN(\"^\",,F116:F125)","v":"70392^70391^70393^70394^70393^70391^70392"},null,4,70395,null,null,70392,70392,70391,70395,70392,null,null,null,{"$f":"_xlfn.TEXTJOIN(\"^\",,U116:U125)","v":"70394^70393^70393^70393^70394"},null,4,{"$nulls":11},{"$f":"_xlfn.TEXTJOIN(\"^\",,AI116:AI125)","v":"70395^70392"},null,4,70394,70392,70395,70391,70392,70391,70391,70391,null,null,null,{"$f":"_xlfn.TEXTJOIN(\"^\",,AW116:AW125)","v":"70395^70395^70395^70395"}]
[null,null,2,70391,70392,70393,70395,70391,70393,70391,70393,70395,70393,null,null,{"$f":"_xlfn.TEXTJOIN(\"^\",,G116:G125)","v":"70395^70395^70395^70395^70395"},null,2,70395,null,70393,70391,70393,70393,70395,70392,null,null,null,{"$f":"_xlfn.TEXTJOIN(\"^\",,V116:V125)","v":"70394^70392^70391^70392^70391^70392^70394"},null,2,{"$nulls":11},{"$f":"_xlfn.TEXTJOIN(\"^\",,AJ116:AJ125)","v":"70391^70392^70393^70394"},null,2,70393,null,70395,null,70393,70391,70391,70393,null,null,null,{"$f":"_xlfn.TEXTJOIN(\"^\",,AX116:AX125)","v":"70391^70391^70391^70391^70391"}]
[null,null,1,70391,70391,70394,70395,70391,70392,70392,70392,70395,70394,null,null,{"$f":"_xlfn.TEXTJOIN(\"^\",,H116:H125)","v":"70394^70392^70392^70391^70391^70391^70392^70392^70394"},null,1,null,70392,70393,70392,70394,70394,70395,70396,null,null,null,{"$f":"_xlfn.TEXTJOIN(\"^\",,W116:W125)","v":"70392^70392^70393^70394^70393^70392^70392"},null,1,70391,70391,70395,70391,70391,70395,70391,70391,null,null,null,{"$f":"_xlfn.TEXTJOIN(\"^\",,AK116:AK125)","v":"70391^70392"},null,1,null,null,null,70391,null,70394,70393,{"$nulls":4},{"$f":"_xlfn.TEXTJOIN(\"^\",,AY116:AY125)","v":"70394^70392^70393^70393^70392^70394"}]
[null,null,3,70391,70392,70393,70395,70391,70393,70391,70393,70395,70393,null,null,{"$f":"_xlfn.TEXTJOIN(\"^\",,I116:I125)","v":"70394^70392^70393^70392^70393^70392^70394"},null,3,70395,70392,70393,70391,70393,70393,70395,70392,null,null,null,{"$f":"_xlfn.TEXTJOIN(\"^\",,X116:X125)","v":"70392^70391^70393^70394^70393^70391^70392"},null,3,70392,70393,70392,70392,70392,70393,70392,70392,null,null,null,{"$f":"_xlfn.TEXTJOIN(\"^\",,AL116:AL125)","v":"70395^70393^70394"},null,3,70393,null,70395,null,70393,70391,70391,70393,null,null,null,{"$f":"_xlfn.TEXTJOIN(\"^\",,AZ116:AZ125)","v":"70392^70391^70391^70394^70391^70391^70392"}]
[null,null,5,null,70392,null,70395,70392,70392,70391,70392,70395,70391,null,null,{"$f":"_xlfn.TEXTJOIN(\"^\",,J116:J125)","v":"70392^70391^70391^70391^70392^70391^70391^70391^70392"},null,5,70395,null,null,70392,70392,70391,70395,70392,null,null,null,{"$f":"_xlfn.TEXTJOIN(\"^\",,Y116:Y125)","v":"70395^70395^70395^70395^70395"},null,5,70394,null,null,70393,null,70394,null,70393,null,null,null,{"$f":"_xlfn.TEXTJOIN(\"^\",,AM116:AM125)","v":"70391^70392"},null,5,70394,70392,70395,70391,70392,70391,70391,70391,null,null,null,{"$f":"_xlfn.TEXTJOIN(\"^\",,BA116:BA125)","v":"70392^70391^70391^70393^70391^70391^70392"}]
[null,null,7,70394,70391,70391,null,70392,null,70391,70394,null,70392,null,null,{"$f":"_xlfn.TEXTJOIN(\"^\",,K116:K125)","v":"70394^70392^70393^70392^70393^70392^70394"},null,7,null,70392,70394,null,70392,null,null,70394,null,null,null,{"$f":"_xlfn.TEXTJOIN(\"^\",,Z116:Z125)","v":"70394^70392^70392^70396^70392^70392^70394"},null,7,null,null,null,70394,null,null,null,70394,null,null,null,{"$f":"_xlfn.TEXTJOIN(\"^\",,AN116:AN125)","v":"70391^70392^70393^70394"},null,7,null,70392,null,70391,70394,null,70392,70392,null,null,null,{"$f":"_xlfn.TEXTJOIN(\"^\",,BB116:BB125)","v":"70394^70392^70391^70393^70393^70391^70392^70394"}]
[null,null,9,null,null,70392,null,70394,70394,70392,null,null,70392,null,null,{"$f":"_xlfn.TEXTJOIN(\"^\",,L116:L125)","v":"70395^70395^70395^70395^70395"},null,9,null,null,null,70394,null,70392,{"$nulls":5},{"$f":"_xlfn.TEXTJOIN(\"^\",,AA116:AA125)","v":""},null,9,{"$nulls":11},{"$f":"_xlfn.TEXTJOIN(\"^\",,AO116:AO125)","v":""},null,9,{"$nulls":5},70392,null,70394,null,null,null,{"$f":"_xlfn.TEXTJOIN(\"^\",,BC116:BC125)","v":""}]
[{"$nulls":15},{"$f":"_xlfn.TEXTJOIN(\"^\",,M116:M125)","v":"70392^70392^70391^70393^70394^70393^70391^70392^70392"},{"$nulls":13},{"$f":"_xlfn.TEXTJOIN(\"^\",,AB116:AB125)","v":""},{"$nulls":13},{"$f":"_xlfn.TEXTJOIN(\"^\",,AP116:AP125)","v":""},{"$nulls":13},{"$f":"_xlfn.TEXTJOIN(\"^\",,BD116:BD125)","v":""}]
[{"$nulls":15},{"$f":"_xlfn.TEXTJOIN(\"^\",,N116:N125)","v":""},{"$nulls":13},{"$f":"_xlfn.TEXTJOIN(\"^\",,AC116:AC125)","v":""},{"$nulls":13},{"$f":"_xlfn.TEXTJOIN(\"^\",,AQ116:AQ125)","v":""},{"$nulls":13},{"$f":"_xlfn.TEXTJOIN(\"^\",,BE116:BE125)","v":""}]
[{"$nulls":14},"最终",{"$f":"_xlfn.TEXTJOIN(\"^\",,P116:P126)","v":"70394^70391^70391^70391^70394^70391^70392^70392^70391^70392^70392^70391^70392^70391^70393^70394^70393^70391^70392^70395^70395^70395^70395^70395^70394^70392^70392^70391^70391^70391^70392^70392^70394^70394^70392^70393^70392^70393^70392^70394^70392^70391^70391^70391^70392^70391^70391^70391^70392^70394^70392^70393^70392^70393^70392^70394^70395^70395^70395^70395^70395^70392^70392^70391^70393^70394^70393^70391^70392^70392"},{"$nulls":12},"最终",{"$f":"_xlfn.TEXTJOIN(\"^\",,AD116:AD126)","v":"70395^70395^70395^70395^70392^70392^70392^70392^70394^70393^70393^70393^70394^70394^70392^70391^70392^70391^70392^70394^70392^70392^70393^70394^70393^70392^70392^70392^70391^70393^70394^70393^70391^70392^70395^70395^70395^70395^70395^70394^70392^70392^70396^70392^70392^70394"},{"$nulls":12},"最终",{"$f":"_xlfn.TEXTJOIN(\"^\",,AR116:AR126)","v":"70391^70392^70394^70391^70393^70395^70392^70391^70392^70393^70394^70391^70392^70395^70393^70394^70391^70392^70391^70392^70393^70394"},{"$nulls":12},"最终",{"$f":"_xlfn.TEXTJOIN(\"^\",,BF116:BF126)","v":"70394^70393^70393^70394^70392^70392^70392^70392^70395^70395^70395^70395^70391^70391^70391^70391^70391^70394^70392^70393^70393^70392^70394^70392^70391^70391^70394^70391^70391^70392^70392^70391^70391^70393^70391^70391^70392^70394^70392^70391^70393^70393^70391^70392^70394"}]
[null,null,8,null,null,"岩浆人",null,"火精灵","火精灵","岩浆人",null,null,"岩浆人",{"$nulls":4},8,null,null,null,"火精灵",null,"岩浆人",{"$nulls":7},8,{"$nulls":13},8,{"$nulls":5},"岩浆人",null,"火精灵"]
[null,null,6,"火精灵","岩浆蝎","岩浆蝎",null,"岩浆人",null,"岩浆蝎","火精灵",null,"岩浆人",{"$nulls":4},6,null,"岩浆人","火精灵",null,"岩浆人",null,null,"火精灵",{"$nulls":5},6,{"$nulls":13},6,null,"岩浆人",null,"岩浆蝎","火精灵",null,"岩浆人","岩浆人"]
[null,null,4,null,"岩浆人",null,"火山蜘蛛","岩浆人","岩浆人","岩浆蝎","岩浆人","火山蜘蛛","岩浆蝎",{"$nulls":4},4,"火山蜘蛛",null,null,"岩浆人","岩浆人","岩浆蝎","火山蜘蛛","岩浆人",{"$nulls":5},4,{"$nulls":13},4,"火精灵","岩浆人","火山蜘蛛","岩浆蝎","岩浆人","岩浆蝎","岩浆蝎","岩浆蝎"]
[null,null,2,"岩浆蝎","岩浆人","岩浆战士","火山蜘蛛","岩浆蝎","岩浆战士","岩浆蝎","岩浆战士","火山蜘蛛","岩浆战士",{"$nulls":4},2,"火山蜘蛛",null,"岩浆战士","岩浆蝎","岩浆战士","岩浆战士","火山蜘蛛","岩浆人",{"$nulls":5},2,{"$nulls":13},2,"岩浆战士",null,"火山蜘蛛",null,"岩浆战士","岩浆蝎","岩浆蝎","岩浆战士"]
[null,null,1,"岩浆蝎","岩浆蝎","火精灵","火山蜘蛛","岩浆蝎","岩浆人","岩浆人","岩浆人","火山蜘蛛","火精灵",{"$nulls":4},1,null,"岩浆人","岩浆战士","岩浆人","火精灵","火精灵","火山蜘蛛","岩浆巨兽",{"$nulls":5},1,"岩浆蝎","岩浆蝎","火山蜘蛛","岩浆蝎","岩浆蝎","火山蜘蛛","岩浆蝎","岩浆蝎",{"$nulls":5},1,null,null,null,"岩浆蝎",null,"火精灵","岩浆战士"]
[null,null,3,"岩浆蝎","岩浆人","岩浆战士","火山蜘蛛","岩浆蝎","岩浆战士","岩浆蝎","岩浆战士","火山蜘蛛","岩浆战士",{"$nulls":4},3,"火山蜘蛛","岩浆人","岩浆战士","岩浆蝎","岩浆战士","岩浆战士","火山蜘蛛","岩浆人",{"$nulls":5},3,"岩浆人","岩浆战士","岩浆人","岩浆人","岩浆人","岩浆战士","岩浆人","岩浆人",{"$nulls":5},3,"岩浆战士",null,"火山蜘蛛",null,"岩浆战士","岩浆蝎","岩浆蝎","岩浆战士"]
[null,null,5,null,"岩浆人",null,"火山蜘蛛","岩浆人","岩浆人","岩浆蝎","岩浆人","火山蜘蛛","岩浆蝎",{"$nulls":4},5,"火山蜘蛛",null,null,"岩浆人","岩浆人","岩浆蝎","火山蜘蛛","岩浆人",{"$nulls":5},5,"火精灵",null,null,"岩浆战士",null,"火精灵",null,"岩浆战士",{"$nulls":5},5,"火精灵","岩浆人","火山蜘蛛","岩浆蝎","岩浆人","岩浆蝎","岩浆蝎","岩浆蝎"]
[null,null,7,"火精灵","岩浆蝎","岩浆蝎",null,"岩浆人",null,"岩浆蝎","火精灵",null,"岩浆人",{"$nulls":4},7,null,"岩浆人","火精灵",null,"岩浆人",null,null,"火精灵",{"$nulls":5},7,null,null,null,"火精灵",null,null,null,"火精灵",{"$nulls":5},7,null,"岩浆人",null,"岩浆蝎","火精灵",null,"岩浆人","岩浆人"]
[null,null,9,null,null,"岩浆人",null,"火精灵","火精灵","岩浆人",null,null,"岩浆人",{"$nulls":4},9,null,null,null,"火精灵",null,"岩浆人",{"$nulls":7},9,{"$nulls":13},9,{"$nulls":5},"岩浆人",null,"火精灵"]
[]
[null,null,"位置",5,10,16,20,27,35,45,55,60,70,{"$nulls":4},"位置",5,10,15,22,30,40,45,55,{"$nulls":5},"位置",4,10,15,30,46,50,65,80,null,null,null,{"$f":"_xlfn.TEXTJOIN(\"^\",,AG139:AG153)","v":"0^0^0"},null,"位置",3,5,8,12,18,25,35,45,null,null,null,{"$f":"_xlfn.TEXTJOIN(\"^\",,AU139:AU153)","v":"4^2^3^5"}]
[null,null,8,null,null,{"$f":"$C139","v":8},null,{"$f":"$C139","v":8},{"$f":"$C139","v":8},{"$f":"$C139","v":8},null,null,{"$f":"$C139","v":8},null,null,{"$f":"_xlfn.TEXTJOIN(\"^\",,D139:D153)","v":"6^2^1^3^7"},null,8,null,null,null,{"$f":"$C139","v":8},null,{"$f":"$C139","v":8},{"$nulls":7},8,{"$nulls":11},{"$f":"_xlfn.TEXTJOIN(\"^\",,AH139:AH153)","v":"0^0"},null,8,{"$nulls":5},{"$f":"$C139","v":8},null,{"$f":"$C139","v":8},null,null,null,{"$f":"_xlfn.TEXTJOIN(\"^\",,AV139:AV153)","v":"6^4^5^7"}]
[null,null,6,{"$f":"$C140","v":6},{"$f":"$C140","v":6},6,null,6,null,6,6,null,6,null,null,{"$f":"_xlfn.TEXTJOIN(\"^\",,E139:E153)","v":"6^4^2^1^3^5^7"},null,6,null,{"$f":"$C140","v":6},{"$f":"$C140","v":6},null,{"$f":"$C140","v":6},null,null,{"$f":"$C140","v":6},null,null,null,{"$f":"_xlfn.TEXTJOIN(\"^\",,S139:S153)","v":"101^102^104^105"},null,6,{"$nulls":11},{"$f":"_xlfn.TEXTJOIN(\"^\",,AI139:AI153)","v":"100^0"},null,6,null,{"$f":"$C140","v":6},null,{"$f":"$C140","v":6},6,null,{"$f":"$C140","v":6},6,null,null,null,{"$f":"_xlfn.TEXTJOIN(\"^\",,AW139:AW153)","v":"101^102^104^105"}]
[null,null,4,null,4,null,null,4,4,4,4,null,4,null,null,{"$f":"_xlfn.TEXTJOIN(\"^\",,F139:F153)","v":"8^6^2^1^3^7^9"},null,4,null,null,null,{"$f":"$C141","v":4},4,4,null,4,null,null,null,{"$f":"_xlfn.TEXTJOIN(\"^\",,T139:T153)","v":"6^1^3^7"},null,4,{"$nulls":11},{"$f":"_xlfn.TEXTJOIN(\"^\",,AJ139:AJ153)","v":"0^0^0^0"},null,4,{"$f":"$C141","v":4},{"$f":"$C141","v":4},null,4,4,4,4,4,null,null,null,{"$f":"_xlfn.TEXTJOIN(\"^\",,AX139:AX153)","v":"6^4^1^5^7"}]
[null,null,2,{"$f":"$C142","v":2},2,{"$f":"$C142","v":2},null,2,2,2,2,null,2,null,null,{"$f":"_xlfn.TEXTJOIN(\"^\",,G139:G153)","v":"101^102^103^104^105"},null,2,null,null,{"$f":"$C142","v":2},2,2,2,null,2,null,null,null,{"$f":"_xlfn.TEXTJOIN(\"^\",,U139:U153)","v":"6^2^1^3^7"},null,2,{"$nulls":11},{"$f":"_xlfn.TEXTJOIN(\"^\",,AK139:AK153)","v":"0^0"},null,2,2,null,null,null,{"$f":"$C142","v":2},2,2,2,null,null,null,{"$f":"_xlfn.TEXTJOIN(\"^\",,AY139:AY153)","v":"6^4^2^3^5^7"}]
[null,null,1,1,1,{"$f":"$C143","v":1},null,1,1,1,1,null,1,null,null,{"$f":"_xlfn.TEXTJOIN(\"^\",,H139:H153)","v":"8^6^4^2^1^3^5^7^9"},null,1,null,{"$f":"$C143","v":1},{"$f":"$C143","v":1},1,1,1,null,{"$f":"$C143","v":1},null,null,null,{"$f":"_xlfn.TEXTJOIN(\"^\",,V139:V153)","v":"8^4^2^1^3^5^9"},null,1,0,0,100,0,0,100,0,0,null,null,null,{"$f":"_xlfn.TEXTJOIN(\"^\",,AL139:AL153)","v":"100^0^0"},null,1,null,null,null,{"$f":"$C143","v":1},null,1,1,{"$nulls":4},{"$f":"_xlfn.TEXTJOIN(\"^\",,AZ139:AZ153)","v":"8^4^2^1^3^5^9"}]
[null,null,3,3,3,{"$f":"$C144","v":3},null,3,3,3,3,null,3,null,null,{"$f":"_xlfn.TEXTJOIN(\"^\",,I139:I153)","v":"8^4^2^1^3^5^9"},null,3,null,{"$f":"$C144","v":3},{"$f":"$C144","v":3},3,3,3,null,3,null,null,null,{"$f":"_xlfn.TEXTJOIN(\"^\",,W139:W153)","v":"6^4^2^1^3^5^7"},null,3,0,0,0,0,0,0,0,0,null,null,null,{"$f":"_xlfn.TEXTJOIN(\"^\",,AM139:AM153)","v":"0^0"},null,3,{"$f":"$C144","v":3},null,null,null,{"$f":"$C144","v":3},3,3,3,null,null,null,{"$f":"_xlfn.TEXTJOIN(\"^\",,BA139:BA153)","v":"6^4^2^1^3^5^7"}]
[null,null,5,null,5,null,null,5,5,5,5,null,5,null,null,{"$f":"_xlfn.TEXTJOIN(\"^\",,J139:J153)","v":"8^6^4^2^1^3^5^7^9"},null,5,null,null,null,5,5,5,null,5,null,null,null,{"$f":"_xlfn.TEXTJOIN(\"^\",,X139:X153)","v":"8^4^2^1^3^5^9"},null,5,0,null,null,0,null,0,null,0,null,null,null,{"$f":"_xlfn.TEXTJOIN(\"^\",,AN139:AN153)","v":"0^0^0^0"},null,5,5,{"$f":"$C145","v":5},null,{"$f":"$C145","v":5},5,5,5,5,null,null,null,{"$f":"_xlfn.TEXTJOIN(\"^\",,BB139:BB153)","v":"8^6^4^2^3^5^7^9"}]
[null,null,7,{"$f":"$C146","v":7},7,7,null,7,null,7,7,null,7,null,null,{"$f":"_xlfn.TEXTJOIN(\"^\",,K139:K153)","v":"6^4^2^1^3^5^7"},null,7,null,{"$f":"$C146","v":7},{"$f":"$C146","v":7},null,7,null,null,7,null,null,null,{"$f":"_xlfn.TEXTJOIN(\"^\",,Y139:Y153)","v":"101^102^103^104^105"},null,7,null,null,null,0,null,null,null,0,null,null,null,{"$f":"_xlfn.TEXTJOIN(\"^\",,AO139:AO153)","v":""},null,7,null,{"$f":"$C146","v":7},null,7,7,null,7,7,null,null,null,{"$f":"_xlfn.TEXTJOIN(\"^\",,BC139:BC153)","v":""}]
[null,null,9,null,null,9,null,9,{"$f":"$C147","v":9},9,null,null,9,null,null,{"$f":"_xlfn.TEXTJOIN(\"^\",,L139:L153)","v":"101^102^103^104^105"},null,9,null,null,null,{"$f":"$C147","v":9},null,{"$f":"$C147","v":9},{"$nulls":7},9,{"$nulls":11},{"$f":"_xlfn.TEXTJOIN(\"^\",,AP139:AP153)","v":""},null,9,{"$nulls":5},{"$f":"$C147","v":9},null,9,null,null,null,{"$f":"_xlfn.TEXTJOIN(\"^\",,BD139:BD153)","v":""}]
[null,null,"空降",{"$nulls":12},{"$f":"_xlfn.TEXTJOIN(\"^\",,M139:M153)","v":"8^6^4^2^1^3^5^7^9"},null,"空降",{"$nulls":13},"空降",{"$nulls":11},{"$f":"_xlfn.TEXTJOIN(\"^\",,AQ139:AQ147)","v":""},null,"空降",{"$nulls":11},{"$f":"_xlfn.TEXTJOIN(\"^\",,BE139:BE147)","v":""}]
[null,null,101,null,null,null,{"$f":"$C149","v":101},{"$nulls":4},{"$f":"$C149","v":101},null,null,null,{"$f":"_xlfn.TEXTJOIN(\"^\",,N139:N153)","v":""},null,101,{"$f":"$C149","v":101},{"$nulls":5},{"$f":"$C149","v":101},{"$nulls":4},{"$f":"_xlfn.TEXTJOIN(\"^\",,Z139:Z153)","v":"6^4^2^1^3^5^7"},null,101,{"$nulls":13},101,null,null,{"$f":"$C149","v":101}]
[null,null,102,null,null,null,102,{"$nulls":4},{"$f":"$C150","v":102},{"$nulls":5},102,102,{"$nulls":5},102,{"$nulls":4},{"$f":"_xlfn.TEXTJOIN(\"^\",,AA139:AA153)","v":""},null,102,{"$nulls":13},102,null,null,102]
[null,null,103,null,null,null,103,{"$nulls":4},{"$f":"$C151","v":103},{"$nulls":5},103,{"$nulls":6},103,{"$nulls":4},{"$f":"_xlfn.TEXTJOIN(\"^\",,AB139:AB153)","v":""},null,103,{"$nulls":13},103]
[null,null,104,null,null,null,104,{"$nulls":4},{"$f":"$C152","v":104},{"$nulls":5},104,{"$f":"$C152","v":104},{"$nulls":5},104,{"$nulls":6},104,{"$nulls":13},104,null,null,{"$f":"$C152","v":104}]
[null,null,105,null,null,null,105,{"$nulls":4},105,{"$nulls":5},105,105,{"$nulls":5},105,{"$nulls":6},105,{"$nulls":13},105,null,null,105]
[{"$nulls":14},"最终",{"$f":"_xlfn.TEXTJOIN(\"^\",,P139:P153)","v":"6^2^1^3^7^6^4^2^1^3^5^7^8^6^2^1^3^7^9^101^102^103^104^105^8^6^4^2^1^3^5^7^9^8^4^2^1^3^5^9^8^6^4^2^1^3^5^7^9^6^4^2^1^3^5^7^101^102^103^104^105^8^6^4^2^1^3^5^7^9"},{"$nulls":12},"最终",{"$f":"_xlfn.TEXTJOIN(\"^\",,AD139:AD153)","v":"101^102^104^105^6^1^3^7^6^2^1^3^7^8^4^2^1^3^5^9^6^4^2^1^3^5^7^8^4^2^1^3^5^9^101^102^103^104^105^6^4^2^1^3^5^7"},{"$nulls":12},"最终",{"$f":"_xlfn.TEXTJOIN(\"^\",,AR138:AR153)","v":"0^0^0^0^0^100^0^0^0^0^0^0^0^100^0^0^0^0^0^0^0^0"},{"$nulls":12},"最终",{"$f":"_xlfn.TEXTJOIN(\"^\",,BF138:BF153)","v":"4^2^3^5^6^4^5^7^101^102^104^105^6^4^1^5^7^6^4^2^3^5^7^8^4^2^1^3^5^9^6^4^2^1^3^5^7^8^6^4^2^3^5^7^9"}]
[]
[null,null,"时间",5,10,16,20,27,35,45,55,60,70,{"$nulls":4},"时间",5,10,15,22,30,40,45,55,null,null,null,{"$f":"_xlfn.TEXTJOIN(\"^\",,S157:S165)","v":"5^5^5^5"},null,"时间",4,10,15,30,46,50,65,80,null,null,null,{"$f":"_xlfn.TEXTJOIN(\"^\",,AG157:AG165)","v":"18^5^5"},null,"时间",3,5,8,12,18,25,35,45,null,null,null,{"$f":"_xlfn.TEXTJOIN(\"^\",,AU157:AU165)","v":"3^3^3^3"}]
[null,null,8,null,null,{"$f":"F$156","v":16},null,{"$f":"H$156","v":27},{"$f":"I$156","v":35},{"$f":"J$156","v":45},null,null,{"$f":"M$156","v":70},null,null,{"$f":"_xlfn.TEXTJOIN(\"^\",,D157:D166)","v":"5^5^5^5^5"},null,8,null,null,null,{"$f":"V$156","v":22},null,{"$f":"X$156","v":40},{"$nulls":5},{"$f":"_xlfn.TEXTJOIN(\"^\",,T157:T165)","v":"10^10^10^10"},null,8,{"$nulls":11},{"$f":"_xlfn.TEXTJOIN(\"^\",,AH157:AH165)","v":"12^3"},null,8,{"$nulls":5},{"$f":"AZ$267","v":0},null,{"$f":"BB$156","v":45},null,null,null,{"$f":"_xlfn.TEXTJOIN(\"^\",,AV157:AV165)","v":"5^5^5^5"}]
[null,null,6,{"$f":"D$156","v":5},{"$f":"E$156","v":10},16,null,27,null,45,55,null,70,null,null,{"$f":"_xlfn.TEXTJOIN(\"^\",,E157:E166)","v":"10^10^10^10^10^10^10"},null,6,null,{"$f":"T$156","v":10},{"$f":"U$156","v":15},null,{"$f":"W$156","v":30},null,null,{"$f":"Z$156","v":55},null,null,null,{"$f":"_xlfn.TEXTJOIN(\"^\",,U157:U165)","v":"15^15^15^15^15"},null,6,{"$nulls":11},{"$f":"_xlfn.TEXTJOIN(\"^\",,AI157:AI165)","v":"9^4"},null,6,null,{"$f":"AV$156","v":5},null,{"$f":"AX$156","v":12},18,null,{"$f":"BA$156","v":35},45,null,null,null,{"$f":"_xlfn.TEXTJOIN(\"^\",,AW157:AW165)","v":"8^8^8^8"}]
[null,null,4,null,10,null,{"$f":"G$156","v":20},27,35,45,55,60,70,null,null,{"$f":"_xlfn.TEXTJOIN(\"^\",,F157:F166)","v":"16^16^16^16^16^16^16"},null,4,{"$f":"S$156","v":5},null,null,{"$f":"V$156","v":22},30,40,45,55,null,null,null,{"$f":"_xlfn.TEXTJOIN(\"^\",,V157:V165)","v":"22^22^22^22^22^22^22"},null,4,{"$nulls":11},{"$f":"_xlfn.TEXTJOIN(\"^\",,AJ157:AJ165)","v":"10^3^2^2"},null,4,{"$f":"AU$156","v":3},5,8,12,18,25,35,45,null,null,null,{"$f":"_xlfn.TEXTJOIN(\"^\",,AX157:AX165)","v":"12^12^12^12^12"}]
[null,null,2,{"$f":"D$156","v":5},10,16,20,27,35,45,55,60,70,null,null,{"$f":"_xlfn.TEXTJOIN(\"^\",,G157:G166)","v":"20^20^20^20^20"},null,2,5,null,{"$f":"U$156","v":15},22,30,40,45,55,null,null,null,{"$f":"_xlfn.TEXTJOIN(\"^\",,W157:W165)","v":"30^30^30^30^30^30^30"},null,2,{"$nulls":11},{"$f":"_xlfn.TEXTJOIN(\"^\",,AK157:AK165)","v":"15^3"},null,2,3,null,8,null,18,25,35,45,null,null,null,{"$f":"_xlfn.TEXTJOIN(\"^\",,AY157:AY165)","v":"18^18^18^18^18^18"}]
[null,null,1,5,10,16,20,27,35,45,55,60,70,null,null,{"$f":"_xlfn.TEXTJOIN(\"^\",,H157:H166)","v":"27^27^27^27^27^27^27^27^27"},null,1,null,{"$f":"T$156","v":10},15,22,30,40,45,55,null,null,null,{"$f":"_xlfn.TEXTJOIN(\"^\",,X157:X165)","v":"40^40^40^40^40^40^40"},null,1,18,12,9,10,15,9,16,14,null,null,null,{"$f":"_xlfn.TEXTJOIN(\"^\",,AL157:AL165)","v":"9^3^2"},null,1,null,null,null,{"$f":"AX$156","v":12},null,25,35,{"$nulls":4},{"$f":"_xlfn.TEXTJOIN(\"^\",,AZ157:AZ165)","v":"0^25^25^25^25^25^25"}]
[null,null,3,5,10,16,20,27,35,45,55,60,70,null,null,{"$f":"_xlfn.TEXTJOIN(\"^\",,I157:I166)","v":"35^35^35^35^35^35^35"},null,3,{"$f":"S$156","v":5},10,{"$f":"U$156","v":15},22,30,40,45,55,null,null,null,{"$f":"_xlfn.TEXTJOIN(\"^\",,Y157:Y165)","v":"45^45^45^45^45"},null,3,5,3,4,3,3,3,4,3,null,null,null,{"$f":"_xlfn.TEXTJOIN(\"^\",,AM157:AM165)","v":"16^4"},null,3,{"$f":"AU$156","v":3},null,{"$f":"AW$156","v":8},null,{"$f":"AY$156","v":18},25,35,45,null,null,null,{"$f":"_xlfn.TEXTJOIN(\"^\",,BA157:BA165)","v":"35^35^35^35^35^35^35"}]
[null,null,5,null,10,null,20,27,35,45,55,60,70,null,null,{"$f":"_xlfn.TEXTJOIN(\"^\",,J157:J166)","v":"45^45^45^45^45^45^45^45^45"},null,5,5,null,null,22,30,40,45,55,null,null,null,{"$f":"_xlfn.TEXTJOIN(\"^\",,Z157:Z165)","v":"55^55^55^55^55^55^55"},null,5,5,null,null,2,null,2,null,2,null,null,null,{"$f":"_xlfn.TEXTJOIN(\"^\",,AN157:AN165)","v":"14^3^2^2"},null,5,3,5,8,12,18,25,35,45,null,null,null,{"$f":"_xlfn.TEXTJOIN(\"^\",,BB157:BB165)","v":"45^45^45^45^45^45^45^45"}]
[null,null,7,{"$f":"D$156","v":5},10,16,null,27,null,45,55,null,70,null,null,{"$f":"_xlfn.TEXTJOIN(\"^\",,K157:K166)","v":"55^55^55^55^55^55^55"},null,7,null,{"$f":"T$156","v":10},{"$f":"U$156","v":15},null,30,null,null,55,null,null,null,{"$f":"_xlfn.TEXTJOIN(\"^\",,AA157:AA165)","v":""},null,7,null,null,null,2,null,null,null,2,null,null,null,{"$f":"_xlfn.TEXTJOIN(\"^\",,AO157:AO165)","v":""},null,7,null,5,null,12,18,null,35,45,null,null,null,{"$f":"_xlfn.TEXTJOIN(\"^\",,BC157:BC165)","v":""}]
[null,null,9,null,null,16,null,27,{"$f":"I$156","v":35},45,null,null,70,null,null,{"$f":"_xlfn.TEXTJOIN(\"^\",,L157:L166)","v":"60^60^60^60^60"},null,9,null,null,null,{"$f":"V$156","v":22},null,{"$f":"X$156","v":40},{"$nulls":5},{"$f":"_xlfn.TEXTJOIN(\"^\",,AB157:AB165)","v":""},null,9,{"$nulls":11},{"$f":"_xlfn.TEXTJOIN(\"^\",,AP157:AP165)","v":""},null,9,{"$nulls":5},{"$f":"AZ$156","v":25},null,45,null,null,null,{"$f":"_xlfn.TEXTJOIN(\"^\",,BD157:BD165)","v":""}]
[{"$nulls":15},{"$f":"_xlfn.TEXTJOIN(\"^\",,M157:M166)","v":"70^70^70^70^70^70^70^70^70"},{"$nulls":13},{"$f":"_xlfn.TEXTJOIN(\"^\",,AC157:AC165)","v":""},{"$nulls":13},{"$f":"_xlfn.TEXTJOIN(\"^\",,AQ157:AQ165)","v":""},{"$nulls":13},{"$f":"_xlfn.TEXTJOIN(\"^\",,BE157:BE165)","v":""}]
[{"$nulls":15},{"$f":"_xlfn.TEXTJOIN(\"^\",,N157:N166)","v":""},{"$nulls":12},"最终",{"$f":"_xlfn.TEXTJOIN(\"^\",,AD156:AD166)","v":"5^5^5^5^10^10^10^10^15^15^15^15^15^22^22^22^22^22^22^22^30^30^30^30^30^30^30^40^40^40^40^40^40^40^45^45^45^45^45^55^55^55^55^55^55^55"},{"$nulls":12},"最终",{"$f":"_xlfn.TEXTJOIN(\"^\",,AR156:AR166)","v":"18^5^5^12^3^9^4^10^3^2^2^15^3^9^3^2^16^4^14^3^2^2"},{"$nulls":12},"最终",{"$f":"_xlfn.TEXTJOIN(\"^\",,BF156:BF166)","v":"3^3^3^3^5^5^5^5^8^8^8^8^12^12^12^12^12^18^18^18^18^18^18^0^25^25^25^25^25^25^35^35^35^35^35^35^35^45^45^45^45^45^45^45^45"}]
[{"$nulls":14},"最终",{"$f":"_xlfn.TEXTJOIN(\"^\",,P157:P167)","v":"5^5^5^5^5^10^10^10^10^10^10^10^16^16^16^16^16^16^16^20^20^20^20^20^27^27^27^27^27^27^27^27^27^35^35^35^35^35^35^35^45^45^45^45^45^45^45^45^45^55^55^55^55^55^55^55^60^60^60^60^60^70^70^70^70^70^70^70^70^70"}]
[{"$nulls":14},{"$f":"COUNT(D157:N166)","v":70},{"$nulls":13},{"$f":"COUNT(S157:AB166)","v":46},{"$nulls":13},{"$f":"SUM(AG157:AP166)","v":146},{"$nulls":13},{"$f":"COUNT(AU157:BD166)","v":45},{"$f":"AQ169+BE169+AC169+O169","v":307}]

{"sheet":"14","index":14,"n_rows":169,"n_cols":58,"rows_kept":169,"cut":false,"hidden":false,"merged":[]}
[]
[{"$nulls":4},{"$f":"E3-D3","v":5},{"$f":"F3-E3","v":6},4,7,8,10,5,10,10,{"$nulls":6},{"$f":"T3-S3","v":5},5,5,10,15,15,10,{"$nulls":7},{"$f":"AH3-AG3","v":2},4,5,10,15,17,18,{"$nulls":7},{"$f":"AV3-AU3","v":2},2,2,2,5,10,10]
[1,"熔谷-1","波1·怪物",5,10,16,20,27,35,45,50,60,70,null,null,null,3,"波2·怪物",5,10,15,20,30,45,60,70,{"$nulls":4},3,"波3·怪物",4,6,10,15,25,40,57,75,{"$nulls":4},1,"波4·怪物",2,4,6,8,10,15,25,35]
[null,"5m",8,{"$nulls":5},70404,null,null,null,70404,null,null,{"$f":"_xlfn.TEXTJOIN(\"^\",,D4:D13)","v":"70404^70402^70402^70402^70404"},null,8,{"$nulls":11},{"$f":"_xlfn.TEXTJOIN(\"^\",,S4:S13)","v":"70405^70402^70404"},null,8,{"$nulls":11},{"$f":"_xlfn.TEXTJOIN(\"^\",,AG4:AG13)","v":"70401^70403"},null,8,{"$nulls":7},70402,null,null,null,{"$f":"_xlfn.TEXTJOIN(\"^\",,AU4:AU13)","v":"70401^70401^70401^70401"}]
[null,null,6,null,70401,70404,null,70402,70402,70402,null,70402,70402,null,null,{"$f":"_xlfn.TEXTJOIN(\"^\",,E4:E13)","v":"70401^70401^70402^70401^70402^70401^70401"},null,6,{"$nulls":11},{"$f":"_xlfn.TEXTJOIN(\"^\",,T4:T13)","v":"70401^70402"},null,6,{"$nulls":11},{"$f":"_xlfn.TEXTJOIN(\"^\",,AH4:AH13)","v":"70401^70402^70404"},null,6,{"$nulls":5},70404,70402,70402,null,null,null,{"$f":"_xlfn.TEXTJOIN(\"^\",,AV4:AV13)","v":"70402^70402^70402"}]
[null,null,4,70404,70401,70402,70405,70401,70401,70402,70405,70401,70401,null,null,{"$f":"_xlfn.TEXTJOIN(\"^\",,F4:F13)","v":"70404^70402^70403^70402^70403^70402^70404"},null,4,{"$nulls":11},{"$f":"_xlfn.TEXTJOIN(\"^\",,U4:U13)","v":"70401^70403"},null,4,{"$nulls":11},{"$f":"_xlfn.TEXTJOIN(\"^\",,AI4:AI13)","v":"70405^70402"},null,4,70401,70402,null,70405,70403,70401,70402,70401,null,null,null,{"$f":"_xlfn.TEXTJOIN(\"^\",,AW4:AW13)","v":"70404^70404"}]
[null,null,2,70402,70402,70403,70405,70401,70403,70401,70405,70401,70403,null,null,{"$f":"_xlfn.TEXTJOIN(\"^\",,G4:G13)","v":"70405^70405^70405^70405^70405"},null,2,{"$nulls":11},{"$f":"_xlfn.TEXTJOIN(\"^\",,V4:V13)","v":"70401^70402^70404"},null,2,{"$nulls":11},{"$f":"_xlfn.TEXTJOIN(\"^\",,AJ4:AJ13)","v":"70401^70403^70404"},null,2,70401,null,70404,70405,null,70401,null,70403,null,null,null,{"$f":"_xlfn.TEXTJOIN(\"^\",,AX4:AX13)","v":"70405^70405^70405^70405"}]
[null,null,1,70402,70401,70402,70405,70402,70403,70401,70405,70404,70402,null,null,{"$f":"_xlfn.TEXTJOIN(\"^\",,H4:H13)","v":"70402^70401^70401^70402^70401^70401^70402"},null,1,70405,70401,70401,70401,70401,70401,70401,70405,null,null,null,{"$f":"_xlfn.TEXTJOIN(\"^\",,W4:W13)","v":"70401^70402^70403"},null,1,70401,70401,70405,70401,70401,70401,70401,70401,null,null,null,{"$f":"_xlfn.TEXTJOIN(\"^\",,AK4:AK13)","v":"70401^70402^70404"},null,1,null,70402,null,null,70403,null,70402,{"$nulls":4},{"$f":"_xlfn.TEXTJOIN(\"^\",,AY4:AY13)","v":"70403^70403^70403"}]
[null,null,3,70402,70402,70403,70405,70401,70403,70401,70405,70401,70403,null,null,{"$f":"_xlfn.TEXTJOIN(\"^\",,I4:I13)","v":"70404^70402^70401^70403^70403^70403^70401^70402^70404"},null,3,70402,70402,70403,70402,70402,70402,70402,70402,null,null,null,{"$f":"_xlfn.TEXTJOIN(\"^\",,X4:X13)","v":"70401^70402^70403^70404"},null,3,70403,70402,70402,70403,70402,70402,70402,70402,null,null,null,{"$f":"_xlfn.TEXTJOIN(\"^\",,AL4:AL13)","v":"70401^70402^70403"},null,3,70401,null,70404,70405,null,70401,null,70403,null,null,null,{"$f":"_xlfn.TEXTJOIN(\"^\",,AZ4:AZ13)","v":"70404^70401^70401^70401^70401^70404"}]
[null,null,5,70404,70401,70402,70405,70401,70401,70402,70405,70401,70401,null,null,{"$f":"_xlfn.TEXTJOIN(\"^\",,J4:J13)","v":"70402^70402^70401^70401^70401^70402^70402"},null,5,70404,null,null,70404,70403,70403,null,70403,null,null,null,{"$f":"_xlfn.TEXTJOIN(\"^\",,Y4:Y13)","v":"70401^70402"},null,5,null,70404,null,70404,70404,70403,null,70403,null,null,null,{"$f":"_xlfn.TEXTJOIN(\"^\",,AM4:AM13)","v":"70401^70402"},null,5,70401,70402,null,70405,70403,70401,70402,70401,null,null,null,{"$f":"_xlfn.TEXTJOIN(\"^\",,BA4:BA13)","v":"70402^70402^70402^70402^70402"}]
[null,null,7,null,70401,70404,null,70402,70402,70402,null,70402,70402,null,null,{"$f":"_xlfn.TEXTJOIN(\"^\",,K4:K13)","v":"70405^70405^70405^70405^70405"},null,7,{"$nulls":5},70404,null,70404,null,null,null,{"$f":"_xlfn.TEXTJOIN(\"^\",,Z4:Z13)","v":"70405^70402^70403^70404"},null,7,{"$nulls":7},70404,null,null,null,{"$f":"_xlfn.TEXTJOIN(\"^\",,AN4:AN13)","v":"70401^70402^70403^70404"},null,7,{"$nulls":5},70404,70402,70402,null,null,null,{"$f":"_xlfn.TEXTJOIN(\"^\",,BB4:BB13)","v":"70402^70402^70401^70403^70403^70401^70402^70402"}]
[null,null,9,{"$nulls":5},70404,null,null,null,70404,null,null,{"$f":"_xlfn.TEXTJOIN(\"^\",,L4:L13)","v":"70402^70401^70401^70404^70401^70401^70402"},null,9,{"$nulls":11},{"$f":"_xlfn.TEXTJOIN(\"^\",,AA4:AA13)","v":""},null,9,{"$nulls":11},{"$f":"_xlfn.TEXTJOIN(\"^\",,AO4:AO13)","v":""},null,9,{"$nulls":7},70402,null,null,null,{"$f":"_xlfn.TEXTJOIN(\"^\",,BC4:BC13)","v":""}]
[{"$nulls":15},{"$f":"_xlfn.TEXTJOIN(\"^\",,M4:M13)","v":"70404^70402^70401^70403^70402^70403^70401^70402^70404"},{"$nulls":13},{"$f":"_xlfn.TEXTJOIN(\"^\",,AB4:AB13)","v":""},{"$nulls":13},{"$f":"_xlfn.TEXTJOIN(\"^\",,AP4:AP13)","v":""},{"$nulls":13},{"$f":"_xlfn.TEXTJOIN(\"^\",,BD4:BD13)","v":""}]
[{"$nulls":15},{"$f":"_xlfn.TEXTJOIN(\"^\",,N4:N13)","v":""},{"$nulls":13},{"$f":"_xlfn.TEXTJOIN(\"^\",,AC4:AC13)","v":""},{"$nulls":13},{"$f":"_xlfn.TEXTJOIN(\"^\",,AQ4:AQ13)","v":""},{"$nulls":13},{"$f":"_xlfn.TEXTJOIN(\"^\",,BE4:BE13)","v":""}]
[{"$nulls":14},"最终",{"$f":"_xlfn.TEXTJOIN(\"^\",,P4:P14)","v":"70404^70402^70402^70402^70404^70401^70401^70402^70401^70402^70401^70401^70404^70402^70403^70402^70403^70402^70404^70405^70405^70405^70405^70405^70402^70401^70401^70402^70401^70401^70402^70404^70402^70401^70403^70403^70403^70401^70402^70404^70402^70402^70401^70401^70401^70402^70402^70405^70405^70405^70405^70405^70402^70401^70401^70404^70401^70401^70402^70404^70402^70401^70403^70402^70403^70401^70402^70404"},{"$nulls":12},"最终",{"$f":"_xlfn.TEXTJOIN(\"^\",,AD4:AD14)","v":"70405^70402^70404^70401^70402^70401^70403^70401^70402^70404^70401^70402^70403^70401^70402^70403^70404^70401^70402^70405^70402^70403^70404"},{"$nulls":12},"最终",{"$f":"_xlfn.TEXTJOIN(\"^\",,AR4:AR14)","v":"70401^70403^70401^70402^70404^70405^70402^70401^70403^70404^70401^70402^70404^70401^70402^70403^70401^70402^70401^70402^70403^70404"},{"$nulls":12},"最终",{"$f":"_xlfn.TEXTJOIN(\"^\",,BF4:BF14)","v":"70401^70401^70401^70401^70402^70402^70402^70404^70404^70405^70405^70405^70405^70403^70403^70403^70404^70401^70401^70401^70401^70404^70402^70402^70402^70402^70402^70402^70402^70401^70403^70403^70401^70402^70402"}]
[null,null,8,{"$nulls":5},"火精灵",null,null,null,"火精灵",{"$nulls":4},8,{"$nulls":13},8,{"$nulls":13},8,{"$nulls":7},"岩浆人"]
[null,null,6,null,"岩浆蝎","火精灵",null,"岩浆人","岩浆人","岩浆人",null,"岩浆人","岩浆人",{"$nulls":4},6,{"$nulls":13},6,{"$nulls":13},6,{"$nulls":5},"火精灵","岩浆人","岩浆人"]
[null,null,4,"火精灵","岩浆蝎","岩浆人","火山蜘蛛","岩浆蝎","岩浆蝎","岩浆人","火山蜘蛛","岩浆蝎","岩浆蝎",{"$nulls":4},4,{"$nulls":13},4,{"$nulls":13},4,"岩浆蝎","岩浆人",null,"火山蜘蛛","岩浆战士","岩浆蝎","岩浆人","岩浆蝎"]
[null,null,2,"岩浆人","岩浆人","岩浆战士","火山蜘蛛","岩浆蝎","岩浆战士","岩浆蝎","火山蜘蛛","岩浆蝎","岩浆战士",{"$nulls":4},2,{"$nulls":13},2,{"$nulls":13},2,"岩浆蝎",null,"火精灵","火山蜘蛛",null,"岩浆蝎",null,"岩浆战士"]
[null,null,1,"岩浆人","岩浆蝎","岩浆人","火山蜘蛛","岩浆人","岩浆战士","岩浆蝎","火山蜘蛛","火精灵","岩浆人",{"$nulls":4},1,"火山蜘蛛","岩浆蝎","岩浆蝎","岩浆蝎","岩浆蝎","岩浆蝎","岩浆蝎","火山蜘蛛",{"$nulls":5},1,"岩浆蝎","岩浆蝎","火山蜘蛛","岩浆蝎","岩浆蝎","岩浆蝎","岩浆蝎","岩浆蝎",{"$nulls":5},1,null,"岩浆人",null,null,"岩浆战士",null,"岩浆人"]
[null,null,3,"岩浆人","岩浆人","岩浆战士","火山蜘蛛","岩浆蝎","岩浆战士","岩浆蝎","火山蜘蛛","岩浆蝎","岩浆战士",{"$nulls":4},3,"岩浆人","岩浆人","岩浆战士","岩浆人","岩浆人","岩浆人","岩浆人","岩浆人",{"$nulls":5},3,"岩浆战士","岩浆人","岩浆人","岩浆战士","岩浆人","岩浆人","岩浆人","岩浆人",{"$nulls":5},3,"岩浆蝎",null,"火精灵","火山蜘蛛",null,"岩浆蝎",null,"岩浆战士"]
[null,null,5,"火精灵","岩浆蝎","岩浆人","火山蜘蛛","岩浆蝎","岩浆蝎","岩浆人","火山蜘蛛","岩浆蝎","岩浆蝎",{"$nulls":4},5,"火精灵",null,null,"火精灵","岩浆战士","岩浆战士",null,"岩浆战士",{"$nulls":5},5,null,"火精灵",null,"火精灵","火精灵","岩浆战士",null,"岩浆战士",{"$nulls":5},5,"岩浆蝎","岩浆人",null,"火山蜘蛛","岩浆战士","岩浆蝎","岩浆人","岩浆蝎"]
[null,null,7,null,"岩浆蝎","火精灵",null,"岩浆人","岩浆人","岩浆人",null,"岩浆人","岩浆人",{"$nulls":4},7,{"$nulls":5},"火精灵",null,"火精灵",{"$nulls":5},7,{"$nulls":7},"火精灵",{"$nulls":5},7,{"$nulls":5},"火精灵","岩浆人","岩浆人"]
[null,null,9,{"$nulls":5},"火精灵",null,null,null,"火精灵",{"$nulls":4},9,{"$nulls":13},9,{"$nulls":13},9,{"$nulls":7},"岩浆人"]
[]
[null,null,"位置",5,10,16,20,27,35,45,50,60,70,{"$nulls":4},"位置",5,10,15,20,30,45,60,70,{"$nulls":5},"位置",4,6,10,15,25,40,57,75,null,null,null,{"$f":"_xlfn.TEXTJOIN(\"^\",,AG27:AG41)","v":"0^0"},null,"位置",2,4,6,8,10,15,25,35,null,null,null,{"$f":"_xlfn.TEXTJOIN(\"^\",,AU27:AU41)","v":"4^2^3^5"}]
[null,null,8,{"$nulls":5},{"$f":"$C27","v":8},null,null,null,{"$f":"$C27","v":8},null,null,{"$f":"_xlfn.TEXTJOIN(\"^\",,D27:D41)","v":"4^2^1^3^5"},null,8,{"$nulls":13},8,{"$nulls":11},{"$f":"_xlfn.TEXTJOIN(\"^\",,AH27:AH41)","v":"0^0^0"},null,8,{"$nulls":7},{"$f":"$C27","v":8},null,null,null,{"$f":"_xlfn.TEXTJOIN(\"^\",,AV27:AV41)","v":"4^1^5"}]
[null,null,6,null,{"$f":"$C28","v":6},6,null,{"$f":"$C28","v":6},6,6,null,{"$f":"$C28","v":6},6,null,null,{"$f":"_xlfn.TEXTJOIN(\"^\",,E27:E41)","v":"6^4^2^1^3^5^7"},null,6,{"$nulls":11},{"$f":"_xlfn.TEXTJOIN(\"^\",,S27:S41)","v":"100^0^0"},null,6,{"$nulls":11},{"$f":"_xlfn.TEXTJOIN(\"^\",,AI27:AI41)","v":"100^0"},null,6,{"$nulls":5},{"$f":"$C28","v":6},6,6,null,null,null,{"$f":"_xlfn.TEXTJOIN(\"^\",,AW27:AW41)","v":"2^3"}]
[null,null,4,{"$f":"$C29","v":4},4,4,null,4,4,4,null,4,4,null,null,{"$f":"_xlfn.TEXTJOIN(\"^\",,F27:F41)","v":"6^4^2^1^3^5^7"},null,4,{"$nulls":11},{"$f":"_xlfn.TEXTJOIN(\"^\",,T27:T41)","v":"0^0"},null,4,{"$nulls":11},{"$f":"_xlfn.TEXTJOIN(\"^\",,AJ27:AJ41)","v":"0^0^0"},null,4,{"$f":"$C29","v":4},{"$f":"$C29","v":4},null,null,{"$f":"$C29","v":4},4,4,4,null,null,null,{"$f":"_xlfn.TEXTJOIN(\"^\",,AX27:AX41)","v":"101^102^104^105"}]
[null,null,2,{"$f":"$C30","v":2},2,2,null,2,2,2,null,2,2,null,null,{"$f":"_xlfn.TEXTJOIN(\"^\",,G27:G41)","v":"101^102^103^104^105"},null,2,{"$nulls":11},{"$f":"_xlfn.TEXTJOIN(\"^\",,U27:U41)","v":"0^0"},null,2,{"$nulls":11},{"$f":"_xlfn.TEXTJOIN(\"^\",,AK27:AK41)","v":"0^0^0"},null,2,2,null,{"$f":"$C30","v":2},null,null,2,null,2,null,null,null,{"$f":"_xlfn.TEXTJOIN(\"^\",,AY27:AY41)","v":"4^1^5"}]
[null,null,1,{"$f":"$C31","v":1},1,1,null,1,1,1,null,1,1,null,null,{"$f":"_xlfn.TEXTJOIN(\"^\",,H27:H41)","v":"6^4^2^1^3^5^7"},null,1,100,0,0,0,0,0,0,100,null,null,null,{"$f":"_xlfn.TEXTJOIN(\"^\",,V27:V41)","v":"0^0^0"},null,1,0,0,100,0,0,0,0,0,null,null,null,{"$f":"_xlfn.TEXTJOIN(\"^\",,AL27:AL41)","v":"0^0^0"},null,1,null,{"$f":"$C31","v":1},null,null,{"$f":"$C31","v":1},null,{"$f":"$C31","v":1},{"$nulls":4},{"$f":"_xlfn.TEXTJOIN(\"^\",,AZ27:AZ41)","v":"6^4^2^3^5^7"}]
[null,null,3,{"$f":"$C32","v":3},3,3,null,3,3,3,null,3,3,null,null,{"$f":"_xlfn.TEXTJOIN(\"^\",,I27:I41)","v":"8^6^4^2^1^3^5^7^9"},null,3,0,0,0,0,0,0,0,0,null,null,null,{"$f":"_xlfn.TEXTJOIN(\"^\",,W27:W41)","v":"0^0^0"},null,3,0,0,0,0,0,0,0,0,null,null,null,{"$f":"_xlfn.TEXTJOIN(\"^\",,AM27:AM41)","v":"0^0"},null,3,{"$f":"$C32","v":3},null,{"$f":"$C32","v":3},null,null,{"$f":"$C32","v":3},null,{"$f":"$C32","v":3},null,null,null,{"$f":"_xlfn.TEXTJOIN(\"^\",,BA27:BA41)","v":"6^4^1^5^7"}]
[null,null,5,5,5,5,null,5,5,5,null,5,5,null,null,{"$f":"_xlfn.TEXTJOIN(\"^\",,J27:J41)","v":"6^4^2^1^3^5^7"},null,5,0,null,null,0,0,0,null,0,null,null,null,{"$f":"_xlfn.TEXTJOIN(\"^\",,X27:X41)","v":"0^0^0^0"},null,5,null,0,null,0,0,0,null,0,null,null,null,{"$f":"_xlfn.TEXTJOIN(\"^\",,AN27:AN41)","v":"0^0^0^0"},null,5,5,{"$f":"$C33","v":5},null,null,{"$f":"$C33","v":5},5,5,5,null,null,null,{"$f":"_xlfn.TEXTJOIN(\"^\",,BB27:BB41)","v":"8^6^4^2^3^5^7^9"}]
[null,null,7,null,7,7,null,7,7,7,null,7,7,null,null,{"$f":"_xlfn.TEXTJOIN(\"^\",,K27:K41)","v":"101^102^103^104^105"},null,7,{"$nulls":5},0,null,0,null,null,null,{"$f":"_xlfn.TEXTJOIN(\"^\",,Y27:Y41)","v":"0^0"},null,7,{"$nulls":7},0,null,null,null,{"$f":"_xlfn.TEXTJOIN(\"^\",,AO27:AO41)","v":""},null,7,{"$nulls":5},7,7,7,null,null,null,{"$f":"_xlfn.TEXTJOIN(\"^\",,BC27:BC41)","v":""}]
[null,null,9,{"$nulls":5},9,null,null,null,9,null,null,{"$f":"_xlfn.TEXTJOIN(\"^\",,L27:L41)","v":"6^4^2^1^3^5^7"},null,9,{"$nulls":13},9,{"$nulls":11},{"$f":"_xlfn.TEXTJOIN(\"^\",,AP27:AP41)","v":""},null,9,{"$nulls":7},9,null,null,null,{"$f":"_xlfn.TEXTJOIN(\"^\",,BD27:BD41)","v":""}]
[null,null,"空降",{"$nulls":12},{"$f":"_xlfn.TEXTJOIN(\"^\",,M27:M41)","v":"8^6^4^2^1^3^5^7^9"},null,"空降",{"$nulls":13},"空降",{"$nulls":11},{"$f":"_xlfn.TEXTJOIN(\"^\",,AQ27:AQ35)","v":""},null,"空降",{"$nulls":11},{"$f":"_xlfn.TEXTJOIN(\"^\",,BE27:BE35)","v":""}]
[null,null,101,null,null,null,{"$f":"$C37","v":101},null,null,null,{"$f":"$C37","v":101},{"$nulls":4},{"$f":"_xlfn.TEXTJOIN(\"^\",,N27:N41)","v":""},null,101,{"$nulls":11},{"$f":"_xlfn.TEXTJOIN(\"^\",,Z27:Z41)","v":"100^0^0^0"},null,101,{"$nulls":13},101,null,null,null,{"$f":"$C37","v":101}]
[null,null,102,null,null,null,102,null,null,null,102,{"$nulls":6},102,{"$nulls":11},{"$f":"_xlfn.TEXTJOIN(\"^\",,AA27:AA41)","v":""},null,102,{"$nulls":13},102,null,null,null,102]
[null,null,103,null,null,null,103,null,null,null,103,{"$nulls":6},103,{"$nulls":11},{"$f":"_xlfn.TEXTJOIN(\"^\",,AB27:AB41)","v":""},null,103,{"$nulls":13},103]
[null,null,104,null,null,null,104,null,null,null,104,{"$nulls":6},104,{"$nulls":13},104,{"$nulls":13},104,null,null,null,{"$f":"$C40","v":104}]
[null,null,105,null,null,null,105,null,null,null,105,{"$nulls":6},105,{"$nulls":13},105,{"$nulls":13},105,null,null,null,105]
[{"$nulls":14},"最终",{"$f":"_xlfn.TEXTJOIN(\"^\",,P27:P41)","v":"4^2^1^3^5^6^4^2^1^3^5^7^6^4^2^1^3^5^7^101^102^103^104^105^6^4^2^1^3^5^7^8^6^4^2^1^3^5^7^9^6^4^2^1^3^5^7^101^102^103^104^105^6^4^2^1^3^5^7^8^6^4^2^1^3^5^7^9"},{"$nulls":12},"最终",{"$f":"_xlfn.TEXTJOIN(\"^\",,AD27:AD41)","v":"100^0^0^0^0^0^0^0^0^0^0^0^0^0^0^0^0^0^0^100^0^0^0"},{"$nulls":12},"最终",{"$f":"_xlfn.TEXTJOIN(\"^\",,AR26:AR41)","v":"0^0^0^0^0^100^0^0^0^0^0^0^0^0^0^0^0^0^0^0^0^0"},{"$nulls":12},"最终",{"$f":"_xlfn.TEXTJOIN(\"^\",,BF26:BF41)","v":"4^2^3^5^4^1^5^2^3^101^102^104^105^4^1^5^6^4^2^3^5^7^6^4^1^5^7^8^6^4^2^3^5^7^9"}]
[]
[null,null,"时间",5,10,16,20,27,35,45,50,60,70,{"$nulls":4},"时间",5,10,15,20,30,45,60,70,null,null,null,{"$f":"_xlfn.TEXTJOIN(\"^\",,S45:S53)","v":"12^6^6"},null,"时间",4,6,10,15,25,40,57,75,null,null,null,{"$f":"_xlfn.TEXTJOIN(\"^\",,AG45:AG53)","v":"17^6"},null,"时间",2,4,6,8,10,15,25,35,null,null,null,{"$f":"_xlfn.TEXTJOIN(\"^\",,AU45:AU53)","v":"2^2^2^2"}]
[null,null,8,{"$nulls":5},{"$f":"I$44","v":35},null,null,null,70,null,null,{"$f":"_xlfn.TEXTJOIN(\"^\",,D45:D54)","v":"5^5^5^5^5"},null,8,{"$nulls":11},{"$f":"_xlfn.TEXTJOIN(\"^\",,T45:T53)","v":"11^4"},null,8,{"$nulls":11},{"$f":"_xlfn.TEXTJOIN(\"^\",,AH45:AH53)","v":"11^3^2"},null,8,{"$nulls":7},{"$f":"BB$44","v":35},null,null,null,{"$f":"_xlfn.TEXTJOIN(\"^\",,AV45:AV53)","v":"4^4^4"}]
[null,null,6,null,{"$f":"E$44","v":10},{"$f":"F$44","v":16},null,{"$f":"H$44","v":27},35,45,null,60,70,null,null,{"$f":"_xlfn.TEXTJOIN(\"^\",,E45:E54)","v":"10^10^10^10^10^10^10"},null,6,{"$nulls":11},{"$f":"_xlfn.TEXTJOIN(\"^\",,U45:U53)","v":"14^3"},null,6,{"$nulls":11},{"$f":"_xlfn.TEXTJOIN(\"^\",,AI45:AI53)","v":"9^4"},null,6,{"$nulls":5},{"$f":"AZ$44","v":15},25,35,null,null,null,{"$f":"_xlfn.TEXTJOIN(\"^\",,AW45:AW53)","v":"6^6"}]
[null,null,4,{"$f":"D$44","v":5},{"$f":"E$44","v":10},16,20,27,35,45,50,60,70,null,null,{"$f":"_xlfn.TEXTJOIN(\"^\",,F45:F54)","v":"16^16^16^16^16^16^16"},null,4,{"$nulls":11},{"$f":"_xlfn.TEXTJOIN(\"^\",,V45:V53)","v":"12^3^2"},null,4,{"$nulls":11},{"$f":"_xlfn.TEXTJOIN(\"^\",,AJ45:AJ53)","v":"12^3^2"},null,4,{"$f":"AU$44","v":2},4,null,{"$f":"AX$44","v":8},10,15,25,35,null,null,null,{"$f":"_xlfn.TEXTJOIN(\"^\",,AX45:AX53)","v":"8^8^8^8"}]
[null,null,2,{"$f":"D$44","v":5},{"$f":"E$44","v":10},16,20,27,35,45,50,60,70,null,null,{"$f":"_xlfn.TEXTJOIN(\"^\",,G45:G54)","v":"20^20^20^20^20"},null,2,{"$nulls":11},{"$f":"_xlfn.TEXTJOIN(\"^\",,W45:W53)","v":"13^3^2"},null,2,{"$nulls":11},{"$f":"_xlfn.TEXTJOIN(\"^\",,AK45:AK53)","v":"13^3^2"},null,2,2,null,{"$f":"AW$44","v":6},8,null,15,null,35,null,null,null,{"$f":"_xlfn.TEXTJOIN(\"^\",,AY45:AY53)","v":"10^10^10"}]
[null,null,1,5,10,16,20,27,35,45,50,60,70,null,null,{"$f":"_xlfn.TEXTJOIN(\"^\",,H45:H54)","v":"27^27^27^27^27^27^27"},null,1,12,11,14,12,13,12,16,14,null,null,null,{"$f":"_xlfn.TEXTJOIN(\"^\",,X45:X53)","v":"12^3^2^2"},null,1,17,11,9,12,13,14,16,15,null,null,null,{"$f":"_xlfn.TEXTJOIN(\"^\",,AL45:AL53)","v":"14^3^2"},null,1,null,{"$f":"AV$44","v":4},null,null,{"$f":"AY$44","v":10},null,{"$f":"BA$44","v":25},{"$nulls":4},{"$f":"_xlfn.TEXTJOIN(\"^\",,AZ45:AZ53)","v":"15^15^15^15^15^15"}]
[null,null,3,{"$f":"D$44","v":5},10,16,20,27,35,45,50,60,70,null,null,{"$f":"_xlfn.TEXTJOIN(\"^\",,I45:I54)","v":"35^35^35^35^35^35^35^35^35"},null,3,6,4,3,3,3,3,4,3,null,null,null,{"$f":"_xlfn.TEXTJOIN(\"^\",,Y45:Y53)","v":"16^4"},null,3,6,3,4,3,3,3,4,3,null,null,null,{"$f":"_xlfn.TEXTJOIN(\"^\",,AM45:AM53)","v":"16^4"},null,3,{"$f":"AU$44","v":2},null,{"$f":"AW$44","v":6},8,null,{"$f":"AZ$44","v":15},null,{"$f":"BB$44","v":35},null,null,null,{"$f":"_xlfn.TEXTJOIN(\"^\",,BA45:BA53)","v":"25^25^25^25^25"}]
[null,null,5,{"$f":"D$44","v":5},10,16,20,27,35,45,50,60,70,null,null,{"$f":"_xlfn.TEXTJOIN(\"^\",,J45:J54)","v":"45^45^45^45^45^45^45"},null,5,6,null,null,2,2,2,null,2,null,null,null,{"$f":"_xlfn.TEXTJOIN(\"^\",,Z45:Z53)","v":"14^3^2^2"},null,5,null,2,null,2,2,2,null,2,null,null,null,{"$f":"_xlfn.TEXTJOIN(\"^\",,AN45:AN53)","v":"15^3^2^2"},null,5,2,4,null,8,10,15,25,35,null,null,null,{"$f":"_xlfn.TEXTJOIN(\"^\",,BB45:BB53)","v":"35^35^35^35^35^35^35^35"}]
[null,null,7,null,10,16,null,{"$f":"H$44","v":27},35,45,null,60,70,null,null,{"$f":"_xlfn.TEXTJOIN(\"^\",,K45:K54)","v":"50^50^50^50^50"},null,7,{"$nulls":5},2,null,2,null,null,null,{"$f":"_xlfn.TEXTJOIN(\"^\",,AA45:AA53)","v":""},null,7,{"$nulls":7},2,null,null,null,{"$f":"_xlfn.TEXTJOIN(\"^\",,AO45:AO53)","v":""},null,7,{"$nulls":5},15,25,35,null,null,null,{"$f":"_xlfn.TEXTJOIN(\"^\",,BC45:BC53)","v":""}]
[null,null,9,{"$nulls":5},35,null,null,null,70,null,null,{"$f":"_xlfn.TEXTJOIN(\"^\",,L45:L54)","v":"60^60^60^60^60^60^60"},null,9,{"$nulls":11},{"$f":"_xlfn.TEXTJOIN(\"^\",,AB45:AB53)","v":""},null,9,{"$nulls":11},{"$f":"_xlfn.TEXTJOIN(\"^\",,AP45:AP53)","v":""},null,9,{"$nulls":7},35,null,null,null,{"$f":"_xlfn.TEXTJOIN(\"^\",,BD45:BD53)","v":""}]
[{"$nulls":15},{"$f":"_xlfn.TEXTJOIN(\"^\",,M45:M54)","v":"70^70^70^70^70^70^70^70^70"},{"$nulls":13},{"$f":"_xlfn.TEXTJOIN(\"^\",,AC45:AC53)","v":""},{"$nulls":13},{"$f":"_xlfn.TEXTJOIN(\"^\",,AQ45:AQ53)","v":""},{"$nulls":13},{"$f":"_xlfn.TEXTJOIN(\"^\",,BE45:BE53)","v":""}]
[{"$nulls":15},{"$f":"_xlfn.TEXTJOIN(\"^\",,N45:N54)","v":""},{"$nulls":12},"最终",{"$f":"_xlfn.TEXTJOIN(\"^\",,AD44:AD54)","v":"12^6^6^11^4^14^3^12^3^2^13^3^2^12^3^2^2^16^4^14^3^2^2"},{"$nulls":12},"最终",{"$f":"_xlfn.TEXTJOIN(\"^\",,AR44:AR54)","v":"17^6^11^3^2^9^4^12^3^2^13^3^2^14^3^2^16^4^15^3^2^2"},{"$nulls":12},"最终",{"$f":"_xlfn.TEXTJOIN(\"^\",,BF44:BF54)","v":"2^2^2^2^4^4^4^6^6^8^8^8^8^10^10^10^15^15^15^15^15^15^25^25^25^25^25^35^35^35^35^35^35^35^35"}]
[{"$nulls":14},"最终",{"$f":"_xlfn.TEXTJOIN(\"^\",,P45:P55)","v":"5^5^5^5^5^10^10^10^10^10^10^10^16^16^16^16^16^16^16^20^20^20^20^20^27^27^27^27^27^27^27^35^35^35^35^35^35^35^35^35^45^45^45^45^45^45^45^50^50^50^50^50^60^60^60^60^60^60^60^70^70^70^70^70^70^70^70^70"}]
[{"$nulls":14},{"$f":"COUNT(D45:N54)","v":68},{"$nulls":13},{"$f":"SUM(S45:AB54)","v":151},{"$nulls":13},{"$f":"SUM(AG45:AP54)","v":148},{"$nulls":13},{"$f":"COUNT(AU45:BD54)","v":35},{"$f":"AQ57+BE57+AC57+O57","v":402}]
[{"$nulls":4},{"$f":"E59-D59","v":10},{"$f":"F59-E59","v":15},15,15,5,15,15,15,10,{"$nulls":6},{"$f":"T59-S59","v":5},5,5,7,8,10,5,{"$nulls":7},{"$f":"AH59-AG59","v":6},5,15,16,17,17,5,{"$nulls":7},{"$f":"AV59-AU59","v":2},3,4,6,7,10,10]
[3,"熔谷-2","波1·怪物",5,15,30,45,60,65,80,95,110,120,null,null,null,1,"波2·怪物",5,10,15,20,27,35,45,50,{"$nulls":4},3,"波3·怪物",4,10,15,30,46,63,80,85,{"$nulls":4},1,"波4·怪物",3,5,8,12,18,25,35,45]
[null,"5m",8,{"$nulls":12},{"$f":"_xlfn.TEXTJOIN(\"^\",,D60:D69)","v":"70411^70412"},null,8,{"$nulls":6},70414,{"$nulls":4},{"$f":"_xlfn.TEXTJOIN(\"^\",,S60:S69)","v":"70414^70412^70412^70412^70414"},null,8,{"$nulls":11},{"$f":"_xlfn.TEXTJOIN(\"^\",,AG60:AG69)","v":"70411^70413"},null,8,{"$nulls":5},70414,null,70412,null,null,null,{"$f":"_xlfn.TEXTJOIN(\"^\",,AU60:AU69)","v":"70415^70415^70415"}]
[null,null,6,{"$nulls":12},{"$f":"_xlfn.TEXTJOIN(\"^\",,E60:E69)","v":"70411^70412^70414"},null,6,70414,null,null,null,70414,70412,70411,{"$nulls":4},{"$f":"_xlfn.TEXTJOIN(\"^\",,T60:T69)","v":"70411^70411^70411^70411^70411"},null,6,{"$nulls":11},{"$f":"_xlfn.TEXTJOIN(\"^\",,AH60:AH69)","v":"70411^70412^70414"},null,6,null,null,70414,null,70412,null,70412,{"$nulls":4},{"$f":"_xlfn.TEXTJOIN(\"^\",,AV60:AV69)","v":"70412^70412^70412"}]
[null,null,4,{"$nulls":12},{"$f":"_xlfn.TEXTJOIN(\"^\",,F60:F69)","v":"70411^70412^70413^70414"},null,4,null,70411,70413,70415,70412,70411,70411,70415,null,null,null,{"$f":"_xlfn.TEXTJOIN(\"^\",,U60:U69)","v":"70413^70413^70413"},null,4,{"$nulls":11},{"$f":"_xlfn.TEXTJOIN(\"^\",,AI60:AI69)","v":"70415^70412"},null,4,70415,null,null,70411,70411,70411,70411,70412,null,null,null,{"$f":"_xlfn.TEXTJOIN(\"^\",,AW60:AW69)","v":"70414^70413^70414"}]
[null,null,2,{"$nulls":12},{"$f":"_xlfn.TEXTJOIN(\"^\",,G60:G69)","v":"70411^70413"},null,2,70412,70411,null,70415,70411,70413,70412,70415,null,null,null,{"$f":"_xlfn.TEXTJOIN(\"^\",,V60:V69)","v":"70415^70415^70415^70415^70415"},null,2,{"$nulls":11},{"$f":"_xlfn.TEXTJOIN(\"^\",,AJ60:AJ69)","v":"70411^70412^70413^70414"},null,2,null,70412,null,70411,70413,70412,70413,70411,null,null,null,{"$f":"_xlfn.TEXTJOIN(\"^\",,AX60:AX69)","v":"70411^70411^70411^70411"}]
[null,null,1,70411,70411,70411,70411,70411,70415,70411,70411,70411,70415,null,null,{"$f":"_xlfn.TEXTJOIN(\"^\",,H60:H69)","v":"70411^70412^70414"},null,1,70412,70411,70413,70415,70413,70414,70412,70415,null,null,null,{"$f":"_xlfn.TEXTJOIN(\"^\",,W60:W69)","v":"70414^70412^70411^70413^70411^70412^70414"},null,1,70411,70411,70415,70411,70411,70411,70411,70415,null,null,null,{"$f":"_xlfn.TEXTJOIN(\"^\",,AK60:AK69)","v":"70411^70412^70414"},null,1,70415,70412,70413,null,null,70412,70414,70413,null,null,null,{"$f":"_xlfn.TEXTJOIN(\"^\",,AY60:AY69)","v":"70412^70411^70413^70413^70411^70412"}]
[null,null,3,70412,70412,70412,70413,70412,70412,70412,70413,70412,70412,null,null,{"$f":"_xlfn.TEXTJOIN(\"^\",,I60:I69)","v":"70415^70412^70413"},null,3,70412,70411,null,70415,70411,70413,70412,70415,null,null,null,{"$f":"_xlfn.TEXTJOIN(\"^\",,X60:X69)","v":"70412^70411^70413^70414^70413^70411^70412"},null,3,70413,70412,70412,70412,70412,70412,70412,70413,null,null,null,{"$f":"_xlfn.TEXTJOIN(\"^\",,AL60:AL69)","v":"70411^70412"},null,3,null,70412,null,70411,70413,70412,70413,70411,null,null,null,{"$f":"_xlfn.TEXTJOIN(\"^\",,AZ60:AZ69)","v":"70414^70411^70412^70412^70412^70411^70414"}]
[null,null,5,null,70414,70413,null,70414,70413,null,70414,70413,70414,null,null,{"$f":"_xlfn.TEXTJOIN(\"^\",,J60:J69)","v":"70411^70412"},null,5,null,70411,70413,70415,70412,70411,70411,70415,null,null,null,{"$f":"_xlfn.TEXTJOIN(\"^\",,Y60:Y69)","v":"70414^70411^70411^70412^70412^70412^70411^70411^70414"},null,5,null,70414,null,70413,70414,null,70413,70414,null,null,null,{"$f":"_xlfn.TEXTJOIN(\"^\",,AM60:AM69)","v":"70411^70412^70413^70414"},null,5,70415,null,null,70411,70411,70411,70411,70412,null,null,null,{"$f":"_xlfn.TEXTJOIN(\"^\",,BA60:BA69)","v":"70412^70411^70413^70414^70413^70411^70412"}]
[null,null,7,null,null,70414,{"$nulls":9},{"$f":"_xlfn.TEXTJOIN(\"^\",,K60:K69)","v":"70411^70413^70414"},null,7,70414,null,null,null,70414,70412,70411,{"$nulls":4},{"$f":"_xlfn.TEXTJOIN(\"^\",,Z60:Z69)","v":"70415^70415^70415^70415^70415"},null,7,null,null,null,70414,null,null,70414,{"$nulls":4},{"$f":"_xlfn.TEXTJOIN(\"^\",,AN60:AN69)","v":"70415^70413^70414"},null,7,null,null,70414,null,70412,null,70412,{"$nulls":4},{"$f":"_xlfn.TEXTJOIN(\"^\",,BB60:BB69)","v":"70412^70412^70411^70413^70411^70412^70412"}]
[null,null,9,{"$nulls":12},{"$f":"_xlfn.TEXTJOIN(\"^\",,L60:L69)","v":"70411^70412^70413"},null,9,{"$nulls":6},70414,{"$nulls":4},{"$f":"_xlfn.TEXTJOIN(\"^\",,AA60:AA69)","v":""},null,9,{"$nulls":11},{"$f":"_xlfn.TEXTJOIN(\"^\",,AO60:AO69)","v":""},null,9,{"$nulls":5},70414,null,70412,null,null,null,{"$f":"_xlfn.TEXTJOIN(\"^\",,BC60:BC69)","v":""}]
[{"$nulls":15},{"$f":"_xlfn.TEXTJOIN(\"^\",,M60:M69)","v":"70415^70412^70414"},{"$nulls":13},{"$f":"_xlfn.TEXTJOIN(\"^\",,AB60:AB69)","v":""},{"$nulls":13},{"$f":"_xlfn.TEXTJOIN(\"^\",,AP60:AP69)","v":""},{"$nulls":13},{"$f":"_xlfn.TEXTJOIN(\"^\",,BD60:BD69)","v":""}]
[{"$nulls":15},{"$f":"_xlfn.TEXTJOIN(\"^\",,N60:N69)","v":""},{"$nulls":13},{"$f":"_xlfn.TEXTJOIN(\"^\",,AC60:AC69)","v":""},{"$nulls":13},{"$f":"_xlfn.TEXTJOIN(\"^\",,AQ60:AQ69)","v":""},{"$nulls":13},{"$f":"_xlfn.TEXTJOIN(\"^\",,BE60:BE69)","v":""}]
[{"$nulls":14},"最终",{"$f":"_xlfn.TEXTJOIN(\"^\",,P60:P70)","v":"70411^70412^70411^70412^70414^70411^70412^70413^70414^70411^70413^70411^70412^70414^70415^70412^70413^70411^70412^70411^70413^70414^70411^70412^70413^70415^70412^70414"},{"$nulls":12},"最终",{"$f":"_xlfn.TEXTJOIN(\"^\",,AD60:AD70)","v":"70414^70412^70412^70412^70414^70411^70411^70411^70411^70411^70413^70413^70413^70415^70415^70415^70415^70415^70414^70412^70411^70413^70411^70412^70414^70412^70411^70413^70414^70413^70411^70412^70414^70411^70411^70412^70412^70412^70411^70411^70414^70415^70415^70415^70415^70415"},{"$nulls":12},"最终",{"$f":"_xlfn.TEXTJOIN(\"^\",,AR60:AR70)","v":"70411^70413^70411^70412^70414^70415^70412^70411^70412^70413^70414^70411^70412^70414^70411^70412^70411^70412^70413^70414^70415^70413^70414"},{"$nulls":12},"最终",{"$f":"_xlfn.TEXTJOIN(\"^\",,BF60:BF70)","v":"70415^70415^70415^70412^70412^70412^70414^70413^70414^70411^70411^70411^70411^70412^70411^70413^70413^70411^70412^70414^70411^70412^70412^70412^70411^70414^70412^70411^70413^70414^70413^70411^70412^70412^70412^70411^70413^70411^70412^70412"}]
[null,null,8,{"$nulls":14},8,{"$nulls":6},"火精灵",{"$nulls":6},8,{"$nulls":13},8,{"$nulls":5},"火精灵",null,"巨魔矛手"]
[null,null,6,{"$nulls":14},6,"火精灵",null,null,null,"火精灵","巨魔矛手","岩浆蝎",{"$nulls":6},6,{"$nulls":13},6,null,null,"火精灵",null,"巨魔矛手",null,"巨魔矛手"]
[null,null,4,{"$nulls":14},4,null,"岩浆蝎","岩浆战士","火山蜘蛛","巨魔矛手","岩浆蝎","岩浆蝎","火山蜘蛛",{"$nulls":5},4,{"$nulls":13},4,"火山蜘蛛",null,null,"岩浆蝎","岩浆蝎","岩浆蝎","岩浆蝎","巨魔矛手"]
[null,null,2,{"$nulls":14},2,"巨魔矛手","岩浆蝎",null,"火山蜘蛛","岩浆蝎","岩浆战士","巨魔矛手","火山蜘蛛",{"$nulls":5},2,{"$nulls":13},2,null,"巨魔矛手",null,"岩浆蝎","岩浆战士","巨魔矛手","岩浆战士","岩浆蝎"]
[null,null,1,"岩浆蝎","岩浆蝎","岩浆蝎","岩浆蝎","岩浆蝎","火山蜘蛛","岩浆蝎","岩浆蝎","岩浆蝎","火山蜘蛛",{"$nulls":4},1,"巨魔矛手","岩浆蝎","岩浆战士","火山蜘蛛","岩浆战士","火精灵","巨魔矛手","火山蜘蛛",{"$nulls":5},1,"岩浆蝎","岩浆蝎","火山蜘蛛","岩浆蝎","岩浆蝎","岩浆蝎","岩浆蝎","火山蜘蛛",{"$nulls":5},1,"火山蜘蛛","巨魔矛手","岩浆战士",null,null,"巨魔矛手","火精灵","岩浆战士"]
[null,null,3,"巨魔矛手","巨魔矛手","巨魔矛手","岩浆战士","巨魔矛手","巨魔矛手","巨魔矛手","岩浆战士","巨魔矛手","巨魔矛手",{"$nulls":4},3,"巨魔矛手","岩浆蝎",null,"火山蜘蛛","岩浆蝎","岩浆战士","巨魔矛手","火山蜘蛛",{"$nulls":5},3,"岩浆战士","巨魔矛手","巨魔矛手","巨魔矛手","巨魔矛手","巨魔矛手","巨魔矛手","岩浆战士",{"$nulls":5},3,null,"巨魔矛手",null,"岩浆蝎","岩浆战士","巨魔矛手","岩浆战士","岩浆蝎"]
[null,null,5,null,"火精灵","岩浆战士",null,"火精灵","岩浆战士",null,"火精灵","岩浆战士","火精灵",{"$nulls":4},5,null,"岩浆蝎","岩浆战士","火山蜘蛛","巨魔矛手","岩浆蝎","岩浆蝎","火山蜘蛛",{"$nulls":5},5,null,"火精灵",null,"岩浆战士","火精灵",null,"岩浆战士","火精灵",{"$nulls":5},5,"火山蜘蛛",null,null,"岩浆蝎","岩浆蝎","岩浆蝎","岩浆蝎","巨魔矛手"]
[null,null,7,null,null,"火精灵",{"$nulls":11},7,"火精灵",null,null,null,"火精灵","巨魔矛手","岩浆蝎",{"$nulls":6},7,null,null,null,"火精灵",null,null,"火精灵",{"$nulls":6},7,null,null,"火精灵",null,"巨魔矛手",null,"巨魔矛手"]
[null,null,9,{"$nulls":14},9,{"$nulls":6},"火精灵",{"$nulls":6},9,{"$nulls":13},9,{"$nulls":5},"火精灵",null,"巨魔矛手"]
[]
[null,null,"位置",5,15,30,45,60,65,80,95,110,120,{"$nulls":4},"位置",5,10,15,20,27,35,45,50,{"$nulls":5},"位置",4,6,10,15,25,40,57,75,null,null,null,{"$f":"_xlfn.TEXTJOIN(\"^\",,AG83:AG97)","v":"0^0"},null,"位置",3,5,8,12,18,25,35,45,null,null,null,{"$f":"_xlfn.TEXTJOIN(\"^\",,AU83:AU97)","v":"101^103^105"}]
[null,null,8,{"$nulls":12},{"$f":"_xlfn.TEXTJOIN(\"^\",,D83:D97)","v":"0^0"},null,8,{"$nulls":6},{"$f":"$C83","v":8},{"$nulls":6},8,{"$nulls":11},{"$f":"_xlfn.TEXTJOIN(\"^\",,AH83:AH97)","v":"0^0^0"},null,8,{"$nulls":5},{"$f":"$C83","v":8},null,{"$f":"$C83","v":8},null,null,null,{"$f":"_xlfn.TEXTJOIN(\"^\",,AV83:AV97)","v":"2^1^3"}]
[null,null,6,{"$nulls":12},{"$f":"_xlfn.TEXTJOIN(\"^\",,E83:E97)","v":"0^0^0"},null,6,{"$f":"$C84","v":6},null,null,null,{"$f":"$C84","v":6},6,6,{"$nulls":4},{"$f":"_xlfn.TEXTJOIN(\"^\",,S83:S97)","v":"6^2^1^3^7"},null,6,{"$nulls":11},{"$f":"_xlfn.TEXTJOIN(\"^\",,AI83:AI97)","v":"100^0"},null,6,null,null,{"$f":"$C84","v":6},null,{"$f":"$C84","v":6},null,{"$f":"$C84","v":6},{"$nulls":4},{"$f":"_xlfn.TEXTJOIN(\"^\",,AW83:AW97)","v":"6^1^7"}]
[null,null,4,{"$nulls":12},{"$f":"_xlfn.TEXTJOIN(\"^\",,F83:F97)","v":"0^0^0^0"},null,4,null,{"$f":"$C85","v":4},{"$f":"$C85","v":4},null,4,4,4,{"$nulls":4},{"$f":"_xlfn.TEXTJOIN(\"^\",,T83:T97)","v":"4^2^1^3^5"},null,4,{"$nulls":11},{"$f":"_xlfn.TEXTJOIN(\"^\",,AJ83:AJ97)","v":"0^0^0^0"},null,4,null,null,null,{"$f":"$C85","v":4},4,4,4,4,null,null,null,{"$f":"_xlfn.TEXTJOIN(\"^\",,AX83:AX97)","v":"4^2^3^5"}]
[null,null,2,{"$nulls":12},{"$f":"_xlfn.TEXTJOIN(\"^\",,G83:G97)","v":"0^0"},null,2,{"$f":"$C86","v":2},2,null,null,2,2,2,{"$nulls":4},{"$f":"_xlfn.TEXTJOIN(\"^\",,U83:U97)","v":"4^1^5"},null,2,{"$nulls":11},{"$f":"_xlfn.TEXTJOIN(\"^\",,AK83:AK97)","v":"0^0^0"},null,2,null,{"$f":"$C86","v":2},null,2,2,2,2,2,null,null,null,{"$f":"_xlfn.TEXTJOIN(\"^\",,AY83:AY97)","v":"6^4^2^3^5^7"}]
[null,null,1,0,0,0,0,0,100,0,0,0,100,null,null,{"$f":"_xlfn.TEXTJOIN(\"^\",,H83:H97)","v":"0^0^0"},null,1,{"$f":"$C87","v":1},1,{"$f":"$C87","v":1},null,1,1,1,{"$nulls":4},{"$f":"_xlfn.TEXTJOIN(\"^\",,V83:V97)","v":"101^102^103^104^105"},null,1,0,0,100,0,0,0,0,100,null,null,null,{"$f":"_xlfn.TEXTJOIN(\"^\",,AL83:AL97)","v":"0^0"},null,1,null,1,{"$f":"$C87","v":1},null,null,1,1,1,null,null,null,{"$f":"_xlfn.TEXTJOIN(\"^\",,AZ83:AZ97)","v":"8^4^2^1^3^5^9"}]
[null,null,3,0,0,0,0,0,0,0,0,0,0,null,null,{"$f":"_xlfn.TEXTJOIN(\"^\",,I83:I97)","v":"100^0^0"},null,3,{"$f":"$C88","v":3},3,null,null,3,3,3,{"$nulls":4},{"$f":"_xlfn.TEXTJOIN(\"^\",,W83:W97)","v":"6^4^2^1^3^5^7"},null,3,0,0,0,0,0,0,0,0,null,null,null,{"$f":"_xlfn.TEXTJOIN(\"^\",,AM83:AM97)","v":"0^0^0^0"},null,3,null,3,null,{"$f":"$C88","v":3},3,3,3,3,null,null,null,{"$f":"_xlfn.TEXTJOIN(\"^\",,BA83:BA97)","v":"6^4^2^1^3^5^7"}]
[null,null,5,null,0,0,null,0,0,null,0,0,0,null,null,{"$f":"_xlfn.TEXTJOIN(\"^\",,J83:J97)","v":"0^0"},null,5,null,5,{"$f":"$C89","v":5},null,5,5,5,{"$nulls":4},{"$f":"_xlfn.TEXTJOIN(\"^\",,X83:X97)","v":"6^4^2^1^3^5^7"},null,5,null,0,null,0,0,null,0,0,null,null,null,{"$f":"_xlfn.TEXTJOIN(\"^\",,AN83:AN97)","v":"100^0^0"},null,5,null,null,null,5,5,5,5,5,null,null,null,{"$f":"_xlfn.TEXTJOIN(\"^\",,BB83:BB97)","v":"8^4^2^1^3^5^9"}]
[null,null,7,null,null,0,{"$nulls":9},{"$f":"_xlfn.TEXTJOIN(\"^\",,K83:K97)","v":"0^0^0"},null,7,{"$f":"$C90","v":7},null,null,null,7,7,7,{"$nulls":4},{"$f":"_xlfn.TEXTJOIN(\"^\",,Y83:Y97)","v":"8^6^4^2^1^3^5^7^9"},null,7,null,null,null,0,null,null,0,{"$nulls":4},{"$f":"_xlfn.TEXTJOIN(\"^\",,AO83:AO97)","v":""},null,7,null,null,{"$f":"$C90","v":7},null,7,null,7,{"$nulls":4},{"$f":"_xlfn.TEXTJOIN(\"^\",,BC83:BC97)","v":""}]
[null,null,9,{"$nulls":12},{"$f":"_xlfn.TEXTJOIN(\"^\",,L83:L97)","v":"0^0^0"},null,9,{"$nulls":6},9,{"$nulls":6},9,{"$nulls":11},{"$f":"_xlfn.TEXTJOIN(\"^\",,AP83:AP97)","v":""},null,9,{"$nulls":5},{"$f":"$C91","v":9},null,{"$f":"$C91","v":9},null,null,null,{"$f":"_xlfn.TEXTJOIN(\"^\",,BD83:BD97)","v":""}]
[null,null,"空降",{"$nulls":12},{"$f":"_xlfn.TEXTJOIN(\"^\",,M83:M97)","v":"100^0^0"},null,"空降",{"$nulls":13},"空降",{"$nulls":11},{"$f":"_xlfn.TEXTJOIN(\"^\",,AQ83:AQ91)","v":""},null,"空降",{"$nulls":11},{"$f":"_xlfn.TEXTJOIN(\"^\",,BE83:BE91)","v":""}]
[null,null,101,{"$nulls":12},{"$f":"_xlfn.TEXTJOIN(\"^\",,N83:N97)","v":""},null,101,null,null,null,{"$f":"$C93","v":101},null,null,null,{"$f":"$C93","v":101},null,null,null,{"$f":"_xlfn.TEXTJOIN(\"^\",,Z83:Z97)","v":"101^102^103^104^105"},null,101,{"$nulls":13},101,{"$f":"$C93","v":101}]
[null,null,102,{"$nulls":14},102,null,null,null,102,null,null,null,102,null,null,null,{"$f":"_xlfn.TEXTJOIN(\"^\",,AA83:AA97)","v":""},null,102,{"$nulls":13},102]
[null,null,103,{"$nulls":14},103,null,null,null,103,null,null,null,103,null,null,null,{"$f":"_xlfn.TEXTJOIN(\"^\",,AB83:AB97)","v":""},null,103,{"$nulls":13},103,{"$f":"$C95","v":103}]
[null,null,104,{"$nulls":14},104,null,null,null,104,null,null,null,104,{"$nulls":5},104,{"$nulls":13},104]
[null,null,105,{"$nulls":14},105,null,null,null,105,null,null,null,105,{"$nulls":5},105,{"$nulls":13},105,{"$f":"$C97","v":105}]
[{"$nulls":14},"最终",{"$f":"_xlfn.TEXTJOIN(\"^\",,P83:P97)","v":"0^0^0^0^0^0^0^0^0^0^0^0^0^0^100^0^0^0^0^0^0^0^0^0^0^100^0^0"},{"$nulls":12},"最终",{"$f":"_xlfn.TEXTJOIN(\"^\",,AD83:AD97)","v":"6^2^1^3^7^4^2^1^3^5^4^1^5^101^102^103^104^105^6^4^2^1^3^5^7^6^4^2^1^3^5^7^8^6^4^2^1^3^5^7^9^101^102^103^104^105"},{"$nulls":12},"最终",{"$f":"_xlfn.TEXTJOIN(\"^\",,AR82:AR97)","v":"0^0^0^0^0^100^0^0^0^0^0^0^0^0^0^0^0^0^0^0^100^0^0"},{"$nulls":12},"最终",{"$f":"_xlfn.TEXTJOIN(\"^\",,BF82:BF97)","v":"101^103^105^2^1^3^6^1^7^4^2^3^5^6^4^2^3^5^7^8^4^2^1^3^5^9^6^4^2^1^3^5^7^8^4^2^1^3^5^9"}]
[]
[null,null,"时间",5,15,30,45,60,65,80,95,110,120,{"$nulls":4},"时间",5,10,15,20,27,35,45,50,null,null,null,{"$f":"_xlfn.TEXTJOIN(\"^\",,S101:S109)","v":"5^5^5^5^5"},null,"时间",4,6,10,15,25,40,57,75,null,null,null,{"$f":"_xlfn.TEXTJOIN(\"^\",,AG101:AG109)","v":"18^6"},null,"时间",3,5,8,12,18,25,35,45,null,null,null,{"$f":"_xlfn.TEXTJOIN(\"^\",,AU101:AU109)","v":"3^3^3"}]
[null,null,8,{"$nulls":12},{"$f":"_xlfn.TEXTJOIN(\"^\",,D101:D110)","v":"11^4"},null,8,{"$nulls":6},{"$f":"Y$100","v":45},{"$nulls":4},{"$f":"_xlfn.TEXTJOIN(\"^\",,T101:T109)","v":"10^10^10^10^10"},null,8,{"$nulls":11},{"$f":"_xlfn.TEXTJOIN(\"^\",,AH101:AH109)","v":"12^3^2"},null,8,{"$nulls":5},{"$f":"AZ$100","v":25},null,{"$f":"BB$100","v":45},null,null,null,{"$f":"_xlfn.TEXTJOIN(\"^\",,AV101:AV109)","v":"5^5^5"}]
[null,null,6,{"$nulls":12},{"$f":"_xlfn.TEXTJOIN(\"^\",,E101:E110)","v":"10^3^2"},null,6,{"$f":"S$100","v":5},null,null,null,{"$f":"W$100","v":27},35,45,{"$nulls":4},{"$f":"_xlfn.TEXTJOIN(\"^\",,U101:U109)","v":"15^15^15"},null,6,{"$nulls":11},{"$f":"_xlfn.TEXTJOIN(\"^\",,AI101:AI109)","v":"9^4"},null,6,null,null,{"$f":"AW$100","v":8},null,{"$f":"AY$100","v":18},null,{"$f":"BA$100","v":35},{"$nulls":4},{"$f":"_xlfn.TEXTJOIN(\"^\",,AW101:AW109)","v":"8^8^8"}]
[null,null,4,{"$nulls":12},{"$f":"_xlfn.TEXTJOIN(\"^\",,F101:F110)","v":"10^3^2^2"},null,4,null,{"$f":"T$100","v":10},{"$f":"U$100","v":15},{"$f":"V$100","v":20},27,35,45,50,null,null,null,{"$f":"_xlfn.TEXTJOIN(\"^\",,V101:V109)","v":"20^20^20^20^20"},null,4,{"$nulls":11},{"$f":"_xlfn.TEXTJOIN(\"^\",,AJ101:AJ109)","v":"12^3^2^2"},null,4,{"$f":"AU$100","v":3},null,null,{"$f":"AX$100","v":12},18,25,35,45,null,null,null,{"$f":"_xlfn.TEXTJOIN(\"^\",,AX101:AX109)","v":"12^12^12^12"}]
[null,null,2,{"$nulls":12},{"$f":"_xlfn.TEXTJOIN(\"^\",,G101:G110)","v":"15^3"},null,2,{"$f":"S$100","v":5},10,null,20,27,35,45,50,null,null,null,{"$f":"_xlfn.TEXTJOIN(\"^\",,W101:W109)","v":"27^27^27^27^27^27^27"},null,2,{"$nulls":11},{"$f":"_xlfn.TEXTJOIN(\"^\",,AK101:AK109)","v":"14^4^2"},null,2,null,{"$f":"AV$100","v":5},null,12,18,25,35,45,null,null,null,{"$f":"_xlfn.TEXTJOIN(\"^\",,AY101:AY109)","v":"18^18^18^18^18^18"}]
[null,null,1,11,10,10,15,14,15,16,16,17,9,null,null,{"$f":"_xlfn.TEXTJOIN(\"^\",,H101:H110)","v":"14^3^2"},null,1,5,10,{"$f":"U$100","v":15},20,27,35,45,50,null,null,null,{"$f":"_xlfn.TEXTJOIN(\"^\",,X101:X109)","v":"35^35^35^35^35^35^35"},null,1,18,12,9,12,14,16,13,9,null,null,null,{"$f":"_xlfn.TEXTJOIN(\"^\",,AL101:AL109)","v":"16^4"},null,1,{"$f":"AU$100","v":3},5,{"$f":"AW$100","v":8},null,null,25,35,45,null,null,null,{"$f":"_xlfn.TEXTJOIN(\"^\",,AZ101:AZ109)","v":"25^25^25^25^25^25^25"}]
[null,null,3,4,3,3,3,3,3,4,3,3,4,null,null,{"$f":"_xlfn.TEXTJOIN(\"^\",,I101:I110)","v":"15^3^2"},null,3,5,10,null,20,27,35,45,50,null,null,null,{"$f":"_xlfn.TEXTJOIN(\"^\",,Y101:Y109)","v":"45^45^45^45^45^45^45^45^45"},null,3,6,3,4,3,4,4,3,4,null,null,null,{"$f":"_xlfn.TEXTJOIN(\"^\",,AM101:AM109)","v":"13^3^3^2"},null,3,null,5,null,{"$f":"AX$100","v":12},18,25,35,45,null,null,null,{"$f":"_xlfn.TEXTJOIN(\"^\",,BA101:BA109)","v":"35^35^35^35^35^35^35"}]
[null,null,5,null,2,2,null,2,2,null,2,2,2,null,null,{"$f":"_xlfn.TEXTJOIN(\"^\",,J101:J110)","v":"16^4"},null,5,null,10,{"$f":"U$100","v":15},20,27,35,45,50,null,null,null,{"$f":"_xlfn.TEXTJOIN(\"^\",,Z101:Z109)","v":"50^50^50^50^50"},null,5,null,2,null,2,2,null,3,3,null,null,null,{"$f":"_xlfn.TEXTJOIN(\"^\",,AN101:AN109)","v":"9^4^3"},null,5,{"$f":"AU$100","v":3},null,null,12,18,25,35,45,null,null,null,{"$f":"_xlfn.TEXTJOIN(\"^\",,BB101:BB109)","v":"45^45^45^45^45^45^45"}]
[null,null,7,null,null,2,{"$nulls":9},{"$f":"_xlfn.TEXTJOIN(\"^\",,K101:K110)","v":"16^3^2"},null,7,{"$f":"S$100","v":5},null,null,null,27,35,45,{"$nulls":4},{"$f":"_xlfn.TEXTJOIN(\"^\",,AA101:AA109)","v":""},null,7,null,null,null,2,null,null,2,{"$nulls":4},{"$f":"_xlfn.TEXTJOIN(\"^\",,AO101:AO109)","v":""},null,7,null,null,{"$f":"AW$100","v":8},null,18,null,35,{"$nulls":4},{"$f":"_xlfn.TEXTJOIN(\"^\",,BC101:BC109)","v":""}]
[null,null,9,{"$nulls":12},{"$f":"_xlfn.TEXTJOIN(\"^\",,L101:L110)","v":"17^3^2"},null,9,{"$nulls":6},45,{"$nulls":4},{"$f":"_xlfn.TEXTJOIN(\"^\",,AB101:AB109)","v":""},null,9,{"$nulls":11},{"$f":"_xlfn.TEXTJOIN(\"^\",,AP101:AP109)","v":""},null,9,{"$nulls":5},{"$f":"AZ$100","v":25},null,{"$f":"BB$100","v":45},null,null,null,{"$f":"_xlfn.TEXTJOIN(\"^\",,BD101:BD109)","v":""}]
[{"$nulls":15},{"$f":"_xlfn.TEXTJOIN(\"^\",,M101:M110)","v":"9^4^2"},{"$nulls":13},{"$f":"_xlfn.TEXTJOIN(\"^\",,AC101:AC109)","v":""},{"$nulls":13},{"$f":"_xlfn.TEXTJOIN(\"^\",,AQ101:AQ109)","v":""},{"$nulls":13},{"$f":"_xlfn.TEXTJOIN(\"^\",,BE101:BE109)","v":""}]
[{"$nulls":15},{"$f":"_xlfn.TEXTJOIN(\"^\",,N101:N110)","v":""},{"$nulls":12},"最终",{"$f":"_xlfn.TEXTJOIN(\"^\",,AD100:AD110)","v":"5^5^5^5^5^10^10^10^10^10^15^15^15^20^20^20^20^20^27^27^27^27^27^27^27^35^35^35^35^35^35^35^45^45^45^45^45^45^45^45^45^50^50^50^50^50"},{"$nulls":12},"最终",{"$f":"_xlfn.TEXTJOIN(\"^\",,AR100:AR110)","v":"18^6^12^3^2^9^4^12^3^2^2^14^4^2^16^4^13^3^3^2^9^4^3"},{"$nulls":12},"最终",{"$f":"_xlfn.TEXTJOIN(\"^\",,BF100:BF110)","v":"3^3^3^5^5^5^8^8^8^12^12^12^12^18^18^18^18^18^18^25^25^25^25^25^25^25^35^35^35^35^35^35^35^45^45^45^45^45^45^45"}]
[{"$nulls":14},"最终",{"$f":"_xlfn.TEXTJOIN(\"^\",,P101:P111)","v":"11^4^10^3^2^10^3^2^2^15^3^14^3^2^15^3^2^16^4^16^3^2^17^3^2^9^4^2"}]
[{"$nulls":14},{"$f":"SUM(D101:N110)","v":182},{"$nulls":13},{"$f":"COUNT(S101:AB110)","v":46},{"$nulls":13},{"$f":"SUM(AG101:AP110)","v":150},{"$nulls":13},{"$f":"COUNT(AU101:BD110)","v":40},{"$f":"AQ113+BE113+AC113+O113","v":418}]
[{"$nulls":4},{"$f":"E115-D115","v":5},{"$f":"F115-E115","v":6},4,7,8,10,10,5,10,{"$nulls":6},{"$f":"T115-S115","v":5},5,7,8,10,5,10,{"$nulls":7},{"$f":"AH115-AG115","v":6},5,15,16,4,15,15,{"$nulls":7},{"$f":"AV115-AU115","v":2},3,4,6,7,10,10]
[1,"熔谷-3","波1·怪物",5,10,16,20,27,35,45,55,60,70,null,null,null,1,"波2·怪物",5,10,15,22,30,40,45,55,{"$nulls":4},3,"波3·怪物",4,10,15,30,46,50,65,80,{"$nulls":4},1,"波4·怪物",3,5,8,12,18,25,35,45]
[null,"5m",8,null,null,70422,null,70424,70424,70422,null,null,70422,null,null,{"$f":"_xlfn.TEXTJOIN(\"^\",,D116:D125)","v":"70424^70421^70421^70421^70424"},null,8,null,null,null,70424,null,70422,{"$nulls":5},{"$f":"_xlfn.TEXTJOIN(\"^\",,S116:S125)","v":"70425^70425^70425^70425"},null,8,{"$nulls":11},{"$f":"_xlfn.TEXTJOIN(\"^\",,AG116:AG125)","v":"70421^70422^70424"},null,8,{"$nulls":5},70422,null,70424,null,null,null,{"$f":"_xlfn.TEXTJOIN(\"^\",,AU116:AU125)","v":"70424^70423^70423^70424"}]
[null,null,6,70424,null,70421,null,70422,70421,70421,70424,null,70422,null,null,{"$f":"_xlfn.TEXTJOIN(\"^\",,E116:E125)","v":"70422^70422^70423^70422^70422"},null,6,null,70422,70424,null,70422,70422,null,70424,null,null,null,{"$f":"_xlfn.TEXTJOIN(\"^\",,T116:T125)","v":"70422^70421^70422^70421^70422"},null,6,{"$nulls":11},{"$f":"_xlfn.TEXTJOIN(\"^\",,AH116:AH125)","v":"70421^70423"},null,6,null,70422,null,70421,70424,null,70422,70422,null,null,null,{"$f":"_xlfn.TEXTJOIN(\"^\",,AV116:AV125)","v":"70422^70422^70422^70422"}]
[null,null,4,null,70422,null,70425,null,70422,70421,70422,70425,70421,null,null,{"$f":"_xlfn.TEXTJOIN(\"^\",,F116:F125)","v":"70422^70421^70423^70424^70423^70421^70422"},null,4,70425,null,null,70422,70422,70421,70425,70422,null,null,null,{"$f":"_xlfn.TEXTJOIN(\"^\",,U116:U125)","v":"70424^70423^70423^70423^70424"},null,4,{"$nulls":11},{"$f":"_xlfn.TEXTJOIN(\"^\",,AI116:AI125)","v":"70425^70422"},null,4,70424,70422,70425,70421,70422,70421,70421,70421,null,null,null,{"$f":"_xlfn.TEXTJOIN(\"^\",,AW116:AW125)","v":"70425^70425^70425^70425"}]
[null,null,2,70421,70422,70423,70425,70421,70423,70421,70423,70425,70423,null,null,{"$f":"_xlfn.TEXTJOIN(\"^\",,G116:G125)","v":"70425^70425^70425^70425^70425"},null,2,70425,70421,70423,70421,70423,70423,70425,70422,null,null,null,{"$f":"_xlfn.TEXTJOIN(\"^\",,V116:V125)","v":"70424^70422^70421^70422^70421^70422^70424"},null,2,{"$nulls":11},{"$f":"_xlfn.TEXTJOIN(\"^\",,AJ116:AJ125)","v":"70421^70422^70423^70424"},null,2,70423,null,70425,null,70423,70421,70421,70423,null,null,null,{"$f":"_xlfn.TEXTJOIN(\"^\",,AX116:AX125)","v":"70421^70421^70421^70421^70421"}]
[null,null,1,70421,70423,70424,70425,70421,70422,70422,70422,70425,70424,null,null,{"$f":"_xlfn.TEXTJOIN(\"^\",,H116:H125)","v":"70424^70422^70421^70421^70421^70422^70424"},null,1,null,70422,70423,70422,70424,70424,70425,70426,null,null,null,{"$f":"_xlfn.TEXTJOIN(\"^\",,W116:W125)","v":"70422^70422^70423^70424^70423^70422^70422"},null,1,70421,70421,70425,70421,70421,70425,70421,70421,null,null,null,{"$f":"_xlfn.TEXTJOIN(\"^\",,AK116:AK125)","v":"70421^70422"},null,1,null,null,null,70421,null,70424,70423,{"$nulls":4},{"$f":"_xlfn.TEXTJOIN(\"^\",,AY116:AY125)","v":"70424^70422^70423^70423^70422^70424"}]
[null,null,3,70421,70422,70423,70425,70421,70423,70421,70423,70425,70423,null,null,{"$f":"_xlfn.TEXTJOIN(\"^\",,I116:I125)","v":"70424^70421^70422^70423^70422^70423^70422^70421^70424"},null,3,70425,70421,70423,70421,70423,70423,70425,70422,null,null,null,{"$f":"_xlfn.TEXTJOIN(\"^\",,X116:X125)","v":"70422^70422^70421^70423^70424^70423^70421^70422^70422"},null,3,70422,70423,70422,70422,70422,70423,70422,70422,null,null,null,{"$f":"_xlfn.TEXTJOIN(\"^\",,AL116:AL125)","v":"70425^70423^70424"},null,3,70423,null,70425,null,70423,70421,70421,70423,null,null,null,{"$f":"_xlfn.TEXTJOIN(\"^\",,AZ116:AZ125)","v":"70422^70421^70421^70424^70421^70421^70422"}]
[null,null,5,null,70422,null,70425,null,70422,70421,70422,70425,70421,null,null,{"$f":"_xlfn.TEXTJOIN(\"^\",,J116:J125)","v":"70422^70421^70421^70421^70422^70421^70421^70421^70422"},null,5,70425,null,null,70422,70422,70421,70425,70422,null,null,null,{"$f":"_xlfn.TEXTJOIN(\"^\",,Y116:Y125)","v":"70425^70425^70425^70425^70425"},null,5,70424,null,null,70423,null,70424,70423,70424,null,null,null,{"$f":"_xlfn.TEXTJOIN(\"^\",,AM116:AM125)","v":"70421^70422^70423"},null,5,70424,70422,70425,70421,70422,70421,70421,70421,null,null,null,{"$f":"_xlfn.TEXTJOIN(\"^\",,BA116:BA125)","v":"70422^70421^70421^70423^70421^70421^70422"}]
[null,null,7,70424,null,70421,null,70422,70421,70421,70424,null,70422,null,null,{"$f":"_xlfn.TEXTJOIN(\"^\",,K116:K125)","v":"70424^70422^70423^70422^70423^70422^70424"},null,7,null,70422,70424,null,70422,70422,null,70424,null,null,null,{"$f":"_xlfn.TEXTJOIN(\"^\",,Z116:Z125)","v":"70424^70422^70422^70426^70422^70422^70424"},null,7,null,null,null,70424,{"$nulls":7},{"$f":"_xlfn.TEXTJOIN(\"^\",,AN116:AN125)","v":"70421^70422^70424"},null,7,null,70422,null,70421,70424,null,70422,70422,null,null,null,{"$f":"_xlfn.TEXTJOIN(\"^\",,BB116:BB125)","v":"70424^70422^70421^70423^70423^70421^70422^70424"}]
[null,null,9,null,null,70422,null,70424,70424,70422,null,null,70422,null,null,{"$f":"_xlfn.TEXTJOIN(\"^\",,L116:L125)","v":"70425^70425^70425^70425^70425"},null,9,null,null,null,70424,null,70422,{"$nulls":5},{"$f":"_xlfn.TEXTJOIN(\"^\",,AA116:AA125)","v":""},null,9,{"$nulls":11},{"$f":"_xlfn.TEXTJOIN(\"^\",,AO116:AO125)","v":""},null,9,{"$nulls":5},70422,null,70424,null,null,null,{"$f":"_xlfn.TEXTJOIN(\"^\",,BC116:BC125)","v":""}]
[{"$nulls":15},{"$f":"_xlfn.TEXTJOIN(\"^\",,M116:M125)","v":"70422^70422^70421^70423^70424^70423^70421^70422^70422"},{"$nulls":13},{"$f":"_xlfn.TEXTJOIN(\"^\",,AB116:AB125)","v":""},{"$nulls":13},{"$f":"_xlfn.TEXTJOIN(\"^\",,AP116:AP125)","v":""},{"$nulls":13},{"$f":"_xlfn.TEXTJOIN(\"^\",,BD116:BD125)","v":""}]
[{"$nulls":15},{"$f":"_xlfn.TEXTJOIN(\"^\",,N116:N125)","v":""},{"$nulls":13},{"$f":"_xlfn.TEXTJOIN(\"^\",,AC116:AC125)","v":""},{"$nulls":13},{"$f":"_xlfn.TEXTJOIN(\"^\",,AQ116:AQ125)","v":""},{"$nulls":13},{"$f":"_xlfn.TEXTJOIN(\"^\",,BE116:BE125)","v":""}]
[{"$nulls":14},"最终",{"$f":"_xlfn.TEXTJOIN(\"^\",,P116:P126)","v":"70424^70421^70421^70421^70424^70422^70422^70423^70422^70422^70422^70421^70423^70424^70423^70421^70422^70425^70425^70425^70425^70425^70424^70422^70421^70421^70421^70422^70424^70424^70421^70422^70423^70422^70423^70422^70421^70424^70422^70421^70421^70421^70422^70421^70421^70421^70422^70424^70422^70423^70422^70423^70422^70424^70425^70425^70425^70425^70425^70422^70422^70421^70423^70424^70423^70421^70422^70422"},{"$nulls":12},"最终",{"$f":"_xlfn.TEXTJOIN(\"^\",,AD116:AD126)","v":"70425^70425^70425^70425^70422^70421^70422^70421^70422^70424^70423^70423^70423^70424^70424^70422^70421^70422^70421^70422^70424^70422^70422^70423^70424^70423^70422^70422^70422^70422^70421^70423^70424^70423^70421^70422^70422^70425^70425^70425^70425^70425^70424^70422^70422^70426^70422^70422^70424"},{"$nulls":12},"最终",{"$f":"_xlfn.TEXTJOIN(\"^\",,AR116:AR126)","v":"70421^70422^70424^70421^70423^70425^70422^70421^70422^70423^70424^70421^70422^70425^70423^70424^70421^70422^70423^70421^70422^70424"},{"$nulls":12},"最终",{"$f":"_xlfn.TEXTJOIN(\"^\",,BF116:BF126)","v":"70424^70423^70423^70424^70422^70422^70422^70422^70425^70425^70425^70425^70421^70421^70421^70421^70421^70424^70422^70423^70423^70422^70424^70422^70421^70421^70424^70421^70421^70422^70422^70421^70421^70423^70421^70421^70422^70424^70422^70421^70423^70423^70421^70422^70424"}]
[null,null,8,null,null,"岩浆人",null,"火精灵","火精灵","岩浆人",null,null,"岩浆人",{"$nulls":4},8,null,null,null,"火精灵",null,"岩浆人",{"$nulls":7},8,{"$nulls":13},8,{"$nulls":5},"岩浆人",null,"火精灵"]
[null,null,6,"火精灵",null,"岩浆蝎",null,"岩浆人","岩浆蝎","岩浆蝎","火精灵",null,"岩浆人",{"$nulls":4},6,null,"岩浆人","火精灵",null,"岩浆人","岩浆人",null,"火精灵",{"$nulls":5},6,{"$nulls":13},6,null,"岩浆人",null,"岩浆蝎","火精灵",null,"岩浆人","岩浆人"]
[null,null,4,null,"岩浆人",null,"火山蜘蛛",null,"岩浆人","岩浆蝎","岩浆人","火山蜘蛛","岩浆蝎",{"$nulls":4},4,"火山蜘蛛",null,null,"岩浆人","岩浆人","岩浆蝎","火山蜘蛛","岩浆人",{"$nulls":5},4,{"$nulls":13},4,"火精灵","岩浆人","火山蜘蛛","岩浆蝎","岩浆人","岩浆蝎","岩浆蝎","岩浆蝎"]
[null,null,2,"岩浆蝎","岩浆人","岩浆战士","火山蜘蛛","岩浆蝎","岩浆战士","岩浆蝎","岩浆战士","火山蜘蛛","岩浆战士",{"$nulls":4},2,"火山蜘蛛","岩浆蝎","岩浆战士","岩浆蝎","岩浆战士","岩浆战士","火山蜘蛛","岩浆人",{"$nulls":5},2,{"$nulls":13},2,"岩浆战士",null,"火山蜘蛛",null,"岩浆战士","岩浆蝎","岩浆蝎","岩浆战士"]
[null,null,1,"岩浆蝎","岩浆战士","火精灵","火山蜘蛛","岩浆蝎","岩浆人","岩浆人","岩浆人","火山蜘蛛","火精灵",{"$nulls":4},1,null,"岩浆人","岩浆战士","岩浆人","火精灵","火精灵","火山蜘蛛","岩浆巨兽",{"$nulls":5},1,"岩浆蝎","岩浆蝎","火山蜘蛛","岩浆蝎","岩浆蝎","火山蜘蛛","岩浆蝎","岩浆蝎",{"$nulls":5},1,null,null,null,"岩浆蝎",null,"火精灵","岩浆战士"]
[null,null,3,"岩浆蝎","岩浆人","岩浆战士","火山蜘蛛","岩浆蝎","岩浆战士","岩浆蝎","岩浆战士","火山蜘蛛","岩浆战士",{"$nulls":4},3,"火山蜘蛛","岩浆蝎","岩浆战士","岩浆蝎","岩浆战士","岩浆战士","火山蜘蛛","岩浆人",{"$nulls":5},3,"岩浆人","岩浆战士","岩浆人","岩浆人","岩浆人","岩浆战士","岩浆人","岩浆人",{"$nulls":5},3,"岩浆战士",null,"火山蜘蛛",null,"岩浆战士","岩浆蝎","岩浆蝎","岩浆战士"]
[null,null,5,null,"岩浆人",null,"火山蜘蛛",null,"岩浆人","岩浆蝎","岩浆人","火山蜘蛛","岩浆蝎",{"$nulls":4},5,"火山蜘蛛",null,null,"岩浆人","岩浆人","岩浆蝎","火山蜘蛛","岩浆人",{"$nulls":5},5,"火精灵",null,null,"岩浆战士",null,"火精灵","岩浆战士","火精灵",{"$nulls":5},5,"火精灵","岩浆人","火山蜘蛛","岩浆蝎","岩浆人","岩浆蝎","岩浆蝎","岩浆蝎"]
[null,null,7,"火精灵",null,"岩浆蝎",null,"岩浆人","岩浆蝎","岩浆蝎","火精灵",null,"岩浆人",{"$nulls":4},7,null,"岩浆人","火精灵",null,"岩浆人","岩浆人",null,"火精灵",{"$nulls":5},7,null,null,null,"火精灵",{"$nulls":9},7,null,"岩浆人",null,"岩浆蝎","火精灵",null,"岩浆人","岩浆人"]
[null,null,9,null,null,"岩浆人",null,"火精灵","火精灵","岩浆人",null,null,"岩浆人",{"$nulls":4},9,null,null,null,"火精灵",null,"岩浆人",{"$nulls":7},9,{"$nulls":13},9,{"$nulls":5},"岩浆人",null,"火精灵"]
[]
[null,null,"位置",5,10,16,20,27,35,45,55,60,70,{"$nulls":4},"位置",5,10,15,22,30,40,45,55,{"$nulls":5},"位置",4,10,15,30,46,50,65,80,null,null,null,{"$f":"_xlfn.TEXTJOIN(\"^\",,AG139:AG153)","v":"0^0^0"},null,"位置",3,5,8,12,18,25,35,45,null,null,null,{"$f":"_xlfn.TEXTJOIN(\"^\",,AU139:AU153)","v":"4^2^3^5"}]
[null,null,8,null,null,{"$f":"$C139","v":8},null,{"$f":"$C139","v":8},{"$f":"$C139","v":8},{"$f":"$C139","v":8},null,null,{"$f":"$C139","v":8},null,null,{"$f":"_xlfn.TEXTJOIN(\"^\",,D139:D153)","v":"6^2^1^3^7"},null,8,null,null,null,{"$f":"$C139","v":8},null,{"$f":"$C139","v":8},{"$nulls":7},8,{"$nulls":11},{"$f":"_xlfn.TEXTJOIN(\"^\",,AH139:AH153)","v":"0^0"},null,8,{"$nulls":5},{"$f":"$C139","v":8},null,{"$f":"$C139","v":8},null,null,null,{"$f":"_xlfn.TEXTJOIN(\"^\",,AV139:AV153)","v":"6^4^5^7"}]
[null,null,6,{"$f":"$C140","v":6},null,6,null,6,6,6,6,null,6,null,null,{"$f":"_xlfn.TEXTJOIN(\"^\",,E139:E153)","v":"4^2^1^3^5"},null,6,null,{"$f":"$C140","v":6},{"$f":"$C140","v":6},null,{"$f":"$C140","v":6},6,null,{"$f":"$C140","v":6},null,null,null,{"$f":"_xlfn.TEXTJOIN(\"^\",,S139:S153)","v":"101^102^104^105"},null,6,{"$nulls":11},{"$f":"_xlfn.TEXTJOIN(\"^\",,AI139:AI153)","v":"100^0"},null,6,null,{"$f":"$C140","v":6},null,{"$f":"$C140","v":6},6,null,{"$f":"$C140","v":6},6,null,null,null,{"$f":"_xlfn.TEXTJOIN(\"^\",,AW139:AW153)","v":"101^102^104^105"}]
[null,null,4,null,{"$f":"$C141","v":4},null,null,null,4,4,4,null,4,null,null,{"$f":"_xlfn.TEXTJOIN(\"^\",,F139:F153)","v":"8^6^2^1^3^7^9"},null,4,null,null,null,{"$f":"$C141","v":4},4,4,null,4,null,null,null,{"$f":"_xlfn.TEXTJOIN(\"^\",,T139:T153)","v":"6^2^1^3^7"},null,4,{"$nulls":11},{"$f":"_xlfn.TEXTJOIN(\"^\",,AJ139:AJ153)","v":"0^0^0^0"},null,4,{"$f":"$C141","v":4},{"$f":"$C141","v":4},null,4,4,4,4,4,null,null,null,{"$f":"_xlfn.TEXTJOIN(\"^\",,AX139:AX153)","v":"6^4^1^5^7"}]
[null,null,2,{"$f":"$C142","v":2},2,{"$f":"$C142","v":2},null,{"$f":"$C142","v":2},2,2,2,null,2,null,null,{"$f":"_xlfn.TEXTJOIN(\"^\",,G139:G153)","v":"101^102^103^104^105"},null,2,null,{"$f":"$C142","v":2},2,2,2,2,null,2,null,null,null,{"$f":"_xlfn.TEXTJOIN(\"^\",,U139:U153)","v":"6^2^1^3^7"},null,2,{"$nulls":11},{"$f":"_xlfn.TEXTJOIN(\"^\",,AK139:AK153)","v":"0^0"},null,2,2,null,null,null,{"$f":"$C142","v":2},2,2,2,null,null,null,{"$f":"_xlfn.TEXTJOIN(\"^\",,AY139:AY153)","v":"6^4^2^3^5^7"}]
[null,null,1,1,1,{"$f":"$C143","v":1},null,1,1,1,1,null,1,null,null,{"$f":"_xlfn.TEXTJOIN(\"^\",,H139:H153)","v":"8^6^2^1^3^7^9"},null,1,null,1,1,1,1,1,null,{"$f":"$C143","v":1},null,null,null,{"$f":"_xlfn.TEXTJOIN(\"^\",,V139:V153)","v":"8^4^2^1^3^5^9"},null,1,0,0,100,0,0,100,0,0,null,null,null,{"$f":"_xlfn.TEXTJOIN(\"^\",,AL139:AL153)","v":"100^0^0"},null,1,null,null,null,{"$f":"$C143","v":1},null,1,1,{"$nulls":4},{"$f":"_xlfn.TEXTJOIN(\"^\",,AZ139:AZ153)","v":"8^4^2^1^3^5^9"}]
[null,null,3,3,3,{"$f":"$C144","v":3},null,3,3,3,3,null,3,null,null,{"$f":"_xlfn.TEXTJOIN(\"^\",,I139:I153)","v":"8^6^4^2^1^3^5^7^9"},null,3,null,3,3,3,3,3,null,3,null,null,null,{"$f":"_xlfn.TEXTJOIN(\"^\",,W139:W153)","v":"6^4^2^1^3^5^7"},null,3,0,0,0,0,0,0,0,0,null,null,null,{"$f":"_xlfn.TEXTJOIN(\"^\",,AM139:AM153)","v":"0^0^0"},null,3,{"$f":"$C144","v":3},null,null,null,{"$f":"$C144","v":3},3,3,3,null,null,null,{"$f":"_xlfn.TEXTJOIN(\"^\",,BA139:BA153)","v":"6^4^2^1^3^5^7"}]
[null,null,5,null,5,null,null,null,5,5,5,null,5,null,null,{"$f":"_xlfn.TEXTJOIN(\"^\",,J139:J153)","v":"8^6^4^2^1^3^5^7^9"},null,5,null,null,null,5,5,5,null,5,null,null,null,{"$f":"_xlfn.TEXTJOIN(\"^\",,X139:X153)","v":"8^6^4^2^1^3^5^7^9"},null,5,0,null,null,0,null,0,0,0,null,null,null,{"$f":"_xlfn.TEXTJOIN(\"^\",,AN139:AN153)","v":"0^0^0"},null,5,5,{"$f":"$C145","v":5},null,{"$f":"$C145","v":5},5,5,5,5,null,null,null,{"$f":"_xlfn.TEXTJOIN(\"^\",,BB139:BB153)","v":"8^6^4^2^3^5^7^9"}]
[null,null,7,{"$f":"$C146","v":7},null,{"$f":"$C146","v":7},null,{"$f":"$C146","v":7},7,7,7,null,7,null,null,{"$f":"_xlfn.TEXTJOIN(\"^\",,K139:K153)","v":"6^4^2^1^3^5^7"},null,7,null,{"$f":"$C146","v":7},{"$f":"$C146","v":7},null,7,7,null,7,null,null,null,{"$f":"_xlfn.TEXTJOIN(\"^\",,Y139:Y153)","v":"101^102^103^104^105"},null,7,null,null,null,0,{"$nulls":7},{"$f":"_xlfn.TEXTJOIN(\"^\",,AO139:AO153)","v":""},null,7,null,{"$f":"$C146","v":7},null,7,7,null,7,7,null,null,null,{"$f":"_xlfn.TEXTJOIN(\"^\",,BC139:BC153)","v":""}]
[null,null,9,null,null,9,null,9,{"$f":"$C147","v":9},9,null,null,9,null,null,{"$f":"_xlfn.TEXTJOIN(\"^\",,L139:L153)","v":"101^102^103^104^105"},null,9,null,null,null,{"$f":"$C147","v":9},null,{"$f":"$C147","v":9},{"$nulls":7},9,{"$nulls":11},{"$f":"_xlfn.TEXTJOIN(\"^\",,AP139:AP153)","v":""},null,9,{"$nulls":5},{"$f":"$C147","v":9},null,9,null,null,null,{"$f":"_xlfn.TEXTJOIN(\"^\",,BD139:BD153)","v":""}]
[null,null,"空降",{"$nulls":12},{"$f":"_xlfn.TEXTJOIN(\"^\",,M139:M153)","v":"8^6^4^2^1^3^5^7^9"},null,"空降",{"$nulls":13},"空降",{"$nulls":11},{"$f":"_xlfn.TEXTJOIN(\"^\",,AQ139:AQ147)","v":""},null,"空降",{"$nulls":11},{"$f":"_xlfn.TEXTJOIN(\"^\",,BE139:BE147)","v":""}]
[null,null,101,null,null,null,{"$f":"$C149","v":101},{"$nulls":4},{"$f":"$C149","v":101},null,null,null,{"$f":"_xlfn.TEXTJOIN(\"^\",,N139:N153)","v":""},null,101,{"$f":"$C149","v":101},{"$nulls":5},{"$f":"$C149","v":101},{"$nulls":4},{"$f":"_xlfn.TEXTJOIN(\"^\",,Z139:Z153)","v":"6^4^2^1^3^5^7"},null,101,{"$nulls":13},101,null,null,{"$f":"$C149","v":101}]
[null,null,102,null,null,null,102,{"$nulls":4},{"$f":"$C150","v":102},{"$nulls":5},102,102,{"$nulls":5},102,{"$nulls":4},{"$f":"_xlfn.TEXTJOIN(\"^\",,AA139:AA153)","v":""},null,102,{"$nulls":13},102,null,null,102]
[null,null,103,null,null,null,103,{"$nulls":4},{"$f":"$C151","v":103},{"$nulls":5},103,{"$nulls":6},103,{"$nulls":4},{"$f":"_xlfn.TEXTJOIN(\"^\",,AB139:AB153)","v":""},null,103,{"$nulls":13},103]
[null,null,104,null,null,null,104,{"$nulls":4},{"$f":"$C152","v":104},{"$nulls":5},104,{"$f":"$C152","v":104},{"$nulls":5},104,{"$nulls":6},104,{"$nulls":13},104,null,null,{"$f":"$C152","v":104}]
[null,null,105,null,null,null,105,{"$nulls":4},105,{"$nulls":5},105,105,{"$nulls":5},105,{"$nulls":6},105,{"$nulls":13},105,null,null,105]
[{"$nulls":14},"最终",{"$f":"_xlfn.TEXTJOIN(\"^\",,P139:P153)","v":"6^2^1^3^7^4^2^1^3^5^8^6^2^1^3^7^9^101^102^103^104^105^8^6^2^1^3^7^9^8^6^4^2^1^3^5^7^9^8^6^4^2^1^3^5^7^9^6^4^2^1^3^5^7^101^102^103^104^105^8^6^4^2^1^3^5^7^9"},{"$nulls":12},"最终",{"$f":"_xlfn.TEXTJOIN(\"^\",,AD139:AD153)","v":"101^102^104^105^6^2^1^3^7^6^2^1^3^7^8^4^2^1^3^5^9^6^4^2^1^3^5^7^8^6^4^2^1^3^5^7^9^101^102^103^104^105^6^4^2^1^3^5^7"},{"$nulls":12},"最终",{"$f":"_xlfn.TEXTJOIN(\"^\",,AR138:AR153)","v":"0^0^0^0^0^100^0^0^0^0^0^0^0^100^0^0^0^0^0^0^0^0"},{"$nulls":12},"最终",{"$f":"_xlfn.TEXTJOIN(\"^\",,BF138:BF153)","v":"4^2^3^5^6^4^5^7^101^102^104^105^6^4^1^5^7^6^4^2^3^5^7^8^4^2^1^3^5^9^6^4^2^1^3^5^7^8^6^4^2^3^5^7^9"}]
[]
[null,null,"时间",5,10,16,20,27,35,45,55,60,70,{"$nulls":4},"时间",5,10,15,22,30,40,45,55,null,null,null,{"$f":"_xlfn.TEXTJOIN(\"^\",,S157:S165)","v":"5^5^5^5"},null,"时间",4,10,15,30,46,50,65,80,null,null,null,{"$f":"_xlfn.TEXTJOIN(\"^\",,AG157:AG165)","v":"20^6^6"},null,"时间",3,5,8,12,18,25,35,45,null,null,null,{"$f":"_xlfn.TEXTJOIN(\"^\",,AU157:AU165)","v":"3^3^3^3"}]
[null,null,8,null,null,{"$f":"F$156","v":16},null,{"$f":"H$156","v":27},{"$f":"I$156","v":35},{"$f":"J$156","v":45},null,null,{"$f":"M$156","v":70},null,null,{"$f":"_xlfn.TEXTJOIN(\"^\",,D157:D166)","v":"5^5^5^5^5"},null,8,null,null,null,{"$f":"V$156","v":22},null,{"$f":"X$156","v":40},{"$nulls":5},{"$f":"_xlfn.TEXTJOIN(\"^\",,T157:T165)","v":"10^10^10^10^10"},null,8,{"$nulls":11},{"$f":"_xlfn.TEXTJOIN(\"^\",,AH157:AH165)","v":"13^3"},null,8,{"$nulls":5},{"$f":"AZ$267","v":0},null,{"$f":"BB$156","v":45},null,null,null,{"$f":"_xlfn.TEXTJOIN(\"^\",,AV157:AV165)","v":"5^5^5^5"}]
[null,null,6,{"$f":"D$156","v":5},null,16,null,27,{"$f":"I$156","v":35},45,55,null,70,null,null,{"$f":"_xlfn.TEXTJOIN(\"^\",,E157:E166)","v":"10^10^10^10^10"},null,6,null,{"$f":"T$156","v":10},{"$f":"U$156","v":15},null,{"$f":"W$156","v":30},40,null,{"$f":"Z$156","v":55},null,null,null,{"$f":"_xlfn.TEXTJOIN(\"^\",,U157:U165)","v":"15^15^15^15^15"},null,6,{"$nulls":11},{"$f":"_xlfn.TEXTJOIN(\"^\",,AI157:AI165)","v":"9^4"},null,6,null,{"$f":"AV$156","v":5},null,{"$f":"AX$156","v":12},18,null,{"$f":"BA$156","v":35},45,null,null,null,{"$f":"_xlfn.TEXTJOIN(\"^\",,AW157:AW165)","v":"8^8^8^8"}]
[null,null,4,null,{"$f":"E$156","v":10},null,{"$f":"G$156","v":20},null,{"$f":"I$156","v":35},45,55,60,70,null,null,{"$f":"_xlfn.TEXTJOIN(\"^\",,F157:F166)","v":"16^16^16^16^16^16^16"},null,4,{"$f":"S$156","v":5},null,null,{"$f":"V$156","v":22},30,40,45,55,null,null,null,{"$f":"_xlfn.TEXTJOIN(\"^\",,V157:V165)","v":"22^22^22^22^22^22^22"},null,4,{"$nulls":11},{"$f":"_xlfn.TEXTJOIN(\"^\",,AJ157:AJ165)","v":"11^3^2^2"},null,4,{"$f":"AU$156","v":3},5,8,12,18,25,35,45,null,null,null,{"$f":"_xlfn.TEXTJOIN(\"^\",,AX157:AX165)","v":"12^12^12^12^12"}]
[null,null,2,{"$f":"D$156","v":5},10,16,20,27,35,45,55,60,70,null,null,{"$f":"_xlfn.TEXTJOIN(\"^\",,G157:G166)","v":"20^20^20^20^20"},null,2,5,10,{"$f":"U$156","v":15},22,30,40,45,55,null,null,null,{"$f":"_xlfn.TEXTJOIN(\"^\",,W157:W165)","v":"30^30^30^30^30^30^30"},null,2,{"$nulls":11},{"$f":"_xlfn.TEXTJOIN(\"^\",,AK157:AK165)","v":"15^4"},null,2,3,null,8,null,18,25,35,45,null,null,null,{"$f":"_xlfn.TEXTJOIN(\"^\",,AY157:AY165)","v":"18^18^18^18^18^18"}]
[null,null,1,5,10,16,20,27,35,45,55,60,70,null,null,{"$f":"_xlfn.TEXTJOIN(\"^\",,H157:H166)","v":"27^27^27^27^27^27^27"},null,1,null,10,15,22,30,40,45,55,null,null,null,{"$f":"_xlfn.TEXTJOIN(\"^\",,X157:X165)","v":"40^40^40^40^40^40^40^40^40"},null,1,20,13,9,11,15,15,16,18,null,null,null,{"$f":"_xlfn.TEXTJOIN(\"^\",,AL157:AL165)","v":"15^3^2"},null,1,null,null,null,{"$f":"AX$156","v":12},null,25,35,{"$nulls":4},{"$f":"_xlfn.TEXTJOIN(\"^\",,AZ157:AZ165)","v":"0^25^25^25^25^25^25"}]
[null,null,3,5,10,16,20,27,35,45,55,60,70,null,null,{"$f":"_xlfn.TEXTJOIN(\"^\",,I157:I166)","v":"35^35^35^35^35^35^35^35^35"},null,3,{"$f":"S$156","v":5},10,{"$f":"U$156","v":15},22,30,40,45,55,null,null,null,{"$f":"_xlfn.TEXTJOIN(\"^\",,Y157:Y165)","v":"45^45^45^45^45"},null,3,6,3,4,3,4,3,3,3,null,null,null,{"$f":"_xlfn.TEXTJOIN(\"^\",,AM157:AM165)","v":"16^3^3"},null,3,{"$f":"AU$156","v":3},null,{"$f":"AW$156","v":8},null,{"$f":"AY$156","v":18},25,35,45,null,null,null,{"$f":"_xlfn.TEXTJOIN(\"^\",,BA157:BA165)","v":"35^35^35^35^35^35^35"}]
[null,null,5,null,10,null,20,null,35,45,55,60,70,null,null,{"$f":"_xlfn.TEXTJOIN(\"^\",,J157:J166)","v":"45^45^45^45^45^45^45^45^45"},null,5,5,null,null,22,30,40,45,55,null,null,null,{"$f":"_xlfn.TEXTJOIN(\"^\",,Z157:Z165)","v":"55^55^55^55^55^55^55"},null,5,6,null,null,2,null,2,3,2,null,null,null,{"$f":"_xlfn.TEXTJOIN(\"^\",,AN157:AN165)","v":"18^3^2"},null,5,3,5,8,12,18,25,35,45,null,null,null,{"$f":"_xlfn.TEXTJOIN(\"^\",,BB157:BB165)","v":"45^45^45^45^45^45^45^45"}]
[null,null,7,{"$f":"D$156","v":5},null,{"$f":"F$156","v":16},null,{"$f":"H$156","v":27},{"$f":"I$156","v":35},45,55,null,70,null,null,{"$f":"_xlfn.TEXTJOIN(\"^\",,K157:K166)","v":"55^55^55^55^55^55^55"},null,7,null,{"$f":"T$156","v":10},{"$f":"U$156","v":15},null,30,40,null,55,null,null,null,{"$f":"_xlfn.TEXTJOIN(\"^\",,AA157:AA165)","v":""},null,7,null,null,null,2,{"$nulls":7},{"$f":"_xlfn.TEXTJOIN(\"^\",,AO157:AO165)","v":""},null,7,null,5,null,12,18,null,35,45,null,null,null,{"$f":"_xlfn.TEXTJOIN(\"^\",,BC157:BC165)","v":""}]
[null,null,9,null,null,16,null,27,{"$f":"I$156","v":35},45,null,null,70,null,null,{"$f":"_xlfn.TEXTJOIN(\"^\",,L157:L166)","v":"60^60^60^60^60"},null,9,null,null,null,{"$f":"V$156","v":22},null,{"$f":"X$156","v":40},{"$nulls":5},{"$f":"_xlfn.TEXTJOIN(\"^\",,AB157:AB165)","v":""},null,9,{"$nulls":11},{"$f":"_xlfn.TEXTJOIN(\"^\",,AP157:AP165)","v":""},null,9,{"$nulls":5},{"$f":"AZ$156","v":25},null,45,null,null,null,{"$f":"_xlfn.TEXTJOIN(\"^\",,BD157:BD165)","v":""}]
[{"$nulls":15},{"$f":"_xlfn.TEXTJOIN(\"^\",,M157:M166)","v":"70^70^70^70^70^70^70^70^70"},{"$nulls":13},{"$f":"_xlfn.TEXTJOIN(\"^\",,AC157:AC165)","v":""},{"$nulls":13},{"$f":"_xlfn.TEXTJOIN(\"^\",,AQ157:AQ165)","v":""},{"$nulls":13},{"$f":"_xlfn.TEXTJOIN(\"^\",,BE157:BE165)","v":""}]
[{"$nulls":15},{"$f":"_xlfn.TEXTJOIN(\"^\",,N157:N166)","v":""},{"$nulls":12},"最终",{"$f":"_xlfn.TEXTJOIN(\"^\",,AD156:AD166)","v":"5^5^5^5^10^10^10^10^10^15^15^15^15^15^22^22^22^22^22^22^22^30^30^30^30^30^30^30^40^40^40^40^40^40^40^40^40^45^45^45^45^45^55^55^55^55^55^55^55"},{"$nulls":12},"最终",{"$f":"_xlfn.TEXTJOIN(\"^\",,AR156:AR166)","v":"20^6^6^13^3^9^4^11^3^2^2^15^4^15^3^2^16^3^3^18^3^2"},{"$nulls":12},"最终",{"$f":"_xlfn.TEXTJOIN(\"^\",,BF156:BF166)","v":"3^3^3^3^5^5^5^5^8^8^8^8^12^12^12^12^12^18^18^18^18^18^18^0^25^25^25^25^25^25^35^35^35^35^35^35^35^45^45^45^45^45^45^45^45"}]
[{"$nulls":14},"最终",{"$f":"_xlfn.TEXTJOIN(\"^\",,P157:P167)","v":"5^5^5^5^5^10^10^10^10^10^16^16^16^16^16^16^16^20^20^20^20^20^27^27^27^27^27^27^27^35^35^35^35^35^35^35^35^35^45^45^45^45^45^45^45^45^45^55^55^55^55^55^55^55^60^60^60^60^60^70^70^70^70^70^70^70^70^70"}]
[{"$nulls":14},{"$f":"COUNT(D157:N166)","v":68},{"$nulls":13},{"$f":"COUNT(S157:AB166)","v":49},{"$nulls":13},{"$f":"SUM(AG157:AP166)","v":163},{"$nulls":13},{"$f":"COUNT(AU157:BD166)","v":45},{"$f":"AQ169+BE169+AC169+O169","v":325}]

{"sheet":"15","index":15,"n_rows":169,"n_cols":58,"rows_kept":169,"cut":false,"hidden":false,"merged":[]}
[]
[{"$nulls":4},{"$f":"E3-D3","v":5},{"$f":"F3-E3","v":6},4,7,8,10,5,10,10,{"$nulls":6},{"$f":"T3-S3","v":5},5,5,10,15,15,10,{"$nulls":7},{"$f":"AH3-AG3","v":2},4,5,10,15,17,18,{"$nulls":7},{"$f":"AV3-AU3","v":2},2,2,2,7,8,10]
[1,"焦土-1","波1·怪物",5,10,16,20,27,35,45,50,60,70,null,null,null,3,"波2·怪物",5,10,15,20,30,45,60,70,{"$nulls":4},3,"波3·怪物",4,6,10,15,25,40,57,75,{"$nulls":4},1,"波4·怪物",2,4,6,8,10,17,25,35]
[null,"5m",8,{"$nulls":5},70434,null,null,null,70434,null,null,{"$f":"_xlfn.TEXTJOIN(\"^\",,D4:D13)","v":"70434^70432^70432^70432^70434"},null,8,{"$nulls":11},{"$f":"_xlfn.TEXTJOIN(\"^\",,S4:S13)","v":"70435^70432^70433"},null,8,{"$nulls":11},{"$f":"_xlfn.TEXTJOIN(\"^\",,AG4:AG13)","v":"70431^70433"},null,8,{"$nulls":7},70432,null,null,null,{"$f":"_xlfn.TEXTJOIN(\"^\",,AU4:AU13)","v":"70431^70431^70431^70431"}]
[null,null,6,null,70431,70434,null,70432,70432,70432,null,70432,70432,null,null,{"$f":"_xlfn.TEXTJOIN(\"^\",,E4:E13)","v":"70431^70431^70432^70431^70432^70431^70431"},null,6,{"$nulls":11},{"$f":"_xlfn.TEXTJOIN(\"^\",,T4:T13)","v":"70431^70432"},null,6,{"$nulls":11},{"$f":"_xlfn.TEXTJOIN(\"^\",,AH4:AH13)","v":"70431^70432^70434"},null,6,{"$nulls":5},70434,70432,70432,null,null,null,{"$f":"_xlfn.TEXTJOIN(\"^\",,AV4:AV13)","v":"70432^70432^70432"}]
[null,null,4,70434,70431,70432,70435,70431,70431,70432,70435,70431,70431,null,null,{"$f":"_xlfn.TEXTJOIN(\"^\",,F4:F13)","v":"70434^70432^70433^70432^70433^70432^70434"},null,4,{"$nulls":11},{"$f":"_xlfn.TEXTJOIN(\"^\",,U4:U13)","v":"70431^70433"},null,4,{"$nulls":11},{"$f":"_xlfn.TEXTJOIN(\"^\",,AI4:AI13)","v":"70431^70432"},null,4,70431,70432,null,70435,70433,70431,70432,70431,null,null,null,{"$f":"_xlfn.TEXTJOIN(\"^\",,AW4:AW13)","v":"70434^70434"}]
[null,null,2,70432,70432,70433,70435,70431,70433,70431,70435,70431,70433,null,null,{"$f":"_xlfn.TEXTJOIN(\"^\",,G4:G13)","v":"70435^70435^70435^70435^70435"},null,2,{"$nulls":11},{"$f":"_xlfn.TEXTJOIN(\"^\",,V4:V13)","v":"70431^70432^70434"},null,2,{"$nulls":11},{"$f":"_xlfn.TEXTJOIN(\"^\",,AJ4:AJ13)","v":"70435^70432^70433"},null,2,70431,null,70434,70435,null,70431,null,70433,null,null,null,{"$f":"_xlfn.TEXTJOIN(\"^\",,AX4:AX13)","v":"70435^70435^70435^70435"}]
[null,null,1,70432,70431,70432,70435,70432,70433,70431,70435,70434,70433,null,null,{"$f":"_xlfn.TEXTJOIN(\"^\",,H4:H13)","v":"70432^70431^70431^70432^70431^70431^70432"},null,1,70435,70431,70431,70431,70431,70431,70431,70435,null,null,null,{"$f":"_xlfn.TEXTJOIN(\"^\",,W4:W13)","v":"70431^70432^70433"},null,1,70431,70431,70431,70435,70431,70431,70431,70431,null,null,null,{"$f":"_xlfn.TEXTJOIN(\"^\",,AK4:AK13)","v":"70431^70432^70434"},null,1,null,70432,null,null,70433,null,70432,{"$nulls":4},{"$f":"_xlfn.TEXTJOIN(\"^\",,AY4:AY13)","v":"70433^70433^70433"}]
[null,null,3,70432,70432,70433,70435,70431,70433,70431,70435,70431,70433,null,null,{"$f":"_xlfn.TEXTJOIN(\"^\",,I4:I13)","v":"70434^70432^70431^70433^70433^70433^70431^70432^70434"},null,3,70432,70432,70433,70432,70432,70432,70432,70432,null,null,null,{"$f":"_xlfn.TEXTJOIN(\"^\",,X4:X13)","v":"70431^70432^70433^70434"},null,3,70433,70432,70432,70432,70432,70433,70432,70432,null,null,null,{"$f":"_xlfn.TEXTJOIN(\"^\",,AL4:AL13)","v":"70431^70433^70434"},null,3,70431,null,70434,70435,null,70431,null,70433,null,null,null,{"$f":"_xlfn.TEXTJOIN(\"^\",,AZ4:AZ13)","v":"70434^70431^70431^70431^70431^70434"}]
[null,null,5,70434,70431,70432,70435,70431,70431,70432,70435,70431,70431,null,null,{"$f":"_xlfn.TEXTJOIN(\"^\",,J4:J13)","v":"70432^70432^70431^70431^70431^70432^70432"},null,5,70433,null,null,70434,70433,70433,70434,70433,null,null,null,{"$f":"_xlfn.TEXTJOIN(\"^\",,Y4:Y13)","v":"70431^70432^70434"},null,5,null,70434,null,70433,70434,70434,null,70433,null,null,null,{"$f":"_xlfn.TEXTJOIN(\"^\",,AM4:AM13)","v":"70431^70432"},null,5,70431,70432,null,70435,70433,70431,70432,70431,null,null,null,{"$f":"_xlfn.TEXTJOIN(\"^\",,BA4:BA13)","v":"70432^70432^70432^70432^70432"}]
[null,null,7,null,70431,70434,null,70432,70432,70432,null,70432,70432,null,null,{"$f":"_xlfn.TEXTJOIN(\"^\",,K4:K13)","v":"70435^70435^70435^70435^70435"},null,7,{"$nulls":5},70434,{"$nulls":5},{"$f":"_xlfn.TEXTJOIN(\"^\",,Z4:Z13)","v":"70435^70432^70433"},null,7,{"$nulls":7},70434,null,null,null,{"$f":"_xlfn.TEXTJOIN(\"^\",,AN4:AN13)","v":"70431^70432^70433^70434"},null,7,{"$nulls":5},70434,70432,70432,null,null,null,{"$f":"_xlfn.TEXTJOIN(\"^\",,BB4:BB13)","v":"70432^70432^70431^70433^70433^70431^70432^70432"}]
[null,null,9,{"$nulls":5},70434,null,null,null,70434,null,null,{"$f":"_xlfn.TEXTJOIN(\"^\",,L4:L13)","v":"70432^70431^70431^70434^70431^70431^70432"},null,9,{"$nulls":11},{"$f":"_xlfn.TEXTJOIN(\"^\",,AA4:AA13)","v":""},null,9,{"$nulls":11},{"$f":"_xlfn.TEXTJOIN(\"^\",,AO4:AO13)","v":""},null,9,{"$nulls":7},70432,null,null,null,{"$f":"_xlfn.TEXTJOIN(\"^\",,BC4:BC13)","v":""}]
[{"$nulls":15},{"$f":"_xlfn.TEXTJOIN(\"^\",,M4:M13)","v":"70434^70432^70431^70433^70433^70433^70431^70432^70434"},{"$nulls":13},{"$f":"_xlfn.TEXTJOIN(\"^\",,AB4:AB13)","v":""},{"$nulls":13},{"$f":"_xlfn.TEXTJOIN(\"^\",,AP4:AP13)","v":""},{"$nulls":13},{"$f":"_xlfn.TEXTJOIN(\"^\",,BD4:BD13)","v":""}]
[{"$nulls":15},{"$f":"_xlfn.TEXTJOIN(\"^\",,N4:N13)","v":""},{"$nulls":13},{"$f":"_xlfn.TEXTJOIN(\"^\",,AC4:AC13)","v":""},{"$nulls":13},{"$f":"_xlfn.TEXTJOIN(\"^\",,AQ4:AQ13)","v":""},{"$nulls":13},{"$f":"_xlfn.TEXTJOIN(\"^\",,BE4:BE13)","v":""}]
[{"$nulls":14},"最终",{"$f":"_xlfn.TEXTJOIN(\"^\",,P4:P14)","v":"70434^70432^70432^70432^70434^70431^70431^70432^70431^70432^70431^70431^70434^70432^70433^70432^70433^70432^70434^70435^70435^70435^70435^70435^70432^70431^70431^70432^70431^70431^70432^70434^70432^70431^70433^70433^70433^70431^70432^70434^70432^70432^70431^70431^70431^70432^70432^70435^70435^70435^70435^70435^70432^70431^70431^70434^70431^70431^70432^70434^70432^70431^70433^70433^70433^70431^70432^70434"},{"$nulls":12},"最终",{"$f":"_xlfn.TEXTJOIN(\"^\",,AD4:AD14)","v":"70435^70432^70433^70431^70432^70431^70433^70431^70432^70434^70431^70432^70433^70431^70432^70433^70434^70431^70432^70434^70435^70432^70433"},{"$nulls":12},"最终",{"$f":"_xlfn.TEXTJOIN(\"^\",,AR4:AR14)","v":"70431^70433^70431^70432^70434^70431^70432^70435^70432^70433^70431^70432^70434^70431^70433^70434^70431^70432^70431^70432^70433^70434"},{"$nulls":12},"最终",{"$f":"_xlfn.TEXTJOIN(\"^\",,BF4:BF14)","v":"70431^70431^70431^70431^70432^70432^70432^70434^70434^70435^70435^70435^70435^70433^70433^70433^70434^70431^70431^70431^70431^70434^70432^70432^70432^70432^70432^70432^70432^70431^70433^70433^70431^70432^70432"}]
[null,null,8,{"$nulls":5},"火精灵",null,null,null,"火精灵",{"$nulls":4},8,{"$nulls":13},8,{"$nulls":13},8,{"$nulls":7},"岩浆人"]
[null,null,6,null,"岩浆蝎","火精灵",null,"岩浆人","岩浆人","岩浆人",null,"岩浆人","岩浆人",{"$nulls":4},6,{"$nulls":13},6,{"$nulls":13},6,{"$nulls":5},"火精灵","岩浆人","岩浆人"]
[null,null,4,"火精灵","岩浆蝎","岩浆人","火山蜘蛛","岩浆蝎","岩浆蝎","岩浆人","火山蜘蛛","岩浆蝎","岩浆蝎",{"$nulls":4},4,{"$nulls":13},4,{"$nulls":13},4,"岩浆蝎","岩浆人",null,"火山蜘蛛","岩浆战士","岩浆蝎","岩浆人","岩浆蝎"]
[null,null,2,"岩浆人","岩浆人","岩浆战士","火山蜘蛛","岩浆蝎","岩浆战士","岩浆蝎","火山蜘蛛","岩浆蝎","岩浆战士",{"$nulls":4},2,{"$nulls":13},2,{"$nulls":13},2,"岩浆蝎",null,"火精灵","火山蜘蛛",null,"岩浆蝎",null,"岩浆战士"]
[null,null,1,"岩浆人","岩浆蝎","岩浆人","火山蜘蛛","岩浆人","岩浆战士","岩浆蝎","火山蜘蛛","火精灵","岩浆战士",{"$nulls":4},1,"火山蜘蛛","岩浆蝎","岩浆蝎","岩浆蝎","岩浆蝎","岩浆蝎","岩浆蝎","火山蜘蛛",{"$nulls":5},1,"岩浆蝎","岩浆蝎","岩浆蝎","火山蜘蛛","岩浆蝎","岩浆蝎","岩浆蝎","岩浆蝎",{"$nulls":5},1,null,"岩浆人",null,null,"岩浆战士",null,"岩浆人"]
[null,null,3,"岩浆人","岩浆人","岩浆战士","火山蜘蛛","岩浆蝎","岩浆战士","岩浆蝎","火山蜘蛛","岩浆蝎","岩浆战士",{"$nulls":4},3,"岩浆人","岩浆人","岩浆战士","岩浆人","岩浆人","岩浆人","岩浆人","岩浆人",{"$nulls":5},3,"岩浆战士","岩浆人","岩浆人","岩浆人","岩浆人","岩浆战士","岩浆人","岩浆人",{"$nulls":5},3,"岩浆蝎",null,"火精灵","火山蜘蛛",null,"岩浆蝎",null,"岩浆战士"]
[null,null,5,"火精灵","岩浆蝎","岩浆人","火山蜘蛛","岩浆蝎","岩浆蝎","岩浆人","火山蜘蛛","岩浆蝎","岩浆蝎",{"$nulls":4},5,"岩浆战士",null,null,"火精灵","岩浆战士","岩浆战士","火精灵","岩浆战士",{"$nulls":5},5,null,"火精灵",null,"岩浆战士","火精灵","火精灵",null,"岩浆战士",{"$nulls":5},5,"岩浆蝎","岩浆人",null,"火山蜘蛛","岩浆战士","岩浆蝎","岩浆人","岩浆蝎"]
[null,null,7,null,"岩浆蝎","火精灵",null,"岩浆人","岩浆人","岩浆人",null,"岩浆人","岩浆人",{"$nulls":4},7,{"$nulls":5},"火精灵",{"$nulls":7},7,{"$nulls":7},"火精灵",{"$nulls":5},7,{"$nulls":5},"火精灵","岩浆人","岩浆人"]
[null,null,9,{"$nulls":5},"火精灵",null,null,null,"火精灵",{"$nulls":4},9,{"$nulls":13},9,{"$nulls":13},9,{"$nulls":7},"岩浆人"]
[]
[null,null,"位置",5,10,16,20,27,35,45,50,60,70,{"$nulls":4},"位置",5,10,15,20,30,45,60,70,{"$nulls":5},"位置",4,6,10,15,25,40,57,75,null,null,null,{"$f":"_xlfn.TEXTJOIN(\"^\",,AG27:AG41)","v":"0^0"},null,"位置",2,4,6,8,10,17,25,35,null,null,null,{"$f":"_xlfn.TEXTJOIN(\"^\",,AU27:AU41)","v":"4^2^3^5"}]
[null,null,8,{"$nulls":5},{"$f":"$C27","v":8},null,null,null,{"$f":"$C27","v":8},null,null,{"$f":"_xlfn.TEXTJOIN(\"^\",,D27:D41)","v":"4^2^1^3^5"},null,8,{"$nulls":13},8,{"$nulls":11},{"$f":"_xlfn.TEXTJOIN(\"^\",,AH27:AH41)","v":"0^0^0"},null,8,{"$nulls":7},{"$f":"$C27","v":8},null,null,null,{"$f":"_xlfn.TEXTJOIN(\"^\",,AV27:AV41)","v":"4^1^5"}]
[null,null,6,null,{"$f":"$C28","v":6},6,null,{"$f":"$C28","v":6},6,6,null,{"$f":"$C28","v":6},6,null,null,{"$f":"_xlfn.TEXTJOIN(\"^\",,E27:E41)","v":"6^4^2^1^3^5^7"},null,6,{"$nulls":11},{"$f":"_xlfn.TEXTJOIN(\"^\",,S27:S41)","v":"100^0^0"},null,6,{"$nulls":11},{"$f":"_xlfn.TEXTJOIN(\"^\",,AI27:AI41)","v":"0^0"},null,6,{"$nulls":5},{"$f":"$C28","v":6},6,6,null,null,null,{"$f":"_xlfn.TEXTJOIN(\"^\",,AW27:AW41)","v":"2^3"}]
[null,null,4,{"$f":"$C29","v":4},4,4,null,4,4,4,null,4,4,null,null,{"$f":"_xlfn.TEXTJOIN(\"^\",,F27:F41)","v":"6^4^2^1^3^5^7"},null,4,{"$nulls":11},{"$f":"_xlfn.TEXTJOIN(\"^\",,T27:T41)","v":"0^0"},null,4,{"$nulls":11},{"$f":"_xlfn.TEXTJOIN(\"^\",,AJ27:AJ41)","v":"100^0^0"},null,4,{"$f":"$C29","v":4},{"$f":"$C29","v":4},null,null,{"$f":"$C29","v":4},4,4,4,null,null,null,{"$f":"_xlfn.TEXTJOIN(\"^\",,AX27:AX41)","v":"101^102^104^105"}]
[null,null,2,{"$f":"$C30","v":2},2,2,null,2,2,2,null,2,2,null,null,{"$f":"_xlfn.TEXTJOIN(\"^\",,G27:G41)","v":"101^102^103^104^105"},null,2,{"$nulls":11},{"$f":"_xlfn.TEXTJOIN(\"^\",,U27:U41)","v":"0^0"},null,2,{"$nulls":11},{"$f":"_xlfn.TEXTJOIN(\"^\",,AK27:AK41)","v":"0^0^0"},null,2,2,null,{"$f":"$C30","v":2},null,null,2,null,2,null,null,null,{"$f":"_xlfn.TEXTJOIN(\"^\",,AY27:AY41)","v":"4^1^5"}]
[null,null,1,{"$f":"$C31","v":1},1,1,null,1,1,1,null,1,1,null,null,{"$f":"_xlfn.TEXTJOIN(\"^\",,H27:H41)","v":"6^4^2^1^3^5^7"},null,1,100,0,0,0,0,0,0,100,null,null,null,{"$f":"_xlfn.TEXTJOIN(\"^\",,V27:V41)","v":"0^0^0"},null,1,0,0,0,100,0,0,0,0,null,null,null,{"$f":"_xlfn.TEXTJOIN(\"^\",,AL27:AL41)","v":"0^0^0"},null,1,null,{"$f":"$C31","v":1},null,null,{"$f":"$C31","v":1},null,{"$f":"$C31","v":1},{"$nulls":4},{"$f":"_xlfn.TEXTJOIN(\"^\",,AZ27:AZ41)","v":"6^4^2^3^5^7"}]
[null,null,3,{"$f":"$C32","v":3},3,3,null,3,3,3,null,3,3,null,null,{"$f":"_xlfn.TEXTJOIN(\"^\",,I27:I41)","v":"8^6^4^2^1^3^5^7^9"},null,3,0,0,0,0,0,0,0,0,null,null,null,{"$f":"_xlfn.TEXTJOIN(\"^\",,W27:W41)","v":"0^0^0"},null,3,0,0,0,0,0,0,0,0,null,null,null,{"$f":"_xlfn.TEXTJOIN(\"^\",,AM27:AM41)","v":"0^0"},null,3,{"$f":"$C32","v":3},null,{"$f":"$C32","v":3},null,null,{"$f":"$C32","v":3},null,{"$f":"$C32","v":3},null,null,null,{"$f":"_xlfn.TEXTJOIN(\"^\",,BA27:BA41)","v":"6^4^1^5^7"}]
[null,null,5,5,5,5,null,5,5,5,null,5,5,null,null,{"$f":"_xlfn.TEXTJOIN(\"^\",,J27:J41)","v":"6^4^2^1^3^5^7"},null,5,0,null,null,0,0,0,0,0,null,null,null,{"$f":"_xlfn.TEXTJOIN(\"^\",,X27:X41)","v":"0^0^0^0"},null,5,null,0,null,0,0,0,null,0,null,null,null,{"$f":"_xlfn.TEXTJOIN(\"^\",,AN27:AN41)","v":"0^0^0^0"},null,5,5,{"$f":"$C33","v":5},null,null,{"$f":"$C33","v":5},5,5,5,null,null,null,{"$f":"_xlfn.TEXTJOIN(\"^\",,BB27:BB41)","v":"8^6^4^2^3^5^7^9"}]
[null,null,7,null,7,7,null,7,7,7,null,7,7,null,null,{"$f":"_xlfn.TEXTJOIN(\"^\",,K27:K41)","v":"101^102^103^104^105"},null,7,{"$nulls":5},0,{"$nulls":5},{"$f":"_xlfn.TEXTJOIN(\"^\",,Y27:Y41)","v":"0^0^0"},null,7,{"$nulls":7},0,null,null,null,{"$f":"_xlfn.TEXTJOIN(\"^\",,AO27:AO41)","v":""},null,7,{"$nulls":5},7,7,7,null,null,null,{"$f":"_xlfn.TEXTJOIN(\"^\",,BC27:BC41)","v":""}]
[null,null,9,{"$nulls":5},9,null,null,null,9,null,null,{"$f":"_xlfn.TEXTJOIN(\"^\",,L27:L41)","v":"6^4^2^1^3^5^7"},null,9,{"$nulls":13},9,{"$nulls":11},{"$f":"_xlfn.TEXTJOIN(\"^\",,AP27:AP41)","v":""},null,9,{"$nulls":7},9,null,null,null,{"$f":"_xlfn.TEXTJOIN(\"^\",,BD27:BD41)","v":""}]
[null,null,"空降",{"$nulls":12},{"$f":"_xlfn.TEXTJOIN(\"^\",,M27:M41)","v":"8^6^4^2^1^3^5^7^9"},null,"空降",{"$nulls":13},"空降",{"$nulls":11},{"$f":"_xlfn.TEXTJOIN(\"^\",,AQ27:AQ35)","v":""},null,"空降",{"$nulls":11},{"$f":"_xlfn.TEXTJOIN(\"^\",,BE27:BE35)","v":""}]
[null,null,101,null,null,null,{"$f":"$C37","v":101},null,null,null,{"$f":"$C37","v":101},{"$nulls":4},{"$f":"_xlfn.TEXTJOIN(\"^\",,N27:N41)","v":""},null,101,{"$nulls":11},{"$f":"_xlfn.TEXTJOIN(\"^\",,Z27:Z41)","v":"100^0^0"},null,101,{"$nulls":13},101,null,null,null,{"$f":"$C37","v":101}]
[null,null,102,null,null,null,102,null,null,null,102,{"$nulls":6},102,{"$nulls":11},{"$f":"_xlfn.TEXTJOIN(\"^\",,AA27:AA41)","v":""},null,102,{"$nulls":13},102,null,null,null,102]
[null,null,103,null,null,null,103,null,null,null,103,{"$nulls":6},103,{"$nulls":11},{"$f":"_xlfn.TEXTJOIN(\"^\",,AB27:AB41)","v":""},null,103,{"$nulls":13},103]
[null,null,104,null,null,null,104,null,null,null,104,{"$nulls":6},104,{"$nulls":13},104,{"$nulls":13},104,null,null,null,{"$f":"$C40","v":104}]
[null,null,105,null,null,null,105,null,null,null,105,{"$nulls":6},105,{"$nulls":13},105,{"$nulls":13},105,null,null,null,105]
[{"$nulls":14},"最终",{"$f":"_xlfn.TEXTJOIN(\"^\",,P27:P41)","v":"4^2^1^3^5^6^4^2^1^3^5^7^6^4^2^1^3^5^7^101^102^103^104^105^6^4^2^1^3^5^7^8^6^4^2^1^3^5^7^9^6^4^2^1^3^5^7^101^102^103^104^105^6^4^2^1^3^5^7^8^6^4^2^1^3^5^7^9"},{"$nulls":12},"最终",{"$f":"_xlfn.TEXTJOIN(\"^\",,AD27:AD41)","v":"100^0^0^0^0^0^0^0^0^0^0^0^0^0^0^0^0^0^0^0^100^0^0"},{"$nulls":12},"最终",{"$f":"_xlfn.TEXTJOIN(\"^\",,AR26:AR41)","v":"0^0^0^0^0^0^0^100^0^0^0^0^0^0^0^0^0^0^0^0^0^0"},{"$nulls":12},"最终",{"$f":"_xlfn.TEXTJOIN(\"^\",,BF26:BF41)","v":"4^2^3^5^4^1^5^2^3^101^102^104^105^4^1^5^6^4^2^3^5^7^6^4^1^5^7^8^6^4^2^3^5^7^9"}]
[]
[null,null,"时间",5,10,16,20,27,35,45,50,60,70,{"$nulls":4},"时间",5,10,15,20,30,45,60,70,null,null,null,{"$f":"_xlfn.TEXTJOIN(\"^\",,S45:S53)","v":"12^8^4"},null,"时间",4,6,10,15,25,40,57,75,null,null,null,{"$f":"_xlfn.TEXTJOIN(\"^\",,AG45:AG53)","v":"20^7"},null,"时间",2,4,6,8,10,17,25,35,null,null,null,{"$f":"_xlfn.TEXTJOIN(\"^\",,AU45:AU53)","v":"2^2^2^2"}]
[null,null,8,{"$nulls":5},{"$f":"I$44","v":35},null,null,null,70,null,null,{"$f":"_xlfn.TEXTJOIN(\"^\",,D45:D54)","v":"5^5^5^5^5"},null,8,{"$nulls":11},{"$f":"_xlfn.TEXTJOIN(\"^\",,T45:T53)","v":"12^3"},null,8,{"$nulls":11},{"$f":"_xlfn.TEXTJOIN(\"^\",,AH45:AH53)","v":"11^3^2"},null,8,{"$nulls":7},{"$f":"BB$44","v":35},null,null,null,{"$f":"_xlfn.TEXTJOIN(\"^\",,AV45:AV53)","v":"4^4^4"}]
[null,null,6,null,{"$f":"E$44","v":10},{"$f":"F$44","v":16},null,{"$f":"H$44","v":27},35,45,null,60,70,null,null,{"$f":"_xlfn.TEXTJOIN(\"^\",,E45:E54)","v":"10^10^10^10^10^10^10"},null,6,{"$nulls":11},{"$f":"_xlfn.TEXTJOIN(\"^\",,U45:U53)","v":"14^3"},null,6,{"$nulls":11},{"$f":"_xlfn.TEXTJOIN(\"^\",,AI45:AI53)","v":"13^4"},null,6,{"$nulls":5},{"$f":"AZ$44","v":17},25,35,null,null,null,{"$f":"_xlfn.TEXTJOIN(\"^\",,AW45:AW53)","v":"6^6"}]
[null,null,4,{"$f":"D$44","v":5},{"$f":"E$44","v":10},16,20,27,35,45,50,60,70,null,null,{"$f":"_xlfn.TEXTJOIN(\"^\",,F45:F54)","v":"16^16^16^16^16^16^16"},null,4,{"$nulls":11},{"$f":"_xlfn.TEXTJOIN(\"^\",,V45:V53)","v":"13^3^2"},null,4,{"$nulls":11},{"$f":"_xlfn.TEXTJOIN(\"^\",,AJ45:AJ53)","v":"14^3^2"},null,4,{"$f":"AU$44","v":2},4,null,{"$f":"AX$44","v":8},10,17,25,35,null,null,null,{"$f":"_xlfn.TEXTJOIN(\"^\",,AX45:AX53)","v":"8^8^8^8"}]
[null,null,2,{"$f":"D$44","v":5},{"$f":"E$44","v":10},16,20,27,35,45,50,60,70,null,null,{"$f":"_xlfn.TEXTJOIN(\"^\",,G45:G54)","v":"20^20^20^20^20"},null,2,{"$nulls":11},{"$f":"_xlfn.TEXTJOIN(\"^\",,W45:W53)","v":"14^3^2"},null,2,{"$nulls":11},{"$f":"_xlfn.TEXTJOIN(\"^\",,AK45:AK53)","v":"15^3^2"},null,2,2,null,{"$f":"AW$44","v":6},8,null,17,null,35,null,null,null,{"$f":"_xlfn.TEXTJOIN(\"^\",,AY45:AY53)","v":"10^10^10"}]
[null,null,1,5,10,16,20,27,35,45,50,60,70,null,null,{"$f":"_xlfn.TEXTJOIN(\"^\",,H45:H54)","v":"27^27^27^27^27^27^27"},null,1,12,12,14,13,14,14,16,9,null,null,null,{"$f":"_xlfn.TEXTJOIN(\"^\",,X45:X53)","v":"14^3^2^2"},null,1,20,11,13,14,15,15,17,15,null,null,null,{"$f":"_xlfn.TEXTJOIN(\"^\",,AL45:AL53)","v":"15^3^3"},null,1,null,{"$f":"AV$44","v":4},null,null,{"$f":"AY$44","v":10},null,{"$f":"BA$44","v":25},{"$nulls":4},{"$f":"_xlfn.TEXTJOIN(\"^\",,AZ45:AZ53)","v":"17^17^17^17^17^17"}]
[null,null,3,{"$f":"D$44","v":5},10,16,20,27,35,45,50,60,70,null,null,{"$f":"_xlfn.TEXTJOIN(\"^\",,I45:I54)","v":"35^35^35^35^35^35^35^35^35"},null,3,8,3,3,3,3,3,3,3,null,null,null,{"$f":"_xlfn.TEXTJOIN(\"^\",,Y45:Y53)","v":"16^3^2"},null,3,7,3,4,3,3,3,4,3,null,null,null,{"$f":"_xlfn.TEXTJOIN(\"^\",,AM45:AM53)","v":"17^4"},null,3,{"$f":"AU$44","v":2},null,{"$f":"AW$44","v":6},8,null,{"$f":"AZ$44","v":17},null,{"$f":"BB$44","v":35},null,null,null,{"$f":"_xlfn.TEXTJOIN(\"^\",,BA45:BA53)","v":"25^25^25^25^25"}]
[null,null,5,{"$f":"D$44","v":5},10,16,20,27,35,45,50,60,70,null,null,{"$f":"_xlfn.TEXTJOIN(\"^\",,J45:J54)","v":"45^45^45^45^45^45^45"},null,5,4,null,null,2,2,2,2,3,null,null,null,{"$f":"_xlfn.TEXTJOIN(\"^\",,Z45:Z53)","v":"9^3^3"},null,5,null,2,null,2,2,3,null,3,null,null,null,{"$f":"_xlfn.TEXTJOIN(\"^\",,AN45:AN53)","v":"15^3^3^2"},null,5,2,4,null,8,10,17,25,35,null,null,null,{"$f":"_xlfn.TEXTJOIN(\"^\",,BB45:BB53)","v":"35^35^35^35^35^35^35^35"}]
[null,null,7,null,10,16,null,{"$f":"H$44","v":27},35,45,null,60,70,null,null,{"$f":"_xlfn.TEXTJOIN(\"^\",,K45:K54)","v":"50^50^50^50^50"},null,7,{"$nulls":5},2,{"$nulls":5},{"$f":"_xlfn.TEXTJOIN(\"^\",,AA45:AA53)","v":""},null,7,{"$nulls":7},2,null,null,null,{"$f":"_xlfn.TEXTJOIN(\"^\",,AO45:AO53)","v":""},null,7,{"$nulls":5},17,25,35,null,null,null,{"$f":"_xlfn.TEXTJOIN(\"^\",,BC45:BC53)","v":""}]
[null,null,9,{"$nulls":5},35,null,null,null,70,null,null,{"$f":"_xlfn.TEXTJOIN(\"^\",,L45:L54)","v":"60^60^60^60^60^60^60"},null,9,{"$nulls":11},{"$f":"_xlfn.TEXTJOIN(\"^\",,AB45:AB53)","v":""},null,9,{"$nulls":11},{"$f":"_xlfn.TEXTJOIN(\"^\",,AP45:AP53)","v":""},null,9,{"$nulls":7},35,null,null,null,{"$f":"_xlfn.TEXTJOIN(\"^\",,BD45:BD53)","v":""}]
[{"$nulls":15},{"$f":"_xlfn.TEXTJOIN(\"^\",,M45:M54)","v":"70^70^70^70^70^70^70^70^70"},{"$nulls":13},{"$f":"_xlfn.TEXTJOIN(\"^\",,AC45:AC53)","v":""},{"$nulls":13},{"$f":"_xlfn.TEXTJOIN(\"^\",,AQ45:AQ53)","v":""},{"$nulls":13},{"$f":"_xlfn.TEXTJOIN(\"^\",,BE45:BE53)","v":""}]
[{"$nulls":15},{"$f":"_xlfn.TEXTJOIN(\"^\",,N45:N54)","v":""},{"$nulls":12},"最终",{"$f":"_xlfn.TEXTJOIN(\"^\",,AD44:AD54)","v":"12^8^4^12^3^14^3^13^3^2^14^3^2^14^3^2^2^16^3^2^9^3^3"},{"$nulls":12},"最终",{"$f":"_xlfn.TEXTJOIN(\"^\",,AR44:AR54)","v":"20^7^11^3^2^13^4^14^3^2^15^3^2^15^3^3^17^4^15^3^3^2"},{"$nulls":12},"最终",{"$f":"_xlfn.TEXTJOIN(\"^\",,BF44:BF54)","v":"2^2^2^2^4^4^4^6^6^8^8^8^8^10^10^10^17^17^17^17^17^17^25^25^25^25^25^35^35^35^35^35^35^35^35"}]
[{"$nulls":14},"最终",{"$f":"_xlfn.TEXTJOIN(\"^\",,P45:P55)","v":"5^5^5^5^5^10^10^10^10^10^10^10^16^16^16^16^16^16^16^20^20^20^20^20^27^27^27^27^27^27^27^35^35^35^35^35^35^35^35^35^45^45^45^45^45^45^45^50^50^50^50^50^60^60^60^60^60^60^60^70^70^70^70^70^70^70^70^70"}]
[{"$nulls":14},{"$f":"COUNT(D45:N54)","v":68},{"$nulls":13},{"$f":"SUM(S45:AB54)","v":150},{"$nulls":13},{"$f":"SUM(AG45:AP54)","v":164},{"$nulls":13},{"$f":"COUNT(AU45:BD54)","v":35},{"$f":"AQ57+BE57+AC57+O57","v":417}]
[{"$nulls":4},{"$f":"E59-D59","v":5},{"$f":"F59-E59","v":7},8,10,5,10,10,10,5,{"$nulls":6},{"$f":"T59-S59","v":5},5,10,15,16,17,7,{"$nulls":7},{"$f":"AH59-AG59","v":3},4,7,8,10,10,5,{"$nulls":7},{"$f":"AV59-AU59","v":2},3,4,6,7,10,10]
[1,"焦土-2","波1·怪物",5,10,17,25,35,40,50,60,70,75,null,null,null,3,"波2·怪物",5,10,15,25,40,56,73,80,{"$nulls":4},1,"波3·怪物",3,6,10,17,25,35,45,50,{"$nulls":4},1,"波4·怪物",3,5,8,12,18,25,35,45]
[null,"5m",8,null,null,70442,null,70444,null,70441,70444,{"$nulls":4},{"$f":"_xlfn.TEXTJOIN(\"^\",,D60:D69)","v":"70441^70441^70441^70441^70441"},null,8,{"$nulls":11},{"$f":"_xlfn.TEXTJOIN(\"^\",,S60:S69)","v":"70441^70442^70444"},null,8,{"$nulls":4},70444,70441,{"$nulls":5},{"$f":"_xlfn.TEXTJOIN(\"^\",,AG60:AG69)","v":"70443^70443^70443"},null,8,{"$nulls":5},70444,null,70442,null,null,null,{"$f":"_xlfn.TEXTJOIN(\"^\",,AU60:AU69)","v":"70445^70445^70445"}]
[null,null,6,null,70444,null,70442,70442,null,70441,70442,70442,null,null,null,{"$f":"_xlfn.TEXTJOIN(\"^\",,E60:E69)","v":"70444^70441^70442^70442^70442^70441^70444"},null,6,{"$nulls":11},{"$f":"_xlfn.TEXTJOIN(\"^\",,T60:T69)","v":"70441^70443"},null,6,null,70444,null,70442,70442,70441,70442,{"$nulls":4},{"$f":"_xlfn.TEXTJOIN(\"^\",,AH60:AH69)","v":"70444^70442^70442^70444"},null,6,null,null,70444,null,70442,null,70442,{"$nulls":4},{"$f":"_xlfn.TEXTJOIN(\"^\",,AV60:AV69)","v":"70442^70442^70442"}]
[null,null,4,70441,70441,70441,70441,70441,70445,70442,70441,70441,70445,null,null,{"$f":"_xlfn.TEXTJOIN(\"^\",,F60:F69)","v":"70442^70441^70443^70444^70443^70441^70442"},null,4,{"$nulls":11},{"$f":"_xlfn.TEXTJOIN(\"^\",,U60:U69)","v":"70441^70442"},null,4,70443,null,70445,70441,70442,70442,70441,70445,null,null,null,{"$f":"_xlfn.TEXTJOIN(\"^\",,AI60:AI69)","v":"70445^70445^70445^70445^70445"},null,4,70445,null,null,70441,70441,70441,70441,70442,null,null,null,{"$f":"_xlfn.TEXTJOIN(\"^\",,AW60:AW69)","v":"70444^70443^70444"}]
[null,null,2,70441,70442,70443,70441,70443,70445,70443,70443,70443,70445,null,null,{"$f":"_xlfn.TEXTJOIN(\"^\",,G60:G69)","v":"70442^70441^70441^70444^70441^70441^70442"},null,2,{"$nulls":11},{"$f":"_xlfn.TEXTJOIN(\"^\",,V60:V69)","v":"70445^70443^70444"},null,2,null,70442,70445,70443,70441,70443,70443,70445,null,null,null,{"$f":"_xlfn.TEXTJOIN(\"^\",,AJ60:AJ69)","v":"70442^70441^70443^70444^70443^70441^70442"},null,2,null,70442,null,70441,70443,70442,70443,70441,null,null,null,{"$f":"_xlfn.TEXTJOIN(\"^\",,AX60:AX69)","v":"70441^70441^70441^70441"}]
[null,null,1,70441,70442,70444,70444,70441,70445,70442,70443,70442,70445,null,null,{"$f":"_xlfn.TEXTJOIN(\"^\",,H60:H69)","v":"70444^70442^70441^70443^70441^70443^70441^70442^70444"},null,1,70441,70441,70441,70445,70441,70441,70441,70445,null,null,null,{"$f":"_xlfn.TEXTJOIN(\"^\",,W60:W69)","v":"70441^70442^70443"},null,1,70443,null,70445,70444,70441,70442,70444,70445,null,null,null,{"$f":"_xlfn.TEXTJOIN(\"^\",,AK60:AK69)","v":"70444^70442^70442^70441^70441^70441^70441^70442^70444"},null,1,70445,70442,70443,null,null,70442,70444,70443,null,null,null,{"$f":"_xlfn.TEXTJOIN(\"^\",,AY60:AY69)","v":"70442^70441^70443^70443^70441^70442"}]
[null,null,3,70441,70442,70443,70441,70443,70445,70443,70443,70443,70445,null,null,{"$f":"_xlfn.TEXTJOIN(\"^\",,I60:I69)","v":"70445^70445^70445^70445^70445"},null,3,70442,70443,70442,70443,70442,70442,70442,70442,null,null,null,{"$f":"_xlfn.TEXTJOIN(\"^\",,X60:X69)","v":"70441^70442^70443^70444"},null,3,null,70442,70445,70443,70441,70443,70443,70445,null,null,null,{"$f":"_xlfn.TEXTJOIN(\"^\",,AL60:AL69)","v":"70441^70441^70442^70443^70442^70443^70442^70441^70441"},null,3,null,70442,null,70441,70443,70442,70443,70441,null,null,null,{"$f":"_xlfn.TEXTJOIN(\"^\",,AZ60:AZ69)","v":"70444^70441^70442^70442^70442^70441^70444"}]
[null,null,5,70441,70441,70441,70441,70441,70445,70442,70441,70441,70445,null,null,{"$f":"_xlfn.TEXTJOIN(\"^\",,J60:J69)","v":"70441^70441^70442^70443^70442^70443^70442^70441^70441"},null,5,70444,null,null,70444,70443,70443,null,70444,null,null,null,{"$f":"_xlfn.TEXTJOIN(\"^\",,Y60:Y69)","v":"70441^70442"},null,5,70443,null,70445,70441,70441,70442,70441,70445,null,null,null,{"$f":"_xlfn.TEXTJOIN(\"^\",,AM60:AM69)","v":"70442^70441^70443^70444^70443^70441^70442"},null,5,70445,null,null,70441,70441,70441,70441,70442,null,null,null,{"$f":"_xlfn.TEXTJOIN(\"^\",,BA60:BA69)","v":"70442^70441^70443^70444^70443^70441^70442"}]
[null,null,7,null,70444,null,70442,70442,null,70441,70442,70442,null,null,null,{"$f":"_xlfn.TEXTJOIN(\"^\",,K60:K69)","v":"70444^70442^70441^70443^70443^70443^70441^70442^70444"},null,7,{"$nulls":5},70444,{"$nulls":5},{"$f":"_xlfn.TEXTJOIN(\"^\",,Z60:Z69)","v":"70445^70442^70444"},null,7,null,70444,null,70442,70442,70441,70442,{"$nulls":4},{"$f":"_xlfn.TEXTJOIN(\"^\",,AN60:AN69)","v":"70445^70445^70445^70445^70445"},null,7,null,null,70444,null,70442,null,70442,{"$nulls":4},{"$f":"_xlfn.TEXTJOIN(\"^\",,BB60:BB69)","v":"70442^70442^70441^70443^70441^70442^70442"}]
[null,null,9,null,null,70442,null,70444,null,70441,70444,{"$nulls":4},{"$f":"_xlfn.TEXTJOIN(\"^\",,L60:L69)","v":"70442^70441^70443^70442^70443^70441^70442"},null,9,{"$nulls":11},{"$f":"_xlfn.TEXTJOIN(\"^\",,AA60:AA69)","v":""},null,9,{"$nulls":4},70444,70441,{"$nulls":5},{"$f":"_xlfn.TEXTJOIN(\"^\",,AO60:AO69)","v":""},null,9,{"$nulls":5},70444,null,70442,null,null,null,{"$f":"_xlfn.TEXTJOIN(\"^\",,BC60:BC69)","v":""}]
[{"$nulls":15},{"$f":"_xlfn.TEXTJOIN(\"^\",,M60:M69)","v":"70445^70445^70445^70445^70445"},{"$nulls":13},{"$f":"_xlfn.TEXTJOIN(\"^\",,AB60:AB69)","v":""},{"$nulls":13},{"$f":"_xlfn.TEXTJOIN(\"^\",,AP60:AP69)","v":""},{"$nulls":13},{"$f":"_xlfn.TEXTJOIN(\"^\",,BD60:BD69)","v":""}]
[{"$nulls":15},{"$f":"_xlfn.TEXTJOIN(\"^\",,N60:N69)","v":""},{"$nulls":13},{"$f":"_xlfn.TEXTJOIN(\"^\",,AC60:AC69)","v":""},{"$nulls":13},{"$f":"_xlfn.TEXTJOIN(\"^\",,AQ60:AQ69)","v":""},{"$nulls":13},{"$f":"_xlfn.TEXTJOIN(\"^\",,BE60:BE69)","v":""}]
[{"$nulls":14},"最终",{"$f":"_xlfn.TEXTJOIN(\"^\",,P60:P70)","v":"70441^70441^70441^70441^70441^70444^70441^70442^70442^70442^70441^70444^70442^70441^70443^70444^70443^70441^70442^70442^70441^70441^70444^70441^70441^70442^70444^70442^70441^70443^70441^70443^70441^70442^70444^70445^70445^70445^70445^70445^70441^70441^70442^70443^70442^70443^70442^70441^70441^70444^70442^70441^70443^70443^70443^70441^70442^70444^70442^70441^70443^70442^70443^70441^70442^70445^70445^70445^70445^70445"},{"$nulls":12},"最终",{"$f":"_xlfn.TEXTJOIN(\"^\",,AD60:AD70)","v":"70441^70442^70444^70441^70443^70441^70442^70445^70443^70444^70441^70442^70443^70441^70442^70443^70444^70441^70442^70445^70442^70444"},{"$nulls":12},"最终",{"$f":"_xlfn.TEXTJOIN(\"^\",,AR60:AR70)","v":"70443^70443^70443^70444^70442^70442^70444^70445^70445^70445^70445^70445^70442^70441^70443^70444^70443^70441^70442^70444^70442^70442^70441^70441^70441^70441^70442^70444^70441^70441^70442^70443^70442^70443^70442^70441^70441^70442^70441^70443^70444^70443^70441^70442^70445^70445^70445^70445^70445"},{"$nulls":12},"最终",{"$f":"_xlfn.TEXTJOIN(\"^\",,BF60:BF70)","v":"70445^70445^70445^70442^70442^70442^70444^70443^70444^70441^70441^70441^70441^70442^70441^70443^70443^70441^70442^70444^70441^70442^70442^70442^70441^70444^70442^70441^70443^70444^70443^70441^70442^70442^70442^70441^70443^70441^70442^70442"}]
[null,null,8,null,null,"巨魔矛手",null,"火精灵",null,"岩浆蝎","火精灵",{"$nulls":6},8,{"$nulls":13},8,{"$nulls":4},"火精灵","岩浆蝎",{"$nulls":7},8,{"$nulls":5},"火精灵",null,"巨魔矛手"]
[null,null,6,null,"火精灵",null,"巨魔矛手","巨魔矛手",null,"岩浆蝎","巨魔矛手","巨魔矛手",{"$nulls":5},6,{"$nulls":13},6,null,"火精灵",null,"巨魔矛手","巨魔矛手","岩浆蝎","巨魔矛手",{"$nulls":6},6,null,null,"火精灵",null,"巨魔矛手",null,"巨魔矛手"]
[null,null,4,"岩浆蝎","岩浆蝎","岩浆蝎","岩浆蝎","岩浆蝎","火山蜘蛛","巨魔矛手","岩浆蝎","岩浆蝎","火山蜘蛛",{"$nulls":4},4,{"$nulls":13},4,"岩浆战士",null,"火山蜘蛛","岩浆蝎","巨魔矛手","巨魔矛手","岩浆蝎","火山蜘蛛",{"$nulls":5},4,"火山蜘蛛",null,null,"岩浆蝎","岩浆蝎","岩浆蝎","岩浆蝎","巨魔矛手"]
[null,null,2,"岩浆蝎","巨魔矛手","岩浆战士","岩浆蝎","岩浆战士","火山蜘蛛","岩浆战士","岩浆战士","岩浆战士","火山蜘蛛",{"$nulls":4},2,{"$nulls":13},2,null,"巨魔矛手","火山蜘蛛","岩浆战士","岩浆蝎","岩浆战士","岩浆战士","火山蜘蛛",{"$nulls":5},2,null,"巨魔矛手",null,"岩浆蝎","岩浆战士","巨魔矛手","岩浆战士","岩浆蝎"]
[null,null,1,"岩浆蝎","巨魔矛手","火精灵","火精灵","岩浆蝎","火山蜘蛛","巨魔矛手","岩浆战士","巨魔矛手","火山蜘蛛",{"$nulls":4},1,"岩浆蝎","岩浆蝎","岩浆蝎","火山蜘蛛","岩浆蝎","岩浆蝎","岩浆蝎","火山蜘蛛",{"$nulls":5},1,"岩浆战士",null,"火山蜘蛛","火精灵","岩浆蝎","巨魔矛手","火精灵","火山蜘蛛",{"$nulls":5},1,"火山蜘蛛","巨魔矛手","岩浆战士",null,null,"巨魔矛手","火精灵","岩浆战士"]
[null,null,3,"岩浆蝎","巨魔矛手","岩浆战士","岩浆蝎","岩浆战士","火山蜘蛛","岩浆战士","岩浆战士","岩浆战士","火山蜘蛛",{"$nulls":4},3,"巨魔矛手","岩浆战士","巨魔矛手","岩浆战士","巨魔矛手","巨魔矛手","巨魔矛手","巨魔矛手",{"$nulls":5},3,null,"巨魔矛手","火山蜘蛛","岩浆战士","岩浆蝎","岩浆战士","岩浆战士","火山蜘蛛",{"$nulls":5},3,null,"巨魔矛手",null,"岩浆蝎","岩浆战士","巨魔矛手","岩浆战士","岩浆蝎"]
[null,null,5,"岩浆蝎","岩浆蝎","岩浆蝎","岩浆蝎","岩浆蝎","火山蜘蛛","巨魔矛手","岩浆蝎","岩浆蝎","火山蜘蛛",{"$nulls":4},5,"火精灵",null,null,"火精灵","岩浆战士","岩浆战士",null,"火精灵",{"$nulls":5},5,"岩浆战士",null,"火山蜘蛛","岩浆蝎","岩浆蝎","巨魔矛手","岩浆蝎","火山蜘蛛",{"$nulls":5},5,"火山蜘蛛",null,null,"岩浆蝎","岩浆蝎","岩浆蝎","岩浆蝎","巨魔矛手"]
[null,null,7,null,"火精灵",null,"巨魔矛手","巨魔矛手",null,"岩浆蝎","巨魔矛手","巨魔矛手",{"$nulls":5},7,{"$nulls":5},"火精灵",{"$nulls":7},7,null,"火精灵",null,"巨魔矛手","巨魔矛手","岩浆蝎","巨魔矛手",{"$nulls":6},7,null,null,"火精灵",null,"巨魔矛手",null,"巨魔矛手"]
[null,null,9,null,null,"巨魔矛手",null,"火精灵",null,"岩浆蝎","火精灵",{"$nulls":6},9,{"$nulls":13},9,{"$nulls":4},"火精灵","岩浆蝎",{"$nulls":7},9,{"$nulls":5},"火精灵",null,"巨魔矛手"]
[]
[null,null,"位置",5,10,17,25,35,40,50,60,70,75,{"$nulls":4},"位置",5,10,15,25,40,56,73,80,{"$nulls":5},"位置",3,6,10,17,25,35,45,50,null,null,null,{"$f":"_xlfn.TEXTJOIN(\"^\",,AG83:AG97)","v":"4^1^5"},null,"位置",3,5,8,12,18,25,35,45,null,null,null,{"$f":"_xlfn.TEXTJOIN(\"^\",,AU83:AU97)","v":"101^103^105"}]
[null,null,8,null,null,{"$f":"$C83","v":8},null,{"$f":"$C83","v":8},null,{"$f":"$C83","v":8},8,{"$nulls":4},{"$f":"_xlfn.TEXTJOIN(\"^\",,D83:D97)","v":"4^2^1^3^5"},null,8,{"$nulls":13},8,{"$nulls":4},{"$f":"$C83","v":8},8,{"$nulls":5},{"$f":"_xlfn.TEXTJOIN(\"^\",,AH83:AH97)","v":"6^2^3^7"},null,8,{"$nulls":5},{"$f":"$C83","v":8},null,{"$f":"$C83","v":8},null,null,null,{"$f":"_xlfn.TEXTJOIN(\"^\",,AV83:AV97)","v":"2^1^3"}]
[null,null,6,null,{"$f":"$C84","v":6},null,{"$f":"$C84","v":6},6,null,6,6,6,null,null,null,{"$f":"_xlfn.TEXTJOIN(\"^\",,E83:E97)","v":"6^4^2^1^3^5^7"},null,6,{"$nulls":11},{"$f":"_xlfn.TEXTJOIN(\"^\",,S83:S97)","v":"0^0^0"},null,6,null,{"$f":"$C84","v":6},null,{"$f":"$C84","v":6},6,6,6,{"$nulls":4},{"$f":"_xlfn.TEXTJOIN(\"^\",,AI83:AI97)","v":"101^102^103^104^105"},null,6,null,null,{"$f":"$C84","v":6},null,{"$f":"$C84","v":6},null,{"$f":"$C84","v":6},{"$nulls":4},{"$f":"_xlfn.TEXTJOIN(\"^\",,AW83:AW97)","v":"6^1^7"}]
[null,null,4,{"$f":"$C85","v":4},{"$f":"$C85","v":4},4,4,4,null,4,4,4,null,null,null,{"$f":"_xlfn.TEXTJOIN(\"^\",,F83:F97)","v":"8^4^2^1^3^5^9"},null,4,{"$nulls":11},{"$f":"_xlfn.TEXTJOIN(\"^\",,T83:T97)","v":"0^0"},null,4,{"$f":"$C85","v":4},null,null,4,4,4,4,{"$nulls":4},{"$f":"_xlfn.TEXTJOIN(\"^\",,AJ83:AJ97)","v":"6^4^2^1^3^5^7"},null,4,null,null,null,{"$f":"$C85","v":4},4,4,4,4,null,null,null,{"$f":"_xlfn.TEXTJOIN(\"^\",,AX83:AX97)","v":"4^2^3^5"}]
[null,null,2,{"$f":"$C86","v":2},2,2,2,2,null,2,2,{"$f":"$C86","v":2},null,null,null,{"$f":"_xlfn.TEXTJOIN(\"^\",,G83:G97)","v":"6^4^2^1^3^5^7"},null,2,{"$nulls":11},{"$f":"_xlfn.TEXTJOIN(\"^\",,U83:U97)","v":"0^0"},null,2,null,{"$f":"$C86","v":2},null,2,2,2,2,{"$nulls":4},{"$f":"_xlfn.TEXTJOIN(\"^\",,AK83:AK97)","v":"8^6^4^2^1^3^5^7^9"},null,2,null,{"$f":"$C86","v":2},null,2,2,2,2,2,null,null,null,{"$f":"_xlfn.TEXTJOIN(\"^\",,AY83:AY97)","v":"6^4^2^3^5^7"}]
[null,null,1,{"$f":"$C87","v":1},1,1,1,1,null,1,1,1,null,null,null,{"$f":"_xlfn.TEXTJOIN(\"^\",,H83:H97)","v":"8^6^4^2^1^3^5^7^9"},null,1,0,0,0,100,0,0,0,100,null,null,null,{"$f":"_xlfn.TEXTJOIN(\"^\",,V83:V97)","v":"100^0^0"},null,1,{"$f":"$C87","v":1},null,null,1,1,1,1,{"$nulls":4},{"$f":"_xlfn.TEXTJOIN(\"^\",,AL83:AL97)","v":"8^6^4^2^1^3^5^7^9"},null,1,null,1,{"$f":"$C87","v":1},null,null,1,1,1,null,null,null,{"$f":"_xlfn.TEXTJOIN(\"^\",,AZ83:AZ97)","v":"8^4^2^1^3^5^9"}]
[null,null,3,{"$f":"$C88","v":3},3,3,3,3,null,3,3,{"$f":"$C88","v":3},null,null,null,{"$f":"_xlfn.TEXTJOIN(\"^\",,I83:I97)","v":"101^102^103^104^105"},null,3,0,0,0,0,0,0,0,0,null,null,null,{"$f":"_xlfn.TEXTJOIN(\"^\",,W83:W97)","v":"0^0^0"},null,3,null,{"$f":"$C88","v":3},null,3,3,3,3,{"$nulls":4},{"$f":"_xlfn.TEXTJOIN(\"^\",,AM83:AM97)","v":"6^4^2^1^3^5^7"},null,3,null,3,null,{"$f":"$C88","v":3},3,3,3,3,null,null,null,{"$f":"_xlfn.TEXTJOIN(\"^\",,BA83:BA97)","v":"6^4^2^1^3^5^7"}]
[null,null,5,5,5,5,5,5,null,5,5,5,null,null,null,{"$f":"_xlfn.TEXTJOIN(\"^\",,J83:J97)","v":"8^6^4^2^1^3^5^7^9"},null,5,0,null,null,0,0,0,null,0,null,null,null,{"$f":"_xlfn.TEXTJOIN(\"^\",,X83:X97)","v":"0^0^0^0"},null,5,{"$f":"$C89","v":5},null,null,5,5,5,5,{"$nulls":4},{"$f":"_xlfn.TEXTJOIN(\"^\",,AN83:AN97)","v":"101^102^103^104^105"},null,5,null,null,null,5,5,5,5,5,null,null,null,{"$f":"_xlfn.TEXTJOIN(\"^\",,BB83:BB97)","v":"8^4^2^1^3^5^9"}]
[null,null,7,null,{"$f":"$C90","v":7},null,7,7,null,7,7,7,null,null,null,{"$f":"_xlfn.TEXTJOIN(\"^\",,K83:K97)","v":"8^6^4^2^1^3^5^7^9"},null,7,{"$nulls":5},0,{"$nulls":5},{"$f":"_xlfn.TEXTJOIN(\"^\",,Y83:Y97)","v":"0^0"},null,7,null,{"$f":"$C90","v":7},null,7,7,7,7,{"$nulls":4},{"$f":"_xlfn.TEXTJOIN(\"^\",,AO83:AO97)","v":""},null,7,null,null,{"$f":"$C90","v":7},null,7,null,7,{"$nulls":4},{"$f":"_xlfn.TEXTJOIN(\"^\",,BC83:BC97)","v":""}]
[null,null,9,null,null,{"$f":"$C91","v":9},null,9,null,9,9,{"$nulls":4},{"$f":"_xlfn.TEXTJOIN(\"^\",,L83:L97)","v":"6^4^2^1^3^5^7"},null,9,{"$nulls":13},9,{"$nulls":4},9,9,{"$nulls":5},{"$f":"_xlfn.TEXTJOIN(\"^\",,AP83:AP97)","v":""},null,9,{"$nulls":5},{"$f":"$C91","v":9},null,{"$f":"$C91","v":9},null,null,null,{"$f":"_xlfn.TEXTJOIN(\"^\",,BD83:BD97)","v":""}]
[null,null,"空降",{"$nulls":12},{"$f":"_xlfn.TEXTJOIN(\"^\",,M83:M97)","v":"101^102^103^104^105"},null,"空降",{"$nulls":13},"空降",{"$nulls":11},{"$f":"_xlfn.TEXTJOIN(\"^\",,AQ83:AQ91)","v":""},null,"空降",{"$nulls":11},{"$f":"_xlfn.TEXTJOIN(\"^\",,BE83:BE91)","v":""}]
[null,null,101,{"$nulls":5},{"$f":"$C93","v":101},null,null,null,{"$f":"$C93","v":101},null,null,{"$f":"_xlfn.TEXTJOIN(\"^\",,N83:N97)","v":""},null,101,{"$nulls":11},{"$f":"_xlfn.TEXTJOIN(\"^\",,Z83:Z97)","v":"100^0^0"},null,101,null,null,{"$f":"$C93","v":101},{"$nulls":4},{"$f":"$C93","v":101},{"$nulls":5},101,{"$f":"$C93","v":101}]
[null,null,102,{"$nulls":5},102,null,null,null,102,{"$nulls":4},102,{"$nulls":11},{"$f":"_xlfn.TEXTJOIN(\"^\",,AA83:AA97)","v":""},null,102,null,null,102,{"$nulls":4},102,{"$nulls":5},102]
[null,null,103,{"$nulls":5},103,null,null,null,103,{"$nulls":4},103,{"$nulls":11},{"$f":"_xlfn.TEXTJOIN(\"^\",,AB83:AB97)","v":""},null,103,null,null,103,{"$nulls":4},103,{"$nulls":5},103,{"$f":"$C95","v":103}]
[null,null,104,{"$nulls":5},104,null,null,null,104,{"$nulls":4},104,{"$nulls":13},104,null,null,104,{"$nulls":4},104,{"$nulls":5},104]
[null,null,105,{"$nulls":5},105,null,null,null,105,{"$nulls":4},105,{"$nulls":13},105,null,null,105,{"$nulls":4},105,{"$nulls":5},105,{"$f":"$C97","v":105}]
[{"$nulls":14},"最终",{"$f":"_xlfn.TEXTJOIN(\"^\",,P83:P97)","v":"4^2^1^3^5^6^4^2^1^3^5^7^8^4^2^1^3^5^9^6^4^2^1^3^5^7^8^6^4^2^1^3^5^7^9^101^102^103^104^105^8^6^4^2^1^3^5^7^9^8^6^4^2^1^3^5^7^9^6^4^2^1^3^5^7^101^102^103^104^105"},{"$nulls":12},"最终",{"$f":"_xlfn.TEXTJOIN(\"^\",,AD83:AD97)","v":"0^0^0^0^0^0^0^100^0^0^0^0^0^0^0^0^0^0^0^100^0^0"},{"$nulls":12},"最终",{"$f":"_xlfn.TEXTJOIN(\"^\",,AR82:AR97)","v":"4^1^5^6^2^3^7^101^102^103^104^105^6^4^2^1^3^5^7^8^6^4^2^1^3^5^7^9^8^6^4^2^1^3^5^7^9^6^4^2^1^3^5^7^101^102^103^104^105"},{"$nulls":12},"最终",{"$f":"_xlfn.TEXTJOIN(\"^\",,BF82:BF97)","v":"101^103^105^2^1^3^6^1^7^4^2^3^5^6^4^2^3^5^7^8^4^2^1^3^5^9^6^4^2^1^3^5^7^8^4^2^1^3^5^9"}]
[]
[null,null,"时间",5,10,17,25,35,40,50,60,70,75,{"$nulls":4},"时间",5,10,15,25,40,56,73,80,null,null,null,{"$f":"_xlfn.TEXTJOIN(\"^\",,S101:S109)","v":"17^7^7"},null,"时间",3,6,10,17,25,35,45,50,null,null,null,{"$f":"_xlfn.TEXTJOIN(\"^\",,AG101:AG109)","v":"3^3^3"},null,"时间",3,5,8,12,18,25,35,45,null,null,null,{"$f":"_xlfn.TEXTJOIN(\"^\",,AU101:AU109)","v":"3^3^3"}]
[null,null,8,null,null,{"$f":"F$100","v":17},null,{"$f":"H$100","v":35},null,{"$f":"J$100","v":50},60,{"$nulls":4},{"$f":"_xlfn.TEXTJOIN(\"^\",,D101:D110)","v":"5^5^5^5^5"},null,8,{"$nulls":11},{"$f":"_xlfn.TEXTJOIN(\"^\",,T101:T109)","v":"12^4"},null,8,{"$nulls":4},{"$f":"AK$100","v":25},35,{"$nulls":5},{"$f":"_xlfn.TEXTJOIN(\"^\",,AH101:AH109)","v":"6^6^6^6"},null,8,{"$nulls":5},{"$f":"AZ$100","v":25},null,{"$f":"BB$100","v":45},null,null,null,{"$f":"_xlfn.TEXTJOIN(\"^\",,AV101:AV109)","v":"5^5^5"}]
[null,null,6,null,{"$f":"E$100","v":10},null,{"$f":"G$100","v":25},35,null,50,60,70,null,null,null,{"$f":"_xlfn.TEXTJOIN(\"^\",,E101:E110)","v":"10^10^10^10^10^10^10"},null,6,{"$nulls":11},{"$f":"_xlfn.TEXTJOIN(\"^\",,U101:U109)","v":"13^4"},null,6,null,{"$f":"AH$100","v":6},null,{"$f":"AJ$100","v":17},25,35,45,{"$nulls":4},{"$f":"_xlfn.TEXTJOIN(\"^\",,AI101:AI109)","v":"10^10^10^10^10"},null,6,null,null,{"$f":"AW$100","v":8},null,{"$f":"AY$100","v":18},null,{"$f":"BA$100","v":35},{"$nulls":4},{"$f":"_xlfn.TEXTJOIN(\"^\",,AW101:AW109)","v":"8^8^8"}]
[null,null,4,{"$f":"D$100","v":5},10,17,25,35,40,50,60,70,75,null,null,{"$f":"_xlfn.TEXTJOIN(\"^\",,F101:F110)","v":"17^17^17^17^17^17^17"},null,4,{"$nulls":11},{"$f":"_xlfn.TEXTJOIN(\"^\",,V101:V109)","v":"9^3^3"},null,4,{"$f":"AG$100","v":3},null,{"$f":"AI$100","v":10},17,25,35,45,50,null,null,null,{"$f":"_xlfn.TEXTJOIN(\"^\",,AJ101:AJ109)","v":"17^17^17^17^17^17^17"},null,4,{"$f":"AU$100","v":3},null,null,{"$f":"AX$100","v":12},18,25,35,45,null,null,null,{"$f":"_xlfn.TEXTJOIN(\"^\",,AX101:AX109)","v":"12^12^12^12"}]
[null,null,2,5,10,17,25,35,40,50,60,70,75,null,null,{"$f":"_xlfn.TEXTJOIN(\"^\",,G101:G110)","v":"25^25^25^25^25^25^25"},null,2,{"$nulls":11},{"$f":"_xlfn.TEXTJOIN(\"^\",,W101:W109)","v":"14^3^3"},null,2,null,{"$f":"AH$100","v":6},10,17,25,35,45,50,null,null,null,{"$f":"_xlfn.TEXTJOIN(\"^\",,AK101:AK109)","v":"25^25^25^25^25^25^25^25^25"},null,2,null,{"$f":"AV$100","v":5},null,12,18,25,35,45,null,null,null,{"$f":"_xlfn.TEXTJOIN(\"^\",,AY101:AY109)","v":"18^18^18^18^18^18"}]
[null,null,1,5,10,17,25,35,40,50,60,70,75,null,null,{"$f":"_xlfn.TEXTJOIN(\"^\",,H101:H110)","v":"35^35^35^35^35^35^35^35^35"},null,1,17,12,13,9,14,14,17,9,null,null,null,{"$f":"_xlfn.TEXTJOIN(\"^\",,X101:X109)","v":"14^3^3^2"},null,1,{"$f":"AG$100","v":3},null,10,17,25,35,45,50,null,null,null,{"$f":"_xlfn.TEXTJOIN(\"^\",,AL101:AL109)","v":"35^35^35^35^35^35^35^35^35"},null,1,{"$f":"AU$100","v":3},5,{"$f":"AW$100","v":8},null,null,25,35,45,null,null,null,{"$f":"_xlfn.TEXTJOIN(\"^\",,AZ101:AZ109)","v":"25^25^25^25^25^25^25"}]
[null,null,3,5,10,17,25,35,40,50,60,70,75,null,null,{"$f":"_xlfn.TEXTJOIN(\"^\",,I101:I110)","v":"40^40^40^40^40"},null,3,7,4,4,3,3,3,4,4,null,null,null,{"$f":"_xlfn.TEXTJOIN(\"^\",,Y101:Y109)","v":"17^4"},null,3,null,{"$f":"AH$100","v":6},10,17,25,35,45,50,null,null,null,{"$f":"_xlfn.TEXTJOIN(\"^\",,AM101:AM109)","v":"45^45^45^45^45^45^45"},null,3,null,5,null,{"$f":"AX$100","v":12},18,25,35,45,null,null,null,{"$f":"_xlfn.TEXTJOIN(\"^\",,BA101:BA109)","v":"35^35^35^35^35^35^35"}]
[null,null,5,5,10,17,25,35,40,50,60,70,75,null,null,{"$f":"_xlfn.TEXTJOIN(\"^\",,J101:J110)","v":"50^50^50^50^50^50^50^50^50"},null,5,7,null,null,3,3,3,null,3,null,null,null,{"$f":"_xlfn.TEXTJOIN(\"^\",,Z101:Z109)","v":"9^4^3"},null,5,{"$f":"AG$100","v":3},null,10,17,25,35,45,50,null,null,null,{"$f":"_xlfn.TEXTJOIN(\"^\",,AN101:AN109)","v":"50^50^50^50^50"},null,5,{"$f":"AU$100","v":3},null,null,12,18,25,35,45,null,null,null,{"$f":"_xlfn.TEXTJOIN(\"^\",,BB101:BB109)","v":"45^45^45^45^45^45^45"}]
[null,null,7,null,{"$f":"E$100","v":10},null,25,35,null,50,60,70,null,null,null,{"$f":"_xlfn.TEXTJOIN(\"^\",,K101:K110)","v":"60^60^60^60^60^60^60^60^60"},null,7,{"$nulls":5},2,{"$nulls":5},{"$f":"_xlfn.TEXTJOIN(\"^\",,AA101:AA109)","v":""},null,7,null,{"$f":"AH$100","v":6},null,17,25,35,45,{"$nulls":4},{"$f":"_xlfn.TEXTJOIN(\"^\",,AO101:AO109)","v":""},null,7,null,null,{"$f":"AW$100","v":8},null,18,null,35,{"$nulls":4},{"$f":"_xlfn.TEXTJOIN(\"^\",,BC101:BC109)","v":""}]
[null,null,9,null,null,{"$f":"F$100","v":17},null,35,null,50,60,{"$nulls":4},{"$f":"_xlfn.TEXTJOIN(\"^\",,L101:L110)","v":"70^70^70^70^70^70^70"},null,9,{"$nulls":11},{"$f":"_xlfn.TEXTJOIN(\"^\",,AB101:AB109)","v":""},null,9,{"$nulls":4},25,35,{"$nulls":5},{"$f":"_xlfn.TEXTJOIN(\"^\",,AP101:AP109)","v":""},null,9,{"$nulls":5},{"$f":"AZ$100","v":25},null,{"$f":"BB$100","v":45},null,null,null,{"$f":"_xlfn.TEXTJOIN(\"^\",,BD101:BD109)","v":""}]
[{"$nulls":15},{"$f":"_xlfn.TEXTJOIN(\"^\",,M101:M110)","v":"75^75^75^75^75"},{"$nulls":13},{"$f":"_xlfn.TEXTJOIN(\"^\",,AC101:AC109)","v":""},{"$nulls":13},{"$f":"_xlfn.TEXTJOIN(\"^\",,AQ101:AQ109)","v":""},{"$nulls":13},{"$f":"_xlfn.TEXTJOIN(\"^\",,BE101:BE109)","v":""}]
[{"$nulls":15},{"$f":"_xlfn.TEXTJOIN(\"^\",,N101:N110)","v":""},{"$nulls":12},"最终",{"$f":"_xlfn.TEXTJOIN(\"^\",,AD100:AD110)","v":"17^7^7^12^4^13^4^9^3^3^14^3^3^14^3^3^2^17^4^9^4^3"},{"$nulls":12},"最终",{"$f":"_xlfn.TEXTJOIN(\"^\",,AR100:AR110)","v":"3^3^3^6^6^6^6^10^10^10^10^10^17^17^17^17^17^17^17^25^25^25^25^25^25^25^25^25^35^35^35^35^35^35^35^35^35^45^45^45^45^45^45^45^50^50^50^50^50"},{"$nulls":12},"最终",{"$f":"_xlfn.TEXTJOIN(\"^\",,BF100:BF110)","v":"3^3^3^5^5^5^8^8^8^12^12^12^12^18^18^18^18^18^18^25^25^25^25^25^25^25^35^35^35^35^35^35^35^45^45^45^45^45^45^45"}]
[{"$nulls":14},"最终",{"$f":"_xlfn.TEXTJOIN(\"^\",,P101:P111)","v":"5^5^5^5^5^10^10^10^10^10^10^10^17^17^17^17^17^17^17^25^25^25^25^25^25^25^35^35^35^35^35^35^35^35^35^40^40^40^40^40^50^50^50^50^50^50^50^50^50^60^60^60^60^60^60^60^60^60^70^70^70^70^70^70^70^75^75^75^75^75"}]
[{"$nulls":14},{"$f":"COUNT(D101:N110)","v":70},{"$nulls":13},{"$f":"SUM(S101:AB110)","v":158},{"$nulls":13},{"$f":"COUNT(AG101:AP110)","v":49},{"$nulls":13},{"$f":"COUNT(AU101:BD110)","v":40},{"$f":"AQ113+BE113+AC113+O113","v":317}]
[{"$nulls":4},{"$f":"E115-D115","v":10},{"$f":"F115-E115","v":15},5,15,16,17,17,5,15,{"$nulls":6},{"$f":"T115-S115","v":5},5,7,8,10,5,10,{"$nulls":7},{"$f":"AH115-AG115","v":3},4,7,8,10,10,10,{"$nulls":7},{"$f":"AV115-AU115","v":2},3,4,6,7,8,7]
[3,"焦土-3","波1·怪物",5,15,30,35,50,66,83,100,105,120,null,null,null,1,"波2·怪物",5,10,15,22,30,40,45,55,{"$nulls":4},1,"波3·怪物",3,6,10,17,25,35,45,55,{"$nulls":4},1,"波4·怪物",3,5,8,12,18,25,33,40]
[null,"5m",8,{"$nulls":12},{"$f":"_xlfn.TEXTJOIN(\"^\",,D116:D125)","v":"70451^70452^70454"},null,8,null,null,null,70454,null,70452,{"$nulls":5},{"$f":"_xlfn.TEXTJOIN(\"^\",,S116:S125)","v":"70455^70455^70455^70455"},null,8,{"$nulls":6},70454,70452,null,null,null,{"$f":"_xlfn.TEXTJOIN(\"^\",,AG116:AG125)","v":"70454^70452^70452^70452^70454"},null,8,{"$nulls":5},70452,null,70454,null,null,null,{"$f":"_xlfn.TEXTJOIN(\"^\",,AU116:AU125)","v":"70454^70453^70453^70454"}]
[null,null,6,{"$nulls":12},{"$f":"_xlfn.TEXTJOIN(\"^\",,E116:E125)","v":"70451^70452^70453"},null,6,null,70452,70454,null,70452,70452,null,70454,null,null,null,{"$f":"_xlfn.TEXTJOIN(\"^\",,T116:T125)","v":"70452^70452^70452^70452"},null,6,null,null,null,70454,70452,null,70451,70452,null,null,null,{"$f":"_xlfn.TEXTJOIN(\"^\",,AH116:AH125)","v":"70453^70453^70453"},null,6,null,70452,null,70451,70454,null,70452,70452,null,null,null,{"$f":"_xlfn.TEXTJOIN(\"^\",,AV116:AV125)","v":"70452^70452^70452^70452"}]
[null,null,4,{"$nulls":12},{"$f":"_xlfn.TEXTJOIN(\"^\",,F116:F125)","v":"70451^70453^70454"},null,4,70455,null,70451,70452,70452,70451,70455,70452,null,null,null,{"$f":"_xlfn.TEXTJOIN(\"^\",,U116:U125)","v":"70454^70451^70453^70453^70453^70451^70454"},null,4,70454,70453,70455,70452,70451,70455,70452,70453,null,null,null,{"$f":"_xlfn.TEXTJOIN(\"^\",,AI116:AI125)","v":"70455^70455^70455^70455^70455"},null,4,70454,70452,70455,70451,70452,70451,70451,70451,null,null,null,{"$f":"_xlfn.TEXTJOIN(\"^\",,AW116:AW125)","v":"70455^70455^70455^70455"}]
[null,null,2,{"$nulls":12},{"$f":"_xlfn.TEXTJOIN(\"^\",,G116:G125)","v":"70455^70452"},null,2,70455,null,70453,70451,70453,70453,70455,70452,null,null,null,{"$f":"_xlfn.TEXTJOIN(\"^\",,V116:V125)","v":"70454^70452^70451^70452^70451^70452^70454"},null,2,70452,null,70455,70453,70451,70455,70453,70451,null,null,null,{"$f":"_xlfn.TEXTJOIN(\"^\",,AJ116:AJ125)","v":"70454^70452^70453^70453^70453^70452^70454"},null,2,70453,null,70455,null,70453,70451,70451,70453,null,null,null,{"$f":"_xlfn.TEXTJOIN(\"^\",,AX116:AX125)","v":"70451^70451^70451^70451^70451"}]
[null,null,1,70451,70451,70451,70455,70451,70451,70451,70451,70455,70451,null,null,{"$f":"_xlfn.TEXTJOIN(\"^\",,H116:H125)","v":"70451^70452^70454"},null,1,null,70452,70453,70452,70454,70454,70455,70456,null,null,null,{"$f":"_xlfn.TEXTJOIN(\"^\",,W116:W125)","v":"70452^70452^70453^70454^70453^70452^70452"},null,1,70452,70453,70455,70453,70452,70455,70452,70453,null,null,null,{"$f":"_xlfn.TEXTJOIN(\"^\",,AK116:AK125)","v":"70452^70451^70451^70452^70451^70451^70452"},null,1,null,null,null,70451,null,70454,70453,{"$nulls":4},{"$f":"_xlfn.TEXTJOIN(\"^\",,AY116:AY125)","v":"70454^70452^70453^70453^70452^70454"}]
[null,null,3,70452,70452,70453,70452,70452,70452,70452,70452,70452,70452,null,null,{"$f":"_xlfn.TEXTJOIN(\"^\",,I116:I125)","v":"70451^70452^70453"},null,3,70455,70452,70453,70451,70453,70453,70455,70452,null,null,null,{"$f":"_xlfn.TEXTJOIN(\"^\",,X116:X125)","v":"70452^70452^70451^70453^70454^70453^70451^70452^70452"},null,3,70452,null,70455,70453,70451,70455,70453,70451,null,null,null,{"$f":"_xlfn.TEXTJOIN(\"^\",,AL116:AL125)","v":"70455^70455^70455^70455^70455"},null,3,70453,null,70455,null,70453,70451,70451,70453,null,null,null,{"$f":"_xlfn.TEXTJOIN(\"^\",,AZ116:AZ125)","v":"70452^70451^70451^70454^70451^70451^70452"}]
[null,null,5,70454,70453,70454,null,70454,70453,70453,null,70454,70453,null,null,{"$f":"_xlfn.TEXTJOIN(\"^\",,J116:J125)","v":"70451^70452^70453^70454"},null,5,70455,null,70451,70452,70452,70451,70455,70452,null,null,null,{"$f":"_xlfn.TEXTJOIN(\"^\",,Y116:Y125)","v":"70455^70455^70455^70455^70455"},null,5,70454,70453,70455,70452,70451,70455,70452,70453,null,null,null,{"$f":"_xlfn.TEXTJOIN(\"^\",,AM116:AM125)","v":"70454^70451^70452^70453^70452^70453^70452^70451^70454"},null,5,70454,70452,70455,70451,70452,70451,70451,70451,null,null,null,{"$f":"_xlfn.TEXTJOIN(\"^\",,BA116:BA125)","v":"70452^70451^70451^70453^70451^70451^70452"}]
[null,null,7,{"$nulls":6},70454,{"$nulls":5},{"$f":"_xlfn.TEXTJOIN(\"^\",,K116:K125)","v":"70451^70452"},null,7,null,70452,70454,null,70452,70452,null,70454,null,null,null,{"$f":"_xlfn.TEXTJOIN(\"^\",,Z116:Z125)","v":"70454^70452^70452^70456^70452^70452^70454"},null,7,null,null,null,70454,70452,null,70451,70452,null,null,null,{"$f":"_xlfn.TEXTJOIN(\"^\",,AN116:AN125)","v":"70452^70452^70453^70451^70453^70451^70453^70452^70452"},null,7,null,70452,null,70451,70454,null,70452,70452,null,null,null,{"$f":"_xlfn.TEXTJOIN(\"^\",,BB116:BB125)","v":"70454^70452^70451^70453^70453^70451^70452^70454"}]
[null,null,9,{"$nulls":12},{"$f":"_xlfn.TEXTJOIN(\"^\",,L116:L125)","v":"70455^70452^70454"},null,9,null,null,null,70454,null,70452,{"$nulls":5},{"$f":"_xlfn.TEXTJOIN(\"^\",,AA116:AA125)","v":""},null,9,{"$nulls":6},70454,70452,null,null,null,{"$f":"_xlfn.TEXTJOIN(\"^\",,AO116:AO125)","v":""},null,9,{"$nulls":5},70452,null,70454,null,null,null,{"$f":"_xlfn.TEXTJOIN(\"^\",,BC116:BC125)","v":""}]
[{"$nulls":15},{"$f":"_xlfn.TEXTJOIN(\"^\",,M116:M125)","v":"70451^70452^70453"},{"$nulls":13},{"$f":"_xlfn.TEXTJOIN(\"^\",,AB116:AB125)","v":""},{"$nulls":13},{"$f":"_xlfn.TEXTJOIN(\"^\",,AP116:AP125)","v":""},{"$nulls":13},{"$f":"_xlfn.TEXTJOIN(\"^\",,BD116:BD125)","v":""}]
[{"$nulls":15},{"$f":"_xlfn.TEXTJOIN(\"^\",,N116:N125)","v":""},{"$nulls":13},{"$f":"_xlfn.TEXTJOIN(\"^\",,AC116:AC125)","v":""},{"$nulls":13},{"$f":"_xlfn.TEXTJOIN(\"^\",,AQ116:AQ125)","v":""},{"$nulls":13},{"$f":"_xlfn.TEXTJOIN(\"^\",,BE116:BE125)","v":""}]
[{"$nulls":14},"最终",{"$f":"_xlfn.TEXTJOIN(\"^\",,P116:P126)","v":"70451^70452^70454^70451^70452^70453^70451^70453^70454^70455^70452^70451^70452^70454^70451^70452^70453^70451^70452^70453^70454^70451^70452^70455^70452^70454^70451^70452^70453"},{"$nulls":12},"最终",{"$f":"_xlfn.TEXTJOIN(\"^\",,AD116:AD126)","v":"70455^70455^70455^70455^70452^70452^70452^70452^70454^70451^70453^70453^70453^70451^70454^70454^70452^70451^70452^70451^70452^70454^70452^70452^70453^70454^70453^70452^70452^70452^70452^70451^70453^70454^70453^70451^70452^70452^70455^70455^70455^70455^70455^70454^70452^70452^70456^70452^70452^70454"},{"$nulls":12},"最终",{"$f":"_xlfn.TEXTJOIN(\"^\",,AR116:AR126)","v":"70454^70452^70452^70452^70454^70453^70453^70453^70455^70455^70455^70455^70455^70454^70452^70453^70453^70453^70452^70454^70452^70451^70451^70452^70451^70451^70452^70455^70455^70455^70455^70455^70454^70451^70452^70453^70452^70453^70452^70451^70454^70452^70452^70453^70451^70453^70451^70453^70452^70452"},{"$nulls":12},"最终",{"$f":"_xlfn.TEXTJOIN(\"^\",,BF116:BF126)","v":"70454^70453^70453^70454^70452^70452^70452^70452^70455^70455^70455^70455^70451^70451^70451^70451^70451^70454^70452^70453^70453^70452^70454^70452^70451^70451^70454^70451^70451^70452^70452^70451^70451^70453^70451^70451^70452^70454^70452^70451^70453^70453^70451^70452^70454"}]
[null,null,8,{"$nulls":14},8,null,null,null,"火精灵",null,"岩浆人",{"$nulls":7},8,{"$nulls":6},"火精灵","岩浆人",{"$nulls":5},8,{"$nulls":5},"岩浆人",null,"火精灵"]
[null,null,6,{"$nulls":14},6,null,"岩浆人","火精灵",null,"岩浆人","岩浆人",null,"火精灵",{"$nulls":5},6,null,null,null,"火精灵","岩浆人",null,"岩浆蝎","岩浆人",{"$nulls":5},6,null,"岩浆人",null,"岩浆蝎","火精灵",null,"岩浆人","岩浆人"]
[null,null,4,{"$nulls":14},4,"火山蜘蛛",null,"岩浆蝎","岩浆人","岩浆人","岩浆蝎","火山蜘蛛","岩浆人",{"$nulls":5},4,"火精灵","岩浆战士","火山蜘蛛","岩浆人","岩浆蝎","火山蜘蛛","岩浆人","岩浆战士",{"$nulls":5},4,"火精灵","岩浆人","火山蜘蛛","岩浆蝎","岩浆人","岩浆蝎","岩浆蝎","岩浆蝎"]
[null,null,2,{"$nulls":14},2,"火山蜘蛛",null,"岩浆战士","岩浆蝎","岩浆战士","岩浆战士","火山蜘蛛","岩浆人",{"$nulls":5},2,"岩浆人",null,"火山蜘蛛","岩浆战士","岩浆蝎","火山蜘蛛","岩浆战士","岩浆蝎",{"$nulls":5},2,"岩浆战士",null,"火山蜘蛛",null,"岩浆战士","岩浆蝎","岩浆蝎","岩浆战士"]
[null,null,1,"岩浆蝎","岩浆蝎","岩浆蝎","火山蜘蛛","岩浆蝎","岩浆蝎","岩浆蝎","岩浆蝎","火山蜘蛛","岩浆蝎",{"$nulls":4},1,null,"岩浆人","岩浆战士","岩浆人","火精灵","火精灵","火山蜘蛛","岩浆巨兽",{"$nulls":5},1,"岩浆人","岩浆战士","火山蜘蛛","岩浆战士","岩浆人","火山蜘蛛","岩浆人","岩浆战士",{"$nulls":5},1,null,null,null,"岩浆蝎",null,"火精灵","岩浆战士"]
[null,null,3,"岩浆人","岩浆人","岩浆战士","岩浆人","岩浆人","岩浆人","岩浆人","岩浆人","岩浆人","岩浆人",{"$nulls":4},3,"火山蜘蛛","岩浆人","岩浆战士","岩浆蝎","岩浆战士","岩浆战士","火山蜘蛛","岩浆人",{"$nulls":5},3,"岩浆人",null,"火山蜘蛛","岩浆战士","岩浆蝎","火山蜘蛛","岩浆战士","岩浆蝎",{"$nulls":5},3,"岩浆战士",null,"火山蜘蛛",null,"岩浆战士","岩浆蝎","岩浆蝎","岩浆战士"]
[null,null,5,"火精灵","岩浆战士","火精灵",null,"火精灵","岩浆战士","岩浆战士",null,"火精灵","岩浆战士",{"$nulls":4},5,"火山蜘蛛",null,"岩浆蝎","岩浆人","岩浆人","岩浆蝎","火山蜘蛛","岩浆人",{"$nulls":5},5,"火精灵","岩浆战士","火山蜘蛛","岩浆人","岩浆蝎","火山蜘蛛","岩浆人","岩浆战士",{"$nulls":5},5,"火精灵","岩浆人","火山蜘蛛","岩浆蝎","岩浆人","岩浆蝎","岩浆蝎","岩浆蝎"]
[null,null,7,{"$nulls":6},"火精灵",{"$nulls":7},7,null,"岩浆人","火精灵",null,"岩浆人","岩浆人",null,"火精灵",{"$nulls":5},7,null,null,null,"火精灵","岩浆人",null,"岩浆蝎","岩浆人",{"$nulls":5},7,null,"岩浆人",null,"岩浆蝎","火精灵",null,"岩浆人","岩浆人"]
[null,null,9,{"$nulls":14},9,null,null,null,"火精灵",null,"岩浆人",{"$nulls":7},9,{"$nulls":6},"火精灵","岩浆人",{"$nulls":5},9,{"$nulls":5},"岩浆人",null,"火精灵"]
[]
[null,null,"位置",5,15,30,35,50,66,83,100,105,120,{"$nulls":4},"位置",5,10,15,22,30,40,45,55,{"$nulls":5},"位置",3,6,10,17,25,35,45,55,null,null,null,{"$f":"_xlfn.TEXTJOIN(\"^\",,AG139:AG153)","v":"4^2^1^3^5"},null,"位置",3,5,8,12,18,25,33,40,null,null,null,{"$f":"_xlfn.TEXTJOIN(\"^\",,AU139:AU153)","v":"4^2^3^5"}]
[null,null,8,{"$nulls":12},{"$f":"_xlfn.TEXTJOIN(\"^\",,D139:D153)","v":"0^0^0"},null,8,null,null,null,{"$f":"$C139","v":8},null,{"$f":"$C139","v":8},{"$nulls":7},8,{"$nulls":6},{"$f":"$C139","v":8},{"$f":"$C139","v":8},null,null,null,{"$f":"_xlfn.TEXTJOIN(\"^\",,AH139:AH153)","v":"4^1^5"},null,8,{"$nulls":5},{"$f":"$C139","v":8},null,{"$f":"$C139","v":8},null,null,null,{"$f":"_xlfn.TEXTJOIN(\"^\",,AV139:AV153)","v":"6^4^5^7"}]
[null,null,6,{"$nulls":12},{"$f":"_xlfn.TEXTJOIN(\"^\",,E139:E153)","v":"0^0^0"},null,6,null,{"$f":"$C140","v":6},{"$f":"$C140","v":6},null,{"$f":"$C140","v":6},6,null,{"$f":"$C140","v":6},null,null,null,{"$f":"_xlfn.TEXTJOIN(\"^\",,S139:S153)","v":"101^102^104^105"},null,6,null,null,null,{"$f":"$C140","v":6},6,null,{"$f":"$C140","v":6},6,null,null,null,{"$f":"_xlfn.TEXTJOIN(\"^\",,AI139:AI153)","v":"101^102^103^104^105"},null,6,null,{"$f":"$C140","v":6},null,{"$f":"$C140","v":6},6,null,{"$f":"$C140","v":6},6,null,null,null,{"$f":"_xlfn.TEXTJOIN(\"^\",,AW139:AW153)","v":"101^102^104^105"}]
[null,null,4,{"$nulls":12},{"$f":"_xlfn.TEXTJOIN(\"^\",,F139:F153)","v":"0^0^0"},null,4,null,null,{"$f":"$C141","v":4},4,4,4,null,4,null,null,null,{"$f":"_xlfn.TEXTJOIN(\"^\",,T139:T153)","v":"6^1^3^7"},null,4,{"$f":"$C141","v":4},{"$f":"$C141","v":4},null,4,4,null,4,4,null,null,null,{"$f":"_xlfn.TEXTJOIN(\"^\",,AJ139:AJ153)","v":"6^4^2^1^3^5^7"},null,4,{"$f":"$C141","v":4},{"$f":"$C141","v":4},null,4,4,4,4,4,null,null,null,{"$f":"_xlfn.TEXTJOIN(\"^\",,AX139:AX153)","v":"6^4^1^5^7"}]
[null,null,2,{"$nulls":12},{"$f":"_xlfn.TEXTJOIN(\"^\",,G139:G153)","v":"100^0"},null,2,null,null,2,2,2,2,null,2,null,null,null,{"$f":"_xlfn.TEXTJOIN(\"^\",,U139:U153)","v":"6^4^2^1^3^5^7"},null,2,2,null,null,2,2,null,2,2,null,null,null,{"$f":"_xlfn.TEXTJOIN(\"^\",,AK139:AK153)","v":"6^4^2^1^3^5^7"},null,2,2,null,null,null,{"$f":"$C142","v":2},2,2,2,null,null,null,{"$f":"_xlfn.TEXTJOIN(\"^\",,AY139:AY153)","v":"6^4^2^3^5^7"}]
[null,null,1,0,0,0,100,0,0,0,0,100,0,null,null,{"$f":"_xlfn.TEXTJOIN(\"^\",,H139:H153)","v":"0^0^0"},null,1,null,{"$f":"$C143","v":1},1,1,1,1,null,{"$f":"$C143","v":1},null,null,null,{"$f":"_xlfn.TEXTJOIN(\"^\",,V139:V153)","v":"8^4^2^1^3^5^9"},null,1,1,{"$f":"$C143","v":1},null,1,1,null,1,1,null,null,null,{"$f":"_xlfn.TEXTJOIN(\"^\",,AL139:AL153)","v":"101^102^103^104^105"},null,1,null,null,null,{"$f":"$C143","v":1},null,1,1,{"$nulls":4},{"$f":"_xlfn.TEXTJOIN(\"^\",,AZ139:AZ153)","v":"8^4^2^1^3^5^9"}]
[null,null,3,0,0,0,0,0,0,0,0,0,0,null,null,{"$f":"_xlfn.TEXTJOIN(\"^\",,I139:I153)","v":"0^0^0"},null,3,null,{"$f":"$C144","v":3},3,3,3,3,null,3,null,null,null,{"$f":"_xlfn.TEXTJOIN(\"^\",,W139:W153)","v":"6^4^2^1^3^5^7"},null,3,3,null,null,3,3,null,3,3,null,null,null,{"$f":"_xlfn.TEXTJOIN(\"^\",,AM139:AM153)","v":"8^6^4^2^1^3^5^7^9"},null,3,{"$f":"$C144","v":3},null,null,null,{"$f":"$C144","v":3},3,3,3,null,null,null,{"$f":"_xlfn.TEXTJOIN(\"^\",,BA139:BA153)","v":"6^4^2^1^3^5^7"}]
[null,null,5,0,0,0,null,0,0,0,null,0,0,null,null,{"$f":"_xlfn.TEXTJOIN(\"^\",,J139:J153)","v":"0^0^0^0"},null,5,null,null,5,5,5,5,null,5,null,null,null,{"$f":"_xlfn.TEXTJOIN(\"^\",,X139:X153)","v":"8^6^4^2^1^3^5^7^9"},null,5,5,{"$f":"$C145","v":5},null,5,5,null,5,5,null,null,null,{"$f":"_xlfn.TEXTJOIN(\"^\",,AN139:AN153)","v":"8^6^4^2^1^3^5^7^9"},null,5,5,{"$f":"$C145","v":5},null,{"$f":"$C145","v":5},5,5,5,5,null,null,null,{"$f":"_xlfn.TEXTJOIN(\"^\",,BB139:BB153)","v":"8^6^4^2^3^5^7^9"}]
[null,null,7,{"$nulls":6},0,{"$nulls":5},{"$f":"_xlfn.TEXTJOIN(\"^\",,K139:K153)","v":"0^0"},null,7,null,{"$f":"$C146","v":7},{"$f":"$C146","v":7},null,7,7,null,7,null,null,null,{"$f":"_xlfn.TEXTJOIN(\"^\",,Y139:Y153)","v":"101^102^103^104^105"},null,7,null,null,null,7,7,null,7,7,null,null,null,{"$f":"_xlfn.TEXTJOIN(\"^\",,AO139:AO153)","v":""},null,7,null,{"$f":"$C146","v":7},null,7,7,null,7,7,null,null,null,{"$f":"_xlfn.TEXTJOIN(\"^\",,BC139:BC153)","v":""}]
[null,null,9,{"$nulls":12},{"$f":"_xlfn.TEXTJOIN(\"^\",,L139:L153)","v":"100^0^0"},null,9,null,null,null,{"$f":"$C147","v":9},null,{"$f":"$C147","v":9},{"$nulls":7},9,{"$nulls":6},{"$f":"$C147","v":9},9,null,null,null,{"$f":"_xlfn.TEXTJOIN(\"^\",,AP139:AP153)","v":""},null,9,{"$nulls":5},{"$f":"$C147","v":9},null,9,null,null,null,{"$f":"_xlfn.TEXTJOIN(\"^\",,BD139:BD153)","v":""}]
[null,null,"空降",{"$nulls":12},{"$f":"_xlfn.TEXTJOIN(\"^\",,M139:M153)","v":"0^0^0"},null,"空降",{"$nulls":13},"空降",{"$nulls":11},{"$f":"_xlfn.TEXTJOIN(\"^\",,AQ139:AQ147)","v":""},null,"空降",{"$nulls":11},{"$f":"_xlfn.TEXTJOIN(\"^\",,BE139:BE147)","v":""}]
[null,null,101,{"$nulls":12},{"$f":"_xlfn.TEXTJOIN(\"^\",,N139:N153)","v":""},null,101,{"$f":"$C149","v":101},{"$nulls":5},{"$f":"$C149","v":101},{"$nulls":4},{"$f":"_xlfn.TEXTJOIN(\"^\",,Z139:Z153)","v":"6^4^2^1^3^5^7"},null,101,null,null,{"$f":"$C149","v":101},null,null,{"$f":"$C149","v":101},{"$nulls":7},101,null,null,{"$f":"$C149","v":101}]
[null,null,102,{"$nulls":14},102,102,{"$nulls":5},102,{"$nulls":4},{"$f":"_xlfn.TEXTJOIN(\"^\",,AA139:AA153)","v":""},null,102,null,null,102,null,null,102,{"$nulls":7},102,null,null,102]
[null,null,103,{"$nulls":14},103,{"$nulls":6},103,{"$nulls":4},{"$f":"_xlfn.TEXTJOIN(\"^\",,AB139:AB153)","v":""},null,103,null,null,103,null,null,103,{"$nulls":7},103]
[null,null,104,{"$nulls":14},104,{"$f":"$C152","v":104},{"$nulls":5},104,{"$nulls":6},104,null,null,104,null,null,104,{"$nulls":7},104,null,null,{"$f":"$C152","v":104}]
[null,null,105,{"$nulls":14},105,105,{"$nulls":5},105,{"$nulls":6},105,null,null,105,null,null,105,{"$nulls":7},105,null,null,105]
[{"$nulls":14},"最终",{"$f":"_xlfn.TEXTJOIN(\"^\",,P139:P153)","v":"0^0^0^0^0^0^0^0^0^100^0^0^0^0^0^0^0^0^0^0^0^0^0^100^0^0^0^0^0"},{"$nulls":12},"最终",{"$f":"_xlfn.TEXTJOIN(\"^\",,AD139:AD153)","v":"101^102^104^105^6^1^3^7^6^4^2^1^3^5^7^8^4^2^1^3^5^9^6^4^2^1^3^5^7^8^6^4^2^1^3^5^7^9^101^102^103^104^105^6^4^2^1^3^5^7"},{"$nulls":12},"最终",{"$f":"_xlfn.TEXTJOIN(\"^\",,AR138:AR153)","v":"4^2^1^3^5^4^1^5^101^102^103^104^105^6^4^2^1^3^5^7^6^4^2^1^3^5^7^101^102^103^104^105^8^6^4^2^1^3^5^7^9^8^6^4^2^1^3^5^7^9"},{"$nulls":12},"最终",{"$f":"_xlfn.TEXTJOIN(\"^\",,BF138:BF153)","v":"4^2^3^5^6^4^5^7^101^102^104^105^6^4^1^5^7^6^4^2^3^5^7^8^4^2^1^3^5^9^6^4^2^1^3^5^7^8^6^4^2^3^5^7^9"}]
[]
[null,null,"时间",5,15,30,35,50,66,83,100,105,120,{"$nulls":4},"时间",5,10,15,22,30,40,45,55,null,null,null,{"$f":"_xlfn.TEXTJOIN(\"^\",,S157:S165)","v":"5^5^5^5"},null,"时间",3,6,10,17,25,35,45,55,null,null,null,{"$f":"_xlfn.TEXTJOIN(\"^\",,AG157:AG165)","v":"3^3^3^3^3"},null,"时间",3,5,8,12,18,25,33,40,null,null,null,{"$f":"_xlfn.TEXTJOIN(\"^\",,AU157:AU165)","v":"3^3^3^3"}]
[null,null,8,{"$nulls":12},{"$f":"_xlfn.TEXTJOIN(\"^\",,D157:D166)","v":"10^3^3"},null,8,null,null,null,{"$f":"V$156","v":22},null,{"$f":"X$156","v":40},{"$nulls":5},{"$f":"_xlfn.TEXTJOIN(\"^\",,T157:T165)","v":"10^10^10^10"},null,8,{"$nulls":6},{"$f":"AM$156","v":45},{"$f":"AN$156","v":55},null,null,null,{"$f":"_xlfn.TEXTJOIN(\"^\",,AH157:AH165)","v":"6^6^6"},null,8,{"$nulls":5},{"$f":"AZ$267","v":0},null,{"$f":"BB$156","v":40},null,null,null,{"$f":"_xlfn.TEXTJOIN(\"^\",,AV157:AV165)","v":"5^5^5^5"}]
[null,null,6,{"$nulls":12},{"$f":"_xlfn.TEXTJOIN(\"^\",,E157:E166)","v":"12^3^2"},null,6,null,{"$f":"T$156","v":10},{"$f":"U$156","v":15},null,{"$f":"W$156","v":30},40,null,{"$f":"Z$156","v":55},null,null,null,{"$f":"_xlfn.TEXTJOIN(\"^\",,U157:U165)","v":"15^15^15^15^15^15^15"},null,6,null,null,null,{"$f":"AJ$156","v":17},25,null,45,55,null,null,null,{"$f":"_xlfn.TEXTJOIN(\"^\",,AI157:AI165)","v":"10^10^10^10^10"},null,6,null,{"$f":"AV$156","v":5},null,{"$f":"AX$156","v":12},18,null,{"$f":"BA$156","v":33},40,null,null,null,{"$f":"_xlfn.TEXTJOIN(\"^\",,AW157:AW165)","v":"8^8^8^8"}]
[null,null,4,{"$nulls":12},{"$f":"_xlfn.TEXTJOIN(\"^\",,F157:F166)","v":"13^3^3"},null,4,{"$f":"S$156","v":5},null,{"$f":"U$156","v":15},22,30,40,45,55,null,null,null,{"$f":"_xlfn.TEXTJOIN(\"^\",,V157:V165)","v":"22^22^22^22^22^22^22"},null,4,{"$f":"AG$156","v":3},{"$f":"AH$156","v":6},{"$f":"AI$156","v":10},17,25,35,45,55,null,null,null,{"$f":"_xlfn.TEXTJOIN(\"^\",,AJ157:AJ165)","v":"17^17^17^17^17^17^17"},null,4,{"$f":"AU$156","v":3},5,8,12,18,25,33,40,null,null,null,{"$f":"_xlfn.TEXTJOIN(\"^\",,AX157:AX165)","v":"12^12^12^12^12"}]
[null,null,2,{"$nulls":12},{"$f":"_xlfn.TEXTJOIN(\"^\",,G157:G166)","v":"10^4"},null,2,5,null,15,22,30,40,45,55,null,null,null,{"$f":"_xlfn.TEXTJOIN(\"^\",,W157:W165)","v":"30^30^30^30^30^30^30"},null,2,3,null,10,17,25,35,45,55,null,null,null,{"$f":"_xlfn.TEXTJOIN(\"^\",,AK157:AK165)","v":"25^25^25^25^25^25^25"},null,2,3,null,8,null,18,25,33,40,null,null,null,{"$f":"_xlfn.TEXTJOIN(\"^\",,AY157:AY165)","v":"18^18^18^18^18^18"}]
[null,null,1,10,12,13,10,15,15,15,18,10,15,null,null,{"$f":"_xlfn.TEXTJOIN(\"^\",,H157:H166)","v":"15^3^2"},null,1,null,{"$f":"T$156","v":10},15,22,30,40,45,55,null,null,null,{"$f":"_xlfn.TEXTJOIN(\"^\",,X157:X165)","v":"40^40^40^40^40^40^40^40^40"},null,1,3,{"$f":"AH$156","v":6},10,17,25,35,45,55,null,null,null,{"$f":"_xlfn.TEXTJOIN(\"^\",,AL157:AL165)","v":"35^35^35^35^35"},null,1,null,null,null,{"$f":"AX$156","v":12},null,25,33,{"$nulls":4},{"$f":"_xlfn.TEXTJOIN(\"^\",,AZ157:AZ165)","v":"0^25^25^25^25^25^25"}]
[null,null,3,3,3,3,4,3,3,3,4,4,4,null,null,{"$f":"_xlfn.TEXTJOIN(\"^\",,I157:I166)","v":"15^3^3"},null,3,{"$f":"S$156","v":5},10,15,22,30,40,45,55,null,null,null,{"$f":"_xlfn.TEXTJOIN(\"^\",,Y157:Y165)","v":"45^45^45^45^45"},null,3,3,null,10,17,25,35,45,55,null,null,null,{"$f":"_xlfn.TEXTJOIN(\"^\",,AM157:AM165)","v":"45^45^45^45^45^45^45^45^45"},null,3,{"$f":"AU$156","v":3},null,{"$f":"AW$156","v":8},null,{"$f":"AY$156","v":18},25,33,40,null,null,null,{"$f":"_xlfn.TEXTJOIN(\"^\",,BA157:BA165)","v":"33^33^33^33^33^33^33"}]
[null,null,5,3,2,3,null,2,3,2,null,3,3,null,null,{"$f":"_xlfn.TEXTJOIN(\"^\",,J157:J166)","v":"15^3^2^2"},null,5,5,null,15,22,30,40,45,55,null,null,null,{"$f":"_xlfn.TEXTJOIN(\"^\",,Z157:Z165)","v":"55^55^55^55^55^55^55"},null,5,3,{"$f":"AH$156","v":6},10,17,25,35,45,55,null,null,null,{"$f":"_xlfn.TEXTJOIN(\"^\",,AN157:AN165)","v":"55^55^55^55^55^55^55^55^55"},null,5,3,5,8,12,18,25,33,40,null,null,null,{"$f":"_xlfn.TEXTJOIN(\"^\",,BB157:BB165)","v":"40^40^40^40^40^40^40^40"}]
[null,null,7,{"$nulls":6},2,{"$nulls":5},{"$f":"_xlfn.TEXTJOIN(\"^\",,K157:K166)","v":"18^4"},null,7,null,{"$f":"T$156","v":10},{"$f":"U$156","v":15},null,30,40,null,55,null,null,null,{"$f":"_xlfn.TEXTJOIN(\"^\",,AA157:AA165)","v":""},null,7,null,null,null,17,25,null,45,55,null,null,null,{"$f":"_xlfn.TEXTJOIN(\"^\",,AO157:AO165)","v":""},null,7,null,5,null,12,18,null,33,40,null,null,null,{"$f":"_xlfn.TEXTJOIN(\"^\",,BC157:BC165)","v":""}]
[null,null,9,{"$nulls":12},{"$f":"_xlfn.TEXTJOIN(\"^\",,L157:L166)","v":"10^4^3"},null,9,null,null,null,{"$f":"V$156","v":22},null,{"$f":"X$156","v":40},{"$nulls":5},{"$f":"_xlfn.TEXTJOIN(\"^\",,AB157:AB165)","v":""},null,9,{"$nulls":6},{"$f":"AM$156","v":45},55,null,null,null,{"$f":"_xlfn.TEXTJOIN(\"^\",,AP157:AP165)","v":""},null,9,{"$nulls":5},{"$f":"AZ$156","v":25},null,40,null,null,null,{"$f":"_xlfn.TEXTJOIN(\"^\",,BD157:BD165)","v":""}]
[{"$nulls":15},{"$f":"_xlfn.TEXTJOIN(\"^\",,M157:M166)","v":"15^4^3"},{"$nulls":13},{"$f":"_xlfn.TEXTJOIN(\"^\",,AC157:AC165)","v":""},{"$nulls":13},{"$f":"_xlfn.TEXTJOIN(\"^\",,AQ157:AQ165)","v":""},{"$nulls":13},{"$f":"_xlfn.TEXTJOIN(\"^\",,BE157:BE165)","v":""}]
[{"$nulls":15},{"$f":"_xlfn.TEXTJOIN(\"^\",,N157:N166)","v":""},{"$nulls":12},"最终",{"$f":"_xlfn.TEXTJOIN(\"^\",,AD156:AD166)","v":"5^5^5^5^10^10^10^10^15^15^15^15^15^15^15^22^22^22^22^22^22^22^30^30^30^30^30^30^30^40^40^40^40^40^40^40^40^40^45^45^45^45^45^55^55^55^55^55^55^55"},{"$nulls":12},"最终",{"$f":"_xlfn.TEXTJOIN(\"^\",,AR156:AR166)","v":"3^3^3^3^3^6^6^6^10^10^10^10^10^17^17^17^17^17^17^17^25^25^25^25^25^25^25^35^35^35^35^35^45^45^45^45^45^45^45^45^45^55^55^55^55^55^55^55^55^55"},{"$nulls":12},"最终",{"$f":"_xlfn.TEXTJOIN(\"^\",,BF156:BF166)","v":"3^3^3^3^5^5^5^5^8^8^8^8^12^12^12^12^12^18^18^18^18^18^18^0^25^25^25^25^25^25^33^33^33^33^33^33^33^40^40^40^40^40^40^40^40"}]
[{"$nulls":14},"最终",{"$f":"_xlfn.TEXTJOIN(\"^\",,P157:P167)","v":"10^3^3^12^3^2^13^3^3^10^4^15^3^2^15^3^3^15^3^2^2^18^4^10^4^3^15^4^3"}]
[{"$nulls":14},{"$f":"SUM(D157:N166)","v":190},{"$nulls":13},{"$f":"COUNT(S157:AB166)","v":50},{"$nulls":13},{"$f":"COUNT(AG157:AP166)","v":50},{"$nulls":13},{"$f":"COUNT(AU157:BD166)","v":45},{"$f":"AQ169+BE169+AC169+O169","v":335}]