{"text_format":"2","workbook":"xlsx","n_sheets":4,"sheets":["RoleConfig","注释","属性战力计算公式","调试区"],"not_rendered":{"charts":0,"images":2,"macros":0,"external_links":0,"defined_names":1,"comments":3,"pivot_tables":0},"unopened":[],"bounds":{"document_bytes":16777216,"sheet_cells":100000,"run_cost":"one","rows_first":2000,"rows_last":500,"rows_between":2000,"halvings":0,"cell_chars":16384,"cell_head_chars":4096},"cells_cut":0,"cells_raw":0,"read":"whole","date_system":"1900"}

{"sheet":"RoleConfig","index":0,"n_rows":329,"n_cols":39,"rows_kept":329,"cut":false,"hidden":false,"merged":[]}
["ID[csknu]","name[ct]","profession[csn]","quality[csn]","qualityType[cn]","type[cn]","HP[csn]","attack[csn]","spellAttack[csn]","realAttack[csn]","attackRange[cn]","bullet[cn]","bulletPos[cna]","attackCD[cn]","attackSpeed[csn]","attackCrit[csn]","critNum[csn]","defense[csn]","spellDefense[csn]","hurtFrame[cn]","hit[csn]","dodge[csn]","moveSpeed[cn]","skills[cna]","skillCDs[cna]","enterCDs[cna]","cost[cn]","lifeDuration[cn]","url[ct]","hitID[cn]","gameScale[cna]","uiScale[cn]","tips[ct]","sumcd[cn]","showSkillID[cn]","describe[ct]","hplength[cn]","sound[ct]"]
["ID区间(0-10w)","名称","职业类型","品阶","品质","类型","血量","攻击力","法术攻击力","真实攻击力","攻击范围","子弹id","子弹偏移位置","攻击cd","攻击速度‱(5000-50000)","攻击暴击率‱","暴击倍数‱","防御力","法术防御力","伤害帧","命中‱","攻击闪避‱","移动速度","技能数组","技能cd数组","入场技能cd数组","召唤费用","生命时间","角色资源路径","击中特效ID","游戏比例%","ui比例%","突破描述ID","召唤CD","初始技能ID","角色描述ID","血条长度","击中受击音效"]
[10101,"t2700",1,1,1,1,490,90,0,0,100,0,0,0.5,10000,300,15000,30,10,0.33,500,0,130,101,15,5,3,0,"qiangbing",11601,"22^100",100,0,0.5,1000,"t4500",100,"meleeHit","枪兵"]
[10102,"t2700",1,2,2,1,{"$f":"FLOOR(G3*1.2,1)","v":588},{"$f":"FLOOR(H3*1.2,1)","v":108},0,0,100,0,0,0.5,10000,300,15000,{"$f":"FLOOR(R3*1.2,1)","v":36},12,0.33,500,0,130,101,15,5,3,0,"qiangbing",11601,"22^100",100,"t6000",0.5,1000,"t4500",100,"meleeHit"]
[10103,"t2700",1,3,3,1,705,129,0,0,100,0,0,0.5,10000,300,15000,43,14,0.33,500,0,130,101,15,5,3,0,"qiangbing",11601,"22^100",100,"t6000",0.5,1000,"t4500",100,"meleeHit"]
[10104,"t2700",1,4,4,1,{"$f":"FLOOR(G5*1.54,1)","v":1085},{"$f":"FLOOR(H5*1.4,1)","v":180},0,0,100,0,0,0.5,10000,300,15000,51,16,0.33,500,0,130,101,15,5,3,0,"qiangbing",11601,"22^100",100,"t6129",0.5,1000,"t4500",100,"meleeHit"]
[10105,"t2700",1,5,4,1,1302,216,0,0,100,0,0,0.5,10000,300,15000,61,18,0.33,500,0,130,101,15,5,3,0,"qiangbing",11601,"22^100",100,0,0.5,1000,"t4500",100,"meleeHit"]
[10106,"t2700",1,6,4,1,1562,259,0,0,100,0,0,0.5,10000,300,15000,73,20,0.33,500,0,130,101,15,5,3,0,"qiangbing",11601,"22^100",100,0,0.5,1000,"t4500",100,"meleeHit"]
[10107,"t2700",1,7,5,1,{"$f":"FLOOR(G8*1.32,1)","v":2061},{"$f":"FLOOR(H8*1.32,1)","v":341},0,0,100,0,0,0.5,11000,300,15000,87,22,0.33,500,0,130,101,15,5,3,0,"qiangbing",11601,"22^100",100,"t6110",0.5,1000,"t4500",100,"meleeHit"]
[10108,"t2700",1,8,5,1,2473,409,0,0,100,0,0,0.5,11000,300,15000,104,24,0.33,500,0,130,101,15,5,3,0,"qiangbing",11601,"22^100",100,0,0.5,1000,"t4500",100,"meleeHit"]
[10109,"t2700",1,9,5,1,2967,490,0,0,100,0,0,0.5,11000,300,15000,124,26,0.33,500,0,130,101,15,5,3,0,"qiangbing",11601,"22^100",100,0,0.5,1000,"t4500",100,"meleeHit"]
[10110,"t2700",1,10,5,1,3560,588,0,0,100,0,0,0.5,11000,300,15000,148,28,0.33,500,0,130,101,15,5,3,0,"qiangbing",11601,"22^100",100,0,0.5,1000,"t4500",100,"meleeHit"]
[10111,"t2700",1,11,6,1,{"$f":"FLOOR(G12*1.32,1)","v":4699},{"$f":"FLOOR(H12*1.32,1)","v":776},0,0,100,0,0,0.5,11000,300,15000,177,30,0.33,500,0,130,101,15,5,3,0,"qiangbing",11601,"22^100",100,"t6007",0.5,1000,"t4500",100,"meleeHit"]
[10112,"t2700",1,12,6,1,5638,931,0,0,100,0,0,0.5,11000,300,15000,212,32,0.33,500,0,130,101,15,5,3,0,"qiangbing",11601,"22^100",100,0,0.5,1000,"t4500",100,"meleeHit"]
[10113,"t2700",1,13,6,1,6765,1117,0,0,100,0,0,0.5,11000,300,15000,254,34,0.33,500,0,130,101,15,5,3,0,"qiangbing",11601,"22^100",100,0,0.5,1000,"t4500",100,"meleeHit"]
[10114,"t2700",1,14,6,1,8118,1340,0,0,100,0,0,0.5,11000,300,15000,304,36,0.33,500,0,130,101,15,5,3,0,"qiangbing",11601,"22^100",100,0,0.5,1000,"t4500",100,"meleeHit"]
[10115,"t2700",1,15,6,1,9741,1608,0,0,100,0,0,0.5,11000,300,15000,364,38,0.33,500,0,130,101,15,5,3,0,"qiangbing",11601,"22^100",100,0,0.5,1000,"t4500",100,"meleeHit"]
[10116,"t2700",1,16,6,1,11689,1929,0,0,100,0,0,0.5,11000,300,15000,436,40,0.33,500,0,130,101,15,5,3,0,"qiangbing",11601,"22^100",100,0,0.5,1000,"t4500",100,"meleeHit"]
[10301,"t2701",4,1,1,1,210,115,0,0,450,10301,"310^163",0.8,10000,1000,15000,15,10,0.3,300,0,100,202,0,0,3,0,"huoqiang",0,"19^100",80,0,1,1001,"t4501",100,"gunHit","火枪"]
[10302,"t2701",4,2,2,1,{"$f":"FLOOR(G19*1.2,1)","v":252},{"$f":"FLOOR(H19*1.2,1)","v":138},0,0,450,10301,"310^163",0.8,10000,1000,15000,18,11,0.3,300,0,100,202,0,0,3,0,"huoqiang",0,"19^100",80,"t6000",1,1001,"t4501",100,"gunHit"]
[10303,"t2701",4,3,3,1,302,165,0,0,450,10301,"310^163",0.8,10000,1000,15000,21,12,0.3,300,0,100,202,0,0,3,0,"huoqiang",0,"19^100",80,"t6000",1,1001,"t4501",100,"gunHit"]
[10304,"t2701",4,4,4,1,{"$f":"FLOOR(G21*1.4,1)","v":422},{"$f":"FLOOR(H21*1.4,1)","v":231},0,0,450,10301,"310^163",0.8,10000,1000,15000,25,13,0.3,300,0,100,"201^202","15^0","5^0",3,0,"huoqiang",0,"19^100",80,"t6011",1,1001,"t4501",100,"gunHit"]
[10305,"t2701",4,5,4,1,506,277,0,0,450,10301,"310^163",0.8,10000,1000,15000,30,14,0.3,300,0,100,"201^202","15^0","5^0",3,0,"huoqiang",0,"19^100",80,0,1,1001,"t4501",100,"gunHit"]
[10306,"t2701",4,6,4,1,607,332,0,0,450,10301,"310^163",0.8,10000,1000,15000,36,15,0.3,300,0,100,"201^202","15^0","5^0",3,0,"huoqiang",0,"19^100",80,0,1,1001,"t4501",100,"gunHit"]
[10307,"t2701",4,7,5,1,{"$f":"FLOOR(G24*1.32,1)","v":801},{"$f":"FLOOR(H24*1.32,1)","v":438},0,0,550,10301,"310^163",0.8,10000,1000,15000,43,16,0.3,300,0,100,"201^202","15^0","5^0",3,0,"huoqiang",0,"19^100",80,"t6111",1,1001,"t4501",100,"gunHit"]
[10308,"t2701",4,8,5,1,961,525,0,0,550,10301,"310^163",0.8,10000,1000,15000,51,17,0.3,300,0,100,"201^202","15^0","5^0",3,0,"huoqiang",0,"19^100",80,0,1,1001,"t4501",100,"gunHit"]
[10309,"t2701",4,9,5,1,1153,630,0,0,550,10301,"310^163",0.8,10000,1000,15000,61,18,0.3,300,0,100,"201^202","15^0","5^0",3,0,"huoqiang",0,"19^100",80,0,1,1001,"t4501",100,"gunHit"]
[10310,"t2701",4,10,5,1,1383,756,0,0,550,10301,"310^163",0.8,10000,1000,15000,73,19,0.3,300,0,100,"201^202","15^0","5^0",3,0,"huoqiang",0,"19^100",80,0,1,1001,"t4501",100,"gunHit"]
[10311,"t2701",4,11,6,1,{"$f":"FLOOR(G28*1.32,1)","v":1825},{"$f":"FLOOR(H28*1.32,1)","v":997},0,0,550,10301,"310^163",0.8,10000,1000,15000,87,20,0.3,300,0,100,"201^202","15^0","5^0",3,0,"huoqiang",0,"19^100",80,"t6007",1,1001,"t4501",100,"gunHit"]
[10312,"t2701",4,12,6,1,2190,1196,0,0,550,10301,"310^163",0.8,10000,1000,15000,104,21,0.3,300,0,100,"201^202","15^0","5^0",3,0,"huoqiang",0,"19^100",80,0,1,1001,"t4501",100,"gunHit"]
[10313,"t2701",4,13,6,1,2628,1435,0,0,550,10301,"310^163",0.8,10000,1000,15000,124,22,0.3,300,0,100,"201^202","15^0","5^0",3,0,"huoqiang",0,"19^100",80,0,1,1001,"t4501",100,"gunHit"]
[10314,"t2701",4,14,6,1,3153,1722,0,0,550,10301,"310^163",0.8,10000,1000,15000,148,23,0.3,300,0,100,"201^202","15^0","5^0",3,0,"huoqiang",0,"19^100",80,0,1,1001,"t4501",100,"gunHit"]
[10315,"t2701",4,15,6,1,3783,2066,0,0,550,10301,"310^163",0.8,10000,1000,15000,177,24,0.3,300,0,100,"201^202","15^0","5^0",3,0,"huoqiang",0,"19^100",80,0,1,1001,"t4501",100,"gunHit"]
[10316,"t2701",4,16,6,1,4539,2479,0,0,550,10301,"310^163",0.8,10000,1000,15000,212,25,0.3,300,0,100,"201^202","15^0","5^0",3,0,"huoqiang",0,"19^100",80,0,1,1001,"t4501",100,"gunHit"]
[10401,"t2702",4,1,1,2,{"$f":"调试区!S35","v":355},{"$f":"调试区!T35","v":201},0,0,450,10401,"190^200",0.8,10000,500,15000,15,10,0.56000000000000005,300,0,80,0,0,0,5,0,"luobin",10401,"21^100",95,0,3,1002,"t4502",100,"normalHit","罗宾"]
[10402,"t2702",4,2,2,2,{"$f":"FLOOR(G35*1.2,1)","v":426},{"$f":"FLOOR(H35*1.2,1)","v":241},0,0,450,10401,"190^200",0.8,10000,500,15000,18,11,0.56000000000000005,300,0,80,0,0,0,5,0,"luobin",10401,"21^100",95,"t6000",3,1002,"t4502",100,"normalHit"]
[10403,"t2702",4,3,3,2,511,289,0,0,450,10401,"190^200",0.8,10000,500,15000,21,12,0.56000000000000005,300,0,80,0,0,0,5,0,"luobin",10401,"21^100",95,"t6000",3,1002,"t4502",100,"normalHit"]
[10404,"t2702",4,4,4,2,{"$f":"FLOOR(G37*1.4,1)","v":715},{"$f":"FLOOR(H37*1.54,1)","v":445},0,0,450,10401,"190^200",0.8,10000,500,15000,25,13,0.56000000000000005,300,0,80,0,0,0,5,0,"luobin",10401,"21^100",95,"t6130",3,1002,"t4502",100,"normalHit"]
[10405,"t2702",4,5,4,2,858,534,0,0,450,10401,"190^200",0.8,10000,500,15000,30,14,0.56000000000000005,300,0,80,0,0,0,5,0,"luobin",10401,"21^100",95,0,3,1002,"t4502",100,"normalHit"]
[10406,"t2702",4,6,4,2,1029,640,0,0,450,10401,"190^200",0.8,10000,500,15000,36,15,0.56000000000000005,300,0,80,0,0,0,5,0,"luobin",10401,"21^100",95,0,3,1002,"t4502",100,"normalHit"]
[10407,"t2702",4,7,5,2,{"$f":"FLOOR(G40*1.32,1)","v":1358},{"$f":"FLOOR(H40*1.32,1)","v":844},0,0,450,10401,"190^200",0.8,12000,500,15000,43,16,0.56000000000000005,300,0,80,0,0,0,5,0,"luobin",10401,"21^100",95,"t6125",3,1002,"t4502",100,"normalHit"]
[10408,"t2702",4,8,5,2,1629,1012,0,0,450,10401,"190^200",0.8,12000,500,15000,51,17,0.56000000000000005,300,0,80,0,0,0,5,0,"luobin",10401,"21^100",95,0,3,1002,"t4502",100,"normalHit"]
[10409,"t2702",4,9,5,2,1954,1214,0,0,450,10401,"190^200",0.8,12000,500,15000,61,18,0.56000000000000005,300,0,80,0,0,0,5,0,"luobin",10401,"21^100",95,0,3,1002,"t4502",100,"normalHit"]
[10410,"t2702",4,10,5,2,2344,1456,0,0,450,10401,"190^200",0.8,12000,500,15000,73,19,0.56000000000000005,300,0,80,0,0,0,5,0,"luobin",10401,"21^100",95,0,3,1002,"t4502",100,"normalHit"]
[10411,"t2702",4,11,6,2,{"$f":"FLOOR(G44*1.32,1)","v":3094},{"$f":"FLOOR(H44*1.32,1)","v":1921},0,0,450,10401,"190^200",0.8,12000,500,15000,87,20,0.56000000000000005,300,0,80,0,0,0,5,0,"luobin",10401,"21^100",95,"t6007",3,1002,"t4502",100,"normalHit"]
[10412,"t2702",4,12,6,2,3712,2305,0,0,450,10401,"190^200",0.8,12000,500,15000,104,21,0.56000000000000005,300,0,80,0,0,0,5,0,"luobin",10401,"21^100",95,0,3,1002,"t4502",100,"normalHit"]
[10413,"t2702",4,13,6,2,4454,2766,0,0,450,10401,"190^200",0.8,12000,500,15000,124,22,0.56000000000000005,300,0,80,0,0,0,5,0,"luobin",10401,"21^100",95,0,3,1002,"t4502",100,"normalHit"]
[10414,"t2702",4,14,6,2,5344,3319,0,0,450,10401,"190^200",0.8,12000,500,15000,148,23,0.56000000000000005,300,0,80,0,0,0,5,0,"luobin",10401,"21^100",95,0,3,1002,"t4502",100,"normalHit"]
[10415,"t2702",4,15,6,2,6412,3982,0,0,450,10401,"190^200",0.8,12000,500,15000,177,24,0.56000000000000005,300,0,80,0,0,0,5,0,"luobin",10401,"21^100",95,0,3,1002,"t4502",100,"normalHit"]
[10416,"t2702",4,16,6,2,7694,4778,0,0,450,10401,"190^200",0.8,12000,500,15000,212,25,0.56000000000000005,300,0,80,0,0,0,5,0,"luobin",10401,"21^100",95,0,3,1002,"t4502",100,"normalHit"]
[10501,"t2703",3,1,1,1,351,131,0,0,100,0,0,0.65,10000,300,15000,20,10,0.37,300,0,150,"301^302","1^9999","1^9999",4,0,"xiaochou",10701,"21^100",90,0,2,1003,"t4503",100,"meleeHit","小丑"]
[10502,"t2703",3,2,2,1,{"$f":"FLOOR(G51*1.2,1)","v":421},{"$f":"FLOOR(H51*1.2,1)","v":157},0,0,100,0,0,0.65,10000,300,15000,24,11,0.37,300,0,150,"301^302","1^9999","1^9999",4,0,"xiaochou",10701,"21^100",90,"t6000",2,1003,"t4503",100,"meleeHit"]
[10503,"t2703",3,3,3,1,505,188,0,0,100,0,0,0.65,10000,300,15000,28,12,0.37,300,0,150,"301^302","1^9999","1^9999",4,0,"xiaochou",10701,"21^100",90,"t6000",2,1003,"t4503",100,"meleeHit"]
[10504,"t2703",3,4,4,1,{"$f":"FLOOR(G53*1.4,1)","v":707},{"$f":"FLOOR(H53*1.4,1)","v":263},0,0,100,0,0,0.65,10000,300,15000,33,13,0.37,300,0,150,"301^302^303","1^9999^0","1^9999^0",4,0,"xiaochou",10701,"21^100",90,"t6012",2,1003,"t4503",100,"meleeHit"]
[10505,"t2703",3,5,4,1,848,315,0,0,100,0,0,0.65,10000,300,15000,39,14,0.37,300,0,150,"301^302^303","1^9999^0","1^9999^0",4,0,"xiaochou",10701,"21^100",90,0,2,1003,"t4503",100,"meleeHit"]
[10506,"t2703",3,6,4,1,1017,378,0,0,100,0,0,0.65,10000,300,15000,46,15,0.37,300,0,150,"301^302^303","1^9999^0","1^9999^0",4,0,"xiaochou",10701,"21^100",90,0,2,1003,"t4503",100,"meleeHit"]
[10507,"t2703",3,7,5,1,{"$f":"FLOOR(G56*1.32,1)","v":1342},{"$f":"FLOOR(H56*1.32,1)","v":498},0,0,100,0,0,0.65,10000,300,17000,55,16,0.37,300,0,200,"301^302^303","1^9999^0","1^9999^0",4,0,"xiaochou",10701,"21^100",90,"t6112",2,1003,"t4503",100,"meleeHit"]
[10508,"t2703",3,8,5,1,1610,597,0,0,100,0,0,0.65,10000,300,17000,66,17,0.37,300,0,200,"301^302^303","1^9999^0","1^9999^0",4,0,"xiaochou",10701,"21^100",90,0,2,1003,"t4503",100,"meleeHit"]
[10509,"t2703",3,9,5,1,1932,716,0,0,100,0,0,0.65,10000,300,17000,79,18,0.37,300,0,200,"301^302^303","1^9999^0","1^9999^0",4,0,"xiaochou",10701,"21^100",90,0,2,1003,"t4503",100,"meleeHit"]
[10510,"t2703",3,10,5,1,2318,859,0,0,100,0,0,0.65,10000,300,17000,94,19,0.37,300,0,200,"301^302^303","1^9999^0","1^9999^0",4,0,"xiaochou",10701,"21^100",90,0,2,1003,"t4503",100,"meleeHit"]
[10511,"t2703",3,11,6,1,{"$f":"FLOOR(G60*1.32,1)","v":3059},{"$f":"FLOOR(H60*1.32,1)","v":1133},0,0,100,0,0,0.65,10000,300,17000,112,20,0.37,300,0,200,"301^302^303","1^9999^0","1^9999^0",4,0,"xiaochou",10701,"21^100",90,"t6007",2,1003,"t4503",100,"meleeHit"]
[10512,"t2703",3,12,6,1,3670,1359,0,0,100,0,0,0.65,10000,300,17000,134,21,0.37,300,0,200,"301^302^303","1^9999^0","1^9999^0",4,0,"xiaochou",10701,"21^100",90,0,2,1003,"t4503",100,"meleeHit"]
[10513,"t2703",3,13,6,1,4404,1630,0,0,100,0,0,0.65,10000,300,17000,160,22,0.37,300,0,200,"301^302^303","1^9999^0","1^9999^0",4,0,"xiaochou",10701,"21^100",90,0,2,1003,"t4503",100,"meleeHit"]
[10514,"t2703",3,14,6,1,5284,1956,0,0,100,0,0,0.65,10000,300,17000,192,23,0.37,300,0,200,"301^302^303","1^9999^0","1^9999^0",4,0,"xiaochou",10701,"21^100",90,0,2,1003,"t4503",100,"meleeHit"]
[10515,"t2703",3,15,6,1,6340,2347,0,0,100,0,0,0.65,10000,300,17000,230,24,0.37,300,0,200,"301^302^303","1^9999^0","1^9999^0",4,0,"xiaochou",10701,"21^100",90,0,2,1003,"t4503",100,"meleeHit"]
[10516,"t2703",3,16,6,1,7608,2816,0,0,100,0,0,0.65,10000,300,17000,276,25,0.37,300,0,200,"301^302^303","1^9999^0","1^9999^0",4,0,"xiaochou",10701,"21^100",90,0,2,1003,"t4503",100,"meleeHit"]
[10601,"t2704",3,1,1,1,288,148,0,0,100,0,0,0.75,10000,300,15000,20,10,0.4,300,4000,135,0,0,0,5,0,"heibao",10601,"22^100",100,0,2,1004,"t4504",100,"normalHit","特查拉"]
[10602,"t2704",3,2,2,1,{"$f":"FLOOR(G67*1.2,1)","v":345},177,0,0,100,0,0,0.75,10000,300,15000,24,11,0.4,300,4000,135,0,0,0,5,0,"heibao",10601,"22^100",100,"t6000",2,1004,"t4504",100,"normalHit"]
[10603,"t2704",3,3,3,1,414,212,0,0,100,0,0,0.75,10000,300,15000,{"$f":"FLOOR(R68*1.2,1)","v":28},12,0.4,300,4000,135,0,0,0,5,0,"heibao",10601,"22^100",100,"t6000",2,1004,"t4504",100,"normalHit"]
[10604,"t2704",3,4,4,1,{"$f":"FLOOR(G69*1.4,1)","v":579},{"$f":"FLOOR(H69*1.4,1)","v":296},0,0,100,0,0,0.75,10000,300,15000,33,13,0.4,300,4000,135,401,0,0,5,0,"heibao",10601,"22^100",100,"t6022",2,1004,"t4504",100,"normalHit"]
[10605,"t2704",3,5,4,1,694,355,0,0,100,0,0,0.75,10000,300,15000,39,14,0.4,300,4000,135,401,0,0,5,0,"heibao",10601,"22^100",100,0,2,1004,"t4504",100,"normalHit"]
[10606,"t2704",3,6,4,1,832,426,0,0,100,0,0,0.75,10000,300,15000,46,15,0.4,300,4000,135,401,0,0,5,0,"heibao",10601,"22^100",100,0,2,1004,"t4504",100,"normalHit"]
[10607,"t2704",3,7,5,1,{"$f":"FLOOR(G72*1.32,1)","v":1098},{"$f":"FLOOR(H72*1.44,1)","v":613},0,0,100,0,0,0.75,10000,300,15000,55,16,0.4,300,4000,135,401,0,0,5,0,"heibao",10601,"22^100",100,"t6008",2,1004,"t4504",100,"normalHit"]
[10608,"t2704",3,8,5,1,{"$f":"FLOOR(G73*1.2,1)","v":1317},735,0,0,100,0,0,0.75,10000,300,15000,66,17,0.4,300,4000,135,401,0,0,5,0,"heibao",10601,"22^100",100,0,2,1004,"t4504",100,"normalHit"]
[10609,"t2704",3,9,5,1,1580,{"$f":"FLOOR(H74*1.2,1)","v":882},0,0,100,0,0,0.75,10000,300,15000,79,18,0.4,300,4000,135,401,0,0,5,0,"heibao",10601,"22^100",100,0,2,1004,"t4504",100,"normalHit"]
[10610,"t2704",3,10,5,1,1896,1058,0,0,100,0,0,0.75,10000,300,15000,94,19,0.4,300,4000,135,401,0,0,5,0,"heibao",10601,"22^100",100,0,2,1004,"t4504",100,"normalHit"]
[10611,"t2704",3,11,6,1,{"$f":"FLOOR(G76*1.32,1)","v":2502},{"$f":"FLOOR(H76*1.32,1)","v":1396},0,0,100,0,0,0.75,10000,300,15000,112,20,0.4,300,4000,135,401,0,0,5,0,"heibao",10601,"22^100",100,"t6007",2,1004,"t4504",100,"normalHit"]
[10612,"t2704",3,12,6,1,3002,1675,0,0,100,0,0,0.75,10000,300,15000,134,21,0.4,300,4000,135,401,0,0,5,0,"heibao",10601,"22^100",100,0,2,1004,"t4504",100,"normalHit"]
[10613,"t2704",3,13,6,1,3602,2010,0,0,100,0,0,0.75,10000,300,15000,160,22,0.4,300,4000,135,401,0,0,5,0,"heibao",10601,"22^100",100,0,2,1004,"t4504",100,"normalHit"]
[10614,"t2704",3,14,6,1,4322,2412,0,0,100,0,0,0.75,10000,300,15000,192,23,0.4,300,4000,135,401,0,0,5,0,"heibao",10601,"22^100",100,0,2,1004,"t4504",100,"normalHit"]
[10615,"t2704",3,15,6,1,5186,2894,0,0,100,0,0,0.75,10000,300,15000,230,24,0.4,300,4000,135,401,0,0,5,0,"heibao",10601,"22^100",100,0,2,1004,"t4504",100,"normalHit"]
[10616,"t2704",3,16,6,1,6223,3472,0,0,100,0,0,0.75,10000,300,15000,276,25,0.4,300,4000,135,401,0,0,5,0,"heibao",10601,"22^100",100,0,2,1004,"t4504",100,"normalHit"]
[10701,"t2705",3,1,1,2,{"$f":"调试区!S83","v":605},{"$f":"调试区!T83","v":419},0,0,100,0,0,0.75,10000,300,15000,20,10,0.37,300,0,180,402,"0^0","0^0",8,0,"yuzhibo",10701,"23^100",110,0,3,1005,"t4505",100,"meleeHit","宇智波"]
[10702,"t2705",3,2,2,2,{"$f":"FLOOR(G83*1.2,1)","v":726},{"$f":"FLOOR(H83*1.2,1)","v":502},0,0,100,0,0,0.75,10000,300,15000,{"$f":"FLOOR(R83*1.2,1)","v":24},11,0.37,300,0,180,402,"0^0","0^0",7,0,"yuzhibo",10701,"23^100",110,"t6000",3,1005,"t4505",100,"meleeHit"]
[10703,"t2705",3,3,3,2,{"$f":"FLOOR(G84*1.2,1)","v":871},{"$f":"FLOOR(H84*1.2,1)","v":602},0,0,100,0,0,0.75,10000,300,15000,28,12,0.37,300,0,180,402,"0^0","0^0",7,0,"yuzhibo",10701,"23^100",110,"t6000",3,1005,"t4505",100,"meleeHit"]
[10704,"t2705",3,4,4,2,{"$f":"FLOOR(G85*1.54,1)","v":1341},{"$f":"FLOOR(H85*1.4,1)","v":842},0,0,100,0,0,0.75,10000,300,15000,33,13,0.37,300,0,180,402,"0^0","0^0",7,0,"yuzhibo",10701,"23^100",110,"t6129",3,1005,"t4505",100,"meleeHit"]
[10705,"t2705",3,5,4,2,{"$f":"FLOOR(G86*1.2,1)","v":1609},{"$f":"FLOOR(H86*1.2,1)","v":1010},0,0,100,0,0,0.75,10000,300,15000,39,14,0.37,300,0,180,402,"0^0","0^0",7,0,"yuzhibo",10701,"23^100",110,0,3,1005,"t4505",100,"meleeHit"]
[10706,"t2705",3,6,4,2,{"$f":"FLOOR(G87*1.2,1)","v":1930},{"$f":"FLOOR(H87*1.2,1)","v":1212},0,0,100,0,0,0.75,10000,300,15000,46,15,0.37,300,0,180,402,"0^0","0^0",7,0,"yuzhibo",10701,"23^100",110,0,3,1005,"t4505",100,"meleeHit"]
[10707,"t2705",3,7,5,2,{"$f":"FLOOR(G88*1.32,1)","v":2547},{"$f":"FLOOR(H88*1.32,1)","v":1599},0,0,100,0,0,0.75,10000,300,15000,55,16,0.37,300,0,180,"401^402","0^0","0^0",7,0,"yuzhibo",10701,"23^100",110,"t6128",3,1005,"t4505",100,"meleeHit"]
[10708,"t2705",3,8,5,2,{"$f":"FLOOR(G89*1.2,1)","v":3056},{"$f":"FLOOR(H89*1.2,1)","v":1918},0,0,100,0,0,0.75,10000,300,15000,66,17,0.37,300,0,180,"401^402","0^0","0^0",7,0,"yuzhibo",10701,"23^100",110,0,3,1005,"t4505",100,"meleeHit"]
[10709,"t2705",3,9,5,2,3667,{"$f":"FLOOR(H90*1.2,1)","v":2301},0,0,100,0,0,0.75,10000,300,15000,79,18,0.37,300,0,180,"401^402","0^0","0^0",7,0,"yuzhibo",10701,"23^100",110,0,3,1005,"t4505",100,"meleeHit"]
[10710,"t2705",3,10,5,2,4400,{"$f":"FLOOR(H91*1.2,1)","v":2761},0,0,100,0,0,0.75,10000,300,15000,94,19,0.37,300,0,180,"401^402","0^0","0^0",7,0,"yuzhibo",10701,"23^100",110,0,3,1005,"t4505",100,"meleeHit"]
[10711,"t2705",3,11,6,2,{"$f":"FLOOR(G92*1.32,1)","v":5808},{"$f":"FLOOR(H92*1.32,1)","v":3644},0,0,100,0,0,0.75,10000,300,15000,112,20,0.37,300,0,180,"401^402","0^0","0^0",7,0,"yuzhibo",10701,"23^100",110,"t6007",3,1005,"t4505",100,"meleeHit"]
[10712,"t2705",3,12,6,2,6969,{"$f":"FLOOR(H93*1.2,1)","v":4372},0,0,100,0,0,0.75,10000,300,15000,134,21,0.37,300,0,180,"401^402","0^0","0^0",7,0,"yuzhibo",10701,"23^100",110,0,3,1005,"t4505",100,"meleeHit"]
[10713,"t2705",3,13,6,2,8362,{"$f":"FLOOR(H94*1.2,1)","v":5246},0,0,100,0,0,0.75,10000,300,15000,160,22,0.37,300,0,180,"401^402","0^0","0^0",7,0,"yuzhibo",10701,"23^100",110,0,3,1005,"t4505",100,"meleeHit"]
[10714,"t2705",3,14,6,2,10034,{"$f":"FLOOR(H95*1.2,1)","v":6295},0,0,100,0,0,0.75,10000,300,15000,192,23,0.37,300,0,180,"401^402","0^0","0^0",7,0,"yuzhibo",10701,"23^100",110,0,3,1005,"t4505",100,"meleeHit"]
[10715,"t2705",3,15,6,2,12040,{"$f":"FLOOR(H96*1.2,1)","v":7554},0,0,100,0,0,0.75,10000,300,15000,230,24,0.37,300,0,180,"401^402","0^0","0^0",7,0,"yuzhibo",10701,"23^100",110,0,3,1005,"t4505",100,"meleeHit"]
[10716,"t2705",3,16,6,2,14448,{"$f":"FLOOR(H97*1.2,1)","v":9064},0,0,100,0,0,0.75,10000,300,15000,276,25,0.37,300,0,70,"401^402","0^0","0^0",7,0,"yuzhibo",10701,"23^100",110,0,3,1005,"t4505",100,"meleeHit"]
[10801,"t2706",2,1,1,1,230,0,82,0,350,10801,"-50^260",1,10000,300,15000,16,10,0.33,300,0,70,501,15,5,6,0,"alading",0,"25^100",100,0,3,1006,"t4506",100,"magicHit","阿拉丁"]
[10802,"t2706",2,2,2,1,{"$f":"FLOOR(G99*1.2,1)","v":276},0,{"$f":"FLOOR(I99*1.2,1)","v":98},0,350,10801,"-50^260",1,10000,300,15000,{"$f":"FLOOR(R99*1.2,1)","v":19},12,0.33,300,0,70,501,15,5,6,0,"alading",0,"25^100",100,"t6000",3,1006,"t4506",100,"magicHit"]
[10803,"t2706",2,3,3,1,331,0,{"$f":"FLOOR(I100*1.2,1)","v":117},0,350,10801,"-50^260",1,10000,300,15000,22,14,0.33,300,0,70,501,15,5,6,0,"alading",0,"25^100",100,"t6000",3,1006,"t4506",100,"magicHit"]
[10804,"t2706",2,4,4,1,{"$f":"FLOOR(G101*1.4,1)","v":463},0,{"$f":"FLOOR(I101*1.4,1)","v":163},0,350,10801,"-50^260",1,10000,300,15000,26,16,0.33,300,0,70,"501^511","15^20","5^5",6,0,"alading",0,"25^100",100,"t6014",3,1006,"t4506",100,"magicHit"]
[10805,"t2706",2,5,4,1,555,0,{"$f":"FLOOR(I102*1.2,1)","v":195},0,350,10801,"-50^260",1,10000,300,15000,31,19,0.33,300,0,70,"501^511","15^20","5^5",6,0,"alading",0,"25^100",100,0,3,1006,"t4506",100,"magicHit"]
[10806,"t2706",2,6,4,1,666,0,{"$f":"FLOOR(I103*1.2,1)","v":234},0,350,10801,"-50^260",1,10000,300,15000,37,22,0.33,300,0,70,"501^511","15^20","5^5",6,0,"alading",0,"25^100",100,0,3,1006,"t4506",100,"magicHit"]
[10807,"t2706",2,7,5,1,{"$f":"FLOOR(G104*1.32,1)","v":879},0,{"$f":"FLOOR(I104*1.32,1)","v":308},0,350,10801,"-50^260",1,10000,300,15000,44,26,0.33,300,0,70,"502^511","15^20","5^5",6,0,"alading",0,"25^100",100,"t6114",3,1006,"t4506",100,"magicHit"]
[10808,"t2706",2,8,5,1,1054,0,{"$f":"FLOOR(I105*1.2,1)","v":369},0,350,10801,"-50^260",1,10000,300,15000,52,28,0.33,300,0,70,"502^511","15^20","5^5",6,0,"alading",0,"25^100",100,0,3,1006,"t4506",100,"magicHit"]
[10809,"t2706",2,9,5,1,1264,0,{"$f":"FLOOR(I106*1.2,1)","v":442},0,350,10801,"-50^260",1,10000,300,15000,62,30,0.33,300,0,70,"502^511","15^20","5^5",6,0,"alading",0,"25^100",100,0,3,1006,"t4506",100,"magicHit"]
[10810,"t2706",2,10,5,1,1516,0,{"$f":"FLOOR(I107*1.2,1)","v":530},0,350,10801,"-50^260",1,10000,300,15000,74,33,0.33,300,0,70,"502^511","15^20","5^5",6,0,"alading",0,"25^100",100,0,3,1006,"t4506",100,"magicHit"]
[10811,"t2706",2,11,6,1,{"$f":"FLOOR(G108*1.32,1)","v":2001},{"$f":"FLOOR(H108*1.32,1)","v":0},{"$f":"FLOOR(I108*1.32,1)","v":699},0,350,10801,"-50^260",1,10000,300,15000,88,36,0.33,300,0,70,"502^511","15^20","5^5",6,0,"alading",0,"25^100",100,"t6007",3,1006,"t4506",100,"magicHit"]
[10812,"t2706",2,12,6,1,2401,0,{"$f":"FLOOR(I109*1.2,1)","v":838},0,350,10801,"-50^260",1,10000,300,15000,105,39,0.33,300,0,70,"502^511","15^20","5^5",6,0,"alading",0,"25^100",100,0,3,1006,"t4506",100,"magicHit"]
[10813,"t2706",2,13,6,1,2881,0,{"$f":"FLOOR(I110*1.2,1)","v":1005},0,350,10801,"-50^260",1,10000,300,15000,126,42,0.33,300,0,70,"502^511","15^20","5^5",6,0,"alading",0,"25^100",100,0,3,1006,"t4506",100,"magicHit"]
[10814,"t2706",2,14,6,1,3457,0,{"$f":"FLOOR(I111*1.2,1)","v":1206},0,350,10801,"-50^260",1,10000,300,15000,151,46,0.33,300,0,70,"502^511","15^20","5^5",6,0,"alading",0,"25^100",100,0,3,1006,"t4506",100,"magicHit"]
[10815,"t2706",2,15,6,1,4148,0,{"$f":"FLOOR(I112*1.2,1)","v":1447},0,350,10801,"-50^260",1,10000,300,15000,181,50,0.33,300,0,70,"502^511","15^20","5^5",6,0,"alading",0,"25^100",100,0,3,1006,"t4506",100,"magicHit"]
[10816,"t2706",2,16,6,1,4977,0,{"$f":"FLOOR(I113*1.2,1)","v":1736},0,350,10801,"-50^260",1,10000,300,15000,217,55,0.33,300,0,70,"502^511","15^20","5^5",6,0,"alading",0,"25^100",100,0,3,1006,"t4506",100,"magicHit"]
[10901,"t2707",2,1,1,1,161,0,198,0,350,10901,"194^302",1.2,10000,200,15000,16,10,0.33,300,0,80,601,25,5,7,0,"fudimo",0,"21^100",80,0,3,1007,"t4507",100,"magicHit","黑魔王"]
[10902,"t2707",2,2,2,1,{"$f":"FLOOR(G115*1.2,1)","v":193},0,{"$f":"FLOOR(I115*1.2,1)","v":237},0,350,10901,"194^302",1.2,10000,200,15000,{"$f":"FLOOR(R115*1.2,1)","v":19},12,0.33,300,0,80,601,25,5,7,0,"fudimo",0,"21^100",80,"t6000",3,1007,"t4507",100,"magicHit"]
[10903,"t2707",2,3,3,1,231,0,284,0,350,10901,"194^302",1.2,10000,200,15000,22,14,0.33,300,0,80,601,25,5,7,0,"fudimo",0,"21^100",80,"t6000",3,1007,"t4507",100,"magicHit"]
[10904,"t2707",2,4,4,1,{"$f":"FLOOR(G117*1.4,1)","v":323},0,{"$f":"FLOOR(I117*1.4,1)","v":397},0,350,10901,"194^302",1.2,10000,200,15000,26,16,0.33,300,0,80,601,20,5,7,0,"fudimo",0,"21^100",80,"t6015",3,1007,"t4507",100,"magicHit"]
[10905,"t2707",2,5,4,1,387,0,476,0,350,10901,"194^302",1.2,10000,200,15000,31,19,0.33,300,0,80,601,20,5,7,0,"fudimo",0,"21^100",80,0,3,1007,"t4507",100,"magicHit"]
[10906,"t2707",2,6,4,1,464,0,571,0,350,10901,"194^302",1.2,10000,200,15000,37,22,0.33,300,0,80,601,20,5,7,0,"fudimo",0,"21^100",80,0,3,1007,"t4507",100,"magicHit"]
[10907,"t2707",2,7,5,1,{"$f":"FLOOR(G120*1.32,1)","v":612},0,{"$f":"FLOOR(I120*1.32,1)","v":753},0,350,10901,"194^302",1.2,10000,200,15000,44,26,0.33,300,0,80,602,20,5,7,0,"fudimo",0,"21^100",80,"t6115",3,1007,"t4507",100,"magicHit"]
[10908,"t2707",2,8,5,1,734,0,903,0,350,10901,"194^302",1.2,10000,200,15000,52,28,0.33,300,0,80,602,20,5,7,0,"fudimo",0,"21^100",80,0,3,1007,"t4507",100,"magicHit"]
[10909,"t2707",2,9,5,1,880,0,1083,0,350,10901,"194^302",1.2,10000,200,15000,62,30,0.33,300,0,80,602,20,5,7,0,"fudimo",0,"21^100",80,0,3,1007,"t4507",100,"magicHit"]
[10910,"t2707",2,10,5,1,1056,0,1299,0,350,10901,"194^302",1.2,10000,200,15000,74,33,0.33,300,0,80,602,20,5,7,0,"fudimo",0,"21^100",80,0,3,1007,"t4507",100,"magicHit"]
[10911,"t2707",2,11,6,1,{"$f":"FLOOR(G124*1.32,1)","v":1393},{"$f":"FLOOR(H124*1.32,1)","v":0},{"$f":"FLOOR(I124*1.32,1)","v":1714},0,350,10901,"194^302",1.2,10000,200,15000,88,36,0.33,300,0,80,602,20,5,7,0,"fudimo",0,"21^100",80,"t6007",3,1007,"t4507",100,"magicHit"]
[10912,"t2707",2,12,6,1,1671,0,2056,0,350,10901,"194^302",1.2,10000,200,15000,105,39,0.33,300,0,80,602,20,5,7,0,"fudimo",0,"21^100",80,0,3,1007,"t4507",100,"magicHit"]
[10913,"t2707",2,13,6,1,2005,0,2467,0,350,10901,"194^302",1.2,10000,200,15000,126,42,0.33,300,0,80,602,20,5,7,0,"fudimo",0,"21^100",80,0,3,1007,"t4507",100,"magicHit"]
[10914,"t2707",2,14,6,1,2406,0,2960,0,350,10901,"194^302",1.2,10000,200,15000,151,46,0.33,300,0,80,602,20,5,7,0,"fudimo",0,"21^100",80,0,3,1007,"t4507",100,"magicHit"]
[10915,"t2707",2,15,6,1,2887,0,3552,0,350,10901,"194^302",1.2,10000,200,15000,181,50,0.33,300,0,80,602,20,5,7,0,"fudimo",0,"21^100",80,0,3,1007,"t4507",100,"magicHit"]
[10916,"t2707",2,16,6,1,3464,0,4262,0,350,10901,"194^302",1.2,10000,200,15000,217,55,0.33,300,0,80,602,20,5,7,0,"fudimo",0,"21^100",80,0,3,1007,"t4507",100,"magicHit"]
[11001,"t2708",2,1,1,1,165,0,66,0,350,11001,"75^275",1.2,10000,200,15000,16,10,0.4,300,0,90,701,15,5,5,0,"mushi",0,"21^100",95,0,3,1008,"t4508",100,"magicHit","萨莉"]
[11002,"t2708",2,2,2,1,{"$f":"FLOOR(G131*1.2,1)","v":198},0,{"$f":"FLOOR(I131*1.2,1)","v":79},0,350,11001,"75^275",1.2,10000,200,15000,{"$f":"FLOOR(R131*1.2,1)","v":19},12,0.4,300,0,90,701,15,5,5,0,"mushi",0,"21^100",95,"t6000",3,1008,"t4508",100,"magicHit"]
[11003,"t2708",2,3,3,1,237,0,94,0,350,11001,"75^275",1.2,10000,200,15000,22,14,0.4,300,0,90,701,15,5,5,0,"mushi",0,"21^100",95,"t6000",3,1008,"t4508",100,"magicHit"]
[11004,"t2708",2,4,4,1,{"$f":"FLOOR(G133*1.4,1)","v":331},0,{"$f":"FLOOR(I133*1.4,1)","v":131},0,350,11001,"75^275",1.2,10000,200,15000,26,16,0.4,300,0,90,702,15,5,5,0,"mushi",0,"21^100",95,"t6016",3,1008,"t4508",100,"magicHit"]
[11005,"t2708",2,5,4,1,397,0,157,0,350,11001,"75^275",1.2,10000,200,15000,31,19,0.4,300,0,90,702,15,5,5,0,"mushi",0,"21^100",95,0,3,1008,"t4508",100,"magicHit"]
[11006,"t2708",2,6,4,1,476,0,188,0,350,11001,"75^275",1.2,10000,200,15000,37,22,0.4,300,0,90,702,15,5,5,0,"mushi",0,"21^100",95,0,3,1008,"t4508",100,"magicHit"]
[11007,"t2708",2,7,5,1,{"$f":"FLOOR(G136*1.32,1)","v":628},0,{"$f":"FLOOR(I136*1.32,1)","v":248},0,350,11001,"75^275",1.2,10000,200,15000,44,26,0.4,300,0,90,702,10,5,5,0,"mushi",0,"21^100",95,"t6116",3,1008,"t4508",100,"magicHit"]
[11008,"t2708",2,8,5,1,753,0,297,0,350,11001,"75^275",1.2,10000,200,15000,52,28,0.4,300,0,90,702,10,5,5,0,"mushi",0,"21^100",95,0,3,1008,"t4508",100,"magicHit"]
[11009,"t2708",2,9,5,1,903,0,356,0,350,11001,"75^275",1.2,10000,200,15000,62,30,0.4,300,0,90,702,10,5,5,0,"mushi",0,"21^100",95,0,3,1008,"t4508",100,"magicHit"]
[11010,"t2708",2,10,5,1,1083,0,427,0,350,11001,"75^275",1.2,10000,200,15000,74,33,0.4,300,0,90,702,10,5,5,0,"mushi",0,"21^100",95,0,3,1008,"t4508",100,"magicHit"]
[11011,"t2708",2,11,6,1,{"$f":"FLOOR(G140*1.32,1)","v":1429},{"$f":"FLOOR(H140*1.32,1)","v":0},{"$f":"FLOOR(I140*1.32,1)","v":563},0,350,11001,"75^275",1.2,10000,200,15000,88,36,0.4,300,0,90,702,10,5,5,0,"mushi",0,"21^100",95,"t6007",3,1008,"t4508",100,"magicHit"]
[11012,"t2708",2,12,6,1,1714,0,675,0,350,11001,"75^275",1.2,10000,200,15000,105,39,0.4,300,0,90,702,10,5,5,0,"mushi",0,"21^100",95,0,3,1008,"t4508",100,"magicHit"]
[11013,"t2708",2,13,6,1,2056,0,810,0,350,11001,"75^275",1.2,10000,200,15000,126,42,0.4,300,0,90,702,10,5,5,0,"mushi",0,"21^100",95,0,3,1008,"t4508",100,"magicHit"]
[11014,"t2708",2,14,6,1,2467,0,972,0,350,11001,"75^275",1.2,10000,200,15000,151,46,0.4,300,0,90,702,10,5,5,0,"mushi",0,"21^100",95,0,3,1008,"t4508",100,"magicHit"]
[11015,"t2708",2,15,6,1,2960,0,1166,0,350,11001,"75^275",1.2,10000,200,15000,181,50,0.4,300,0,90,702,10,5,5,0,"mushi",0,"21^100",95,0,3,1008,"t4508",100,"magicHit"]
[11016,"t2708",2,16,6,1,3552,0,1399,0,350,11001,"75^275",1.2,10000,200,15000,217,55,0.4,300,0,90,702,10,5,5,0,"mushi",0,"21^100",95,0,3,1008,"t4508",100,"magicHit"]
[11101,"t2709",1,1,1,1,669,89,0,0,100,0,0,1,10000,300,15000,30,10,0.28999999999999998,300,0,105,801,20,5,4,0,"chenguohan",11601,"25^100",100,0,2,1009,"t4509",100,"normalHit","巨汉"]
[11102,"t2709",1,2,2,1,{"$f":"FLOOR(G147*1.2,1)","v":802},{"$f":"FLOOR(H147*1.2,1)","v":106},0,0,100,0,0,1,10000,300,15000,{"$f":"FLOOR(R147*1.2,1)","v":36},12,0.28999999999999998,300,0,105,801,20,5,4,0,"chenguohan",11601,"25^100",100,"t6000",2,1009,"t4509",100,"normalHit"]
[11103,"t2709",1,3,3,1,962,127,0,0,100,0,0,1,10000,300,15000,43,14,0.28999999999999998,300,0,105,801,20,5,4,0,"chenguohan",11601,"25^100",100,"t6000",2,1009,"t4509",100,"normalHit"]
[11104,"t2709",1,4,4,1,{"$f":"FLOOR(G149*1.4,1)","v":1346},{"$f":"FLOOR(H149*1.4,1)","v":177},0,0,100,0,0,1,10000,300,15000,{"$f":"FLOOR(R149*1.32,1)","v":56},{"$f":"FLOOR(S149*1.32,1)","v":18},0.28999999999999998,300,0,105,801,20,5,4,0,"chenguohan",11601,"25^100",100,"t6017",2,1009,"t4509",100,"normalHit"]
[11105,"t2709",1,5,4,1,1615,212,0,0,100,0,0,1,10000,300,15000,67,21,0.28999999999999998,300,0,105,801,20,5,4,0,"chenguohan",11601,"25^100",100,0,2,1009,"t4509",100,"normalHit"]
[11106,"t2709",1,6,4,1,1938,254,0,0,100,0,0,1,10000,300,15000,80,25,0.28999999999999998,300,0,105,801,20,5,4,0,"chenguohan",11601,"25^100",100,0,2,1009,"t4509",100,"normalHit"]
[11107,"t2709",1,7,5,1,{"$f":"FLOOR(G152*1.44,1)","v":2790},{"$f":"FLOOR(H152*1.32,1)","v":335},0,0,100,0,0,1,10000,300,15000,96,30,0.28999999999999998,300,0,105,801,20,5,4,0,"chenguohan",11601,"25^100",100,"t6009",2,1009,"t4509",100,"normalHit"]
[11108,"t2709",1,8,5,1,3348,402,0,0,100,0,0,1,10000,300,15000,115,36,0.28999999999999998,300,0,105,801,20,5,4,0,"chenguohan",11601,"25^100",100,0,2,1009,"t4509",100,"normalHit"]
[11109,"t2709",1,9,5,1,4017,482,0,0,100,0,0,1,10000,300,15000,138,43,0.28999999999999998,300,0,105,801,20,5,4,0,"chenguohan",11601,"25^100",100,0,2,1009,"t4509",100,"normalHit"]
[11110,"t2709",1,10,5,1,4820,578,{"$f":"FLOOR(I155*1.32,1)","v":0},0,100,0,0,1,10000,300,15000,165,51,0.28999999999999998,300,0,105,801,20,5,4,0,"chenguohan",11601,"25^100",100,0,2,1009,"t4509",100,"normalHit"]
[11111,"t2709",1,11,6,1,{"$f":"FLOOR(G156*1.32,1)","v":6362},{"$f":"FLOOR(H156*1.32,1)","v":762},0,0,100,0,0,1,10000,300,15000,198,61,0.28999999999999998,300,0,105,801,20,5,4,0,"chenguohan",11601,"25^100",100,"t6007",2,1009,"t4509",100,"normalHit"]
[11112,"t2709",1,12,6,1,7634,914,0,0,100,0,0,1,10000,300,15000,237,73,0.28999999999999998,300,0,105,801,20,5,4,0,"chenguohan",11601,"25^100",100,0,2,1009,"t4509",100,"normalHit"]
[11113,"t2709",1,13,6,1,9160,1096,0,0,100,0,0,1,10000,300,15000,284,87,0.28999999999999998,300,0,105,801,20,5,4,0,"chenguohan",11601,"25^100",100,0,2,1009,"t4509",100,"normalHit"]
[11114,"t2709",1,14,6,1,10992,1315,0,0,100,0,0,1,10000,300,15000,340,104,0.28999999999999998,300,0,105,801,20,5,4,0,"chenguohan",11601,"25^100",100,0,2,1009,"t4509",100,"normalHit"]
[11115,"t2709",1,15,6,1,13190,1578,0,0,100,0,0,1,10000,300,15000,408,124,0.28999999999999998,300,0,105,801,20,5,4,0,"chenguohan",11601,"25^100",100,0,2,1009,"t4509",100,"normalHit"]
[11116,"t2709",1,16,6,1,15828,1893,0,0,100,0,0,1,10000,300,15000,489,148,0.28999999999999998,300,0,105,801,20,5,4,0,"chenguohan",11601,"25^100",100,0,2,1009,"t4509",100,"normalHit"]
[11201,"t2710",3,1,1,2,{"$f":"调试区!S163","v":1224},{"$f":"调试区!T163","v":278},0,0,100,0,0,0.8,10000,200,15000,30,10,0.45,300,0,150,901,0,0,7,0,"tianshi",11701,"36^100",144,0,5,1010,"t4510",100,"meleeHit","奥利尔"]
[11202,"t2710",3,2,2,2,{"$f":"FLOOR(G163*1.2,1)","v":1468},{"$f":"FLOOR(H163*1.2,1)","v":333},0,0,100,0,0,0.8,10000,200,15000,{"$f":"FLOOR(R163*1.2,1)","v":36},12,0.45,300,0,150,901,0,0,7,0,"tianshi",11701,"36^100",144,"t6000",5,1010,"t4510",100,"meleeHit"]
[11203,"t2710",3,3,3,2,1761,399,0,0,100,0,0,0.8,10000,200,15000,43,14,0.45,300,0,150,901,0,0,7,0,"tianshi",11701,"36^100",144,"t6001",5,1010,"t4510",100,"meleeHit"]
[11204,"t2710",3,4,4,2,{"$f":"FLOOR(G165*1.4,1)","v":2465},{"$f":"FLOOR(H165*1.4,1)","v":558},0,0,100,0,0,0.8,12000,200,15000,51,16,0.45,300,0,150,901,0,0,7,0,"tianshi",11701,"36^100",144,"t6019",5,1010,"t4510",100,"meleeHit"]
[11205,"t2710",3,5,4,2,2958,669,0,0,100,0,0,0.8,12000,200,15000,61,18,0.45,300,0,150,901,0,0,7,0,"tianshi",11701,"36^100",144,0,5,1010,"t4510",100,"meleeHit"]
[11206,"t2710",3,6,4,2,3549,802,0,0,100,0,0,0.8,12000,200,15000,73,20,0.45,300,0,150,901,0,0,7,0,"tianshi",11701,"36^100",144,0,5,1010,"t4510",100,"meleeHit"]
[11207,"t2710",3,7,5,2,{"$f":"FLOOR(G168*1.32,1)","v":4684},{"$f":"FLOOR(H168*1.32,1)","v":1058},0,0,100,0,0,0.8,12000,200,15000,87,22,0.45,300,0,150,"901^902","0^0","0^0",7,0,"tianshi",11701,"36^100",144,"t6119",5,1010,"t4510",100,"meleeHit"]
[11208,"t2710",3,8,5,2,5620,1269,0,0,100,0,0,0.8,12000,200,15000,104,24,0.45,300,0,150,"901^902","0^0","0^0",7,0,"tianshi",11701,"36^100",144,0,5,1010,"t4510",100,"meleeHit"]
[11209,"t2710",3,9,5,2,6744,1522,0,0,100,0,0,0.8,12000,200,15000,124,26,0.45,300,0,150,"901^902","0^0","0^0",7,0,"tianshi",11701,"36^100",144,0,5,1010,"t4510",100,"meleeHit"]
[11210,"t2710",3,10,5,2,8092,1826,{"$f":"FLOOR(I171*1.32,1)","v":0},0,100,0,0,0.8,12000,200,15000,148,28,0.45,300,0,150,"901^902","0^0","0^0",7,0,"tianshi",11701,"36^100",144,0,5,1010,"t4510",100,"meleeHit"]
[11211,"t2710",3,11,6,2,{"$f":"FLOOR(G172*1.32,1)","v":10681},{"$f":"FLOOR(H172*1.32,1)","v":2410},0,0,100,0,0,0.8,12000,200,15000,177,30,0.45,300,0,150,"901^902","0^0","0^0",7,0,"tianshi",11701,"36^100",144,"t6007",5,1010,"t4510",100,"meleeHit"]
[11212,"t2710",3,12,6,2,12817,2892,0,0,100,0,0,0.8,12000,200,15000,212,32,0.45,300,0,150,"901^902","0^0","0^0",7,0,"tianshi",11701,"36^100",144,0,5,1010,"t4510",100,"meleeHit"]
[11213,"t2710",3,13,6,2,15380,3470,0,0,100,0,0,0.8,12000,200,15000,254,34,0.45,300,0,150,"901^902","0^0","0^0",7,0,"tianshi",11701,"36^100",144,0,5,1010,"t4510",100,"meleeHit"]
[11214,"t2710",3,14,6,2,18456,4164,0,0,100,0,0,0.8,12000,200,15000,304,36,0.45,300,0,150,"901^902","0^0","0^0",7,0,"tianshi",11701,"36^100",144,0,5,1010,"t4510",100,"meleeHit"]
[11215,"t2710",3,15,6,2,22147,4996,0,0,100,0,0,0.8,12000,200,15000,364,38,0.45,300,0,150,"901^902","0^0","0^0",7,0,"tianshi",11701,"36^100",144,0,5,1010,"t4510",100,"meleeHit"]
[11216,"t2710",3,16,6,2,26576,5995,0,0,100,0,0,0.8,12000,200,15000,436,40,0.45,300,0,150,"901^902","0^0","0^0",7,0,"tianshi",11701,"36^100",144,0,5,1010,"t4510",100,"meleeHit"]
[11301,"t2711",2,1,1,1,220,0,44,0,350,11301,"-100^335",1.2,10000,100,15000,16,10,0.33,300,0,85,1001,15,5,5,0,"saman",0,"22^100",100,0,5,1011,"t4511",100,"magicHit","玛法里奥"]
[11302,"t2711",2,2,2,1,{"$f":"FLOOR(G179*1.2,1)","v":264},0,{"$f":"FLOOR(I179*1.2,1)","v":52},0,350,11301,"-100^335",1.2,10000,100,15000,{"$f":"FLOOR(R179*1.2,1)","v":19},12,0.33,300,0,85,1001,15,5,5,0,"saman",0,"22^100",100,"t6000",5,1011,"t4511",100,"magicHit"]
[11303,"t2711",2,3,3,1,{"$f":"FLOOR(G180*1.2,1)","v":316},0,62,0,350,11301,"-100^335",1.2,10000,100,15000,22,14,0.33,300,0,85,1001,15,5,5,0,"saman",0,"22^100",100,"t6000",5,1011,"t4511",100,"magicHit"]
[11304,"t2711",2,4,4,1,{"$f":"FLOOR(G181*1.61,1)","v":508},0,{"$f":"FLOOR(I181*1.4,1)","v":86},0,350,11301,"-100^335",1.2,10000,100,15000,26,16,0.33,300,0,85,1001,15,5,5,0,"saman",0,"22^100",100,"t6132",5,1011,"t4511",100,"magicHit"]
[11305,"t2711",2,5,4,1,{"$f":"FLOOR(G182*1.2,1)","v":609},0,103,0,350,11301,"-100^335",1.2,10000,100,15000,31,19,0.33,300,0,85,1001,15,5,5,0,"saman",0,"22^100",100,0,5,1011,"t4511",100,"magicHit"]
[11306,"t2711",2,6,4,1,730,0,123,0,350,11301,"-100^335",1.2,10000,100,15000,37,22,0.33,300,0,85,1001,15,5,5,0,"saman",0,"22^100",100,0,5,1011,"t4511",100,"magicHit"]
[11307,"t2711",2,7,5,1,{"$f":"FLOOR(G184*1.32,1)","v":963},0,{"$f":"FLOOR(I184*1.32,1)","v":162},0,350,11301,"-100^335",1.2,10000,100,15000,44,26,0.33,300,0,85,"1001^1002","15^30","5^5",5,0,"saman",0,"22^100",100,"t6124",5,1011,"t4511",100,"magicHit"]
[11308,"t2711",2,8,5,1,1155,0,194,0,350,11301,"-100^335",1.2,10000,100,15000,52,28,0.33,300,0,85,"1001^1002","15^30","5^5",5,0,"saman",0,"22^100",100,0,5,1011,"t4511",100,"magicHit"]
[11309,"t2711",2,9,5,1,1386,0,232,0,350,11301,"-100^335",1.2,10000,100,15000,62,30,0.33,300,0,85,"1001^1002","15^30","5^5",5,0,"saman",0,"22^100",100,0,5,1011,"t4511",100,"magicHit"]
[11310,"t2711",2,10,5,1,1663,0,278,0,350,11301,"-100^335",1.2,10000,100,15000,74,33,0.33,300,0,85,"1001^1002","15^30","5^5",5,0,"saman",0,"22^100",100,0,5,1011,"t4511",100,"magicHit"]
[11311,"t2711",2,11,6,1,{"$f":"FLOOR(G188*1.32,1)","v":2195},{"$f":"FLOOR(H188*1.32,1)","v":0},{"$f":"FLOOR(I188*1.32,1)","v":366},0,350,11301,"-100^335",1.2,10000,100,15000,88,36,0.33,300,0,85,"1001^1002","15^30","5^5",5,0,"saman",0,"22^100",100,"t6007",5,1011,"t4511",100,"magicHit"]
[11312,"t2711",2,12,6,1,2634,0,439,0,350,11301,"-100^335",1.2,10000,100,15000,105,39,0.33,300,0,85,"1001^1002","15^30","5^5",5,0,"saman",0,"22^100",100,0,5,1011,"t4511",100,"magicHit"]
[11313,"t2711",2,13,6,1,3160,0,526,0,350,11301,"-100^335",1.2,10000,100,15000,126,42,0.33,300,0,85,"1001^1002","15^30","5^5",5,0,"saman",0,"22^100",100,0,5,1011,"t4511",100,"magicHit"]
[11314,"t2711",2,14,6,1,3792,0,631,0,350,11301,"-100^335",1.2,10000,100,15000,151,46,0.33,300,0,85,"1001^1002","15^30","5^5",5,0,"saman",0,"22^100",100,0,5,1011,"t4511",100,"magicHit"]
[11315,"t2711",2,15,6,1,4550,0,757,0,350,11301,"-100^335",1.2,10000,100,15000,181,50,0.33,300,0,85,"1001^1002","15^30","5^5",5,0,"saman",0,"22^100",100,0,5,1011,"t4511",100,"magicHit"]
[11316,"t2711",2,16,6,1,5460,0,908,0,350,11301,"-100^335",1.2,10000,100,15000,217,55,0.33,300,0,85,"1001^1002","15^30","5^5",5,0,"saman",0,"22^100",100,0,5,1011,"t4511",100,"magicHit"]
[11401,"图腾",0,0,0,3,5000,0,0,0,1100,0,0,9999,999900,0,0,10000,10000,9999,0,0,0,1101,0,0,0,10,"tuteng",0,"20^100",100,0,0,1,0,100,0,"图腾"]
[11501,"t2712",4,1,1,1,220,110,0,0,450,11501,"207^188",1,10000,500,15000,15,10,0.36,300,0,150,0,0,0,5,0,"yuelunche",11701,"20^100",95,0,5,1012,"t4512",100,"normalHit","露娜"]
[11502,"t2712",4,2,2,1,{"$f":"FLOOR(G196*1.2,1)","v":264},{"$f":"FLOOR(H196*1.2,1)","v":132},0,0,450,11501,"207^188",1,10000,500,15000,{"$f":"FLOOR(R196*1.2,1)","v":18},11,0.36,300,0,150,0,0,0,5,0,"yuelunche",11701,"20^100",95,"t6000",5,1012,"t4512",100,"normalHit"]
[11503,"t2712",4,3,3,1,{"$f":"FLOOR(G197*1.2,1)","v":316},{"$f":"FLOOR(H197*1.2,1)","v":158},0,0,450,11501,"207^188",1,10000,500,15000,21,12,0.36,300,0,150,0,0,0,5,0,"yuelunche",11701,"20^100",95,"t6000",5,1012,"t4512",100,"normalHit"]
[11504,"t2712",4,4,4,1,{"$f":"FLOOR(G198*1.4,1)","v":442},{"$f":"FLOOR(H198*1.54,1)","v":243},0,0,450,11501,"207^188",1,10000,500,15000,25,13,0.36,300,0,150,0,0,0,5,0,"yuelunche",11701,"20^100",95,"t6130",5,1012,"t4512",100,"normalHit"]
[11505,"t2712",4,5,4,1,{"$f":"FLOOR(G199*1.2,1)","v":530},291,0,0,450,11501,"207^188",1,10000,500,15000,30,14,0.36,300,0,150,0,0,0,5,0,"yuelunche",11701,"20^100",95,0,5,1012,"t4512",100,"normalHit"]
[11506,"t2712",4,6,4,1,636,349,0,0,450,11501,"207^188",1,10000,500,15000,36,15,0.36,300,0,150,0,0,0,5,0,"yuelunche",11701,"20^100",95,0,5,1012,"t4512",100,"normalHit"]
[11507,"t2712",4,7,5,1,{"$f":"FLOOR(G201*1.32,1)","v":839},{"$f":"FLOOR(H201*1.32,1)","v":460},0,0,450,11502,"207^188",1,10000,500,15000,43,16,0.36,300,0,150,0,0,0,5,0,"yuelunche",11701,"20^100",95,"t6120",5,1012,"t4512",100,"normalHit"]
[11508,"t2712",4,8,5,1,1006,552,0,0,450,11502,"207^188",1,10000,500,15000,51,17,0.36,300,0,150,0,0,0,5,0,"yuelunche",11701,"20^100",95,0,5,1012,"t4512",100,"normalHit"]
[11509,"t2712",4,9,5,1,1207,662,0,0,450,11502,"207^188",1,10000,500,15000,61,18,0.36,300,0,150,0,0,0,5,0,"yuelunche",11701,"20^100",95,0,5,1012,"t4512",100,"normalHit"]
[11510,"t2712",4,10,5,1,1448,794,{"$f":"FLOOR(I204*1.32,1)","v":0},0,450,11502,"207^188",1,10000,500,15000,73,19,0.36,300,0,150,0,0,0,5,0,"yuelunche",11701,"20^100",95,0,5,1012,"t4512",100,"normalHit"]
[11511,"t2712",4,11,6,1,{"$f":"FLOOR(G205*1.32,1)","v":1911},{"$f":"FLOOR(H205*1.32,1)","v":1048},0,0,450,11502,"207^188",1,10000,500,15000,87,20,0.36,300,0,150,0,0,0,5,0,"yuelunche",11701,"20^100",95,"t6007",5,1012,"t4512",100,"normalHit"]
[11512,"t2712",4,12,6,1,2293,1257,0,0,450,11502,"207^188",1,10000,500,15000,104,21,0.36,300,0,150,0,0,0,5,0,"yuelunche",11701,"20^100",95,0,5,1012,"t4512",100,"normalHit"]
[11513,"t2712",4,13,6,1,2751,1508,0,0,450,11502,"207^188",1,10000,500,15000,124,22,0.36,300,0,150,0,0,0,5,0,"yuelunche",11701,"20^100",95,0,5,1012,"t4512",100,"normalHit"]
[11514,"t2712",4,14,6,1,3301,1809,0,0,450,11502,"207^188",1,10000,500,15000,148,23,0.36,300,0,150,0,0,0,5,0,"yuelunche",11701,"20^100",95,0,5,1012,"t4512",100,"normalHit"]
[11515,"t2712",4,15,6,1,3961,2170,0,0,450,11502,"207^188",1,10000,500,15000,177,24,0.36,300,0,150,0,0,0,5,0,"yuelunche",11701,"20^100",95,0,5,1012,"t4512",100,"normalHit"]
[11516,"t2712",4,16,6,1,4753,2604,0,0,450,11502,"207^188",1,10000,500,15000,212,25,0.36,300,0,150,0,0,0,5,0,"yuelunche",11701,"20^100",95,0,5,1012,"t4512",100,"normalHit"]
[11601,"t2713",1,1,1,1,567,99,0,0,100,0,0,1,10000,300,15000,30,10,0.38,300,0,100,1201,"0^0","0^0",4,0,"fuwang",11601,"28^100",130,0,2,1013,"t4513",100,"normalHit","玛格尼斯"]
[11602,"t2713",1,2,2,1,{"$f":"FLOOR(G212*1.2,1)","v":680},{"$f":"FLOOR(H212*1.2,1)","v":118},0,0,100,0,0,1,10000,300,15000,{"$f":"FLOOR(R212*1.2,1)","v":36},12,0.38,300,0,100,1201,"0^0","0^0",4,0,"fuwang",11601,"28^100",130,"t6000",2,1013,"t4513",100,"normalHit"]
[11603,"t2713",1,3,3,1,816,141,0,0,100,0,0,1,10000,300,15000,43,14,0.38,300,0,100,1201,"0^0","0^0",4,0,"fuwang",11601,"28^100",130,"t6000",2,1013,"t4513",100,"normalHit"]
[11604,"t2713",1,4,4,1,{"$f":"FLOOR(G214*1.4,1)","v":1142},{"$f":"FLOOR(H214*1.4,1)","v":197},0,0,100,0,0,1,10000,300,15000,51,16,0.38,300,0,100,"1201^1202","0^0","0^0",4,0,"fuwang",11601,"28^100",130,"t6021",2,1013,"t4513",100,"normalHit"]
[11605,"t2713",1,5,4,1,1370,236,0,0,100,0,0,1,10000,300,15000,61,18,0.38,300,0,100,"1201^1202","0^0","0^0",4,0,"fuwang",11601,"28^100",130,0,2,1013,"t4513",100,"normalHit"]
[11606,"t2713",1,6,4,1,1644,283,0,0,100,0,0,1,10000,300,15000,73,20,0.38,300,0,100,"1201^1202","0^0","0^0",4,0,"fuwang",11601,"28^100",130,0,2,1013,"t4513",100,"normalHit"]
[11607,"t2713",1,7,5,1,{"$f":"FLOOR(G217*1.32,1)","v":2170},{"$f":"FLOOR(H217*1.32,1)","v":373},0,0,100,0,0,1,10000,300,15000,87,22,0.38,300,0,100,"1202^1203","0^0","0^0",4,0,"fuwang",11601,"28^100",130,"t6121",2,1013,"t4513",100,"normalHit"]
[11608,"t2713",1,8,5,1,2604,447,0,0,100,0,0,1,10000,300,15000,104,24,0.38,300,0,100,"1202^1203","0^0","0^0",4,0,"fuwang",11601,"28^100",130,0,2,1013,"t4513",100,"normalHit"]
[11609,"t2713",1,9,5,1,3124,536,0,0,100,0,0,1,10000,300,15000,124,26,0.38,300,0,100,"1202^1203","0^0","0^0",4,0,"fuwang",11601,"28^100",130,0,2,1013,"t4513",100,"normalHit"]
[11610,"t2713",1,10,5,1,3748,643,{"$f":"FLOOR(I220*1.32,1)","v":0},0,100,0,0,1,10000,300,15000,148,28,0.38,300,0,100,"1202^1203","0^0","0^0",4,0,"fuwang",11601,"28^100",130,0,2,1013,"t4513",100,"normalHit"]
[11611,"t2713",1,11,6,1,{"$f":"FLOOR(G221*1.32,1)","v":4947},{"$f":"FLOOR(H221*1.32,1)","v":848},0,0,100,0,0,1,10000,300,15000,177,30,0.38,300,0,100,"1202^1203","0^0","0^0",4,0,"fuwang",11601,"28^100",130,"t6007",2,1013,"t4513",100,"normalHit"]
[11612,"t2713",1,12,6,1,5936,1017,0,0,100,0,0,1,10000,300,15000,212,32,0.38,300,0,100,"1202^1203","0^0","0^0",4,0,"fuwang",11601,"28^100",130,0,2,1013,"t4513",100,"normalHit"]
[11613,"t2713",1,13,6,1,7123,1220,0,0,100,0,0,1,10000,300,15000,254,34,0.38,300,0,100,"1202^1203","0^0","0^0",4,0,"fuwang",11601,"28^100",130,0,2,1013,"t4513",100,"normalHit"]
[11614,"t2713",1,14,6,1,8547,1464,0,0,100,0,0,1,10000,300,15000,304,36,0.38,300,0,100,"1202^1203","0^0","0^0",4,0,"fuwang",11601,"28^100",130,0,2,1013,"t4513",100,"normalHit"]
[11615,"t2713",1,15,6,1,10256,1756,0,0,100,0,0,1,10000,300,15000,364,38,0.38,300,0,100,"1202^1203","0^0","0^0",4,0,"fuwang",11601,"28^100",130,0,2,1013,"t4513",100,"normalHit"]
[11616,"t2713",1,16,6,1,12307,2107,0,0,100,0,0,1,10000,300,15000,436,40,0.38,300,0,100,"1202^1203","0^0","0^0",4,0,"fuwang",11601,"28^100",130,0,2,1013,"t4513",100,"normalHit"]
[11701,"t2714",1,1,1,2,{"$f":"调试区!S228","v":933},{"$f":"调试区!T228","v":238},0,0,100,0,0,1,10000,300,15000,30,10,0.49,300,0,100,1301,30,5,6,0,"longqishi",11701,"25^100",110,0,5,1014,"t4514",100,"meleeHit","希瓦娜"]
[11702,"t2714",1,2,2,2,{"$f":"FLOOR(G228*1.2,1)","v":1119},{"$f":"FLOOR(H228*1.2,1)","v":285},0,0,100,0,0,1,10000,300,15000,{"$f":"FLOOR(R228*1.2,1)","v":36},12,0.49,300,0,100,1301,30,5,6,0,"longqishi",11701,"25^100",110,"t6000",5,1014,"t4514",100,"meleeHit"]
[11703,"t2714",1,3,3,2,1342,342,0,0,100,0,0,1,10000,300,15000,43,14,0.49,300,0,100,1301,30,5,6,0,"longqishi",11701,"25^100",110,"t6000",5,1014,"t4514",100,"meleeHit"]
[11704,"t2714",1,4,4,2,{"$f":"FLOOR(G230*1.4,1)","v":1878},{"$f":"FLOOR(H230*1.4,1)","v":478},0,0,100,0,0,1,10000,300,15000,51,16,0.49,300,0,100,1301,30,5,6,0,"longqishi",11701,"25^100",110,"t6026",5,1014,"t4514",100,"meleeHit"]
[11705,"t2714",1,5,4,2,2253,573,0,0,100,0,0,1,10000,300,15000,61,18,0.49,300,0,100,1301,30,5,6,0,"longqishi",11701,"25^100",110,0,5,1014,"t4514",100,"meleeHit"]
[11706,"t2714",1,6,4,2,2703,687,0,0,100,0,0,1,10000,300,15000,73,20,0.49,300,0,100,1301,30,5,6,0,"longqishi",11701,"25^100",110,0,5,1014,"t4514",100,"meleeHit"]
[11707,"t2714",1,7,5,2,{"$f":"FLOOR(G233*1.32,1)","v":3567},{"$f":"FLOOR(H233*1.32,1)","v":906},0,0,100,0,0,1,10000,300,15000,87,22,0.49,300,0,100,1301,30,5,6,0,"longqishi",11701,"25^100",110,"t6126",5,1014,"t4514",100,"meleeHit"]
[11708,"t2714",1,8,5,2,4280,1087,0,0,100,0,0,1,10000,300,15000,104,24,0.49,300,0,100,1301,30,5,6,0,"longqishi",11701,"25^100",110,0,5,1014,"t4514",100,"meleeHit"]
[11709,"t2714",1,9,5,2,5136,1304,0,0,100,0,0,1,10000,300,15000,124,26,0.49,300,0,100,1301,30,5,6,0,"longqishi",11701,"25^100",110,0,5,1014,"t4514",100,"meleeHit"]
[11710,"t2714",1,10,5,2,6163,1564,{"$f":"FLOOR(I236*1.32,1)","v":0},0,100,0,0,1,10000,300,15000,148,28,0.49,300,0,100,1301,0,0,6,0,"longqishi",11701,"25^100",110,0,5,1014,"t4514",100,"meleeHit"]
[11711,"t2714",1,11,6,2,{"$f":"FLOOR(G237*1.32,1)","v":8135},{"$f":"FLOOR(H237*1.32,1)","v":2064},0,0,100,0,0,1,10000,300,15000,177,30,0.49,300,0,100,1301,0,0,6,0,"longqishi",11701,"25^100",110,"t6007",5,1014,"t4514",100,"meleeHit"]
[11712,"t2714",1,12,6,2,9762,2476,0,0,100,0,0,1,10000,300,15000,212,32,0.49,300,0,100,1301,0,0,6,0,"longqishi",11701,"25^100",110,0,5,1014,"t4514",100,"meleeHit"]
[11713,"t2714",1,13,6,2,11714,2971,0,0,100,0,0,1,10000,300,15000,254,34,0.49,300,0,100,1301,0,0,6,0,"longqishi",11701,"25^100",110,0,5,1014,"t4514",100,"meleeHit"]
[11714,"t2714",1,14,6,2,14056,3565,0,0,100,0,0,1,10000,300,15000,304,36,0.49,300,0,100,1301,0,0,6,0,"longqishi",11701,"25^100",110,0,5,1014,"t4514",100,"meleeHit"]
[11715,"t2714",1,15,6,2,16867,4278,0,0,100,0,0,1,10000,300,15000,364,38,0.49,300,0,100,1301,0,0,6,0,"longqishi",11701,"25^100",110,0,5,1014,"t4514",100,"meleeHit"]
[11716,"t2714",1,16,6,2,20240,5133,0,0,100,0,0,1,10000,300,15000,436,40,0.49,300,0,100,1301,0,0,6,0,"longqishi",11701,"25^100",110,0,5,1014,"t4514",100,"meleeHit"]
[11801,"龙",1,0,0,4,{"$f":"FLOOR(G228*1.1,1)","v":1026},{"$f":"FLOOR(H228*1.1,1)","v":261},0,0,400,11801,"400^450",1,10000,300,15000,33,11,0.32,300,0,110,1401,15,15,0,20,"long",11701,"26^100",100,0,0,1014,0,100,"magicHit","变身龙"]
[11802,"龙",1,0,0,4,1231,313,0,0,400,11801,"400^450",1,10000,300,15000,{"$f":"FLOOR(R244*1.2,1)","v":39},13,0.32,300,0,110,1401,15,15,0,20,"long",11701,"26^100",100,0,0,1014,0,100,"magicHit"]
[11803,"龙",1,0,0,4,1477,375,0,0,400,11801,"400^450",1,10000,300,15000,46,15,0.32,300,0,110,1401,15,15,0,20,"long",11701,"26^100",100,0,0,1014,0,100,"magicHit"]
[11804,"龙",1,0,0,4,{"$f":"FLOOR(G246*1.4,1)","v":2067},{"$f":"FLOOR(H246*1.4,1)","v":525},0,0,400,11801,"400^450",1,10000,300,15000,55,18,0.32,300,0,110,"1401^1402","15^0","15^0",0,20,"long",11701,"26^100",100,0,0,1014,0,100,"magicHit"]
[11805,"龙",1,0,0,4,2480,630,0,0,400,11801,"400^450",1,10000,300,15000,66,21,0.32,300,0,110,"1401^1402","15^0","15^0",0,20,"long",11701,"26^100",100,0,0,1014,0,100,"magicHit"]
[11806,"龙",1,0,0,4,2976,756,0,0,400,11801,"400^450",1,10000,300,15000,79,25,0.32,300,0,110,"1401^1402","15^0","15^0",0,20,"long",11701,"26^100",100,0,0,1014,0,100,"magicHit"]
[11807,"龙",1,0,0,4,{"$f":"FLOOR(G249*1.32,1)","v":3928},{"$f":"FLOOR(H249*1.32,1)","v":997},0,0,400,11801,"400^450",1,10000,300,15000,94,30,0.32,300,0,110,1402,0,0,0,0,"long",11701,"26^100",100,0,0,1014,0,100,"magicHit"]
[11808,"龙",1,0,0,4,4713,1196,0,0,400,11801,"400^450",1,10000,300,15000,112,36,0.32,300,0,110,1402,0,0,0,0,"long",11701,"26^100",100,0,0,1014,0,100,"magicHit"]
[11809,"龙",1,0,0,4,5655,1435,0,0,400,11801,"400^450",1,10000,300,15000,134,43,0.32,300,0,110,1402,0,0,0,0,"long",11701,"26^100",100,0,0,1014,0,100,"magicHit"]
[11810,"龙",1,0,0,4,6786,1722,{"$f":"FLOOR(I252*1.32,1)","v":0},0,400,11801,"400^450",1,10000,300,15000,160,51,0.32,300,0,110,1402,0,0,0,0,"long",11701,"26^100",100,0,0,1014,0,100,"magicHit"]
[11811,"龙",1,0,0,4,{"$f":"FLOOR(G253*1.32,1)","v":8957},{"$f":"FLOOR(H253*1.32,1)","v":2273},0,0,400,11801,"400^450",1,10000,300,15000,192,61,0.32,300,0,110,1402,0,0,0,0,"long",11701,"26^100",100,0,0,1014,0,100,"magicHit"]
[11812,"龙",1,0,0,4,10748,2727,0,0,400,11801,"400^450",1,10000,300,15000,230,73,0.32,300,0,110,1402,0,0,0,0,"long",11701,"26^100",100,0,0,1014,0,100,"magicHit"]
[11813,"龙",1,0,0,4,12897,3272,0,0,400,11801,"400^450",1,10000,300,15000,276,87,0.32,300,0,110,1402,0,0,0,0,"long",11701,"26^100",100,0,0,1014,0,100,"magicHit"]
[11814,"龙",1,0,0,4,15476,3926,0,0,400,11801,"400^450",1,10000,300,15000,331,104,0.32,300,0,110,1402,0,0,0,0,"long",11701,"26^100",100,0,0,1014,0,100,"magicHit"]
[11815,"龙",1,0,0,4,18571,4711,0,0,400,11801,"400^450",1,10000,300,15000,397,124,0.32,300,0,110,1402,0,0,0,0,"long",11701,"26^100",100,0,0,1014,0,100,"magicHit"]
[11816,"龙",1,0,0,4,22285,5653,0,0,400,11801,"400^250",1,10000,300,15000,476,148,0.32,300,0,110,1402,0,0,0,0,"long",11701,"26^100",100,0,0,1014,0,100,"magicHit"]
[11901,"t2715",4,1,1,1,280,145,0,0,400,11901,"350^275",1.5,10000,500,15000,45,0,0.65,300,0,120,1501,10,5,5,0,"gangtiexia",0,"22^100",100,0,5,1015,"t4515",100,"gunHit","铁皮人"]
[11902,"t2715",4,2,2,1,{"$f":"FLOOR(G260*1.2,1)","v":336},174,0,0,400,11901,"350^275",1.5,10000,500,15000,{"$f":"FLOOR(R260*1.2,1)","v":54},0,0.65,300,0,120,1501,10,5,5,0,"gangtiexia",0,"22^100",100,"t6000",5,1015,"t4515",100,"gunHit"]
[11903,"t2715",4,3,3,1,403,208,0,0,400,11901,"350^275",1.5,10000,500,15000,64,0,0.65,300,0,120,1501,10,5,5,0,"gangtiexia",0,"22^100",100,"t6000",5,1015,"t4515",100,"gunHit"]
[11904,"t2715",4,4,4,1,{"$f":"FLOOR(G262*1.4,1)","v":564},{"$f":"FLOOR(H262*1.4,1)","v":291},0,0,400,11901,"350^275",1.5,10000,500,15000,{"$f":"FLOOR(R262*1.44,1)","v":92},0,0.65,300,0,120,1501,10,5,5,0,"gangtiexia",0,"22^100",100,"t6027",5,1015,"t4515",100,"gunHit"]
[11905,"t2715",4,5,4,1,676,349,0,0,400,11901,"350^275",1.5,10000,500,15000,110,0,0.65,300,0,120,1501,10,5,5,0,"gangtiexia",0,"22^100",100,0,5,1015,"t4515",100,"gunHit"]
[11906,"t2715",4,6,4,1,811,418,0,0,400,11901,"350^275",1.5,10000,500,15000,132,0,0.65,300,0,120,1501,10,5,5,0,"gangtiexia",0,"22^100",100,0,5,1015,"t4515",100,"gunHit"]
[11907,"t2715",4,7,5,1,{"$f":"FLOOR(G265*1.32,1)","v":1070},{"$f":"FLOOR(H265*1.44,1)","v":601},0,0,400,11901,"350^275",1.5,10000,500,15000,158,0,0.65,300,0,120,1501,10,5,5,0,"gangtiexia",0,"22^100",100,"t6127",5,1015,"t4515",100,"gunHit"]
[11908,"t2715",4,8,5,1,{"$f":"FLOOR(G266*1.2,1)","v":1284},721,0,0,400,11901,"350^275",1.5,10000,500,15000,189,0,0.65,300,0,120,1501,10,5,5,0,"gangtiexia",0,"22^100",100,0,5,1015,"t4515",100,"gunHit"]
[11909,"t2715",4,9,5,1,1540,865,0,0,400,11901,"350^275",1.5,10000,500,15000,226,0,0.65,300,0,120,1501,10,5,5,0,"gangtiexia",0,"22^100",100,0,5,1015,"t4515",100,"gunHit"]
[11910,"t2715",4,10,5,1,1848,1038,{"$f":"FLOOR(I268*1.32,1)","v":0},0,400,11901,"350^275",1.5,10000,500,15000,271,0,0.65,300,0,120,1501,10,5,5,0,"gangtiexia",0,"22^100",100,0,5,1015,"t4515",100,"gunHit"]
[11911,"t2715",4,11,6,1,{"$f":"FLOOR(G269*1.32,1)","v":2439},{"$f":"FLOOR(H269*1.32,1)","v":1370},0,0,400,11901,"350^275",1.5,10000,500,15000,325,0,0.65,300,0,120,1501,10,5,5,0,"gangtiexia",0,"22^100",100,"t6007",5,1015,"t4515",100,"gunHit"]
[11912,"t2715",4,12,6,1,2926,1644,0,0,400,11901,"350^275",1.5,10000,500,15000,390,0,0.65,300,0,120,1501,10,5,5,0,"gangtiexia",0,"22^100",100,0,5,1015,"t4515",100,"gunHit"]
[11913,"t2715",4,13,6,1,3511,1972,0,0,400,11901,"350^275",1.5,10000,500,15000,468,0,0.65,300,0,120,1501,10,5,5,0,"gangtiexia",0,"22^100",100,0,5,1015,"t4515",100,"gunHit"]
[11914,"t2715",4,14,6,1,4213,2366,0,0,400,11901,"350^275",1.5,10000,500,15000,561,0,0.65,300,0,120,1501,10,5,5,0,"gangtiexia",0,"22^100",100,0,5,1015,"t4515",100,"gunHit"]
[11915,"t2715",4,15,6,1,5055,2839,0,0,400,11901,"350^275",1.5,10000,500,15000,673,0,0.65,300,0,120,1501,10,5,5,0,"gangtiexia",0,"22^100",100,0,5,1015,"t4515",100,"gunHit"]
[11916,"t2715",4,16,6,1,6066,3406,0,0,400,11901,"350^275",1.5,10000,500,15000,807,0,0.65,300,0,120,1501,10,5,5,0,"gangtiexia",0,"22^100",100,0,5,1015,"t4515",100,"gunHit"]
[12001,"t2716",1,1,1,1,547,132,0,0,100,0,0,2,10000,500,15000,30,10,0.4,300,0,110,"1601^1602","20^20","5^5",5,0,"lvjuren",11601,"26^100",100,0,2,1016,"t4516",100,"normalHit","布鲁斯"]
[12002,"t2716",1,2,2,1,{"$f":"FLOOR(G276*1.2,1)","v":656},{"$f":"FLOOR(H276*1.2,1)","v":158},0,0,100,0,0,2,10000,500,15000,{"$f":"FLOOR(R276*1.2,1)","v":36},12,0.4,300,0,110,"1601^1602","20^20","5^5",5,0,"lvjuren",11601,"26^100",100,"t6000",2,1016,"t4516",100,"normalHit"]
[12003,"t2716",1,3,3,1,{"$f":"FLOOR(G277*1.2,1)","v":787},{"$f":"FLOOR(H277*1.2,1)","v":189},0,0,100,0,0,2,10000,500,15000,43,14,0.4,300,0,110,"1601^1602","20^20","5^5",5,0,"lvjuren",11601,"26^100",100,"t6000",2,1016,"t4516",100,"normalHit"]
[12004,"t2716",1,4,4,1,{"$f":"FLOOR(G278*1.54,1)","v":1211},{"$f":"FLOOR(H278*1.4,1)","v":264},0,0,100,0,0,2,10000,500,15000,51,16,0.4,300,0,110,"1601^1602","20^20","5^5",5,0,"lvjuren",11601,"26^100",100,"t6129",2,1016,"t4516",100,"normalHit"]
[12005,"t2716",1,5,4,1,{"$f":"FLOOR(G279*1.2,1)","v":1453},{"$f":"FLOOR(H279*1.2,1)","v":316},0,0,100,0,0,2,10000,500,15000,61,18,0.4,300,0,110,"1601^1602","20^20","5^5",5,0,"lvjuren",11601,"26^100",100,0,2,1016,"t4516",100,"normalHit"]
[12006,"t2716",1,6,4,1,{"$f":"FLOOR(G280*1.2,1)","v":1743},379,0,0,100,0,0,2,10000,500,15000,73,20,0.4,300,0,110,"1601^1602","20^20","5^5",5,0,"lvjuren",11601,"26^100",100,0,2,1016,"t4516",100,"normalHit"]
[12007,"t2716",1,7,5,1,{"$f":"FLOOR(G281*1.44,1)","v":2509},{"$f":"FLOOR(H281*1.32,1)","v":500},0,0,100,0,0,2,10000,500,15000,87,22,0.4,300,0,110,"1601^1602","20^20","5^5",5,0,"lvjuren",11601,"26^100",100,"t6009",2,1016,"t4516",100,"normalHit"]
[12008,"t2716",1,8,5,1,{"$f":"FLOOR(G282*1.2,1)","v":3010},600,0,0,100,0,0,2,10000,500,15000,104,24,0.4,300,0,110,"1601^1602","20^20","5^5",5,0,"lvjuren",11601,"26^100",100,0,2,1016,"t4516",100,"normalHit"]
[12009,"t2716",1,9,5,1,{"$f":"FLOOR(G283*1.2,1)","v":3612},720,0,0,100,0,0,2,10000,500,15000,124,26,0.4,300,0,110,"1601^1602","20^20","5^5",5,0,"lvjuren",11601,"26^100",100,0,2,1016,"t4516",100,"normalHit"]
[12010,"t2716",1,10,5,1,4334,864,{"$f":"FLOOR(I284*1.32,1)","v":0},0,100,0,0,2,10000,500,15000,148,28,0.4,300,0,110,"1601^1602","20^20","5^5",5,0,"lvjuren",11601,"26^100",100,0,2,1016,"t4516",100,"normalHit"]
[12011,"t2716",1,11,6,1,{"$f":"FLOOR(G285*1.32,1)","v":5720},{"$f":"FLOOR(H285*1.32,1)","v":1140},0,0,100,0,0,2,10000,500,15000,177,30,0.4,300,0,110,"1601^1602","20^20","5^5",5,0,"lvjuren",11601,"26^100",100,"t6007",2,1016,"t4516",100,"normalHit"]
[12012,"t2716",1,12,6,1,6864,1368,0,0,100,0,0,2,10000,500,15000,212,32,0.4,300,0,110,"1601^1602","20^20","5^5",5,0,"lvjuren",11601,"26^100",100,0,2,1016,"t4516",100,"normalHit"]
[12013,"t2716",1,13,6,1,8236,1641,0,0,100,0,0,2,10000,500,15000,254,34,0.4,300,0,110,"1601^1602","20^20","5^5",5,0,"lvjuren",11601,"26^100",100,0,2,1016,"t4516",100,"normalHit"]
[12014,"t2716",1,14,6,1,9883,1969,0,0,100,0,0,2,10000,500,15000,304,36,0.4,300,0,110,"1601^1602","20^20","5^5",5,0,"lvjuren",11601,"26^100",100,0,2,1016,"t4516",100,"normalHit"]
[12015,"t2716",1,15,6,1,11859,2362,0,0,100,0,0,2,10000,500,15000,364,38,0.4,300,0,110,"1601^1602","20^20","5^5",5,0,"lvjuren",11601,"26^100",100,0,2,1016,"t4516",100,"normalHit"]
[12016,"t2716",1,16,6,1,14230,2834,0,0,100,0,0,2,10000,500,15000,436,40,0.4,300,0,110,"1601^1602","20^20","5^5",5,0,"lvjuren",11601,"26^100",100,0,2,1016,"t4516",100,"normalHit"]
[12101,"t2717",1,1,1,1,148,99,0,0,400,12101,"325^185",1,10000,300,15000,15,10,0.56000000000000005,300,0,90,1701,30,0,5,0,"huanxiong",0,"18^100",95,0,6,1017,"t4517",100,"gunHit","浣熊卫队"]
[12102,"t2717",1,2,2,1,{"$f":"FLOOR(G292*1.2,1)","v":177},{"$f":"FLOOR(H292*1.2,1)","v":118},0,0,400,12101,"325^185",1,10000,300,15000,{"$f":"FLOOR(R292*1.2,1)","v":18},11,0.56000000000000005,300,0,90,1701,30,0,5,0,"huanxiong",0,"18^100",95,"t6000",6,1017,"t4517",100,"gunHit"]
[12103,"t2717",1,3,3,1,{"$f":"FLOOR(G293*1.2,1)","v":212},{"$f":"FLOOR(H293*1.2,1)","v":141},0,0,400,12101,"325^185",1,10000,300,15000,21,12,0.56000000000000005,300,0,90,1701,30,0,5,0,"huanxiong",0,"18^100",95,"t6000",6,1017,"t4517",100,"gunHit"]
[12104,"t2717",1,4,4,1,{"$f":"FLOOR(G294*1.4,1)","v":296},{"$f":"FLOOR(H294*1.4,1)","v":197},0,0,400,12101,"325^185",1,10000,300,15000,25,13,0.56000000000000005,300,0,90,"1701^1703","35^0","0^0",5,0,"huanxiong",0,"18^100",95,"t6023",6,1017,"t4517",100,"gunHit"]
[12105,"t2717",1,5,4,1,{"$f":"FLOOR(G295*1.2,1)","v":355},{"$f":"FLOOR(H295*1.2,1)","v":236},0,0,400,12101,"325^185",1,10000,300,15000,30,14,0.56000000000000005,300,0,90,"1701^1703","35^0","0^0",5,0,"huanxiong",0,"18^100",95,0,6,1017,"t4517",100,"gunHit"]
[12106,"t2717",1,6,4,1,{"$f":"FLOOR(G296*1.2,1)","v":426},283,0,0,400,12101,"325^185",1,10000,300,15000,36,15,0.56000000000000005,300,0,90,"1701^1703","35^0","0^0",5,0,"huanxiong",0,"18^100",95,0,6,1017,"t4517",100,"gunHit"]
[12107,"t2717",1,7,5,1,{"$f":"FLOOR(G297*1.32,1)","v":562},{"$f":"FLOOR(H297*1.32,1)","v":373},0,0,400,12101,"325^185",1,10000,300,15000,43,16,0.56000000000000005,300,0,90,"1702^1703","35^0","0^0",5,0,"huanxiong",0,"18^100",95,"t6123",6,1017,"t4517",100,"gunHit"]
[12108,"t2717",1,8,5,1,644,447,0,0,400,12101,"325^185",1,10000,300,15000,51,17,0.56000000000000005,300,0,90,"1702^1703","35^0","0^0",5,0,"huanxiong",0,"18^100",95,0,6,1017,"t4517",100,"gunHit"]
[12109,"t2717",1,9,5,1,{"$f":"FLOOR(G299*1.2,1)","v":772},536,0,0,400,12101,"325^185",1,10000,300,15000,61,18,0.56000000000000005,300,0,90,"1702^1703","35^0","0^0",5,0,"huanxiong",0,"18^100",95,0,6,1017,"t4517",100,"gunHit"]
[12110,"t2717",1,10,5,1,926,643,{"$f":"FLOOR(I300*1.32,1)","v":0},0,400,12101,"325^185",1,10000,300,15000,73,19,0.56000000000000005,300,0,90,"1702^1703","35^0","0^0",5,0,"huanxiong",0,"18^100",95,0,6,1017,"t4517",100,"gunHit"]
[12111,"t2717",1,11,6,1,{"$f":"FLOOR(G301*1.32,1)","v":1222},{"$f":"FLOOR(H301*1.32,1)","v":848},0,0,400,12101,"325^185",1,10000,300,15000,87,20,0.56000000000000005,300,0,90,"1702^1703","35^0","0^0",5,0,"huanxiong",0,"18^100",95,"t6007",6,1017,"t4517",100,"gunHit"]
[12112,"t2717",1,12,6,1,1466,1017,0,0,400,12101,"325^185",1,10000,300,15000,104,21,0.56000000000000005,300,0,90,"1702^1703","35^0","0^0",5,0,"huanxiong",0,"18^100",95,0,6,1017,"t4517",100,"gunHit"]
[12113,"t2717",1,13,6,1,1759,1220,0,0,400,12101,"325^185",1,10000,300,15000,124,22,0.56000000000000005,300,0,90,"1702^1703","35^0","0^0",5,0,"huanxiong",0,"18^100",95,0,6,1017,"t4517",100,"gunHit"]
[12114,"t2717",1,14,6,1,2110,1464,0,0,400,12101,"325^185",1,10000,300,15000,148,23,0.56000000000000005,300,0,90,"1702^1703","35^0","0^0",5,0,"huanxiong",0,"18^100",95,0,6,1017,"t4517",100,"gunHit"]
[12115,"t2717",1,15,6,1,2532,1756,0,0,400,12101,"325^185",1,10000,300,15000,177,24,0.56000000000000005,300,0,90,"1702^1703","35^0","0^0",5,0,"huanxiong",0,"18^100",95,0,6,1017,"t4517",100,"gunHit"]
[12116,"t2717",1,16,6,1,3038,2107,0,0,400,12101,"325^185",1,10000,300,15000,212,25,0.56000000000000005,300,0,90,"1702^1703","35^0","0^0",5,0,"huanxiong",0,"18^100",95,0,6,1017,"t4517",100,"gunHit"]
[12201,"浣熊宝宝",1,1,0,4,25000,6000,0,0,100,0,0,2,10000,300,15000,5000,5000,0.4,300,0,150,0,0,0,0,0,"huanxiongbaobao",12201,"27^100",100,0,0,0,0,100,"normalHit"]
[12202,"浣熊宝宝2",1,1,0,4,27000,8000,0,0,100,0,0,2,10000,300,15000,5000,5000,0.4,300,0,150,0,0,0,0,0,"huanxiongbaobao",12201,"27^100",100,0,0,0,0,100,"normalHit"]
[12301,"陶土兵",1,1,0,4,4000,0,4000,0,100,0,0,2,10000,300,15000,5000,5000,0.37,300,0,150,0,0,0,0,0,"taotubing",0,"22^100",100,0,0,0,0,100,"normalHit"]
[12401,"召唤树人",2,1,0,4,6000,0,6000,0,100,0,0,2,10000,300,15000,5000,5000,0.4,300,0,150,0,0,0,0,20,"shuren",0,"20^100",100,0,0,0,0,100,"normalHit"]
[12501,"t2718",1,1,1,1,278,94,0,0,100,0,0,1,10000,300,15000,30,10,0.33,300,0,100,1901,0,0,4,0,"xiaobing",11601,"22^100",100,0,3,1018,"t4518",100,"meleeHit","史莱姆"]
[12502,"t2718",1,2,2,1,{"$f":"FLOOR(G312*1.2,1)","v":333},{"$f":"FLOOR(H312*1.2,1)","v":112},0,0,100,0,0,1,10000,300,15000,{"$f":"FLOOR(R312*1.2,1)","v":36},12,0.33,300,0,100,1901,0,0,4,0,"xiaobing",11601,"22^100",100,"t6000",3,1018,"t4518",100,"meleeHit"]
[12503,"t2718",1,3,3,1,399,134,0,0,100,0,0,1,10000,300,15000,43,14,0.33,300,0,100,1901,0,0,4,0,"xiaobing",11601,"22^100",100,"t6000",3,1018,"t4518",100,"meleeHit"]
[12504,"t2718",1,4,4,1,{"$f":"FLOOR(G314*1.4,1)","v":558},{"$f":"FLOOR(H314*1.54,1)","v":206},0,0,100,0,0,1,10000,300,15000,51,16,0.33,300,0,100,1901,0,0,4,0,"xiaobing",11601,"22^100",100,"t6130",3,1018,"t4518",100,"meleeHit"]
[12505,"t2718",1,5,4,1,669,247,0,0,100,0,0,1,10000,300,15000,61,18,0.33,300,0,100,1901,0,0,4,0,"xiaobing",11601,"22^100",100,0,3,1018,"t4518",100,"meleeHit"]
[12506,"t2718",1,6,4,1,802,296,0,0,100,0,0,1,10000,300,15000,73,20,0.33,300,0,100,1901,0,0,4,0,"xiaobing",11601,"22^100",100,0,3,1018,"t4518",100,"meleeHit"]
[12507,"t2718",1,7,5,1,{"$f":"FLOOR(G317*1.32,1)","v":1058},{"$f":"FLOOR(H317*1.32,1)","v":390},0,0,100,0,0,1,10000,300,15000,87,22,0.33,300,0,100,2001,0,0,4,0,"xiaobing",11601,"22^100",100,"t6113",3,1018,"t4518",100,"meleeHit"]
[12508,"t2718",1,8,5,1,1269,468,0,0,100,0,0,1,10000,300,15000,104,24,0.33,300,0,100,2001,0,0,4,0,"xiaobing",11601,"22^100",100,0,3,1018,"t4518",100,"meleeHit"]
[12509,"t2718",1,9,5,1,1522,561,0,0,100,0,0,1,10000,300,15000,124,26,0.33,300,0,100,2001,0,0,4,0,"xiaobing",11601,"22^100",100,0,3,1018,"t4518",100,"meleeHit"]
[12510,"t2718",1,10,5,1,1826,673,{"$f":"FLOOR(I320*1.32,1)","v":0},0,100,0,0,1,10000,300,15000,148,28,0.33,300,0,100,2001,0,0,4,0,"xiaobing",11601,"22^100",100,0,3,1018,"t4518",100,"meleeHit"]
[12511,"t2718",1,11,6,1,{"$f":"FLOOR(G321*1.32,1)","v":2410},{"$f":"FLOOR(H321*1.32,1)","v":888},0,0,100,0,0,1,10000,300,15000,177,30,0.33,300,0,100,2001,0,0,4,0,"xiaobing",11601,"22^100",100,"t6007",3,1018,"t4518",100,"meleeHit"]
[12512,"t2718",1,12,6,1,2892,1065,0,0,100,0,0,1,10000,300,15000,212,32,0.33,300,0,100,2001,0,0,4,0,"xiaobing",11601,"22^100",100,0,3,1018,"t4518",100,"meleeHit"]
[12513,"t2718",1,13,6,1,3470,1278,0,0,100,0,0,1,10000,300,15000,254,34,0.33,300,0,100,2001,0,0,4,0,"xiaobing",11601,"22^100",100,0,3,1018,"t4518",100,"meleeHit"]
[12514,"t2718",1,14,6,1,4164,1533,0,0,100,0,0,1,10000,300,15000,304,36,0.33,300,0,100,2001,0,0,4,0,"xiaobing",11601,"22^100",100,0,3,1018,"t4518",100,"meleeHit"]
[12515,"t2718",1,15,6,1,4996,1839,0,0,100,0,0,1,10000,300,15000,364,38,0.33,300,0,100,2001,0,0,4,0,"xiaobing",11601,"22^100",100,0,3,1018,"t4518",100,"meleeHit"]
[12516,"t2718",1,16,6,1,5995,2206,0,0,100,0,0,1,10000,300,15000,436,40,0.33,300,0,100,2001,0,0,4,0,"xiaobing",11601,"22^100",100,0,3,1018,"t4518",100,"meleeHit"]
[12601,"t2718",1,0,0,4,10000,10000,0,0,100,0,0,1,10000,300,15000,10000,10000,0.33,300,0,100,0,0,0,4,0,"xiaobing",11601,"22^100",100,0,3,1018,"t4518",100,"meleeHit"]
[99999,"基地",0,1,0,5,300,0,0,0,0,0,0,9999,999900,0,15000,0,0,1,0,0,0,0,0,0,0,0,0,0,"22^100",100,0,0,20,0,100,"meleeHit"]

{"sheet":"注释","index":1,"n_rows":6,"n_cols":1,"rows_kept":6,"cut":false,"hidden":false,"merged":[]}
["skillCDs： 0代表初始放一次的永久BUFF。 9999代表是另外一个技能触发的技能，比如刺客的背刺触发暴击率提升BUFF"]
["type:1.普通角色。2.唯一角色。3.图腾。4.召唤物。5.基地。"]
["attackCD：图腾配置9999"]
["hurtFrame：图腾配置0"]
["moveSpeed：移动速度图腾配置0"]
["lifeDuration：正常角色配置0，召唤物有时间的配置时间"]

{"sheet":"属性战力计算公式","index":2,"n_rows":560,"n_cols":7,"rows_kept":560,"cut":false,"hidden":false,"merged":[]}
[null,null,"战力系数","战斗力计算",null,405,{"$f":"F1*1.2","v":486}]
["基础属性","攻击",2,"（攻击）*系数",null,{"$f":"FLOOR(F1*1.2,1)","v":486},{"$f":"F2*1.2","v":583.19999999999993}]
[null,"法术攻击",2,"（攻击）*系数",null,583,699.6]
[null,"生命",0.8,"（生命）*系数",null,{"$f":"FLOOR(F3*1.32,1)","v":769},922.8]
[null,"防御",1,"(生命值/(1-（防御/（防御+防御常数））*生命系数",null,922,1106.3999999999999]
[null,"法术防御",1,"(生命值/(1-（防御/（防御+防御常数））*生命系数",null,1106,1327.2]
[null,"攻速",1,"（攻击/攻击速度*攻击系数）*攻速系数",null,1327,1592.3999999999999]
[null,"暴击率",1,"（暴击率*攻击*暴击伤害*2）*系数",null,1592,1910.3999999999999]
[null,"暴伤",1,"（暴击率*攻击*暴击伤害*2）*系数",null,1910,2292]
[null,"命中",1,"（攻击/攻击速度*命中）*系数",null,{"$f":"FLOOR(F9*1.32,1)","v":2521},3025.2]
[null,"闪躲",1,"（生命系数*生命/（1-闪避））*系数",null,3025,3630]
[{"$nulls":5},3630,4356]
[{"$nulls":5},4356,5227.2]
[{"$nulls":5},5227,6272.4]
[{"$nulls":5},6272,7526.4]
[{"$nulls":5},7526,9031.1999999999989]
[{"$nulls":5},210,252]
[{"$nulls":5},{"$f":"FLOOR(F17*1.2,1)","v":252},302.39999999999998]
[{"$nulls":5},302,362.4]
[{"$nulls":5},362,434.4]
[{"$nulls":5},434,520.79999999999995]
[{"$nulls":5},520,624]
[{"$nulls":5},624,748.8]
[{"$nulls":5},748,897.6]
[{"$nulls":5},897,1076.3999999999999]
[{"$nulls":5},{"$f":"FLOOR(F25*1.32,1)","v":1184},1420.8]
[{"$nulls":5},1420,1704]
[{"$nulls":5},1704,2044.8]
[{"$nulls":5},2044,2452.7999999999997]
[{"$nulls":5},2452,2942.4]
[{"$nulls":5},2942,3530.4]
[{"$nulls":5},3530,4236]
[{"$nulls":5},190,228]
[{"$nulls":5},{"$f":"FLOOR(F33*1.2,1)","v":228},273.59999999999997]
[{"$nulls":5},273,327.59999999999997]
[{"$nulls":5},327,392.4]
[{"$nulls":5},392,470.4]
[{"$nulls":5},470,564]
[{"$nulls":5},564,676.8]
[{"$nulls":5},676,811.19999999999993]
[{"$nulls":5},811,973.19999999999993]
[{"$nulls":5},{"$f":"FLOOR(F41*1.32,1)","v":1070},1284]
[{"$nulls":5},1284,1540.8]
[{"$nulls":5},1540,1848]
[{"$nulls":5},1848,2217.6]
[{"$nulls":5},2217,2660.4]
[{"$nulls":5},2660,3192]
[{"$nulls":5},3192,3830.3999999999996]
[{"$nulls":5},275,330]
[{"$nulls":5},{"$f":"FLOOR(F49*1.2,1)","v":330},396]
[{"$nulls":5},396,475.2]
[{"$nulls":5},475,570]
[{"$nulls":5},570,684]
[{"$nulls":5},684,820.8]
[{"$nulls":5},820,984]
[{"$nulls":5},984,1180.8]
[{"$nulls":5},1180,1416]
[{"$nulls":5},{"$f":"FLOOR(F57*1.32,1)","v":1557},1868.3999999999999]
[{"$nulls":5},1868,2241.6]
[{"$nulls":5},2241,2689.2]
[{"$nulls":5},2689,3226.7999999999997]
[{"$nulls":5},3226,3871.2]
[{"$nulls":5},3871,4645.2]
[{"$nulls":5},4645,5574]
[{"$nulls":5},232,278.39999999999998]
[{"$nulls":5},{"$f":"FLOOR(F65*1.2,1)","v":278},{"$f":"F66*1.2","v":333.59999999999997}]
[{"$nulls":5},333,399.59999999999997]
[{"$nulls":5},399,478.79999999999995]
[{"$nulls":5},478,573.6]
[{"$nulls":5},573,687.6]
[{"$nulls":5},687,824.4]
[{"$nulls":5},824,988.8]
[{"$nulls":5},988,1185.5999999999999]
[{"$nulls":5},{"$f":"FLOOR(F73*1.32,1)","v":1304},1564.8]
[{"$nulls":5},1564,1876.8]
[{"$nulls":5},1876,2251.1999999999998]
[{"$nulls":5},2251,2701.2]
[{"$nulls":5},2701,3241.2]
[{"$nulls":5},3241,3889.2]
[{"$nulls":5},3889,4666.8]
[{"$nulls":5},215,258]
[{"$nulls":5},{"$f":"FLOOR(F81*1.2,1)","v":258},309.59999999999997]
[{"$nulls":5},{"$f":"FLOOR(F82*1.2,1)","v":309},370.8]
[{"$nulls":5},{"$f":"FLOOR(F83*1.32,1)","v":407},488.4]
[{"$nulls":5},{"$f":"FLOOR(F84*1.2,1)","v":488},585.6]
[{"$nulls":5},585,702]
[{"$nulls":5},702,842.4]
[{"$nulls":5},842,1010.4]
[{"$nulls":5},1010,1212]
[{"$nulls":5},{"$f":"FLOOR(F89*1.32,1)","v":1333},1599.6]
[{"$nulls":5},1599,1918.8]
[{"$nulls":5},1918,2301.6]
[{"$nulls":5},2301,2761.2]
[{"$nulls":5},2761,3313.2]
[{"$nulls":5},3313,3975.6]
[{"$nulls":5},3975,4770]
[{"$nulls":5},200,240]
[{"$nulls":5},{"$f":"FLOOR(F97*1.2,1)","v":240},288]
[{"$nulls":5},288,345.59999999999997]
[{"$nulls":5},345,414]
[{"$nulls":5},414,496.79999999999995]
[{"$nulls":5},496,595.19999999999993]
[{"$nulls":5},595,714]
[{"$nulls":5},714,856.8]
[{"$nulls":5},856,1027.2]
[{"$nulls":5},{"$f":"FLOOR(F105*1.32,1)","v":1129},1354.8]
[{"$nulls":5},1354,1624.8]
[{"$nulls":5},1624,1948.8]
[{"$nulls":5},1948,2337.6]
[{"$nulls":5},2337,2804.4]
[{"$nulls":5},2804,3364.7999999999997]
[{"$nulls":5},3364,4036.7999999999997]
[{"$nulls":5},120,144]
[{"$nulls":5},{"$f":"FLOOR(F113*1.2,1)","v":144},172.79999999999998]
[{"$nulls":5},172,206.4]
[{"$nulls":5},206,247.2]
[{"$nulls":5},247,296.39999999999998]
[{"$nulls":5},296,355.2]
[{"$nulls":5},355,426]
[{"$nulls":5},426,511.2]
[{"$nulls":5},511,613.19999999999993]
[{"$nulls":5},{"$f":"FLOOR(F121*1.32,1)","v":674},808.8]
[{"$nulls":5},808,969.59999999999991]
[{"$nulls":5},969,1162.8]
[{"$nulls":5},1162,1394.3999999999999]
[{"$nulls":5},1394,1672.8]
[{"$nulls":5},1672,2006.3999999999999]
[{"$nulls":5},2006,2407.1999999999998]
[{"$nulls":5},140,168]
[{"$nulls":5},{"$f":"FLOOR(F129*1.2,1)","v":168},{"$f":"F130*1.2","v":201.6}]
[{"$nulls":5},201,241.2]
[{"$nulls":5},241,289.2]
[{"$nulls":5},289,346.8]
[{"$nulls":5},346,415.2]
[{"$nulls":5},415,498]
[{"$nulls":5},498,597.6]
[{"$nulls":5},597,716.4]
[{"$nulls":5},{"$f":"FLOOR(F137*1.32,1)","v":788},945.59999999999991]
[{"$nulls":5},945,1134]
[{"$nulls":5},1134,1360.8]
[{"$nulls":5},1360,1632]
[{"$nulls":5},1632,1958.3999999999999]
[{"$nulls":5},1958,2349.6]
[{"$nulls":5},2349,2818.7999999999997]
[{"$nulls":5},550,660]
[{"$nulls":5},{"$f":"FLOOR(F145*1.2,1)","v":660},792]
[{"$nulls":5},792,950.4]
[{"$nulls":5},950,1140]
[{"$nulls":5},1140,1368]
[{"$nulls":5},1368,1641.6]
[{"$nulls":5},{"$f":"FLOOR(F150*1.32,1)","v":1805},2166]
[{"$nulls":5},2166,2599.1999999999998]
[{"$nulls":5},2599,3118.7999999999997]
[{"$nulls":5},{"$f":"FLOOR(F153*1.32,1)","v":3430},4116]
[{"$nulls":5},4116,4939.2]
[{"$nulls":5},4939,5926.8]
[{"$nulls":5},5926,7111.2]
[{"$nulls":5},7111,8533.1999999999989]
[{"$nulls":5},8533,10239.6]
[{"$nulls":5},10239,12286.8]
[{"$nulls":5},340,408]
[{"$nulls":5},{"$f":"FLOOR(F161*1.2,1)","v":408},489.59999999999997]
[{"$nulls":5},489,586.79999999999995]
[{"$nulls":5},586,703.19999999999993]
[{"$nulls":5},703,843.6]
[{"$nulls":5},843,1011.5999999999999]
[{"$nulls":5},1011,1213.2]
[{"$nulls":5},1213,1455.6]
[{"$nulls":5},1455,1746]
[{"$nulls":5},{"$f":"FLOOR(F169*1.32,1)","v":1920},2304]
[{"$nulls":5},2304,2764.7999999999997]
[{"$nulls":5},2764,3316.7999999999997]
[{"$nulls":5},3316,3979.2]
[{"$nulls":5},3979,4774.8]
[{"$nulls":5},4774,5728.8]
[{"$nulls":5},5728,6873.5999999999995]
[{"$nulls":5},200,240]
[{"$nulls":5},{"$f":"FLOOR(F177*1.2,1)","v":240},288]
[{"$nulls":5},{"$f":"FLOOR(F178*1.2,1)","v":288},345.59999999999997]
[{"$nulls":5},{"$f":"FLOOR(F179*1.38,1)","v":397},476.4]
[{"$nulls":5},{"$f":"FLOOR(F180*1.2,1)","v":476},571.19999999999993]
[{"$nulls":5},571,685.19999999999993]
[{"$nulls":5},685,822]
[{"$nulls":5},822,986.4]
[{"$nulls":5},986,1183.2]
[{"$nulls":5},{"$f":"FLOOR(F185*1.32,1)","v":1301},1561.2]
[{"$nulls":5},1561,1873.1999999999998]
[{"$nulls":5},1873,2247.6]
[{"$nulls":5},2247,2696.4]
[{"$nulls":5},2696,3235.2]
[{"$nulls":5},3235,3882]
[{"$nulls":5},3882,4658.3999999999996]
[{"$nulls":5},5000,6000]
[{"$nulls":5},200,{"$f":"F194*1.2","v":240}]
[{"$nulls":5},{"$f":"FLOOR(F194*1.2,1)","v":240},288]
[{"$nulls":5},{"$f":"FLOOR(F195*1.2,1)","v":288},345.59999999999997]
[{"$nulls":5},{"$f":"FLOOR(F196*1.2,1)","v":345},414]
[{"$nulls":5},414,496.79999999999995]
[{"$nulls":5},496,595.19999999999993]
[{"$nulls":5},595,714]
[{"$nulls":5},714,856.8]
[{"$nulls":5},856,1027.2]
[{"$nulls":5},{"$f":"FLOOR(F202*1.32,1)","v":1129},1354.8]
[{"$nulls":5},1354,1624.8]
[{"$nulls":5},1624,1948.8]
[{"$nulls":5},1948,2337.6]
[{"$nulls":5},2337,2804.4]
[{"$nulls":5},2804,3364.7999999999997]
[{"$nulls":5},3364,4036.7999999999997]
[{"$nulls":5},475,570]
[{"$nulls":5},{"$f":"FLOOR(F210*1.2,1)","v":570},684]
[{"$nulls":5},684,820.8]
[{"$nulls":5},820,984]
[{"$nulls":5},984,1180.8]
[{"$nulls":5},1180,1416]
[{"$nulls":5},1416,1699.2]
[{"$nulls":5},1699,2038.8]
[{"$nulls":5},2038,2445.6]
[{"$nulls":5},{"$f":"FLOOR(F218*1.32,1)","v":2690},3228]
[{"$nulls":5},3228,3873.6]
[{"$nulls":5},3873,4647.5999999999995]
[{"$nulls":5},4647,5576.4]
[{"$nulls":5},5576,6691.2]
[{"$nulls":5},6691,8029.2]
[{"$nulls":5},8029,9634.7999999999993]
[{"$nulls":5},388,465.59999999999997]
[{"$nulls":5},{"$f":"FLOOR(F226*1.2,1)","v":465},558]
[{"$nulls":5},558,669.6]
[{"$nulls":5},669,802.8]
[{"$nulls":5},802,962.4]
[{"$nulls":5},962,1154.3999999999999]
[{"$nulls":5},1154,1384.8]
[{"$nulls":5},1384,1660.8]
[null,null,22,100,{"$f":"_xlfn.TEXTJOIN(\"^\",,C234:D234)","v":"22^100"},1660,1992]
[null,null,22,100,{"$f":"_xlfn.TEXTJOIN(\"^\",,C235:D235)","v":"22^100"},{"$f":"FLOOR(F234*1.32,1)","v":2191},2629.2]
[null,null,22,100,"22^100",2629,3154.7999999999997]
[null,null,22,100,"22^100",3154,3784.7999999999997]
[null,null,22,100,"22^100",3784,4540.8]
[null,null,22,100,"22^100",4540,5448]
[null,null,22,100,"22^100",5448,6537.5999999999995]
[null,null,22,100,"22^100",6537,7844.4]
[null,null,22,100,"22^100",413,495.59999999999997]
[null,null,22,100,"22^100",495,594]
[null,null,22,100,"22^100",594,712.8]
[null,null,22,100,"22^100",712,854.4]
[null,null,22,100,"22^100",854,1024.8]
[null,null,22,100,"22^100",1024,1228.8]
[null,null,22,100,"22^100",1228,1473.6]
[null,null,22,100,"22^100",1473,1767.6]
[null,null,19,100,"19^100",1767,2120.4]
[null,null,19,100,"19^100",{"$f":"FLOOR(F250*1.32,1)","v":2332},2798.4]
[null,null,19,100,"19^100",2798,3357.6]
[null,null,19,100,"19^100",3357,4028.3999999999996]
[null,null,19,100,"19^100",4028,4833.5999999999995]
[null,null,19,100,"19^100",4833,5799.5999999999995]
[null,null,19,100,"19^100",5799,6958.8]
[null,null,19,100,"19^100",6958,8349.6]
[null,null,19,100,"19^100",255,{"$f":"F258*1.2","v":306}]
[null,null,19,100,"19^100",{"$f":"FLOOR(F258*1.2,1)","v":306},367.2]
[null,null,19,100,"19^100",367,440.4]
[null,null,19,100,"19^100",440,528]
[null,null,19,100,"19^100",528,633.6]
[null,null,19,100,"19^100",633,759.6]
[null,null,19,100,"19^100",759,910.8]
[null,null,19,100,"19^100",910,1092]
[null,null,20,100,"20^100",1092,1310.3999999999999]
[null,null,20,100,"20^100",{"$f":"FLOOR(F266*1.32,1)","v":1441},1729.2]
[null,null,20,100,"20^100",1729,2074.7999999999997]
[null,null,20,100,"20^100",2074,2488.7999999999997]
[null,null,20,100,"20^100",2488,2985.6]
[null,null,20,100,"20^100",2985,3582]
[null,null,20,100,"20^100",3582,4298.3999999999996]
[null,null,20,100,"20^100",4298,5157.5999999999995]
[null,null,20,100,"20^100",415,498]
[null,null,20,100,"20^100",{"$f":"FLOOR(F274*1.2,1)","v":498},597.6]
[null,null,20,100,"20^100",{"$f":"FLOOR(F275*1.2,1)","v":597},716.4]
[null,null,20,100,"20^100",760,912]
[null,null,20,100,"20^100",{"$f":"FLOOR(F277*1.2,1)","v":912},1094.3999999999999]
[null,null,20,100,"20^100",{"$f":"FLOOR(F278*1.2,1)","v":1094},1312.8]
[null,null,20,100,"20^100",{"$f":"FLOOR(F279*1.2,1)","v":1312},1574.3999999999999]
[null,null,20,100,"20^100",1731,2077.1999999999998]
[null,null,20,100,"20^100",{"$f":"FLOOR(F281*1.2,1)","v":2077},2492.4]
[null,null,20,100,"20^100",{"$f":"FLOOR(F282*1.32,1)","v":2741},3289.2]
[null,null,20,100,"20^100",3289,3946.7999999999997]
[null,null,20,100,"20^100",3946,4735.2]
[null,null,20,100,"20^100",4735,5682]
[null,null,20,100,"20^100",5682,6818.4]
[null,null,20,100,"20^100",6818,8181.5999999999995]
[null,null,20,100,"20^100",8181,9817.1999999999989]
[null,null,20,100,"20^100",125,150]
[null,null,20,100,"20^100",{"$f":"FLOOR(F290*1.2,1)","v":150},180]
[null,null,20,100,"20^100",{"$f":"FLOOR(F291*1.2,1)","v":180},216]
[null,null,20,100,"20^100",284,340.8]
[null,null,20,100,"20^100",{"$f":"FLOOR(F293*1.2,1)","v":340},408]
[null,null,20,100,"20^100",{"$f":"FLOOR(F294*1.2,1)","v":408},489.59999999999997]
[null,null,20,100,"20^100",{"$f":"FLOOR(F295*1.2,1)","v":489},586.79999999999995]
[null,null,20,100,"20^100",644,772.8]
[null,null,22,100,"22^100",{"$f":"FLOOR(F297*1.2,1)","v":772},926.4]
[null,null,22,100,{"$f":"_xlfn.TEXTJOIN(\"^\",,C299:D299)","v":"22^100"},{"$f":"FLOOR(F298*1.32,1)","v":1019},1222.8]
[null,null,22,100,"22^100",1222,1466.3999999999999]
[null,null,22,100,"22^100",1466,1759.2]
[null,null,22,100,"22^100",1759,2110.7999999999997]
[null,null,22,100,"22^100",2110,2532]
[null,null,22,100,"22^100",2532,3038.4]
[null,null,22,100,"22^100",3038,3645.6]
[null,null,22,100,"22^100",20000,24000]
[null,null,22,100,"22^100",22000,26400]
[null,null,22,100,"22^100",4000,4800]
[null,null,22,100,"22^100",4000,4800]
[null,null,22,100,"22^100",245,294]
[null,null,22,100,"22^100",{"$f":"FLOOR(F310*1.2,1)","v":294},352.8]
[null,null,22,100,"22^100",352,422.4]
[null,null,22,100,"22^100",422,506.4]
[null,null,23,100,"23^100",506,607.19999999999993]
[null,null,23,100,"23^100",607,728.4]
[null,null,23,100,"23^100",728,873.6]
[null,null,23,100,"23^100",873,1047.5999999999999]
[null,null,23,100,"23^100",1047,1256.3999999999999]
[null,null,23,100,"23^100",{"$f":"FLOOR(F318*1.32,1)","v":1382},1658.3999999999999]
[null,null,23,100,"23^100",1658,1989.6]
[null,null,23,100,"23^100",1989,2386.7999999999997]
[null,null,23,100,"23^100",2386,{"$f":"F322*1.2","v":2863.2}]
[null,null,23,100,"23^100",2863,3435.6]
[null,null,23,100,"23^100",3435,4122]
[null,null,23,100,"23^100",4122,4946.3999999999996]
[null,null,23,100,"23^100",10000,12000]
[null,null,23,100,"23^100",300,360]
[null,null,23,100,"23^100",null,0]
[null,null,23,100,"23^100",null,0]
[null,null,25,100,"25^100",null,0]
[null,null,25,100,"25^100",null,0]
[null,null,25,100,"25^100",null,0]
[null,null,25,100,"25^100",null,0]
[null,null,25,100,"25^100",null,0]
[null,null,25,100,"25^100",null,0]
[null,null,25,100,"25^100",null,0]
[null,null,25,100,"25^100",null,0]
[null,null,25,100,"25^100",null,0]
[null,null,25,100,"25^100",null,0]
[null,null,25,100,"25^100",null,0]
[null,null,25,100,"25^100",null,0]
[null,null,25,100,"25^100",null,0]
[null,null,25,100,"25^100",null,0]
[null,null,25,100,"25^100",null,0]
[null,null,25,100,"25^100",null,0]
[null,null,21,100,"21^100",null,0]
[null,null,21,100,"21^100",null,0]
[null,null,21,100,"21^100",null,0]
[null,null,21,100,"21^100",null,0]
[null,null,21,100,"21^100",null,0]
[null,null,21,100,"21^100",null,0]
[null,null,21,100,"21^100",null,0]
[null,null,21,100,"21^100",null,0]
[null,null,21,100,"21^100",null,0]
[null,null,21,100,"21^100",null,0]
[null,null,21,100,"21^100",null,0]
[null,null,21,100,"21^100",null,0]
[null,null,21,100,"21^100",null,0]
[null,null,21,100,"21^100",null,0]
[null,null,21,100,"21^100",null,0]
[null,null,21,100,"21^100",null,0]
[null,null,21,100,"21^100",null,0]
[null,null,21,100,{"$f":"_xlfn.TEXTJOIN(\"^\",,C363:D363)","v":"21^100"},null,0]
[null,null,21,100,"21^100",null,0]
[null,null,21,100,"21^100",null,0]
[null,null,21,100,"21^100",null,0]
[null,null,21,100,"21^100",null,0]
[null,null,21,100,"21^100",null,0]
[null,null,21,100,"21^100",null,0]
[null,null,21,100,"21^100",null,0]
[null,null,21,100,"21^100",null,0]
[null,null,21,100,"21^100",null,0]
[null,null,21,100,"21^100",null,0]
[null,null,21,100,"21^100",null,0]
[null,null,21,100,"21^100",null,0]
[null,null,21,100,"21^100",null,0]
[null,null,21,100,"21^100",null,0]
[null,null,25,100,"25^100",null,0]
[null,null,25,100,"25^100",null,0]
[null,null,25,100,"25^100",null,0]
[null,null,25,100,"25^100",null,0]
[null,null,25,100,"25^100",null,0]
[null,null,25,100,"25^100",null,0]
[null,null,25,100,"25^100",null,0]
[null,null,25,100,"25^100",null,0]
[null,null,25,100,"25^100",null,{"$f":"F386*1.2","v":0}]
[null,null,25,100,"25^100",null,0]
[null,null,25,100,"25^100",null,0]
[null,null,25,100,"25^100",null,0]
[null,null,25,100,"25^100",null,0]
[null,null,25,100,"25^100",null,0]
[null,null,25,100,"25^100",null,0]
[null,null,25,100,"25^100",null,0]
[null,null,36,100,"36^100",null,0]
[null,null,36,100,"36^100",null,0]
[null,null,36,100,"36^100",null,0]
[null,null,36,100,"36^100",null,0]
[null,null,36,100,"36^100",null,0]
[null,null,36,100,"36^100",null,0]
[null,null,36,100,"36^100",null,0]
[null,null,36,100,"36^100",null,0]
[null,null,36,100,"36^100",null,0]
[null,null,36,100,"36^100",null,0]
[null,null,36,100,"36^100",null,0]
[null,null,36,100,"36^100",null,0]
[null,null,36,100,"36^100",null,0]
[null,null,36,100,"36^100",null,0]
[null,null,36,100,"36^100",null,0]
[null,null,36,100,"36^100",null,0]
[null,null,22,100,"22^100",null,0]
[null,null,22,100,"22^100",null,0]
[null,null,22,100,"22^100",null,0]
[null,null,22,100,"22^100",null,0]
[null,null,22,100,"22^100",null,0]
[null,null,22,100,"22^100",null,0]
[null,null,22,100,"22^100",null,0]
[null,null,22,100,"22^100",null,0]
[null,null,22,100,"22^100",null,0]
[null,null,22,100,"22^100",null,0]
[null,null,22,100,"22^100",null,0]
[null,null,22,100,"22^100",null,0]
[null,null,22,100,"22^100",null,0]
[null,null,22,100,"22^100",null,0]
[null,null,22,100,"22^100",null,0]
[null,null,22,100,"22^100",null,0]
[null,null,20,100,"20^100",null,0]
[null,null,20,100,{"$f":"_xlfn.TEXTJOIN(\"^\",,C427:D427)","v":"20^100"},null,0]
[null,null,20,100,"20^100",null,0]
[null,null,20,100,"20^100",null,0]
[null,null,20,100,"20^100",null,0]
[null,null,20,100,"20^100",null,0]
[null,null,20,100,"20^100",null,0]
[null,null,20,100,"20^100",null,0]
[null,null,20,100,"20^100",null,0]
[null,null,20,100,"20^100",null,0]
[null,null,20,100,"20^100",null,0]
[null,null,20,100,"20^100",null,0]
[null,null,20,100,"20^100",null,0]
[null,null,20,100,"20^100",null,0]
[null,null,20,100,"20^100",null,0]
[null,null,20,100,"20^100",null,0]
[null,null,20,100,"20^100",null,0]
[null,null,28,100,"28^100",null,0]
[null,null,28,100,"28^100",null,0]
[null,null,28,100,"28^100",null,0]
[null,null,28,100,"28^100",null,0]
[null,null,28,100,"28^100",null,0]
[null,null,28,100,"28^100",null,0]
[null,null,28,100,"28^100",null,0]
[null,null,28,100,"28^100",null,{"$f":"F450*1.2","v":0}]
[null,null,28,100,"28^100",null,0]
[null,null,28,100,"28^100",null,0]
[null,null,28,100,"28^100",null,0]
[null,null,28,100,"28^100",null,0]
[null,null,28,100,"28^100",null,0]
[null,null,28,100,"28^100",null,0]
[null,null,28,100,"28^100",null,0]
[null,null,28,100,"28^100",null,0]
[null,null,24,100,"24^100",null,0]
[null,null,24,100,"24^100",null,0]
[null,null,24,100,"24^100",null,0]
[null,null,24,100,"24^100",null,0]
[null,null,24,100,"24^100",null,0]
[null,null,24,100,"24^100",null,0]
[null,null,24,100,"24^100",null,0]
[null,null,24,100,"24^100",null,0]
[null,null,24,100,"24^100",null,0]
[null,null,24,100,"24^100",null,0]
[null,null,24,100,"24^100",null,0]
[null,null,24,100,"24^100",null,0]
[null,null,24,100,"24^100",null,0]
[null,null,24,100,"24^100",null,0]
[null,null,24,100,"24^100",null,0]
[null,null,24,100,"24^100",null,0]
[null,null,24,100,"24^100",null,0]
[null,null,24,100,"24^100",null,0]
[null,null,24,100,"24^100",null,0]
[null,null,24,100,"24^100",null,0]
[null,null,24,100,"24^100",null,0]
[null,null,24,100,"24^100",null,0]
[null,null,24,100,"24^100",null,0]
[null,null,24,100,"24^100",null,0]
[null,null,24,100,"24^100",null,0]
[null,null,24,100,"24^100",null,0]
[null,null,24,100,"24^100",null,0]
[null,null,24,100,"24^100",null,0]
[null,null,24,100,"24^100",null,0]
[null,null,24,100,"24^100",null,0]
[null,null,24,100,"24^100",null,0]
[null,null,24,100,"24^100",null,0]
[null,null,22,100,{"$f":"_xlfn.TEXTJOIN(\"^\",,C491:D491)","v":"22^100"},null,0]
[null,null,22,100,"22^100",null,0]
[null,null,22,100,"22^100",null,0]
[null,null,22,100,"22^100",null,0]
[null,null,22,100,"22^100",null,0]
[null,null,22,100,"22^100",null,0]
[null,null,22,100,"22^100",null,0]
[null,null,22,100,"22^100",null,0]
[null,null,22,100,"22^100",null,0]
[null,null,22,100,"22^100",null,0]
[null,null,22,100,"22^100",null,0]
[null,null,22,100,"22^100",null,0]
[null,null,22,100,"22^100",null,0]
[null,null,22,100,"22^100",null,0]
[null,null,22,100,"22^100",null,0]
[null,null,22,100,"22^100",null,0]
[null,null,26,100,"26^100",null,0]
[null,null,26,100,"26^100",null,0]
[null,null,26,100,"26^100",null,0]
[null,null,26,100,"26^100",null,0]
[null,null,26,100,"26^100",null,0]
[null,null,26,100,"26^100",null,0]
[null,null,26,100,"26^100",null,0]
[null,null,26,100,"26^100",null,{"$f":"F514*1.2","v":0}]
[null,null,26,100,"26^100",null,0]
[null,null,26,100,"26^100",null,0]
[null,null,26,100,"26^100",null,0]
[null,null,26,100,"26^100",null,0]
[null,null,26,100,"26^100",null,0]
[null,null,26,100,"26^100",null,0]
[null,null,26,100,"26^100",null,0]
[null,null,26,100,"26^100",null,0]
[null,null,18,100,"18^100",null,0]
[null,null,18,100,"18^100",null,0]
[null,null,18,100,"18^100",null,0]
[null,null,18,100,"18^100",null,0]
[null,null,18,100,"18^100",null,0]
[null,null,18,100,"18^100",null,0]
[null,null,18,100,"18^100",null,0]
[null,null,18,100,"18^100",null,0]
[null,null,18,100,"18^100",null,0]
[null,null,18,100,"18^100",null,0]
[null,null,18,100,"18^100",null,0]
[null,null,18,100,"18^100",null,0]
[null,null,18,100,"18^100",null,0]
[null,null,18,100,"18^100",null,0]
[null,null,18,100,"18^100",null,0]
[null,null,18,100,"18^100",null,0]
[null,null,27,100,"27^100",null,0]
[null,null,27,100,"27^100",null,0]
[null,null,22,100,"22^100",null,0]
[null,null,20,100,"20^100",null,0]
[null,null,21,100,"21^100",null,0]
[null,null,21,100,"21^100",null,0]
[null,null,21,100,"21^100",null,0]
[null,null,21,100,"21^100",null,0]
[null,null,21,100,"21^100",null,0]
[null,null,21,100,"21^100",null,0]
[null,null,21,100,"21^100",null,0]
[null,null,21,100,"21^100",null,0]
[null,null,21,100,"21^100",null,0]
[null,null,21,100,"21^100",null,0]
[null,null,21,100,"21^100",null,0]
[null,null,21,100,"21^100",null,0]
[null,null,21,100,{"$f":"_xlfn.TEXTJOIN(\"^\",,C555:D555)","v":"21^100"},null,0]
[null,null,21,100,"21^100",null,0]
[null,null,21,100,"21^100",null,0]
[null,null,21,100,"21^100",null,0]
[null,null,21,100,"21^100",null,0]
[null,null,22,100,"22^100",null,0]

{"sheet":"调试区","index":3,"n_rows":329,"n_cols":20,"rows_kept":329,"cut":false,"hidden":false,"merged":[]}
[null,"ID[csknu]","name[ct]","profession[csn]","quality[csn]","qualityType[cn]","type[cn]","HP[csn]","attack[csn]","spellAttack[csn]","cost[cn]"]
[null,"ID区间(0-10w)","名称","职业类型","品阶","品质","类型","血量","攻击力","法术攻击力","召唤费用",null,"攻击间隔","HP","每一点费DPS","DPS修正","费用修正","费用修正","唯一角色血量修正","唯一角色攻击修正"]
["枪兵",10101,"t2700",1,1,1,1,490,90,0,3,{"$f":"K3-3","v":0},0.5,{"$f":"H3/K3","v":163.33333333333334},{"$f":"I3/M3/K3","v":60},null,{"$f":"FLOOR(H3*(1+0.05*L3),1)","v":490},{"$f":"FLOOR(I3*(1+0.05*L3),1)","v":90}]
[null,10102,"t2700",1,2,2,1,{"$f":"FLOOR(H3*1.2,1)","v":588},108,0,3]
[null,10103,"t2700",1,3,3,1,705,129,0,3]
[null,10104,"t2700",1,4,4,1,{"$f":"FLOOR(H5*1.54,1)","v":1085},{"$f":"FLOOR(I5*1.4,1)","v":180},0,3]
[null,10105,"t2700",1,5,4,1,1302,216,0,3]
[null,10106,"t2700",1,6,4,1,1562,259,0,3]
[null,10107,"t2700",1,7,5,1,{"$f":"FLOOR(H8*1.32,1)","v":2061},{"$f":"FLOOR(I8*1.32,1)","v":341},0,3]
[null,10108,"t2700",1,8,5,1,2473,409,0,3]
[null,10109,"t2700",1,9,5,1,2967,490,0,3]
[null,10110,"t2700",1,10,5,1,3560,588,0,3]
[null,10111,"t2700",1,11,6,1,{"$f":"FLOOR(H12*1.32,1)","v":4699},{"$f":"FLOOR(I12*1.32,1)","v":776},0,3]
[null,10112,"t2700",1,12,6,1,5638,931,0,3]
[null,10113,"t2700",1,13,6,1,6765,1117,0,3]
[null,10114,"t2700",1,14,6,1,8118,1340,0,3]
[null,10115,"t2700",1,15,6,1,9741,1608,0,3]
[null,10116,"t2700",1,16,6,1,11689,1929,0,3]
["火枪",10301,"t2701",4,1,1,1,210,115,0,3,{"$f":"K19-3","v":0},0.7,{"$f":"H19/K19","v":70},{"$f":"I19/M19/K19","v":54.761904761904766},null,{"$f":"FLOOR(H19*(1+0.05*L19),1)","v":210},{"$f":"FLOOR(I19*(1+0.05*L19),1)","v":115}]
[null,10302,"t2701",4,2,2,1,{"$f":"FLOOR(H19*1.2,1)","v":252},138,0,3]
[null,10303,"t2701",4,3,3,1,302,165,0,3]
[null,10304,"t2701",4,4,4,1,{"$f":"FLOOR(H21*1.4,1)","v":422},{"$f":"FLOOR(I21*1.4,1)","v":231},0,3]
[null,10305,"t2701",4,5,4,1,506,277,0,3]
[null,10306,"t2701",4,6,4,1,607,332,0,3]
[null,10307,"t2701",4,7,5,1,{"$f":"FLOOR(H24*1.32,1)","v":801},{"$f":"FLOOR(I24*1.32,1)","v":438},0,3]
[null,10308,"t2701",4,8,5,1,961,525,0,3]
[null,10309,"t2701",4,9,5,1,1153,630,0,3]
[null,10310,"t2701",4,10,5,1,1383,756,0,3]
[null,10311,"t2701",4,11,6,1,{"$f":"FLOOR(H28*1.32,1)","v":1825},{"$f":"FLOOR(I28*1.32,1)","v":997},0,3]
[null,10312,"t2701",4,12,6,1,2190,1196,0,3]
[null,10313,"t2701",4,13,6,1,2628,1435,0,3]
[null,10314,"t2701",4,14,6,1,3153,1722,0,3]
[null,10315,"t2701",4,15,6,1,3783,2066,0,3]
[null,10316,"t2701",4,16,6,1,4539,2479,0,3]
["罗宾",10401,"t2702",4,1,1,2,190,115,0,5,{"$f":"K35-3","v":2},0.8,{"$f":"H35/K35","v":38},{"$f":"I35/M35/K35","v":28.75},null,{"$f":"FLOOR(H35*(1+0.05*L35),1)","v":209},{"$f":"FLOOR(I35*(1+0.05*L35),1)","v":126},{"$f":"FLOOR(Q35*(1+G35*0.35),1)","v":355},{"$f":"FLOOR(R35*(1+G35*0.3),1)","v":201}]
[null,10402,"t2702",4,2,2,2,{"$f":"FLOOR(H35*1.2,1)","v":228},138,0,5]
[null,10403,"t2702",4,3,3,2,273,165,0,5]
[null,10404,"t2702",4,4,4,2,{"$f":"FLOOR(H37*1.4,1)","v":382},{"$f":"FLOOR(I37*1.54,1)","v":254},0,5]
[null,10405,"t2702",4,5,4,2,458,304,0,5]
[null,10406,"t2702",4,6,4,2,549,364,0,5]
[null,10407,"t2702",4,7,5,2,{"$f":"FLOOR(H40*1.32,1)","v":724},{"$f":"FLOOR(I40*1.32,1)","v":480},0,5]
[null,10408,"t2702",4,8,5,2,868,576,0,5]
[null,10409,"t2702",4,9,5,2,1041,691,0,5]
[null,10410,"t2702",4,10,5,2,1249,829,0,5]
[null,10411,"t2702",4,11,6,2,{"$f":"FLOOR(H44*1.32,1)","v":1648},{"$f":"FLOOR(I44*1.32,1)","v":1094},0,5]
[null,10412,"t2702",4,12,6,2,1977,1312,0,5]
[null,10413,"t2702",4,13,6,2,2372,1574,0,5]
[null,10414,"t2702",4,14,6,2,2846,1888,0,5]
[null,10415,"t2702",4,15,6,2,3415,2265,0,5]
[null,10416,"t2702",4,16,6,2,4098,2718,0,5]
["小丑",10501,"t2703",3,1,1,1,335,125,0,4,{"$f":"K51-3","v":1},0.65,{"$f":"H51/K51","v":83.75},{"$f":"I51/M51/K51","v":48.076923076923073},null,{"$f":"FLOOR(H51*(1+0.05*L51),1)","v":351},{"$f":"FLOOR(I51*(1+0.05*L51),1)","v":131}]
[null,10502,"t2703",3,2,2,1,{"$f":"FLOOR(H51*1.2,1)","v":402},150,0,4]
[null,10503,"t2703",3,3,3,1,482,180,0,4]
[null,10504,"t2703",3,4,4,1,{"$f":"FLOOR(H53*1.4,1)","v":674},{"$f":"FLOOR(I53*1.4,1)","v":252},0,4]
[null,10505,"t2703",3,5,4,1,808,302,0,4]
[null,10506,"t2703",3,6,4,1,969,362,0,4]
[null,10507,"t2703",3,7,5,1,{"$f":"FLOOR(H56*1.32,1)","v":1279},{"$f":"FLOOR(I56*1.32,1)","v":477},0,4]
[null,10508,"t2703",3,8,5,1,1534,572,0,4]
[null,10509,"t2703",3,9,5,1,1840,686,0,4]
[null,10510,"t2703",3,10,5,1,2208,823,0,4]
[null,10511,"t2703",3,11,6,1,{"$f":"FLOOR(H60*1.32,1)","v":2914},{"$f":"FLOOR(I60*1.32,1)","v":1086},0,4]
[null,10512,"t2703",3,12,6,1,3496,1303,0,4]
[null,10513,"t2703",3,13,6,1,4195,1563,0,4]
[null,10514,"t2703",3,14,6,1,5034,1875,0,4]
[null,10515,"t2703",3,15,6,1,6040,2250,0,4]
[null,10516,"t2703",3,16,6,1,7248,2700,0,4]
["特查拉",10601,"t2704",3,1,1,1,262,135,0,5,{"$f":"K67-3","v":2},0.75,{"$f":"H67/K67","v":52.4},{"$f":"I67/M67/K67","v":36},null,{"$f":"FLOOR(H67*(1+0.05*L67),1)","v":288},{"$f":"FLOOR(I67*(1+0.05*L67),1)","v":148}]
[null,10602,"t2704",3,2,2,1,{"$f":"FLOOR(H67*1.2,1)","v":314},162,0,5]
[null,10603,"t2704",3,3,3,1,376,194,0,5]
[null,10604,"t2704",3,4,4,1,{"$f":"FLOOR(H69*1.4,1)","v":526},{"$f":"FLOOR(I69*1.4,1)","v":271},0,5]
[null,10605,"t2704",3,5,4,1,631,325,0,5]
[null,10606,"t2704",3,6,4,1,757,390,0,5]
[null,10607,"t2704",3,7,5,1,{"$f":"FLOOR(H72*1.32,1)","v":999},{"$f":"FLOOR(I72*1.44,1)","v":561},0,5]
[null,10608,"t2704",3,8,5,1,{"$f":"FLOOR(H73*1.2,1)","v":1198},673,0,5]
[null,10609,"t2704",3,9,5,1,1437,807,0,5]
[null,10610,"t2704",3,10,5,1,1724,968,0,5]
[null,10611,"t2704",3,11,6,1,{"$f":"FLOOR(H76*1.32,1)","v":2275},{"$f":"FLOOR(I76*1.32,1)","v":1277},0,5]
[null,10612,"t2704",3,12,6,1,2730,1532,0,5]
[null,10613,"t2704",3,13,6,1,3276,1838,0,5]
[null,10614,"t2704",3,14,6,1,3931,2205,0,5]
[null,10615,"t2704",3,15,6,1,4717,2646,0,5]
[null,10616,"t2704",3,16,6,1,5660,3175,0,5]
["宇智波",10701,"t2705",3,1,1,2,285,210,0,8,{"$f":"K83-3","v":5},0.75,{"$f":"H83/K83","v":35.625},{"$f":"I83/M83/K83","v":35},null,{"$f":"FLOOR(H83*(1+0.05*L83),1)","v":356},{"$f":"FLOOR(I83*(1+0.05*L83),1)","v":262},{"$f":"FLOOR(Q83*(1+G83*0.35),1)","v":605},{"$f":"FLOOR(R83*(1+G83*0.3),1)","v":419}]
[null,10702,"t2705",3,2,2,2,{"$f":"FLOOR(H83*1.2,1)","v":342},{"$f":"FLOOR(I83*1.2,1)","v":252},0,7]
[null,10703,"t2705",3,3,3,2,{"$f":"FLOOR(H84*1.2,1)","v":410},{"$f":"FLOOR(I84*1.2,1)","v":302},0,7]
[null,10704,"t2705",3,4,4,2,{"$f":"FLOOR(H85*1.54,1)","v":631},{"$f":"FLOOR(I85*1.4,1)","v":422},0,7]
[null,10705,"t2705",3,5,4,2,{"$f":"FLOOR(H86*1.2,1)","v":757},506,0,7]
[null,10706,"t2705",3,6,4,2,908,607,0,7]
[null,10707,"t2705",3,7,5,2,{"$f":"FLOOR(H88*1.32,1)","v":1198},{"$f":"FLOOR(I88*1.32,1)","v":801},0,7]
[null,10708,"t2705",3,8,5,2,{"$f":"FLOOR(H89*1.2,1)","v":1437},961,0,7]
[null,10709,"t2705",3,9,5,2,1724,1153,0,7]
[null,10710,"t2705",3,10,5,2,2068,1383,0,7]
[null,10711,"t2705",3,11,6,2,{"$f":"FLOOR(H92*1.32,1)","v":2729},{"$f":"FLOOR(I92*1.32,1)","v":1825},0,7]
[null,10712,"t2705",3,12,6,2,3274,2190,0,7]
[null,10713,"t2705",3,13,6,2,3928,2628,0,7]
[null,10714,"t2705",3,14,6,2,4713,3153,0,7]
[null,10715,"t2705",3,15,6,2,5655,3783,0,7]
[null,10716,"t2705",3,16,6,2,6786,4539,0,7]
["阿拉丁",10801,"t2706",2,1,1,1,200,72,72,6,{"$f":"K99-3","v":3},1,{"$f":"H99/K99","v":33.333333333333336},{"$f":"I99/M99/K99","v":12},null,{"$f":"FLOOR(H99*(1+0.05*L99),1)","v":230},{"$f":"FLOOR(I99*(1+0.05*L99),1)","v":82}]
[null,10802,"t2706",2,2,2,1,{"$f":"FLOOR(H99*1.2,1)","v":240},0,{"$f":"FLOOR(J99*1.2,1)","v":86},6]
[null,10803,"t2706",2,3,3,1,288,0,{"$f":"FLOOR(J100*1.2,1)","v":103},6]
[null,10804,"t2706",2,4,4,1,{"$f":"FLOOR(H101*1.4,1)","v":403},0,{"$f":"FLOOR(J101*1.4,1)","v":144},6]
[null,10805,"t2706",2,5,4,1,483,0,{"$f":"FLOOR(J102*1.2,1)","v":172},6]
[null,10806,"t2706",2,6,4,1,579,0,{"$f":"FLOOR(J103*1.2,1)","v":206},6]
[null,10807,"t2706",2,7,5,1,{"$f":"FLOOR(H104*1.32,1)","v":764},0,{"$f":"FLOOR(J104*1.32,1)","v":271},6]
[null,10808,"t2706",2,8,5,1,916,0,{"$f":"FLOOR(J105*1.2,1)","v":325},6]
[null,10809,"t2706",2,9,5,1,1099,0,{"$f":"FLOOR(J106*1.2,1)","v":390},6]
[null,10810,"t2706",2,10,5,1,1318,0,{"$f":"FLOOR(J107*1.2,1)","v":468},6]
[null,10811,"t2706",2,11,6,1,{"$f":"FLOOR(H108*1.32,1)","v":1739},{"$f":"FLOOR(I108*1.32,1)","v":0},{"$f":"FLOOR(J108*1.32,1)","v":617},6]
[null,10812,"t2706",2,12,6,1,2086,0,{"$f":"FLOOR(J109*1.2,1)","v":740},6]
[null,10813,"t2706",2,13,6,1,2503,0,{"$f":"FLOOR(J110*1.2,1)","v":888},6]
[null,10814,"t2706",2,14,6,1,3003,0,{"$f":"FLOOR(J111*1.2,1)","v":1065},6]
[null,10815,"t2706",2,15,6,1,3603,0,{"$f":"FLOOR(J112*1.2,1)","v":1278},6]
[null,10816,"t2706",2,16,6,1,4323,0,{"$f":"FLOOR(J113*1.2,1)","v":1533},6]
["黑魔王",10901,"t2707",2,1,1,1,135,165,145,7,{"$f":"K115-3","v":4},1.2,{"$f":"H115/K115","v":19.285714285714285},{"$f":"I115/M115/K115","v":19.642857142857142},null,{"$f":"FLOOR(H115*(1+0.05*L115),1)","v":162},{"$f":"FLOOR(I115*(1+0.05*L115),1)","v":198}]
[null,10902,"t2707",2,2,2,1,{"$f":"FLOOR(H115*1.2,1)","v":162},0,{"$f":"FLOOR(J115*1.2,1)","v":174},7]
[null,10903,"t2707",2,3,3,1,194,0,208,7]
[null,10904,"t2707",2,4,4,1,{"$f":"FLOOR(H117*1.4,1)","v":271},0,{"$f":"FLOOR(J117*1.4,1)","v":291},7]
[null,10905,"t2707",2,5,4,1,325,0,349,7]
[null,10906,"t2707",2,6,4,1,390,0,418,7]
[null,10907,"t2707",2,7,5,1,{"$f":"FLOOR(H120*1.32,1)","v":514},0,{"$f":"FLOOR(J120*1.32,1)","v":551},7]
[null,10908,"t2707",2,8,5,1,616,0,661,7]
[null,10909,"t2707",2,9,5,1,739,0,793,7]
[null,10910,"t2707",2,10,5,1,886,0,951,7]
[null,10911,"t2707",2,11,6,1,{"$f":"FLOOR(H124*1.32,1)","v":1169},{"$f":"FLOOR(I124*1.32,1)","v":0},{"$f":"FLOOR(J124*1.32,1)","v":1255},7]
[null,10912,"t2707",2,12,6,1,1402,0,1506,7]
[null,10913,"t2707",2,13,6,1,1682,0,1807,7]
[null,10914,"t2707",2,14,6,1,2018,0,2168,7]
[null,10915,"t2707",2,15,6,1,2421,0,2601,7]
[null,10916,"t2707",2,16,6,1,2905,0,3121,7]
["萨莉",11001,"t2708",2,1,1,1,150,60,60,5,{"$f":"K131-3","v":2},1.2,{"$f":"H131/K131","v":30},{"$f":"I131/M131/K131","v":10},null,{"$f":"FLOOR(H131*(1+0.05*L131),1)","v":165},{"$f":"FLOOR(I131*(1+0.05*L131),1)","v":66}]
[null,11002,"t2708",2,2,2,1,{"$f":"FLOOR(H131*1.2,1)","v":180},0,{"$f":"FLOOR(J131*1.2,1)","v":72},5]
[null,11003,"t2708",2,3,3,1,216,0,86,5]
[null,11004,"t2708",2,4,4,1,{"$f":"FLOOR(H133*1.4,1)","v":302},0,{"$f":"FLOOR(J133*1.4,1)","v":120},5]
[null,11005,"t2708",2,5,4,1,362,0,144,5]
[null,11006,"t2708",2,6,4,1,434,0,172,5]
[null,11007,"t2708",2,7,5,1,{"$f":"FLOOR(H136*1.32,1)","v":572},0,{"$f":"FLOOR(J136*1.32,1)","v":227},5]
[null,11008,"t2708",2,8,5,1,686,0,272,5]
[null,11009,"t2708",2,9,5,1,823,0,326,5]
[null,11010,"t2708",2,10,5,1,987,0,391,5]
[null,11011,"t2708",2,11,6,1,{"$f":"FLOOR(H140*1.32,1)","v":1302},{"$f":"FLOOR(I140*1.32,1)","v":0},{"$f":"FLOOR(J140*1.32,1)","v":516},5]
[null,11012,"t2708",2,12,6,1,1562,0,619,5]
[null,11013,"t2708",2,13,6,1,1874,0,742,5]
[null,11014,"t2708",2,14,6,1,2248,0,890,5]
[null,11015,"t2708",2,15,6,1,2697,0,1068,5]
[null,11016,"t2708",2,16,6,1,3236,0,1281,5]
["巨汉",11101,"t2709",1,1,1,1,638,85,0,4,{"$f":"K147-3","v":1},1,{"$f":"H147/K147","v":159.5},{"$f":"I147/M147/K147","v":21.25},null,{"$f":"FLOOR(H147*(1+0.05*L147),1)","v":669},{"$f":"FLOOR(I147*(1+0.05*L147),1)","v":89}]
[null,11102,"t2709",1,2,2,1,{"$f":"FLOOR(H147*1.2,1)","v":765},102,0,4]
[null,11103,"t2709",1,3,3,1,918,122,0,4]
[null,11104,"t2709",1,4,4,1,{"$f":"FLOOR(H149*1.4,1)","v":1285},{"$f":"FLOOR(I149*1.4,1)","v":170},0,4]
[null,11105,"t2709",1,5,4,1,1542,204,0,4]
[null,11106,"t2709",1,6,4,1,1850,244,0,4]
[null,11107,"t2709",1,7,5,1,{"$f":"FLOOR(H152*1.44,1)","v":2664},{"$f":"FLOOR(I152*1.32,1)","v":322},0,4]
[null,11108,"t2709",1,8,5,1,3196,386,0,4]
[null,11109,"t2709",1,9,5,1,3835,463,0,4]
[null,11110,"t2709",1,10,5,1,4602,555,{"$f":"FLOOR(J155*1.32,1)","v":0},4]
[null,11111,"t2709",1,11,6,1,{"$f":"FLOOR(H156*1.32,1)","v":6074},{"$f":"FLOOR(I156*1.32,1)","v":732},0,4]
[null,11112,"t2709",1,12,6,1,7288,878,0,4]
[null,11113,"t2709",1,13,6,1,8745,1053,0,4]
[null,11114,"t2709",1,14,6,1,10494,1263,0,4]
[null,11115,"t2709",1,15,6,1,12592,1515,0,4]
[null,11116,"t2709",1,16,6,1,15110,1818,0,4]
["奥利尔",11201,"t2710",3,1,1,2,600,145,0,7,{"$f":"K163-3","v":4},0.8,{"$f":"H163/K163","v":85.714285714285708},{"$f":"I163/M163/K163","v":25.892857142857142},null,{"$f":"FLOOR(H163*(1+0.05*L163),1)","v":720},{"$f":"FLOOR(I163*(1+0.05*L163),1)","v":174},{"$f":"FLOOR(Q163*(1+G163*0.35),1)","v":1224},{"$f":"FLOOR(R163*(1+G163*0.3),1)","v":278}]
[null,11202,"t2710",3,2,2,2,{"$f":"FLOOR(H163*1.2,1)","v":720},174,0,7]
[null,11203,"t2710",3,3,3,2,864,208,0,7]
[null,11204,"t2710",3,4,4,2,{"$f":"FLOOR(H165*1.4,1)","v":1209},{"$f":"FLOOR(I165*1.4,1)","v":291},0,7]
[null,11205,"t2710",3,5,4,2,1450,349,0,7]
[null,11206,"t2710",3,6,4,2,1740,418,0,7]
[null,11207,"t2710",3,7,5,2,{"$f":"FLOOR(H168*1.32,1)","v":2296},{"$f":"FLOOR(I168*1.32,1)","v":551},0,7]
[null,11208,"t2710",3,8,5,2,2755,661,0,7]
[null,11209,"t2710",3,9,5,2,3306,793,0,7]
[null,11210,"t2710",3,10,5,2,3967,951,{"$f":"FLOOR(J171*1.32,1)","v":0},7]
[null,11211,"t2710",3,11,6,2,{"$f":"FLOOR(H172*1.32,1)","v":5236},{"$f":"FLOOR(I172*1.32,1)","v":1255},0,7]
[null,11212,"t2710",3,12,6,2,6283,1506,0,7]
[null,11213,"t2710",3,13,6,2,7539,1807,0,7]
[null,11214,"t2710",3,14,6,2,9046,2168,0,7]
[null,11215,"t2710",3,15,6,2,10855,2601,0,7]
[null,11216,"t2710",3,16,6,2,13026,3121,0,7]
["玛法里奥",11301,"t2711",2,1,1,1,200,40,40,5,{"$f":"K179-3","v":2},1.2,{"$f":"H179/K179","v":40},{"$f":"I179/M179/K179","v":6.666666666666667},null,{"$f":"FLOOR(H179*(1+0.05*L179),1)","v":220},{"$f":"FLOOR(I179*(1+0.05*L179),1)","v":44}]
[null,11302,"t2711",2,2,2,1,{"$f":"FLOOR(H179*1.2,1)","v":240},0,{"$f":"FLOOR(J179*1.2,1)","v":48},5]
[null,11303,"t2711",2,3,3,1,{"$f":"FLOOR(H180*1.2,1)","v":288},0,57,5]
[null,11304,"t2711",2,4,4,1,{"$f":"FLOOR(H181*1.61,1)","v":463},0,{"$f":"FLOOR(J181*1.4,1)","v":79},5]
[null,11305,"t2711",2,5,4,1,{"$f":"FLOOR(H182*1.2,1)","v":555},0,94,5]
[null,11306,"t2711",2,6,4,1,666,0,112,5]
[null,11307,"t2711",2,7,5,1,{"$f":"FLOOR(H184*1.32,1)","v":879},0,{"$f":"FLOOR(J184*1.32,1)","v":147},5]
[null,11308,"t2711",2,8,5,1,1054,0,176,5]
[null,11309,"t2711",2,9,5,1,1264,0,211,5]
[null,11310,"t2711",2,10,5,1,1516,0,253,5]
[null,11311,"t2711",2,11,6,1,{"$f":"FLOOR(H188*1.32,1)","v":2001},{"$f":"FLOOR(I188*1.32,1)","v":0},{"$f":"FLOOR(J188*1.32,1)","v":333},5]
[null,11312,"t2711",2,12,6,1,2401,0,399,5]
[null,11313,"t2711",2,13,6,1,2881,0,478,5]
[null,11314,"t2711",2,14,6,1,3457,0,573,5]
[null,11315,"t2711",2,15,6,1,4148,0,687,5]
[null,11316,"t2711",2,16,6,1,4977,0,824,5]
["图腾",11401,"图腾",0,0,0,3,5000,0,0,0]
["露娜",11501,"t2712",4,1,1,1,200,100,0,5,{"$f":"K196-3","v":2},1,{"$f":"H196/K196","v":40},{"$f":"I196/M196/K196","v":20},null,{"$f":"FLOOR(H196*(1+0.05*L196),1)","v":220},{"$f":"FLOOR(I196*(1+0.05*L196),1)","v":110}]
[null,11502,"t2712",4,2,2,1,{"$f":"FLOOR(H196*1.2,1)","v":240},{"$f":"FLOOR(I196*1.2,1)","v":120},0,5]
[null,11503,"t2712",4,3,3,1,{"$f":"FLOOR(H197*1.2,1)","v":288},{"$f":"FLOOR(I197*1.2,1)","v":144},0,5]
[null,11504,"t2712",4,4,4,1,{"$f":"FLOOR(H198*1.4,1)","v":403},{"$f":"FLOOR(I198*1.54,1)","v":221},0,5]
[null,11505,"t2712",4,5,4,1,{"$f":"FLOOR(H199*1.2,1)","v":483},265,0,5]
[null,11506,"t2712",4,6,4,1,579,318,0,5]
[null,11507,"t2712",4,7,5,1,{"$f":"FLOOR(H201*1.32,1)","v":764},{"$f":"FLOOR(I201*1.32,1)","v":419},0,5]
[null,11508,"t2712",4,8,5,1,916,502,0,5]
[null,11509,"t2712",4,9,5,1,1099,602,0,5]
[null,11510,"t2712",4,10,5,1,1318,722,{"$f":"FLOOR(J204*1.32,1)","v":0},5]
[null,11511,"t2712",4,11,6,1,{"$f":"FLOOR(H205*1.32,1)","v":1739},{"$f":"FLOOR(I205*1.32,1)","v":953},0,5]
[null,11512,"t2712",4,12,6,1,2086,1143,0,5]
[null,11513,"t2712",4,13,6,1,2503,1371,0,5]
[null,11514,"t2712",4,14,6,1,3003,1645,0,5]
[null,11515,"t2712",4,15,6,1,3603,1974,0,5]
[null,11516,"t2712",4,16,6,1,4323,2368,0,5]
["玛格尼斯",11601,"t2713",1,1,1,1,540,95,0,4,{"$f":"K212-3","v":1},1,{"$f":"H212/K212","v":135},{"$f":"I212/M212/K212","v":23.75},null,{"$f":"FLOOR(H212*(1+0.05*L212),1)","v":567},{"$f":"FLOOR(I212*(1+0.05*L212),1)","v":99}]
[null,11602,"t2713",1,2,2,1,{"$f":"FLOOR(H212*1.2,1)","v":648},114,0,4]
[null,11603,"t2713",1,3,3,1,777,136,0,4]
[null,11604,"t2713",1,4,4,1,{"$f":"FLOOR(H214*1.4,1)","v":1087},{"$f":"FLOOR(I214*1.4,1)","v":190},0,4]
[null,11605,"t2713",1,5,4,1,1304,228,0,4]
[null,11606,"t2713",1,6,4,1,1564,273,0,4]
[null,11607,"t2713",1,7,5,1,{"$f":"FLOOR(H217*1.32,1)","v":2064},{"$f":"FLOOR(I217*1.32,1)","v":360},0,4]
[null,11608,"t2713",1,8,5,1,2476,432,0,4]
[null,11609,"t2713",1,9,5,1,2971,518,0,4]
[null,11610,"t2713",1,10,5,1,3565,621,{"$f":"FLOOR(J220*1.32,1)","v":0},4]
[null,11611,"t2713",1,11,6,1,{"$f":"FLOOR(H221*1.32,1)","v":4705},{"$f":"FLOOR(I221*1.32,1)","v":819},0,4]
[null,11612,"t2713",1,12,6,1,5646,982,0,4]
[null,11613,"t2713",1,13,6,1,6775,1178,0,4]
[null,11614,"t2713",1,14,6,1,8130,1413,0,4]
[null,11615,"t2713",1,15,6,1,9756,1695,0,4]
[null,11616,"t2713",1,16,6,1,11707,2034,0,4]
["希瓦娜",11701,"t2714",1,1,1,2,478,130,0,6,{"$f":"K228-3","v":3},1,{"$f":"H228/K228","v":79.666666666666671},{"$f":"I228/M228/K228","v":21.666666666666668},null,{"$f":"FLOOR(H228*(1+0.05*L228),1)","v":549},{"$f":"FLOOR(I228*(1+0.05*L228),1)","v":149},{"$f":"FLOOR(Q228*(1+G228*0.35),1)","v":933},{"$f":"FLOOR(R228*(1+G228*0.3),1)","v":238}]
[null,11702,"t2714",1,2,2,2,{"$f":"FLOOR(H228*1.2,1)","v":573},156,0,6]
[null,11703,"t2714",1,3,3,2,687,187,0,6]
[null,11704,"t2714",1,4,4,2,{"$f":"FLOOR(H230*1.4,1)","v":961},{"$f":"FLOOR(I230*1.4,1)","v":261},0,6]
[null,11705,"t2714",1,5,4,2,1153,313,0,6]
[null,11706,"t2714",1,6,4,2,1383,375,0,6]
[null,11707,"t2714",1,7,5,2,{"$f":"FLOOR(H233*1.32,1)","v":1825},{"$f":"FLOOR(I233*1.32,1)","v":495},0,6]
[null,11708,"t2714",1,8,5,2,2190,594,0,6]
[null,11709,"t2714",1,9,5,2,2628,712,0,6]
[null,11710,"t2714",1,10,5,2,3153,854,{"$f":"FLOOR(J236*1.32,1)","v":0},6]
[null,11711,"t2714",1,11,6,2,{"$f":"FLOOR(H237*1.32,1)","v":4161},{"$f":"FLOOR(I237*1.32,1)","v":1127},0,6]
[null,11712,"t2714",1,12,6,2,4993,1352,0,6]
[null,11713,"t2714",1,13,6,2,5991,1622,0,6]
[null,11714,"t2714",1,14,6,2,7189,1946,0,6]
[null,11715,"t2714",1,15,6,2,8626,2335,0,6]
[null,11716,"t2714",1,16,6,2,10351,2802,0,6]
["变身龙",11801,"龙",1,0,0,4,433,121,0,0]
[null,11802,"龙",1,0,0,4,{"$f":"FLOOR(H244*1.2,1)","v":519},145,0,0]
[null,11803,"龙",1,0,0,4,622,174,0,0]
[null,11804,"龙",1,0,0,4,{"$f":"FLOOR(H246*1.4,1)","v":870},{"$f":"FLOOR(I246*1.4,1)","v":243},0,0]
[null,11805,"龙",1,0,0,4,1044,291,0,0]
[null,11806,"龙",1,0,0,4,1252,349,0,0]
[null,11807,"龙",1,0,0,4,{"$f":"FLOOR(H249*1.32,1)","v":1652},{"$f":"FLOOR(I249*1.32,1)","v":460},0,0]
[null,11808,"龙",1,0,0,4,1982,552,0,0]
[null,11809,"龙",1,0,0,4,2378,662,0,0]
[null,11810,"龙",1,0,0,4,2853,794,{"$f":"FLOOR(J252*1.32,1)","v":0},0]
[null,11811,"龙",1,0,0,4,{"$f":"FLOOR(H253*1.32,1)","v":3765},{"$f":"FLOOR(I253*1.32,1)","v":1048},0,0]
[null,11812,"龙",1,0,0,4,4518,1257,0,0]
[null,11813,"龙",1,0,0,4,5421,1508,0,0]
[null,11814,"龙",1,0,0,4,6505,1809,0,0]
[null,11815,"龙",1,0,0,4,7806,2170,0,0]
[null,11816,"龙",1,0,0,4,9367,2604,0,0]
["铁皮人",11901,"t2715",4,1,1,1,255,132,0,5,{"$f":"K260-3","v":2},1.5,{"$f":"H260/K260","v":51},{"$f":"I260/M260/K260","v":17.600000000000001},null,{"$f":"FLOOR(H260*(1+0.05*L260),1)","v":280},{"$f":"FLOOR(I260*(1+0.05*L260),1)","v":145}]
[null,11902,"t2715",4,2,2,1,{"$f":"FLOOR(H260*1.2,1)","v":306},158,0,5]
[null,11903,"t2715",4,3,3,1,367,189,0,5]
[null,11904,"t2715",4,4,4,1,{"$f":"FLOOR(H262*1.4,1)","v":513},{"$f":"FLOOR(I262*1.4,1)","v":264},0,5]
[null,11905,"t2715",4,5,4,1,615,316,0,5]
[null,11906,"t2715",4,6,4,1,738,379,0,5]
[null,11907,"t2715",4,7,5,1,{"$f":"FLOOR(H265*1.32,1)","v":974},{"$f":"FLOOR(I265*1.44,1)","v":545},0,5]
[null,11908,"t2715",4,8,5,1,{"$f":"FLOOR(H266*1.2,1)","v":1168},654,0,5]
[null,11909,"t2715",4,9,5,1,1401,784,0,5]
[null,11910,"t2715",4,10,5,1,1681,940,{"$f":"FLOOR(J268*1.32,1)","v":0},5]
[null,11911,"t2715",4,11,6,1,{"$f":"FLOOR(H269*1.32,1)","v":2218},{"$f":"FLOOR(I269*1.32,1)","v":1240},0,5]
[null,11912,"t2715",4,12,6,1,2661,1488,0,5]
[null,11913,"t2715",4,13,6,1,3193,1785,0,5]
[null,11914,"t2715",4,14,6,1,3831,2142,0,5]
[null,11915,"t2715",4,15,6,1,4597,2570,0,5]
[null,11916,"t2715",4,16,6,1,5516,3084,0,5]
["布鲁斯",12001,"t2716",1,1,1,1,498,120,0,5,{"$f":"K276-3","v":2},2,{"$f":"H276/K276","v":99.6},{"$f":"I276/M276/K276","v":12},null,{"$f":"FLOOR(H276*(1+0.05*L276),1)","v":547},{"$f":"FLOOR(I276*(1+0.05*L276),1)","v":132}]
[null,12002,"t2716",1,2,2,1,{"$f":"FLOOR(H276*1.2,1)","v":597},{"$f":"FLOOR(I276*1.2,1)","v":144},0,5]
[null,12003,"t2716",1,3,3,1,{"$f":"FLOOR(H277*1.2,1)","v":716},{"$f":"FLOOR(I277*1.2,1)","v":172},0,5]
[null,12004,"t2716",1,4,4,1,{"$f":"FLOOR(H278*1.4,1)","v":1002},{"$f":"FLOOR(I278*1.4,1)","v":240},0,5]
[null,12005,"t2716",1,5,4,1,{"$f":"FLOOR(H279*1.2,1)","v":1202},{"$f":"FLOOR(I279*1.2,1)","v":288},0,5]
[null,12006,"t2716",1,6,4,1,{"$f":"FLOOR(H280*1.2,1)","v":1442},345,0,5]
[null,12007,"t2716",1,7,5,1,{"$f":"FLOOR(H281*1.32,1)","v":1903},{"$f":"FLOOR(I281*1.32,1)","v":455},0,5]
[null,12008,"t2716",1,8,5,1,{"$f":"FLOOR(H282*1.2,1)","v":2283},546,0,5]
[null,12009,"t2716",1,9,5,1,{"$f":"FLOOR(H283*1.2,1)","v":2739},655,0,5]
[null,12010,"t2716",1,10,5,1,3286,786,{"$f":"FLOOR(J284*1.32,1)","v":0},5]
[null,12011,"t2716",1,11,6,1,{"$f":"FLOOR(H285*1.32,1)","v":4337},{"$f":"FLOOR(I285*1.32,1)","v":1037},0,5]
[null,12012,"t2716",1,12,6,1,5204,1244,0,5]
[null,12013,"t2716",1,13,6,1,6244,1492,0,5]
[null,12014,"t2716",1,14,6,1,7492,1790,0,5]
[null,12015,"t2716",1,15,6,1,8990,2148,0,5]
[null,12016,"t2716",1,16,6,1,10788,2577,0,5]
["浣熊卫队",12101,"t2717",1,1,1,1,135,90,0,5,{"$f":"K292-3","v":2},1,{"$f":"H292/K292","v":27},{"$f":"I292/M292/K292","v":18},{"$f":"O292+O308","v":45},{"$f":"FLOOR(H292*(1+0.05*L292),1)","v":148},{"$f":"FLOOR(I292*(1+0.05*L292),1)","v":99}]
[null,12102,"t2717",1,2,2,1,{"$f":"FLOOR(H292*1.2,1)","v":162},{"$f":"FLOOR(I292*1.2,1)","v":108},0,5]
[null,12103,"t2717",1,3,3,1,{"$f":"FLOOR(H293*1.2,1)","v":194},{"$f":"FLOOR(I293*1.2,1)","v":129},0,5]
[null,12104,"t2717",1,4,4,1,{"$f":"FLOOR(H294*1.4,1)","v":271},{"$f":"FLOOR(I294*1.4,1)","v":180},0,5]
[null,12105,"t2717",1,5,4,1,{"$f":"FLOOR(H295*1.2,1)","v":325},{"$f":"FLOOR(I295*1.2,1)","v":216},0,5]
[null,12106,"t2717",1,6,4,1,{"$f":"FLOOR(H296*1.2,1)","v":390},259,0,5]
[null,12107,"t2717",1,7,5,1,{"$f":"FLOOR(H297*1.32,1)","v":514},{"$f":"FLOOR(I297*1.32,1)","v":341},0,5]
[null,12108,"t2717",1,8,5,1,644,409,0,5]
[null,12109,"t2717",1,9,5,1,{"$f":"FLOOR(H299*1.2,1)","v":772},490,0,5]
[null,12110,"t2717",1,10,5,1,926,588,{"$f":"FLOOR(J300*1.32,1)","v":0},5]
[null,12111,"t2717",1,11,6,1,{"$f":"FLOOR(H301*1.32,1)","v":1222},{"$f":"FLOOR(I301*1.32,1)","v":776},0,5]
[null,12112,"t2717",1,12,6,1,1466,931,0,5]
[null,12113,"t2717",1,13,6,1,1759,1117,0,5]
[null,12114,"t2717",1,14,6,1,2110,1340,0,5]
[null,12115,"t2717",1,15,6,1,2532,1608,0,5]
[null,12116,"t2717",1,16,6,1,3038,1929,0,5]
[null,12201,"浣熊宝宝",1,1,0,4,{"$f":"H292*2.5","v":337.5},{"$f":"I292*0.6","v":54},0,0,{"$f":"K308-3","v":-3},2,null,{"$f":"I308/M308","v":27}]
[null,12202,"浣熊宝宝2",1,1,0,4,{"$f":"H292*2.8","v":378},{"$f":"I292*0.7","v":62.999999999999993},0,0,{"$f":"K309-3","v":-3},2,null,{"$f":"I309/M309","v":31.499999999999996}]
[null,12301,"陶土兵",1,1,0,4,4000,28.8,4000,0,{"$f":"K310-3","v":-3},2,null,{"$f":"I310/M310","v":14.4}]
[null,12401,"召唤树人",2,1,0,4,6000,24,24,0,{"$f":"K311-3","v":-3},2,null,{"$f":"I311/M311","v":12}]
["史莱姆",12501,"t2718",1,1,1,1,265,90,0,4,{"$f":"K312-3","v":1},1,{"$f":"H312/K312","v":66.25},{"$f":"I312/M312/K312","v":22.5},{"$f":"O312*3","v":67.5},{"$f":"FLOOR(H312*(1+0.05*L312),1)","v":278},{"$f":"FLOOR(I312*(1+0.05*L312),1)","v":94}]
[null,12502,"t2718",1,2,2,1,{"$f":"FLOOR(H312*1.2,1)","v":318},108,0,4]
[null,12503,"t2718",1,3,3,1,381,129,0,4]
[null,12504,"t2718",1,4,4,1,{"$f":"FLOOR(H314*1.4,1)","v":533},{"$f":"FLOOR(I314*1.54,1)","v":198},0,4]
[null,12505,"t2718",1,5,4,1,639,237,0,4]
[null,12506,"t2718",1,6,4,1,766,284,0,4]
[null,12507,"t2718",1,7,5,1,{"$f":"FLOOR(H317*1.32,1)","v":1011},{"$f":"FLOOR(I317*1.32,1)","v":374},0,4]
[null,12508,"t2718",1,8,5,1,1213,448,0,4]
[null,12509,"t2718",1,9,5,1,1455,537,0,4]
[null,12510,"t2718",1,10,5,1,1746,644,{"$f":"FLOOR(J320*1.32,1)","v":0},4]
[null,12511,"t2718",1,11,6,1,{"$f":"FLOOR(H321*1.32,1)","v":2304},{"$f":"FLOOR(I321*1.32,1)","v":850},0,4]
[null,12512,"t2718",1,12,6,1,2764,1020,0,4]
[null,12513,"t2718",1,13,6,1,3316,1224,0,4]
[null,12514,"t2718",1,14,6,1,3979,1468,0,4]
[null,12515,"t2718",1,15,6,1,4774,1761,0,4]
[null,12516,"t2718",1,16,6,1,5728,2113,0,4]
[null,12601,"t2718",1,0,0,4,10000,10000,0,4]
[null,99999,"基地",0,1,0,5,300,0,0,0,{"$f":"K329-3","v":-3},{"$nulls":5},{"$f":"FLOOR(I329*(1+0.05*L329),1)","v":0}]