{"text_format":"2","workbook":"xlsx","n_sheets":3,"sheets":["EliteInfoConfig","Sheet2","Sheet3"],"not_rendered":{"charts":0,"images":0,"macros":0,"external_links":1,"defined_names":1,"comments":1,"pivot_tables":0},"unopened":[],"bounds":{"document_bytes":16777216,"sheet_cells":100000,"run_cost":"one","rows_first":2000,"rows_last":500,"rows_between":2000,"halvings":0,"cell_chars":16384,"cell_head_chars":4096},"cells_cut":0,"cells_raw":0,"read":"whole","date_system":"1900"}

{"sheet":"EliteInfoConfig","index":0,"n_rows":47,"n_cols":11,"rows_kept":47,"cut":false,"hidden":false,"merged":[]}
["ID[csknu]","icon[ct]","name[ct]","reward[csna]","baseHP[cn]","baseTex[ct]","map[ct]","condition[csn]","front[csn]","type[csn]","parameter[csn]"]
["关卡id（关卡*100+波数）","关卡图标","关卡名字","通关奖励","基地血量","基地图片","战斗地图","解锁条件","小关卡前置","通关类型","通关参数"]
[101,"senlin_3","t1200","140006^1|130001^50",9999,"senlin_blue_1","senlin_1",1,0,2,{"$f":"'[1]1'!$AD$53","v":151}]
[102,"senlin_4","t1200","140006^1|130001^50",9999,"senlin_blue_1","senlin_1",1,101,2,{"$f":"'[1]1'!$AD$106","v":153}]
[103,"senlin_5","t1200","140006^1|130001^100",9999,"senlin_blue_1","senlin_1",1,102,2,{"$f":"'[1]1'!$AD$159","v":112}]
[111,"milin_2","t1201","140006^1|130001^50",9999,"senlin_blue_2","senlin_2",10,103,2,{"$f":"'[1]2'!$AD$53","v":241}]
[112,"milin_3","t1201","140006^1|130001^50",9999,"senlin_blue_2","senlin_2",10,111,2,{"$f":"'[1]2'!$AD$106","v":102}]
[113,"milin_5","t1201","140006^1|130001^100",12000,"senlin_blue_2","senlin_2",10,112,4,0]
[{"$f":"A6+10","v":121},"xueyuan_2","t1202","140006^1|130001^50",9999,"xuedi_blue_1","xuedi_1",15,113,2,{"$f":"'[1]3'!$AD$53","v":243}]
[{"$f":"A7+10","v":122},"xueyuan_4","t1202","140006^1|130001^100",9999,"xuedi_blue_1","xuedi_1",15,121,2,{"$f":"'[1]3'!$AD$110","v":227}]
[123,"xueyuan_5","t1202","140006^1|130001^150",9999,"xuedi_blue_1","xuedi_1",15,122,2,{"$f":"'[1]3'!$AD$167","v":133}]
[131,"xueshan_1","t1203","140006^1|130001^50",9999,"xuedi_blue_2","xuedi_2",20,123,2,{"$f":"'[1]4'!$AR$57","v":219}]
[132,"xueshan_3","t1203","140006^1|130001^100",9999,"xuedi_blue_2","xuedi_2",20,131,2,{"$f":"'[1]4'!$AR$113","v":225}]
[133,"xueshan_5","t1203","140006^1|130001^150",9999,"xuedi_blue_2","xuedi_2",20,132,2,{"$f":"'[1]4'!$AR$169","v":195}]
[141,"huoshan_2","t1204","140006^1|130001^50",9999,"yanjiang_blue_1","yanjiang_1",25,133,2,{"$f":"'[1]5'!$AR$57","v":241}]
[142,"huoshan_4","t1204","140006^1|130001^100",9999,"yanjiang_blue_1","yanjiang_1",25,141,2,{"$f":"'[1]5'!$AR$113","v":253}]
[143,"huoshan_5","t1204","140006^1|130001^150",9999,"yanjiang_blue_1","yanjiang_1",25,142,2,{"$f":"'[1]5'!$AR$169","v":208}]
[151,"yandi_1","t1205","140006^1|130001^50",9999,"yanjiang_blue_2","yanjiang_2",30,143,2,{"$f":"'[1]6'!$AR$57","v":214}]
[152,"yandi_3","t1205","140006^1|130001^100",9999,"yanjiang_blue_2","yanjiang_2",30,151,2,{"$f":"'[1]6'!$BF$113","v":313}]
[153,"yandi_5","t1205","140006^1|130001^150",9999,"yanjiang_blue_2","yanjiang_2",30,152,2,{"$f":"'[1]6'!$BF$169","v":240}]
[161,"milin_1","t1206","140006^1|130001^50",9999,"senlin_blue_1","senlin_1",35,153,2,{"$f":"'[1]7'!$BF$57","v":250}]
[162,"milin_2","t1206","140006^1|130001^100",9999,"senlin_blue_1","senlin_1",35,161,2,{"$f":"'[1]7'!$BF$113","v":257}]
[163,"milin_4","t1206","140006^1|130001^150",9999,"senlin_blue_1","senlin_1",35,162,2,{"$f":"'[1]7'!$BF$169","v":254}]
[171,"senlin_2","t1207","140006^1|130001^50",9999,"senlin_blue_2","senlin_2",40,163,2,{"$f":"'[1]8'!$BF$57","v":307}]
[172,"senlin_4","t1207","140006^1|130001^100",9999,"senlin_blue_2","senlin_2",40,171,2,{"$f":"'[1]8'!$BF$113","v":259}]
[173,"senlin_5","t1207","140006^1|130001^150",9999,"senlin_blue_2","senlin_2",40,172,2,{"$f":"'[1]8'!$BF$169","v":313}]
[181,"milin_3","t1208","140006^1|130001^50",9999,"senlin_blue_1","senlin_1",45,173,2,{"$f":"'[1]9'!$BF$57","v":370}]
[182,"milin_4","t1208","140006^1|130001^100",9999,"senlin_blue_1","senlin_1",45,181,2,{"$f":"'[1]9'!$BF$113","v":300}]
[183,"milin_5","t1208","140006^1|130001^150",9999,"senlin_blue_1","senlin_1",45,182,2,{"$f":"'[1]9'!$BF$169","v":287}]
[191,"xueshan_2","t1209","140006^1|130001^50",9999,"xuedi_blue_1","xuedi_1",50,183,2,{"$f":"'[1]10'!$BF$57","v":384}]
[192,"xueshan_3","t1209","140006^1|130001^100",9999,"xuedi_blue_1","xuedi_1",50,191,2,{"$f":"'[1]10'!$BF$113","v":289}]
[193,"xueshan_4","t1209","140006^1|130001^150",9999,"xuedi_blue_1","xuedi_1",50,192,2,{"$f":"'[1]10'!$BF$169","v":293}]
[201,"xueyuan_3","t1210","140006^1|130001^50",9999,"xuedi_blue_2","xuedi_2",55,193,2,{"$f":"'[1]11'!$BF$57","v":391}]
[202,"xueyuan_4","t1210","140006^1|130001^100",9999,"xuedi_blue_2","xuedi_2",55,201,2,{"$f":"'[1]11'!$BF$113","v":308}]
[203,"xueyuan_5","t1210","140006^1|130001^150",9999,"xuedi_blue_2","xuedi_2",55,202,2,{"$f":"'[1]11'!$BF$169","v":306}]
[211,"xueshan_1","t1211","140006^1|130001^50",9999,"xuedi_blue_1","xuedi_1",60,203,2,{"$f":"'[1]12'!$BF$57","v":307}]
[212,"xueshan_4","t1211","140006^1|130001^100",9999,"xuedi_blue_1","xuedi_1",60,211,2,{"$f":"'[1]12'!$BF$113","v":304}]
[213,"xueshan_5","t1211","140006^1|130001^150",9999,"xuedi_blue_1","xuedi_1",60,212,2,{"$f":"'[1]12'!$BF$169","v":414}]
[221,"yandi_2","t1212","140006^1|130001^50",9999,"yanjiang_blue_1","yanjiang_1",65,213,2,{"$f":"'[1]13'!$BF$57","v":402}]
[222,"yandi_3","t1212","140006^1|130001^100",9999,"yanjiang_blue_1","yanjiang_1",65,221,2,{"$f":"'[1]13'!$BF$113","v":300}]
[223,"yandi_4","t1212","140006^1|130001^150",9999,"yanjiang_blue_1","yanjiang_1",65,222,2,{"$f":"'[1]13'!$BF$169","v":307}]
[231,"huoshan_3","t1213","140006^1|130001^50",9999,"yanjiang_blue_2","yanjiang_2",70,223,2,{"$f":"'[1]14'!$BF$57","v":402}]
[232,"huoshan_4","t1213","140006^1|130001^100",9999,"yanjiang_blue_2","yanjiang_2",70,231,2,{"$f":"'[1]14'!$BF$113","v":418}]
[233,"huoshan_5","t1213","140006^1|130001^150",9999,"yanjiang_blue_2","yanjiang_2",70,232,2,{"$f":"'[1]14'!$BF$169","v":325}]
[241,"yandi_1","t1214","140006^1|130001^50",9999,"yanjiang_blue_1","yanjiang_1",75,233,2,{"$f":"'[1]15'!$BF$57","v":417}]
[242,"yandi_3","t1214","140006^1|130001^100",9999,"yanjiang_blue_1","yanjiang_1",75,241,2,{"$f":"'[1]15'!$BF$113","v":317}]
[243,"yandi_5","t1214","140006^1|130001^150",9999,"yanjiang_blue_1","yanjiang_1",75,242,2,{"$f":"'[1]15'!$BF$169","v":335}]

{"sheet":"Sheet2","index":1,"n_rows":0,"n_cols":0,"rows_kept":0,"cut":false,"hidden":false,"merged":[]}

{"sheet":"Sheet3","index":2,"n_rows":0,"n_cols":0,"rows_kept":0,"cut":false,"hidden":false,"merged":[]}