{"text_format":"2","workbook":"xlsx","n_sheets":6,"sheets":["HeroescallConfig","Sheet1","召唤库","普通召唤","武器召唤","道具表"],"not_rendered":{"charts":0,"images":1,"macros":0,"external_links":0,"defined_names":0,"comments":2,"pivot_tables":0},"unopened":[],"bounds":{"document_bytes":16777216,"sheet_cells":100000,"run_cost":"one","rows_first":2000,"rows_last":500,"rows_between":2000,"halvings":0,"cell_chars":16384,"cell_head_chars":4096},"cells_cut":0,"cells_raw":0,"read":"whole","date_system":"1900"}

{"sheet":"HeroescallConfig","index":0,"n_rows":23,"n_cols":11,"rows_kept":23,"cut":false,"hidden":false,"merged":[]}
["ID[csknu]","points[csn]","enter[sn]","must[sn]","chance[sn]","luckya[sn]","luckyb[sn]","luckyn[sn]","priority[sn]","type[csn]"]
["奖池","库ID","入库积分","必出积分","初始概率%","幸运参数a","幸运参数b","幸运参数n","调取优先级","召唤类型"]
[10001,1010,0,0,10000,0,0,0,1,1,"高级材料掉落"]
[10002,1001,0,0,4000,0,0,0,2,1,"初始英雄库（白色，保底基础奖池库）"]
[10003,1002,0,50,2000,0.1,20,2.86,3,1,"绿色英雄库（每次抽出都有20%概率抽取绿色卡）"]
[10004,1003,10,80,1000,1.1000000000000001,2,2.12,4,1,"蓝色英雄库（5入15次必出，15次内必出一张蓝卡）"]
[10005,1004,50,200,10,1.1000000000000001,6.5,1.8,5,1,"紫色英雄库（10连必出库，单抽15次开始入库，20次必出）"]
[10006,1005,10,50,500,0.2,27,2.9,6,1,"技能碎片库（10入20次必出，单抽10次开始入口，20次必出一次技能碎片）"]
[10007,1006,40,120,50,1.5,4.5,2,7,1,"完整技能卡牌（50入100次必出，100次抽取内必定出一张完整技能卡牌）"]
[20004,2004,0,0,10000,0,0,0,1,2,"白色材料库"]
[20005,2005,0,0,1500,0,0,0,2,2,"绿色材料库"]
[20006,2006,0,0,1500,0,0,0,3,2,"蓝色材料库"]
[20007,2007,0,0,1000,0,0,0,4,2,"紫色材料库"]
[20001,2001,30,200,100,10,6.6,1.32,5,2,"普通召唤-初始英雄库（白色，保底基础奖池库）"]
[20002,2002,50,300,100,6,4.5,1.32,6,2,"普通召唤-绿色英雄库（每次抽出都有15%概率抽取绿色卡）"]
[20003,2003,70,600,10,4,4.8600000000000003,1.2,7,2,"普通召唤-蓝色英雄库（5入20次必出，20次内必出一张蓝卡）"]
[30001,5007,0,0,10000,0,0,0,1,3,"白色卷轴库"]
[30002,5008,0,0,3000,0,0,0,2,3,"绿色卷轴库"]
[30003,5009,0,0,3000,0,0,0,3,3,"蓝色卷轴库"]
[30004,5001,0,0,2000,0,0,0,4,3,"初始装备库（白色装备，保底基础奖池库）"]
[30005,5002,0,30,100,100,1,1.3,5,3,"绿色装备库（每次抽都有20%概率抽取绿色卡）"]
[30006,5003,15,50,50,1.3,2,2.52,6,3,"蓝色装备库（5入15次必出，15次内必出一张蓝装）"]
[30007,5004,30,100,10,0.05,1,2.8712,7,3,"紫色装备库（10连必出库，单抽8次开始入库，10次必出）"]

{"sheet":"Sheet1","index":1,"n_rows":32,"n_cols":13,"rows_kept":32,"cut":false,"hidden":false,"merged":[[1,2,1,5],[1,9,1,12],[2,0,6,0],[2,7,6,7],[7,0,11,0],[7,7,11,7]]}
[]
[null,"日常活跃宝箱","奖励",{"$nulls":5},"周常活跃宝箱","奖励"]
["0-50级","活跃值20","钻石",10,"队伍经验",1000,null,"0-50级","活跃值20","金币",10000,"卷轴随机箱",10]
[null,"活跃值40","抽奖卷",1,"队伍经验",1000,null,null,"活跃值40","钻石",100,"经验石",50]
[null,"活跃值60","钻石",30,"队伍经验",1000,null,null,"活跃值60","高级抽奖卷",5,"技能书",50]
[null,"活跃值80","抽奖卷",1,"队伍经验",1000,null,null,"活跃值80","天赋石",1,"卷轴随机箱",20]
[null,"活跃值100","钻石",50,"队伍经验",1000,null,null,"活跃值100","钻石",300,"金币",50000]
["51-120级","活跃值20","钻石",10,"队伍经验",5000,null,"51-120级","活跃值20","金币",30000,"卷轴随机箱",15]
[null,"活跃值40","抽奖卷",1,"队伍经验",5000,null,null,"活跃值40","钻石",100,"经验石",60]
[null,"活跃值60","钻石",30,"队伍经验",5000,null,null,"活跃值60","高级抽奖卷",10,"技能书",80]
[null,"活跃值80","高级抽奖卷",1,"队伍经验",5000,null,null,"活跃值80","天赋石",1,"卷轴随机箱",30]
[null,"活跃值100","钻石",50,"队伍经验",5000,null,null,"活跃值100","钻石",300,"金币",100000]
[]
[]
[]
[]
[]
[]
["奖池","库ID","入库积分","必出积分","初始概率%","幸运参数","调取优先级","召唤类型"]
[10001,1001,0,0,10000,0,0,0,1,1,"初始英雄库（白色，保底基础奖池库）"]
[10002,1002,0,50,2000,0,0,0,2,1,"绿色英雄库（每次抽出都有20%概率抽取绿色卡）"]
[10003,1003,10,80,1000,7,2,3.11,3,1,"蓝色英雄库（5入15次必出，15次内必出一张蓝卡）"]
[10004,1004,50,200,10,500,0,0,4,1,"紫色英雄库（10连必出库，单抽15次开始入库，20次必出）"]
[10005,1005,10,50,150,150,0,0,5,1,"技能碎片库（10入20次必出，单抽10次开始入口，20次必出一次技能碎片）"]
[10006,1006,50,200,100,100,0,0,6,1,"完整技能卡牌（50入100次必出，100次抽取内必定出一张完整技能卡牌）"]
[20004,2004,0,0,10000,0,0,0,1,2,"白色材料库"]
[20005,2005,0,0,1500,0,0,0,2,2,"绿色材料库"]
[20006,2006,0,0,1000,0,0,0,3,2,"蓝色材料库"]
[20007,2007,0,0,300,0,0,0,4,2,"紫色材料库"]
[20001,2001,30,200,100,10,0,0,5,2,"普通召唤-初始英雄库（白色，保底基础奖池库,30入60出）"]
[20002,2002,50,300,100,10,0,0,6,2,"普通召唤-绿色英雄库（45入75出）"]
[20003,2003,100,1000,100,10,0,0,7,2,"普通召唤-蓝色英雄库（50入100出）"]

{"sheet":"召唤库","index":2,"n_rows":86,"n_cols":20,"rows_kept":86,"cut":false,"hidden":false,"merged":[]}
["白色英雄库",1001,{"$nulls":5},"紫色英雄库",null,1004,{"$nulls":4},"技能碎片库",1005]
[null,"名称","ID","数量下限","数量上限","权重",null,null,"名称","ID","数量下限","数量上限","权重",null,null,"名称","ID","数量下限","数量上限","权重"]
[null,{"$f":"VLOOKUP(C3,道具表!$A:$B,2,0)","v":"枪兵白"},10101,1,1,2000,null,null,{"$f":"VLOOKUP(J3,道具表!$A:$B,2,0)","v":"枪兵紫"},10104,1,1,1400,null,null,{"$f":"VLOOKUP(Q3,道具表!$A:$B,2,0)","v":"连锁闪电碎片"},150000,1,1,1000]
[null,{"$f":"VLOOKUP(C4,道具表!$A:$B,2,0)","v":"火枪白"},10301,1,1,2000,null,null,{"$f":"VLOOKUP(J4,道具表!$A:$B,2,0)","v":"火枪紫"},10304,1,1,1400,null,null,{"$f":"VLOOKUP(Q4,道具表!$A:$B,2,0)","v":"龙卷风碎片"},150003,1,1,1000]
[null,{"$f":"VLOOKUP(C5,道具表!$A:$B,2,0)","v":"小丑白"},10501,1,1,2000,null,null,{"$f":"VLOOKUP(J5,道具表!$A:$B,2,0)","v":"小丑紫"},10504,1,1,1400,null,null,{"$f":"VLOOKUP(Q5,道具表!$A:$B,2,0)","v":"冰锥碎片"},150004,1,1,0]
[null,{"$f":"VLOOKUP(C6,道具表!$A:$B,2,0)","v":"史莱姆白"},12501,1,1,2000,null,null,{"$f":"VLOOKUP(J6,道具表!$A:$B,2,0)","v":"史莱姆紫"},12504,1,1,1400,null,null,{"$f":"VLOOKUP(Q6,道具表!$A:$B,2,0)","v":"祷言碎片"},150002,1,1,2000]
[null,{"$f":"VLOOKUP(C7,道具表!$A:$B,2,0)","v":{"$error":"#N/A"}},{"$nulls":6},{"$f":"VLOOKUP(J7,道具表!$A:$B,2,0)","v":"阿拉丁紫"},10804,1,1,1400,null,null,{"$f":"VLOOKUP(Q7,道具表!$A:$B,2,0)","v":"恢复碎片"},150006,1,1,2000]
[null,{"$f":"VLOOKUP(C8,道具表!$A:$B,2,0)","v":"黑魔王白"},10901,1,1,400,null,null,{"$f":"VLOOKUP(J8,道具表!$A:$B,2,0)","v":"黑魔王紫"},10904,1,1,300,null,null,{"$f":"VLOOKUP(Q8,道具表!$A:$B,2,0)","v":"圣盾碎片"},150007,1,1,2000]
[null,{"$f":"VLOOKUP(C9,道具表!$A:$B,2,0)","v":"萨莉白"},11001,1,1,400,null,null,{"$f":"VLOOKUP(J9,道具表!$A:$B,2,0)","v":"萨莉紫"},11004,1,1,300,null,null,{"$f":"VLOOKUP(Q9,道具表!$A:$B,2,0)","v":"愤怒碎片"},150001,1,1,2000]
[null,{"$f":"VLOOKUP(C10,道具表!$A:$B,2,0)","v":"巨汉白"},11101,1,1,400,null,null,{"$f":"VLOOKUP(J10,道具表!$A:$B,2,0)","v":"巨汉紫"},11104,1,1,300,{"$nulls":6},{"$f":"SUM(T3:T9)","v":10000}]
[null,{"$f":"VLOOKUP(C11,道具表!$A:$B,2,0)","v":"布鲁斯白"},12001,1,1,400,null,null,{"$f":"VLOOKUP(J11,道具表!$A:$B,2,0)","v":"布鲁斯紫"},12004,1,1,300]
[null,{"$f":"VLOOKUP(C12,道具表!$A:$B,2,0)","v":{"$error":"#N/A"}},{"$nulls":6},{"$f":"VLOOKUP(J12,道具表!$A:$B,2,0)","v":"奥利尔紫"},11204,1,1,300]
[null,{"$f":"VLOOKUP(C13,道具表!$A:$B,2,0)","v":{"$error":"#N/A"}},{"$nulls":6},{"$f":"VLOOKUP(J13,道具表!$A:$B,2,0)","v":"露娜紫"},11504,1,1,300,null,"完整技能库",1006]
[null,{"$f":"VLOOKUP(C14,道具表!$A:$B,2,0)","v":{"$error":"#N/A"}},{"$nulls":6},{"$f":"VLOOKUP(J14,道具表!$A:$B,2,0)","v":"玛格尼斯紫"},11604,1,1,300,null,null,"名称","ID","数量下限","数量上限","权重"]
[null,{"$f":"VLOOKUP(C15,道具表!$A:$B,2,0)","v":"特查拉白"},10601,1,1,400,null,null,{"$f":"VLOOKUP(J15,道具表!$A:$B,2,0)","v":"特查拉紫"},10604,1,1,300,null,null,{"$f":"VLOOKUP(Q15,道具表!$A:$B,2,0)","v":"连锁闪电"},20101,1,1,1000]
[null,{"$f":"VLOOKUP(C16,道具表!$A:$B,2,0)","v":{"$error":"#N/A"}},{"$nulls":6},{"$f":"VLOOKUP(J16,道具表!$A:$B,2,0)","v":"浣熊卫队紫"},12104,1,1,100,null,null,{"$f":"VLOOKUP(Q16,道具表!$A:$B,2,0)","v":"龙卷风"},20401,1,1,1000]
[null,{"$f":"VLOOKUP(C17,道具表!$A:$B,2,0)","v":{"$error":"#N/A"}},{"$nulls":6},{"$f":"VLOOKUP(J17,道具表!$A:$B,2,0)","v":"玛法里奥紫"},11304,1,1,100,null,null,{"$f":"VLOOKUP(Q17,道具表!$A:$B,2,0)","v":"冰锥"},20501,1,1,0]
[null,{"$f":"VLOOKUP(C18,道具表!$A:$B,2,0)","v":{"$error":"#N/A"}},{"$nulls":6},{"$f":"VLOOKUP(J18,道具表!$A:$B,2,0)","v":"罗宾紫"},10404,1,1,100,null,null,{"$f":"VLOOKUP(Q18,道具表!$A:$B,2,0)","v":"流星火雨"},20601,1,1,2000]
[null,{"$f":"VLOOKUP(C19,道具表!$A:$B,2,0)","v":{"$error":"#N/A"}},{"$nulls":6},{"$f":"VLOOKUP(J19,道具表!$A:$B,2,0)","v":"希瓦娜紫"},11704,1,1,100,null,null,{"$f":"VLOOKUP(Q19,道具表!$A:$B,2,0)","v":"恢复祷言"},20701,1,1,2000]
[null,{"$f":"VLOOKUP(C20,道具表!$A:$B,2,0)","v":{"$error":"#N/A"}},{"$nulls":6},{"$f":"VLOOKUP(J20,道具表!$A:$B,2,0)","v":"铁皮人紫"},11904,1,1,100,null,null,{"$f":"VLOOKUP(Q20,道具表!$A:$B,2,0)","v":"圣盾"},20801,1,1,2000]
[null,{"$f":"VLOOKUP(C21,道具表!$A:$B,2,0)","v":{"$error":"#N/A"}},{"$nulls":6},{"$f":"VLOOKUP(J21,道具表!$A:$B,2,0)","v":"宇智波紫"},10704,1,1,100,null,null,{"$f":"VLOOKUP(Q21,道具表!$A:$B,2,0)","v":"愤怒"},20201,1,1,2000]
[{"$nulls":5},{"$f":"SUM(F3:F21)","v":10000},{"$nulls":6},{"$f":"SUM(M3:M21)","v":10000},{"$nulls":6},{"$f":"SUM(T15:T21)","v":10000}]
[]
[]
[null,null,{"$f":"_xlfn.TEXTJOIN(\"^\",,C3:C21)","v":"10101^10301^10501^12501^10901^11001^11101^12001^10601"},{"$f":"_xlfn.TEXTJOIN(\"^\",,D3:D21)","v":"1^1^1^1^1^1^1^1^1"},{"$f":"_xlfn.TEXTJOIN(\"^\",,E3:E21)","v":"1^1^1^1^1^1^1^1^1"},{"$f":"_xlfn.TEXTJOIN(\"^\",,F3:F21)","v":"2000^2000^2000^2000^400^400^400^400^400"}]
[]
[{"$nulls":14},"紫色狗粮召唤库",1007]
[{"$nulls":15},"名称","ID","数量下限","数量上限","权重"]
[{"$nulls":15},{"$f":"VLOOKUP(Q29,道具表!$A:$B,2,0)","v":"枪兵紫"},10104,1,1,2000]
["绿色英雄库",1002,{"$nulls":13},{"$f":"VLOOKUP(Q30,道具表!$A:$B,2,0)","v":"火枪紫"},10304,1,1,2000]
[null,"名称","ID","数量下限","数量上限","权重",{"$nulls":9},{"$f":"VLOOKUP(Q31,道具表!$A:$B,2,0)","v":"小丑紫"},10504,1,1,1500]
[null,{"$f":"VLOOKUP(C32,道具表!A:B,2,0)","v":"枪兵绿"},10102,1,1,2400,null,"紫S英雄库",{"$nulls":7},{"$f":"VLOOKUP(Q32,道具表!$A:$B,2,0)","v":"史莱姆紫"},12504,1,1,1500]
[null,{"$f":"VLOOKUP(C33,道具表!A:B,2,0)","v":"火枪绿"},10302,1,1,2300,null,null,"名称","ID","数量下限","数量上限","权重",null,null,{"$f":"VLOOKUP(Q33,道具表!$A:$B,2,0)","v":"阿拉丁紫"},10804,1,1,1500]
[null,{"$f":"VLOOKUP(C34,道具表!A:B,2,0)","v":"小丑绿"},10502,1,1,2300,null,null,{"$f":"VLOOKUP(J34,道具表!$A:$B,2,0)","v":"枪兵紫S"},10105,1,1,1400,null,null,{"$f":"VLOOKUP(Q34,道具表!$A:$B,2,0)","v":"布鲁斯紫"},12004,1,1,1500]
[null,{"$f":"VLOOKUP(C35,道具表!A:B,2,0)","v":"史莱姆绿"},12502,1,1,1000,null,null,{"$f":"VLOOKUP(J35,道具表!$A:$B,2,0)","v":"火枪紫S"},10305,1,1,1400]
[null,{"$f":"VLOOKUP(C36,道具表!A:B,2,0)","v":"阿拉丁绿"},10802,1,1,100,null,null,{"$f":"VLOOKUP(J36,道具表!$A:$B,2,0)","v":"小丑紫S"},10505,1,1,1400,{"$nulls":6},{"$f":"SUM(T29:T35)","v":10000}]
[null,{"$f":"VLOOKUP(C37,道具表!A:B,2,0)","v":"黑魔王绿"},10902,1,1,300,null,null,{"$f":"VLOOKUP(J37,道具表!$A:$B,2,0)","v":"史莱姆紫S"},12505,1,1,1400]
[null,{"$f":"VLOOKUP(C38,道具表!A:B,2,0)","v":"萨莉绿"},11002,1,1,300,null,null,{"$f":"VLOOKUP(J38,道具表!$A:$B,2,0)","v":"阿拉丁紫S"},10805,1,1,1400]
[null,{"$f":"VLOOKUP(C39,道具表!A:B,2,0)","v":"巨汉绿"},11102,1,1,300,null,null,{"$f":"VLOOKUP(J39,道具表!$A:$B,2,0)","v":"黑魔王紫S"},10905,1,1,300,null,"紫色召唤库",1008]
[null,{"$f":"VLOOKUP(C40,道具表!A:B,2,0)","v":"布鲁斯绿"},12002,1,1,300,null,null,{"$f":"VLOOKUP(J40,道具表!$A:$B,2,0)","v":"萨莉紫S"},11005,1,1,300,null,null,"名称","ID","数量下限","数量上限","权重"]
[null,{"$f":"VLOOKUP(C41,道具表!A:B,2,0)","v":{"$error":"#N/A"}},{"$nulls":6},{"$f":"VLOOKUP(J41,道具表!$A:$B,2,0)","v":"巨汉紫S"},11105,1,1,300,null,null,{"$f":"VLOOKUP(Q41,道具表!$A:$B,2,0)","v":"枪兵紫"},10104,1,1,1100]
[null,{"$f":"VLOOKUP(C42,道具表!A:B,2,0)","v":{"$error":"#N/A"}},{"$nulls":6},{"$f":"VLOOKUP(J42,道具表!$A:$B,2,0)","v":"布鲁斯紫S"},12005,1,1,300,null,null,{"$f":"VLOOKUP(Q42,道具表!$A:$B,2,0)","v":"火枪紫"},10304,1,1,1100]
[null,{"$f":"VLOOKUP(C43,道具表!A:B,2,0)","v":"玛格尼斯绿"},11602,1,1,100,null,null,{"$f":"VLOOKUP(J43,道具表!$A:$B,2,0)","v":"奥利尔紫S"},11205,1,1,300,null,null,{"$f":"VLOOKUP(Q43,道具表!$A:$B,2,0)","v":"小丑紫"},10504,1,1,1100]
[null,{"$f":"VLOOKUP(C44,道具表!A:B,2,0)","v":"特查拉绿"},10602,1,1,300,null,null,{"$f":"VLOOKUP(J44,道具表!$A:$B,2,0)","v":"露娜紫S"},11505,1,1,300,null,null,{"$f":"VLOOKUP(Q44,道具表!$A:$B,2,0)","v":"史莱姆紫"},12504,1,1,1100]
[null,{"$f":"VLOOKUP(C45,道具表!A:B,2,0)","v":"浣熊卫队绿"},12102,1,1,100,null,null,{"$f":"VLOOKUP(J45,道具表!$A:$B,2,0)","v":"玛格尼斯紫S"},11605,1,1,300,null,null,{"$f":"VLOOKUP(Q45,道具表!$A:$B,2,0)","v":"阿拉丁紫"},10804,1,1,1100]
[null,{"$f":"VLOOKUP(C46,道具表!A:B,2,0)","v":"玛法里奥绿"},11302,1,1,100,null,null,{"$f":"VLOOKUP(J46,道具表!$A:$B,2,0)","v":"特查拉紫S"},10605,1,1,300,null,null,{"$f":"VLOOKUP(Q46,道具表!$A:$B,2,0)","v":"布鲁斯紫"},12004,1,1,1000]
[null,{"$f":"VLOOKUP(C47,道具表!A:B,2,0)","v":{"$error":"#N/A"}},{"$nulls":6},{"$f":"VLOOKUP(J47,道具表!$A:$B,2,0)","v":"浣熊卫队紫S"},12105,1,1,100,null,null,{"$f":"VLOOKUP(Q47,道具表!$A:$B,2,0)","v":"黑魔王紫"},10904,1,1,500]
[null,{"$f":"VLOOKUP(C48,道具表!A:B,2,0)","v":{"$error":"#N/A"}},{"$nulls":6},{"$f":"VLOOKUP(J48,道具表!$A:$B,2,0)","v":"玛法里奥紫S"},11305,1,1,100,null,null,{"$f":"VLOOKUP(Q48,道具表!$A:$B,2,0)","v":"萨莉紫"},11004,1,1,500]
[null,{"$f":"VLOOKUP(C49,道具表!A:B,2,0)","v":"铁皮人绿"},11902,1,1,100,null,null,{"$f":"VLOOKUP(J49,道具表!$A:$B,2,0)","v":"罗宾紫S"},10405,1,1,100,null,null,{"$f":"VLOOKUP(Q49,道具表!$A:$B,2,0)","v":"布鲁斯紫"},12004,1,1,500]
[null,{"$f":"VLOOKUP(C50,道具表!A:B,2,0)","v":{"$error":"#N/A"}},{"$nulls":6},{"$f":"VLOOKUP(J50,道具表!$A:$B,2,0)","v":"希瓦娜紫S"},11705,1,1,100,null,null,{"$f":"VLOOKUP(Q50,道具表!$A:$B,2,0)","v":"奥利尔紫"},11204,1,1,500]
[{"$nulls":5},{"$f":"SUM(F32:F50)","v":10000},null,null,{"$f":"VLOOKUP(J51,道具表!$A:$B,2,0)","v":"铁皮人紫S"},11905,1,1,100,null,null,{"$f":"VLOOKUP(Q51,道具表!$A:$B,2,0)","v":"露娜紫"},11504,1,1,500]
[null,null,{"$f":"_xlfn.TEXTJOIN(\"^\",,C32:C50)","v":"10102^10302^10502^12502^10802^10902^11002^11102^12002^11602^10602^12102^11302^11902"},{"$f":"_xlfn.TEXTJOIN(\"^\",,D32:D50)","v":"1^1^1^1^1^1^1^1^1^1^1^1^1^1"},{"$f":"_xlfn.TEXTJOIN(\"^\",,E32:E50)","v":"1^1^1^1^1^1^1^1^1^1^1^1^1^1"},{"$f":"_xlfn.TEXTJOIN(\"^\",,F32:F50)","v":"2400^2300^2300^1000^100^300^300^300^300^100^300^100^100^100"},null,null,{"$f":"VLOOKUP(J52,道具表!$A:$B,2,0)","v":"宇智波紫S"},10705,1,1,100,null,null,{"$f":"VLOOKUP(Q52,道具表!$A:$B,2,0)","v":"玛格尼斯紫"},11604,1,1,500]
[{"$nulls":15},{"$f":"VLOOKUP(Q53,道具表!$A:$B,2,0)","v":"特查拉紫"},10604,1,1,500]
["蓝色英雄库",1003]
[null,"名称","ID","数量下限","数量上限","权重",{"$nulls":6},{"$f":"SUM(M34:M53)","v":10000}]
[null,{"$f":"VLOOKUP(C56,道具表!A:B,2,0)","v":"枪兵蓝"},10103,1,1,1400,{"$nulls":6},{"$f":"SUM(M34:M55)","v":20000},{"$nulls":6},{"$f":"SUM(T41:T53)","v":10000}]
[null,{"$f":"VLOOKUP(C57,道具表!A:B,2,0)","v":"火枪蓝"},10303,1,1,1400]
[null,{"$f":"VLOOKUP(C58,道具表!A:B,2,0)","v":"小丑蓝"},10503,1,1,1400,null,null,"高级材料掉落","ID","数量下限","数量上限","权重"]
[null,{"$f":"VLOOKUP(C59,道具表!A:B,2,0)","v":"史莱姆蓝"},12503,1,1,1400,null,null,"大堆金币",100006,10000,15000,2450]
[null,{"$f":"VLOOKUP(C60,道具表!A:B,2,0)","v":"阿拉丁蓝"},10803,1,1,1400,null,null,"大堆木材",140505,10000,15000,2500]
[null,{"$f":"VLOOKUP(C61,道具表!A:B,2,0)","v":"黑魔王蓝"},10903,1,1,300,null,null,"大堆石材",140605,10000,15000,2500]
[null,{"$f":"VLOOKUP(C62,道具表!A:B,2,0)","v":"萨莉蓝"},11003,1,1,300,null,null,"大堆经验石",140704,10000,15000,2500]
[null,{"$f":"VLOOKUP(C63,道具表!A:B,2,0)","v":"巨汉蓝"},11103,1,1,300,null,null,"天赋石",null,1,1,50]
[null,{"$f":"VLOOKUP(C64,道具表!A:B,2,0)","v":"布鲁斯蓝"},12003,1,1,300,{"$nulls":6},{"$f":"SUM(M59:M63)","v":10000}]
[null,{"$f":"VLOOKUP(C65,道具表!A:B,2,0)","v":"奥利尔蓝"},11203,1,1,300]
[null,{"$f":"VLOOKUP(C66,道具表!A:B,2,0)","v":"露娜蓝"},11503,1,1,300,{"$nulls":4},{"$f":"_xlfn.TEXTJOIN(\"^\",,K59:K63)","v":"10000^10000^10000^10000^1"},{"$f":"_xlfn.TEXTJOIN(\"^\",,L59:L63)","v":"15000^15000^15000^15000^1"},{"$f":"_xlfn.TEXTJOIN(\"^\",,M59:M63)","v":"2450^2500^2500^2500^50"}]
[null,{"$f":"VLOOKUP(C67,道具表!A:B,2,0)","v":"玛格尼斯蓝"},11603,1,1,300]
[null,{"$f":"VLOOKUP(C68,道具表!A:B,2,0)","v":"特查拉蓝"},10603,1,1,300]
[null,{"$f":"VLOOKUP(C69,道具表!A:B,2,0)","v":"浣熊卫队蓝"},12103,1,1,100]
[null,{"$f":"VLOOKUP(C70,道具表!A:B,2,0)","v":"玛法里奥蓝"},11303,1,1,100,{"$nulls":4},"80^80^80^80","120^120^120^120"]
[null,{"$f":"VLOOKUP(C71,道具表!A:B,2,0)","v":"罗宾蓝"},10403,1,1,100,{"$nulls":4},"300^300^300^300","600^600^600^600"]
[null,{"$f":"VLOOKUP(C72,道具表!A:B,2,0)","v":"希瓦娜蓝"},11703,1,1,100,{"$nulls":4},"800^800^800^800","1200^1200^1200^1200"]
[null,{"$f":"VLOOKUP(C73,道具表!A:B,2,0)","v":"铁皮人蓝"},11903,1,1,100,{"$nulls":4},"4500^4500^4500^4500","5500^5500^5500^5500"]
[null,{"$f":"VLOOKUP(C74,道具表!A:B,2,0)","v":"宇智波蓝"},10703,1,1,100]
[{"$nulls":5},{"$f":"SUM(F56:F74)","v":10000}]
[]
[]
["普通召唤首次必出"]
[null,"3阶巨汉",11103,1,1,10000]
[]
[]
[]
["高级召唤首次必出"]
[null,"4阶枪兵",10104,1,1,3333]
[null,"4阶小丑",10504,1,1,3334]
[null,"4阶史莱姆",12504,1,1,3333]

{"sheet":"普通召唤","index":3,"n_rows":74,"n_cols":15,"rows_kept":74,"cut":false,"hidden":false,"merged":[]}
["白色英雄库",2001,{"$nulls":5},"白色材料库",2004]
[null,"名称","ID","数量下限","数量上限","权重",null,null,"名称","ID","数量下限","数量上限","权重"]
[null,{"$f":"VLOOKUP(C3,道具表!$A:$B,2,0)","v":"枪兵白"},10101,1,1,1400,null,null,{"$f":"VLOOKUP(J3,道具表!$A:$B,2,0)","v":"小袋金币"},100002,1,1,2500]
[null,{"$f":"VLOOKUP(C4,道具表!$A:$B,2,0)","v":"火枪白"},10301,1,1,1400,null,null,{"$f":"VLOOKUP(J4,道具表!$A:$B,2,0)","v":"少量铁矿石"},140501,1,1,2500]
[null,{"$f":"VLOOKUP(C5,道具表!$A:$B,2,0)","v":"小丑白"},10501,1,1,1400,null,null,{"$f":"VLOOKUP(J5,道具表!$A:$B,2,0)","v":"少量木材"},140601,1,1,2500]
[null,{"$f":"VLOOKUP(C6,道具表!$A:$B,2,0)","v":"史莱姆白"},12501,1,1,1400,null,null,{"$f":"VLOOKUP(J6,道具表!$A:$B,2,0)","v":"少量经验石"},140701,1,1,2500]
[null,{"$f":"VLOOKUP(C7,道具表!$A:$B,2,0)","v":"阿拉丁白"},10801,1,1,1400,{"$nulls":6},{"$f":"SUM(M3:M6)","v":10000},null,{"$f":"_xlfn.TEXTJOIN(\"^\",,J3:J6)","v":"100002^140501^140601^140701"}]
[null,{"$f":"VLOOKUP(C8,道具表!$A:$B,2,0)","v":"黑魔王白"},10901,1,1,300,{"$nulls":8},{"$f":"_xlfn.TEXTJOIN(\"^\",,K3:K6)","v":"1^1^1^1"}]
[null,{"$f":"VLOOKUP(C9,道具表!$A:$B,2,0)","v":"萨莉白"},11001,1,1,300,{"$nulls":8},{"$f":"_xlfn.TEXTJOIN(\"^\",,M3:M6)","v":"2500^2500^2500^2500"}]
[null,{"$f":"VLOOKUP(C10,道具表!$A:$B,2,0)","v":"巨汉白"},11101,1,1,300]
[null,{"$f":"VLOOKUP(C11,道具表!$A:$B,2,0)","v":"布鲁斯白"},12001,1,1,300]
[null,{"$f":"VLOOKUP(C12,道具表!$A:$B,2,0)","v":"奥利尔白"},11201,1,1,300]
[null,{"$f":"VLOOKUP(C13,道具表!$A:$B,2,0)","v":"露娜白"},11501,1,1,300]
[null,{"$f":"VLOOKUP(C14,道具表!$A:$B,2,0)","v":"玛格尼斯白"},11601,1,1,300]
[null,{"$f":"VLOOKUP(C15,道具表!$A:$B,2,0)","v":"特查拉白"},10601,1,1,300]
[null,{"$f":"VLOOKUP(C16,道具表!$A:$B,2,0)","v":"浣熊卫队白"},12101,1,1,100,null,"绿色材料库",2005]
[null,{"$f":"VLOOKUP(C17,道具表!$A:$B,2,0)","v":"玛法里奥白"},11301,1,1,100,null,null,"名称","ID","数量下限","数量上限","权重"]
[null,{"$f":"VLOOKUP(C18,道具表!$A:$B,2,0)","v":"罗宾白"},10401,1,1,100,null,null,{"$f":"VLOOKUP(J18,道具表!$A:$B,2,0)","v":"中袋金币"},100003,1,1,2500]
[null,{"$f":"VLOOKUP(C19,道具表!$A:$B,2,0)","v":"希瓦娜白"},11701,1,1,100,null,null,{"$f":"VLOOKUP(J19,道具表!$A:$B,2,0)","v":"小堆铁矿石"},140502,1,1,2500]
[null,{"$f":"VLOOKUP(C20,道具表!$A:$B,2,0)","v":"铁皮人白"},11901,1,1,100,null,null,{"$f":"VLOOKUP(J20,道具表!$A:$B,2,0)","v":"小堆木材"},140602,1,1,2500]
[null,{"$f":"VLOOKUP(C21,道具表!$A:$B,2,0)","v":"宇智波白"},10701,1,1,100,null,null,{"$f":"VLOOKUP(J21,道具表!$A:$B,2,0)","v":"小堆经验石"},140702,1,1,2500]
[{"$nulls":5},{"$f":"SUM(F3:F21)","v":10000},{"$f":"_xlfn.TEXTJOIN(\"^\",,C3:C21)","v":"10101^10301^10501^12501^10801^10901^11001^11101^12001^11201^11501^11601^10601^12101^11301^10401^11701^11901^10701"},{"$nulls":5},{"$f":"SUM(M18:M21)","v":10000},null,{"$f":"_xlfn.TEXTJOIN(\"^\",,J18:J21)","v":"100003^140502^140602^140702"}]
[{"$nulls":6},{"$f":"_xlfn.TEXTJOIN(\"^\",,D3:D21)","v":"1^1^1^1^1^1^1^1^1^1^1^1^1^1^1^1^1^1^1"},{"$nulls":7},{"$f":"_xlfn.TEXTJOIN(\"^\",,K18:K21)","v":"1^1^1^1"}]
[{"$nulls":14},{"$f":"_xlfn.TEXTJOIN(\"^\",,M18:M21)","v":"2500^2500^2500^2500"}]
[]
[{"$nulls":7},"蓝色材料库",2006]
[{"$nulls":8},"名称","ID","数量下限","数量上限","权重"]
[{"$nulls":8},{"$f":"VLOOKUP(J28,道具表!$A:$B,2,0)","v":"大袋金币"},100004,1,1,2500]
[{"$nulls":8},{"$f":"VLOOKUP(J29,道具表!$A:$B,2,0)","v":"中堆铁矿石"},140503,1,1,2500]
["绿色英雄库",2002,{"$nulls":6},{"$f":"VLOOKUP(J30,道具表!$A:$B,2,0)","v":"中堆木材"},140603,1,1,2500]
[null,"名称","ID","数量下限","数量上限","权重",null,null,{"$f":"VLOOKUP(J31,道具表!$A:$B,2,0)","v":"中堆经验石"},140703,1,1,2500]
[null,{"$f":"VLOOKUP(C32,道具表!A:B,2,0)","v":"枪兵绿"},10102,1,1,1400,{"$nulls":6},{"$f":"SUM(M28:M31)","v":10000},null,{"$f":"_xlfn.TEXTJOIN(\"^\",,J28:J31)","v":"100004^140503^140603^140703"}]
[null,{"$f":"VLOOKUP(C33,道具表!A:B,2,0)","v":"火枪绿"},10302,1,1,1400,{"$nulls":8},{"$f":"_xlfn.TEXTJOIN(\"^\",,K28:K31)","v":"1^1^1^1"}]
[null,{"$f":"VLOOKUP(C34,道具表!A:B,2,0)","v":"小丑绿"},10502,1,1,1400,{"$nulls":8},{"$f":"_xlfn.TEXTJOIN(\"^\",,M28:M31)","v":"2500^2500^2500^2500"}]
[null,{"$f":"VLOOKUP(C35,道具表!A:B,2,0)","v":"史莱姆绿"},12502,1,1,1400]
[null,{"$f":"VLOOKUP(C36,道具表!A:B,2,0)","v":"阿拉丁绿"},10802,1,1,1400]
[null,{"$f":"VLOOKUP(C37,道具表!A:B,2,0)","v":"黑魔王绿"},10902,1,1,300,null,"紫色材料库",2007]
[null,{"$f":"VLOOKUP(C38,道具表!A:B,2,0)","v":"萨莉绿"},11002,1,1,300,null,null,"名称","ID","数量下限","数量上限","权重"]
[null,{"$f":"VLOOKUP(C39,道具表!A:B,2,0)","v":"巨汉绿"},11102,1,1,300,null,null,{"$f":"VLOOKUP(J39,道具表!$A:$B,2,0)","v":"一箱金币"},100005,1,1,2500]
[null,{"$f":"VLOOKUP(C40,道具表!A:B,2,0)","v":"布鲁斯绿"},12002,1,1,300,null,null,{"$f":"VLOOKUP(J40,道具表!$A:$B,2,0)","v":"大堆铁矿石"},140504,1,1,2500]
[null,{"$f":"VLOOKUP(C41,道具表!A:B,2,0)","v":"奥利尔绿"},11202,1,1,300,null,null,{"$f":"VLOOKUP(J41,道具表!$A:$B,2,0)","v":"大堆木材"},140604,1,1,2500]
[null,{"$f":"VLOOKUP(C42,道具表!A:B,2,0)","v":"露娜绿"},11502,1,1,300,null,null,{"$f":"VLOOKUP(J42,道具表!$A:$B,2,0)","v":"大堆经验石"},140704,1,1,2500]
[null,{"$f":"VLOOKUP(C43,道具表!A:B,2,0)","v":"玛格尼斯绿"},11602,1,1,300,{"$nulls":6},{"$f":"SUM(M39:M42)","v":10000},null,{"$f":"_xlfn.TEXTJOIN(\"^\",,J39:J42)","v":"100005^140504^140604^140704"}]
[null,{"$f":"VLOOKUP(C44,道具表!A:B,2,0)","v":"特查拉绿"},10602,1,1,300,{"$nulls":8},{"$f":"_xlfn.TEXTJOIN(\"^\",,K39:K42)","v":"1^1^1^1"}]
[null,{"$f":"VLOOKUP(C45,道具表!A:B,2,0)","v":"浣熊卫队绿"},12102,1,1,100]
[null,{"$f":"VLOOKUP(C46,道具表!A:B,2,0)","v":"玛法里奥绿"},11302,1,1,100]
[null,{"$f":"VLOOKUP(C47,道具表!A:B,2,0)","v":"罗宾绿"},10402,1,1,100]
[null,{"$f":"VLOOKUP(C48,道具表!A:B,2,0)","v":"希瓦娜绿"},11702,1,1,100]
[null,{"$f":"VLOOKUP(C49,道具表!A:B,2,0)","v":"铁皮人绿"},11902,1,1,100]
[null,{"$f":"VLOOKUP(C50,道具表!A:B,2,0)","v":"宇智波绿"},10702,1,1,100]
[{"$nulls":5},{"$f":"SUM(F32:F50)","v":10000},{"$f":"_xlfn.TEXTJOIN(\"^\",,C32:C50)","v":"10102^10302^10502^12502^10802^10902^11002^11102^12002^11202^11502^11602^10602^12102^11302^10402^11702^11902^10702"}]
["蓝色英雄库",2003,{"$nulls":4},{"$f":"_xlfn.TEXTJOIN(\"^\",,D32:D50)","v":"1^1^1^1^1^1^1^1^1^1^1^1^1^1^1^1^1^1^1"}]
[null,"名称","ID","数量下限","数量上限","权重"]
[null,{"$f":"VLOOKUP(C54,道具表!A:B,2,0)","v":"枪兵蓝"},10103,1,1,1400]
[null,{"$f":"VLOOKUP(C55,道具表!A:B,2,0)","v":"火枪蓝"},10303,1,1,1400]
[null,{"$f":"VLOOKUP(C56,道具表!A:B,2,0)","v":"小丑蓝"},10503,1,1,1400]
[null,{"$f":"VLOOKUP(C57,道具表!A:B,2,0)","v":"史莱姆蓝"},12503,1,1,1400]
[null,{"$f":"VLOOKUP(C58,道具表!A:B,2,0)","v":"阿拉丁蓝"},10803,1,1,1400]
[null,{"$f":"VLOOKUP(C59,道具表!A:B,2,0)","v":"黑魔王蓝"},10903,1,1,300]
[null,{"$f":"VLOOKUP(C60,道具表!A:B,2,0)","v":"萨莉蓝"},11003,1,1,300]
[null,{"$f":"VLOOKUP(C61,道具表!A:B,2,0)","v":"巨汉蓝"},11103,1,1,300]
[null,{"$f":"VLOOKUP(C62,道具表!A:B,2,0)","v":"布鲁斯蓝"},12003,1,1,300]
[null,{"$f":"VLOOKUP(C63,道具表!A:B,2,0)","v":"奥利尔蓝"},11203,1,1,300]
[null,{"$f":"VLOOKUP(C64,道具表!A:B,2,0)","v":"露娜蓝"},11503,1,1,300]
[null,{"$f":"VLOOKUP(C65,道具表!A:B,2,0)","v":"玛格尼斯蓝"},11603,1,1,300]
[null,{"$f":"VLOOKUP(C66,道具表!A:B,2,0)","v":"特查拉蓝"},10603,1,1,300]
[null,{"$f":"VLOOKUP(C67,道具表!A:B,2,0)","v":"浣熊卫队蓝"},12103,1,1,100]
[null,{"$f":"VLOOKUP(C68,道具表!A:B,2,0)","v":"玛法里奥蓝"},11303,1,1,100]
[null,{"$f":"VLOOKUP(C69,道具表!A:B,2,0)","v":"罗宾蓝"},10403,1,1,100]
[null,{"$f":"VLOOKUP(C70,道具表!A:B,2,0)","v":"希瓦娜蓝"},11703,1,1,100]
[null,{"$f":"VLOOKUP(C71,道具表!A:B,2,0)","v":"铁皮人蓝"},11903,1,1,100]
[null,{"$f":"VLOOKUP(C72,道具表!A:B,2,0)","v":"宇智波蓝"},10703,1,1,100]
[{"$nulls":5},{"$f":"SUM(F54:F72)","v":10000},{"$f":"_xlfn.TEXTJOIN(\"^\",,C54:C72)","v":"10103^10303^10503^12503^10803^10903^11003^11103^12003^11203^11503^11603^10603^12103^11303^10403^11703^11903^10703"}]
[{"$nulls":6},{"$f":"_xlfn.TEXTJOIN(\"^\",,D54:D72)","v":"1^1^1^1^1^1^1^1^1^1^1^1^1^1^1^1^1^1^1"}]

{"sheet":"武器召唤","index":4,"n_rows":136,"n_cols":21,"rows_kept":136,"cut":false,"hidden":false,"merged":[]}
["白色英雄库",5001,{"$nulls":5},"蓝色装备库",5003,{"$nulls":5},"紫色装备库",5005]
[null,"名称","ID","数量下限","数量上限","权重",null,null,"名称","ID","数量下限","数量上限","权重",null,null,"名称","ID","数量下限","数量上限","权重"]
[null,{"$f":"VLOOKUP(C3,道具表!$A:$B,2,0)","v":"泣血大剑白"},210101,1,1,149,null,null,{"$f":"VLOOKUP(J3,道具表!$A:$B,2,0)","v":"泣血大剑蓝"},210103,1,1,149,null,null,{"$f":"VLOOKUP(Q3,道具表!$A:$B,2,0)","v":"泣血大剑紫S"},210106,1,1,149]
[null,{"$f":"VLOOKUP(C4,道具表!$A:$B,2,0)","v":"泰坦短剑白"},210201,1,1,74,null,null,{"$f":"VLOOKUP(J4,道具表!$A:$B,2,0)","v":"泰坦短剑蓝"},210203,1,1,74,null,null,{"$f":"VLOOKUP(Q4,道具表!$A:$B,2,0)","v":"泰坦短剑紫S"},210206,1,1,74]
[null,{"$f":"VLOOKUP(C5,道具表!$A:$B,2,0)","v":"追击短弓白"},210301,1,1,223,null,null,{"$f":"VLOOKUP(J5,道具表!$A:$B,2,0)","v":"追击短弓蓝"},210303,1,1,223,null,null,{"$f":"VLOOKUP(Q5,道具表!$A:$B,2,0)","v":"追击短弓紫S"},210306,1,1,223]
[null,{"$f":"VLOOKUP(C6,道具表!$A:$B,2,0)","v":"削骨短刃白"},210401,1,1,149,null,null,{"$f":"VLOOKUP(J6,道具表!$A:$B,2,0)","v":"削骨短刃蓝"},210403,1,1,149,null,null,{"$f":"VLOOKUP(Q6,道具表!$A:$B,2,0)","v":"削骨短刃紫S"},210406,1,1,149]
[null,{"$f":"VLOOKUP(C7,道具表!$A:$B,2,0)","v":"精致长剑白"},210501,1,1,149,null,null,{"$f":"VLOOKUP(J7,道具表!$A:$B,2,0)","v":"精致长剑蓝"},210503,1,1,149,null,null,{"$f":"VLOOKUP(Q7,道具表!$A:$B,2,0)","v":"精致长剑紫S"},210506,1,1,149]
[null,{"$f":"VLOOKUP(C8,道具表!$A:$B,2,0)","v":"精致法杖白"},210601,1,1,149,null,null,{"$f":"VLOOKUP(J8,道具表!$A:$B,2,0)","v":"精致法杖蓝"},210603,1,1,149,null,null,{"$f":"VLOOKUP(Q8,道具表!$A:$B,2,0)","v":"精致法杖紫S"},210606,1,1,149]
[null,{"$f":"VLOOKUP(C9,道具表!$A:$B,2,0)","v":"信仰权杖白"},210701,1,1,300,null,null,{"$f":"VLOOKUP(J9,道具表!$A:$B,2,0)","v":"信仰权杖蓝"},210703,1,1,300,null,null,{"$f":"VLOOKUP(Q9,道具表!$A:$B,2,0)","v":"信仰权杖紫S"},210706,1,1,300]
[null,{"$f":"VLOOKUP(C10,道具表!$A:$B,2,0)","v":"仪式权杖白"},210801,1,1,300,null,null,{"$f":"VLOOKUP(J10,道具表!$A:$B,2,0)","v":"仪式权杖蓝"},210803,1,1,300,null,null,{"$f":"VLOOKUP(Q10,道具表!$A:$B,2,0)","v":"仪式权杖紫S"},210806,1,1,300]
[null,{"$f":"VLOOKUP(C11,道具表!$A:$B,2,0)","v":"荒古法杖白"},210901,1,1,149,null,null,{"$f":"VLOOKUP(J11,道具表!$A:$B,2,0)","v":"荒古法杖蓝"},210903,1,1,149,null,null,{"$f":"VLOOKUP(Q11,道具表!$A:$B,2,0)","v":"荒古法杖紫S"},210906,1,1,149]
[null,{"$f":"VLOOKUP(C12,道具表!$A:$B,2,0)","v":"唤魔法杖白"},211001,1,1,149,null,null,{"$f":"VLOOKUP(J12,道具表!$A:$B,2,0)","v":"唤魔法杖蓝"},211003,1,1,149,null,null,{"$f":"VLOOKUP(Q12,道具表!$A:$B,2,0)","v":"唤魔法杖紫S"},211006,1,1,149]
[null,{"$f":"VLOOKUP(C13,道具表!$A:$B,2,0)","v":"泰坦指环白"},220101,1,1,74,null,null,{"$f":"VLOOKUP(J13,道具表!$A:$B,2,0)","v":"泰坦指环蓝"},220103,1,1,74,null,null,{"$f":"VLOOKUP(Q13,道具表!$A:$B,2,0)","v":"泰坦指环紫S"},220106,1,1,74]
[null,{"$f":"VLOOKUP(C14,道具表!$A:$B,2,0)","v":"迅击戒指白"},220201,1,1,223,null,null,{"$f":"VLOOKUP(J14,道具表!$A:$B,2,0)","v":"迅击戒指蓝"},220203,1,1,223,null,null,{"$f":"VLOOKUP(Q14,道具表!$A:$B,2,0)","v":"迅击戒指紫S"},220206,1,1,223]
[null,{"$f":"VLOOKUP(C15,道具表!$A:$B,2,0)","v":"智慧徽章白"},220301,1,1,74,null,null,{"$f":"VLOOKUP(J15,道具表!$A:$B,2,0)","v":"智慧徽章蓝"},220303,1,1,74,null,null,{"$f":"VLOOKUP(Q15,道具表!$A:$B,2,0)","v":"智慧徽章紫S"},220306,1,1,74]
[null,{"$f":"VLOOKUP(C16,道具表!$A:$B,2,0)","v":"仪式护符白"},220401,1,1,299,null,null,{"$f":"VLOOKUP(J16,道具表!$A:$B,2,0)","v":"仪式护符蓝"},220403,1,1,299,null,null,{"$f":"VLOOKUP(Q16,道具表!$A:$B,2,0)","v":"仪式护符紫S"},220406,1,1,299]
[null,{"$f":"VLOOKUP(C17,道具表!$A:$B,2,0)","v":"荒古吊坠白"},220501,1,1,149,null,null,{"$f":"VLOOKUP(J17,道具表!$A:$B,2,0)","v":"荒古吊坠蓝"},220503,1,1,149,null,null,{"$f":"VLOOKUP(Q17,道具表!$A:$B,2,0)","v":"荒古吊坠紫S"},220506,1,1,149]
[null,{"$f":"VLOOKUP(C18,道具表!$A:$B,2,0)","v":"唤魔项链白"},220601,1,1,149,null,null,{"$f":"VLOOKUP(J18,道具表!$A:$B,2,0)","v":"唤魔项链蓝"},220603,1,1,149,null,null,{"$f":"VLOOKUP(Q18,道具表!$A:$B,2,0)","v":"唤魔项链紫S"},220606,1,1,149]
[null,{"$f":"VLOOKUP(C19,道具表!$A:$B,2,0)","v":"泰坦护腕白"},230101,1,1,74,null,null,{"$f":"VLOOKUP(J19,道具表!$A:$B,2,0)","v":"泰坦护腕蓝"},230103,1,1,74,null,null,{"$f":"VLOOKUP(Q19,道具表!$A:$B,2,0)","v":"泰坦护腕紫S"},230106,1,1,74]
[null,{"$f":"VLOOKUP(C20,道具表!$A:$B,2,0)","v":"迅击护腕白"},230201,1,1,149,null,null,{"$f":"VLOOKUP(J20,道具表!$A:$B,2,0)","v":"迅击护腕蓝"},230203,1,1,149,null,null,{"$f":"VLOOKUP(Q20,道具表!$A:$B,2,0)","v":"迅击护腕紫S"},230206,1,1,149]
[null,{"$f":"VLOOKUP(C21,道具表!$A:$B,2,0)","v":"贪婪护腕白"},230301,1,1,447,null,null,{"$f":"VLOOKUP(J21,道具表!$A:$B,2,0)","v":"贪婪护腕蓝"},230303,1,1,447,null,null,{"$f":"VLOOKUP(Q21,道具表!$A:$B,2,0)","v":"贪婪护腕紫S"},230306,1,1,447]
[null,{"$f":"VLOOKUP(C22,道具表!$A:$B,2,0)","v":"仪式护腕白"},230401,1,1,299,null,null,{"$f":"VLOOKUP(J22,道具表!$A:$B,2,0)","v":"仪式护腕蓝"},230403,1,1,299,null,null,{"$f":"VLOOKUP(Q22,道具表!$A:$B,2,0)","v":"仪式护腕紫S"},230406,1,1,299]
[null,{"$f":"VLOOKUP(C23,道具表!$A:$B,2,0)","v":"荒古护腕白"},230501,1,1,149,null,null,{"$f":"VLOOKUP(J23,道具表!$A:$B,2,0)","v":"荒古护腕蓝"},230503,1,1,149,null,null,{"$f":"VLOOKUP(Q23,道具表!$A:$B,2,0)","v":"荒古护腕紫S"},230506,1,1,149]
[null,{"$f":"VLOOKUP(C24,道具表!$A:$B,2,0)","v":"洞察护腕白"},230601,1,1,447,null,null,{"$f":"VLOOKUP(J24,道具表!$A:$B,2,0)","v":"洞察护腕蓝"},230603,1,1,447,null,null,{"$f":"VLOOKUP(Q24,道具表!$A:$B,2,0)","v":"洞察护腕紫S"},230606,1,1,447]
[null,{"$f":"VLOOKUP(C25,道具表!$A:$B,2,0)","v":"精致丝甲白"},240101,1,1,300,null,null,{"$f":"VLOOKUP(J25,道具表!$A:$B,2,0)","v":"精致丝甲蓝"},240103,1,1,300,null,null,{"$f":"VLOOKUP(Q25,道具表!$A:$B,2,0)","v":"精致丝甲紫S"},240106,1,1,300]
[null,{"$f":"VLOOKUP(C26,道具表!$A:$B,2,0)","v":"极限皮甲白"},240201,1,1,300,null,null,{"$f":"VLOOKUP(J26,道具表!$A:$B,2,0)","v":"极限皮甲蓝"},240203,1,1,300,null,null,{"$f":"VLOOKUP(Q26,道具表!$A:$B,2,0)","v":"极限皮甲紫S"},240206,1,1,300]
[null,{"$f":"VLOOKUP(C27,道具表!$A:$B,2,0)","v":"荆棘护甲白"},240301,1,1,374,null,null,{"$f":"VLOOKUP(J27,道具表!$A:$B,2,0)","v":"荆棘护甲蓝"},240303,1,1,374,null,null,{"$f":"VLOOKUP(Q27,道具表!$A:$B,2,0)","v":"荆棘护甲紫S"},240306,1,1,374]
[null,{"$f":"VLOOKUP(C28,道具表!$A:$B,2,0)","v":"永夜圣衣白"},240401,1,1,374,null,null,{"$f":"VLOOKUP(J28,道具表!$A:$B,2,0)","v":"永夜圣衣蓝"},240403,1,1,374,null,null,{"$f":"VLOOKUP(Q28,道具表!$A:$B,2,0)","v":"永夜圣衣紫S"},240406,1,1,374]
[null,{"$f":"VLOOKUP(C29,道具表!$A:$B,2,0)","v":"浴血长袍白"},240501,1,1,299,null,null,{"$f":"VLOOKUP(J29,道具表!$A:$B,2,0)","v":"浴血长袍蓝"},240503,1,1,299,null,null,{"$f":"VLOOKUP(Q29,道具表!$A:$B,2,0)","v":"浴血长袍紫S"},240506,1,1,299]
[null,{"$f":"VLOOKUP(C30,道具表!$A:$B,2,0)","v":"庇护圣甲白"},240601,1,1,149,null,null,{"$f":"VLOOKUP(J30,道具表!$A:$B,2,0)","v":"庇护圣甲蓝"},240603,1,1,149,null,null,{"$f":"VLOOKUP(Q30,道具表!$A:$B,2,0)","v":"庇护圣甲紫S"},240606,1,1,149]
[null,{"$f":"VLOOKUP(C31,道具表!$A:$B,2,0)","v":"极限腰带白"},250101,1,1,373,null,null,{"$f":"VLOOKUP(J31,道具表!$A:$B,2,0)","v":"极限腰带蓝"},250103,1,1,373,null,null,{"$f":"VLOOKUP(Q31,道具表!$A:$B,2,0)","v":"极限腰带紫S"},250106,1,1,373]
[null,{"$f":"VLOOKUP(C32,道具表!$A:$B,2,0)","v":"贪婪腰带白"},250201,1,1,447,null,null,{"$f":"VLOOKUP(J32,道具表!$A:$B,2,0)","v":"贪婪腰带蓝"},250203,1,1,447,null,null,{"$f":"VLOOKUP(Q32,道具表!$A:$B,2,0)","v":"贪婪腰带紫S"},250206,1,1,447]
[null,{"$f":"VLOOKUP(C33,道具表!$A:$B,2,0)","v":"血护腰带白"},250301,1,1,223,null,null,{"$f":"VLOOKUP(J33,道具表!$A:$B,2,0)","v":"血护腰带蓝"},250303,1,1,223,null,null,{"$f":"VLOOKUP(Q33,道具表!$A:$B,2,0)","v":"血护腰带紫S"},250306,1,1,223]
[null,{"$f":"VLOOKUP(C34,道具表!$A:$B,2,0)","v":"野性皮带白"},250401,1,1,300,null,null,{"$f":"VLOOKUP(J34,道具表!$A:$B,2,0)","v":"野性皮带蓝"},250403,1,1,300,null,null,{"$f":"VLOOKUP(Q34,道具表!$A:$B,2,0)","v":"野性皮带紫S"},250406,1,1,300]
[null,{"$f":"VLOOKUP(C35,道具表!$A:$B,2,0)","v":"征战腰带白"},250501,1,1,300,null,null,{"$f":"VLOOKUP(J35,道具表!$A:$B,2,0)","v":"征战腰带蓝"},250503,1,1,300,null,null,{"$f":"VLOOKUP(Q35,道具表!$A:$B,2,0)","v":"征战腰带紫S"},250506,1,1,300]
[null,{"$f":"VLOOKUP(C36,道具表!$A:$B,2,0)","v":"破碎皮带白"},250601,1,1,373,null,null,{"$f":"VLOOKUP(J36,道具表!$A:$B,2,0)","v":"破碎皮带蓝"},250603,1,1,373,null,null,{"$f":"VLOOKUP(Q36,道具表!$A:$B,2,0)","v":"破碎皮带紫S"},250606,1,1,373]
[null,{"$f":"VLOOKUP(C37,道具表!$A:$B,2,0)","v":"极限短靴白"},260101,1,1,299,null,null,{"$f":"VLOOKUP(J37,道具表!$A:$B,2,0)","v":"极限短靴蓝"},260103,1,1,299,null,null,{"$f":"VLOOKUP(Q37,道具表!$A:$B,2,0)","v":"极限短靴紫S"},260106,1,1,299]
[null,{"$f":"VLOOKUP(C38,道具表!$A:$B,2,0)","v":"唤魔便靴白"},260201,1,1,149,null,null,{"$f":"VLOOKUP(J38,道具表!$A:$B,2,0)","v":"唤魔便靴蓝"},260203,1,1,149,null,null,{"$f":"VLOOKUP(Q38,道具表!$A:$B,2,0)","v":"唤魔便靴紫S"},260206,1,1,149]
[null,{"$f":"VLOOKUP(C39,道具表!$A:$B,2,0)","v":"元素长靴白"},260301,1,1,149,null,null,{"$f":"VLOOKUP(J39,道具表!$A:$B,2,0)","v":"元素长靴蓝"},260303,1,1,149,null,null,{"$f":"VLOOKUP(Q39,道具表!$A:$B,2,0)","v":"元素长靴紫S"},260306,1,1,149]
[null,{"$f":"VLOOKUP(C40,道具表!$A:$B,2,0)","v":"侍候短靴白"},260401,1,1,447,null,null,{"$f":"VLOOKUP(J40,道具表!$A:$B,2,0)","v":"侍候短靴蓝"},260403,1,1,447,null,null,{"$f":"VLOOKUP(Q40,道具表!$A:$B,2,0)","v":"侍候短靴紫S"},260406,1,1,447]
[null,{"$f":"VLOOKUP(C41,道具表!$A:$B,2,0)","v":"神佑战靴白"},260501,1,1,373,null,null,{"$f":"VLOOKUP(J41,道具表!$A:$B,2,0)","v":"神佑战靴蓝"},260503,1,1,373,null,null,{"$f":"VLOOKUP(Q41,道具表!$A:$B,2,0)","v":"神佑战靴紫S"},260506,1,1,373]
[null,{"$f":"VLOOKUP(C42,道具表!$A:$B,2,0)","v":"极光长靴白"},260601,1,1,447,null,null,{"$f":"VLOOKUP(J42,道具表!$A:$B,2,0)","v":"极光长靴蓝"},260603,1,1,447,null,null,{"$f":"VLOOKUP(Q42,道具表!$A:$B,2,0)","v":"极光长靴紫S"},260606,1,1,447]
[]
[{"$nulls":5},{"$f":"SUM(F3:F42)","v":10000},{"$nulls":6},{"$f":"SUM(M3:M42)","v":10000},{"$nulls":6},{"$f":"SUM(T3:T42)","v":10000}]
["绿色装备库",5002,{"$nulls":5},"紫色装备库",5004,{"$nulls":6},"白色材料库",5007]
[null,"名称","ID","数量下限","数量上限","权重",null,null,"名称","ID","数量下限","数量上限","权重",null,null,null,"名称","ID","数量下限","数量上限","权重"]
[null,{"$f":"VLOOKUP(C47,道具表!$A:$B,2,0)","v":"泣血大剑绿"},210102,1,1,149,null,null,{"$f":"VLOOKUP(J47,道具表!$A:$B,2,0)","v":"泣血大剑紫"},210104,1,1,149,null,null,null,"武器卷轴",140007,1,3,1000]
[null,{"$f":"VLOOKUP(C48,道具表!$A:$B,2,0)","v":"泰坦短剑绿"},210202,1,1,74,null,null,{"$f":"VLOOKUP(J48,道具表!$A:$B,2,0)","v":"泰坦短剑紫"},210204,1,1,74,null,null,null,"首饰卷轴",140008,1,3,1800]
[null,{"$f":"VLOOKUP(C49,道具表!$A:$B,2,0)","v":"追击短弓绿"},210302,1,1,223,null,null,{"$f":"VLOOKUP(J49,道具表!$A:$B,2,0)","v":"追击短弓紫"},210304,1,1,223,null,null,null,"护腕卷轴",140009,1,3,1800]
[null,{"$f":"VLOOKUP(C50,道具表!$A:$B,2,0)","v":"削骨短刃绿"},210402,1,1,149,null,null,{"$f":"VLOOKUP(J50,道具表!$A:$B,2,0)","v":"削骨短刃紫"},210404,1,1,149,null,null,null,"护甲卷轴",140010,1,3,1800]
[null,{"$f":"VLOOKUP(C51,道具表!$A:$B,2,0)","v":"精致长剑绿"},210502,1,1,149,null,null,{"$f":"VLOOKUP(J51,道具表!$A:$B,2,0)","v":"精致长剑紫"},210504,1,1,149,null,null,null,"腰带卷轴",140011,1,3,1800]
[null,{"$f":"VLOOKUP(C52,道具表!$A:$B,2,0)","v":"精致法杖绿"},210602,1,1,149,null,null,{"$f":"VLOOKUP(J52,道具表!$A:$B,2,0)","v":"精致法杖紫"},210604,1,1,149,null,null,null,"鞋子卷轴",140012,1,3,1800]
[null,{"$f":"VLOOKUP(C53,道具表!$A:$B,2,0)","v":"信仰权杖绿"},210702,1,1,300,null,null,{"$f":"VLOOKUP(J53,道具表!$A:$B,2,0)","v":"信仰权杖紫"},210704,1,1,300,{"$nulls":7},{"$f":"SUM(U47:U52)","v":10000}]
[null,{"$f":"VLOOKUP(C54,道具表!$A:$B,2,0)","v":"仪式权杖绿"},210802,1,1,300,null,null,{"$f":"VLOOKUP(J54,道具表!$A:$B,2,0)","v":"仪式权杖紫"},210804,1,1,300,{"$nulls":4},{"$f":"_xlfn.TEXTJOIN(\"^\",,R47:R52)","v":"140007^140008^140009^140010^140011^140012"},{"$f":"_xlfn.TEXTJOIN(\"^\",,S47:S52)","v":"1^1^1^1^1^1"},{"$f":"_xlfn.TEXTJOIN(\"^\",,T47:T52)","v":"3^3^3^3^3^3"},{"$f":"_xlfn.TEXTJOIN(\"^\",,U47:U52)","v":"1000^1800^1800^1800^1800^1800"}]
[null,{"$f":"VLOOKUP(C55,道具表!$A:$B,2,0)","v":"荒古法杖绿"},210902,1,1,149,null,null,{"$f":"VLOOKUP(J55,道具表!$A:$B,2,0)","v":"荒古法杖紫"},210904,1,1,149]
[null,{"$f":"VLOOKUP(C56,道具表!$A:$B,2,0)","v":"唤魔法杖绿"},211002,1,1,149,null,null,{"$f":"VLOOKUP(J56,道具表!$A:$B,2,0)","v":"唤魔法杖紫"},211004,1,1,149]
[null,{"$f":"VLOOKUP(C57,道具表!$A:$B,2,0)","v":"泰坦指环绿"},220102,1,1,74,null,null,{"$f":"VLOOKUP(J57,道具表!$A:$B,2,0)","v":"泰坦指环紫"},220104,1,1,74,null,null,"绿色材料库",5008]
[null,{"$f":"VLOOKUP(C58,道具表!$A:$B,2,0)","v":"迅击戒指绿"},220202,1,1,223,null,null,{"$f":"VLOOKUP(J58,道具表!$A:$B,2,0)","v":"迅击戒指紫"},220204,1,1,223,null,null,null,"名称","ID","数量下限","数量上限","权重"]
[null,{"$f":"VLOOKUP(C59,道具表!$A:$B,2,0)","v":"智慧徽章绿"},220302,1,1,74,null,null,{"$f":"VLOOKUP(J59,道具表!$A:$B,2,0)","v":"智慧徽章紫"},220304,1,1,74,null,null,null,"武器卷轴",140007,6,10,1000]
[null,{"$f":"VLOOKUP(C60,道具表!$A:$B,2,0)","v":"仪式护符绿"},220402,1,1,299,null,null,{"$f":"VLOOKUP(J60,道具表!$A:$B,2,0)","v":"仪式护符紫"},220404,1,1,299,null,null,null,"首饰卷轴",140008,6,10,1800]
[null,{"$f":"VLOOKUP(C61,道具表!$A:$B,2,0)","v":"荒古吊坠绿"},220502,1,1,149,null,null,{"$f":"VLOOKUP(J61,道具表!$A:$B,2,0)","v":"荒古吊坠紫"},220504,1,1,149,null,null,null,"护腕卷轴",140009,6,10,1800]
[null,{"$f":"VLOOKUP(C62,道具表!$A:$B,2,0)","v":"唤魔项链绿"},220602,1,1,149,null,null,{"$f":"VLOOKUP(J62,道具表!$A:$B,2,0)","v":"唤魔项链紫"},220604,1,1,149,null,null,null,"护甲卷轴",140010,6,10,1800]
[null,{"$f":"VLOOKUP(C63,道具表!$A:$B,2,0)","v":"泰坦护腕绿"},230102,1,1,74,null,null,{"$f":"VLOOKUP(J63,道具表!$A:$B,2,0)","v":"泰坦护腕紫"},230104,1,1,74,null,null,null,"腰带卷轴",140011,6,10,1800]
[null,{"$f":"VLOOKUP(C64,道具表!$A:$B,2,0)","v":"迅击护腕绿"},230202,1,1,149,null,null,{"$f":"VLOOKUP(J64,道具表!$A:$B,2,0)","v":"迅击护腕紫"},230204,1,1,149,null,null,null,"鞋子卷轴",140012,6,10,1800]
[null,{"$f":"VLOOKUP(C65,道具表!$A:$B,2,0)","v":"贪婪护腕绿"},230302,1,1,447,null,null,{"$f":"VLOOKUP(J65,道具表!$A:$B,2,0)","v":"贪婪护腕紫"},230304,1,1,447,{"$nulls":7},{"$f":"SUM(U59:U64)","v":10000}]
[null,{"$f":"VLOOKUP(C66,道具表!$A:$B,2,0)","v":"仪式护腕绿"},230402,1,1,299,null,null,{"$f":"VLOOKUP(J66,道具表!$A:$B,2,0)","v":"仪式护腕紫"},230404,1,1,299,{"$nulls":4},{"$f":"_xlfn.TEXTJOIN(\"^\",,R59:R64)","v":"140007^140008^140009^140010^140011^140012"},{"$f":"_xlfn.TEXTJOIN(\"^\",,S59:S64)","v":"6^6^6^6^6^6"},{"$f":"_xlfn.TEXTJOIN(\"^\",,T59:T64)","v":"10^10^10^10^10^10"},{"$f":"_xlfn.TEXTJOIN(\"^\",,U59:U64)","v":"1000^1800^1800^1800^1800^1800"}]
[null,{"$f":"VLOOKUP(C67,道具表!$A:$B,2,0)","v":"荒古护腕绿"},230502,1,1,149,null,null,{"$f":"VLOOKUP(J67,道具表!$A:$B,2,0)","v":"荒古护腕紫"},230504,1,1,149,null,null,"蓝色材料库",5009]
[null,{"$f":"VLOOKUP(C68,道具表!$A:$B,2,0)","v":"洞察护腕绿"},230602,1,1,447,null,null,{"$f":"VLOOKUP(J68,道具表!$A:$B,2,0)","v":"洞察护腕紫"},230604,1,1,447,null,null,null,"名称","ID","数量下限","数量上限","权重"]
[null,{"$f":"VLOOKUP(C69,道具表!$A:$B,2,0)","v":"精致丝甲绿"},240102,1,1,300,null,null,{"$f":"VLOOKUP(J69,道具表!$A:$B,2,0)","v":"精致丝甲紫"},240104,1,1,300,null,null,null,"武器卷轴",140007,20,30,1000]
[null,{"$f":"VLOOKUP(C70,道具表!$A:$B,2,0)","v":"极限皮甲绿"},240202,1,1,300,null,null,{"$f":"VLOOKUP(J70,道具表!$A:$B,2,0)","v":"极限皮甲紫"},240204,1,1,300,null,null,null,"首饰卷轴",140008,20,30,1800]
[null,{"$f":"VLOOKUP(C71,道具表!$A:$B,2,0)","v":"荆棘护甲绿"},240302,1,1,374,null,null,{"$f":"VLOOKUP(J71,道具表!$A:$B,2,0)","v":"荆棘护甲紫"},240304,1,1,374,null,null,null,"护腕卷轴",140009,20,30,1800]
[null,{"$f":"VLOOKUP(C72,道具表!$A:$B,2,0)","v":"永夜圣衣绿"},240402,1,1,374,null,null,{"$f":"VLOOKUP(J72,道具表!$A:$B,2,0)","v":"永夜圣衣紫"},240404,1,1,374,null,null,null,"护甲卷轴",140010,20,30,1800]
[null,{"$f":"VLOOKUP(C73,道具表!$A:$B,2,0)","v":"浴血长袍绿"},240502,1,1,299,null,null,{"$f":"VLOOKUP(J73,道具表!$A:$B,2,0)","v":"浴血长袍紫"},240504,1,1,299,null,null,null,"腰带卷轴",140011,20,30,1800]
[null,{"$f":"VLOOKUP(C74,道具表!$A:$B,2,0)","v":"庇护圣甲绿"},240602,1,1,149,null,null,{"$f":"VLOOKUP(J74,道具表!$A:$B,2,0)","v":"庇护圣甲紫"},240604,1,1,149,null,null,null,"鞋子卷轴",140012,20,30,1800]
[null,{"$f":"VLOOKUP(C75,道具表!$A:$B,2,0)","v":"极限腰带绿"},250102,1,1,373,null,null,{"$f":"VLOOKUP(J75,道具表!$A:$B,2,0)","v":"极限腰带紫"},250104,1,1,373,{"$nulls":7},{"$f":"SUM(U69:U74)","v":10000}]
[null,{"$f":"VLOOKUP(C76,道具表!$A:$B,2,0)","v":"贪婪腰带绿"},250202,1,1,447,null,null,{"$f":"VLOOKUP(J76,道具表!$A:$B,2,0)","v":"贪婪腰带紫"},250204,1,1,447,{"$nulls":4},{"$f":"_xlfn.TEXTJOIN(\"^\",,R69:R74)","v":"140007^140008^140009^140010^140011^140012"},{"$f":"_xlfn.TEXTJOIN(\"^\",,S69:S74)","v":"20^20^20^20^20^20"},{"$f":"_xlfn.TEXTJOIN(\"^\",,T69:T74)","v":"30^30^30^30^30^30"},{"$f":"_xlfn.TEXTJOIN(\"^\",,U69:U74)","v":"1000^1800^1800^1800^1800^1800"}]
[null,{"$f":"VLOOKUP(C77,道具表!$A:$B,2,0)","v":"血护腰带绿"},250302,1,1,223,null,null,{"$f":"VLOOKUP(J77,道具表!$A:$B,2,0)","v":"血护腰带紫"},250304,1,1,223]
[null,{"$f":"VLOOKUP(C78,道具表!$A:$B,2,0)","v":"野性皮带绿"},250402,1,1,300,null,null,{"$f":"VLOOKUP(J78,道具表!$A:$B,2,0)","v":"野性皮带紫"},250404,1,1,300]
[null,{"$f":"VLOOKUP(C79,道具表!$A:$B,2,0)","v":"征战腰带绿"},250502,1,1,300,null,null,{"$f":"VLOOKUP(J79,道具表!$A:$B,2,0)","v":"征战腰带紫"},250504,1,1,300]
[null,{"$f":"VLOOKUP(C80,道具表!$A:$B,2,0)","v":"破碎皮带绿"},250602,1,1,373,null,null,{"$f":"VLOOKUP(J80,道具表!$A:$B,2,0)","v":"破碎皮带紫"},250604,1,1,373]
[null,{"$f":"VLOOKUP(C81,道具表!$A:$B,2,0)","v":"极限短靴绿"},260102,1,1,299,null,null,{"$f":"VLOOKUP(J81,道具表!$A:$B,2,0)","v":"极限短靴紫"},260104,1,1,299]
[null,{"$f":"VLOOKUP(C82,道具表!$A:$B,2,0)","v":"唤魔便靴绿"},260202,1,1,149,null,null,{"$f":"VLOOKUP(J82,道具表!$A:$B,2,0)","v":"唤魔便靴紫"},260204,1,1,149]
[null,{"$f":"VLOOKUP(C83,道具表!$A:$B,2,0)","v":"元素长靴绿"},260302,1,1,149,null,null,{"$f":"VLOOKUP(J83,道具表!$A:$B,2,0)","v":"元素长靴紫"},260304,1,1,149]
[null,{"$f":"VLOOKUP(C84,道具表!$A:$B,2,0)","v":"侍候短靴绿"},260402,1,1,447,null,null,{"$f":"VLOOKUP(J84,道具表!$A:$B,2,0)","v":"侍候短靴紫"},260404,1,1,447]
[null,{"$f":"VLOOKUP(C85,道具表!$A:$B,2,0)","v":"神佑战靴绿"},260502,1,1,373,null,null,{"$f":"VLOOKUP(J85,道具表!$A:$B,2,0)","v":"神佑战靴紫"},260504,1,1,373]
[null,{"$f":"VLOOKUP(C86,道具表!$A:$B,2,0)","v":"极光长靴绿"},260602,1,1,447,null,null,{"$f":"VLOOKUP(J86,道具表!$A:$B,2,0)","v":"极光长靴紫"},260604,1,1,447]
[]
[{"$nulls":5},{"$f":"SUM(F47:F86)","v":10000},{"$nulls":6},{"$f":"SUM(M47:M86)","v":10000}]
[]
[null,null,{"$f":"_xlfn.TEXTJOIN(\"^\",,C47:C86)","v":"210102^210202^210302^210402^210502^210602^210702^210802^210902^211002^220102^220202^220302^220402^220502^220602^230102^230202^230302^230402^230502^230602^240102^240202^240302^240402^240502^240602^250102^250202^250302^250402^250502^250602^260102^260202^260302^260402^260502^260602"},null,null,{"$f":"_xlfn.TEXTJOIN(\"^\",,F47:F86)","v":"149^74^223^149^149^149^300^300^149^149^74^223^74^299^149^149^74^149^447^299^149^447^300^300^374^374^299^149^373^447^223^300^300^373^299^149^149^447^373^447"}]
[]
[]
[]
[]
[]
[]
[null,null,210101,5,{"$f":"C97+D97","v":210106}]
[null,null,210201,5,{"$f":"C98+D98","v":210206}]
[null,null,210301,5,210306]
[null,null,210401,5,210406]
[null,null,210501,5,210506]
[null,null,210601,5,210606]
[null,null,210701,5,210706]
[null,null,210801,5,210806]
[null,null,210901,5,210906]
[null,null,211001,5,211006]
[null,null,220101,5,220106]
[null,null,220201,5,220206]
[null,null,220301,5,220306]
[null,null,220401,5,220406]
[null,null,220501,5,220506]
[null,null,220601,5,220606]
[null,null,230101,5,230106]
[null,null,230201,5,230206]
[null,null,230301,5,230306]
[null,null,230401,5,230406]
[null,null,230501,5,230506]
[null,null,230601,5,230606]
[null,null,240101,5,240106]
[null,null,240201,5,240206]
[null,null,240301,5,240306]
[null,null,240401,5,240406]
[null,null,240501,5,240506]
[null,null,240601,5,240606]
[null,null,250101,5,250106]
[null,null,250201,5,250206]
[null,null,250301,5,250306]
[null,null,250401,5,250406]
[null,null,250501,5,250506]
[null,null,250601,5,250606]
[null,null,260101,5,260106]
[null,null,260201,5,260206]
[null,null,260301,5,260306]
[null,null,260401,5,260406]
[null,null,260501,5,260506]
[null,null,260601,5,260606]

{"sheet":"道具表","index":5,"n_rows":832,"n_cols":6,"rows_kept":832,"cut":false,"hidden":false,"merged":[]}
[100001,"金币","大陆通用货币，可用于英雄升级"]
[110001,"体力","体力，可用于冒险闯关消耗"]
[110002,"能量点","能量点，用于战斗中召唤英雄卡牌"]
[110003,"活跃度","活跃度，达到一定值可领取活跃宝箱"]
[110004,"周积分","周常积分，达到一定值可领取活跃宝箱"]
[110005,"爬塔积分","爬塔积分，可在积分商店兑换物品"]
[130001,"钻石","流通的高级货币，可通过充值、活动或任务奖励获得"]
[140001,"铁矿","升级建筑所需材料"]
[140002,"木材","升级建筑所需材料"]
[140003,"队伍经验","队伍等级升级所需消耗"]
[140004,"经验石","英雄升级所需消耗"]
[140005,"技能书","技能卡牌升级所需消耗"]
[140006,"天赋石","特殊天赋激活必须的物品"]
[140007,"武器卷轴","可用于武器的强化消耗"]
[140008,"首饰卷轴","可用于首饰的强化消耗"]
[140009,"护腕卷轴","可用于护腕的强化消耗"]
[140010,"护甲卷轴","可用于护甲的强化消耗"]
[140011,"腰带卷轴","可用于腰带的强化消耗"]
[140012,"鞋子卷轴","可用于鞋子的强化消耗"]
[140013,"精英英雄","重置精英英雄留下的证明，用于精英英雄突破时所需材料"]
[140014,"神话英雄","重置神话英雄留下的证明，用于神话英雄突破时所需材料"]
[140015,"传说英雄","重置传说英雄留下的证明，用于传说英雄突破时所需材料"]
[140016,"武器稀有配件","回退稀有武器留下的配件，用于稀有武器突破时所需材料"]
[140017,"首饰稀有配件","回退稀有首饰留下的配件，用于稀有首饰突破时所需材料"]
[140018,"护腕稀有配件","回退稀有护腕留下的配件，用于稀有护腕突破时所需材料"]
[140019,"护甲稀有配件","回退稀有护甲留下的配件，用于稀有护甲突破时所需材料"]
[140020,"腰带稀有配件","回退稀有腰带留下的配件，用于稀有腰带突破时所需材料"]
[140021,"鞋子稀有配件","回退稀有鞋子留下的配件，用于稀有鞋子突破时所需材料"]
[140022,"武器传说配件","回退传说武器留下的配件，用于传说武器突破时所需材料"]
[140023,"首饰传说配件","回退传说首饰留下的配件，用于传说首饰突破时所需材料"]
[140024,"护腕传说配件","回退传说护腕留下的配件，用于传说护腕突破时所需材料"]
[140025,"护甲传说配件","回退传说护甲留下的配件，用于传说护甲突破时所需材料"]
[140026,"腰带传说配件","回退传说腰带留下的配件，用于传说腰带突破时所需材料"]
[140027,"鞋子传说配件","回退传说鞋子留下的配件，用于传说鞋子突破时所需材料"]
[140028,"武器神话配件","回退神话武器留下的配件，用于神话武器突破时所需材料"]
[140029,"首饰神话配件","回退神话首饰留下的配件，用于神话首饰突破时所需材料"]
[140030,"护腕神话配件","回退神话护腕留下的配件，用于神话护腕突破时所需材料"]
[140031,"护甲神话配件","回退神话护甲留下的配件，用于神话护甲突破时所需材料"]
[140032,"腰带神话配件","回退神话腰带留下的配件，用于神话腰带突破时所需材料"]
[140033,"鞋子神话配件","回退神话鞋子留下的配件，用于神话鞋子突破时所需材料"]
[140050,"召唤卷","可在英雄召唤中进行普通召唤"]
[140051,"高级召唤卷","可在英雄召唤中进行高级召唤"]
[140052,"卷轴随机箱","打开随机获得不同部位的装备强化卷轴"]
[140053,"普通装备箱","打开随机获得普通品阶的任意装备"]
[140054,"优秀装备箱","打开随机获得优秀品阶的任意装备"]
[140055,"精良装备箱","打开随机获得精良品阶的任意装备"]
[140056,"稀有装备箱","打开随机获得稀有品阶的任意装备"]
[140057,"传说装备箱","打开随机获得传说品阶的任意装备"]
[140058,"神话装备箱","打开随机获得神话品阶的任意装备"]
[140059,"碎片选择袋","打开可从以下卡牌碎片奖励中选择获得一个"]
[140060,"普通英雄箱","打开随机获得普通品阶的任意英雄"]
[140061,"优秀英雄箱","打开随机获得优秀品阶的任意英雄"]
[140062,"稀有英雄箱","打开随机获得稀有品阶的任意英雄"]
[140063,"精英英雄箱","打开随机获得精英品阶的任意英雄"]
[140064,"传说英雄箱","打开随机获得传说品阶的任意英雄"]
[140065,"神话英雄箱","打开随机获得神话品阶的任意英雄"]
[10101,{"$f":"C57&D57","v":"枪兵白"},null,{"$f":"E57&F57","v":"枪兵白"},"枪兵","白"]
[10102,{"$f":"C58&D58","v":"枪兵绿"},null,"枪兵绿","枪兵","绿"]
[10103,"枪兵蓝",null,"枪兵蓝","枪兵","蓝"]
[10104,"枪兵紫",null,"枪兵紫","枪兵","紫"]
[10105,"枪兵紫S",null,"枪兵紫S","枪兵","紫S"]
[10301,"火枪白",null,"火枪白","火枪","白"]
[10302,"火枪绿",null,"火枪绿","火枪","绿"]
[10303,"火枪蓝",null,"火枪蓝","火枪","蓝"]
[10304,"火枪紫",null,"火枪紫","火枪","紫"]
[10305,"火枪紫S",null,"火枪紫S","火枪","紫S"]
[10401,"罗宾白",null,"罗宾白","罗宾","白"]
[10402,"罗宾绿",null,"罗宾绿","罗宾","绿"]
[10403,"罗宾蓝",null,"罗宾蓝","罗宾","蓝"]
[10404,"罗宾紫",null,"罗宾紫","罗宾","紫"]
[10405,"罗宾紫S",null,"罗宾紫S","罗宾","紫S"]
[10501,"小丑白",null,"小丑白","小丑","白"]
[10502,"小丑绿",null,"小丑绿","小丑","绿"]
[10503,"小丑蓝",null,"小丑蓝","小丑","蓝"]
[10504,"小丑紫",null,"小丑紫","小丑","紫"]
[10505,"小丑紫S",null,"小丑紫S","小丑","紫S"]
[10601,"特查拉白",null,"特查拉白","特查拉","白"]
[10602,"特查拉绿",null,"特查拉绿","特查拉","绿"]
[10603,"特查拉蓝",null,"特查拉蓝","特查拉","蓝"]
[10604,"特查拉紫",null,"特查拉紫","特查拉","紫"]
[10605,"特查拉紫S",null,"特查拉紫S","特查拉","紫S"]
[10701,"宇智波白",null,"宇智波白","宇智波","白"]
[10702,"宇智波绿",null,"宇智波绿","宇智波","绿"]
[10703,"宇智波蓝",null,"宇智波蓝","宇智波","蓝"]
[10704,"宇智波紫",null,"宇智波紫","宇智波","紫"]
[10705,"宇智波紫S",null,"宇智波紫S","宇智波","紫S"]
[10801,"阿拉丁白",null,"阿拉丁白","阿拉丁","白"]
[10802,"阿拉丁绿",null,"阿拉丁绿","阿拉丁","绿"]
[10803,"阿拉丁蓝",null,"阿拉丁蓝","阿拉丁","蓝"]
[10804,"阿拉丁紫",null,"阿拉丁紫","阿拉丁","紫"]
[10805,"阿拉丁紫S",null,"阿拉丁紫S","阿拉丁","紫S"]
[10901,"黑魔王白",null,"黑魔王白","黑魔王","白"]
[10902,"黑魔王绿",null,"黑魔王绿","黑魔王","绿"]
[10903,"黑魔王蓝",null,"黑魔王蓝","黑魔王","蓝"]
[10904,"黑魔王紫",null,"黑魔王紫","黑魔王","紫"]
[10905,"黑魔王紫S",null,"黑魔王紫S","黑魔王","紫S"]
[11001,"萨莉白",null,"萨莉白","萨莉","白"]
[11002,"萨莉绿",null,"萨莉绿","萨莉","绿"]
[11003,"萨莉蓝",null,"萨莉蓝","萨莉","蓝"]
[11004,"萨莉紫",null,"萨莉紫","萨莉","紫"]
[11005,"萨莉紫S",null,"萨莉紫S","萨莉","紫S"]
[11101,"巨汉白",null,"巨汉白","巨汉","白"]
[11102,"巨汉绿",null,"巨汉绿","巨汉","绿"]
[11103,"巨汉蓝",null,"巨汉蓝","巨汉","蓝"]
[11104,"巨汉紫",null,"巨汉紫","巨汉","紫"]
[11105,"巨汉紫S",null,"巨汉紫S","巨汉","紫S"]
[11201,{"$f":"C107&D107","v":"奥利尔白"},null,"奥利尔白","奥利尔","白"]
[11202,"奥利尔绿",null,"奥利尔绿","奥利尔","绿"]
[11203,"奥利尔蓝",null,"奥利尔蓝","奥利尔","蓝"]
[11204,"奥利尔紫",null,"奥利尔紫","奥利尔","紫"]
[11205,"奥利尔紫S",null,"奥利尔紫S","奥利尔","紫S"]
[11301,"玛法里奥白",null,"玛法里奥白","玛法里奥","白"]
[11302,"玛法里奥绿",null,"玛法里奥绿","玛法里奥","绿"]
[11303,"玛法里奥蓝",null,"玛法里奥蓝","玛法里奥","蓝"]
[11304,"玛法里奥紫",null,"玛法里奥紫","玛法里奥","紫"]
[11305,"玛法里奥紫S",null,"玛法里奥紫S","玛法里奥","紫S"]
[11501,"露娜白",null,"露娜白","露娜","白"]
[11502,"露娜绿",null,"露娜绿","露娜","绿"]
[11503,"露娜蓝",null,"露娜蓝","露娜","蓝"]
[11504,"露娜紫",null,"露娜紫","露娜","紫"]
[11505,"露娜紫S",null,"露娜紫S","露娜","紫S"]
[11601,"玛格尼斯白",null,"玛格尼斯白","玛格尼斯","白"]
[11602,"玛格尼斯绿",null,"玛格尼斯绿","玛格尼斯","绿"]
[11603,"玛格尼斯蓝",null,"玛格尼斯蓝","玛格尼斯","蓝"]
[11604,"玛格尼斯紫",null,"玛格尼斯紫","玛格尼斯","紫"]
[11605,"玛格尼斯紫S",null,"玛格尼斯紫S","玛格尼斯","紫S"]
[11701,"希瓦娜白",null,"希瓦娜白","希瓦娜","白"]
[11702,"希瓦娜绿",null,"希瓦娜绿","希瓦娜","绿"]
[11703,"希瓦娜蓝",null,"希瓦娜蓝","希瓦娜","蓝"]
[11704,"希瓦娜紫",null,"希瓦娜紫","希瓦娜","紫"]
[11705,"希瓦娜紫S",null,"希瓦娜紫S","希瓦娜","紫S"]
[11801,"龙白",null,"龙白","龙","白"]
[11802,"龙绿",null,"龙绿","龙","绿"]
[11803,"龙蓝",null,"龙蓝","龙","蓝"]
[11804,"龙紫",null,"龙紫","龙","紫"]
[11805,"龙紫S",null,"龙紫S","龙","紫S"]
[11901,"铁皮人白",null,"铁皮人白","铁皮人","白"]
[11902,{"$f":"C138&D138","v":"铁皮人绿"},null,"铁皮人绿","铁皮人","绿"]
[11903,"铁皮人蓝",null,"铁皮人蓝","铁皮人","蓝"]
[11904,"铁皮人紫",null,"铁皮人紫","铁皮人","紫"]
[11905,"铁皮人紫S",null,"铁皮人紫S","铁皮人","紫S"]
[12001,"布鲁斯白",null,"布鲁斯白","布鲁斯","白"]
[12002,"布鲁斯绿",null,"布鲁斯绿","布鲁斯","绿"]
[12003,"布鲁斯蓝",null,"布鲁斯蓝","布鲁斯","蓝"]
[12004,"布鲁斯紫",null,"布鲁斯紫","布鲁斯","紫"]
[12005,"布鲁斯紫S",null,"布鲁斯紫S","布鲁斯","紫S"]
[12101,"浣熊卫队白",null,"浣熊卫队白","浣熊卫队","白"]
[12102,"浣熊卫队绿",null,"浣熊卫队绿","浣熊卫队","绿"]
[12103,"浣熊卫队蓝",null,"浣熊卫队蓝","浣熊卫队","蓝"]
[12104,"浣熊卫队紫",null,"浣熊卫队紫","浣熊卫队","紫"]
[12105,"浣熊卫队紫S",null,"浣熊卫队紫S","浣熊卫队","紫S"]
[12501,"史莱姆白",null,"史莱姆白","史莱姆","白"]
[12502,"史莱姆绿",null,"史莱姆绿","史莱姆","绿"]
[12503,"史莱姆蓝",null,"史莱姆蓝","史莱姆","蓝"]
[12504,"史莱姆紫",null,"史莱姆紫","史莱姆","紫"]
[12505,"史莱姆紫S",null,"史莱姆紫S","史莱姆","紫S"]
[150000,"连锁闪电碎片"]
[150001,"愤怒碎片"]
[150002,"祷言碎片"]
[150003,"龙卷风碎片"]
[150004,"冰锥碎片"]
[150005,"流星火雨碎片"]
[150006,"恢复碎片"]
[150007,"圣盾碎片"]
[20101,"连锁闪电"]
[20401,"龙卷风"]
[20501,"冰锥"]
[20601,"流星火雨"]
[20701,"恢复祷言"]
[20801,"圣盾"]
[20201,"愤怒"]
[20301,"治愈祷言"]
[210101,"泣血大剑白",null,{"$f":"E173&F173","v":"泣血大剑白"},"泣血大剑","白"]
[210102,"泣血大剑绿",null,"泣血大剑绿","泣血大剑","绿"]
[210103,"泣血大剑蓝",null,"泣血大剑蓝","泣血大剑","蓝"]
[210104,"泣血大剑紫",null,"泣血大剑紫","泣血大剑","紫"]
[210105,"泣血大剑紫",null,"泣血大剑紫","泣血大剑","紫"]
[210106,"泣血大剑紫S",null,"泣血大剑紫S","泣血大剑","紫S"]
[210107,"泣血大剑橙",null,"泣血大剑橙","泣血大剑","橙"]
[210108,"泣血大剑橙",null,"泣血大剑橙","泣血大剑","橙"]
[210109,"泣血大剑橙",null,"泣血大剑橙","泣血大剑","橙"]
[210110,"泣血大剑橙",null,"泣血大剑橙","泣血大剑","橙"]
[210111,"泣血大剑红",null,"泣血大剑红","泣血大剑","红"]
[210112,"泣血大剑红",null,"泣血大剑红","泣血大剑","红"]
[210113,"泣血大剑红",null,"泣血大剑红","泣血大剑","红"]
[210114,"泣血大剑红",null,"泣血大剑红","泣血大剑","红"]
[210115,"泣血大剑红",null,"泣血大剑红","泣血大剑","红"]
[210116,"泣血大剑红",null,"泣血大剑红","泣血大剑","红"]
[210201,"泰坦短剑白",null,"泰坦短剑白","泰坦短剑","白"]
[210202,"泰坦短剑绿",null,"泰坦短剑绿","泰坦短剑","绿"]
[210203,"泰坦短剑蓝",null,"泰坦短剑蓝","泰坦短剑","蓝"]
[210204,"泰坦短剑紫",null,"泰坦短剑紫","泰坦短剑","紫"]
[210205,"泰坦短剑紫",null,"泰坦短剑紫","泰坦短剑","紫"]
[210206,"泰坦短剑紫S",null,"泰坦短剑紫S","泰坦短剑","紫S"]
[210207,"泰坦短剑橙",null,"泰坦短剑橙","泰坦短剑","橙"]
[210208,"泰坦短剑橙",null,"泰坦短剑橙","泰坦短剑","橙"]
[210209,"泰坦短剑橙",null,"泰坦短剑橙","泰坦短剑","橙"]
[210210,"泰坦短剑橙",null,"泰坦短剑橙","泰坦短剑","橙"]
[210211,"泰坦短剑红",null,"泰坦短剑红","泰坦短剑","红"]
[210212,"泰坦短剑红",null,"泰坦短剑红","泰坦短剑","红"]
[210213,"泰坦短剑红",null,"泰坦短剑红","泰坦短剑","红"]
[210214,"泰坦短剑红",null,"泰坦短剑红","泰坦短剑","红"]
[210215,"泰坦短剑红",null,"泰坦短剑红","泰坦短剑","红"]
[210216,"泰坦短剑红",null,"泰坦短剑红","泰坦短剑","红"]
[210301,"追击短弓白",null,"追击短弓白","追击短弓","白"]
[210302,"追击短弓绿",null,"追击短弓绿","追击短弓","绿"]
[210303,"追击短弓蓝",null,"追击短弓蓝","追击短弓","蓝"]
[210304,"追击短弓紫",null,"追击短弓紫","追击短弓","紫"]
[210305,"追击短弓紫",null,"追击短弓紫","追击短弓","紫"]
[210306,"追击短弓紫S",null,"追击短弓紫S","追击短弓","紫S"]
[210307,"追击短弓橙",null,"追击短弓橙","追击短弓","橙"]
[210308,"追击短弓橙",null,"追击短弓橙","追击短弓","橙"]
[210309,"追击短弓橙",null,"追击短弓橙","追击短弓","橙"]
[210310,"追击短弓橙",null,"追击短弓橙","追击短弓","橙"]
[210311,"追击短弓红",null,"追击短弓红","追击短弓","红"]
[210312,"追击短弓红",null,"追击短弓红","追击短弓","红"]
[210313,"追击短弓红",null,"追击短弓红","追击短弓","红"]
[210314,"追击短弓红",null,"追击短弓红","追击短弓","红"]
[210315,"追击短弓红",null,"追击短弓红","追击短弓","红"]
[210316,"追击短弓红",null,"追击短弓红","追击短弓","红"]
[210401,"削骨短刃白",null,"削骨短刃白","削骨短刃","白"]
[210402,"削骨短刃绿",null,"削骨短刃绿","削骨短刃","绿"]
[210403,"削骨短刃蓝",null,"削骨短刃蓝","削骨短刃","蓝"]
[210404,"削骨短刃紫",null,"削骨短刃紫","削骨短刃","紫"]
[210405,"削骨短刃紫",null,"削骨短刃紫","削骨短刃","紫"]
[210406,"削骨短刃紫S",null,"削骨短刃紫S","削骨短刃","紫S"]
[210407,"削骨短刃橙",null,"削骨短刃橙","削骨短刃","橙"]
[210408,"削骨短刃橙",null,"削骨短刃橙","削骨短刃","橙"]
[210409,"削骨短刃橙",null,"削骨短刃橙","削骨短刃","橙"]
[210410,"削骨短刃橙",null,"削骨短刃橙","削骨短刃","橙"]
[210411,"削骨短刃红",null,"削骨短刃红","削骨短刃","红"]
[210412,"削骨短刃红",null,"削骨短刃红","削骨短刃","红"]
[210413,"削骨短刃红",null,"削骨短刃红","削骨短刃","红"]
[210414,"削骨短刃红",null,"削骨短刃红","削骨短刃","红"]
[210415,"削骨短刃红",null,"削骨短刃红","削骨短刃","红"]
[210416,"削骨短刃红",null,"削骨短刃红","削骨短刃","红"]
[210501,"精致长剑白",null,{"$f":"E237&F237","v":"精致长剑白"},"精致长剑","白"]
[210502,"精致长剑绿",null,"精致长剑绿","精致长剑","绿"]
[210503,"精致长剑蓝",null,"精致长剑蓝","精致长剑","蓝"]
[210504,"精致长剑紫",null,"精致长剑紫","精致长剑","紫"]
[210505,"精致长剑紫",null,"精致长剑紫","精致长剑","紫"]
[210506,"精致长剑紫S",null,"精致长剑紫S","精致长剑","紫S"]
[210507,"精致长剑橙",null,"精致长剑橙","精致长剑","橙"]
[210508,"精致长剑橙",null,"精致长剑橙","精致长剑","橙"]
[210509,"精致长剑橙",null,"精致长剑橙","精致长剑","橙"]
[210510,"精致长剑橙",null,"精致长剑橙","精致长剑","橙"]
[210511,"精致长剑红",null,"精致长剑红","精致长剑","红"]
[210512,"精致长剑红",null,"精致长剑红","精致长剑","红"]
[210513,"精致长剑红",null,"精致长剑红","精致长剑","红"]
[210514,"精致长剑红",null,"精致长剑红","精致长剑","红"]
[210515,"精致长剑红",null,"精致长剑红","精致长剑","红"]
[210516,"精致长剑红",null,"精致长剑红","精致长剑","红"]
[210601,"精致法杖白",null,"精致法杖白","精致法杖","白"]
[210602,"精致法杖绿",null,"精致法杖绿","精致法杖","绿"]
[210603,"精致法杖蓝",null,"精致法杖蓝","精致法杖","蓝"]
[210604,"精致法杖紫",null,"精致法杖紫","精致法杖","紫"]
[210605,"精致法杖紫",null,"精致法杖紫","精致法杖","紫"]
[210606,"精致法杖紫S",null,"精致法杖紫S","精致法杖","紫S"]
[210607,"精致法杖橙",null,"精致法杖橙","精致法杖","橙"]
[210608,"精致法杖橙",null,"精致法杖橙","精致法杖","橙"]
[210609,"精致法杖橙",null,"精致法杖橙","精致法杖","橙"]
[210610,"精致法杖橙",null,"精致法杖橙","精致法杖","橙"]
[210611,"精致法杖红",null,"精致法杖红","精致法杖","红"]
[210612,"精致法杖红",null,"精致法杖红","精致法杖","红"]
[210613,"精致法杖红",null,"精致法杖红","精致法杖","红"]
[210614,"精致法杖红",null,"精致法杖红","精致法杖","红"]
[210615,"精致法杖红",null,"精致法杖红","精致法杖","红"]
[210616,"精致法杖红",null,"精致法杖红","精致法杖","红"]
[210701,"信仰权杖白",null,"信仰权杖白","信仰权杖","白"]
[210702,"信仰权杖绿",null,"信仰权杖绿","信仰权杖","绿"]
[210703,"信仰权杖蓝",null,"信仰权杖蓝","信仰权杖","蓝"]
[210704,"信仰权杖紫",null,"信仰权杖紫","信仰权杖","紫"]
[210705,"信仰权杖紫",null,"信仰权杖紫","信仰权杖","紫"]
[210706,"信仰权杖紫S",null,"信仰权杖紫S","信仰权杖","紫S"]
[210707,"信仰权杖橙",null,"信仰权杖橙","信仰权杖","橙"]
[210708,"信仰权杖橙",null,"信仰权杖橙","信仰权杖","橙"]
[210709,"信仰权杖橙",null,"信仰权杖橙","信仰权杖","橙"]
[210710,"信仰权杖橙",null,"信仰权杖橙","信仰权杖","橙"]
[210711,"信仰权杖红",null,"信仰权杖红","信仰权杖","红"]
[210712,"信仰权杖红",null,"信仰权杖红","信仰权杖","红"]
[210713,"信仰权杖红",null,"信仰权杖红","信仰权杖","红"]
[210714,"信仰权杖红",null,"信仰权杖红","信仰权杖","红"]
[210715,"信仰权杖红",null,"信仰权杖红","信仰权杖","红"]
[210716,"信仰权杖红",null,"信仰权杖红","信仰权杖","红"]
[210801,"仪式权杖白",null,"仪式权杖白","仪式权杖","白"]
[210802,"仪式权杖绿",null,"仪式权杖绿","仪式权杖","绿"]
[210803,"仪式权杖蓝",null,"仪式权杖蓝","仪式权杖","蓝"]
[210804,"仪式权杖紫",null,"仪式权杖紫","仪式权杖","紫"]
[210805,"仪式权杖紫",null,"仪式权杖紫","仪式权杖","紫"]
[210806,"仪式权杖紫S",null,"仪式权杖紫S","仪式权杖","紫S"]
[210807,"仪式权杖橙",null,"仪式权杖橙","仪式权杖","橙"]
[210808,"仪式权杖橙",null,"仪式权杖橙","仪式权杖","橙"]
[210809,"仪式权杖橙",null,"仪式权杖橙","仪式权杖","橙"]
[210810,"仪式权杖橙",null,"仪式权杖橙","仪式权杖","橙"]
[210811,"仪式权杖红",null,"仪式权杖红","仪式权杖","红"]
[210812,"仪式权杖红",null,"仪式权杖红","仪式权杖","红"]
[210813,"仪式权杖红",null,"仪式权杖红","仪式权杖","红"]
[210814,"仪式权杖红",null,"仪式权杖红","仪式权杖","红"]
[210815,"仪式权杖红",null,"仪式权杖红","仪式权杖","红"]
[210816,"仪式权杖红",null,"仪式权杖红","仪式权杖","红"]
[210901,"荒古法杖白",null,{"$f":"E301&F301","v":"荒古法杖白"},"荒古法杖","白"]
[210902,"荒古法杖绿",null,"荒古法杖绿","荒古法杖","绿"]
[210903,"荒古法杖蓝",null,"荒古法杖蓝","荒古法杖","蓝"]
[210904,"荒古法杖紫",null,"荒古法杖紫","荒古法杖","紫"]
[210905,"荒古法杖紫",null,"荒古法杖紫","荒古法杖","紫"]
[210906,"荒古法杖紫S",null,"荒古法杖紫S","荒古法杖","紫S"]
[210907,"荒古法杖橙",null,"荒古法杖橙","荒古法杖","橙"]
[210908,"荒古法杖橙",null,"荒古法杖橙","荒古法杖","橙"]
[210909,"荒古法杖橙",null,"荒古法杖橙","荒古法杖","橙"]
[210910,"荒古法杖橙",null,"荒古法杖橙","荒古法杖","橙"]
[210911,"荒古法杖红",null,"荒古法杖红","荒古法杖","红"]
[210912,"荒古法杖红",null,"荒古法杖红","荒古法杖","红"]
[210913,"荒古法杖红",null,"荒古法杖红","荒古法杖","红"]
[210914,"荒古法杖红",null,"荒古法杖红","荒古法杖","红"]
[210915,"荒古法杖红",null,"荒古法杖红","荒古法杖","红"]
[210916,"荒古法杖红",null,"荒古法杖红","荒古法杖","红"]
[211001,"唤魔法杖白",null,"唤魔法杖白","唤魔法杖","白"]
[211002,"唤魔法杖绿",null,"唤魔法杖绿","唤魔法杖","绿"]
[211003,"唤魔法杖蓝",null,"唤魔法杖蓝","唤魔法杖","蓝"]
[211004,"唤魔法杖紫",null,"唤魔法杖紫","唤魔法杖","紫"]
[211005,"唤魔法杖紫",null,"唤魔法杖紫","唤魔法杖","紫"]
[211006,"唤魔法杖紫S",null,"唤魔法杖紫S","唤魔法杖","紫S"]
[211007,"唤魔法杖橙",null,"唤魔法杖橙","唤魔法杖","橙"]
[211008,"唤魔法杖橙",null,"唤魔法杖橙","唤魔法杖","橙"]
[211009,"唤魔法杖橙",null,"唤魔法杖橙","唤魔法杖","橙"]
[211010,"唤魔法杖橙",null,"唤魔法杖橙","唤魔法杖","橙"]
[211011,"唤魔法杖红",null,"唤魔法杖红","唤魔法杖","红"]
[211012,"唤魔法杖红",null,"唤魔法杖红","唤魔法杖","红"]
[211013,"唤魔法杖红",null,"唤魔法杖红","唤魔法杖","红"]
[211014,"唤魔法杖红",null,"唤魔法杖红","唤魔法杖","红"]
[211015,"唤魔法杖红",null,"唤魔法杖红","唤魔法杖","红"]
[211016,"唤魔法杖红",null,"唤魔法杖红","唤魔法杖","红"]
[220101,"泰坦指环白",null,"泰坦指环白","泰坦指环","白"]
[220102,"泰坦指环绿",null,"泰坦指环绿","泰坦指环","绿"]
[220103,"泰坦指环蓝",null,"泰坦指环蓝","泰坦指环","蓝"]
[220104,"泰坦指环紫",null,"泰坦指环紫","泰坦指环","紫"]
[220105,"泰坦指环紫",null,"泰坦指环紫","泰坦指环","紫"]
[220106,"泰坦指环紫S",null,"泰坦指环紫S","泰坦指环","紫S"]
[220107,"泰坦指环橙",null,"泰坦指环橙","泰坦指环","橙"]
[220108,"泰坦指环橙",null,"泰坦指环橙","泰坦指环","橙"]
[220109,"泰坦指环橙",null,"泰坦指环橙","泰坦指环","橙"]
[220110,"泰坦指环橙",null,"泰坦指环橙","泰坦指环","橙"]
[220111,"泰坦指环红",null,"泰坦指环红","泰坦指环","红"]
[220112,"泰坦指环红",null,"泰坦指环红","泰坦指环","红"]
[220113,"泰坦指环红",null,"泰坦指环红","泰坦指环","红"]
[220114,"泰坦指环红",null,"泰坦指环红","泰坦指环","红"]
[220115,"泰坦指环红",null,"泰坦指环红","泰坦指环","红"]
[220116,"泰坦指环红",null,"泰坦指环红","泰坦指环","红"]
[220201,"迅击戒指白",null,"迅击戒指白","迅击戒指","白"]
[220202,"迅击戒指绿",null,"迅击戒指绿","迅击戒指","绿"]
[220203,"迅击戒指蓝",null,"迅击戒指蓝","迅击戒指","蓝"]
[220204,"迅击戒指紫",null,"迅击戒指紫","迅击戒指","紫"]
[220205,"迅击戒指紫",null,"迅击戒指紫","迅击戒指","紫"]
[220206,"迅击戒指紫S",null,"迅击戒指紫S","迅击戒指","紫S"]
[220207,"迅击戒指橙",null,"迅击戒指橙","迅击戒指","橙"]
[220208,"迅击戒指橙",null,"迅击戒指橙","迅击戒指","橙"]
[220209,"迅击戒指橙",null,"迅击戒指橙","迅击戒指","橙"]
[220210,"迅击戒指橙",null,"迅击戒指橙","迅击戒指","橙"]
[220211,"迅击戒指红",null,"迅击戒指红","迅击戒指","红"]
[220212,"迅击戒指红",null,"迅击戒指红","迅击戒指","红"]
[220213,"迅击戒指红",null,"迅击戒指红","迅击戒指","红"]
[220214,"迅击戒指红",null,"迅击戒指红","迅击戒指","红"]
[220215,"迅击戒指红",null,"迅击戒指红","迅击戒指","红"]
[220216,"迅击戒指红",null,"迅击戒指红","迅击戒指","红"]
[220301,"智慧徽章白",null,{"$f":"E365&F365","v":"智慧徽章白"},"智慧徽章","白"]
[220302,"智慧徽章绿",null,"智慧徽章绿","智慧徽章","绿"]
[220303,"智慧徽章蓝",null,"智慧徽章蓝","智慧徽章","蓝"]
[220304,"智慧徽章紫",null,"智慧徽章紫","智慧徽章","紫"]
[220305,"智慧徽章紫",null,"智慧徽章紫","智慧徽章","紫"]
[220306,"智慧徽章紫S",null,"智慧徽章紫S","智慧徽章","紫S"]
[220307,"智慧徽章橙",null,"智慧徽章橙","智慧徽章","橙"]
[220308,"智慧徽章橙",null,"智慧徽章橙","智慧徽章","橙"]
[220309,"智慧徽章橙",null,"智慧徽章橙","智慧徽章","橙"]
[220310,"智慧徽章橙",null,"智慧徽章橙","智慧徽章","橙"]
[220311,"智慧徽章红",null,"智慧徽章红","智慧徽章","红"]
[220312,"智慧徽章红",null,"智慧徽章红","智慧徽章","红"]
[220313,"智慧徽章红",null,"智慧徽章红","智慧徽章","红"]
[220314,"智慧徽章红",null,"智慧徽章红","智慧徽章","红"]
[220315,"智慧徽章红",null,"智慧徽章红","智慧徽章","红"]
[220316,"智慧徽章红",null,"智慧徽章红","智慧徽章","红"]
[220401,"仪式护符白",null,"仪式护符白","仪式护符","白"]
[220402,"仪式护符绿",null,"仪式护符绿","仪式护符","绿"]
[220403,"仪式护符蓝",null,"仪式护符蓝","仪式护符","蓝"]
[220404,"仪式护符紫",null,"仪式护符紫","仪式护符","紫"]
[220405,"仪式护符紫",null,"仪式护符紫","仪式护符","紫"]
[220406,"仪式护符紫S",null,"仪式护符紫S","仪式护符","紫S"]
[220407,"仪式护符橙",null,"仪式护符橙","仪式护符","橙"]
[220408,"仪式护符橙",null,"仪式护符橙","仪式护符","橙"]
[220409,"仪式护符橙",null,"仪式护符橙","仪式护符","橙"]
[220410,"仪式护符橙",null,"仪式护符橙","仪式护符","橙"]
[220411,"仪式护符红",null,"仪式护符红","仪式护符","红"]
[220412,"仪式护符红",null,"仪式护符红","仪式护符","红"]
[220413,"仪式护符红",null,"仪式护符红","仪式护符","红"]
[220414,"仪式护符红",null,"仪式护符红","仪式护符","红"]
[220415,"仪式护符红",null,"仪式护符红","仪式护符","红"]
[220416,"仪式护符红",null,"仪式护符红","仪式护符","红"]
[220501,"荒古吊坠白",null,"荒古吊坠白","荒古吊坠","白"]
[220502,"荒古吊坠绿",null,"荒古吊坠绿","荒古吊坠","绿"]
[220503,"荒古吊坠蓝",null,"荒古吊坠蓝","荒古吊坠","蓝"]
[220504,"荒古吊坠紫",null,"荒古吊坠紫","荒古吊坠","紫"]
[220505,"荒古吊坠紫",null,"荒古吊坠紫","荒古吊坠","紫"]
[220506,"荒古吊坠紫S",null,"荒古吊坠紫S","荒古吊坠","紫S"]
[220507,"荒古吊坠橙",null,"荒古吊坠橙","荒古吊坠","橙"]
[220508,"荒古吊坠橙",null,"荒古吊坠橙","荒古吊坠","橙"]
[220509,"荒古吊坠橙",null,"荒古吊坠橙","荒古吊坠","橙"]
[220510,"荒古吊坠橙",null,"荒古吊坠橙","荒古吊坠","橙"]
[220511,"荒古吊坠红",null,"荒古吊坠红","荒古吊坠","红"]
[220512,"荒古吊坠红",null,"荒古吊坠红","荒古吊坠","红"]
[220513,"荒古吊坠红",null,"荒古吊坠红","荒古吊坠","红"]
[220514,"荒古吊坠红",null,"荒古吊坠红","荒古吊坠","红"]
[220515,"荒古吊坠红",null,"荒古吊坠红","荒古吊坠","红"]
[220516,"荒古吊坠红",null,"荒古吊坠红","荒古吊坠","红"]
[220601,"唤魔项链白",null,"唤魔项链白","唤魔项链","白"]
[220602,"唤魔项链绿",null,"唤魔项链绿","唤魔项链","绿"]
[220603,"唤魔项链蓝",null,"唤魔项链蓝","唤魔项链","蓝"]
[220604,"唤魔项链紫",null,"唤魔项链紫","唤魔项链","紫"]
[220605,"唤魔项链紫",null,"唤魔项链紫","唤魔项链","紫"]
[220606,"唤魔项链紫S",null,"唤魔项链紫S","唤魔项链","紫S"]
[220607,"唤魔项链橙",null,"唤魔项链橙","唤魔项链","橙"]
[220608,"唤魔项链橙",null,"唤魔项链橙","唤魔项链","橙"]
[220609,"唤魔项链橙",null,"唤魔项链橙","唤魔项链","橙"]
[220610,"唤魔项链橙",null,"唤魔项链橙","唤魔项链","橙"]
[220611,"唤魔项链红",null,"唤魔项链红","唤魔项链","红"]
[220612,"唤魔项链红",null,"唤魔项链红","唤魔项链","红"]
[220613,"唤魔项链红",null,"唤魔项链红","唤魔项链","红"]
[220614,"唤魔项链红",null,"唤魔项链红","唤魔项链","红"]
[220615,"唤魔项链红",null,"唤魔项链红","唤魔项链","红"]
[220616,"唤魔项链红",null,"唤魔项链红","唤魔项链","红"]
[230101,"泰坦护腕白",null,{"$f":"E429&F429","v":"泰坦护腕白"},"泰坦护腕","白"]
[230102,"泰坦护腕绿",null,"泰坦护腕绿","泰坦护腕","绿"]
[230103,"泰坦护腕蓝",null,"泰坦护腕蓝","泰坦护腕","蓝"]
[230104,"泰坦护腕紫",null,"泰坦护腕紫","泰坦护腕","紫"]
[230105,"泰坦护腕紫",null,"泰坦护腕紫","泰坦护腕","紫"]
[230106,"泰坦护腕紫S",null,"泰坦护腕紫S","泰坦护腕","紫S"]
[230107,"泰坦护腕橙",null,"泰坦护腕橙","泰坦护腕","橙"]
[230108,"泰坦护腕橙",null,"泰坦护腕橙","泰坦护腕","橙"]
[230109,"泰坦护腕橙",null,"泰坦护腕橙","泰坦护腕","橙"]
[230110,"泰坦护腕橙",null,"泰坦护腕橙","泰坦护腕","橙"]
[230111,"泰坦护腕红",null,"泰坦护腕红","泰坦护腕","红"]
[230112,"泰坦护腕红",null,"泰坦护腕红","泰坦护腕","红"]
[230113,"泰坦护腕红",null,"泰坦护腕红","泰坦护腕","红"]
[230114,"泰坦护腕红",null,"泰坦护腕红","泰坦护腕","红"]
[230115,"泰坦护腕红",null,"泰坦护腕红","泰坦护腕","红"]
[230116,"泰坦护腕红",null,"泰坦护腕红","泰坦护腕","红"]
[230201,"迅击护腕白",null,"迅击护腕白","迅击护腕","白"]
[230202,"迅击护腕绿",null,"迅击护腕绿","迅击护腕","绿"]
[230203,"迅击护腕蓝",null,"迅击护腕蓝","迅击护腕","蓝"]
[230204,"迅击护腕紫",null,"迅击护腕紫","迅击护腕","紫"]
[230205,"迅击护腕紫",null,"迅击护腕紫","迅击护腕","紫"]
[230206,"迅击护腕紫S",null,"迅击护腕紫S","迅击护腕","紫S"]
[230207,"迅击护腕橙",null,"迅击护腕橙","迅击护腕","橙"]
[230208,"迅击护腕橙",null,"迅击护腕橙","迅击护腕","橙"]
[230209,"迅击护腕橙",null,"迅击护腕橙","迅击护腕","橙"]
[230210,"迅击护腕橙",null,"迅击护腕橙","迅击护腕","橙"]
[230211,"迅击护腕红",null,"迅击护腕红","迅击护腕","红"]
[230212,"迅击护腕红",null,"迅击护腕红","迅击护腕","红"]
[230213,"迅击护腕红",null,"迅击护腕红","迅击护腕","红"]
[230214,"迅击护腕红",null,"迅击护腕红","迅击护腕","红"]
[230215,"迅击护腕红",null,"迅击护腕红","迅击护腕","红"]
[230216,"迅击护腕红",null,"迅击护腕红","迅击护腕","红"]
[230301,"贪婪护腕白",null,"贪婪护腕白","贪婪护腕","白"]
[230302,"贪婪护腕绿",null,"贪婪护腕绿","贪婪护腕","绿"]
[230303,"贪婪护腕蓝",null,"贪婪护腕蓝","贪婪护腕","蓝"]
[230304,"贪婪护腕紫",null,"贪婪护腕紫","贪婪护腕","紫"]
[230305,"贪婪护腕紫",null,"贪婪护腕紫","贪婪护腕","紫"]
[230306,"贪婪护腕紫S",null,"贪婪护腕紫S","贪婪护腕","紫S"]
[230307,"贪婪护腕橙",null,"贪婪护腕橙","贪婪护腕","橙"]
[230308,"贪婪护腕橙",null,"贪婪护腕橙","贪婪护腕","橙"]
[230309,"贪婪护腕橙",null,"贪婪护腕橙","贪婪护腕","橙"]
[230310,"贪婪护腕橙",null,"贪婪护腕橙","贪婪护腕","橙"]
[230311,"贪婪护腕红",null,"贪婪护腕红","贪婪护腕","红"]
[230312,"贪婪护腕红",null,"贪婪护腕红","贪婪护腕","红"]
[230313,"贪婪护腕红",null,"贪婪护腕红","贪婪护腕","红"]
[230314,"贪婪护腕红",null,"贪婪护腕红","贪婪护腕","红"]
[230315,"贪婪护腕红",null,"贪婪护腕红","贪婪护腕","红"]
[230316,"贪婪护腕红",null,"贪婪护腕红","贪婪护腕","红"]
[230401,"仪式护腕白",null,"仪式护腕白","仪式护腕","白"]
[230402,"仪式护腕绿",null,"仪式护腕绿","仪式护腕","绿"]
[230403,"仪式护腕蓝",null,"仪式护腕蓝","仪式护腕","蓝"]
[230404,"仪式护腕紫",null,"仪式护腕紫","仪式护腕","紫"]
[230405,"仪式护腕紫",null,"仪式护腕紫","仪式护腕","紫"]
[230406,"仪式护腕紫S",null,"仪式护腕紫S","仪式护腕","紫S"]
[230407,"仪式护腕橙",null,"仪式护腕橙","仪式护腕","橙"]
[230408,"仪式护腕橙",null,"仪式护腕橙","仪式护腕","橙"]
[230409,"仪式护腕橙",null,"仪式护腕橙","仪式护腕","橙"]
[230410,"仪式护腕橙",null,"仪式护腕橙","仪式护腕","橙"]
[230411,"仪式护腕红",null,"仪式护腕红","仪式护腕","红"]
[230412,"仪式护腕红",null,"仪式护腕红","仪式护腕","红"]
[230413,"仪式护腕红",null,"仪式护腕红","仪式护腕","红"]
[230414,"仪式护腕红",null,"仪式护腕红","仪式护腕","红"]
[230415,"仪式护腕红",null,"仪式护腕红","仪式护腕","红"]
[230416,"仪式护腕红",null,"仪式护腕红","仪式护腕","红"]
[230501,"荒古护腕白",null,{"$f":"E493&F493","v":"荒古护腕白"},"荒古护腕","白"]
[230502,"荒古护腕绿",null,"荒古护腕绿","荒古护腕","绿"]
[230503,"荒古护腕蓝",null,"荒古护腕蓝","荒古护腕","蓝"]
[230504,"荒古护腕紫",null,"荒古护腕紫","荒古护腕","紫"]
[230505,"荒古护腕紫",null,"荒古护腕紫","荒古护腕","紫"]
[230506,"荒古护腕紫S",null,"荒古护腕紫S","荒古护腕","紫S"]
[230507,"荒古护腕橙",null,"荒古护腕橙","荒古护腕","橙"]
[230508,"荒古护腕橙",null,"荒古护腕橙","荒古护腕","橙"]
[230509,"荒古护腕橙",null,"荒古护腕橙","荒古护腕","橙"]
[230510,"荒古护腕橙",null,"荒古护腕橙","荒古护腕","橙"]
[230511,"荒古护腕红",null,"荒古护腕红","荒古护腕","红"]
[230512,"荒古护腕红",null,"荒古护腕红","荒古护腕","红"]
[230513,"荒古护腕红",null,"荒古护腕红","荒古护腕","红"]
[230514,"荒古护腕红",null,"荒古护腕红","荒古护腕","红"]
[230515,"荒古护腕红",null,"荒古护腕红","荒古护腕","红"]
[230516,"荒古护腕红",null,"荒古护腕红","荒古护腕","红"]
[230601,"洞察护腕白",null,"洞察护腕白","洞察护腕","白"]
[230602,"洞察护腕绿",null,"洞察护腕绿","洞察护腕","绿"]
[230603,"洞察护腕蓝",null,"洞察护腕蓝","洞察护腕","蓝"]
[230604,"洞察护腕紫",null,"洞察护腕紫","洞察护腕","紫"]
[230605,"洞察护腕紫",null,"洞察护腕紫","洞察护腕","紫"]
[230606,"洞察护腕紫S",null,"洞察护腕紫S","洞察护腕","紫S"]
[230607,"洞察护腕橙",null,"洞察护腕橙","洞察护腕","橙"]
[230608,"洞察护腕橙",null,"洞察护腕橙","洞察护腕","橙"]
[230609,"洞察护腕橙",null,"洞察护腕橙","洞察护腕","橙"]
[230610,"洞察护腕橙",null,"洞察护腕橙","洞察护腕","橙"]
[230611,"洞察护腕红",null,"洞察护腕红","洞察护腕","红"]
[230612,"洞察护腕红",null,"洞察护腕红","洞察护腕","红"]
[230613,"洞察护腕红",null,"洞察护腕红","洞察护腕","红"]
[230614,"洞察护腕红",null,"洞察护腕红","洞察护腕","红"]
[230615,"洞察护腕红",null,"洞察护腕红","洞察护腕","红"]
[230616,"洞察护腕红",null,"洞察护腕红","洞察护腕","红"]
[240101,"精致丝甲白",null,"精致丝甲白","精致丝甲","白"]
[240102,"精致丝甲绿",null,"精致丝甲绿","精致丝甲","绿"]
[240103,"精致丝甲蓝",null,"精致丝甲蓝","精致丝甲","蓝"]
[240104,"精致丝甲紫",null,"精致丝甲紫","精致丝甲","紫"]
[240105,"精致丝甲紫",null,"精致丝甲紫","精致丝甲","紫"]
[240106,"精致丝甲紫S",null,"精致丝甲紫S","精致丝甲","紫S"]
[240107,"精致丝甲橙",null,"精致丝甲橙","精致丝甲","橙"]
[240108,"精致丝甲橙",null,"精致丝甲橙","精致丝甲","橙"]
[240109,"精致丝甲橙",null,"精致丝甲橙","精致丝甲","橙"]
[240110,"精致丝甲橙",null,"精致丝甲橙","精致丝甲","橙"]
[240111,"精致丝甲红",null,"精致丝甲红","精致丝甲","红"]
[240112,"精致丝甲红",null,"精致丝甲红","精致丝甲","红"]
[240113,"精致丝甲红",null,"精致丝甲红","精致丝甲","红"]
[240114,"精致丝甲红",null,"精致丝甲红","精致丝甲","红"]
[240115,"精致丝甲红",null,"精致丝甲红","精致丝甲","红"]
[240116,"精致丝甲红",null,"精致丝甲红","精致丝甲","红"]
[240201,"极限皮甲白",null,"极限皮甲白","极限皮甲","白"]
[240202,"极限皮甲绿",null,"极限皮甲绿","极限皮甲","绿"]
[240203,"极限皮甲蓝",null,"极限皮甲蓝","极限皮甲","蓝"]
[240204,"极限皮甲紫",null,"极限皮甲紫","极限皮甲","紫"]
[240205,"极限皮甲紫",null,"极限皮甲紫","极限皮甲","紫"]
[240206,"极限皮甲紫S",null,"极限皮甲紫S","极限皮甲","紫S"]
[240207,"极限皮甲橙",null,"极限皮甲橙","极限皮甲","橙"]
[240208,"极限皮甲橙",null,"极限皮甲橙","极限皮甲","橙"]
[240209,"极限皮甲橙",null,"极限皮甲橙","极限皮甲","橙"]
[240210,"极限皮甲橙",null,"极限皮甲橙","极限皮甲","橙"]
[240211,"极限皮甲红",null,"极限皮甲红","极限皮甲","红"]
[240212,"极限皮甲红",null,"极限皮甲红","极限皮甲","红"]
[240213,"极限皮甲红",null,"极限皮甲红","极限皮甲","红"]
[240214,"极限皮甲红",null,"极限皮甲红","极限皮甲","红"]
[240215,"极限皮甲红",null,"极限皮甲红","极限皮甲","红"]
[240216,"极限皮甲红",null,"极限皮甲红","极限皮甲","红"]
[240301,"荆棘护甲白",null,{"$f":"E557&F557","v":"荆棘护甲白"},"荆棘护甲","白"]
[240302,"荆棘护甲绿",null,"荆棘护甲绿","荆棘护甲","绿"]
[240303,"荆棘护甲蓝",null,"荆棘护甲蓝","荆棘护甲","蓝"]
[240304,"荆棘护甲紫",null,"荆棘护甲紫","荆棘护甲","紫"]
[240305,"荆棘护甲紫",null,"荆棘护甲紫","荆棘护甲","紫"]
[240306,"荆棘护甲紫S",null,"荆棘护甲紫S","荆棘护甲","紫S"]
[240307,"荆棘护甲橙",null,"荆棘护甲橙","荆棘护甲","橙"]
[240308,"荆棘护甲橙",null,"荆棘护甲橙","荆棘护甲","橙"]
[240309,"荆棘护甲橙",null,"荆棘护甲橙","荆棘护甲","橙"]
[240310,"荆棘护甲橙",null,"荆棘护甲橙","荆棘护甲","橙"]
[240311,"荆棘护甲红",null,"荆棘护甲红","荆棘护甲","红"]
[240312,"荆棘护甲红",null,"荆棘护甲红","荆棘护甲","红"]
[240313,"荆棘护甲红",null,"荆棘护甲红","荆棘护甲","红"]
[240314,"荆棘护甲红",null,"荆棘护甲红","荆棘护甲","红"]
[240315,"荆棘护甲红",null,"荆棘护甲红","荆棘护甲","红"]
[240316,"荆棘护甲红",null,"荆棘护甲红","荆棘护甲","红"]
[240401,"永夜圣衣白",null,"永夜圣衣白","永夜圣衣","白"]
[240402,"永夜圣衣绿",null,"永夜圣衣绿","永夜圣衣","绿"]
[240403,"永夜圣衣蓝",null,"永夜圣衣蓝","永夜圣衣","蓝"]
[240404,"永夜圣衣紫",null,"永夜圣衣紫","永夜圣衣","紫"]
[240405,"永夜圣衣紫",null,"永夜圣衣紫","永夜圣衣","紫"]
[240406,"永夜圣衣紫S",null,"永夜圣衣紫S","永夜圣衣","紫S"]
[240407,"永夜圣衣橙",null,"永夜圣衣橙","永夜圣衣","橙"]
[240408,"永夜圣衣橙",null,"永夜圣衣橙","永夜圣衣","橙"]
[240409,"永夜圣衣橙",null,"永夜圣衣橙","永夜圣衣","橙"]
[240410,"永夜圣衣橙",null,"永夜圣衣橙","永夜圣衣","橙"]
[240411,"永夜圣衣红",null,"永夜圣衣红","永夜圣衣","红"]
[240412,"永夜圣衣红",null,"永夜圣衣红","永夜圣衣","红"]
[240413,"永夜圣衣红",null,"永夜圣衣红","永夜圣衣","红"]
[240414,"永夜圣衣红",null,"永夜圣衣红","永夜圣衣","红"]
[240415,"永夜圣衣红",null,"永夜圣衣红","永夜圣衣","红"]
[240416,"永夜圣衣红",null,"永夜圣衣红","永夜圣衣","红"]
[240501,"浴血长袍白",null,"浴血长袍白","浴血长袍","白"]
[240502,"浴血长袍绿",null,"浴血长袍绿","浴血长袍","绿"]
[240503,"浴血长袍蓝",null,"浴血长袍蓝","浴血长袍","蓝"]
[240504,"浴血长袍紫",null,"浴血长袍紫","浴血长袍","紫"]
[240505,"浴血长袍紫",null,"浴血长袍紫","浴血长袍","紫"]
[240506,"浴血长袍紫S",null,"浴血长袍紫S","浴血长袍","紫S"]
[240507,"浴血长袍橙",null,"浴血长袍橙","浴血长袍","橙"]
[240508,"浴血长袍橙",null,"浴血长袍橙","浴血长袍","橙"]
[240509,"浴血长袍橙",null,"浴血长袍橙","浴血长袍","橙"]
[240510,"浴血长袍橙",null,"浴血长袍橙","浴血长袍","橙"]
[240511,"浴血长袍红",null,"浴血长袍红","浴血长袍","红"]
[240512,"浴血长袍红",null,"浴血长袍红","浴血长袍","红"]
[240513,"浴血长袍红",null,"浴血长袍红","浴血长袍","红"]
[240514,"浴血长袍红",null,"浴血长袍红","浴血长袍","红"]
[240515,"浴血长袍红",null,"浴血长袍红","浴血长袍","红"]
[240516,"浴血长袍红",null,"浴血长袍红","浴血长袍","红"]
[240601,"庇护圣甲白",null,"庇护圣甲白","庇护圣甲","白"]
[240602,"庇护圣甲绿",null,"庇护圣甲绿","庇护圣甲","绿"]
[240603,"庇护圣甲蓝",null,"庇护圣甲蓝","庇护圣甲","蓝"]
[240604,"庇护圣甲紫",null,"庇护圣甲紫","庇护圣甲","紫"]
[240605,"庇护圣甲紫",null,"庇护圣甲紫","庇护圣甲","紫"]
[240606,"庇护圣甲紫S",null,"庇护圣甲紫S","庇护圣甲","紫S"]
[240607,"庇护圣甲橙",null,"庇护圣甲橙","庇护圣甲","橙"]
[240608,"庇护圣甲橙",null,"庇护圣甲橙","庇护圣甲","橙"]
[240609,"庇护圣甲橙",null,"庇护圣甲橙","庇护圣甲","橙"]
[240610,"庇护圣甲橙",null,"庇护圣甲橙","庇护圣甲","橙"]
[240611,"庇护圣甲红",null,"庇护圣甲红","庇护圣甲","红"]
[240612,"庇护圣甲红",null,"庇护圣甲红","庇护圣甲","红"]
[240613,"庇护圣甲红",null,"庇护圣甲红","庇护圣甲","红"]
[240614,"庇护圣甲红",null,"庇护圣甲红","庇护圣甲","红"]
[240615,"庇护圣甲红",null,"庇护圣甲红","庇护圣甲","红"]
[240616,"庇护圣甲红",null,"庇护圣甲红","庇护圣甲","红"]
[250101,"极限腰带白",null,{"$f":"E621&F621","v":"极限腰带白"},"极限腰带","白"]
[250102,"极限腰带绿",null,"极限腰带绿","极限腰带","绿"]
[250103,"极限腰带蓝",null,"极限腰带蓝","极限腰带","蓝"]
[250104,"极限腰带紫",null,"极限腰带紫","极限腰带","紫"]
[250105,"极限腰带紫",null,"极限腰带紫","极限腰带","紫"]
[250106,"极限腰带紫S",null,"极限腰带紫S","极限腰带","紫S"]
[250107,"极限腰带橙",null,"极限腰带橙","极限腰带","橙"]
[250108,"极限腰带橙",null,"极限腰带橙","极限腰带","橙"]
[250109,"极限腰带橙",null,"极限腰带橙","极限腰带","橙"]
[250110,"极限腰带橙",null,"极限腰带橙","极限腰带","橙"]
[250111,"极限腰带红",null,"极限腰带红","极限腰带","红"]
[250112,"极限腰带红",null,"极限腰带红","极限腰带","红"]
[250113,"极限腰带红",null,"极限腰带红","极限腰带","红"]
[250114,"极限腰带红",null,"极限腰带红","极限腰带","红"]
[250115,"极限腰带红",null,"极限腰带红","极限腰带","红"]
[250116,"极限腰带红",null,"极限腰带红","极限腰带","红"]
[250201,"贪婪腰带白",null,"贪婪腰带白","贪婪腰带","白"]
[250202,"贪婪腰带绿",null,"贪婪腰带绿","贪婪腰带","绿"]
[250203,"贪婪腰带蓝",null,"贪婪腰带蓝","贪婪腰带","蓝"]
[250204,"贪婪腰带紫",null,"贪婪腰带紫","贪婪腰带","紫"]
[250205,"贪婪腰带紫",null,"贪婪腰带紫","贪婪腰带","紫"]
[250206,"贪婪腰带紫S",null,"贪婪腰带紫S","贪婪腰带","紫S"]
[250207,"贪婪腰带橙",null,"贪婪腰带橙","贪婪腰带","橙"]
[250208,"贪婪腰带橙",null,"贪婪腰带橙","贪婪腰带","橙"]
[250209,"贪婪腰带橙",null,"贪婪腰带橙","贪婪腰带","橙"]
[250210,"贪婪腰带橙",null,"贪婪腰带橙","贪婪腰带","橙"]
[250211,"贪婪腰带红",null,"贪婪腰带红","贪婪腰带","红"]
[250212,"贪婪腰带红",null,"贪婪腰带红","贪婪腰带","红"]
[250213,"贪婪腰带红",null,"贪婪腰带红","贪婪腰带","红"]
[250214,"贪婪腰带红",null,"贪婪腰带红","贪婪腰带","红"]
[250215,"贪婪腰带红",null,"贪婪腰带红","贪婪腰带","红"]
[250216,"贪婪腰带红",null,"贪婪腰带红","贪婪腰带","红"]
[250301,"血护腰带白",null,"血护腰带白","血护腰带","白"]
[250302,"血护腰带绿",null,"血护腰带绿","血护腰带","绿"]
[250303,"血护腰带蓝",null,"血护腰带蓝","血护腰带","蓝"]
[250304,"血护腰带紫",null,"血护腰带紫","血护腰带","紫"]
[250305,"血护腰带紫",null,"血护腰带紫","血护腰带","紫"]
[250306,"血护腰带紫S",null,"血护腰带紫S","血护腰带","紫S"]
[250307,"血护腰带橙",null,"血护腰带橙","血护腰带","橙"]
[250308,"血护腰带橙",null,"血护腰带橙","血护腰带","橙"]
[250309,"血护腰带橙",null,"血护腰带橙","血护腰带","橙"]
[250310,"血护腰带橙",null,"血护腰带橙","血护腰带","橙"]
[250311,"血护腰带红",null,"血护腰带红","血护腰带","红"]
[250312,"血护腰带红",null,"血护腰带红","血护腰带","红"]
[250313,"血护腰带红",null,"血护腰带红","血护腰带","红"]
[250314,"血护腰带红",null,"血护腰带红","血护腰带","红"]
[250315,"血护腰带红",null,"血护腰带红","血护腰带","红"]
[250316,"血护腰带红",null,"血护腰带红","血护腰带","红"]
[250401,"野性皮带白",null,"野性皮带白","野性皮带","白"]
[250402,"野性皮带绿",null,"野性皮带绿","野性皮带","绿"]
[250403,"野性皮带蓝",null,"野性皮带蓝","野性皮带","蓝"]
[250404,"野性皮带紫",null,"野性皮带紫","野性皮带","紫"]
[250405,"野性皮带紫",null,"野性皮带紫","野性皮带","紫"]
[250406,"野性皮带紫S",null,"野性皮带紫S","野性皮带","紫S"]
[250407,"野性皮带橙",null,"野性皮带橙","野性皮带","橙"]
[250408,"野性皮带橙",null,"野性皮带橙","野性皮带","橙"]
[250409,"野性皮带橙",null,"野性皮带橙","野性皮带","橙"]
[250410,"野性皮带橙",null,"野性皮带橙","野性皮带","橙"]
[250411,"野性皮带红",null,"野性皮带红","野性皮带","红"]
[250412,"野性皮带红",null,"野性皮带红","野性皮带","红"]
[250413,"野性皮带红",null,"野性皮带红","野性皮带","红"]
[250414,"野性皮带红",null,"野性皮带红","野性皮带","红"]
[250415,"野性皮带红",null,"野性皮带红","野性皮带","红"]
[250416,"野性皮带红",null,"野性皮带红","野性皮带","红"]
[250501,"征战腰带白",null,{"$f":"E685&F685","v":"征战腰带白"},"征战腰带","白"]
[250502,"征战腰带绿",null,"征战腰带绿","征战腰带","绿"]
[250503,"征战腰带蓝",null,"征战腰带蓝","征战腰带","蓝"]
[250504,"征战腰带紫",null,"征战腰带紫","征战腰带","紫"]
[250505,"征战腰带紫",null,"征战腰带紫","征战腰带","紫"]
[250506,"征战腰带紫S",null,"征战腰带紫S","征战腰带","紫S"]
[250507,"征战腰带橙",null,"征战腰带橙","征战腰带","橙"]
[250508,"征战腰带橙",null,"征战腰带橙","征战腰带","橙"]
[250509,"征战腰带橙",null,"征战腰带橙","征战腰带","橙"]
[250510,"征战腰带橙",null,"征战腰带橙","征战腰带","橙"]
[250511,"征战腰带红",null,"征战腰带红","征战腰带","红"]
[250512,"征战腰带红",null,"征战腰带红","征战腰带","红"]
[250513,"征战腰带红",null,"征战腰带红","征战腰带","红"]
[250514,"征战腰带红",null,"征战腰带红","征战腰带","红"]
[250515,"征战腰带红",null,"征战腰带红","征战腰带","红"]
[250516,"征战腰带红",null,"征战腰带红","征战腰带","红"]
[250601,"破碎皮带白",null,"破碎皮带白","破碎皮带","白"]
[250602,"破碎皮带绿",null,"破碎皮带绿","破碎皮带","绿"]
[250603,"破碎皮带蓝",null,"破碎皮带蓝","破碎皮带","蓝"]
[250604,"破碎皮带紫",null,"破碎皮带紫","破碎皮带","紫"]
[250605,"破碎皮带紫",null,"破碎皮带紫","破碎皮带","紫"]
[250606,"破碎皮带紫S",null,"破碎皮带紫S","破碎皮带","紫S"]
[250607,"破碎皮带橙",null,"破碎皮带橙","破碎皮带","橙"]
[250608,"破碎皮带橙",null,"破碎皮带橙","破碎皮带","橙"]
[250609,"破碎皮带橙",null,"破碎皮带橙","破碎皮带","橙"]
[250610,"破碎皮带橙",null,"破碎皮带橙","破碎皮带","橙"]
[250611,"破碎皮带红",null,"破碎皮带红","破碎皮带","红"]
[250612,"破碎皮带红",null,"破碎皮带红","破碎皮带","红"]
[250613,"破碎皮带红",null,"破碎皮带红","破碎皮带","红"]
[250614,"破碎皮带红",null,"破碎皮带红","破碎皮带","红"]
[250615,"破碎皮带红",null,"破碎皮带红","破碎皮带","红"]
[250616,"破碎皮带红",null,"破碎皮带红","破碎皮带","红"]
[260101,"极限短靴白",null,"极限短靴白","极限短靴","白"]
[260102,"极限短靴绿",null,"极限短靴绿","极限短靴","绿"]
[260103,"极限短靴蓝",null,"极限短靴蓝","极限短靴","蓝"]
[260104,"极限短靴紫",null,"极限短靴紫","极限短靴","紫"]
[260105,"极限短靴紫",null,"极限短靴紫","极限短靴","紫"]
[260106,"极限短靴紫S",null,"极限短靴紫S","极限短靴","紫S"]
[260107,"极限短靴橙",null,"极限短靴橙","极限短靴","橙"]
[260108,"极限短靴橙",null,"极限短靴橙","极限短靴","橙"]
[260109,"极限短靴橙",null,"极限短靴橙","极限短靴","橙"]
[260110,"极限短靴橙",null,"极限短靴橙","极限短靴","橙"]
[260111,"极限短靴红",null,"极限短靴红","极限短靴","红"]
[260112,"极限短靴红",null,"极限短靴红","极限短靴","红"]
[260113,"极限短靴红",null,"极限短靴红","极限短靴","红"]
[260114,"极限短靴红",null,"极限短靴红","极限短靴","红"]
[260115,"极限短靴红",null,"极限短靴红","极限短靴","红"]
[260116,"极限短靴红",null,"极限短靴红","极限短靴","红"]
[260201,"唤魔便靴白",null,"唤魔便靴白","唤魔便靴","白"]
[260202,"唤魔便靴绿",null,"唤魔便靴绿","唤魔便靴","绿"]
[260203,"唤魔便靴蓝",null,"唤魔便靴蓝","唤魔便靴","蓝"]
[260204,"唤魔便靴紫",null,"唤魔便靴紫","唤魔便靴","紫"]
[260205,"唤魔便靴紫",null,"唤魔便靴紫","唤魔便靴","紫"]
[260206,"唤魔便靴紫S",null,"唤魔便靴紫S","唤魔便靴","紫S"]
[260207,"唤魔便靴橙",null,"唤魔便靴橙","唤魔便靴","橙"]
[260208,"唤魔便靴橙",null,"唤魔便靴橙","唤魔便靴","橙"]
[260209,"唤魔便靴橙",null,"唤魔便靴橙","唤魔便靴","橙"]
[260210,"唤魔便靴橙",null,"唤魔便靴橙","唤魔便靴","橙"]
[260211,"唤魔便靴红",null,"唤魔便靴红","唤魔便靴","红"]
[260212,"唤魔便靴红",null,"唤魔便靴红","唤魔便靴","红"]
[260213,"唤魔便靴红",null,"唤魔便靴红","唤魔便靴","红"]
[260214,"唤魔便靴红",null,"唤魔便靴红","唤魔便靴","红"]
[260215,"唤魔便靴红",null,"唤魔便靴红","唤魔便靴","红"]
[260216,"唤魔便靴红",null,"唤魔便靴红","唤魔便靴","红"]
[260301,"元素长靴白",null,{"$f":"E749&F749","v":"元素长靴白"},"元素长靴","白"]
[260302,"元素长靴绿",null,"元素长靴绿","元素长靴","绿"]
[260303,"元素长靴蓝",null,"元素长靴蓝","元素长靴","蓝"]
[260304,"元素长靴紫",null,"元素长靴紫","元素长靴","紫"]
[260305,"元素长靴紫",null,"元素长靴紫","元素长靴","紫"]
[260306,"元素长靴紫S",null,"元素长靴紫S","元素长靴","紫S"]
[260307,"元素长靴橙",null,"元素长靴橙","元素长靴","橙"]
[260308,"元素长靴橙",null,"元素长靴橙","元素长靴","橙"]
[260309,"元素长靴橙",null,"元素长靴橙","元素长靴","橙"]
[260310,"元素长靴橙",null,"元素长靴橙","元素长靴","橙"]
[260311,"元素长靴红",null,"元素长靴红","元素长靴","红"]
[260312,"元素长靴红",null,"元素长靴红","元素长靴","红"]
[260313,"元素长靴红",null,"元素长靴红","元素长靴","红"]
[260314,"元素长靴红",null,"元素长靴红","元素长靴","红"]
[260315,"元素长靴红",null,"元素长靴红","元素长靴","红"]
[260316,"元素长靴红",null,"元素长靴红","元素长靴","红"]
[260401,"侍候短靴白",null,"侍候短靴白","侍候短靴","白"]
[260402,"侍候短靴绿",null,"侍候短靴绿","侍候短靴","绿"]
[260403,"侍候短靴蓝",null,"侍候短靴蓝","侍候短靴","蓝"]
[260404,"侍候短靴紫",null,"侍候短靴紫","侍候短靴","紫"]
[260405,"侍候短靴紫",null,"侍候短靴紫","侍候短靴","紫"]
[260406,"侍候短靴紫S",null,"侍候短靴紫S","侍候短靴","紫S"]
[260407,"侍候短靴橙",null,"侍候短靴橙","侍候短靴","橙"]
[260408,"侍候短靴橙",null,"侍候短靴橙","侍候短靴","橙"]
[260409,"侍候短靴橙",null,"侍候短靴橙","侍候短靴","橙"]
[260410,"侍候短靴橙",null,"侍候短靴橙","侍候短靴","橙"]
[260411,"侍候短靴红",null,"侍候短靴红","侍候短靴","红"]
[260412,"侍候短靴红",null,"侍候短靴红","侍候短靴","红"]
[260413,"侍候短靴红",null,"侍候短靴红","侍候短靴","红"]
[260414,"侍候短靴红",null,"侍候短靴红","侍候短靴","红"]
[260415,"侍候短靴红",null,"侍候短靴红","侍候短靴","红"]
[260416,"侍候短靴红",null,"侍候短靴红","侍候短靴","红"]
[260501,"神佑战靴白",null,"神佑战靴白","神佑战靴","白"]
[260502,"神佑战靴绿",null,"神佑战靴绿","神佑战靴","绿"]
[260503,"神佑战靴蓝",null,"神佑战靴蓝","神佑战靴","蓝"]
[260504,"神佑战靴紫",null,"神佑战靴紫","神佑战靴","紫"]
[260505,"神佑战靴紫",null,"神佑战靴紫","神佑战靴","紫"]
[260506,"神佑战靴紫S",null,"神佑战靴紫S","神佑战靴","紫S"]
[260507,"神佑战靴橙",null,"神佑战靴橙","神佑战靴","橙"]
[260508,"神佑战靴橙",null,"神佑战靴橙","神佑战靴","橙"]
[260509,"神佑战靴橙",null,"神佑战靴橙","神佑战靴","橙"]
[260510,"神佑战靴橙",null,"神佑战靴橙","神佑战靴","橙"]
[260511,"神佑战靴红",null,"神佑战靴红","神佑战靴","红"]
[260512,"神佑战靴红",null,"神佑战靴红","神佑战靴","红"]
[260513,"神佑战靴红",null,"神佑战靴红","神佑战靴","红"]
[260514,"神佑战靴红",null,"神佑战靴红","神佑战靴","红"]
[260515,"神佑战靴红",null,"神佑战靴红","神佑战靴","红"]
[260516,"神佑战靴红",null,"神佑战靴红","神佑战靴","红"]
[260601,"极光长靴白",null,"极光长靴白","极光长靴","白"]
[260602,"极光长靴绿",null,"极光长靴绿","极光长靴","绿"]
[260603,"极光长靴蓝",null,"极光长靴蓝","极光长靴","蓝"]
[260604,"极光长靴紫",null,"极光长靴紫","极光长靴","紫"]
[260605,"极光长靴紫",null,"极光长靴紫","极光长靴","紫"]
[260606,"极光长靴紫S",null,"极光长靴紫S","极光长靴","紫S"]
[260607,"极光长靴橙",null,"极光长靴橙","极光长靴","橙"]
[260608,"极光长靴橙",null,"极光长靴橙","极光长靴","橙"]
[260609,"极光长靴橙",null,"极光长靴橙","极光长靴","橙"]
[260610,"极光长靴橙",null,"极光长靴橙","极光长靴","橙"]
[260611,"极光长靴红",null,"极光长靴红","极光长靴","红"]
[260612,"极光长靴红",null,"极光长靴红","极光长靴","红"]
[260613,"极光长靴红",null,"极光长靴红","极光长靴","红"]
[260614,"极光长靴红",null,"极光长靴红","极光长靴","红"]
[260615,"极光长靴红",null,"极光长靴红","极光长靴","红"]
[260616,"极光长靴红",null,"极光长靴红","极光长靴","红"]
[100002,"小袋金币","金币X100"]
[100003,"中袋金币","金币X500"]
[100004,"大袋金币","金币X1000"]
[100005,"一箱金币","金币X5000"]
[100006,"巨多金币","金币X10000"]
[140501,"少量铁矿石","铁矿石X100"]
[140502,"小堆铁矿石","铁矿石X500"]
[140503,"中堆铁矿石","铁矿石X1000"]
[140504,"大堆铁矿石","铁矿石X5000"]
[140505,"巨多铁矿石","铁矿石X10000"]
[140601,"少量木材","木材X100"]
[140602,"小堆木材","木材X500"]
[140603,"中堆木材","木材X1000"]
[140604,"大堆木材","木材X5000"]
[140605,"巨多木材","木材X10000"]
[140701,"少量经验石","经验石X100"]
[140702,"小堆经验石","经验石X500"]
[140703,"中堆经验石","经验石X1000"]
[140704,"大堆经验石","经验石X5000"]
[140705,"巨多木材","经验石X10000"]