{"text_format":"2","workbook":"xlsx","n_sheets":3,"sheets":["StageInfoConfig","Sheet2","Sheet3"],"not_rendered":{"charts":0,"images":0,"macros":0,"external_links":1,"defined_names":1,"comments":1,"pivot_tables":0},"unopened":[],"bounds":{"document_bytes":16777216,"sheet_cells":100000,"run_cost":"one","rows_first":2000,"rows_last":500,"rows_between":2000,"halvings":0,"cell_chars":16384,"cell_head_chars":4096},"cells_cut":0,"cells_raw":0,"read":"whole","date_system":"1900"}

{"sheet":"StageInfoConfig","index":0,"n_rows":77,"n_cols":14,"rows_kept":77,"cut":false,"hidden":false,"merged":[]}
["ID[csknu]","icon[ct]","name[ct]","des[ct]","reward[csna]","baseHP[cn]","baseTex[ct]","map[ct]","condition[csn]","front[csn]","type[csn]","parameter[csn]"]
["关卡id（关卡*100+波数）","关卡图标","关卡名字","关卡文本描述","通关奖励道具ID道具数量数组","基地血量","基地图片","战斗地图","队伍等级限制","前置关卡","通关类型","通关参数"]
[1,"senlin_1","t1200",1,"140050^5|140004^2000|140001^1500",1000,"senlin_blue_1","senlin_1",1,0,1,0]
[2,"senlin_2","t1200",2,"140050^5|140004^2000|140002^1500",2500,"senlin_blue_1","senlin_1",1,1,1,0]
[3,"senlin_3","t1200",3,"130002^20|140004^2500|100001^8000",9999,"senlin_blue_1","senlin_1",2,2,2,83]
[4,"senlin_4","t1200",4,"140051^5|140004^2500|100001^10000",9999,"senlin_blue_1","senlin_1",3,3,2,81]
[5,"senlin_5","t1200",5,"140004^3000|100001^15000|140006^1",9999,"senlin_blue_1","senlin_1",4,4,2,219]
[6,"milin_1","t1201",1,"140004^3500|100001^10000|140051^5",9999,"senlin_blue_2","senlin_2",5,5,2,{"$f":"'[1]2'!$AD$52","v":180}]
[7,"milin_2","t1201",2,"140001^1500|100001^10000|130001^100",9999,"senlin_blue_2","senlin_2",7,6,2,{"$f":"'[1]2'!$AD$105","v":199}]
[8,"milin_3","t1201",3,"140002^1500|100001^10000|140051^5",7000,"senlin_blue_2","senlin_2",10,7,1,0]
[9,"milin_4","t1201",4,"140004^4000|240201^1|210201^1",7500,"senlin_blue_2","senlin_2",11,8,1,0]
[10,"milin_5","t1201",5,"140004^4500|100001^30000|140051^5",8000,"senlin_blue_2","senlin_2",12,9,4,0]
[11,"xueshan_1","t1202",1,"140004^5000|100001^15000|130001^100",9999,"xuedi_blue_1","xuedi_1",15,10,2,{"$f":"'[1]3'!$AD$53","v":236}]
[12,"xueshan_2","t1202",2,"150000^60|100001^15000|140005^2000",9999,"xuedi_blue_1","xuedi_1",16,11,2,{"$f":"'[1]3'!$AD$106","v":257}]
[13,"xueshan_3","t1202",3,"100001^15000|130001^120|140005^2500",9500,"xuedi_blue_1","xuedi_1",17,12,1,0]
[14,"xueshan_4","t1202",4,"140004^5500|100001^15000|140051^5",9999,"xuedi_blue_1","xuedi_1",18,13,2,{"$f":"'[1]3'!$AD$212","v":265}]
[15,"xueshan_5","t1202",5,"100001^40000|130001^120|140005^3000",10500,"xuedi_blue_1","xuedi_1",19,14,1,0]
[16,"xueyuan_1","t1203",1,"140004^6000|100001^20000|140051^5",9999,"xuedi_blue_2","xuedi_2",21,15,2,{"$f":"'[1]4'!$AR$52","v":247}]
[17,"xueyuan_2","t1203",2,"140004^6500|100001^20000|130001^100",9999,"xuedi_blue_2","xuedi_2",22,16,2,{"$f":"'[1]4'!$AR$104","v":236}]
[18,"xueyuan_3","t1203",3,"140052^30|100001^20000|110009^10",12000,"xuedi_blue_2","xuedi_2",23,17,1,0]
[19,"xueyuan_4","t1203",4,"140052^40|100001^20000|130001^100",9999,"xuedi_blue_2","xuedi_2",24,18,2,{"$f":"'[1]4'!$AR$218","v":230}]
[20,"xueyuan_5","t1203",5,"140004^7000|100001^50000|140051^5",13000,"xuedi_blue_2","xuedi_2",25,19,4,0]
[21,"huoshan_1","t1204",1,"140004^7500|100001^25000|130001^100",9999,"yanjiang_blue_1","yanjiang_1",27,20,2,{"$f":"'[1]5'!$AR$58","v":236}]
[22,"huoshan_2","t1204",2,"140052^50|100001^25000|110009^5",9999,"yanjiang_blue_1","yanjiang_1",28,21,2,{"$f":"'[1]5'!$AR$116","v":231}]
[23,"huoshan_3","t1204",3,"140004^8000|100001^25000|130001^100",9999,"yanjiang_blue_1","yanjiang_1",29,22,2,{"$f":"'[1]5'!$AR$174","v":200}]
[24,"huoshan_4","t1204",4,"140004^8500|100001^25000|140051^5",9999,"yanjiang_blue_1","yanjiang_1",31,23,2,{"$f":"'[1]5'!$AR$232","v":189}]
[25,"huoshan_5","t1204",5,"140004^9000|100001^50000|130001^100",9999,"yanjiang_blue_1","yanjiang_1",32,24,2,{"$f":"'[1]5'!$AR$290","v":217}]
[26,"yandi_1","t1205",1,"140004^9500|100001^30000|110009^5",9999,"yanjiang_blue_2","yanjiang_2",33,25,2,{"$f":"'[1]6'!$AR$58","v":241}]
[27,"yandi_2","t1205",2,"140004^10000|100001^30000|130001^100",9999,"yanjiang_blue_2","yanjiang_2",35,26,2,{"$f":"'[1]6'!$AR$116","v":191}]
[28,"yandi_3","t1205",3,"140004^10500|100001^30000|140051^5",9999,"yanjiang_blue_2","yanjiang_2",36,27,2,{"$f":"'[1]6'!$AR$174","v":202}]
[29,"yandi_4","t1205",4,"140004^11000|100001^30000|130001^100",9999,"yanjiang_blue_2","yanjiang_2",37,28,2,{"$f":"'[1]6'!$AR$232","v":155}]
[30,"yandi_5","t1205",5,"140004^11500|100001^60000|110009^5",21000,"yanjiang_blue_2","yanjiang_2",39,29,4,0,null,"重点测这个"]
[31,"milin_1","t1206",1,"140004^12000|100001^35000|130001^100",9999,"senlin_blue_2","senlin_2",40,30,2,{"$f":"'[1]7'!$BE$57","v":363}]
[32,"milin_2","t1206",2,"140004^12500|100001^35000|140051^5",9999,"senlin_blue_2","senlin_2",41,31,2,{"$f":"'[1]7'!$BE$115","v":294}]
[33,"milin_3","t1206",3,"140004^13000|100001^35000|130001^100",9999,"senlin_blue_2","senlin_2",43,32,2,{"$f":"'[1]7'!$BE$173","v":189}]
[34,"milin_4","t1206",4,"140004^13500|100001^35000|110009^5",9999,"senlin_blue_2","senlin_2",44,33,2,{"$f":"'[1]7'!$BE$231","v":311}]
[35,"milin_5","t1206",5,"140004^14000|100001^70000|130001^100",9999,"senlin_blue_2","senlin_2",46,34,2,{"$f":"'[1]7'!$BE$289","v":253}]
[36,"senlin_1","t1207",1,"140004^14500|100001^40000|140051^5",9999,"senlin_blue_1","senlin_1",47,35,2,{"$f":"'[1]8'!$BF$57","v":301}]
[37,"senlin_2","t1207",2,"140004^15000|100001^40000|130001^100",9999,"senlin_blue_1","senlin_1",49,36,2,{"$f":"'[1]8'!$BF$115","v":192}]
[38,"senlin_3","t1207",3,"140004^15500|100001^40000|110009^5",9999,"senlin_blue_1","senlin_1",50,37,2,{"$f":"'[1]8'!$BF$173","v":251}]
[39,"senlin_4","t1207",4,"140004^16000|100001^40000|130001^100",9999,"senlin_blue_1","senlin_1",52,38,2,{"$f":"'[1]8'!$BF$231","v":301}]
[40,"senlin_5","t1207",5,"140004^16500|100001^80000|140051^5",9999,"senlin_blue_1","senlin_1",53,39,2,{"$f":"'[1]8'!$BF$289","v":249}]
[41,"milin_1","t1208",1,"140004^17000|100001^45000|130001^100",9999,"senlin_blue_2","senlin_2",55,40,2,{"$f":"'[1]9'!$BF$57","v":254}]
[42,"milin_2","t1208",2,"140004^17500|100001^45000|110009^5",9999,"senlin_blue_2","senlin_2",56,41,2,{"$f":"'[1]9'!$BF$115","v":323}]
[43,"milin_3","t1208",3,"140004^18000|100001^45000|130001^100",9999,"senlin_blue_2","senlin_2",58,42,2,{"$f":"'[1]9'!$BF$173","v":261}]
[44,"milin_4","t1208",4,"140004^18500|100001^45000|140051^5",9999,"senlin_blue_2","senlin_2",59,43,2,{"$f":"'[1]9'!$BF$231","v":257}]
[45,"milin_5","t1208",5,"140004^19000|100001^90000|130001^100",9999,"senlin_blue_2","senlin_2",61,44,2,{"$f":"'[1]9'!$BF$289","v":347}]
[46,"xueyuan_1","t1209",1,"140004^19500|100001^50000|110009^5",9999,"xuedi_blue_2","xuedi_2",62,45,2,{"$f":"'[1]10'!$BF$57","v":337}]
[47,"xueyuan_2","t1209",2,"140004^20000|100001^50000|130001^100",9999,"xuedi_blue_2","xuedi_2",64,46,2,{"$f":"'[1]10'!$BF$115","v":265}]
[48,"xueyuan_3","t1209",3,"140004^20500|100001^50000|140051^5",9999,"xuedi_blue_2","xuedi_2",66,47,2,{"$f":"'[1]10'!$BF$173","v":262}]
[49,"xueyuan_4","t1209",4,"140004^21000|100001^50000|130001^100",9999,"xuedi_blue_2","xuedi_2",68,48,2,{"$f":"'[1]10'!$BF$231","v":268}]
[50,"xueyuan_5","t1209",5,"140004^21500|100001^100000|110009^5",9999,"xuedi_blue_2","xuedi_2",70,49,2,{"$f":"'[1]10'!$BF$289","v":258}]
[51,"xueshan_1","t1210",1,"140004^22000|100001^55000|130001^100",9999,"xuedi_blue_1","xuedi_1",72,50,2,{"$f":"'[1]11'!$BF$57","v":332}]
[52,"xueshan_2","t1210",2,"140004^22500|100001^55000|140051^5",9999,"xuedi_blue_1","xuedi_1",74,51,2,{"$f":"'[1]11'!$BF$115","v":266}]
[53,"xueshan_3","t1210",3,"140004^23000|100001^55000|130001^100",9999,"xuedi_blue_1","xuedi_1",76,52,2,{"$f":"'[1]11'!$BF$173","v":341}]
[54,"xueshan_4","t1210",4,"140004^23500|100001^55000|110009^5",9999,"xuedi_blue_1","xuedi_1",78,53,2,{"$f":"'[1]11'!$BF$231","v":270}]
[55,"xueshan_5","t1210",5,"140004^24000|100001^110000|130001^100",9999,"xuedi_blue_1","xuedi_1",80,54,2,{"$f":"'[1]11'!$BF$289","v":351}]
[56,"xueyuan_1","t1211",1,"140004^24500|100001^60000|140051^5",9999,"xuedi_blue_2","xuedi_2",82,55,2,{"$f":"'[1]12'!$BF$57","v":356}]
[57,"xueyuan_2","t1211",2,"140004^25000|100001^60000|130001^100",9999,"xuedi_blue_2","xuedi_2",84,56,2,{"$f":"'[1]12'!$BF$115","v":357}]
[58,"xueyuan_3","t1211",3,"140004^25500|100001^60000|110009^5",9999,"xuedi_blue_2","xuedi_2",86,57,2,{"$f":"'[1]12'!$BF$173","v":301}]
[59,"xueyuan_4","t1211",4,"140004^26000|100001^60000|130001^100",9999,"xuedi_blue_2","xuedi_2",88,58,2,{"$f":"'[1]12'!$BF$231","v":386}]
[60,"xueyuan_5","t1211",5,"140004^26500|100001^120000|140051^5",9999,"xuedi_blue_2","xuedi_2",90,59,2,{"$f":"'[1]12'!$BF$289","v":293}]
[61,"yandi_1","t1212",1,"140004^27000|100001^65000|130001^100",9999,"yanjiang_blue_2","yanjiang_2",92,60,2,{"$f":"'[1]13'!$BF$57","v":353}]
[62,"yandi_2","t1212",2,"140004^27500|100001^65000|110009^5",9999,"yanjiang_blue_2","yanjiang_2",94,61,2,{"$f":"'[1]13'!$BF$115","v":352}]
[63,"yandi_3","t1212",3,"140004^28000|100001^65000|130001^100",9999,"yanjiang_blue_2","yanjiang_2",96,62,2,{"$f":"'[1]13'!$BF$173","v":298}]
[64,"yandi_4","t1212",4,"140004^28500|100001^65000|140051^5",9999,"yanjiang_blue_2","yanjiang_2",98,63,2,{"$f":"'[1]13'!$BF$231","v":389}]
[65,"yandi_5","t1212",5,"140004^29000|100001^130000|130001^100",9999,"yanjiang_blue_2","yanjiang_2",100,64,2,{"$f":"'[1]13'!$BF$289","v":295}]
[66,"huoshan_1","t1213",1,"140004^29500|100001^70000|110009^5",9999,"yanjiang_blue_1","yanjiang_1",102,65,2,{"$f":"'[1]14'!$BF$57","v":394}]
[67,"huoshan_2","t1213",2,"140004^30000|100001^70000|130001^100",9999,"yanjiang_blue_1","yanjiang_1",104,66,2,{"$f":"'[1]14'!$BF$115","v":385}]
[68,"huoshan_3","t1213",3,"140004^30500|100001^70000|140051^5",9999,"yanjiang_blue_1","yanjiang_1",106,67,2,{"$f":"'[1]14'!$BF$173","v":301}]
[69,"huoshan_4","t1213",4,"140004^31000|100001^70000|130001^100",9999,"yanjiang_blue_1","yanjiang_1",108,68,2,{"$f":"'[1]14'!$BF$231","v":403}]
[70,"huoshan_5","t1213",5,"140004^31500|100001^140000|110009^5",9999,"yanjiang_blue_1","yanjiang_1",110,69,2,{"$f":"'[1]14'!$BF$289","v":313}]
[71,"yandi_1","t1214",1,"140004^32000|100001^75000|130001^100",9999,"yanjiang_blue_2","yanjiang_2",112,70,2,{"$f":"'[1]15'!$BF$57","v":401}]
[72,"yandi_2","t1214",2,"140004^32500|100001^75000|140051^5",9999,"yanjiang_blue_2","yanjiang_2",114,71,2,{"$f":"'[1]15'!$BF$115","v":386}]
[73,"yandi_3","t1214",3,"140004^33000|100001^75000|130001^100",9999,"yanjiang_blue_2","yanjiang_2",116,72,2,{"$f":"'[1]15'!$BF$173","v":305}]
[74,"yandi_4","t1214",4,"140004^33500|100001^75000|110009^5",9999,"yanjiang_blue_2","yanjiang_2",118,73,2,{"$f":"'[1]15'!$BF$231","v":405}]
[75,"yandi_5","t1214",5,"140004^34000|100001^150000|130001^100",9999,"yanjiang_blue_2","yanjiang_2",120,74,2,{"$f":"'[1]15'!$BF$289","v":318}]

{"sheet":"Sheet2","index":1,"n_rows":0,"n_cols":0,"rows_kept":0,"cut":false,"hidden":false,"merged":[]}

{"sheet":"Sheet3","index":2,"n_rows":0,"n_cols":0,"rows_kept":0,"cut":false,"hidden":false,"merged":[]}