{"text_format":"2","workbook":"xlsx","n_sheets":16,"sheets":["StageConfig","1","2","3","4","5","6","7","8","9","10","11","12","13","14","15"],"not_rendered":{"charts":0,"images":0,"macros":0,"external_links":0,"defined_names":1,"comments":1,"pivot_tables":0},"unopened":[],"bounds":{"document_bytes":16777216,"sheet_cells":100000,"run_cost":"one","rows_first":2000,"rows_last":500,"rows_between":2000,"halvings":0,"cell_chars":16384,"cell_head_chars":4096},"cells_cut":0,"cells_raw":0,"read":"whole","date_system":"1900"}

{"sheet":"StageConfig","index":0,"n_rows":255,"n_cols":15,"rows_kept":255,"cut":false,"hidden":false,"merged":[]}
["ID[csknu]","roles[csna]","rolesPos[cna]","rolesTime[cna]","time[cn]","summonType[cn]","hurtRate[cn]","rewardId[csna]","trigger[cn]","tipType[cn]","energy[cna]","additional[cna]","extraRoles[cna]","position[cna]","addNum[cna]"]
["波数id\n（关卡*100+波数）","角色id数组","角色位置数组","角色创建时间轴","波数时间轴","刷怪类型","环境伤害倍率","关卡奖励道具ID道具数量数组","触发下一大波间隔参数","波数提示类型","能量掉落","触发额外刷怪参数","额外刷新怪物","刷新位置","怪物数量"]
[101,{"$f":"'1'!Q13","v":"60011^60011^60011^60011^60011^60011^60011^60011^60011^60011^60011^60011^60011^60011^60011^60011^60011^60011^60011"},{"$f":"'1'!Q35","v":"1^2^1^2^1^2^3^2^1^3^2^3^2^1^3^4^2^3^5"},{"$f":"'1'!Q48","v":"5^15^15^25^25^37^37^50^50^50^65^65^80^80^80^100^100^100^100"},0,2,0,21001,0,0,0,0,0,0,0]
[201,{"$f":"'1'!Q63","v":"60021^60021^60021^60021^60022^60021^60021^60021^60021^60022^60021^60022^60021^60021^60021^60021^60021^60021^60021^60021^60022^60022^60021^60021^60022^60021^60021^60021^60021^60021"},{"$f":"'1'!Q85","v":"1^2^3^4^1^5^4^2^1^5^4^1^5^4^1^5^2^1^3^4^2^3^5^4^1^5^2^1^3^5"},{"$f":"'1'!Q98","v":"5^17^17^29^29^29^42^42^42^42^55^55^55^70^70^70^85^85^85^100^100^100^100^120^120^120^140^140^140^140"},1,2,0,21002,0,0,"130003^1",0,0,0,0]
[301,{"$f":"'1'!Q114","v":"60031|60031|60031^60032|60031|60031^60033|60031^60032|60031^60032|60031^60032|60031^60032|60031^60033|60031"},{"$f":"'1'!Q136","v":"0|0|0^0|0|0^0|0^0|0^0|0^0|0^0|0^0|0"},{"$f":"'1'!Q150","v":"5|5|5^2|5|6^2|6^2|6^2|7^2|7^2|7^2|10"},10,3,0,21003,0,0,"130003^1",0,0,0,0]
[401,{"$f":"'1'!Q166","v":"60041|60041^60042|60041^60042|60043^60041|60041^60042|60041|60041^60042|60041^60043|60042^60041|60042^60041|60043"},{"$f":"'1'!Q188","v":"0|0^0|0^0|0^0|0^0|0|0^0|0^0|0^0|0^0|0"},{"$f":"'1'!Q202","v":"4|4^2|4^2|3^4|5^2|7|7^2|8^2|2^8|2^8|5"},12,3,0,21004,0,0,"130003^1","4^10","60044^60044","100^100","3^5"]
[501,{"$f":"'1'!Q218","v":"60051|60051^60052|60051^60052|60051^60053|60051^60053^60052|60051^60054|60055^60051|60053^60052|60051^60052|60051^60054|60053^60051"},{"$f":"'1'!Q241","v":"0|0^0|0^0|0^0|0^0^0|0^0|100^0|0^0|0^0|0^0|0^0"},{"$f":"'1'!Q255","v":"4|4^2|5^2|5^2|2^4^2|6^4|3^3|4^3|7^3|8^2|3^8"},12,3,0,21005,5,0,"130003^1","4^10","60055^60055","100^100","3^6"]
[502,{"$f":"'1'!AE218","v":"60051|60051^60052|60051^60055|60051^60053|60052^60051^60053|60051^60054|60051^60052|60052^60053|60052^60051|60051^60054|60053^60051"},{"$f":"'1'!AE240","v":"0|0^0|0^100|0^0|0^0^0|0^0|0^0|0^0|0^0|0^0|0^0"},{"$f":"'1'!AE254","v":"15|7^2|8^2|7^3|2^7^2|9^4|10^2|6^4|2^10|12^2|5^12"},12,3,0,21005,0,1,"130003^1|130004^1","5^10","60055^60055","100^100","5^8"]
[601,{"$f":"'2'!P14","v":"60061|60063^60062|60061^60062|60061^60063|60064^60061^60062|60061^60064|60063^60062^60061|60064^60065|60063^60061|60062^60064^60061|60063^60061^60062"},{"$f":"'2'!P37","v":"0|0^0|0^0|0^0|0^0^0|0^0|0^0^0|0^100|0^0|0^0^0|0^0^0"},{"$f":"'2'!P51","v":"4|2^4|5^2|6^2|2^6^2|8^2|2^3^5|3^3|3^7|4^2^5|2^6^3"},12,3,0,21006,0,0,"130003^1","4^10","60065^60065","100^100","3^5"]
[602,{"$f":"'2'!AD14","v":"60061|60065^60061|60063^60062|60062^60061^60064|60063^60062|60061^60062^60063|60062^60064|60063^60061^60062"},{"$f":"'2'!AD36","v":"0|0^0|0^0|0^0^0|0^0|0^0^0|0^0|0^0^0"},{"$f":"'2'!AD50","v":"20|3^8|2^4|4^6^2|3^4|6^4^2|4^3|2^6^4"},11,3,0,21006,0,1,"130003^1","5^10","60065^60065","100^100","5^8"]
[701,{"$f":"'2'!P67","v":"60072|60072^60071|60073^60072|60074^60073^60072|60071^60072|60074^60073|60071^60072|60074^60071^60072|60071|60072^60071|60071^60072^60073"},{"$f":"'2'!P90","v":"0|0^0|0^0|0^0^0|0^0|0^0|0^0|0^0^0|0|0^0|0^0^0"},{"$f":"'2'!P104","v":"4|2^7|3^4|2^2^4|8^3|3^3|7^4|3^7^3|9|3^7|7^4^2"},12,3,0,21007,5,0,"130003^1|130004^1","5^10","60075^60075","100^100","4^6"]
[702,{"$f":"'2'!AD67","v":"60071|60071^60072|60074^60071|60072^60073^60071|60074^60072|60073^60072|60071^60072|60071|60073^60072"},{"$f":"'2'!AD89","v":"0|0^0|0^0|0^0^0|0^0|0^0|0^0|0|0^0"},{"$f":"'2'!AD103","v":"25|7^3|2^8|4^2^6|3^4|3^4|8^2|10|3^4"},12,3,0,21007,0,1,"130003^2","6^10","60075^60075","100^100","5^8"]
[801,{"$f":"'2'!P120","v":"60082^60081^60082^60081^60081^60081^60084^60083^60083^60082^60083^60082^60083^60082^60081^60082^60084^60082^60081^60082^60083^60081^60083^60081^60083^60082^60082^60081^60083^60081^60084^60081^60083^60082^60082^60082^60083^60081^60081^60083^60081^60082^60081^60083^60081^60081^60081^60082^60084^60082^60081^60081^60084^60083^60082^60083^60084^60083^60082"},{"$f":"'2'!P143","v":"1^2^1^3^4^2^1^3^5^4^2^1^3^5^6^2^1^3^7^6^4^2^1^3^5^7^6^2^1^3^7^6^4^2^1^3^5^7^6^4^2^1^3^5^7^8^6^4^1^5^7^9^6^4^2^1^3^5^7"},{"$f":"'2'!P157","v":"5^15^15^15^25^25^25^25^25^35^35^35^35^35^45^45^45^45^45^55^55^55^55^55^55^55^65^65^65^65^65^75^75^75^75^75^75^75^85^85^85^85^85^85^85^90^90^90^90^90^90^90^100^100^100^100^100^100^100"},0,1,0,21008,5,0,"130003^1|130004^1","5^10","60085^60085","100^100","4^6"]
[802,{"$f":"'2'!AD120","v":"60081^60081^60081^60081^60082^60082^60084^60084^60081^60081^60083^60083^60081^60081^60082^60082^60084^60081^60081^60082^60081^60081^60081^60082^60083^60083^60083^60084^60084"},{"$f":"'2'!AD142","v":"2^1^3^5^4^2^3^5^6^4^2^1^3^5^4^2^1^3^5^4^2^1^3^5^4^1^5^2^3"},{"$f":"'2'!AD156","v":"1^1^1^1^3^3^3^3^6^6^6^6^6^6^10^10^10^10^10^15^15^15^15^15^20^20^20^25^25"},0,1,0,21008,0,1,"130003^2","6^10","60085^60085","100^100","5^8"]
[901,{"$f":"'2'!P173","v":"60091^60092|60091^60094|60091^60092|60093^60091^60094|60091^60092|60093^60092|60094^60092^60091|60093^60092^60091|60094^60091^60092|60092^60091|60093^60092"},{"$f":"'2'!P196","v":"0^0|0^0|0^0|0^0^0|0^0|0^0|0^0^0|0^0^0|0^0^0|0^0|0^0"},{"$f":"'2'!P210","v":"4^2|7^2|7^4|2^6^2|8^3|2^4|2^2^6|2^3^5|2^5^3|3^6|3^4"},12,3,0,21009,5,0,"130003^1|130004^1","5^10","60095^60095","100^100","4^6"]
[902,{"$f":"'2'!AD173","v":"60091^60092|60094^60093|60091^60092|60093^60092^60091|60091^60092^60094|60093^60091|60092^60091|60093^60092^60094"},{"$f":"'2'!AD195","v":"0^0|0^0|0^0|0^0^0|0^0^0|0^0|0^0|0^0^0"},{"$f":"'2'!AD209","v":"20^10|2^3|5^4|2^2^6|5^3^2|3^6|3^8|2^7^2"},10,3,0,21009,0,1,"130003^2","6^10","60095^60095","100^100","5^8"]
[1001,{"$f":"'2'!P226","v":"60101|60101^60102|60101^60104|60101^60102^60103|60104^60102^60103|60101^60102|60101^60103^60104|60101^60102^60103|60101^60102|60101^60103^60104|60105^60102"},{"$f":"'2'!P249","v":"0|0^0|0^0|0^0^0|0^0^0|0^0|0^0^0|0^0^0|0^0|0^0^0|0^0"},{"$f":"'2'!P263","v":"7|8^2|9^2|6^3^2|2^4^3|10^2|6^3^2|7^3^2|8^4|8^3^2|1^4"},12,3,0,21010,10,0,"130003^1|130004^1","4^10","60107^60107","100^100","4^6"]
[1002,{"$f":"'2'!AD226","v":"60101^60101^60101^60101^60102^60102^60102^60104^60103^60104^60102^60101^60101^60101^60102^60103^60103^60103^60101^60101^60104^60101^60101^60102^60102^60102^60101^60101^60101^60101^60101^60101^60102^60103^60103^60102^60102^60104^60102^60104^60102"},{"$f":"'2'!AD248","v":"4^2^3^5^4^1^5^6^1^7^4^2^1^3^5^2^1^3^4^2^1^3^5^4^1^5^6^4^2^3^5^7^6^1^3^7^4^2^1^3^5"},{"$f":"'2'!AD262","v":"2^2^2^2^4^1^4^8^8^8^14^14^14^14^14^20^20^20^30^30^30^30^30^42^42^42^55^55^55^55^55^55^65^65^65^65^75^75^75^75^75"},0,1,0,21010,0,1,"130003^2","5^10","60107^60107","100^100","5^8"]
[1101,{"$f":"'3'!P15","v":"60111|60111^60112|60114^60111^60112|60111^60113|60114^60111^60112|60113^60114|60112^60111|60111^60113|60114^60111^60112|60114^60112^60111|60113^60112^60114"},{"$f":"'3'!P38","v":"0|0^0|0^0^0|0^0|0^0^0|0^0|0^0|0^0|0^0^0|0^0^0|0^0^0"},{"$f":"'3'!P52","v":"6|6^3|2^6^3|8^2|2^5^4|6^3|4^6|8^2|2^7^3|2^4^7|2^8^2"},10,3,0,21011,3,0,"130003^1|130004^1","5^10","60115^60115","100^100","4^6"]
[1102,{"$f":"'3'!AD15","v":"60111|60112^60114|60113^60112|60111^60112|60112^60113^60111|60114^60111|60112^60111|60111^60114|60113^60112^60111|60112^60111^60114"},{"$f":"'3'!AD37","v":"0|0^0|0^0|0^0|0^0^0|0^0|0^0|0^0|0^0^0|0^0^0"},{"$f":"'3'!AD51","v":"25|6^3|3^6|7^3|3^2^6|2^9|4^8|10^2|2^3^6|4^7^2"},10,3,0,21011,0,1,"130003^2","6^10","60115^60115","100^100","5^8"]
[1201,{"$f":"'3'!P68","v":"60121^60122|60122^60124|60121^60122|60123^60122^60121|60121^60124|60123^60122^60121|60124^60122^60121|60121^60124|60123^60122|60124^60122^60121|60123^60124"},{"$f":"'3'!P91","v":"0^0|0^0|0^0|0^0^0|0^0|0^0^0|0^0^0|0^0|0^0|0^0^0|0^0"},{"$f":"'3'!P105","v":"5^2|4^2|8^4|3^3^6|10^2|3^3^7|2^4^8|8^3|3^8|2^4^8|4^3"},10,3,0,21012,5,0,"130003^1|130004^1","5^10","60125^60125","100^100","4^6"]
[1202,{"$f":"'3'!AD68","v":"60121^60124|60122^60121|60123^60121|60122^60121|60124^60123^60121|60124^60121^60122|60123^60122|60124^60122^60121|60121^60122|60124^60123^60121^60122"},{"$f":"'3'!AD90","v":"0^0|0^0|0^0|0^0|0^0^0|0^0^0|0^0|0^0^0|0^0|0^0^0^0"},{"$f":"'3'!AD104","v":"25^4|4^6|3^8|4^8|2^3^9|2^6^4|4^6|2^3^8|9^4|2^2^7^3"},10,3,0,21012,0,1,"130003^2","6^10","60125^60125","100^100","5^8"]
[1301,{"$f":"'3'!P121","v":"60131^60131^60131^60132^60134^60132^60132^60131^60133^60133^60131^60132^60133^60134^60131^60131^60134^60133^60132^60131^60131^60131^60131^60131^60132^60134^60133^60132^60133^60134^60131^60132^60132^60131^60132^60132^60131^60131^60131^60133^60133^60133^60131^60131^60132^60131^60131^60134^60131^60131^60132^60134^60132^60132^60132^60134^60132^60133^60133^60133^60132"},{"$f":"'3'!P144","v":"2^1^3^4^1^5^6^4^2^3^5^7^6^4^2^3^5^7^8^4^2^1^3^5^9^6^4^1^5^7^6^4^2^1^3^5^7^6^4^2^1^3^5^7^8^4^2^1^3^5^9^4^2^1^3^5^6^4^1^5^7"},{"$f":"'3'!P158","v":"3^3^3^8^8^8^14^14^14^14^14^14^20^20^20^20^20^20^30^30^30^30^30^30^30^35^35^35^35^35^45^45^45^45^45^45^45^55^55^55^55^55^55^55^65^65^65^65^65^65^65^70^70^70^70^70^80^80^80^80^80"},0,1,0,21013,4,0,"130003^2|130004^1","5^10","60135^60135","100^100","5^6"]
[1302,{"$f":"'3'!AD121","v":"60131^60132|60132^60134|60131^60133|60131^60132|60131^60133^60134|60131^60132|60133^60132^60134|60131^60134|60131^60132^60133|60131^60132^60134"},{"$f":"'3'!AD143","v":"0^0|0^0|0^0|0^0|0^0^0|0^0|0^0^0|0^0|0^0^0|0^0^0"},{"$f":"'3'!AD157","v":"22^8|6^4|8^3|8^4|9^3^2|8^4|3^6^2|9^3|8^4^3|10^4^2"},8,3,0,21013,0,1,"130003^2","6^10","60135^60135","100^100","5^8"]
[1401,{"$f":"'3'!P174","v":"60142^60141|60141^60142^60144|60143^60141^60142|60141^60144|60143^60142|60144^60143^60141|60141^60142|60143^60144^60141|60141^60142|60144^60142^60141|60143^60142^60144"},{"$f":"'3'!P197","v":"0^0|0^0^0|0^0^0|0^0|0^0|0^0^0|0^0|0^0^0|0^0|0^0^0|0^0^0"},{"$f":"'3'!P211","v":"2^4|6^3^2|2^7^3|9^2|4^6|2^2^8|8^4|2^2^9|8^4|2^3^7|4^5^3"},11,3,0,21014,4,0,"130003^2|130004^1","6^10","60145^60145","0^0","6^10"]
[1402,{"$f":"'3'!AD174","v":"60142^60144^60141|60141^60143|60143^60142|60141^60142|60141^60143^60144|60141^60142|60143^60141^60142|60141^60144|60142^60141|60143^60142^60144"},{"$f":"'3'!AD196","v":"0^0^0|0^0|0^0|0^0|0^0^0|0^0|0^0^0|0^0|0^0|0^0^0"},{"$f":"'3'!AD210","v":"10^5^20|10^2|3^6|8^4|7^2^2|9^4|2^7^4|9^2|4^10|4^6^2"},10,3,0,21014,0,1,"130003^2","7^10","60145^60145","0^0","8^10"]
[1501,{"$f":"'3'!P227","v":"60152^60151^60152^60151^60151^60154^60151^60151^60152^60151^60153^60151^60152^60154^60152^60153^60153^60152^60154^60152^60151^60151^60151^60151^60152^60154^60153^60151^60153^60151^60153^60154^60151^60151^60152^60152^60152^60151^60151^60151^60151^60153^60155^60153^60151^60151^60152^60151^60151^60154^60151^60151^60152^60151^60151^60152^60152^60152^60151^60151^60153^60153^60154^60152^60152"},{"$f":"'3'!P250","v":"2^1^3^4^2^1^3^5^6^2^1^3^7^8^4^2^3^5^9^6^4^2^3^5^7^6^4^2^1^3^5^7^8^6^2^1^3^7^9^8^6^4^1^5^7^9^8^4^2^1^3^5^9^8^6^2^1^3^7^9^4^2^1^3^5"},{"$f":"'3'!P264","v":"3^3^3^6^6^6^6^6^10^10^10^10^10^15^15^15^15^15^15^20^20^20^20^20^20^26^26^26^26^26^26^26^33^33^33^33^33^33^33^40^40^40^40^40^40^40^48^48^48^48^48^48^48^55^55^55^55^55^55^55^60^60^60^60^60"},0,1,0,21015,3,0,"130003^2|130004^1","6^10","60156^60156","0^0","6^10"]
[1502,{"$f":"'3'!AD227","v":"60152^60151^60151^60151^60151^60151^60152^60154^60152^60152^60152^60154^60153^60152^60153^60152^60153^60152^60151^60151^60151^60152^60154^60153^60152^60153^60154^60151^60151^60151^60151^60151^60151^60151^60152^60153^60154^60153^60152"},{"$f":"'3'!AD249","v":"8^4^2^1^3^5^9^6^4^1^5^7^4^2^1^3^5^6^2^1^3^7^8^2^1^3^9^6^4^2^1^3^5^7^6^4^1^5^7"},{"$f":"'3'!AD263","v":"2^2^2^2^2^2^2^5^5^5^5^5^10^10^10^10^10^15^15^15^15^15^21^21^21^21^21^27^27^27^27^27^27^27^35^35^35^35^35"},0,1,0,21015,4,0,"130003^2|130004^1","7^10","60156^60156","0^0","8^10"]
[1503,{"$f":"'3'!AR227","v":"60151^60151^60155^60151^60151^60152^60152^60152^60153^60153^60153^60152^60151^60151^60151^60152^60154^60153^60153^60153^60154^60151^60151^60151^60151^60151^60151^60152^60152^60152"},{"$f":"'3'!AR249","v":"4^2^1^3^5^4^1^5^4^1^5^6^2^1^3^7^4^2^1^3^5^6^4^2^3^5^7^4^1^5"},{"$f":"'3'!AR263","v":"1^1^1^1^1^3^3^3^6^6^6^10^10^10^10^10^15^15^15^15^15^25^25^25^25^25^25^30^30^30"},0,1,0,21015,0,1,"130003^2|130004^1","6^10","60156^60156","0^0","8^12"]
[1601,{"$f":"'4'!P15","v":"60164^60162|60162^60161|60162^60161|60163^60161^60164|60162^60161|60162^60163^60164|60161^60162|60162^60163^60161|60161^60164^60162"},{"$f":"'4'!P38","v":"0^0|0^0|0^0|0^0^0|0^0|0^0^0|0^0|0^0^0|0^0^0"},{"$f":"'4'!P50","v":"2^4|3^8|4^8|2^8^2|4^8|4^4^4|9^4|4^3^7|8^2^4"},12,3,0,21016,4,0,"130003^2|130004^1","6^10","60166^60166","0^0","6^10"]
[1602,{"$f":"'4'!AD15","v":"60161^60164^60163|60162^60161|60163^60161^60162|60164^60161^60162|60163^60162^60164|60161^60165|60163^60162^60164"},{"$f":"'4'!AD37","v":"0^0^0|0^0|0^0^0|0^0^0|0^0^0|0^0|0^0^0"},{"$f":"'4'!AD50","v":"20^6^4|6^8|3^7^4|3^8^4|4^4^4|15^1|4^4^2"},12,3,0,21016,2,0,"130003^2|130004^1","7^10","60166^60166","0^0","8^10"]
[1603,{"$f":"'4'!AR15","v":"60164^60161^60161^60164^60163^60163^60163^60162^60162^60162^60162^60164^60164^60162^60161^60163^60163^60163^60161^60161^60161^60162^60162^60161^60161^60161^60162^60162^60162^60161"},{"$f":"'4'!AR37","v":"4^2^3^5^2^1^3^2^1^3^6^4^5^7^4^2^1^3^5^6^4^2^3^5^7^6^4^1^5^7"},{"$f":"'4'!AR50","v":"2^2^2^2^4^4^4^8^8^8^14^14^14^14^20^20^20^20^20^25^25^25^25^25^25^30^30^30^30^30"},0,1,0,21016,0,1,"130004^2","6^10","60166^60166","0^0","8^12"]
[1701,{"$f":"'4'!P67","v":"60171^60172|60171^60174|60173^60171^60172|60173^60172^60174|60171^60172|60173^60174^60172|60171^60172|60174^60173^60171|60173^60172^60174"},{"$f":"'4'!P90","v":"0^0|0^0|0^0^0|0^0^0|0^0|0^0^0|0^0|0^0^0|0^0^0"},{"$f":"'4'!P102","v":"5^2|8^3|2^7^4|3^8^2|8^4|4^4^4|10^3|2^3^8|4^4^4"},12,3,0,21017,5,0,"130003^2|130004^1","6^10","60175^60175","0^0","6^10"]
[1702,{"$f":"'4'!AD67","v":"60171^60172|60171^60172|60173^60174^60172|60171^60172|60173^60174^60172|60172^60171|60173^60172^60174"},{"$f":"'4'!AD89","v":"0^0|0^0|0^0^0|0^0|0^0^0|0^0|0^0^0"},{"$f":"'4'!AD102","v":"22^8|8^6|4^2^4|9^3|3^2^5|4^10|3^4^3"},12,3,0,21017,4,0,"130003^2|130004^1","7^10","60175^60175","0^0","8^10"]
[1703,{"$f":"'4'!AR67","v":"60174^60171^60171^60174^60172^60172^60173^60173^60173^60172^60171^60174^60171^60172^60172^60173^60171^60173^60172^60172^60174^60171^60171^60174^60172^60171^60173^60172^60173^60171"},{"$f":"'4'!AR89","v":"4^2^3^5^2^3^4^1^5^6^2^1^3^7^4^2^1^3^5^8^6^4^5^7^9^6^4^1^5^7"},{"$f":"'4'!AR102","v":"1^1^1^1^2^2^5^5^5^10^10^10^10^10^17^17^17^17^17^27^27^27^27^27^27^42^42^42^42^42"},0,1,0,21017,0,1,"130004^2","6^10","60175^60175","0^0","8^12"]
[1801,{"$f":"'4'!P119","v":"60182^60184^60182^60181^60181^60181^60181^60181^60182^60182^60183^60184^60183^60182^60182^60182^60181^60181^60183^60181^60181^60182^60185^60185^60185^60185^60185^60184^60182^60183^60183^60183^60182^60184^60182^60181^60181^60181^60182^60182^60182^60183^60184^60183^60182^60182^60185^60185^60185^60185^60185^60182^60181^60183^60184^60183^60181^60182"},{"$f":"'4'!P146","v":"4^1^5^4^2^1^3^5^8^6^2^1^3^7^9^8^6^4^1^5^7^9^101^102^103^104^105^6^4^2^1^3^5^7^6^2^1^3^7^8^6^4^1^5^7^9^101^102^103^104^105^6^4^2^1^3^5^7"},{"$f":"'4'!P160","v":"4^4^4^10^10^10^10^10^17^17^17^17^17^17^17^25^25^25^25^25^25^25^30^30^30^30^30^40^40^40^40^40^40^40^50^50^50^50^50^60^60^60^60^60^60^60^65^65^65^65^65^75^75^75^75^75^75^75"},0,1,0,"20001^21018",4,0,"130003^2|130004^1","6^10","60185^60185","100^100","6^12"]
[1802,{"$f":"'4'!AD119","v":"60181^60182^60184|60183^60185^60186|60181^60182^60183|60181^60182^60184|60183^60185|60181^60182|60183^60182^60184"},{"$f":"'4'!AD146","v":"0^0^0|0^100^0|0^0^0|0^0^0|0^100|0^0|0^0^0"},{"$f":"'4'!AD159","v":"20^6^3|3^6^1|6^5^3|6^4^3|3^8|7^5|4^4^3"},11,3,0,"20001^21018",4,0,"130003^2|130004^1","7^10","60185^60185","100^100","6^12"]
[1803,{"$f":"'4'!AR119","v":"60181^60184^60181^60182^60182^60182^60183^60183^60183^60182^60181^60182^60181^60182^60184^60183^60182^60183^60184^60181^60181^60182^60182^60181^60181^60184^60182^60183^60183^60182^60184"},{"$f":"'4'!AR146","v":"2^1^3^4^1^5^4^1^5^6^2^1^3^7^4^2^1^3^5^6^4^2^3^5^7^8^6^2^3^7^9"},{"$f":"'4'!AR159","v":"2^2^2^4^4^4^8^8^8^16^16^16^16^16^25^25^25^25^25^40^40^40^40^40^40^50^50^50^50^50^50"},0,1,0,"20001^21018",0,1,"130004^2","6^10","60185^60185","100^100","8^12"]
[1901,{"$f":"'4'!P175","v":"60191^60194|60192^60191|60193^60191^60192|60193^60192^60194|60195^60191|60191^60193^60192|60192^60191|60194^60193^60191^60192|60195|60194^60192^60191"},{"$f":"'4'!P202","v":"0^0|0^0|0^0^0|0^0^0|100^0|0^0^0|0^0|0^0^0^0|100|0^0^0"},{"$f":"'4'!P216","v":"5^2|3^8|2^7^3|3^4^3|6^6|8^2^4|4^7|2^3^7^3|6|2^4^7"},12,3,0,"20001^21019",5,0,"130003^2|130004^1","6^10","60195^60195","100^100","6^12"]
[1902,{"$f":"'4'!AD175","v":"60192^60191|60194^60192|60192^60193^60194|60194^60191^60192|60195^60196|60193^60191^60192|60193^60192^60194"},{"$f":"'4'!AD202","v":"0^0|0^0|0^0^0|0^0^0|100^0|0^0^0|0^0^0"},{"$f":"'4'!AD215","v":"8^20|4^6|4^3^2|2^8^3|7^1|2^8^3|3^4^3"},11,3,0,"20001^21019",4,0,"130003^2|130004^1","7^10","60195^60195","100^100","6^12"]
[1903,{"$f":"'4'!AR175","v":"60192^60194^60192^60191^60191^60191^60193^60193^60193^60195^60195^60192^60194^60193^60193^60194^60192^60191^60191^60191^60191^60191^60191^60192^60193^60192^60193^60192"},{"$f":"'4'!AR202","v":"4^1^5^2^1^3^4^1^5^102^104^6^4^2^3^5^7^6^4^2^3^5^7^4^2^1^3^5"},{"$f":"'4'!AR215","v":"3^3^3^5^5^5^8^8^8^12^12^20^20^20^20^20^20^35^35^35^35^35^35^50^50^50^50^50"},0,1,0,"20001^21019",0,1,"130004^2","6^10","60195^60195","100^100","8^12"]
[2001,{"$f":"'4'!P233","v":"60204^60201^60201^60202^60202^60204^60202^60202^60201^60203^60203^60201^60202^60204^60202^60201^60203^60201^60202^60204^60205^60205^60205^60205^60205^60202^60204^60203^60203^60203^60204^60202^60201^60201^60202^60202^60202^60201^60201^60201^60201^60203^60204^60203^60201^60201^60205^60205^60205^60205^60205^60204^60202^60206^60207^60204"},{"$f":"'4'!P260","v":"4^2^3^5^2^1^3^6^4^2^3^5^7^8^6^2^1^3^7^9^101^102^103^104^105^8^6^2^3^5^7^9^6^4^2^1^3^5^7^8^6^4^1^5^7^9^101^102^103^104^105^6^4^1^5^7"},{"$f":"'4'!P274","v":"5^5^5^5^10^10^10^17^17^17^17^17^17^25^25^25^25^25^25^25^30^30^30^30^30^38^38^38^38^38^38^38^46^46^46^46^46^46^46^55^55^55^55^55^55^55^60^60^60^60^60^70^70^70^70^70"},0,1,0,"20001^21020",0,0,"130003^2|130004^1","6^10","60205^60205","100^100","6^12"]
[2002,{"$f":"'4'!AD233","v":"60204^60201^60202|60202^60201|60202^60203^60204|60202^60201|60205^60207|60201^60204|60203^60201^60202"},{"$f":"'4'!AD260","v":"0^0^0|0^0|0^0^0|0^0|100^0|0^0|0^0^0"},{"$f":"'4'!AD273","v":"6^18^6|4^10|4^4^4|4^11|8^1|12^2|3^8^4"},10,3,0,"20001^21020",3,0,"130003^2|130004^1","7^10","60205^60205","100^100","6^12"]
[2003,{"$f":"'4'!AR233","v":"60204^60201^60201^60201^60204^60202^60202^60202^60205^60205^60205^60201^60203^60203^60203^60201^60202^60204^60203^60207^60203^60204^60202^60202^60201^60201^60201^60201^60202^60204^60202^60202^60202^60204"},{"$f":"'4'!AR260","v":"4^2^1^3^5^4^1^5^102^103^104^4^2^1^3^5^6^4^2^1^3^5^7^6^4^2^3^5^7^6^4^1^5^7"},{"$f":"'4'!AR273","v":"2^2^2^2^2^5^5^5^9^9^9^14^14^14^14^14^25^25^25^25^25^25^25^35^35^35^35^35^35^45^45^45^45^45"},0,1,0,"20001^21020",0,1,"130003^2|130004^1","6^10","60205^60205","100^100","8^12"]
[2101,{"$f":"'5'!P15","v":"60211|60212^60211|60214^60213^60212|60213^60211^60212^60214|60211^60212|60215|60213^60212^60214|60214^60211^60212|60215|60213^60211^60214"},{"$f":"'5'!P42","v":"0|0^0|0^0^0|0^0^0^0|0^0|100|0^0^0|0^0^0|100|0^0^0"},{"$f":"'5'!P56","v":"7|3^6|2^3^4|2^6^3^2|8^4|7|4^4^2|2^8^3|8|4^8^2"},11,3,0,"20001^21021",4,0,"130003^2|130004^2","6^10","60215^60215","100^100","7^12"]
[2102,{"$f":"'5'!AD15","v":"60214^60211^60213|60212^60211|60213^60211^60214|60212^60211|60215|60214^60211^60212|60213^60211^60212"},{"$f":"'5'!AD42","v":"0^0^0|0^0|0^0^0|0^0|100|0^0^0|0^0^0"},{"$f":"'5'!AD55","v":"6^22^4|4^7|3^8^2|4^8|7|2^9^3|2^8^4"},11,3,0,"20001^21021",3,0,"130003^2|130004^2","7^10","60215^60215","100^100","7^12"]
[2103,{"$f":"'5'!AR15","v":"60214^60211^60211^60214^60212^60212^60212^60215^60215^60215^60211^60213^60213^60211^60212^60214^60213^60213^60214^60212^60212^60211^60211^60211^60211^60212^60214^60212^60212^60212^60214"},{"$f":"'5'!AR42","v":"4^2^3^5^4^1^5^102^103^104^4^2^3^5^6^4^2^3^5^7^6^4^2^3^5^7^6^4^1^5^7"},{"$f":"'5'!AR55","v":"3^3^3^3^5^5^5^9^9^9^15^15^15^15^23^23^23^23^23^23^30^30^30^30^30^30^40^40^40^40^40"},0,1,0,"20001^21021",0,1,"130003^2|130004^2","6^10","60215^60215","100^100","8^12"]
[2201,{"$f":"'5'!P73","v":"60224^60221|60222^60221|60224^60223^60221|60224^60222^60221|60221^60222^60223|60225|60223^60221^60222|60222^60221|60225^60226|60223^60221^60222"},{"$f":"'5'!P100","v":"0^0|0^0|0^0^0|0^0^0|0^0^0|100|0^0^0|0^0|100^0|0^0^0"},{"$f":"'5'!P114","v":"2^5|4^5|2^2^6|2^3^6|7^3^3|7|4^6^3|4^8|8^1|3^8^3"},12,3,0,"20001^21022",4,0,"130003^2|130004^2","6^10","60225^60225","100^100","7^12"]
[2202,{"$f":"'5'!AD73","v":"60224^60222^60221|60221^60222|60223^60221^60222|60222^60224^60226|60225|60221^60222|60223^60222^60224"},{"$f":"'5'!AD100","v":"0^0^0|0^0|0^0^0|0^0^0|100|0^0|0^0^0"},{"$f":"'5'!AD113","v":"6^8^18|6^4|3^8^3|6^3^2|7|7^4|3^4^2"},11,3,0,"20001^21022",3,0,"130003^2|130004^2","7^10","60225^60225","100^100","7^12"]
[2203,{"$f":"'5'!AR73","v":"60224^60222^60222^60224^60221^60221^60221^60225^60225^60222^60223^60226^60223^60222^60222^60224^60221^60221^60221^60224^60222^60222^60221^60221^60221^60221^60222^60224^60222^60222^60222^60224"},{"$f":"'5'!AR100","v":"4^2^3^5^4^1^5^102^104^4^2^1^3^5^6^4^2^1^3^5^7^6^4^2^3^5^7^6^4^1^5^7"},{"$f":"'5'!AR113","v":"4^4^4^4^6^6^6^10^10^15^15^15^15^15^20^20^20^20^20^20^20^25^25^25^25^25^25^30^30^30^30^30"},0,1,0,"20001^21022",0,1,"130003^2|130004^2","6^10","60225^60225","100^100","8^12"]
[2301,{"$f":"'5'!P131","v":"60232^60231^60231^60231^60232^60234^60232^60232^60234^60232^60233^60234^60233^60232^60234^60232^60231^60231^60231^60232^60234^60232^60231^60231^60231^60232^60235^60235^60235^60235^60235^60234^60232^60233^60233^60232^60234^60232^60231^60231^60232^60231^60231^60232^60234^60232^60233^60236^60233^60232^60234^60235^60235^60235^60235^60235"},{"$f":"'5'!P158","v":"4^2^1^3^5^4^2^3^5^8^2^1^3^9^6^4^2^1^3^5^7^4^2^1^3^5^101^102^103^104^105^6^4^2^3^5^7^6^4^2^1^3^5^7^8^6^2^1^3^7^9^101^102^103^104^105"},{"$f":"'5'!P172","v":"5^5^5^5^5^10^10^10^10^16^16^16^16^16^23^23^23^23^23^23^23^30^30^30^30^30^35^35^35^35^35^43^43^43^43^43^43^52^52^52^52^52^52^52^60^60^60^60^60^60^60^65^65^65^65^65"},0,1,0,"20001^21023",4,0,"130003^2|130004^2","6^10","60235^60235","100^100","7^12"]
[2302,{"$f":"'5'!AD131","v":"60232^60231^60231^60231^60231^60232^60232^60233^60232^60234^60232^60233^60234^60231^60233^60236^60233^60231^60234^60231^60231^60232^60232^60231^60231^60235^60235^60235^60235^60235^60231^60234^60231^60231^60231^60234^60231^60232^60231^60233^60233^60233^60231^60232"},{"$f":"'5'!AD158","v":"6^4^2^1^3^5^7^4^2^1^3^5^6^4^2^1^3^5^7^6^4^2^3^5^7^101^102^103^104^105^6^4^2^1^3^5^7^6^4^2^1^3^5^7"},{"$f":"'5'!AD171","v":"3^3^3^3^3^3^3^7^7^7^7^7^13^13^13^13^13^13^13^20^20^20^20^20^20^25^25^25^25^25^32^32^32^32^32^32^32^40^40^40^40^40^40^40"},0,1,0,"20001^21023",4,0,"130003^2|130004^2","7^10","60235^60235","100^100","7^12"]
[2303,{"$f":"'5'!AR131","v":"60231^60232|60234^60232^60233|60235|60232^60233^60231|60231^60232^60234|60233^60231^60232|60232^60234"},{"$f":"'5'!AR158","v":"0^0|0^0^0|100|0^0^0|0^0^0|0^0^0|0^0"},{"$f":"'5'!AR171","v":"25^8|2^4^4|8|3^3^7|6^4^2|3^8^3|6^4"},10,3,0,"20001^21023",0,1,"130003^2|130004^2","6^10","60235^60235","100^100","8^12"]
[2401,{"$f":"'5'!P189","v":"60242^60244|60241^60242|60244^60242^60243|60241^60242^60244|60242^60243^60241|60245|60241^60242^60244|60244^60243^60241^60242|60245^60246|60242^60243^60241^60244"},{"$f":"'5'!P216","v":"0^0|0^0|0^0^0|0^0^0|0^0^0|100|0^0^0|0^0^0^0|100^0|0^0^0^0"},{"$f":"'5'!P230","v":"4^2|6^3|2^4^3|7^3^2|3^2^8|7|8^2^2|2^2^7^2|7^1|2^3^6^2"},11,3,0,"20001^21024",5,0,"130003^2|130004^2","6^10","60245^60245","100^100","7^12"]
[2402,{"$f":"'5'!AD189","v":"60241^60244^60241^60246^60241^60244^60241^60242^60243^60242^60243^60242^60242^60244^60242^60243^60243^60243^60242^60244^60242^60242^60241^60244^60241^60242^60242^60245^60245^60245^60245^60245^60242^60241^60241^60244^60241^60241^60242^60242^60241^60243^60243^60243^60241^60242"},{"$f":"'5'!AD216","v":"6^4^2^1^3^5^7^4^2^1^3^5^9^6^4^2^1^3^5^7^6^4^2^1^3^5^7^101^102^103^104^105^6^4^2^1^3^5^7^6^4^2^1^3^5^7"},{"$f":"'5'!AD229","v":"3^3^3^3^3^3^3^10^10^10^10^10^10^25^25^25^25^25^25^25^40^40^40^40^40^40^40^45^45^45^45^45^60^60^60^60^60^60^60^75^75^75^75^75^75^75"},1,2,0,"20001^21024",4,0,"130003^2|130004^2","7^10","60245^60245","100^100","7^12"]
[2403,{"$f":"'5'!AR189","v":"60244^60242^60242^60242^60244^60241^60242^60241^60242^60241^60245^60245^60245^60245^60245^60242^60243^60246^60243^60242^60241^60241^60243^60242^60243^60241^60241^60244^60242^60241^60241^60241^60242^60244^60243^60242^60242^60244^60242^60242^60243"},{"$f":"'5'!AR216","v":"4^2^1^3^5^6^2^1^3^7^101^102^103^104^105^4^2^1^3^5^6^4^2^1^3^5^7^8^6^2^1^3^7^9^6^4^2^1^3^5^7"},{"$f":"'5'!AR229","v":"3^3^3^3^3^5^5^5^5^5^10^10^10^10^10^15^15^15^15^15^21^21^21^21^21^21^21^28^28^28^28^28^28^28^35^35^35^35^35^35^35"},0,1,0,"20001^21024",0,1,"130003^2|130004^2","6^10","60245^60245","100^100","8^12"]
[2501,{"$f":"'5'!P247","v":"60252^60251^60251^60252^60252^60254^60252^60254^60252^60252^60253^60254^60254^60253^60252^60254^60252^60251^60251^60251^60252^60254^60255^60255^60255^60255^60255^60252^60251^60253^60254^60253^60251^60252^60255^60255^60255^60255^60255^60254^60252^60251^60253^60253^60251^60252^60254^60255^60255^60255^60255^60255^60254^60252^60253^60256^60253^60252^60254"},{"$f":"'5'!P274","v":"6^2^3^7^4^2^1^3^5^6^4^2^3^5^7^8^6^2^1^3^7^9^101^102^103^104^105^8^4^2^1^3^5^9^101^102^103^104^105^8^6^4^2^3^5^7^9^101^102^103^104^105^6^4^2^1^3^5^7"},{"$f":"'5'!P288","v":"5^5^5^5^10^10^10^10^10^16^16^16^16^16^16^23^23^23^23^23^23^23^30^30^30^30^30^37^37^37^37^37^37^37^45^45^45^45^45^55^55^55^55^55^55^55^55^60^60^60^60^60^70^70^70^70^70^70^70"},0,1,0,"20001^21025",4,0,"130003^2|130004^2|130005^1","6^10","60255^60255","100^100","7^12"]
[2502,{"$f":"'5'!AD247","v":"60252^60254^60251|60251^60253|60255^60256|60253^60252^60254|60255|60254^60251^60252|60253^60251^60252|60251^60252^60254^60256"},{"$f":"'5'!AD274","v":"0^0^0|0^0|100^0|0^0^0|100|0^0^0|0^0^0|0^0^0^0"},{"$f":"'5'!AD287","v":"6^4^20|8^3|7^1|4^4^2|8|2^9^3|4^8^3|9^4^2^1"},11,3,0,"20001^21025",4,0,"130003^2|130004^2|130005^1","7^10","60255^60255","100^100","7^12"]
[2503,{"$f":"'5'!AR247","v":"60254^60251^60251^60251^60254^60252^60252^60252^60252^60255^60255^60255^60255^60255^60252^60251^60253^60256^60253^60251^60252^60254^60252^60251^60251^60251^60252^60254^60255^60255^60255^60255^60255^60252^60251^60253^60253^60253^60251^60252^60254^60252^60252^60252^60252^60254"},{"$f":"'5'!AR274","v":"4^2^1^3^5^4^2^3^5^101^102^103^104^105^6^4^2^1^3^5^7^8^6^2^1^3^7^9^101^102^103^104^105^8^4^2^1^3^5^9^6^4^2^3^5^7"},{"$f":"'5'!AR287","v":"2^2^2^2^2^5^5^5^5^9^9^9^9^9^14^14^14^14^14^14^14^20^20^20^20^20^20^20^25^25^25^25^25^32^32^32^32^32^32^32^40^40^40^40^40^40"},0,1,0,"20001^21025",0,1,"130003^2|130004^2|130005^1","6^10","60255^60255","100^100","8^12"]
[2601,{"$f":"'6'!P15","v":"60261^60264|60261^60262|60264^60263^60262|60262^60261^60264|60265|60264^60263^60262|60262^60261^60264|60264^60263^60262|60265|60263^60262^60264"},{"$f":"'6'!P42","v":"0^0|0^0|0^0^0|0^0^0|100|0^0^0|0^0^0|0^0^0|100|0^0^0"},{"$f":"'6'!P56","v":"5^2|7^4|2^3^5|3^7^2|8|2^3^5|3^8^2|2^4^5|9|3^6^2"},11,3,0,"20002^21026",4,0,"130003^2|130004^2","6^10","60265^60265","100^100","7^12"]
[2602,{"$f":"'6'!AD15","v":"60261^60264^60266|60262^60261|60265|60263^60262^60264|60264^60261^60262|60263^60261^60262|60265|60262^60261^60264"},{"$f":"'6'!AD42","v":"0^0^0|0^0|100|0^0^0|0^0^0|0^0^0|100|0^0^0"},{"$f":"'6'!AD55","v":"18^6^1|3^8|9|3^5^2|2^7^3|2^8^3|10|3^9^2"},11,3,0,"20002^21026",4,0,"130003^2|130004^2","7^10","60265^60265","100^100","7^12"]
[2603,{"$f":"'6'!AR15","v":"60263^60263^60264^60264^60261^60261^60261^60261^60262^60262^60262^60262^60264^60262^60261^60263^60261^60262^60264^60262^60261^60263^60263^60261^60262^60265^60265^60265^60265^60264^60262^60263^60263^60262^60264"},{"$f":"'6'!AR42","v":"2^3^4^5^4^2^3^5^6^4^5^7^8^6^4^1^5^7^9^6^2^1^3^5^9^101^102^104^105^6^4^2^3^5^7"},{"$f":"'6'!AR55","v":"3^3^5^5^8^8^8^8^13^13^13^13^20^20^20^20^20^20^20^30^30^30^30^30^30^35^35^35^35^45^45^45^45^45^45"},0,1,0,"20002^21026",0,1,"130003^2|130004^2","6^10","60265^60265","100^100","8^12"]
[2701,{"$f":"'6'!P73","v":"60271^60272|60272^60274|60274^60273^60271|60275|60271^60274^60272|60274^60273^60271^60272|60274^60272|60271^60272|60273^60272^60274|60275^60276"},{"$f":"'6'!P100","v":"0^0|0^0|0^0^0|100|0^0^0|0^0^0^0|0^0|0^0|0^0^0|100^0"},{"$f":"'6'!P114","v":"5^2|5^3|3^2^7|9|8^2^3|2^3^7^3|3^5|9^3|2^8^2|8^1"},11,3,0,"20002^21027",4,0,"130003^2|130004^2","6^10","60275^60275","100^100","7^12"]
[2702,{"$f":"'6'!AD73","v":"60271^60272^60272^60272^60271^60274^60272^60273^60272^60274^60275^60275^60275^60275^60275^60274^60272^60273^60272^60273^60272^60274^60272^60271^60271^60272^60271^60271^60272^60275^60275^60275^60275^60275^60272^60271^60273^60272^60273^60271^60272^60274^60271^60272^60276^60272^60271^60274"},{"$f":"'6'!AD100","v":"4^2^1^3^5^4^2^1^3^5^101^102^103^104^105^6^4^2^1^3^5^7^8^4^2^1^3^5^9^101^102^103^104^105^6^4^2^1^3^5^7^8^6^2^1^3^7^9"},{"$f":"'6'!AD113","v":"4^4^4^4^4^10^10^10^10^10^15^15^15^15^15^25^25^25^25^25^25^25^35^35^35^35^35^35^35^40^40^40^40^40^50^50^50^50^50^50^50^60^60^60^60^60^60^60"},0,1,0,"20002^21027",4,0,"130003^2|130004^2","7^10","60275^60275","100^100","7^12"]
[2703,{"$f":"'6'!AR73","v":"60273^60273^60275^60275^60275^60274^60274^60271^60271^60271^60271^60272^60272^60272^60272^60272^60271^60273^60274^60273^60271^60272^60272^60271^60273^60273^60271^60272^60274^60272^60271^60271^60272^60274^60275^60275^60275^60275"},{"$f":"'6'!AR100","v":"2^3^101^103^105^2^3^4^2^3^5^6^4^5^7^6^4^2^1^3^5^7^8^4^2^3^5^9^6^4^2^3^5^7^101^102^104^105"},{"$f":"'6'!AR113","v":"2^2^4^4^4^8^8^14^14^14^14^20^20^20^20^30^30^30^30^30^30^30^40^40^40^40^40^40^50^50^50^50^50^50^55^55^55^55"},0,1,0,"20002^21027",0,1,"130003^2|130004^2","6^10","60275^60275","100^100","8^12"]
[2801,{"$f":"'6'!P131","v":"60284^60282^60282^60284^60281^60281^60284^60281^60281^60282^60283^60283^60283^60282^60284^60282^60281^60281^60281^60282^60284^60285^60285^60285^60285^60285^60282^60284^60281^60283^60281^60284^60282^60285^60285^60285^60285^60285^60284^60282^60281^60283^60283^60281^60282^60284^60285^60285^60285^60285^60285^60284^60282^60283^60286^60283^60282^60284"},{"$f":"'6'!P158","v":"4^2^3^5^6^4^1^5^7^6^2^1^3^7^8^6^4^1^5^7^9^101^102^103^104^105^8^6^2^1^3^7^9^101^102^103^104^105^8^6^4^2^3^5^7^9^101^102^103^104^105^6^4^2^1^3^5^7"},{"$f":"'6'!P172","v":"5^5^5^5^10^10^10^10^10^18^18^18^18^18^28^28^28^28^28^28^28^35^35^35^35^35^45^45^45^45^45^45^45^50^50^50^50^50^60^60^60^60^60^60^60^60^65^65^65^65^65^75^75^75^75^75^75^75"},0,1,0,"20002^21028",4,0,"130003^2|130004^2","6^10","60285^60285","100^100","7^12"]
[2802,{"$f":"'6'!AD131","v":"60282^60283^60281|60283^60281|60285|60282^60283^60283|60283^60281^60282|60285^60286|60283^60283^60282|60283^60282^60281"},{"$f":"'6'!AD158","v":"0^0^0|0^0|100|0^0^0|0^0^0|100^0|0^0^0|0^0^0"},{"$f":"'6'!AD171","v":"6^4^15|3^8|8|4^3^3|2^7^3|9^1|3^3^4|2^3^8"},10,3,0,"20002^21028",4,0,"130003^2|130004^2","7^10","60285^60285","100^100","7^12"]
[2803,{"$f":"'6'!AR131","v":"60282^60284^60282^60285^60285^60285^60283^60283^60283^60281^60281^60281^60281^60284^60282^60283^60281^60283^60282^60284^60285^60285^60285^60285^60285^60282^60284^60281^60282^60281^60284^60282^60284^60282^60283^60283^60283^60282^60284^60282^60281^60281^60281^60281^60282"},{"$f":"'6'!AR158","v":"2^1^3^101^103^105^2^1^3^6^4^5^7^8^6^2^1^3^7^9^101^102^103^104^105^8^6^4^1^5^7^9^6^4^2^1^3^5^7^6^4^2^3^5^7"},{"$f":"'6'!AR171","v":"3^3^3^5^5^5^9^9^9^15^15^15^15^23^23^23^23^23^23^23^30^30^30^30^30^40^40^40^40^40^40^40^50^50^50^50^50^50^50^60^60^60^60^60^60"},0,1,0,"20002^21028",0,1,"130003^2|130004^2","6^10","60285^60285","100^100","8^12"]
[2901,{"$f":"'6'!P189","v":"60291^60291^60291^60291^60292^60294^60294^60292^60292^60293^60294^60293^60292^60295^60295^60295^60295^60295^60292^60291^60293^60294^60293^60291^60292^60294^60292^60291^60291^60291^60291^60292^60294^60293^60291^60292^60296^60292^60291^60293^60295^60295^60295^60295^60295^60294^60292^60291^60293^60293^60291^60292^60294^60294^60292^60293^60292^60293^60292^60294"},{"$f":"'6'!P216","v":"2^1^3^5^4^2^1^3^6^4^1^5^7^101^102^103^104^105^6^4^2^1^3^5^7^8^6^4^2^3^5^7^9^6^4^2^1^3^5^7^101^102^103^104^105^8^6^4^2^3^5^7^9^6^4^2^1^3^5^7"},{"$f":"'6'!P230","v":"5^5^5^5^10^10^10^10^16^16^16^16^16^20^20^20^20^20^30^30^30^30^30^30^30^40^40^40^40^40^40^40^40^50^50^50^50^50^50^50^55^55^55^55^55^65^65^65^65^65^65^65^65^75^75^75^75^75^75^75"},0,1,0,"20002^21029",3,0,"130003^2|130004^2","6^10","60295^60295","100^100","7^12"]
[2902,{"$f":"'6'!AD189","v":"60295^60295^60295^60295^60295^60294^60292^60292^60292^60294^60291^60291^60291^60291^60291^60292^60294^60291^60293^60293^60291^60294^60292^60291^60292^60292^60292^60291^60295^60295^60295^60295^60295^60292^60291^60293^60296^60293^60291^60292^60294^60291^60292^60292^60292^60291^60294"},{"$f":"'6'!AD216","v":"101^102^103^104^105^4^2^1^3^5^4^2^1^3^5^8^6^4^2^3^5^7^9^4^2^1^3^5^101^102^103^104^105^6^4^2^1^3^5^7^8^6^2^1^3^7^9"},{"$f":"'6'!AD229","v":"4^4^4^4^4^8^8^8^8^8^14^14^14^14^14^30^30^30^30^30^30^30^30^47^47^47^47^47^50^50^50^50^50^65^65^65^65^65^65^65^80^80^80^80^80^80^80"},0,1,0,"20002^21029",4,0,"130003^2|130004^2","7^10","60295^60295","100^100","7^12"]
[2903,{"$f":"'6'!AR189","v":"60292^60294^60292^60293^60293^60293^60291^60291^60291^60291^60295^60295^60295^60295^60295^60292^60291^60293^60296^60293^60291^60292^60294^60291^60292^60292^60292^60291^60294^60292^60291^60293^60293^60291^60292^60294^60292^60291^60291^60292^60294^60292^60291^60293^60292^60293^60291^60292"},{"$f":"'6'!AR216","v":"2^1^3^4^1^5^6^4^5^7^101^102^103^104^105^6^4^2^1^3^5^7^6^4^2^1^3^5^7^6^4^2^1^3^5^4^2^1^3^5^7^6^4^2^1^3^5^7"},{"$f":"'6'!AR229","v":"3^3^3^5^5^5^8^8^8^8^12^12^12^12^12^18^18^18^18^18^18^18^25^25^25^25^25^25^25^33^33^33^33^33^33^40^40^40^40^40^40^50^50^50^50^50^50^50"},0,1,0,"20002^21029",0,1,"130003^2|130004^2","6^10","60295^60295","100^100","8^12"]
[3001,{"$f":"'6'!P247","v":"60301^60304|60301^60302|60303^60301^60302|60301^60302^60304|60305^60304|60303^60301^60302|60305^60302|60303^60301^60302^60304|60305^60301^60307|60302^60304^60303"},{"$f":"'6'!P274","v":"0^0|0^0|0^0^0|0^0^0|100^0|0^0^0|100^0|0^0^0^0|100^0^0|0^0^0"},{"$f":"'6'!P288","v":"6^2|7^4|2^7^3|7^4^2|7^2|2^8^3|6^3|2^6^3^2|6^4^1|4^2^3"},10,3,0,"20002^21030",4,0,"130003^2|130004^2|130005^1","7^10^15","60305^60305^60305","100^100^100","8^12^15"]
[3002,{"$f":"'6'!AD247","v":"60301^60301^60301^60301^60301^60304^60304^60304^60302^60302^60302^60302^60305^60305^60305^60305^60305^60303^60303^60303^60304^60302^60301^60307^60301^60302^60304^60302^60301^60303^60302^60303^60301^60302^60305^60305^60305^60305^60305"},{"$f":"'6'!AD274","v":"4^2^1^3^5^4^1^5^6^4^5^7^101^102^103^104^105^4^1^5^8^6^4^1^5^7^9^6^4^2^1^3^5^7^101^102^103^104^105"},{"$f":"'6'!AD287","v":"5^5^5^5^5^10^10^10^15^15^15^15^20^20^20^20^20^25^25^25^32^32^32^32^32^32^32^40^40^40^40^40^40^40^45^45^45^45^45"},0,1,0,"20002^21030",4,0,"130003^2|130004^2|130005^1","7^10^15","60305^60305^60305","100^100^100","8^12^15"]
[3003,{"$f":"'6'!AR247","v":"60302^60302^60302^60302^60305^60305^60305^60305^60305^60301^60301^60301^60301^60301^60303^60303^60303^60304^60302^60301^60301^60301^60302^60304^60302^60301^60303^60307^60303^60301^60302^60304^60302^60302^60302^60302^60304^60305^60305^60305^60305^60305"},{"$f":"'6'!AR274","v":"6^2^3^7^101^102^103^104^105^6^4^1^5^7^4^1^5^8^6^2^1^3^7^9^8^4^2^1^3^5^9^6^4^2^3^5^7^101^102^103^104^105"},{"$f":"'6'!AR287","v":"3^3^3^3^5^5^5^5^5^9^9^9^9^9^14^14^14^20^20^20^20^20^20^20^27^27^27^27^27^27^27^35^35^35^35^35^35^40^40^40^40^40"},0,1,0,"20002^21030",4,0,"130003^2|130004^2|130005^1","6^10","60305^60305","100^100","8^12"]
[3004,{"$f":"'6'!BF247","v":"60303^60303^60303^60302^60302^60302^60304^60304^60301^60301^60301^60301^60305^60305^60305^60305^60305^60304^60302^60303^60306^60303^60302^60304^60302^60302^60301^60304^60301^60302^60302^60305^60305^60305^60305^60305"},{"$f":"'6'!BF274","v":"2^1^3^4^1^5^2^3^6^4^5^7^101^102^103^104^105^6^4^2^1^3^5^7^6^4^2^1^3^5^7^101^102^103^104^105"},{"$f":"'6'!BF287","v":"2^2^2^4^4^4^6^6^9^9^9^9^12^12^12^12^12^20^20^20^20^20^20^20^30^30^30^30^30^30^30^35^35^35^35^35"},0,1,0,"20002^21030",0,1,"130003^2|130004^2|130005^1",8,60305,100,10]
[3101,{"$f":"'7'!P14","v":"60311|60311^60312|60313^60314^60312|60311^60312^60314|60315^60312|60313^60311^60312|60314^60311^60312|60313^60311^60312^60314|60312^60311|60315^60312^60314"},{"$f":"'7'!P41","v":"0|0^0|0^0^0|0^0^0|100^0|0^0^0|0^0^0|0^0^0^0|0^0|100^0^0"},{"$f":"'7'!P55","v":"8|7^3|3^2^4|7^3^2|7^3|2^7^4|2^9^3|2^7^3^2|4^9|6^3^2"},13,3,0,"20002^21031",4,0,"130003^3|130004^2","7^10^15","60315^60315^60315","100^100^100","8^12^15"]
[3102,{"$f":"'7'!AD14","v":"60312^60314^60311|60313^60311|60311^60312|60315^60314^60316|60313^60311^60312|60313^60311^60312^60314|60313^60311^60312|60313^60311^60312^60314"},{"$f":"'7'!AD41","v":"0^0^0|0^0|0^0|100^0^0|0^0^0|0^0^0^0|0^0^0|0^0^0^0"},{"$f":"'7'!AD54","v":"6^4^15|2^8|7^4|7^2^1|2^8^4|2^6^3^2|2^8^3|2^6^4^2"},13,3,0,"20002^21031",4,0,"130003^3|130004^2","7^10^15","60315^60315^60315","100^100^100","8^12^15"]
[3103,{"$f":"'7'!AR14","v":"60315^60314^60313|60312^60311|60311^60314|60313^60312|60311^60312^60314|60314^60313^60311^60312|60311^60312|60313^60311^60312^60314"},{"$f":"'7'!AR41","v":"100^0^0|0^0|0^0|0^0|0^0^0|0^0^0^0|0^0|0^0^0^0"},{"$f":"'7'!AR54","v":"10^4^4|4^8|9^2|3^5|8^3^2|2^2^6^3|8^4|2^9^3^2"},13,3,0,"20002^21031",3,0,"130003^3|130004^2","6^10","60315^60315","100^100","8^12"]
[3104,{"$f":"'7'!BF14","v":"60313^60313^60312^60312^60312^60314^60314^60311^60311^60311^60311^60315^60315^60315^60315^60314^60312^60313^60313^60312^60314^60312^60312^60311^60314^60311^60312^60312^60312^60312^60311^60311^60311^60311^60312^60312"},{"$f":"'7'!BF41","v":"2^3^4^1^5^2^3^6^4^5^7^101^102^104^105^6^4^2^3^5^7^6^4^2^1^3^5^7^8^6^4^2^3^5^7^9"},{"$f":"'7'!BF54","v":"2^2^4^4^4^6^6^8^8^8^8^10^10^10^10^20^20^20^20^20^20^30^30^30^30^30^30^30^40^40^40^40^40^40^40^40"},0,1,0,"20002^21031",0,1,"130003^3|130004^2",8,"60315^60315^60315",100,10]
[3201,{"$f":"'7'!P72","v":"60322^60324|60321^60322|60323^60322^60324|60325^60321|60322^60321|60323^60321^60322^60324|60321^60322|60325^60322|60324^60321^60322|60323^60321^60322^60324"},{"$f":"'7'!P99","v":"0^0|0^0|0^0^0|100^0|0^0|0^0^0^0|0^0|100^0|0^0^0|0^0^0^0"},{"$f":"'7'!P113","v":"5^2|8^3|4^5^2|8^4|4^8|2^7^3^2|8^4|8^4|2^8^3|2^7^3^2"},12,3,0,"20002^21032",4,0,"130003^3|130004^2","7^10^15","60325^60325^60325","100^100^100","8^12^15"]
[3202,{"$f":"'7'!AD72","v":"60325^60325^60325^60325^60322^60322^60322^60323^60323^60323^60324^60321^60326^60321^60324^60322^60321^60321^60321^60321^60322^60324^60322^60321^60323^60323^60321^60322^60324^60322^60321^60322^60324^60322^60321^60322^60325^60325^60325^60325^60325"},{"$f":"'7'!AD99","v":"101^102^104^105^4^1^5^6^1^7^4^2^1^3^5^6^4^2^3^5^7^8^6^4^2^3^5^7^9^6^4^2^1^3^5^7^101^102^103^104^105"},{"$f":"'7'!AD112","v":"5^5^5^5^10^10^10^15^15^15^20^20^20^20^20^30^30^30^30^30^30^40^40^40^40^40^40^40^40^50^50^50^50^50^50^50^55^55^55^55^55"},0,1,0,"20002^21032",4,0,"130003^3|130004^2","7^10^15","60325^60325^60325","100^100^100","8^12^15"]
[3203,{"$f":"'7'!AR72","v":"60323^60321|60322^60324|60321^60322|60325^60322|60322^60321^60324|60324^60323^60321|60321^60322|60323^60321^60322^60324"},{"$f":"'7'!AR99","v":"0^0|0^0|0^0|100^0|0^0^0|0^0^0|0^0|0^0^0^0"},{"$f":"'7'!AR112","v":"5^13|6^4|8^2|8^3|3^7^2|2^2^8|8^4|2^7^3^2"},12,3,0,"20002^21032",3,0,"130003^3|130004^2","6^10","60325^60325","100^100","8^12"]
[3204,{"$f":"'7'!BF72","v":"60321^60321^60326^60321^60321^60322^60322^60322^60324^60324^60325^60325^60325^60325^60323^60323^60323^60324^60321^60321^60321^60321^60324^60322^60322^60322^60322^60322^60322^60322^60321^60323^60323^60321^60322^60322"},{"$f":"'7'!BF99","v":"4^2^1^3^5^4^1^5^2^3^101^102^104^105^4^1^5^6^4^2^3^5^7^6^4^1^5^7^8^6^4^2^3^5^7^9"},{"$f":"'7'!BF112","v":"2^2^2^2^2^4^4^4^6^6^8^8^8^8^10^10^10^20^20^20^20^20^20^30^30^30^30^30^40^40^40^40^40^40^40^40"},0,1,0,"20002^21032",0,1,"130003^3|130004^2",8,"60325^60325^60325",100,10]
[3301,{"$f":"'7'!P130","v":"60331^60331^60331^60331^60334^60332^60332^60332^60334^60332^60331^60333^60333^60331^60332^60332^60331^60331^60334^60331^60331^60332^60334^60332^60333^60332^60333^60332^60334^60335^60335^60335^60335^60335^60331^60331^60332^60332^60332^60331^60331^60334^60332^60331^60333^60333^60331^60332^60334^60332^60331^60333^60336^60333^60331^60332^60335^60335^60335^60335^60335"},{"$f":"'7'!P157","v":"4^2^3^5^6^2^1^3^7^8^4^2^3^5^9^6^4^2^1^3^5^7^8^6^2^1^3^7^9^101^102^103^104^105^8^6^4^1^5^7^9^8^6^4^2^3^5^7^9^6^4^2^1^3^5^7^101^102^103^104^105"},{"$f":"'7'!P171","v":"5^5^5^5^10^10^10^10^10^17^17^17^17^17^17^25^25^25^25^25^25^25^35^35^35^35^35^35^35^40^40^40^40^40^50^50^50^50^50^50^50^60^60^60^60^60^60^60^60^70^70^70^70^70^70^70^75^75^75^75^75"},0,1,0,"20002^21033",4,0,"130003^3|130004^2","7^10^15","60335^60335^60335","100^100^100","8^12^15"]
[3302,{"$f":"'7'!AD130","v":"60334^60332^60332^60334^60331^60331^60331^60331^60333^60333^60333^60335^60335^60335^60335^60334^60332^60331^60331^60332^60334^60332^60331^60333^60334^60333^60331^60332^60334^60331^60332^60332^60332^60331^60334^60335^60335^60335^60335^60335"},{"$f":"'7'!AD157","v":"6^2^3^7^4^2^3^5^4^1^5^101^102^104^105^6^4^2^3^5^7^6^4^2^1^3^5^7^8^6^2^1^3^7^9^101^102^103^104^105"},{"$f":"'7'!AD170","v":"5^5^5^5^10^10^10^10^15^15^15^20^20^20^20^30^30^30^30^30^30^40^40^40^40^40^40^40^50^50^50^50^50^50^50^55^55^55^55^55"},0,1,0,"20002^21033",4,0,"130003^3|130004^2","7^10^15","60335^60335^60335","100^100^100","8^12^15"]
[3303,{"$f":"'7'!AR130","v":"60333^60333^60336^60333^60333^60334^60332^60332^60332^60334^60335^60335^60335^60335^60335^60332^60331^60333^60332^60333^60331^60332^60334^60332^60331^60331^60331^60332^60334^60331^60331^60332^60332^60332^60331^60331^60332^60331^60333^60334^60333^60331^60332^60335^60335^60335^60335^60335"},{"$f":"'7'!AR157","v":"4^2^1^3^5^6^2^1^3^7^101^102^103^104^105^6^4^2^1^3^5^7^8^6^2^1^3^7^9^8^6^4^1^5^7^9^6^4^2^1^3^5^7^101^102^103^104^105"},{"$f":"'7'!AR170","v":"2^2^2^2^2^5^5^5^5^5^10^10^10^10^10^20^20^20^20^20^20^20^30^30^30^30^30^30^30^40^40^40^40^40^40^40^50^50^50^50^50^50^50^55^55^55^55^55"},0,1,0,"20002^21033",3,0,"130003^3|130004^2","6^10","60335^60335","100^100","8^12"]
[3304,{"$f":"'7'!BF130","v":"60335^60335^60335^60332^60332^60332^60334^60333^60334^60331^60331^60331^60331^60332^60331^60333^60333^60331^60332^60334^60331^60332^60332^60332^60331^60334^60332^60331^60333^60334^60333^60331^60332^60332^60332^60331^60333^60331^60332^60332"},{"$f":"'7'!BF157","v":"101^103^105^2^1^3^6^1^7^4^2^3^5^6^4^2^3^5^7^8^4^2^1^3^5^9^6^4^2^1^3^5^7^8^4^2^1^3^5^9"},{"$f":"'7'!BF170","v":"3^3^3^5^5^5^8^8^8^12^12^12^12^18^18^18^18^18^18^25^25^25^25^25^25^25^35^35^35^35^35^35^35^45^45^45^45^45^45^45"},0,1,0,"20002^21033",0,1,"130003^3|130004^2",8,60335,100,10]
[3401,{"$f":"'7'!P188","v":"60342^60344|60341^60342|60343^60342^60344|60342^60341|60345^60342|60342^60341^60344|60343^60342^60341|60342^60341^60344|60345^60344^60347|60344^60343^60341^60342"},{"$f":"'7'!P215","v":"0^0|0^0|0^0^0|0^0|100^0|0^0^0|0^0^0|0^0^0|100^0^0|0^0^0^0"},{"$f":"'7'!P229","v":"4^3|8^3|3^4^3|4^8|8^4|3^8^2|2^3^8|3^9^2|8^2^8|2^2^7^3"},12,3,0,"20002^21034",4,0,"130003^3|130004^2","7^10^15","60345^60345^60345","100^100^100","8^12^15"]
[3402,{"$f":"'7'!AD188","v":"60344^60341^60341^60341^60344^60342^60342^60342^60342^60342^60345^60345^60345^60345^60345^60343^60341^60343^60341^60343^60344^60342^60341^60341^60341^60342^60344^60342^60341^60343^60342^60343^60341^60342^60344^60342^60341^60341^60347^60341^60341^60342^60344^60345^60345^60345^60345^60345"},{"$f":"'7'!AD215","v":"4^2^1^3^5^6^2^1^3^7^101^102^103^104^105^4^2^1^3^5^8^4^2^1^3^5^9^8^4^2^1^3^5^9^8^6^4^2^1^3^5^7^9^101^102^103^104^105"},{"$f":"'7'!AD228","v":"5^5^5^5^5^10^10^10^10^10^15^15^15^15^15^22^22^22^22^22^30^30^30^30^30^30^30^40^40^40^40^40^40^40^50^50^50^50^50^50^50^50^50^55^55^55^55^55"},0,1,0,"20002^21034",3,0,"130003^3|130004^2","7^10^15","60345^60345^60345","100^100^100","8^12^15"]
[3403,{"$f":"'7'!AR188","v":"60345^60342^60343|60342^60344|60341^60343|60343^60341^60342|60342^60341^60344|60343^60341^60342|60345^60342|60343^60341^60342^60344"},{"$f":"'7'!AR215","v":"100^0^0|0^0|0^0|0^0^0|0^0^0|0^0^0|100^0|0^0^0^0"},{"$f":"'7'!AR228","v":"10^4^4|5^4|9^2|2^8^3|3^8^2|2^8^3|8^3|2^7^3^2"},12,3,0,"20002^21034",3,0,"130003^3|130004^2","6^10","60345^60345","100^100","8^12"]
[3404,{"$f":"'7'!BF188","v":"60343^60343^60343^60342^60342^60342^60344^60344^60341^60341^60341^60341^60345^60345^60345^60345^60344^60342^60343^60343^60342^60344^60342^60341^60341^60344^60341^60341^60342^60342^60344^60342^60343^60343^60342^60344^60342"},{"$f":"'7'!BF215","v":"4^1^5^6^1^7^2^3^4^2^3^5^101^102^104^105^8^6^2^3^7^9^6^4^2^1^3^5^7^8^6^4^2^3^5^7^9"},{"$f":"'7'!BF228","v":"3^3^3^5^5^5^8^8^12^12^12^12^20^20^20^20^30^30^30^30^30^30^40^40^40^40^40^40^40^50^50^50^50^50^50^50^50"},0,1,0,"20002^21034",0,1,"130003^3|130004^2",8,60345,100,10]
[3501,{"$f":"'7'!P246","v":"60354^60351^60351^60351^60354^60352^60352^60352^60352^60352^60351^60353^60353^60351^60352^60355^60355^60355^60355^60354^60352^60351^60351^60351^60352^60354^60354^60352^60353^60352^60353^60352^60354^60352^60351^60351^60351^60351^60351^60351^60352^60354^60352^60353^60352^60353^60352^60354^60355^60355^60355^60355^60355^60352^60352^60353^60359^60353^60352^60352"},{"$f":"'7'!P273","v":"6^2^1^3^7^4^2^3^5^8^6^2^3^7^9^101^102^104^105^8^6^2^1^3^7^9^8^4^2^1^3^5^9^8^6^4^2^3^5^7^9^6^4^2^1^3^5^7^101^102^103^104^105^8^6^2^1^3^7^9"},{"$f":"'7'!P287","v":"5^5^5^5^5^10^10^10^10^17^17^17^17^17^17^21^21^21^21^28^28^28^28^28^28^28^35^35^35^35^35^35^35^45^45^45^45^45^45^45^45^55^55^55^55^55^55^55^60^60^60^60^60^70^70^70^70^70^70^70"},0,1,0,"20002^21035",4,0,"130003^2|130004^2|130005^1","7^10^15","60355^60355^60355","100^100^100","8^12^15"]
[3502,{"$f":"'7'!AD246","v":"60355^60352^60353|60352^60351|60353^60351^60354|60351^60352^60354|60354^60353^60352|60353^60351^60352|60355^60351|60356^60352^60354^60353^60359"},{"$f":"'7'!AD273","v":"100^0^0|0^0|0^0^0|0^0^0|0^0^0|0^0^0|100^0|0^0^0^0^0"},{"$f":"'7'!AD286","v":"10^6^3|4^7|2^8^2|8^3^2|2^3^4|2^8^3|6^6|1^3^3^3^1"},12,3,0,"20002^21035",3,0,"130003^2|130004^2|130005^1","7^10^15","60355^60355^60355","100^100^100","8^12^15"]
[3503,{"$f":"'7'!AR246","v":"60354^60352^60352^60352^60354^60353^60351^60353^60351^60353^60355^60355^60355^60355^60355^60354^60352^60353^60352^60353^60352^60354^60352^60351^60351^60352^60351^60351^60352^60355^60355^60355^60355^60355^60354^60352^60353^60352^60353^60352^60354^60352^60352^60351^60353^60351^60352^60352"},{"$f":"'7'!AR273","v":"4^2^1^3^5^4^2^1^3^5^101^102^103^104^105^6^4^2^1^3^5^7^6^4^2^1^3^5^7^101^102^103^104^105^8^4^2^1^3^5^9^8^6^2^1^3^7^9"},{"$f":"'7'!AR286","v":"3^3^3^3^3^5^5^5^5^5^10^10^10^10^10^20^20^20^20^20^20^20^30^30^30^30^30^30^30^35^35^35^35^35^45^45^45^45^45^45^45^55^55^55^55^55^55^55"},0,1,0,"20002^21035",3,0,"130003^2|130004^2|130005^2","6^10","60355^60355","100^100","8^12"]
[3504,{"$f":"'7'!BF246","v":"60354^60353^60359^60353^60354^60352^60352^60352^60355^60355^60355^60355^60351^60351^60351^60351^60351^60354^60352^60353^60353^60352^60354^60352^60351^60351^60354^60351^60351^60352^60352^60351^60351^60353^60351^60351^60352^60354^60352^60351^60353^60353^60351^60352^60354"},{"$f":"'7'!BF273","v":"4^2^1^3^5^6^1^7^101^102^104^105^6^4^1^5^7^6^4^2^3^5^7^8^4^2^1^3^5^9^6^4^2^1^3^5^7^8^6^4^2^3^5^7^9"},{"$f":"'7'!BF286","v":"3^3^3^3^3^5^5^5^8^8^8^8^12^12^12^12^12^20^20^20^20^20^20^30^30^30^30^30^30^30^40^40^40^40^40^40^40^50^50^50^50^50^50^50^50"},0,1,0,"20002^21035",0,1,"130003^2|130004^2|130005^2",8,60355,100,10]
[3601,{"$f":"'8'!P14","v":"60361^60361^60362^60363^60364^60362^60361^60362^60364^60365^60361^60363^60361^60362^60364^60361^60362^60363^60361^60362^60364^60362^60361^60365^60362^60366"},{"$f":"'8'!P41","v":"0^0^0^0^0^0^0^0^0^100^0^0^0^0^0^0^0^0^0^0^0^0^0^100^0^0"},{"$f":"'8'!P55","v":"8^7^4^3^2^4^8^3^2^6^7^2^8^4^2^8^4^2^7^3^2^4^9^8^4^1"},12,3,0,"20003^21036",4,0,"130003^3|130004^2","7^10^15","60365^60365^60365","100^100^100","8^12^15"]
[3602,{"$f":"'8'!AD14","v":"60364^60362^60362^60364^60363^60363^60363^60361^60361^60361^60361^60365^60365^60365^60365^60362^60361^60363^60363^60361^60362^60364^60362^60361^60363^60361^60362^60364^60362^60361^60363^60364^60363^60361^60362^60364^60362^60361^60363^60366^60363^60361^60362^60364"},{"$f":"'8'!AD41","v":"4^2^3^5^4^1^5^6^4^5^7^101^102^104^105^6^4^2^3^5^7^8^6^4^1^5^7^9^6^4^2^1^3^5^7^8^6^4^2^1^3^5^7^9"},{"$f":"'8'!AD54","v":"5^5^5^5^10^10^10^15^15^15^15^20^20^20^20^27^27^27^27^27^27^35^35^35^35^35^35^35^45^45^45^45^45^45^45^55^55^55^55^55^55^55^55^55"},0,1,0,"20003^21036",3,0,"130003^3|130004^2","7^10^15","60365^60365^60365","100^100^100","8^12^15"]
[3603,{"$f":"'8'!AR14","v":"60365^60362^60363^60362^60361^60361^60363^60363^60362^60361^60362^60363^60363^60363^60361^60362^60361^60362^60363^60361^60362^60363"},{"$f":"'8'!AR41","v":"100^0^0^0^0^0^0^0^0^0^0^0^0^0^0^0^0^0^0^0^0^0"},{"$f":"'8'!AR54","v":"10^6^3^4^7^8^2^3^6^7^3^2^2^2^6^3^8^3^2^7^3^2"},11,3,0,"20003^21036",3,0,"130003^3|130004^2","6^10","60365^60365","100^100","8^12"]
[3604,{"$f":"'8'!BF14","v":"60363^60363^60362^60362^60362^60364^60364^60361^60361^60361^60361^60365^60365^60365^60365^60364^60362^60363^60363^60362^60364^60362^60362^60361^60364^60361^60362^60362^60362^60362^60361^60361^60361^60361^60362^60362"},{"$f":"'8'!BF41","v":"2^3^4^1^5^2^3^6^4^5^7^101^102^104^105^6^4^2^3^5^7^6^4^2^1^3^5^7^8^6^4^2^3^5^7^9"},{"$f":"'8'!BF54","v":"2^2^4^4^4^6^6^8^8^8^8^10^10^10^10^15^15^15^15^15^15^25^25^25^25^25^25^25^35^35^35^35^35^35^35^35"},0,1,0,"20003^21036",0,1,"130003^3|130004^2",8,60365,100,10]
[3701,{"$f":"'8'!P72","v":"60374^60372^60372^60374^60371^60371^60371^60371^60371^60374^60372^60373^60372^60373^60372^60374^60375^60375^60375^60375^60375^60372^60371^60371^60372^60371^60371^60372^60374^60372^60371^60373^60373^60371^60372^60374^60372^60372^60371^60371^60371^60372^60372^60375^60375^60375^60375^60375^60372^60371^60371^60374^60371^60371^60372^60374^60372^60371^60373^60376^60373^60371^60372^60374"},{"$f":"'8'!P99","v":"4^2^3^5^6^4^1^5^7^6^4^2^1^3^5^7^101^102^103^104^105^6^4^2^1^3^5^7^8^6^4^2^3^5^7^9^6^4^2^1^3^5^7^101^102^103^104^105^6^4^2^1^3^5^7^8^6^4^2^1^3^5^7^9"},{"$f":"'8'!P113","v":"5^5^5^5^10^10^10^10^10^16^16^16^16^16^16^16^22^22^22^22^22^30^30^30^30^30^30^30^40^40^40^40^40^40^40^40^50^50^50^50^50^50^50^55^55^55^55^55^65^65^65^65^65^65^65^75^75^75^75^75^75^75^75^75"},0,1,0,"20003^21037",4,0,"130003^3|130004^2","7^10^15","60375^60375^60375","100^100^100","8^12^15"]
[3702,{"$f":"'8'!AD72","v":"60375^60375^60375^60375^60372^60372^60372^60373^60373^60373^60374^60371^60371^60374^60372^60371^60371^60371^60371^60372^60374^60372^60371^60373^60373^60371^60372^60374^60372^60371^60372^60376^60372^60371^60372^60375^60375^60375^60375^60375"},{"$f":"'8'!AD99","v":"101^102^104^105^4^1^5^6^1^7^4^2^3^5^6^4^2^3^5^7^8^6^4^2^3^5^7^9^6^4^2^1^3^5^7^101^102^103^104^105"},{"$f":"'8'!AD112","v":"5^5^5^5^10^10^10^15^15^15^20^20^20^20^27^27^27^27^27^27^35^35^35^35^35^35^35^35^45^45^45^45^45^45^45^50^50^50^50^50"},0,1,0,"20003^21037",3,0,"130003^3|130004^2","7^10^15","60375^60375^60375","100^100^100","8^12^15"]
[3703,{"$f":"'8'!AR72","v":"60373^60372^60373^60372^60373^60374^60372^60371^60371^60371^60372^60374^60371^60371^60372^60372^60372^60371^60371^60375^60375^60375^60375^60375^60374^60372^60371^60372^60371^60372^60374^60373^60371^60373^60376^60373^60371^60373^60372^60372^60371^60371^60371^60372^60372^60374^60372^60371^60373^60373^60371^60372^60374"},{"$f":"'8'!AR99","v":"4^2^1^3^5^8^6^2^1^3^7^9^6^4^2^1^3^5^7^101^102^103^104^105^6^4^2^1^3^5^7^6^4^2^1^3^5^7^6^4^2^1^3^5^7^8^6^4^2^3^5^7^9"},{"$f":"'8'!AR112","v":"4^4^4^4^4^6^6^6^6^6^6^6^10^10^10^10^10^10^10^15^15^15^15^15^22^22^22^22^22^22^22^30^30^30^30^30^30^30^40^40^40^40^40^40^40^50^50^50^50^50^50^50^50"},0,1,0,"20003^21037",3,0,"130003^3|130004^2","6^10","60375^60375","100^100","8^12"]
[3704,{"$f":"'8'!BF72","v":"60371^60371^60371^60371^60372^60372^60372^60374^60374^60375^60375^60375^60375^60373^60373^60373^60374^60371^60371^60371^60371^60374^60372^60372^60372^60372^60372^60372^60372^60371^60373^60373^60371^60372^60372"},{"$f":"'8'!BF99","v":"4^2^3^5^4^1^5^2^3^101^102^104^105^4^1^5^6^4^2^3^5^7^6^4^1^5^7^8^6^4^2^3^5^7^9"},{"$f":"'8'!BF112","v":"2^2^2^2^4^4^4^6^6^8^8^8^8^10^10^10^15^15^15^15^15^15^25^25^25^25^25^35^35^35^35^35^35^35^35"},0,1,0,"20003^21037",0,1,"130003^3|130004^2",8,60375,100,10]
[3801,{"$f":"'8'!P130","v":"60381^60381^60382^60381^60381^60384^60382^60382^60382^60384^60382^60381^60383^60382^60383^60381^60382^60382^60381^60381^60384^60381^60381^60382^60384^60382^60383^60382^60383^60382^60384^60385^60385^60385^60385^60385^60381^60381^60382^60382^60382^60381^60381^60384^60382^60381^60383^60383^60381^60382^60384^60382^60381^60381^60383^60381^60381^60382^60385^60385^60385^60385^60385"},{"$f":"'8'!P157","v":"4^2^1^3^5^6^2^1^3^7^8^4^2^1^3^5^9^6^4^2^1^3^5^7^8^6^2^1^3^7^9^101^102^103^104^105^8^6^4^1^5^7^9^8^6^4^2^3^5^7^9^6^4^2^1^3^5^7^101^102^103^104^105"},{"$f":"'8'!P171","v":"5^5^5^5^5^10^10^10^10^10^17^17^17^17^17^17^17^25^25^25^25^25^25^25^35^35^35^35^35^35^35^40^40^40^40^40^50^50^50^50^50^50^50^60^60^60^60^60^60^60^60^70^70^70^70^70^70^70^75^75^75^75^75"},0,1,0,"20003^21038",4,0,"130003^3|130004^2","7^10^15","60385^60385^60385","100^100^100","8^12^15"]
[3802,{"$f":"'8'!AD130","v":"60382^60381^60384^60387^60382^60381^60383^60381^60385^60384^60381^60382^60384^60384^60383^60381^60382^60382^60381^60384^60385^60383"},{"$f":"'8'!AD157","v":"0^0^0^0^0^0^0^0^100^0^0^0^0^0^0^0^0^0^0^0^100^0"},{"$f":"'8'!AD170","v":"6^14^4^1^4^8^2^9^8^2^7^3^2^2^2^6^3^4^5^2^8^3"},11,3,0,"20003^21038",3,0,"130003^3|130004^2","7^10^15","60385^60385^60385","100^100^100","8^12^15"]
[3803,{"$f":"'8'!AR130","v":"60383^60383^60383^60384^60382^60382^60384^60385^60385^60385^60385^60382^60381^60383^60387^60383^60381^60382^60384^60382^60381^60381^60381^60382^60384^60381^60381^60382^60382^60382^60381^60381^60382^60381^60383^60384^60383^60381^60382^60385^60385^60385^60385"},{"$f":"'8'!AR157","v":"4^1^5^6^2^3^7^101^102^104^105^6^4^2^1^3^5^7^8^6^2^1^3^7^9^8^6^4^1^5^7^9^6^4^2^1^3^5^7^101^102^104^105"},{"$f":"'8'!AR170","v":"4^4^4^10^10^10^10^15^15^15^15^22^22^22^22^22^22^22^30^30^30^30^30^30^30^40^40^40^40^40^40^40^50^50^50^50^50^50^50^55^55^55^55"},0,1,0,"20003^21038",3,0,"130003^3|130004^2","6^10","60385^60385","100^100","8^12"]
[3804,{"$f":"'8'!BF130","v":"60385^60385^60385^60382^60382^60382^60384^60383^60384^60381^60381^60381^60381^60382^60381^60383^60383^60381^60382^60384^60381^60382^60382^60382^60381^60384^60382^60381^60383^60384^60383^60381^60382^60382^60382^60381^60383^60381^60382^60382"},{"$f":"'8'!BF157","v":"101^103^105^2^1^3^6^1^7^4^2^3^5^6^4^2^3^5^7^8^4^2^1^3^5^9^6^4^2^1^3^5^7^8^4^2^1^3^5^9"},{"$f":"'8'!BF170","v":"3^3^3^5^5^5^8^8^8^12^12^12^12^18^18^18^18^18^18^25^25^25^25^25^25^25^35^35^35^35^35^35^35^45^45^45^45^45^45^45"},0,1,0,"20003^21038",0,1,"130003^3|130004^2",8,60385,100,10]
[3901,{"$f":"'8'!P188","v":"60392^60391^60394^60391^60392^60393^60392^60394^60392^60391^60395^60391^60392^60391^60394^60393^60392^60391^60392^60391^60394^60395^60393^60397^60394^60393^60391^60392"},{"$f":"'8'!P215","v":"0^0^0^0^0^0^0^0^0^0^100^0^0^0^0^0^0^0^0^0^0^100^0^0^0^0^0^0"},{"$f":"'8'!P229","v":"2^5^2^8^3^3^4^2^3^9^6^6^3^7^2^2^3^8^4^7^2^8^2^1^2^2^6^3"},12,3,0,"20003^21039",4,0,"130003^3|130004^2","7^10^15","60395^60395^60395","100^100^100","8^12^15"]
[3902,{"$f":"'8'!AD188","v":"60394^60391^60391^60394^60392^60392^60392^60395^60395^60395^60395^60393^60393^60393^60394^60392^60391^60391^60392^60394^60392^60391^60393^60397^60393^60391^60392^60394^60392^60391^60391^60391^60391^60392^60394^60395^60395^60395^60395"},{"$f":"'8'!AD215","v":"4^2^3^5^6^1^7^101^102^104^105^4^1^5^8^4^2^3^5^9^8^4^2^1^3^5^9^8^6^4^2^3^5^7^9^101^102^104^105"},{"$f":"'8'!AD228","v":"5^5^5^5^10^10^10^15^15^15^15^22^22^22^30^30^30^30^30^30^40^40^40^40^40^40^40^50^50^50^50^50^50^50^50^55^55^55^55"},0,1,0,"20003^21039",3,0,"130003^3|130004^2","7^10^15","60395^60395^60395","100^100^100","8^12^15"]
[3903,{"$f":"'8'!AR188","v":"60395^60394^60393^60394^60392^60391^60391^60393^60393^60391^60392^60392^60391^60394^60393^60391^60392^60395^60392^60397^60393^60391^60392^60394"},{"$f":"'8'!AR215","v":"100^0^0^0^0^0^0^0^0^0^0^0^0^0^0^0^0^100^0^0^0^0^0^0"},{"$f":"'8'!AR228","v":"12^6^4^2^4^5^9^2^2^8^3^3^9^2^2^9^3^8^2^1^2^7^3^2"},11,3,0,"20003^21039",3,0,"130003^3|130004^2","6^10","60395^60395","100^100","8^12"]
[3904,{"$f":"'8'!BF188","v":"60393^60393^60393^60392^60392^60392^60394^60394^60391^60391^60391^60391^60395^60395^60395^60395^60394^60392^60393^60393^60392^60394^60392^60391^60391^60394^60391^60391^60392^60392^60394^60392^60393^60393^60392^60394^60392"},{"$f":"'8'!BF215","v":"4^1^5^6^1^7^2^3^4^2^3^5^101^102^104^105^8^6^2^3^7^9^6^4^2^1^3^5^7^8^6^4^2^3^5^7^9"},{"$f":"'8'!BF228","v":"3^3^3^5^5^5^8^8^12^12^12^12^18^18^18^18^25^25^25^25^25^25^35^35^35^35^35^35^35^45^45^45^45^45^45^45^45"},0,1,0,"20003^21039",0,1,"130003^3|130004^2",8,60395,100,10]
[4001,{"$f":"'8'!P246","v":"60404^60401^60401^60401^60404^60401^60402^60402^60402^60402^60401^60402^60401^60403^60402^60403^60401^60402^60405^60405^60405^60405^60405^60404^60402^60401^60401^60401^60402^60404^60404^60402^60403^60402^60403^60402^60404^60402^60401^60401^60401^60402^60401^60401^60401^60402^60404^60402^60403^60402^60403^60402^60404^60405^60405^60405^60405^60405^60402^60402^60403^60409^60403^60402^60402"},{"$f":"'8'!P273","v":"6^2^1^3^7^6^4^2^3^5^7^8^6^2^1^3^7^9^101^102^103^104^105^8^6^2^1^3^7^9^8^4^2^1^3^5^9^8^6^4^2^1^3^5^7^9^6^4^2^1^3^5^7^101^102^103^104^105^8^6^2^1^3^7^9"},{"$f":"'8'!P287","v":"5^5^5^5^5^10^10^10^10^10^10^16^16^16^16^16^16^16^20^20^20^20^20^27^27^27^27^27^27^27^35^35^35^35^35^35^35^45^45^45^45^45^45^45^45^45^55^55^55^55^55^55^55^60^60^60^60^60^70^70^70^70^70^70^70"},0,1,0,"20003^21040",4,0,"130003^2|130004^2|130005^1","7^10^15","60405^60405^60405","100^100^100","8^12^15"]
[4002,{"$f":"'8'!AD246","v":"60405^60405^60405^60405^60402^60402^60402^60404^60403^60403^60404^60404^60402^60401^60401^60402^60404^60402^60402^60403^60404^60403^60402^60402^60402^60401^60403^60402^60403^60401^60402^60405^60405^60405^60405^60405^60404^60402^60406^60409^60404"},{"$f":"'8'!AD273","v":"101^102^104^105^6^1^7^6^2^3^7^8^4^2^3^5^9^6^4^2^1^3^5^7^8^4^2^1^3^5^9^101^102^103^104^105^6^4^1^5^7"},{"$f":"'8'!AD286","v":"5^5^5^5^10^10^10^15^15^15^15^21^21^21^21^21^21^28^28^28^28^28^28^28^35^35^35^35^35^35^35^40^40^40^40^40^50^50^50^50^50"},0,1,0,"20003^21040",3,0,"130003^2|130004^2|130005^1","7^10^15","60405^60405^60405","100^100^100","8^12^15"]
[4003,{"$f":"'8'!AR246","v":"60402^60404^60401^60403^60401^60405^60402^60403^60402^60404^60402^60401^60405^60404^60409^60404^60403^60402^60403^60401^60402"},{"$f":"'8'!AR273","v":"0^0^0^0^0^100^0^0^0^0^0^0^100^0^0^0^0^0^0^0^0"},{"$f":"'8'!AR286","v":"6^3^14^3^8^8^3^3^4^2^4^7^8^2^2^2^3^4^2^8^3"},12,3,0,"20003^21040",3,0,"130003^2|130004^2|130005^2","6^10","60405^60405","100^100","8^12"]
[4004,{"$f":"'8'!BF246","v":"60404^60403^60403^60404^60402^60402^60402^60405^60405^60405^60405^60401^60401^60401^60401^60401^60404^60402^60403^60403^60402^60404^60402^60401^60401^60404^60401^60401^60402^60402^60401^60401^60404^60401^60401^60402^60404^60402^60401^60403^60403^60401^60402^60404"},{"$f":"'8'!BF273","v":"4^2^3^5^6^1^7^101^102^104^105^6^4^1^5^7^6^4^2^3^5^7^8^4^2^1^3^5^9^6^4^2^1^3^5^7^8^6^4^2^3^5^7^9"},{"$f":"'8'!BF286","v":"3^3^3^3^5^5^5^8^8^8^8^12^12^12^12^12^18^18^18^18^18^18^25^25^25^25^25^25^25^35^35^35^35^35^35^35^45^45^45^45^45^45^45^45"},0,1,0,"20003^21040",0,1,"130003^2|130004^2|130005^2",8,60405,100,10]
[4101,{"$f":"'9'!P14","v":"60411^60412^60412^60411^60413^60414^60412^60411^60412^60414^60415^60411^60413^60411^60412^60414^60411^60412^60413^60411^60412^60414^60412^60411^60415^60414^60416"},{"$f":"'9'!P41","v":"0^0^0^0^0^0^0^0^0^0^100^0^0^0^0^0^0^0^0^0^0^0^0^0^100^0^0"},{"$f":"'9'!P55","v":"7^2^4^8^3^2^5^9^2^2^7^7^2^9^3^2^10^3^2^8^2^2^3^10^8^2^1"},11,3,0,"20003^21041",4,0,"130003^3|130004^2","7^10^15","60415^60415^60415","100^100^100","8^12^15"]
[4102,{"$f":"'9'!AD14","v":"60414^60412^60412^60414^60413^60413^60413^60411^60411^60411^60411^60415^60415^60415^60415^60412^60411^60413^60411^60413^60411^60412^60414^60412^60411^60413^60411^60412^60414^60412^60411^60413^60416^60413^60411^60412^60414^60412^60411^60413^60413^60411^60412^60414"},{"$f":"'9'!AD41","v":"4^2^3^5^4^1^5^6^4^5^7^101^102^104^105^6^4^2^1^3^5^7^8^6^4^1^5^7^9^6^4^2^1^3^5^7^8^6^4^2^3^5^7^9"},{"$f":"'9'!AD54","v":"5^5^5^5^10^10^10^15^15^15^15^20^20^20^20^27^27^27^27^27^27^27^35^35^35^35^35^35^35^45^45^45^45^45^45^45^55^55^55^55^55^55^55^55"},0,1,0,"20003^21041",3,0,"130003^3|130004^2","7^10^15","60415^60415^60415","100^100^100","8^12^15"]
[4103,{"$f":"'9'!AR14","v":"60415^60415^60415^60415^60415^60412^60411^60412^60411^60412^60414^60411^60411^60411^60414^60412^60413^60413^60413^60412^60414^60412^60411^60412^60411^60412^60414^60412^60411^60413^60414^60413^60411^60412^60412^60412^60411^60411^60411^60412^60412^60414^60412^60411^60413^60413^60411^60412^60414"},{"$f":"'9'!AR41","v":"101^102^103^104^105^6^2^1^3^7^4^2^1^3^5^6^4^1^5^7^8^6^4^1^5^7^9^6^4^2^1^3^5^7^6^4^2^1^3^5^7^8^6^4^2^3^5^7^9"},{"$f":"'9'!AR54","v":"3^3^3^3^3^5^5^5^5^5^8^8^8^8^8^12^12^12^12^12^20^20^20^20^20^20^20^30^30^30^30^30^30^30^40^40^40^40^40^40^40^50^50^50^50^50^50^50^50"},0,1,0,"20003^21041",3,0,"130003^3|130004^2","6^10","60415^60415","100^100","8^12"]
[4104,{"$f":"'9'!BF14","v":"60413^60413^60412^60412^60412^60414^60414^60411^60411^60411^60411^60415^60415^60415^60415^60414^60412^60413^60413^60412^60414^60412^60412^60411^60414^60411^60412^60412^60412^60412^60411^60411^60411^60411^60412^60412"},{"$f":"'9'!BF41","v":"2^3^4^1^5^2^3^6^4^5^7^101^102^104^105^6^4^2^3^5^7^6^4^2^1^3^5^7^8^6^4^2^3^5^7^9"},{"$f":"'9'!BF54","v":"2^2^4^4^4^6^6^8^8^8^8^10^10^10^10^17^17^17^17^17^17^25^25^25^25^25^25^25^35^35^35^35^35^35^35^35"},0,1,0,"20003^21041",0,1,"130003^3|130004^2",8,60415,100,10]
[4201,{"$f":"'9'!P72","v":"60424^60422^60422^60424^60421^60421^60421^60421^60421^60421^60421^60424^60422^60423^60422^60423^60422^60424^60425^60425^60425^60425^60425^60422^60421^60421^60422^60421^60421^60422^60424^60422^60421^60423^60423^60421^60422^60424^60422^60422^60421^60421^60421^60422^60422^60425^60425^60425^60425^60425^60422^60421^60421^60426^60421^60421^60422^60424^60422^60421^60423^60423^60421^60422^60424"},{"$f":"'9'!P99","v":"4^2^3^5^6^4^2^1^3^5^7^6^4^2^1^3^5^7^101^102^103^104^105^6^4^2^1^3^5^7^8^6^4^2^3^5^7^9^6^4^2^1^3^5^7^101^102^103^104^105^6^4^2^1^3^5^7^8^6^4^2^3^5^7^9"},{"$f":"'9'!P113","v":"5^5^5^5^10^10^10^10^10^10^10^16^16^16^16^16^16^16^20^20^20^20^20^30^30^30^30^30^30^30^40^40^40^40^40^40^40^40^50^50^50^50^50^50^50^55^55^55^55^55^65^65^65^65^65^65^65^75^75^75^75^75^75^75^75"},0,1,0,"20003^21042",4,0,"130003^3|130004^2","7^10^15","60425^60425^60425","100^100^100","8^12^15"]
[4202,{"$f":"'9'!AD72","v":"60425^60424^60422^60422^60421^60423^60421^60422^60421^60424^60421^60422^60423^60421^60422^60424^60424^60422^60421^60425^60422^60426"},{"$f":"'9'!AD99","v":"100^0^0^0^0^0^0^0^0^0^0^0^0^0^0^0^0^0^0^100^0^0"},{"$f":"'9'!AD112","v":"10^3^4^4^8^2^8^3^10^2^10^3^2^7^3^2^2^3^9^8^3^2"},12,3,0,"20003^21042",3,0,"130003^3|130004^2","7^10^15","60425^60425^60425","100^100^100","8^12^15"]
[4203,{"$f":"'9'!AR72","v":"60423^60421^60421^60422^60424^60421^60422^60425^60423^60421^60422^60424^60424^60423^60421^60421^60422^60423^60421^60422^60424"},{"$f":"'9'!AR99","v":"0^0^0^0^0^0^0^100^0^0^0^0^0^0^0^0^0^0^0^0^0"},{"$f":"'9'!AR112","v":"4^17^6^3^2^9^3^8^2^10^3^2^2^2^11^12^3^2^9^3^2"},11,3,0,"20003^21042",3,0,"130003^3|130004^2","6^10","60425^60425","100^100","8^12"]
[4204,{"$f":"'9'!BF72","v":"60421^60421^60421^60421^60422^60422^60422^60424^60424^60425^60425^60425^60425^60423^60423^60423^60424^60421^60421^60421^60421^60424^60422^60422^60422^60422^60422^60422^60422^60421^60423^60423^60421^60422^60422"},{"$f":"'9'!BF99","v":"4^2^3^5^4^1^5^2^3^101^102^104^105^4^1^5^6^4^2^3^5^7^6^4^1^5^7^8^6^4^2^3^5^7^9"},{"$f":"'9'!BF112","v":"2^2^2^2^4^4^4^6^6^8^8^8^8^10^10^10^17^17^17^17^17^17^25^25^25^25^25^35^35^35^35^35^35^35^35"},0,1,0,"20003^21042",0,1,"130003^3|130004^2",8,60425,100,10]
[4301,{"$f":"'9'!P130","v":"60431^60431^60431^60431^60434^60432^60432^60432^60434^60432^60431^60433^60432^60433^60431^60432^60432^60431^60431^60434^60431^60431^60432^60434^60432^60433^60433^60433^60432^60434^60435^60435^60435^60435^60435^60431^60431^60432^60432^60432^60431^60431^60434^60432^60431^60433^60433^60431^60432^60434^60432^60431^60431^60438^60431^60431^60432^60435^60435^60435^60435^60435"},{"$f":"'9'!P157","v":"4^2^3^5^6^2^1^3^7^8^4^2^1^3^5^9^6^4^2^1^3^5^7^8^6^2^1^3^7^9^101^102^103^104^105^8^6^4^1^5^7^9^8^6^4^2^3^5^7^9^6^4^2^1^3^5^7^101^102^103^104^105"},{"$f":"'9'!P171","v":"5^5^5^5^10^10^10^10^10^17^17^17^17^17^17^17^25^25^25^25^25^25^25^35^35^35^35^35^35^35^40^40^40^40^40^50^50^50^50^50^50^50^60^60^60^60^60^60^60^60^70^70^70^70^70^70^70^75^75^75^75^75"},0,1,0,"20003^21043",4,0,"130003^3|130004^2","7^10^15","60435^60435^60435","100^100^100","8^12^15"]
[4302,{"$f":"'9'!AD130","v":"60432^60434^60431^60431^60432^60433^60431^60435^60434^60437^60431^60432^60434^60434^60433^60431^60432^60432^60431^60434^60435^60432"},{"$f":"'9'!AD157","v":"0^0^0^0^0^0^0^100^0^0^0^0^0^0^0^0^0^0^0^0^100^0"},{"$f":"'9'!AD170","v":"4^3^15^8^4^2^10^8^2^1^8^3^2^2^2^8^3^3^10^2^8^3"},12,3,0,"20003^21043",3,0,"130003^3|130004^2","7^10^15","60435^60435^60435","100^100^100","8^12^15"]
[4303,{"$f":"'9'!AR130","v":"60433^60431^60433^60431^60433^60434^60432^60432^60432^60434^60435^60435^60435^60435^60435^60432^60431^60433^60432^60433^60431^60432^60434^60432^60431^60431^60431^60432^60434^60431^60431^60432^60432^60432^60431^60431^60432^60438^60433^60434^60433^60437^60432^60435^60435^60435^60435^60435"},{"$f":"'9'!AR157","v":"4^2^1^3^5^6^2^1^3^7^101^102^103^104^105^6^4^2^1^3^5^7^8^6^2^1^3^7^9^8^6^4^1^5^7^9^6^4^2^1^3^5^7^101^102^103^104^105"},{"$f":"'9'!AR170","v":"3^2^1^3^3^5^5^5^5^5^10^10^10^10^10^17^17^17^17^17^17^17^25^25^25^25^25^25^25^35^35^35^35^35^35^35^45^45^45^45^45^45^45^50^50^50^50^50"},0,1,0,"20003^21043",3,0,"130003^3|130004^2","6^10","60435^60435","100^100","8^12"]
[4304,{"$f":"'9'!BF130","v":"60435^60435^60435^60432^60432^60432^60434^60433^60434^60431^60431^60431^60431^60432^60431^60433^60433^60431^60432^60434^60431^60432^60432^60432^60431^60434^60432^60431^60433^60434^60433^60431^60432^60432^60432^60431^60433^60431^60432^60432"},{"$f":"'9'!BF157","v":"101^103^105^2^1^3^6^1^7^4^2^3^5^6^4^2^3^5^7^8^4^2^1^3^5^9^6^4^2^1^3^5^7^8^4^2^1^3^5^9"},{"$f":"'9'!BF170","v":"3^3^3^5^5^5^8^8^8^12^12^12^12^17^17^17^17^17^17^25^25^25^25^25^25^25^35^35^35^35^35^35^35^45^45^45^45^45^45^45"},0,1,0,"20003^21043",0,1,"130003^3|130004^2",8,60435,100,10]
[4401,{"$f":"'9'!P188","v":"60442^60444^60441^60441^60442^60443^60442^60444^60441^60442^60441^60445^60443^60442^60441^60444^60443^60442^60441^60442^60441^60444^60445^60442^60447^60444^60443^60441^60442"},{"$f":"'9'!P215","v":"0^0^0^0^0^0^0^0^0^0^0^100^0^0^0^0^0^0^0^0^0^0^100^0^0^0^0^0^0"},{"$f":"'9'!P229","v":"2^2^5^8^4^2^3^2^6^3^10^8^3^3^9^2^2^3^11^3^11^2^8^3^1^2^2^9^3"},11,3,0,"20003^21044",4,0,"130003^3|130004^2","7^10^15","60445^60445^60445","100^100^100","8^12^15"]
[4402,{"$f":"'9'!AD188","v":"60444^60441^60441^60444^60442^60442^60442^60445^60445^60445^60445^60445^60443^60443^60443^60444^60442^60441^60441^60442^60444^60442^60441^60443^60448^60443^60441^60442^60444^60442^60441^60441^60441^60441^60442^60444^60445^60445^60445^60445"},{"$f":"'9'!AD215","v":"4^2^3^5^6^1^7^101^102^103^104^105^4^1^5^8^4^2^3^5^9^8^4^2^1^3^5^9^8^6^4^2^3^5^7^9^101^102^104^105"},{"$f":"'9'!AD228","v":"5^5^5^5^10^10^10^15^15^15^15^15^22^22^22^30^30^30^30^30^30^40^40^40^40^40^40^40^50^50^50^50^50^50^50^50^55^55^55^55"},0,1,0,"20003^21044",3,0,"130003^3|130004^2","7^10^15","60445^60445^60445","100^100^100","8^12^15"]
[4403,{"$f":"'9'!AR188","v":"60445^60445^60445^60445^60445^60444^60442^60442^60442^60444^60441^60441^60441^60441^60441^60442^60441^60443^60443^60443^60441^60442^60444^60441^60442^60442^60442^60441^60444^60442^60441^60447^60441^60448^60441^60442^60445^60445^60445^60445^60445^60444^60442^60441^60443^60441^60442^60444"},{"$f":"'9'!AR215","v":"101^102^103^104^105^6^2^1^3^7^4^2^1^3^5^8^4^2^1^3^5^9^8^6^4^1^5^7^9^6^4^2^1^3^5^7^101^102^103^104^105^8^6^2^1^3^7^9"},{"$f":"'9'!AR228","v":"4^4^4^4^4^10^10^10^10^10^16^16^16^16^16^23^23^23^23^23^23^23^30^30^30^30^30^30^30^40^40^40^40^40^40^40^45^45^45^45^45^55^55^55^55^55^55^55"},0,1,0,"20003^21044",3,0,"130003^3|130004^2","6^10","60445^60445","100^100","8^12"]
[4404,{"$f":"'9'!BF188","v":"60443^60443^60443^60442^60442^60442^60444^60444^60441^60441^60441^60441^60445^60445^60445^60445^60444^60442^60443^60443^60442^60444^60442^60441^60441^60444^60441^60441^60442^60442^60444^60442^60443^60443^60442^60444^60442"},{"$f":"'9'!BF215","v":"4^1^5^6^1^7^2^3^4^2^3^5^101^102^104^105^8^6^2^3^7^9^6^4^2^1^3^5^7^8^6^4^2^3^5^7^9"},{"$f":"'9'!BF228","v":"3^3^3^5^5^5^8^8^12^12^12^12^18^18^18^18^25^25^25^25^25^25^35^35^35^35^35^35^35^45^45^45^45^45^45^45^45"},0,1,0,"20003^21044",0,1,"130003^3|130004^2",8,60445,100,10]
[4501,{"$f":"'9'!P246","v":"60451^60454^60452^60451^60453^60451^60452^60455^60451^60451^60452^60454^60452^60453^60454^60451^60452^60452^60453^60454^60451^60455^60452^60459^60454^60453^60452^60451"},{"$f":"'9'!P273","v":"0^0^0^0^0^0^0^100^0^0^0^0^0^0^0^0^0^0^0^0^0^100^0^0^0^0^0^0"},{"$f":"'9'!P287","v":"9^2^3^10^2^9^3^7^8^10^3^2^5^3^3^12^2^3^2^2^9^8^4^1^2^2^3^10"},10,3,0,"20003^21045",4,0,"130003^2|130004^2|130005^1","7^10^15","60455^60455^60455","100^100^100","8^12^15"]
[4502,{"$f":"'9'!AD246","v":"60455^60455^60455^60455^60452^60452^60452^60454^60453^60453^60454^60454^60452^60451^60451^60451^60452^60454^60452^60452^60453^60454^60453^60452^60452^60452^60451^60453^60451^60453^60451^60452^60455^60455^60455^60455^60455^60454^60459^60456^60452^60454"},{"$f":"'9'!AD273","v":"101^102^104^105^6^1^7^6^2^3^7^8^4^2^1^3^5^9^6^4^2^1^3^5^7^8^4^2^1^3^5^9^101^102^103^104^105^6^4^1^5^7"},{"$f":"'9'!AD286","v":"5^5^5^5^10^10^10^15^15^15^15^22^22^22^22^22^22^22^30^30^30^30^30^30^30^40^40^40^40^40^40^40^45^45^45^45^45^55^55^55^55^55"},0,1,0,"20003^21045",3,0,"130003^2|130004^2|130005^1","7^10^15","60455^60455^60455","100^100^100","8^12^15"]
[4503,{"$f":"'9'!AR246","v":"60452^60454^60451^60453^60451^60455^60452^60453^60452^60454^60451^60452^60451^60455^60454^60459^60453^60452^60451^60453^60451^60452^60454"},{"$f":"'9'!AR273","v":"0^0^0^0^0^100^0^0^0^0^0^0^0^100^0^0^0^0^0^0^0^0^0"},{"$f":"'9'!AR286","v":"5^5^16^3^10^8^3^2^3^2^7^3^11^9^2^2^2^3^10^2^10^2^2"},11,3,0,"20003^21045",3,0,"130003^2|130004^2|130005^2","6^10","60455^60455","100^100","8^12"]
[4504,{"$f":"'9'!BF246","v":"60454^60453^60453^60454^60452^60452^60452^60455^60455^60455^60455^60451^60451^60451^60451^60451^60454^60452^60453^60453^60452^60454^60452^60451^60451^60454^60451^60451^60452^60452^60451^60451^60453^60451^60451^60452^60454^60452^60451^60453^60453^60451^60452^60454"},{"$f":"'9'!BF273","v":"4^2^3^5^6^1^7^101^102^104^105^6^4^1^5^7^6^4^2^3^5^7^8^4^2^1^3^5^9^6^4^2^1^3^5^7^8^6^4^2^3^5^7^9"},{"$f":"'9'!BF286","v":"3^3^3^3^5^5^5^8^8^8^8^12^12^12^12^12^20^20^20^20^20^20^30^30^30^30^30^30^30^40^40^40^40^40^40^40^45^45^45^45^45^45^45^45"},0,1,0,"20003^21045",0,1,"130003^2|130004^2|130005^2",8,60455,100,10]
[4601,{"$f":"'10'!P14","v":"60461^60464^60461^60462^60463^60464^60462^60461^60462^60464^60465^60461^60463^60461^60462^60464^60461^60462^60463^60461^60462^60464^60461^60462^60465^60462"},{"$f":"'10'!P41","v":"0^0^0^0^0^0^0^0^0^0^100^0^0^0^0^0^0^0^0^0^0^0^0^0^100^0"},{"$f":"'10'!P55","v":"8^2^9^3^4^2^5^8^3^2^7^7^2^10^3^2^11^3^3^8^3^2^12^3^8^4"},11,3,0,"20004^21046",4,0,"130003^2|130004^2|130005^1","7^10^15","60465^60465^60465","100^100^100","8^12^15"]
[4602,{"$f":"'10'!AD14","v":"60464^60462^60462^60464^60463^60463^60463^60461^60461^60461^60461^60461^60465^60465^60465^60465^60465^60462^60461^60463^60462^60463^60461^60462^60464^60462^60461^60463^60461^60462^60464^60462^60461^60463^60464^60463^60461^60462^60464^60462^60461^60463^60463^60461^60462^60464"},{"$f":"'10'!AD41","v":"4^2^3^5^4^1^5^6^4^1^5^7^101^102^103^104^105^6^4^2^1^3^5^7^8^6^4^1^5^7^9^6^4^2^1^3^5^7^8^6^4^2^3^5^7^9"},{"$f":"'10'!AD54","v":"3^3^3^3^6^6^6^10^10^10^10^10^15^15^15^15^15^25^25^25^25^25^25^25^35^35^35^35^35^35^35^45^45^45^45^45^45^45^55^55^55^55^55^55^55^55"},0,1,0,"20004^21046",3,0,"130003^2|130004^2|130005^1","7^10^15","60465^60465^60465","100^100^100","8^12^15"]
[4603,{"$f":"'10'!AR14","v":"60465^60464^60463^60462^60461^60461^60464^60463^60462^60461^60461^60462^60464^60464^60463^60461^60462^60461^60462^60463^60461^60462^60464"},{"$f":"'10'!AR41","v":"100^0^0^0^0^0^0^0^0^0^0^0^0^0^0^0^0^0^0^0^0^0^0"},{"$f":"'10'!AR54","v":"10^4^4^4^8^10^3^2^3^9^11^3^2^2^2^9^3^12^3^2^10^3^2"},10,3,0,"20004^21046",3,0,"130003^2|130004^2|130005^1","6^10","60465^60465","100^100","8^12"]
[4604,{"$f":"'10'!BF14","v":"60463^60463^60462^60462^60462^60464^60464^60461^60461^60461^60461^60465^60465^60465^60465^60464^60462^60463^60463^60462^60464^60462^60462^60461^60464^60461^60462^60462^60462^60462^60461^60461^60461^60461^60462^60462"},{"$f":"'10'!BF41","v":"2^3^4^1^5^2^3^6^4^5^7^101^102^104^105^6^4^2^3^5^7^6^4^2^1^3^5^7^8^6^4^2^3^5^7^9"},{"$f":"'10'!BF54","v":"2^2^4^4^4^6^6^8^8^8^8^10^10^10^10^17^17^17^17^17^17^25^25^25^25^25^25^25^35^35^35^35^35^35^35^35"},0,1,0,"20004^21046",0,1,"130003^2|130004^2|130005^1",8,60465,100,10]
[4701,{"$f":"'10'!P72","v":"60474^60472^60472^60472^60474^60471^60471^60471^60471^60471^60474^60472^60473^60472^60473^60472^60474^60475^60475^60475^60475^60475^60472^60471^60471^60472^60471^60471^60472^60474^60472^60471^60473^60473^60471^60472^60474^60472^60472^60471^60471^60471^60472^60472^60475^60475^60475^60475^60475^60472^60471^60471^60474^60471^60471^60472^60474^60472^60471^60473^60473^60471^60472^60474"},{"$f":"'10'!P99","v":"4^2^1^3^5^6^4^1^5^7^6^4^2^1^3^5^7^101^102^103^104^105^6^4^2^1^3^5^7^8^6^4^2^3^5^7^9^6^4^2^1^3^5^7^101^102^103^104^105^6^4^2^1^3^5^7^8^6^4^2^3^5^7^9"},{"$f":"'10'!P113","v":"5^5^5^5^5^10^10^10^10^10^16^16^16^16^16^16^16^20^20^20^20^20^30^30^30^30^30^30^30^40^40^40^40^40^40^40^40^50^50^50^50^50^50^50^55^55^55^55^55^65^65^65^65^65^65^65^75^75^75^75^75^75^75^75"},0,1,0,"20004^21047",4,0,"130003^2|130004^2|130005^1","7^10^15","60475^60475^60475","100^100^100","8^12^15"]
[4702,{"$f":"'10'!AD72","v":"60475^60474^60471^60472^60471^60473^60471^60471^60474^60472^60471^60472^60473^60471^60472^60474^60474^60472^60471^60475^60472^60473"},{"$f":"'10'!AD99","v":"100^0^0^0^0^0^0^0^0^0^0^0^0^0^0^0^0^0^0^100^0^0"},{"$f":"'10'!AD112","v":"10^4^10^3^9^3^10^9^2^3^10^4^2^8^3^2^2^3^11^8^3^3"},11,3,0,"20004^21047",3,0,"130003^2|130004^2|130005^1","7^10^15","60475^60475^60475","100^100^100","8^12^15"]
[4703,{"$f":"'10'!AR72","v":"60473^60473^60473^60474^60472^60472^60474^60471^60471^60471^60471^60475^60475^60475^60475^60474^60472^60471^60472^60471^60472^60474^60473^60471^60473^60474^60473^60471^60473^60472^60472^60471^60471^60471^60472^60472^60474^60472^60471^60473^60473^60471^60472^60474"},{"$f":"'10'!AR99","v":"4^1^5^8^6^7^9^6^4^5^7^101^102^104^105^6^4^2^1^3^5^7^6^4^2^1^3^5^7^6^4^2^1^3^5^7^8^6^4^2^3^5^7^9"},{"$f":"'10'!AR112","v":"4^4^4^6^6^6^6^10^10^10^10^15^15^15^15^22^22^22^22^22^22^22^30^30^30^30^30^30^30^40^40^40^40^40^40^40^50^50^50^50^50^50^50^50"},0,1,0,"20004^21047",3,0,"130003^2|130004^2|130005^1","6^10","60475^60475","100^100","8^12"]
[4704,{"$f":"'10'!BF72","v":"60471^60471^60471^60471^60472^60472^60472^60474^60474^60475^60475^60475^60475^60473^60473^60473^60474^60471^60471^60471^60471^60474^60472^60472^60472^60472^60472^60472^60472^60471^60473^60473^60471^60472^60472"},{"$f":"'10'!BF99","v":"4^2^3^5^4^1^5^2^3^101^102^104^105^4^1^5^6^4^2^3^5^7^6^4^1^5^7^8^6^4^2^3^5^7^9"},{"$f":"'10'!BF112","v":"2^2^2^2^4^4^4^6^6^8^8^8^8^10^10^10^17^17^17^17^17^17^25^25^25^25^25^35^35^35^35^35^35^35^35"},0,1,0,"20004^21047",0,1,"130003^2|130004^2|130005^1",8,60475,100,10]
[4801,{"$f":"'10'!P130","v":"60481^60482^60482^60484^60481^60483^60481^60482^60484^60481^60482^60483^60482^60484^60485^60481^60482^60481^60483^60481^60482^60484^60483^60481^60482^60485^60482"},{"$f":"'10'!P157","v":"0^0^0^0^0^0^0^0^0^0^0^0^0^0^100^0^0^0^0^0^0^0^0^0^0^100^0"},{"$f":"'10'!P171","v":"9^2^3^2^7^2^8^3^2^10^3^3^5^2^7^8^3^11^2^9^3^2^3^10^3^8^4"},11,3,0,"20004^21048",4,0,"130003^2|130004^2|130005^1","7^10^15","60485^60485^60485","100^100^100","8^12^15"]
[4802,{"$f":"'10'!AD130","v":"60484^60482^60482^60482^60484^60481^60481^60481^60481^60481^60483^60482^60483^60482^60483^60485^60485^60485^60485^60485^60484^60482^60481^60482^60481^60482^60484^60482^60481^60483^60484^60483^60481^60482^60484^60481^60482^60482^60482^60481^60484^60485^60485^60485^60485^60485"},{"$f":"'10'!AD157","v":"6^2^1^3^7^4^2^1^3^5^4^2^1^3^5^101^102^103^104^105^6^4^2^1^3^5^7^6^4^2^1^3^5^7^8^6^2^1^3^7^9^101^102^103^104^105"},{"$f":"'10'!AD170","v":"5^5^5^5^5^10^10^10^10^10^15^15^15^15^15^22^22^22^22^22^30^30^30^30^30^30^30^40^40^40^40^40^40^40^50^50^50^50^50^50^50^55^55^55^55^55"},0,1,0,"20004^21048",3,0,"130003^2|130004^2|130005^1","7^10^15","60485^60485^60485","100^100^100","8^12^15"]
[4803,{"$f":"'10'!AR130","v":"60483^60483^60483^60484^60482^60482^60484^60485^60485^60485^60485^60482^60481^60483^60483^60481^60482^60484^60482^60481^60481^60481^60482^60484^60481^60481^60482^60482^60482^60481^60481^60482^60481^60483^60484^60483^60481^60482^60485^60485^60485^60485"},{"$f":"'10'!AR157","v":"4^1^5^6^2^3^7^101^102^104^105^6^4^2^3^5^7^8^6^2^1^3^7^9^8^6^4^1^5^7^9^6^4^2^1^3^5^7^101^102^104^105"},{"$f":"'10'!AR170","v":"3^3^3^5^5^5^5^10^10^10^10^17^17^17^17^17^17^25^25^25^25^25^25^25^35^35^35^35^35^35^35^45^45^45^45^45^45^45^50^50^50^50"},0,1,0,"20004^21048",3,0,"130003^2|130004^2|130005^1","6^10","60485^60485","100^100","8^12"]
[4804,{"$f":"'10'!BF130","v":"60485^60485^60485^60482^60482^60482^60484^60483^60484^60481^60481^60481^60481^60482^60481^60483^60483^60481^60482^60484^60481^60482^60482^60482^60481^60484^60482^60481^60483^60484^60483^60481^60482^60482^60482^60481^60483^60481^60482^60482"},{"$f":"'10'!BF157","v":"101^103^105^2^1^3^6^1^7^4^2^3^5^6^4^2^3^5^7^8^4^2^1^3^5^9^6^4^2^1^3^5^7^8^4^2^1^3^5^9"},{"$f":"'10'!BF170","v":"3^3^3^5^5^5^8^8^8^12^12^12^12^18^18^18^18^18^18^25^25^25^25^25^25^25^35^35^35^35^35^35^35^45^45^45^45^45^45^45"},0,1,0,"20004^21048",0,1,"130003^2|130004^2|130005^1",8,60485,100,10]
[4901,{"$f":"'10'!P188","v":"60494^60492^60492^60492^60494^60491^60491^60491^60491^60491^60494^60492^60493^60493^60492^60494^60492^60491^60491^60492^60491^60491^60492^60495^60495^60495^60495^60495^60494^60491^60492^60492^60492^60491^60494^60491^60491^60492^60493^60493^60492^60491^60491^60494^60492^60491^60492^60491^60492^60494^60495^60495^60495^60495^60495^60492^60491^60493^60494^60493^60491^60492"},{"$f":"'10'!P215","v":"6^2^1^3^7^6^2^1^3^7^6^4^2^3^5^7^8^4^2^1^3^5^9^101^102^103^104^105^8^6^2^1^3^7^9^8^6^4^2^3^5^7^9^8^6^4^1^5^7^9^101^102^103^104^105^6^4^2^1^3^5^7"},{"$f":"'10'!P229","v":"5^5^5^5^5^15^15^15^15^15^30^30^30^30^30^30^45^45^45^45^45^45^45^50^50^50^50^50^65^65^65^65^65^65^65^81^81^81^81^81^81^81^81^98^98^98^98^98^98^98^105^105^105^105^105^120^120^120^120^120^120^120"},0,1,0,"20004^21049",4,0,"130003^2|130004^2|130005^1","7^10^15","60495^60495^60495","100^100^100","8^12^15"]
[4902,{"$f":"'10'!AD188","v":"60491^60494^60492^60492^60491^60495^60494^60493^60492^60491^60491^60492^60494^60492^60493^60491^60491^60492^60494^60495^60492"},{"$f":"'10'!AD215","v":"0^0^0^0^0^100^0^0^0^0^0^0^0^0^0^0^0^0^0^100^0"},{"$f":"'10'!AD228","v":"18^3^4^3^9^8^2^3^3^8^10^3^2^3^3^11^10^4^2^8^4"},10,3,0,"20004^21049",3,0,"130003^2|130004^2|130005^1","7^10^15","60495^60495^60495","100^100^100","8^12^15"]
[4903,{"$f":"'10'!AR188","v":"60495^60495^60495^60495^60495^60494^60492^60492^60492^60494^60491^60491^60491^60491^60491^60492^60491^60493^60491^60493^60491^60492^60494^60491^60492^60492^60492^60491^60494^60492^60491^60493^60493^60493^60491^60492^60495^60495^60495^60495^60495^60494^60492^60491^60493^60491^60492^60494"},{"$f":"'10'!AR215","v":"101^102^103^104^105^6^2^1^3^7^4^2^1^3^5^8^4^2^1^3^5^9^8^6^4^1^5^7^9^6^4^2^1^3^5^7^101^102^103^104^105^8^6^2^1^3^7^9"},{"$f":"'10'!AR228","v":"3^3^3^3^3^6^6^6^6^6^10^10^10^10^10^15^15^15^15^15^15^15^25^25^25^25^25^25^25^35^35^35^35^35^35^35^40^40^40^40^40^50^50^50^50^50^50^50"},0,1,0,"20004^21049",3,0,"130003^2|130004^2|130005^1","6^10","60495^60495","100^100","8^12"]
[4904,{"$f":"'10'!BF188","v":"60493^60493^60493^60492^60492^60492^60494^60494^60491^60491^60491^60491^60495^60495^60495^60495^60494^60492^60493^60493^60492^60494^60492^60491^60491^60494^60491^60491^60492^60492^60494^60492^60493^60493^60492^60494^60492"},{"$f":"'10'!BF215","v":"4^1^5^6^1^7^2^3^4^2^3^5^101^102^104^105^8^6^2^3^7^9^6^4^2^1^3^5^7^8^6^4^2^3^5^7^9"},{"$f":"'10'!BF228","v":"3^3^3^5^5^5^8^8^12^12^12^12^18^18^18^18^25^25^25^25^25^25^35^35^35^35^35^35^35^45^45^45^45^45^45^45^45"},0,1,0,"20004^21049",0,1,"130003^2|130004^2|130005^1",8,60495,100,10]
[5001,{"$f":"'10'!P246","v":"60504^60501^60501^60501^60504^60502^60502^60502^60502^60502^60501^60503^60503^60501^60502^60505^60505^60505^60505^60504^60502^60501^60501^60501^60502^60504^60504^60502^60503^60502^60503^60502^60504^60502^60501^60501^60501^60501^60501^60501^60502^60504^60502^60503^60502^60503^60502^60504^60505^60505^60505^60505^60505^60502^60502^60503^60504^60503^60502^60502"},{"$f":"'10'!P273","v":"6^2^1^3^7^4^2^3^5^8^6^2^3^7^9^101^102^104^105^8^6^2^1^3^7^9^8^4^2^1^3^5^9^8^6^4^2^3^5^7^9^6^4^2^1^3^5^7^101^102^103^104^105^8^6^2^1^3^7^9"},{"$f":"'10'!P287","v":"5^5^5^5^5^10^10^10^10^16^16^16^16^16^16^20^20^20^20^30^30^30^30^30^30^30^40^40^40^40^40^40^40^50^50^50^50^50^50^50^50^60^60^60^60^60^60^60^65^65^65^65^65^75^75^75^75^75^75^75"},0,1,0,"20004^21050",4,0,"130003^2|130004^2|130005^1","7^10^15","60505^60505^60505","100^100^100","8^12^15"]
[5002,{"$f":"'10'!AD246","v":"60505^60505^60505^60505^60502^60502^60502^60502^60504^60503^60503^60504^60504^60502^60501^60501^60502^60504^60502^60502^60503^60504^60503^60502^60502^60502^60501^60503^60503^60501^60502^60505^60505^60505^60505^60505^60504^60502^60506^60502^60504"},{"$f":"'10'!AD273","v":"101^102^104^105^6^1^3^7^6^2^3^7^8^4^2^3^5^9^6^4^2^1^3^5^7^8^4^2^3^5^9^101^102^103^104^105^6^4^1^5^7"},{"$f":"'10'!AD286","v":"3^3^3^3^6^6^6^6^10^10^10^10^15^15^15^15^15^15^25^25^25^25^25^25^25^35^35^35^35^35^35^40^40^40^40^40^50^50^50^50^50"},0,1,0,"20004^21050",3,0,"130003^2|130004^2|130005^1","7^10^15","60505^60505^60505","100^100^100","8^12^15"]
[5003,{"$f":"'10'!AR246","v":"60501^60502^60504^60503^60501^60505^60502^60503^60502^60504^60502^60501^60505^60503^60503^60502^60504^60503^60501^60502"},{"$f":"'10'!AR273","v":"0^0^0^0^0^100^0^0^0^0^0^0^100^0^0^0^0^0^0^0"},{"$f":"'10'!AR286","v":"17^5^3^4^9^8^4^4^5^2^2^12^8^3^3^6^2^2^12^2"},10,3,0,"20004^21050",3,0,"130003^2|130004^2|130005^1","6^10","60505^60505","100^100","8^12"]
[5004,{"$f":"'10'!BF246","v":"60504^60503^60503^60504^60502^60502^60502^60505^60505^60505^60505^60501^60501^60501^60501^60501^60504^60502^60503^60503^60502^60504^60502^60501^60501^60504^60501^60501^60502^60502^60501^60501^60503^60501^60501^60502^60504^60502^60501^60503^60503^60501^60502^60504"},{"$f":"'10'!BF273","v":"4^2^3^5^6^1^7^101^102^104^105^6^4^1^5^7^6^4^2^3^5^7^8^4^2^1^3^5^9^6^4^2^1^3^5^7^8^6^4^2^3^5^7^9"},{"$f":"'10'!BF286","v":"3^3^3^3^5^5^5^8^8^8^8^12^12^12^12^12^17^17^17^17^17^17^25^25^25^25^25^25^25^35^35^35^35^35^35^35^45^45^45^45^45^45^45^45"},0,1,0,"20004^21050",0,1,"130003^2|130004^2|130005^1",8,60505,100,10]
[5101,{"$f":"'11'!P14","v":"60511^60512^60512^60511^60513^60514^60512^60511^60512^60514^60515^60513^60513^60511^60512^60514^60511^60512^60513^60511^60512^60514^60512^60511^60515^60512"},{"$f":"'11'!P41","v":"0^0^0^0^0^0^0^0^0^0^100^0^0^0^0^0^0^0^0^0^0^0^0^0^100^0"},{"$f":"'11'!P55","v":"9^2^3^9^3^2^5^8^3^2^8^3^2^8^3^2^9^3^2^8^2^2^3^12^8^4"},11,3,0,"20004^21051",4,0,"130003^2|130004^2|130005^1","7^10^15","60515^60515^60515","100^100^100","8^12^15"]
[5102,{"$f":"'11'!AD14","v":"60514^60512^60512^60514^60513^60513^60513^60511^60511^60511^60511^60511^60515^60515^60515^60515^60512^60511^60513^60513^60511^60512^60514^60512^60511^60513^60511^60512^60514^60512^60511^60513^60514^60513^60511^60512^60514^60512^60511^60513^60513^60511^60512^60514"},{"$f":"'11'!AD41","v":"4^2^3^5^4^1^5^6^4^1^5^7^101^102^104^105^6^4^2^3^5^7^8^6^4^1^5^7^9^6^4^2^1^3^5^7^8^6^4^2^3^5^7^9"},{"$f":"'11'!AD54","v":"3^3^3^3^6^6^6^10^10^10^10^10^15^15^15^15^25^25^25^25^25^25^35^35^35^35^35^35^35^45^45^45^45^45^45^45^55^55^55^55^55^55^55^55"},0,1,0,"20004^21051",3,0,"130003^2|130004^2|130005^1","7^10^15","60515^60515^60515","100^100^100","8^12^15"]
[5103,{"$f":"'11'!AR14","v":"60515^60511^60512^60511^60511^60514^60513^60512^60511^60511^60512^60514^60514^60513^60511^60512^60511^60512^60513^60511^60512^60514"},{"$f":"'11'!AR41","v":"100^0^0^0^0^0^0^0^0^0^0^0^0^0^0^0^0^0^0^0^0^0"},{"$f":"'11'!AR54","v":"12^12^4^10^12^3^2^3^9^10^3^2^2^2^8^3^10^4^2^8^4^2"},11,3,0,"20004^21051",3,0,"130003^2|130004^2|130005^1","6^10","60515^60515","100^100","8^12"]
[5104,{"$f":"'11'!BF14","v":"60513^60513^60512^60512^60512^60514^60514^60511^60511^60511^60511^60515^60515^60515^60515^60514^60512^60513^60513^60512^60514^60512^60512^60511^60514^60511^60512^60512^60512^60512^60511^60511^60511^60511^60512^60512"},{"$f":"'11'!BF41","v":"2^3^4^1^5^2^3^6^4^5^7^101^102^104^105^6^4^2^3^5^7^6^4^2^1^3^5^7^8^6^4^2^3^5^7^9"},{"$f":"'11'!BF54","v":"2^2^4^4^4^6^6^8^8^8^8^10^10^10^10^15^15^15^15^15^15^25^25^25^25^25^25^25^35^35^35^35^35^35^35^35"},0,1,0,"20004^21051",0,1,"130003^2|130004^2|130005^1",8,60515,100,10]
[5201,{"$f":"'11'!P72","v":"60524^60522^60522^60522^60524^60521^60521^60521^60521^60521^60524^60522^60523^60523^60522^60524^60525^60525^60525^60525^60525^60522^60521^60521^60522^60521^60521^60522^60524^60522^60521^60523^60523^60521^60522^60524^60522^60522^60521^60521^60521^60522^60522^60525^60525^60525^60525^60525^60522^60521^60521^60524^60521^60521^60522^60524^60522^60521^60523^60523^60521^60522^60524"},{"$f":"'11'!P99","v":"4^2^1^3^5^6^4^1^5^7^6^4^2^3^5^7^101^102^103^104^105^6^4^2^1^3^5^7^8^6^4^2^3^5^7^9^6^4^2^1^3^5^7^101^102^103^104^105^6^4^2^1^3^5^7^8^6^4^2^3^5^7^9"},{"$f":"'11'!P113","v":"5^5^5^5^5^10^10^10^10^10^17^17^17^17^17^17^20^20^20^20^20^30^30^30^30^30^30^30^40^40^40^40^40^40^40^40^50^50^50^50^50^50^50^55^55^55^55^55^65^65^65^65^65^65^65^75^75^75^75^75^75^75^75"},0,1,0,"20004^21052",4,0,"130003^2|130004^2|130005^1","7^10^15","60525^60525^60525","100^100^100","8^12^15"]
[5202,{"$f":"'11'!AD72","v":"60525^60522^60523^60522^60521^60523^60521^60522^60521^60524^60521^60522^60523^60521^60522^60524^60524^60522^60521^60525^60522"},{"$f":"'11'!AD99","v":"100^0^0^0^0^0^0^0^0^0^0^0^0^0^0^0^0^0^0^100^0"},{"$f":"'11'!AD112","v":"14^6^4^4^10^3^12^3^10^2^12^3^2^9^3^2^2^3^10^8^4"},10,3,0,"20004^21052",3,0,"130003^2|130004^2|130005^1","7^10^15","60525^60525^60525","100^100^100","8^12^15"]
[5203,{"$f":"'11'!AR72","v":"60523^60523^60523^60524^60522^60522^60524^60521^60521^60521^60521^60525^60525^60525^60525^60524^60522^60521^60522^60521^60522^60524^60523^60523^60524^60523^60523^60522^60522^60521^60521^60521^60522^60522^60524^60522^60521^60523^60523^60521^60522^60524"},{"$f":"'11'!AR99","v":"4^1^5^8^6^7^9^6^4^5^7^101^102^104^105^6^4^2^1^3^5^7^6^2^1^3^7^6^4^2^1^3^5^7^8^6^4^2^3^5^7^9"},{"$f":"'11'!AR112","v":"4^4^4^6^6^6^6^10^10^10^10^15^15^15^15^22^22^22^22^22^22^22^30^30^30^30^30^40^40^40^40^40^40^40^50^50^50^50^50^50^50^50"},0,1,0,"20004^21052",3,0,"130003^2|130004^2|130005^1","6^10","60525^60525","100^100","8^12"]
[5204,{"$f":"'11'!BF72","v":"60521^60521^60521^60521^60522^60522^60522^60524^60524^60525^60525^60525^60525^60523^60523^60523^60524^60521^60521^60521^60521^60524^60522^60522^60522^60522^60522^60522^60522^60521^60523^60523^60521^60522^60522"},{"$f":"'11'!BF99","v":"4^2^3^5^4^1^5^2^3^101^102^104^105^4^1^5^6^4^2^3^5^7^6^4^1^5^7^8^6^4^2^3^5^7^9"},{"$f":"'11'!BF112","v":"2^2^2^2^4^4^4^6^6^8^8^8^8^10^10^10^16^16^16^16^16^16^25^25^25^25^25^35^35^35^35^35^35^35^35"},0,1,0,"20004^21052",0,1,"130003^2|130004^2|130005^1",8,60525,100,10]
[5301,{"$f":"'11'!P130","v":"60531^60532^60532^60534^60531^60533^60531^60532^60534^60531^60532^60533^60532^60534^60535^60531^60532^60531^60533^60531^60532^60534^60533^60531^60532^60535^60532"},{"$f":"'11'!P157","v":"0^0^0^0^0^0^0^0^0^0^0^0^0^0^100^0^0^0^0^0^0^0^0^0^0^100^0"},{"$f":"'11'!P171","v":"8^4^3^2^8^2^9^3^2^10^3^3^5^2^7^8^4^12^2^9^3^2^2^11^3^8^3"},10,3,0,"20004^21053",4,0,"130003^2|130004^2|130005^1","7^10^15","60535^60535^60535","100^100^100","8^12^15"]
[5302,{"$f":"'11'!AD130","v":"60534^60532^60532^60532^60534^60531^60531^60531^60531^60531^60533^60532^60533^60532^60533^60535^60535^60535^60535^60535^60534^60532^60531^60532^60531^60532^60534^60532^60531^60533^60534^60533^60531^60532^60534^60531^60532^60532^60532^60531^60534^60535^60535^60535^60535^60535"},{"$f":"'11'!AD157","v":"6^2^1^3^7^4^2^1^3^5^4^2^1^3^5^101^102^103^104^105^6^4^2^1^3^5^7^6^4^2^1^3^5^7^8^6^2^1^3^7^9^101^102^103^104^105"},{"$f":"'11'!AD170","v":"5^5^5^5^5^10^10^10^10^10^15^15^15^15^15^22^22^22^22^22^30^30^30^30^30^30^30^40^40^40^40^40^40^40^50^50^50^50^50^50^50^55^55^55^55^55"},0,1,0,"20004^21053",3,0,"130003^2|130004^2|130005^1","7^10^15","60535^60535^60535","100^100^100","8^12^15"]
[5303,{"$f":"'11'!AR130","v":"60533^60531^60531^60532^60534^60535^60534^60533^60531^60532^60531^60532^60534^60532^60531^60534^60533^60531^60532^60535^60532"},{"$f":"'11'!AR157","v":"0^0^0^0^0^100^0^0^0^0^0^0^0^0^0^0^0^0^0^100^0"},{"$f":"'11'!AR170","v":"6^19^8^3^2^8^2^2^9^3^10^3^2^4^9^2^2^8^3^8^4"},10,3,0,"20004^21053",3,0,"130003^2|130004^2|130005^1","6^10","60535^60535","100^100","8^12"]
[5304,{"$f":"'11'!BF130","v":"60535^60535^60535^60532^60532^60532^60534^60533^60534^60531^60531^60531^60531^60532^60531^60533^60533^60531^60532^60534^60531^60532^60532^60532^60531^60534^60532^60531^60533^60534^60533^60531^60532^60532^60532^60531^60533^60531^60532^60532"},{"$f":"'11'!BF157","v":"101^103^105^2^1^3^6^1^7^4^2^3^5^6^4^2^3^5^7^8^4^2^1^3^5^9^6^4^2^1^3^5^7^8^4^2^1^3^5^9"},{"$f":"'11'!BF170","v":"3^3^3^5^5^5^8^8^8^12^12^12^12^20^20^20^20^20^20^30^30^30^30^30^30^30^40^40^40^40^40^40^40^50^50^50^50^50^50^50"},0,1,0,"20004^21053",0,1,"130003^2|130004^2|130005^1",8,60535,100,10]
[5401,{"$f":"'11'!P188","v":"60544^60542^60542^60542^60544^60541^60541^60541^60541^60541^60544^60542^60543^60543^60542^60544^60542^60541^60541^60542^60541^60541^60542^60545^60545^60545^60545^60545^60544^60541^60542^60542^60542^60541^60544^60541^60541^60542^60543^60543^60542^60541^60541^60544^60542^60541^60541^60542^60541^60541^60542^60544^60545^60545^60545^60545^60545^60542^60541^60543^60544^60543^60541^60542"},{"$f":"'11'!P215","v":"6^2^1^3^7^6^2^1^3^7^6^4^2^3^5^7^8^4^2^1^3^5^9^101^102^103^104^105^8^6^2^1^3^7^9^8^6^4^2^3^5^7^9^8^6^4^2^1^3^5^7^9^101^102^103^104^105^6^4^2^1^3^5^7"},{"$f":"'11'!P229","v":"5^5^5^5^5^10^10^10^10^10^17^17^17^17^17^17^25^25^25^25^25^25^25^30^30^30^30^30^40^40^40^40^40^40^40^50^50^50^50^50^50^50^50^60^60^60^60^60^60^60^60^60^65^65^65^65^65^75^75^75^75^75^75^75"},0,1,0,"20004^21054",4,0,"130003^2|130004^2|130005^1","7^10^15","60545^60545^60545","100^100^100","8^12^15"]
[5402,{"$f":"'11'!AD188","v":"60541^60544^60542^60541^60545^60542^60543^60541^60544^60541^60542^60544^60542^60543^60541^60541^60542^60544^60545^60542"},{"$f":"'11'!AD215","v":"0^0^0^0^100^0^0^0^0^0^0^0^0^0^0^0^0^0^100^0"},{"$f":"'11'!AD228","v":"19^6^3^9^8^4^2^10^2^11^3^2^3^2^12^12^3^2^8^4"},10,3,0,"20004^21054",3,0,"130003^2|130004^2|130005^1","7^10^15","60545^60545^60545","100^100^100","8^12^15"]
[5403,{"$f":"'11'!AR188","v":"60545^60545^60545^60545^60544^60542^60542^60544^60541^60541^60541^60541^60541^60542^60541^60543^60543^60541^60542^60544^60541^60542^60542^60542^60541^60544^60542^60541^60543^60543^60541^60542^60545^60545^60545^60545^60545^60544^60542^60541^60543^60541^60542^60544"},{"$f":"'11'!AR215","v":"101^102^104^105^6^2^3^7^4^2^1^3^5^8^4^2^3^5^9^8^6^4^1^5^7^9^6^4^2^3^5^7^101^102^103^104^105^8^6^2^1^3^7^9"},{"$f":"'11'!AR228","v":"3^3^3^3^5^5^5^5^10^10^10^10^10^17^17^17^17^17^17^25^25^25^25^25^25^25^35^35^35^35^35^35^40^40^40^40^40^50^50^50^50^50^50^50"},0,1,0,"20004^21054",3,0,"130003^2|130004^2|130005^1","6^10","60545^60545","100^100","8^12"]
[5404,{"$f":"'11'!BF188","v":"60543^60543^60543^60542^60542^60542^60544^60544^60541^60541^60541^60541^60545^60545^60545^60545^60544^60542^60543^60543^60542^60544^60542^60541^60541^60544^60541^60541^60542^60542^60544^60542^60543^60543^60542^60544^60542"},{"$f":"'11'!BF215","v":"4^1^5^6^1^7^2^3^4^2^3^5^101^102^104^105^8^6^2^3^7^9^6^4^2^1^3^5^7^8^6^4^2^3^5^7^9"},{"$f":"'11'!BF228","v":"3^3^3^5^5^5^8^8^12^12^12^12^18^18^18^18^25^25^25^25^25^25^35^35^35^35^35^35^35^45^45^45^45^45^45^45^45"},0,1,0,"20004^21054",0,1,"130003^2|130004^2|130005^1",8,60545,100,10]
[5501,{"$f":"'11'!P246","v":"60551^60554^60552^60551^60553^60551^60552^60555^60553^60551^60552^60554^60552^60553^60554^60551^60551^60552^60552^60553^60554^60551^60555^60552^60554^60553^60552^60551"},{"$f":"'11'!P273","v":"0^0^0^0^0^0^0^100^0^0^0^0^0^0^0^0^0^0^0^0^0^0^100^0^0^0^0^0"},{"$f":"'11'!P287","v":"9^3^3^10^2^9^3^8^3^11^3^2^3^2^2^9^12^3^3^2^2^10^8^4^2^2^3^11"},10,3,0,"20004^21055",4,0,"130003^2|130004^2|130005^1","7^10^15","60555^60555^60555","100^100^100","8^12^15"]
[5502,{"$f":"'11'!AD246","v":"60555^60555^60555^60555^60552^60552^60552^60552^60554^60553^60553^60554^60554^60552^60551^60551^60552^60554^60553^60552^60552^60554^60552^60552^60553^60552^60551^60553^60553^60551^60552^60555^60555^60555^60555^60555^60554^60552^60556^60552^60554"},{"$f":"'11'!AD273","v":"101^102^104^105^6^1^3^7^6^2^3^7^8^4^2^3^5^9^6^4^2^1^3^5^7^8^4^2^3^5^9^101^102^103^104^105^6^4^1^5^7"},{"$f":"'11'!AD286","v":"5^5^5^5^10^10^10^10^15^15^15^15^22^22^22^22^22^22^30^30^30^30^30^30^30^40^40^40^40^40^40^45^45^45^45^45^55^55^55^55^55"},0,1,0,"20004^21055",3,0,"130003^2|130004^2|130005^1","7^10^15","60555^60555^60555","100^100^100","8^12^15"]
[5503,{"$f":"'11'!AR246","v":"60552^60554^60551^60553^60551^60555^60552^60553^60552^60554^60552^60551^60555^60554^60553^60553^60552^60554^60551^60553^60551^60552"},{"$f":"'11'!AR273","v":"0^0^0^0^0^100^0^0^0^0^0^0^100^0^0^0^0^0^0^0^0^0"},{"$f":"'11'!AR286","v":"6^4^18^3^11^8^3^3^5^2^3^12^7^2^3^3^2^2^9^3^11^2"},10,3,0,"20004^21055",3,0,"130003^2|130004^2|130005^1","6^10","60555^60555","100^100","8^12"]
[5504,{"$f":"'11'!BF246","v":"60554^60553^60553^60554^60552^60552^60552^60555^60555^60555^60555^60551^60551^60551^60551^60551^60554^60552^60553^60553^60552^60554^60553^60551^60551^60554^60551^60551^60553^60552^60551^60551^60553^60551^60551^60552^60554^60552^60551^60553^60553^60551^60552^60554"},{"$f":"'11'!BF273","v":"4^2^3^5^6^1^7^101^102^104^105^6^4^1^5^7^6^4^2^3^5^7^8^4^2^1^3^5^9^6^4^2^1^3^5^7^8^6^4^2^3^5^7^9"},{"$f":"'11'!BF286","v":"3^3^3^3^5^5^5^8^8^8^8^12^12^12^12^12^18^18^18^18^18^18^25^25^25^25^25^25^25^35^35^35^35^35^35^35^45^45^45^45^45^45^45^45"},0,1,0,"20004^21055",0,1,"130003^2|130004^2|130005^1",8,60555,100,10]
[5601,{"$f":"'12'!P14","v":"60561^60562^60561^60562^60563^60561^60562^60563^60564^60561^60562^60565^60564^60561^60562^60563^60561^60562^60564^60561^60562^60563^60564^60561^60562^60565^60562"},{"$f":"'12'!P41","v":"0^0^0^0^0^0^0^0^0^0^0^100^0^0^0^0^0^0^0^0^0^0^0^0^0^100^0"},{"$f":"'12'!P55","v":"9^3^8^3^2^7^3^2^2^12^3^8^2^12^3^2^12^3^2^12^2^2^2^13^4^8^4"},11,3,0,"20004^21056",4,0,"130003^2|130004^2|130005^1","7^10^15","60565^60565^60565","100^100^100","8^12^15"]
[5602,{"$f":"'12'!AD14","v":"60564^60562^60562^60564^60563^60563^60563^60561^60561^60561^60561^60561^60565^60565^60565^60565^60565^60562^60561^60563^60562^60563^60561^60562^60564^60562^60561^60563^60561^60562^60564^60562^60561^60563^60564^60563^60561^60562^60564^60562^60561^60563^60563^60561^60562^60564"},{"$f":"'12'!AD41","v":"4^2^3^5^4^1^5^6^4^1^5^7^101^102^103^104^105^6^4^2^1^3^5^7^8^6^4^1^5^7^9^6^4^2^1^3^5^7^8^6^4^2^3^5^7^9"},{"$f":"'12'!AD54","v":"5^5^5^5^10^10^10^15^15^15^15^15^20^20^20^20^20^27^27^27^27^27^27^27^35^35^35^35^35^35^35^45^45^45^45^45^45^45^55^55^55^55^55^55^55^55"},0,1,0,"20004^21056",3,0,"130003^2|130004^2|130005^1","7^10^15","60565^60565^60565","100^100^100","8^12^15"]
[5603,{"$f":"'12'!AR14","v":"60565^60564^60563^60561^60562^60561^60564^60561^60562^60563^60561^60562^60564^60565^60563^60564^60561^60562^60561^60562^60563^60564"},{"$f":"'12'!AR41","v":"100^0^0^0^0^0^0^0^0^0^0^0^0^100^0^0^0^0^0^0^0^0"},{"$f":"'12'!AR54","v":"16^6^4^9^4^12^2^10^3^2^11^3^2^8^3^2^12^3^10^3^2^2"},11,3,0,"20004^21056",3,0,"130003^2|130004^2|130005^1","6^10","60565^60565","100^100","8^12"]
[5604,{"$f":"'12'!BF14","v":"60563^60563^60562^60562^60562^60564^60564^60561^60561^60561^60561^60565^60565^60565^60565^60564^60562^60563^60563^60562^60564^60562^60562^60561^60564^60561^60562^60562^60562^60562^60561^60561^60561^60561^60562^60562"},{"$f":"'12'!BF41","v":"2^3^4^1^5^2^3^6^4^5^7^101^102^104^105^6^4^2^3^5^7^6^4^2^1^3^5^7^8^6^4^2^3^5^7^9"},{"$f":"'12'!BF54","v":"2^2^4^4^4^6^6^8^8^8^8^10^10^10^10^17^17^17^17^17^17^25^25^25^25^25^25^25^35^35^35^35^35^35^35^35"},0,1,0,"20004^21056",0,1,"130003^2|130004^2|130005^1",8,60565,100,10]
[5701,{"$f":"'12'!P72","v":"60574^60572^60572^60572^60574^60571^60571^60571^60571^60571^60574^60572^60573^60572^60573^60572^60574^60575^60575^60575^60575^60575^60572^60571^60571^60572^60571^60571^60572^60574^60572^60571^60573^60572^60573^60571^60572^60574^60572^60572^60571^60571^60571^60572^60572^60575^60575^60575^60575^60575^60572^60571^60571^60574^60571^60571^60572^60574^60572^60571^60573^60572^60573^60571^60572^60574"},{"$f":"'12'!P99","v":"4^2^1^3^5^6^4^1^5^7^6^4^2^1^3^5^7^101^102^103^104^105^6^4^2^1^3^5^7^8^6^4^2^1^3^5^7^9^6^4^2^1^3^5^7^101^102^103^104^105^6^4^2^1^3^5^7^8^6^4^2^1^3^5^7^9"},{"$f":"'12'!P113","v":"5^5^5^5^5^10^10^10^10^10^17^17^17^17^17^17^17^25^25^25^25^25^35^35^35^35^35^35^35^45^45^45^45^45^45^45^45^45^55^55^55^55^55^55^55^60^60^60^60^60^70^70^70^70^70^70^70^80^80^80^80^80^80^80^80^80"},0,1,0,"20004^21057",4,0,"130003^2|130004^2|130005^1","7^10^15","60575^60575^60575","100^100^100","8^12^15"]
[5702,{"$f":"'12'!AD72","v":"60575^60574^60572^60571^60572^60571^60573^60571^60573^60574^60571^60572^60571^60572^60573^60574^60571^60572^60574^60575^60572"},{"$f":"'12'!AD99","v":"100^0^0^0^0^0^0^0^0^0^0^0^0^0^0^0^0^0^0^100^0"},{"$f":"'12'!AD112","v":"13^6^6^9^4^11^3^10^2^2^12^4^10^3^2^2^12^3^2^8^4"},10,3,0,"20004^21057",3,0,"130003^2|130004^2|130005^1","7^10^15","60575^60575^60575","100^100^100","8^12^15"]
[5703,{"$f":"'12'!AR72","v":"60571^60573^60571^60572^60574^60571^60572^60575^60573^60571^60572^60574^60571^60573^60574^60571^60572^60571^60572^60573^60574"},{"$f":"'12'!AR99","v":"0^0^0^0^0^0^0^100^0^0^0^0^0^0^0^0^0^0^0^0^0"},{"$f":"'12'!AR112","v":"19^5^8^3^2^10^4^8^3^11^3^2^12^3^2^12^4^10^3^2^2"},10,3,0,"20004^21057",3,0,"130003^2|130004^2|130005^1","6^10","60575^60575","100^100","8^12"]
[5704,{"$f":"'12'!BF72","v":"60571^60571^60571^60571^60572^60572^60572^60574^60574^60575^60575^60575^60575^60573^60573^60573^60574^60571^60571^60571^60571^60574^60572^60572^60572^60572^60572^60572^60572^60571^60573^60573^60571^60572^60572"},{"$f":"'12'!BF99","v":"4^2^3^5^4^1^5^2^3^101^102^104^105^4^1^5^6^4^2^3^5^7^6^4^1^5^7^8^6^4^2^3^5^7^9"},{"$f":"'12'!BF112","v":"2^2^2^2^4^4^4^6^6^8^8^8^8^10^10^10^17^17^17^17^17^17^25^25^25^25^25^35^35^35^35^35^35^35^35"},0,1,0,"20004^21057",0,1,"130003^2|130004^2|130005^1",8,60575,100,10]
[5801,{"$f":"'12'!P130","v":"60581^60581^60581^60581^60581^60584^60582^60582^60582^60584^60582^60581^60583^60583^60583^60581^60582^60582^60581^60581^60584^60581^60581^60582^60584^60582^60583^60582^60583^60582^60584^60585^60585^60585^60585^60585^60581^60581^60582^60582^60582^60581^60581^60584^60582^60581^60583^60581^60583^60581^60582^60584^60582^60581^60583^60583^60583^60581^60582^60585^60585^60585^60585^60585"},{"$f":"'12'!P157","v":"4^2^1^3^5^6^2^1^3^7^8^4^2^1^3^5^9^6^4^2^1^3^5^7^8^6^2^1^3^7^9^101^102^103^104^105^8^6^4^1^5^7^9^8^6^4^2^1^3^5^7^9^6^4^2^1^3^5^7^101^102^103^104^105"},{"$f":"'12'!P171","v":"5^5^5^5^5^10^10^10^10^10^17^17^17^17^17^17^17^25^25^25^25^25^25^25^35^35^35^35^35^35^35^40^40^40^40^40^50^50^50^50^50^50^50^60^60^60^60^60^60^60^60^60^70^70^70^70^70^70^70^75^75^75^75^75"},0,1,0,"20004^21058",4,0,"130003^2|130004^2|130005^1","7^10^15","60585^60585^60585","100^100^100","8^12^15"]
[5802,{"$f":"'12'!AD130","v":"60581^60582^60584^60581^60583^60581^60582^60585^60582^60581^60582^60584^60581^60583^60582^60584^60581^60582^60584^60585^60582^60584"},{"$f":"'12'!AD157","v":"0^0^0^0^0^0^0^100^0^0^0^0^0^0^0^0^0^0^0^100^0^0"},{"$f":"'12'!AD170","v":"18^6^5^12^3^12^4^8^5^13^3^2^12^2^3^2^13^4^2^8^4^2"},9,3,0,"20004^21058",3,0,"130003^2|130004^2|130005^1","7^10^15","60585^60585^60585","100^100^100","8^12^15"]
[5803,{"$f":"'12'!AR130","v":"60583^60582^60583^60582^60583^60584^60581^60582^60581^60582^60581^60584^60585^60585^60585^60585^60585^60582^60581^60583^60582^60583^60581^60582^60584^60582^60583^60581^60581^60581^60583^60582^60584^60581^60581^60582^60584^60582^60584^60582^60581^60581^60582^60581^60583^60584^60583^60581^60582^60585^60585^60585^60585^60585"},{"$f":"'12'!AR157","v":"4^2^1^3^5^6^4^2^1^3^5^7^101^102^103^104^105^6^4^2^1^3^5^7^8^6^4^2^1^3^5^7^9^8^6^4^2^1^3^5^7^9^6^4^2^1^3^5^7^101^102^103^104^105"},{"$f":"'12'!AR170","v":"3^3^3^3^3^5^5^5^5^5^5^5^10^10^10^10^10^17^17^17^17^17^17^17^25^25^25^25^25^25^25^25^25^35^35^35^35^35^35^35^35^35^45^45^45^45^45^45^45^50^50^50^50^50"},0,1,0,"20004^21058",3,0,"130003^2|130004^2|130005^1","6^10","60585^60585","100^100","8^12"]
[5804,{"$f":"'12'!BF130","v":"60585^60585^60585^60582^60582^60582^60584^60583^60584^60581^60581^60581^60581^60582^60581^60583^60583^60581^60582^60584^60581^60582^60582^60582^60581^60584^60582^60581^60583^60584^60583^60581^60582^60582^60582^60581^60583^60581^60582^60582"},{"$f":"'12'!BF157","v":"101^103^105^2^1^3^6^1^7^4^2^3^5^6^4^2^3^5^7^8^4^2^1^3^5^9^6^4^2^1^3^5^7^8^4^2^1^3^5^9"},{"$f":"'12'!BF170","v":"3^3^3^5^5^5^8^8^8^12^12^12^12^20^20^20^20^20^20^30^30^30^30^30^30^30^40^40^40^40^40^40^40^50^50^50^50^50^50^50"},0,1,0,"20004^21058",0,1,"130003^2|130004^2|130005^1",8,60585,100,10]
[5901,{"$f":"'12'!P188","v":"60591^60592^60594|60591^60593|60591^60592^60593^60594|60591^60592|60595^60592|60591^60592^60593^60594|60591^60592^60593|60591^60592^60594|60595^60593^60594|60591^60592^60593"},{"$f":"'12'!P215","v":"0^0^0|0^0|0^0^0^0|0^0|100^0|0^0^0^0|0^0^0|0^0^0|100^0^0|0^0^0"},{"$f":"'12'!P229","v":"8^3^2|11^3|9^2^3^2|12^3|8^4|9^3^3^2|13^2^3|14^3^2|8^3^2|15^2^3"},9,3,0,"20004^21059",4,0,"130003^2|130004^2|130005^1","7^10^15","60595^60595^60595","100^100^100","8^12^15"]
[5902,{"$f":"'12'!AD188","v":"60594^60591^60591^60591^60594^60592^60593^60591^60592^60591^60593^60592^60595^60595^60595^60595^60595^60594^60593^60592^60593^60592^60593^60594^60594^60592^60591^60592^60591^60592^60594^60592^60591^60593^60592^60593^60591^60592^60594^60592^60591^60591^60592^60591^60591^60592^60594^60595^60595^60595^60595^60595"},{"$f":"'12'!AD215","v":"4^2^1^3^5^6^4^2^1^3^5^7^101^102^103^104^105^6^4^2^1^3^5^7^8^4^2^1^3^5^9^8^4^2^1^3^5^9^8^6^4^2^1^3^5^7^9^101^102^103^104^105"},{"$f":"'12'!AD228","v":"5^5^5^5^5^10^10^10^10^10^10^10^15^15^15^15^15^22^22^22^22^22^22^22^30^30^30^30^30^30^30^40^40^40^40^40^40^40^50^50^50^50^50^50^50^50^50^55^55^55^55^55"},0,1,0,"20004^21059",3,0,"130003^2|130004^2|130005^1","7^10^15","60595^60595^60595","100^100^100","8^12^15"]
[5903,{"$f":"'12'!AR188","v":"60595^60591^60592^60591^60592^60594^60591^60593^60591^60592^60593^60591^60592^60594^60591^60592^60593^60595^60592^60591^60592^60593^60594"},{"$f":"'12'!AR215","v":"100^0^0^0^0^0^0^0^0^0^0^0^0^0^0^0^0^100^0^0^0^0^0"},{"$f":"'12'!AR228","v":"12^6^4^10^3^2^12^3^12^3^2^13^3^2^14^2^4^8^4^14^2^3^2"},9,3,0,"20004^21059",3,0,"130003^2|130004^2|130005^1","6^10","60595^60595","100^100","8^12"]
[5904,{"$f":"'12'!BF188","v":"60593^60593^60593^60592^60592^60592^60594^60594^60591^60591^60591^60591^60595^60595^60595^60595^60594^60592^60593^60593^60592^60594^60592^60591^60591^60594^60591^60591^60592^60592^60594^60592^60593^60593^60592^60594^60592"},{"$f":"'12'!BF215","v":"4^1^5^6^1^7^2^3^4^2^3^5^101^102^104^105^8^6^2^3^7^9^6^4^2^1^3^5^7^8^6^4^2^3^5^7^9"},{"$f":"'12'!BF228","v":"3^3^3^5^5^5^8^8^12^12^12^12^17^17^17^17^25^25^25^25^25^25^35^35^35^35^35^35^35^45^45^45^45^45^45^45^45"},0,1,0,"20004^21059",0,1,"130003^2|130004^2|130005^1",8,60595,100,10]
[6001,{"$f":"'12'!P246","v":"60604^60601^60601^60601^60604^60601^60602^60602^60602^60602^60601^60602^60601^60603^60603^60603^60601^60602^60605^60605^60605^60605^60605^60604^60602^60602^60601^60601^60601^60602^60602^60604^60604^60602^60603^60602^60603^60602^60604^60602^60601^60601^60601^60602^60601^60601^60601^60602^60604^60602^60603^60602^60603^60602^60604^60605^60605^60605^60605^60605^60602^60602^60603^60603^60604^60603^60604^60602^60602"},{"$f":"'12'!P273","v":"6^2^1^3^7^6^4^2^3^5^7^8^6^2^1^3^7^9^101^102^103^104^105^8^6^4^2^1^3^5^7^9^8^4^2^1^3^5^9^8^6^4^2^1^3^5^7^9^6^4^2^1^3^5^7^101^102^103^104^105^8^6^4^2^1^3^5^7^9"},{"$f":"'12'!P287","v":"5^5^5^5^5^15^15^15^15^15^15^30^30^30^30^30^30^30^35^35^35^35^35^50^50^50^50^50^50^50^50^50^66^66^66^66^66^66^66^83^83^83^83^83^83^83^83^83^100^100^100^100^100^100^100^105^105^105^105^105^120^120^120^120^120^120^120^120^120"},0,1,0,"20004^21060",4,0,"130003^2|130004^2|130005^1","7^10^15","60605^60605^60605","100^100^100","8^12^15"]
[6002,{"$f":"'12'!AD246","v":"60605^60605^60605^60605^60602^60602^60602^60602^60604^60603^60603^60603^60604^60604^60602^60601^60601^60602^60604^60602^60602^60603^60604^60603^60602^60602^60602^60601^60603^60602^60603^60601^60602^60605^60605^60605^60605^60605^60604^60602^60606^60602^60604"},{"$f":"'12'!AD273","v":"101^102^104^105^6^1^3^7^6^2^1^3^7^8^4^2^3^5^9^6^4^2^1^3^5^7^8^4^2^1^3^5^9^101^102^103^104^105^6^4^1^5^7"},{"$f":"'12'!AD286","v":"5^5^5^5^10^10^10^10^15^15^15^15^15^22^22^22^22^22^22^30^30^30^30^30^30^30^40^40^40^40^40^40^40^45^45^45^45^45^55^55^55^55^55"},0,1,0,"20004^21060",3,0,"130003^2|130004^2|130005^1","7^10^15","60605^60605^60605","100^100^100","8^12^15"]
[6003,{"$f":"'12'!AR246","v":"60601^60602^60604^60601^60603^60605^60602^60604^60603^60602^60604^60601^60602^60605^60601^60603^60601^60602^60603^60604^60601^60602"},{"$f":"'12'!AR273","v":"0^0^0^0^0^100^0^0^0^0^0^0^0^100^0^0^0^0^0^0^0^0"},{"$f":"'12'!AR286","v":"18^6^3^13^3^8^3^2^3^4^3^14^3^6^2^8^12^3^2^2^15^4"},8,3,0,"20004^21060",3,0,"130003^2|130004^2|130005^1","6^10","60605^60605","100^100","8^12"]
[6004,{"$f":"'12'!BF246","v":"60604^60603^60603^60604^60602^60602^60602^60605^60605^60605^60605^60601^60601^60601^60601^60601^60604^60602^60603^60603^60602^60604^60602^60601^60601^60604^60601^60601^60602^60602^60601^60601^60603^60601^60601^60602^60604^60602^60601^60603^60603^60601^60602^60604"},{"$f":"'12'!BF273","v":"4^2^3^5^6^1^7^101^102^104^105^6^4^1^5^7^6^4^2^3^5^7^8^4^2^1^3^5^9^6^4^2^1^3^5^7^8^6^4^2^3^5^7^9"},{"$f":"'12'!BF286","v":"3^3^3^3^5^5^5^8^8^8^8^12^12^12^12^12^18^18^18^18^18^18^25^25^25^25^25^25^25^35^35^35^35^35^35^35^45^45^45^45^45^45^45^45"},0,1,0,"20004^21060",0,1,"130003^2|130004^2|130005^1",8,60605,100,10]
[6101,{"$f":"'13'!P14","v":"60611^60612^60611^60612^60613^60611^60612^60613^60614^60611^60612^60615^60614^60611^60612^60613^60611^60612^60614^60611^60612^60613^60614^60611^60612^60615^60612"},{"$f":"'13'!P41","v":"0^0^0^0^0^0^0^0^0^0^0^100^0^0^0^0^0^0^0^0^0^0^0^0^0^100^0"},{"$f":"'13'!P55","v":"8^4^8^2^3^7^3^2^2^12^3^8^2^12^3^2^12^3^2^12^2^2^2^13^4^8^4"},11,3,0,"20004^21061",4,0,"130003^2|130004^2|130005^2","7^10^15","60615^60615^60615","100^100^100","8^12^15"]
[6102,{"$f":"'13'!AD14","v":"60614^60612^60612^60612^60614^60613^60613^60613^60611^60611^60611^60611^60611^60615^60615^60615^60615^60612^60611^60613^60614^60613^60611^60612^60614^60612^60611^60613^60611^60612^60614^60612^60611^60613^60614^60613^60611^60612^60614^60612^60611^60613^60613^60611^60612^60614"},{"$f":"'13'!AD41","v":"4^2^1^3^5^4^1^5^6^4^1^5^7^101^102^104^105^6^4^2^1^3^5^7^8^6^4^1^5^7^9^6^4^2^1^3^5^7^8^6^4^2^3^5^7^9"},{"$f":"'13'!AD54","v":"5^5^5^5^5^10^10^10^15^15^15^15^15^20^20^20^20^27^27^27^27^27^27^27^35^35^35^35^35^35^35^45^45^45^45^45^45^45^55^55^55^55^55^55^55^55"},0,1,0,"20004^21061",3,0,"130003^2|130004^2|130005^2","7^10^15","60615^60615^60615","100^100^100","8^12^15"]
[6103,{"$f":"'13'!AR14","v":"60615^60614^60612^60611^60612^60611^60614^60611^60612^60613^60611^60612^60614^60615^60613^60614^60611^60612^60611^60612^60613^60614"},{"$f":"'13'!AR41","v":"100^0^0^0^0^0^0^0^0^0^0^0^0^100^0^0^0^0^0^0^0^0"},{"$f":"'13'!AR54","v":"14^5^4^9^4^12^2^10^3^2^11^3^2^8^3^2^12^3^10^3^2^2"},10,3,0,"20004^21061",3,0,"130003^2|130004^2|130005^2","6^10","60615^60615","100^100","8^12"]
[6104,{"$f":"'13'!BF14","v":"60613^60613^60612^60612^60612^60614^60614^60611^60611^60611^60611^60615^60615^60615^60615^60614^60612^60613^60613^60612^60614^60612^60612^60611^60614^60611^60612^60612^60612^60612^60611^60611^60611^60611^60612^60612"},{"$f":"'13'!BF41","v":"2^3^4^1^5^2^3^6^4^5^7^101^102^104^105^6^4^2^3^5^7^6^4^2^1^3^5^7^8^6^4^2^3^5^7^9"},{"$f":"'13'!BF54","v":"2^2^4^4^4^6^6^8^8^8^8^10^10^10^10^17^17^17^17^17^17^25^25^25^25^25^25^25^35^35^35^35^35^35^35^35"},0,1,0,"20004^21061",0,1,"130003^2|130004^2|130005^2",8,60615,100,10]
[6201,{"$f":"'13'!P72","v":"60624^60622^60622^60622^60624^60621^60621^60621^60621^60621^60624^60622^60623^60622^60623^60622^60624^60625^60625^60625^60625^60625^60622^60621^60621^60622^60621^60621^60622^60624^60622^60621^60623^60623^60623^60621^60622^60624^60622^60622^60621^60621^60621^60622^60622^60625^60625^60625^60625^60625^60622^60621^60621^60624^60621^60621^60622^60624^60622^60621^60623^60622^60623^60621^60622^60624"},{"$f":"'13'!P99","v":"4^2^1^3^5^6^4^1^5^7^6^4^2^1^3^5^7^101^102^103^104^105^6^4^2^1^3^5^7^8^6^4^2^1^3^5^7^9^6^4^2^1^3^5^7^101^102^103^104^105^6^4^2^1^3^5^7^8^6^4^2^1^3^5^7^9"},{"$f":"'13'!P113","v":"5^5^5^5^5^10^10^10^10^10^16^16^16^16^16^16^16^20^20^20^20^20^30^30^30^30^30^30^30^40^40^40^40^40^40^40^40^40^50^50^50^50^50^50^50^55^55^55^55^55^65^65^65^65^65^65^65^75^75^75^75^75^75^75^75^75"},0,1,0,"20004^21062",4,0,"130003^2|130004^2|130005^2","7^10^15","60625^60625^60625","100^100^100","8^12^15"]
[6202,{"$f":"'13'!AD72","v":"60625^60624^60622^60621^60622^60621^60623^60621^60623^60624^60621^60622^60621^60622^60623^60624^60621^60622^60624^60625^60622"},{"$f":"'13'!AD99","v":"100^0^0^0^0^0^0^0^0^0^0^0^0^0^0^0^0^0^0^100^0"},{"$f":"'13'!AD112","v":"14^4^4^9^4^11^2^10^2^2^12^4^10^3^2^2^12^3^2^8^4"},11,3,0,"20004^21062",3,0,"130003^2|130004^2|130005^2","7^10^15","60625^60625^60625","100^100^100","8^12^15"]
[6203,{"$f":"'13'!AR72","v":"60621^60623^60621^60622^60624^60621^60622^60625^60623^60621^60622^60624^60621^60623^60624^60621^60622^60621^60622^60623^60624"},{"$f":"'13'!AR99","v":"0^0^0^0^0^0^0^100^0^0^0^0^0^0^0^0^0^0^0^0^0"},{"$f":"'13'!AR112","v":"18^5^8^3^2^10^4^8^3^11^3^2^12^3^2^12^4^10^3^2^2"},10,3,0,"20004^21062",3,0,"130003^2|130004^2|130005^2","6^10","60625^60625","100^100","8^12"]
[6204,{"$f":"'13'!BF72","v":"60621^60621^60621^60621^60622^60622^60622^60624^60624^60625^60625^60625^60625^60623^60623^60623^60624^60621^60621^60621^60621^60624^60622^60622^60622^60622^60622^60622^60622^60621^60623^60623^60621^60622^60622"},{"$f":"'13'!BF99","v":"4^2^3^5^4^1^5^2^3^101^102^104^105^4^1^5^6^4^2^3^5^7^6^4^1^5^7^8^6^4^2^3^5^7^9"},{"$f":"'13'!BF112","v":"2^2^2^2^4^4^4^6^6^8^8^8^8^10^10^10^17^17^17^17^17^17^25^25^25^25^25^35^35^35^35^35^35^35^35"},0,1,0,"20004^21062",0,1,"130003^2|130004^2|130005^2",8,60625,100,10]
[6301,{"$f":"'13'!P130","v":"60631^60631^60631^60631^60631^60634^60632^60632^60632^60634^60632^60631^60633^60634^60633^60631^60632^60632^60631^60631^60634^60631^60631^60632^60634^60632^60633^60632^60633^60632^60634^60635^60635^60635^60635^60635^60631^60631^60632^60632^60632^60631^60631^60634^60632^60631^60633^60631^60633^60631^60632^60634^60632^60631^60633^60633^60633^60631^60632^60635^60635^60635^60635^60635"},{"$f":"'13'!P157","v":"4^2^1^3^5^6^2^1^3^7^8^4^2^1^3^5^9^6^4^2^1^3^5^7^8^6^2^1^3^7^9^101^102^103^104^105^8^6^4^1^5^7^9^8^6^4^2^1^3^5^7^9^6^4^2^1^3^5^7^101^102^103^104^105"},{"$f":"'13'!P171","v":"5^5^5^5^5^10^10^10^10^10^17^17^17^17^17^17^17^25^25^25^25^25^25^25^35^35^35^35^35^35^35^40^40^40^40^40^50^50^50^50^50^50^50^60^60^60^60^60^60^60^60^60^70^70^70^70^70^70^70^75^75^75^75^75"},0,1,0,"20004^21063",4,0,"130003^2|130004^2|130005^2","7^10^15","60635^60635^60635","100^100^100","8^12^15"]
[6302,{"$f":"'13'!AD130","v":"60631^60632^60634^60631^60633^60631^60632^60635^60632^60631^60632^60634^60631^60633^60632^60634^60631^60632^60634^60635^60632^60634"},{"$f":"'13'!AD157","v":"0^0^0^0^0^0^0^100^0^0^0^0^0^0^0^0^0^0^0^100^0^0"},{"$f":"'13'!AD170","v":"17^5^4^12^3^12^4^8^5^13^3^2^12^2^3^2^13^4^2^8^4^2"},10,3,0,"20004^21063",3,0,"130003^2|130004^2|130005^2","7^10^15","60635^60635^60635","100^100^100","8^12^15"]
[6303,{"$f":"'13'!AR130","v":"60633^60632^60633^60632^60633^60634^60631^60632^60631^60632^60631^60634^60635^60635^60635^60635^60635^60632^60631^60633^60634^60633^60631^60632^60634^60632^60633^60631^60631^60631^60633^60632^60634^60631^60631^60632^60634^60632^60634^60632^60631^60631^60632^60631^60633^60634^60633^60631^60632^60635^60635^60635^60635^60635"},{"$f":"'13'!AR157","v":"4^2^1^3^5^6^4^2^1^3^5^7^101^102^103^104^105^6^4^2^1^3^5^7^8^6^4^2^1^3^5^7^9^8^6^4^2^1^3^5^7^9^6^4^2^1^3^5^7^101^102^103^104^105"},{"$f":"'13'!AR170","v":"4^4^4^4^4^10^10^10^10^10^10^10^15^15^15^15^15^22^22^22^22^22^22^22^30^30^30^30^30^30^30^30^30^40^40^40^40^40^40^40^40^40^50^50^50^50^50^50^50^55^55^55^55^55"},0,1,0,"20004^21063",3,0,"130003^2|130004^2|130005^2","6^10","60635^60635","100^100","8^12"]
[6304,{"$f":"'13'!BF130","v":"60635^60635^60635^60632^60632^60632^60634^60633^60634^60631^60631^60631^60631^60632^60631^60633^60633^60631^60632^60634^60631^60632^60632^60632^60631^60634^60632^60631^60633^60634^60633^60631^60632^60632^60632^60631^60633^60631^60632^60632"},{"$f":"'13'!BF157","v":"101^103^105^2^1^3^6^1^7^4^2^3^5^6^4^2^3^5^7^8^4^2^1^3^5^9^6^4^2^1^3^5^7^8^4^2^1^3^5^9"},{"$f":"'13'!BF170","v":"3^3^3^5^5^5^8^8^8^12^12^12^12^20^20^20^20^20^20^30^30^30^30^30^30^30^40^40^40^40^40^40^40^50^50^50^50^50^50^50"},0,1,0,"20004^21063",0,1,"130003^2|130004^2|130005^2",8,60635,100,10]
[6401,{"$f":"'13'!P188","v":"60641^60642^60644^60641^60643^60641^60643^60642^60644^60641^60642^60645^60642^60641^60642^60643^60644^60641^60643^60642^60641^60642^60644^60645^60643^60644^60641^60643^60642"},{"$f":"'13'!P215","v":"0^0^0^0^0^0^0^0^0^0^0^100^0^0^0^0^0^0^0^0^0^0^0^100^0^0^0^0^0"},{"$f":"'13'!P229","v":"8^3^2^11^3^9^2^3^2^12^3^8^4^9^3^3^2^13^2^3^14^3^2^8^3^2^15^2^3"},10,3,0,"20004^21064",4,0,"130003^2|130004^2|130005^2","7^10^15","60645^60645^60645","100^100^100","8^12^15"]
[6402,{"$f":"'13'!AD188","v":"60644^60641^60641^60641^60644^60642^60642^60641^60643^60641^60642^60642^60645^60645^60645^60645^60645^60642^60643^60644^60643^60644^60643^60642^60644^60642^60641^60643^60641^60642^60644^60642^60641^60643^60642^60643^60641^60642^60644^60642^60641^60641^60642^60641^60641^60642^60644^60645^60645^60645^60645^60645"},{"$f":"'13'!AD215","v":"4^2^1^3^5^6^4^2^1^3^5^7^101^102^103^104^105^6^4^2^1^3^5^7^8^4^2^1^3^5^9^8^4^2^1^3^5^9^8^6^4^2^1^3^5^7^9^101^102^103^104^105"},{"$f":"'13'!AD228","v":"5^5^5^5^5^10^10^10^10^10^10^10^15^15^15^15^15^22^22^22^22^22^22^22^30^30^30^30^30^30^30^40^40^40^40^40^40^40^50^50^50^50^50^50^50^50^50^55^55^55^55^55"},0,1,0,"20004^21064",3,0,"130003^2|130004^2|130005^2","7^10^15","60645^60645^60645","100^100^100","8^12^15"]
[6403,{"$f":"'13'!AR188","v":"60645^60641^60642^60641^60642^60644^60641^60643^60641^60642^60643^60641^60642^60644^60641^60643^60642^60645^60642^60641^60643^60642^60644"},{"$f":"'13'!AR215","v":"100^0^0^0^0^0^0^0^0^0^0^0^0^0^0^0^0^100^0^0^0^0^0"},{"$f":"'13'!AR228","v":"12^8^4^10^4^2^12^3^12^3^2^13^3^2^14^2^4^8^4^14^2^3^2"},9,3,0,"20004^21064",3,0,"130003^2|130004^2|130005^2","6^10","60645^60645","100^100","8^12"]
[6404,{"$f":"'13'!BF188","v":"60643^60643^60643^60642^60642^60642^60644^60644^60641^60641^60641^60641^60645^60645^60645^60645^60644^60642^60643^60643^60642^60644^60642^60641^60641^60644^60641^60641^60642^60642^60644^60642^60643^60643^60642^60644^60642"},{"$f":"'13'!BF215","v":"4^1^5^6^1^7^2^3^4^2^3^5^101^102^104^105^8^6^2^3^7^9^6^4^2^1^3^5^7^8^6^4^2^3^5^7^9"},{"$f":"'13'!BF228","v":"3^3^3^5^5^5^8^8^12^12^12^12^18^18^18^18^25^25^25^25^25^25^35^35^35^35^35^35^35^45^45^45^45^45^45^45^45"},0,1,0,"20004^21064",0,1,"130003^2|130004^2|130005^2",8,60645,100,10]
[6501,{"$f":"'13'!P246","v":"60654^60651^60651^60651^60654^60651^60652^60652^60652^60652^60651^60652^60651^60653^60654^60653^60651^60652^60655^60655^60655^60655^60655^60654^60652^60652^60651^60651^60651^60652^60652^60654^60654^60652^60653^60652^60653^60652^60654^60652^60651^60651^60651^60652^60651^60651^60651^60652^60654^60652^60653^60652^60653^60652^60654^60655^60655^60655^60655^60655^60652^60652^60653^60653^60654^60653^60654^60652^60652"},{"$f":"'13'!P273","v":"6^2^1^3^7^6^4^2^3^5^7^8^6^2^1^3^7^9^101^102^103^104^105^8^6^4^2^1^3^5^7^9^8^4^2^1^3^5^9^8^6^4^2^1^3^5^7^9^6^4^2^1^3^5^7^101^102^103^104^105^8^6^4^2^1^3^5^7^9"},{"$f":"'13'!P287","v":"5^5^5^5^5^10^10^10^10^10^10^16^16^16^16^16^16^16^20^20^20^20^20^27^27^27^27^27^27^27^27^27^35^35^35^35^35^35^35^45^45^45^45^45^45^45^45^45^55^55^55^55^55^55^55^60^60^60^60^60^70^70^70^70^70^70^70^70^70"},0,1,0,"20004^21065",4,0,"130003^2|130004^2|130005^2","7^10^15","60655^60655^60655","100^100^100","8^12^15"]
[6502,{"$f":"'13'!AD246","v":"60655^60655^60655^60655^60652^60652^60652^60652^60654^60653^60653^60653^60654^60654^60652^60651^60652^60651^60652^60654^60652^60652^60653^60654^60653^60652^60652^60652^60651^60653^60654^60653^60651^60652^60655^60655^60655^60655^60655^60654^60652^60652^60656^60652^60652^60654"},{"$f":"'13'!AD273","v":"101^102^104^105^6^1^3^7^6^2^1^3^7^8^4^2^1^3^5^9^6^4^2^1^3^5^7^8^4^2^1^3^5^9^101^102^103^104^105^6^4^2^1^3^5^7"},{"$f":"'13'!AD286","v":"5^5^5^5^10^10^10^10^15^15^15^15^15^22^22^22^22^22^22^22^30^30^30^30^30^30^30^40^40^40^40^40^40^40^45^45^45^45^45^55^55^55^55^55^55^55"},0,1,0,"20004^21065",3,0,"130003^2|130004^2|130005^2","7^10^15","60655^60655^60655","100^100^100","8^12^15"]
[6503,{"$f":"'13'!AR246","v":"60651^60652^60654^60651^60653^60655^60652^60654^60653^60652^60654^60651^60652^60655^60653^60651^60651^60652^60653^60654^60651^60652"},{"$f":"'13'!AR273","v":"0^0^0^0^0^100^0^0^0^0^0^0^0^100^0^0^0^0^0^0^0^0"},{"$f":"'13'!AR286","v":"18^4^3^13^3^8^3^2^3^4^3^14^3^6^2^8^12^3^2^2^15^4"},9,3,0,"20004^21065",3,0,"130003^2|130004^2|130005^2","6^10","60655^60655","100^100","8^12"]
[6504,{"$f":"'13'!BF246","v":"60654^60653^60653^60654^60652^60652^60652^60652^60655^60655^60655^60655^60651^60651^60651^60651^60651^60654^60652^60653^60653^60652^60654^60652^60651^60651^60654^60651^60651^60652^60652^60651^60651^60653^60651^60651^60652^60654^60652^60651^60653^60653^60651^60652^60654"},{"$f":"'13'!BF273","v":"4^2^3^5^6^4^5^7^101^102^104^105^6^4^1^5^7^6^4^2^3^5^7^8^4^2^1^3^5^9^6^4^2^1^3^5^7^8^6^4^2^3^5^7^9"},{"$f":"'13'!BF286","v":"3^3^3^3^5^5^5^5^8^8^8^8^12^12^12^12^12^18^18^18^18^18^18^25^25^25^25^25^25^25^35^35^35^35^35^35^35^45^45^45^45^45^45^45^45"},0,1,0,"20004^21065",0,1,"130003^2|130004^2|130005^2",8,60655,100,10]
[6601,{"$f":"'14'!P14","v":"60661^60662^60661^60662^60663^60661^60662^60663^60664^60661^60662^60665^60664^60661^60662^60663^60661^60662^60664^60661^60662^60663^60664^60661^60662^60665^60662"},{"$f":"'14'!P41","v":"0^0^0^0^0^0^0^0^0^0^0^100^0^0^0^0^0^0^0^0^0^0^0^0^0^100^0"},{"$f":"'14'!P55","v":"9^4^10^3^3^8^4^2^2^13^4^9^3^12^3^3^13^4^2^12^3^3^2^16^4^9^4"},11,3,0,"20004^21066",4,0,"130003^2|130004^2|130005^2","7^10^15","60665^60665^60665","100^100^100","8^12^15"]
[6602,{"$f":"'14'!AD14","v":"60664^60662^60662^60662^60664^60663^60663^60663^60661^60661^60661^60661^60661^60665^60665^60665^60665^60662^60661^60663^60664^60663^60661^60662^60664^60662^60661^60663^60661^60662^60664^60662^60661^60663^60664^60663^60661^60662^60664^60662^60661^60663^60663^60661^60662^60664"},{"$f":"'14'!AD41","v":"4^2^1^3^5^4^1^5^6^4^1^5^7^101^102^104^105^6^4^2^1^3^5^7^8^6^4^1^5^7^9^6^4^2^1^3^5^7^8^6^4^2^3^5^7^9"},{"$f":"'14'!AD54","v":"5^5^5^5^5^10^10^10^15^15^15^15^15^20^20^20^20^27^27^27^27^27^27^27^35^35^35^35^35^35^35^45^45^45^45^45^45^45^55^55^55^55^55^55^55^55"},0,1,0,"20004^21066",3,0,"130003^2|130004^2|130005^2","7^10^15","60665^60665^60665","100^100^100","8^12^15"]
[6603,{"$f":"'14'!AR14","v":"60665^60664^60663^60661^60662^60661^60664^60661^60662^60663^60661^60662^60664^60665^60663^60664^60661^60662^60661^60662^60663^60664"},{"$f":"'14'!AR41","v":"100^0^0^0^0^0^0^0^0^0^0^0^0^100^0^0^0^0^0^0^0^0"},{"$f":"'14'!AR54","v":"18^6^3^11^4^14^2^12^3^2^14^3^2^9^3^3^15^4^12^3^3^2"},10,3,0,"20004^21066",3,0,"130003^2|130004^2|130005^2","6^10","60665^60665","100^100","8^12"]
[6604,{"$f":"'14'!BF14","v":"60663^60663^60662^60662^60662^60664^60664^60661^60661^60661^60661^60665^60665^60665^60665^60664^60662^60663^60663^60662^60664^60662^60662^60661^60664^60661^60662^60662^60662^60662^60661^60661^60661^60661^60662^60662"},{"$f":"'14'!BF41","v":"2^3^4^1^5^2^3^6^4^5^7^101^102^104^105^6^4^2^3^5^7^6^4^2^1^3^5^7^8^6^4^2^3^5^7^9"},{"$f":"'14'!BF54","v":"2^2^4^4^4^6^6^8^8^8^8^10^10^10^10^17^17^17^17^17^17^25^25^25^25^25^25^25^35^35^35^35^35^35^35^35"},0,1,0,"20004^21066",0,1,"130003^2|130004^2|130005^2",8,60665,100,10]
[6701,{"$f":"'14'!P72","v":"60674^60672^60672^60672^60674^60671^60671^60671^60671^60671^60674^60672^60673^60672^60673^60672^60674^60675^60675^60675^60675^60675^60672^60671^60671^60672^60671^60671^60672^60674^60672^60671^60673^60673^60673^60671^60672^60674^60672^60672^60671^60671^60671^60672^60672^60675^60675^60675^60675^60675^60672^60671^60671^60674^60671^60671^60672^60674^60672^60671^60673^60672^60673^60671^60672^60674"},{"$f":"'14'!P99","v":"4^2^1^3^5^6^4^1^5^7^6^4^2^1^3^5^7^101^102^103^104^105^6^4^2^1^3^5^7^8^6^4^2^1^3^5^7^9^6^4^2^1^3^5^7^101^102^103^104^105^6^4^2^1^3^5^7^8^6^4^2^1^3^5^7^9"},{"$f":"'14'!P113","v":"5^5^5^5^5^10^10^10^10^10^16^16^16^16^16^16^16^20^20^20^20^20^27^27^27^27^27^27^27^35^35^35^35^35^35^35^35^35^45^45^45^45^45^45^45^50^50^50^50^50^60^60^60^60^60^60^60^70^70^70^70^70^70^70^70^70"},0,1,0,"20004^21067",4,0,"130003^2|130004^2|130005^2","7^10^15","60675^60675^60675","100^100^100","8^12^15"]
[6702,{"$f":"'14'!AD72","v":"60675^60674^60672^60671^60672^60671^60673^60671^60673^60674^60671^60672^60671^60672^60673^60674^60671^60672^60674^60675^60672"},{"$f":"'14'!AD99","v":"100^0^0^0^0^0^0^0^0^0^0^0^0^0^0^0^0^0^0^100^0"},{"$f":"'14'!AD112","v":"18^4^6^10^4^12^3^12^3^2^14^4^12^3^2^2^14^4^2^9^4"},11,3,0,"20004^21067",3,0,"130003^2|130004^2|130005^2","7^10^15","60675^60675^60675","100^100^100","8^12^15"]
[6703,{"$f":"'14'!AR72","v":"60671^60673^60671^60672^60674^60671^60672^60675^60673^60671^60672^60674^60671^60673^60674^60671^60672^60671^60672^60673^60674"},{"$f":"'14'!AR99","v":"0^0^0^0^0^0^0^100^0^0^0^0^0^0^0^0^0^0^0^0^0"},{"$f":"'14'!AR112","v":"15^5^10^3^2^12^4^9^3^13^3^2^14^3^2^15^4^14^3^2^2"},10,3,0,"20004^21067",3,0,"130003^2|130004^2|130005^2","6^10","60675^60675","100^100","8^12"]
[6704,{"$f":"'14'!BF72","v":"60671^60671^60671^60671^60672^60672^60672^60674^60674^60675^60675^60675^60675^60673^60673^60673^60674^60671^60671^60671^60671^60674^60672^60672^60672^60672^60672^60672^60672^60671^60673^60673^60671^60672^60672"},{"$f":"'14'!BF99","v":"4^2^3^5^4^1^5^2^3^101^102^104^105^4^1^5^6^4^2^3^5^7^6^4^1^5^7^8^6^4^2^3^5^7^9"},{"$f":"'14'!BF112","v":"2^2^2^2^4^4^4^6^6^8^8^8^8^10^10^10^17^17^17^17^17^17^25^25^25^25^25^35^35^35^35^35^35^35^35"},0,1,0,"20004^21067",0,1,"130003^2|130004^2|130005^2",8,60675,100,10]
[6801,{"$f":"'14'!P130","v":"60681^60681^60681^60681^60681^60684^60682^60682^60682^60684^60682^60681^60683^60684^60683^60681^60682^60682^60681^60681^60684^60681^60681^60682^60684^60682^60683^60682^60683^60682^60684^60685^60685^60685^60685^60685^60681^60681^60682^60682^60682^60681^60681^60684^60682^60681^60683^60683^60681^60682^60684^60682^60681^60683^60683^60683^60681^60682^60685^60685^60685^60685^60685"},{"$f":"'14'!P157","v":"4^2^1^3^5^6^2^1^3^7^8^4^2^1^3^5^9^6^4^2^1^3^5^7^8^6^2^1^3^7^9^101^102^103^104^105^8^6^4^1^5^7^9^8^6^4^2^3^5^7^9^6^4^2^1^3^5^7^101^102^103^104^105"},{"$f":"'14'!P171","v":"5^5^5^5^5^10^10^10^10^10^17^17^17^17^17^17^17^25^25^25^25^25^25^25^35^35^35^35^35^35^35^40^40^40^40^40^50^50^50^50^50^50^50^60^60^60^60^60^60^60^60^70^70^70^70^70^70^70^75^75^75^75^75"},0,1,0,"20004^21068",4,0,"130003^2|130004^2|130005^2","7^10^15","60685^60685^60685","100^100^100","8^12^15"]
[6802,{"$f":"'14'!AD130","v":"60681^60682^60684^60681^60683^60681^60682^60685^60682^60681^60682^60684^60681^60683^60682^60684^60681^60682^60684^60685^60682^60684"},{"$f":"'14'!AD157","v":"0^0^0^0^0^0^0^100^0^0^0^0^0^0^0^0^0^0^0^100^0^0"},{"$f":"'14'!AD170","v":"18^4^4^12^3^13^4^9^5^14^3^2^12^3^3^2^15^4^2^8^4^2"},10,3,0,"20004^21068",3,0,"130003^2|130004^2|130005^2","7^10^15","60685^60685^60685","100^100^100","8^12^15"]
[6803,{"$f":"'14'!AR130","v":"60683^60682^60683^60682^60683^60684^60681^60682^60681^60682^60681^60684^60685^60685^60685^60685^60685^60682^60681^60683^60684^60683^60681^60682^60684^60682^60681^60681^60681^60682^60684^60681^60681^60682^60684^60682^60684^60682^60681^60681^60682^60681^60683^60684^60683^60681^60682^60685^60685^60685^60685^60685"},{"$f":"'14'!AR157","v":"4^2^1^3^5^6^4^2^1^3^5^7^101^102^103^104^105^6^4^2^1^3^5^7^8^6^2^1^3^7^9^8^6^4^2^1^3^5^7^9^6^4^2^1^3^5^7^101^102^103^104^105"},{"$f":"'14'!AR170","v":"4^4^4^4^4^10^10^10^10^10^10^10^15^15^15^15^15^22^22^22^22^22^22^22^30^30^30^30^30^30^30^40^40^40^40^40^40^40^40^40^50^50^50^50^50^50^50^55^55^55^55^55"},0,1,0,"20004^21068",3,0,"130003^2|130004^2|130005^2","6^10","60685^60685","100^100","8^12"]
[6804,{"$f":"'14'!BF130","v":"60685^60685^60685^60682^60682^60682^60684^60683^60684^60681^60681^60681^60681^60682^60681^60683^60683^60681^60682^60684^60681^60682^60682^60682^60681^60684^60682^60681^60683^60684^60683^60681^60682^60682^60682^60681^60683^60681^60682^60682"},{"$f":"'14'!BF157","v":"101^103^105^2^1^3^6^1^7^4^2^3^5^6^4^2^3^5^7^8^4^2^1^3^5^9^6^4^2^1^3^5^7^8^4^2^1^3^5^9"},{"$f":"'14'!BF170","v":"3^3^3^5^5^5^8^8^8^12^12^12^12^18^18^18^18^18^18^25^25^25^25^25^25^25^35^35^35^35^35^35^35^45^45^45^45^45^45^45"},0,1,0,"20004^21068",0,1,"130003^2|130004^2|130005^2",8,60685,100,10]
[6901,{"$f":"'14'!P188","v":"60691^60692^60694^60691^60693^60691^60693^60692^60694^60691^60692^60695^60692^60691^60692^60693^60694^60691^60693^60692^60691^60692^60694^60695^60693^60694^60691^60693^60692"},{"$f":"'14'!P215","v":"0^0^0^0^0^0^0^0^0^0^0^100^0^0^0^0^0^0^0^0^0^0^0^100^0^0^0^0^0"},{"$f":"'14'!P229","v":"8^3^2^13^3^10^2^3^2^12^4^9^4^11^3^3^2^15^2^3^15^4^2^9^3^3^15^3^4"},10,3,0,"20004^21069",4,0,"130003^2|130004^2|130005^2","7^10^15","60695^60695^60695","100^100^100","8^12^15"]
[6902,{"$f":"'14'!AD188","v":"60694^60691^60691^60691^60694^60692^60692^60691^60693^60691^60692^60692^60695^60695^60695^60695^60695^60692^60693^60691^60693^60691^60693^60692^60694^60692^60691^60693^60691^60692^60694^60692^60691^60693^60692^60693^60691^60692^60694^60692^60691^60691^60692^60691^60691^60692^60694^60695^60695^60695^60695^60695"},{"$f":"'14'!AD215","v":"4^2^1^3^5^6^4^2^1^3^5^7^101^102^103^104^105^6^4^2^1^3^5^7^8^4^2^1^3^5^9^8^4^2^1^3^5^9^8^6^4^2^1^3^5^7^9^101^102^103^104^105"},{"$f":"'14'!AD228","v":"5^5^5^5^5^10^10^10^10^10^10^10^15^15^15^15^15^22^22^22^22^22^22^22^30^30^30^30^30^30^30^40^40^40^40^40^40^40^50^50^50^50^50^50^50^50^50^55^55^55^55^55"},0,1,0,"20004^21069",3,0,"130003^2|130004^2|130005^2","7^10^15","60695^60695^60695","100^100^100","8^12^15"]
[6903,{"$f":"'14'!AR188","v":"60695^60691^60692^60691^60692^60694^60691^60693^60691^60692^60693^60691^60692^60694^60691^60693^60692^60695^60692^60691^60693^60692^60694"},{"$f":"'14'!AR215","v":"100^0^0^0^0^0^0^0^0^0^0^0^0^0^0^0^0^100^0^0^0^0^0"},{"$f":"'14'!AR228","v":"14^6^4^10^3^2^12^3^12^3^2^13^3^2^14^2^4^8^4^14^2^3^2"},9,3,0,"20004^21069",3,0,"130003^2|130004^2|130005^2","6^10","60695^60695","100^100","8^12"]
[6904,{"$f":"'14'!BF188","v":"60693^60693^60693^60692^60692^60692^60694^60694^60691^60691^60691^60691^60695^60695^60695^60695^60694^60692^60693^60693^60692^60694^60692^60691^60691^60694^60691^60691^60692^60692^60694^60692^60693^60693^60692^60694^60692"},{"$f":"'14'!BF215","v":"4^1^5^6^1^7^2^3^4^2^3^5^101^102^104^105^8^6^2^3^7^9^6^4^2^1^3^5^7^8^6^4^2^3^5^7^9"},{"$f":"'14'!BF228","v":"3^3^3^5^5^5^8^8^12^12^12^12^18^18^18^18^25^25^25^25^25^25^35^35^35^35^35^35^35^45^45^45^45^45^45^45^45"},0,1,0,"20004^21069",0,1,"130003^2|130004^2|130005^2",8,60695,100,10]
[7001,{"$f":"'14'!P246","v":"60704^60701^60701^60701^60704^60701^60702^60702^60703^60702^60702^60701^60702^60701^60703^60704^60703^60701^60702^60705^60705^60705^60705^60705^60704^60702^60703^60701^60701^60701^60703^60702^60704^60704^60702^60703^60702^60703^60702^60704^60702^60701^60701^60701^60702^60701^60701^60701^60702^60704^60702^60703^60702^60703^60702^60704^60705^60705^60705^60705^60705^60702^60702^60701^60703^60704^60703^60701^60702^60702"},{"$f":"'14'!P273","v":"6^2^1^3^7^8^4^2^1^3^5^9^8^6^2^1^3^7^9^101^102^103^104^105^8^6^4^2^1^3^5^7^9^8^4^2^1^3^5^9^8^6^4^2^1^3^5^7^9^6^4^2^1^3^5^7^101^102^103^104^105^8^6^4^2^1^3^5^7^9"},{"$f":"'14'!P287","v":"5^5^5^5^5^10^10^10^10^10^10^10^16^16^16^16^16^16^16^20^20^20^20^20^27^27^27^27^27^27^27^27^27^35^35^35^35^35^35^35^45^45^45^45^45^45^45^45^45^55^55^55^55^55^55^55^60^60^60^60^60^70^70^70^70^70^70^70^70^70"},0,1,0,"20004^21070",4,0,"130003^2|130004^2|130005^2","7^10^15","60705^60705^60705","100^100^100","8^12^15"]
[7002,{"$f":"'14'!AD246","v":"60705^60705^60705^60705^60702^60702^60702^60702^60704^60703^60703^60703^60704^60704^60702^60701^60702^60701^60702^60704^60702^60702^60703^60704^60703^60702^60702^60702^60701^60703^60704^60703^60701^60702^60705^60705^60705^60705^60705^60704^60702^60702^60706^60702^60702^60704"},{"$f":"'14'!AD273","v":"101^102^104^105^6^1^3^7^6^2^1^3^7^8^4^2^1^3^5^9^6^4^2^1^3^5^7^8^4^2^1^3^5^9^101^102^103^104^105^6^4^2^1^3^5^7"},{"$f":"'14'!AD286","v":"5^5^5^5^10^10^10^10^15^15^15^15^15^22^22^22^22^22^22^22^30^30^30^30^30^30^30^40^40^40^40^40^40^40^45^45^45^45^45^55^55^55^55^55^55^55"},0,1,0,"20004^21070",3,0,"130003^2|130004^2|130005^2","7^10^15","60705^60705^60705","100^100^100","8^12^15"]
[7003,{"$f":"'14'!AR246","v":"60701^60702^60704|60701^60703|60705^60702^60704|60703^60702^60704|60701^60702|60705^60703^60701|60701^60702^60703^60704|60701^60702"},{"$f":"'14'!AR273","v":"0^0^0|0^0|100^0^0|0^0^0|0^0|100^0^0|0^0^0^0|0^0"},{"$f":"'14'!AR286","v":"18^4^3|13^3|8^4^3|4^5^3|15^4|10^3^8|13^4^3^2|17^5"},9,3,0,"20004^21070",3,0,"130003^2|130004^2|130005^2","6^10","60705^60705","100^100","8^12"]
[7004,{"$f":"'14'!BF246","v":"60704^60703^60703^60704^60702^60702^60702^60702^60705^60705^60705^60705^60701^60701^60701^60701^60701^60704^60702^60703^60703^60702^60704^60702^60701^60701^60704^60701^60701^60702^60702^60701^60701^60703^60701^60701^60702^60704^60702^60701^60703^60703^60701^60702^60704"},{"$f":"'14'!BF273","v":"4^2^3^5^6^4^5^7^101^102^104^105^6^4^1^5^7^6^4^2^3^5^7^8^4^2^1^3^5^9^6^4^2^1^3^5^7^8^6^4^2^3^5^7^9"},{"$f":"'14'!BF286","v":"3^3^3^3^5^5^5^5^8^8^8^8^12^12^12^12^12^18^18^18^18^18^18^25^25^25^25^25^25^25^35^35^35^35^35^35^35^45^45^45^45^45^45^45^45"},0,1,0,"20004^21070",0,1,"130003^2|130004^2|130005^2",8,60705,100,10]
[7101,{"$f":"'15'!P14","v":"60711^60712^60711^60712^60713^60711^60712^60713^60714^60711^60712^60715^60714^60711^60712^60713^60711^60712^60714^60711^60712^60713^60714^60711^60712^60715^60712"},{"$f":"'15'!P41","v":"0^0^0^0^0^0^0^0^0^0^0^100^0^0^0^0^0^0^0^0^0^0^0^0^0^100^0"},{"$f":"'15'!P55","v":"10^4^10^3^3^9^4^2^2^14^4^9^3^13^3^3^14^4^2^13^3^3^2^17^4^9^4"},10,3,0,"20004^21071",4,0,"130003^2|130004^2|130005^2","7^10^15","60715^60715^60715","100^100^100","8^12^15"]
[7102,{"$f":"'15'!AD14","v":"60714^60712^60712^60712^60714^60713^60713^60713^60711^60711^60711^60711^60711^60715^60715^60715^60715^60712^60711^60713^60714^60713^60711^60712^60714^60712^60711^60713^60711^60712^60714^60712^60711^60713^60714^60713^60711^60712^60714^60712^60711^60713^60713^60711^60712^60714"},{"$f":"'15'!AD41","v":"4^2^1^3^5^4^1^5^6^4^1^5^7^101^102^104^105^6^4^2^1^3^5^7^8^6^4^1^5^7^9^6^4^2^1^3^5^7^8^6^4^2^3^5^7^9"},{"$f":"'15'!AD54","v":"5^5^5^5^5^10^10^10^15^15^15^15^15^20^20^20^20^27^27^27^27^27^27^27^35^35^35^35^35^35^35^45^45^45^45^45^45^45^55^55^55^55^55^55^55^55"},0,1,0,"20004^21071",3,0,"130003^2|130004^2|130005^2","7^10^15","60715^60715^60715","100^100^100","8^12^15"]
[7103,{"$f":"'15'!AR14","v":"60715^60714^60713^60711^60712^60711^60714^60711^60712^60713^60711^60712^60714^60715^60713^60714^60711^60712^60711^60712^60713^60714"},{"$f":"'15'!AR41","v":"100^0^0^0^0^0^0^0^0^0^0^0^0^100^0^0^0^0^0^0^0^0"},{"$f":"'15'!AR54","v":"19^5^3^11^4^14^2^12^3^2^14^3^2^9^3^3^15^4^12^3^3^2"},9,3,0,"20004^21071",3,0,"130003^2|130004^2|130005^2","6^10","60715^60715","100^100","8^12"]
[7104,{"$f":"'15'!BF14","v":"60713^60713^60712^60712^60712^60714^60714^60711^60711^60711^60711^60715^60715^60715^60715^60714^60712^60713^60713^60712^60714^60712^60712^60711^60714^60711^60712^60712^60712^60712^60711^60711^60711^60711^60712^60712"},{"$f":"'15'!BF41","v":"2^3^4^1^5^2^3^6^4^5^7^101^102^104^105^6^4^2^3^5^7^6^4^2^1^3^5^7^8^6^4^2^3^5^7^9"},{"$f":"'15'!BF54","v":"2^2^4^4^4^6^6^8^8^8^8^10^10^10^10^17^17^17^17^17^17^25^25^25^25^25^25^25^35^35^35^35^35^35^35^35"},0,1,0,"20004^21071",0,1,"130003^2|130004^2|130005^2",8,60715,100,10]
[7201,{"$f":"'15'!P72","v":"60724^60722^60722^60722^60724^60721^60721^60722^60721^60722^60721^60721^60724^60722^60723^60722^60723^60722^60724^60725^60725^60725^60725^60725^60722^60721^60721^60722^60721^60721^60722^60724^60722^60721^60723^60723^60723^60721^60722^60724^60722^60722^60721^60721^60721^60722^60722^60725^60725^60725^60725^60725^60722^60721^60721^60724^60721^60721^60722^60724^60722^60721^60723^60722^60723^60721^60722^60724"},{"$f":"'15'!P99","v":"4^2^1^3^5^6^4^2^1^3^5^7^6^4^2^1^3^5^7^101^102^103^104^105^6^4^2^1^3^5^7^8^6^4^2^1^3^5^7^9^6^4^2^1^3^5^7^101^102^103^104^105^6^4^2^1^3^5^7^8^6^4^2^1^3^5^7^9"},{"$f":"'15'!P113","v":"5^5^5^5^5^10^10^10^10^10^10^10^16^16^16^16^16^16^16^20^20^20^20^20^27^27^27^27^27^27^27^35^35^35^35^35^35^35^35^35^45^45^45^45^45^45^45^50^50^50^50^50^60^60^60^60^60^60^60^70^70^70^70^70^70^70^70^70"},0,1,0,"20004^21072",4,0,"130003^2|130004^2|130005^2","7^10^15","60725^60725^60725","100^100^100","8^12^15"]
[7202,{"$f":"'15'!AD72","v":"60725^60724^60722^60721^60722^60721^60723^60721^60723^60724^60721^60722^60721^60722^60723^60724^60721^60722^60724^60725^60722"},{"$f":"'15'!AD99","v":"100^0^0^0^0^0^0^0^0^0^0^0^0^0^0^0^0^0^0^100^0"},{"$f":"'15'!AD112","v":"19^4^4^10^4^12^3^12^3^2^14^4^12^3^2^2^14^4^2^9^4"},10,3,0,"20004^21072",3,0,"130003^2|130004^2|130005^2","7^10^15","60725^60725^60725","100^100^100","8^12^15"]
[7203,{"$f":"'15'!AR72","v":"60721^60723^60721^60722^60724^60721^60722^60725^60723^60721^60722^60724^60721^60723^60724^60721^60722^60721^60722^60723^60724"},{"$f":"'15'!AR99","v":"0^0^0^0^0^0^0^100^0^0^0^0^0^0^0^0^0^0^0^0^0"},{"$f":"'15'!AR112","v":"15^5^10^3^2^12^4^9^3^13^3^2^14^3^2^15^4^14^3^2^2"},9,3,0,"20004^21072",3,0,"130003^2|130004^2|130005^2","6^10","60725^60725","100^100","8^12"]
[7204,{"$f":"'15'!BF72","v":"60721^60721^60721^60721^60722^60722^60722^60724^60724^60725^60725^60725^60725^60723^60723^60723^60724^60721^60721^60721^60721^60724^60722^60722^60722^60722^60722^60722^60722^60721^60723^60723^60721^60722^60722"},{"$f":"'15'!BF99","v":"4^2^3^5^4^1^5^2^3^101^102^104^105^4^1^5^6^4^2^3^5^7^6^4^1^5^7^8^6^4^2^3^5^7^9"},{"$f":"'15'!BF112","v":"2^2^2^2^4^4^4^6^6^8^8^8^8^10^10^10^17^17^17^17^17^17^25^25^25^25^25^35^35^35^35^35^35^35^35"},0,1,0,"20004^21072",0,1,"130003^2|130004^2|130005^2",8,60725,100,10]
[7301,{"$f":"'15'!P130","v":"60731^60731^60731^60731^60731^60734^60731^60732^60732^60732^60731^60734^60732^60731^60733^60734^60733^60731^60732^60732^60731^60731^60734^60731^60731^60732^60734^60732^60731^60733^60733^60733^60731^60732^60734^60735^60735^60735^60735^60735^60731^60731^60732^60732^60732^60731^60731^60734^60732^60731^60733^60733^60731^60732^60734^60732^60731^60733^60732^60733^60731^60732^60735^60735^60735^60735^60735"},{"$f":"'15'!P157","v":"4^2^1^3^5^6^4^2^1^3^5^7^8^4^2^1^3^5^9^6^4^2^1^3^5^7^8^6^4^2^1^3^5^7^9^101^102^103^104^105^8^6^4^1^5^7^9^8^6^4^2^3^5^7^9^6^4^2^1^3^5^7^101^102^103^104^105"},{"$f":"'15'!P171","v":"5^5^5^5^5^10^10^10^10^10^10^10^17^17^17^17^17^17^17^25^25^25^25^25^25^25^35^35^35^35^35^35^35^35^35^40^40^40^40^40^50^50^50^50^50^50^50^60^60^60^60^60^60^60^60^70^70^70^70^70^70^70^75^75^75^75^75"},0,1,0,"20004^21073",4,0,"130003^2|130004^2|130005^2","7^10^15","60735^60735^60735","100^100^100","8^12^15"]
[7302,{"$f":"'15'!AD130","v":"60731^60732^60734^60731^60733^60731^60732^60735^60732^60731^60732^60734^60731^60733^60732^60734^60731^60732^60734^60735^60732^60734"},{"$f":"'15'!AD157","v":"0^0^0^0^0^0^0^100^0^0^0^0^0^0^0^0^0^0^0^100^0^0"},{"$f":"'15'!AD170","v":"18^5^3^12^3^13^4^9^5^14^3^2^12^3^3^2^15^4^2^8^4^2"},9,3,0,"20004^21073",3,0,"130003^2|130004^2|130005^2","7^10^15","60735^60735^60735","100^100^100","8^12^15"]
[7303,{"$f":"'15'!AR130","v":"60733^60732^60733^60732^60733^60734^60731^60732^60731^60732^60731^60734^60735^60735^60735^60735^60735^60732^60731^60733^60734^60733^60731^60732^60734^60732^60731^60731^60731^60732^60734^60731^60731^60732^60733^60732^60733^60732^60731^60731^60732^60731^60733^60734^60733^60731^60732^60735^60735^60735^60735^60735"},{"$f":"'15'!AR157","v":"4^2^1^3^5^6^4^2^1^3^5^7^101^102^103^104^105^6^4^2^1^3^5^7^8^6^2^1^3^7^9^8^6^4^2^1^3^5^7^9^6^4^2^1^3^5^7^101^102^103^104^105"},{"$f":"'15'!AR170","v":"4^4^4^4^4^10^10^10^10^10^10^10^15^15^15^15^15^22^22^22^22^22^22^22^30^30^30^30^30^30^30^40^40^40^40^40^40^40^40^40^50^50^50^50^50^50^50^55^55^55^55^55"},0,1,0,"20004^21073",3,0,"130003^2|130004^2|130005^2","6^10","60735^60735","100^100","8^12"]
[7304,{"$f":"'15'!BF130","v":"60735^60735^60735^60732^60732^60732^60734^60733^60734^60731^60731^60731^60731^60732^60731^60733^60733^60731^60732^60734^60731^60732^60732^60732^60731^60734^60732^60731^60733^60734^60733^60731^60732^60732^60732^60731^60733^60731^60732^60732"},{"$f":"'15'!BF157","v":"101^103^105^2^1^3^6^1^7^4^2^3^5^6^4^2^3^5^7^8^4^2^1^3^5^9^6^4^2^1^3^5^7^8^4^2^1^3^5^9"},{"$f":"'15'!BF170","v":"3^3^3^5^5^5^8^8^8^12^12^12^12^18^18^18^18^18^18^25^25^25^25^25^25^25^35^35^35^35^35^35^35^45^45^45^45^45^45^45"},0,1,0,"20004^21073",0,1,"130003^2|130004^2|130005^2",8,60735,100,10]
[7401,{"$f":"'15'!P188","v":"60741^60742^60744^60741^60743^60741^60743^60742^60744^60741^60742^60745^60742^60741^60742^60743^60744^60741^60743^60742^60741^60742^60744^60745^60743^60744^60741^60743^60742"},{"$f":"'15'!P215","v":"0^0^0^0^0^0^0^0^0^0^0^100^0^0^0^0^0^0^0^0^0^0^0^100^0^0^0^0^0"},{"$f":"'15'!P229","v":"8^3^2^13^3^10^2^3^2^12^4^9^4^11^3^3^2^15^2^3^15^4^2^9^3^3^15^3^4"},9,3,0,"20004^21074",4,0,"130003^2|130004^2|130005^2","7^10^15","60745^60745^60745","100^100^100","8^12^15"]
[7402,{"$f":"'15'!AD188","v":"60744^60741^60741^60741^60744^60742^60742^60741^60743^60741^60742^60742^60745^60745^60745^60745^60745^60741^60743^60742^60743^60742^60743^60741^60744^60742^60741^60743^60741^60742^60744^60742^60741^60743^60742^60743^60741^60742^60744^60742^60741^60741^60742^60741^60741^60742^60744^60745^60745^60745^60745^60745"},{"$f":"'15'!AD215","v":"4^2^1^3^5^6^4^2^1^3^5^7^101^102^103^104^105^6^4^2^1^3^5^7^8^4^2^1^3^5^9^8^4^2^1^3^5^9^8^6^4^2^1^3^5^7^9^101^102^103^104^105"},{"$f":"'15'!AD228","v":"5^5^5^5^5^10^10^10^10^10^10^10^15^15^15^15^15^22^22^22^22^22^22^22^30^30^30^30^30^30^30^40^40^40^40^40^40^40^50^50^50^50^50^50^50^50^50^55^55^55^55^55"},0,1,0,"20004^21074",3,0,"130003^2|130004^2|130005^2","7^10^15","60745^60745^60745","100^100^100","8^12^15"]
[7403,{"$f":"'15'!AR188","v":"60745^60741^60742^60741^60742^60744^60741^60743^60741^60742^60743^60741^60742^60744^60741^60743^60742^60745^60742^60741^60743^60742^60744"},{"$f":"'15'!AR215","v":"100^0^0^0^0^0^0^0^0^0^0^0^0^0^0^0^0^100^0^0^0^0^0"},{"$f":"'15'!AR228","v":"16^6^4^10^3^2^12^3^12^3^2^13^3^2^14^2^4^8^4^14^2^3^2"},8,3,0,"20004^21074",3,0,"130003^2|130004^2|130005^2","6^10","60745^60745","100^100","8^12"]
[7404,{"$f":"'15'!BF188","v":"60743^60743^60743^60742^60742^60742^60744^60744^60741^60741^60741^60741^60745^60745^60745^60745^60744^60742^60743^60743^60742^60744^60742^60741^60741^60744^60741^60741^60742^60742^60744^60742^60743^60743^60742^60744^60742"},{"$f":"'15'!BF215","v":"4^1^5^6^1^7^2^3^4^2^3^5^101^102^104^105^8^6^2^3^7^9^6^4^2^1^3^5^7^8^6^4^2^3^5^7^9"},{"$f":"'15'!BF228","v":"3^3^3^5^5^5^8^8^12^12^12^12^18^18^18^18^25^25^25^25^25^25^35^35^35^35^35^35^35^45^45^45^45^45^45^45^45"},0,1,0,"20004^21074",0,1,"130003^2|130004^2|130005^2",8,60745,100,10]
[7501,{"$f":"'15'!P246","v":"60754^60751^60751^60751^60754^60751^60752^60752^60753^60752^60752^60751^60752^60751^60753^60754^60753^60751^60752^60755^60755^60755^60755^60755^60754^60752^60753^60751^60751^60751^60753^60752^60754^60754^60752^60753^60752^60753^60752^60754^60752^60751^60751^60751^60752^60751^60751^60751^60752^60754^60752^60753^60752^60753^60752^60754^60755^60755^60755^60755^60755^60752^60752^60751^60753^60754^60753^60751^60752^60752"},{"$f":"'15'!P273","v":"6^2^1^3^7^6^4^2^1^3^5^7^8^6^2^1^3^7^9^101^102^103^104^105^8^6^4^2^1^3^5^7^9^8^4^2^1^3^5^9^8^6^4^2^1^3^5^7^9^6^4^2^1^3^5^7^101^102^103^104^105^8^6^4^2^1^3^5^7^9"},{"$f":"'15'!P287","v":"5^5^5^5^5^10^10^10^10^10^10^10^16^16^16^16^16^16^16^20^20^20^20^20^27^27^27^27^27^27^27^27^27^35^35^35^35^35^35^35^45^45^45^45^45^45^45^45^45^55^55^55^55^55^55^55^60^60^60^60^60^70^70^70^70^70^70^70^70^70"},0,1,0,"20004^21075",4,0,"130003^2|130004^2|130005^2","7^10^15","60755^60755^60755","100^100^100","8^12^15"]
[7502,{"$f":"'15'!AD246","v":"60755^60755^60755^60755^60752^60752^60752^60752^60754^60753^60753^60753^60754^60754^60752^60751^60752^60751^60752^60754^60752^60752^60753^60754^60753^60752^60752^60752^60751^60753^60754^60753^60751^60752^60755^60755^60755^60755^60755^60754^60752^60752^60756^60752^60752^60754"},{"$f":"'15'!AD273","v":"101^102^104^105^6^1^3^7^6^2^1^3^7^8^4^2^1^3^5^9^6^4^2^1^3^5^7^8^4^2^1^3^5^9^101^102^103^104^105^6^4^2^1^3^5^7"},{"$f":"'15'!AD286","v":"5^5^5^5^10^10^10^10^15^15^15^15^15^22^22^22^22^22^22^22^30^30^30^30^30^30^30^40^40^40^40^40^40^40^45^45^45^45^45^55^55^55^55^55^55^55"},0,1,0,"20004^21075",3,0,"130003^2|130004^2|130005^2","7^10^15","60755^60755^60755","100^100^100","8^12^15"]
[7503,{"$f":"'15'!AR246","v":"60751^60752^60754^60751^60753^60755^60752^60754^60753^60752^60754^60751^60752^60755^60753^60751^60751^60752^60753^60754^60751^60752"},{"$f":"'15'!AR273","v":"0^0^0^0^0^100^0^0^0^0^0^0^0^100^0^0^0^0^0^0^0^0"},{"$f":"'15'!AR286","v":"19^6^4^13^4^8^4^3^4^5^3^15^4^10^3^8^13^4^3^2^17^5"},8,3,0,"20004^21075",3,0,"130003^2|130004^2|130005^2","6^10","60755^60755","100^100","8^12"]
[7504,{"$f":"'15'!BF246","v":"60754^60753^60753^60754^60752^60752^60752^60752^60755^60755^60755^60755^60751^60751^60751^60751^60751^60754^60752^60753^60753^60752^60754^60752^60751^60751^60754^60751^60751^60752^60752^60751^60751^60753^60751^60751^60752^60754^60752^60751^60753^60753^60751^60752^60754"},{"$f":"'15'!BF273","v":"4^2^3^5^6^4^5^7^101^102^104^105^6^4^1^5^7^6^4^2^3^5^7^8^4^2^1^3^5^9^6^4^2^1^3^5^7^8^6^4^2^3^5^7^9"},{"$f":"'15'!BF286","v":"3^3^3^3^5^5^5^5^8^8^8^8^12^12^12^12^12^18^18^18^18^18^18^25^25^25^25^25^25^25^33^33^33^33^33^33^33^40^40^40^40^40^40^40^40"},0,1,0,"20004^21075",0,1,"130003^2|130004^2|130005^2",8,60755,100,10]

{"sheet":"1","index":1,"n_rows":256,"n_cols":31,"rows_kept":256,"cut":false,"hidden":false,"merged":[]}
["刷怪类型：",null,null,null,{"$f":"E2-D2","v":10},{"$f":"F2-E2","v":10},12,13,15,15,20]
[2,"森林-1","波1·怪物",5,15,25,37,50,65,80,100]
[null,{"$f":"K2/60","v":1.6666666666666667},8,{"$nulls":13},{"$f":"_xlfn.TEXTJOIN(\"^\",,D3:D12)","v":"60011"}]
[null,null,6,{"$nulls":13},{"$f":"_xlfn.TEXTJOIN(\"^\",,E3:E12)","v":"60011^60011"}]
[null,null,4,{"$nulls":7},60011,{"$nulls":5},{"$f":"_xlfn.TEXTJOIN(\"^\",,F3:F12)","v":"60011^60011"}]
[null,null,2,null,60011,60011,60011,60011,60011,60011,60011,{"$nulls":5},{"$f":"_xlfn.TEXTJOIN(\"^\",,G3:G12)","v":"60011^60011"}]
[null,null,1,60011,60011,60011,null,60011,null,60011,{"$nulls":6},{"$f":"_xlfn.TEXTJOIN(\"^\",,H3:H12)","v":"60011^60011^60011"}]
[null,null,3,null,null,null,60011,60011,60011,60011,60011,{"$nulls":5},{"$f":"_xlfn.TEXTJOIN(\"^\",,I3:I12)","v":"60011^60011"}]
[null,null,5,{"$nulls":7},60011,{"$nulls":5},{"$f":"_xlfn.TEXTJOIN(\"^\",,J3:J12)","v":"60011^60011^60011"}]
[null,null,7,{"$nulls":13},{"$f":"_xlfn.TEXTJOIN(\"^\",,K3:K12)","v":"60011^60011^60011^60011"}]
[null,null,9,{"$nulls":13},{"$f":"_xlfn.TEXTJOIN(\"^\",,L3:L12)","v":""}]
[{"$nulls":16},{"$f":"_xlfn.TEXTJOIN(\"^\",,M3:M12)","v":""}]
[{"$nulls":15},"最终",{"$f":"_xlfn.TEXTJOIN(\"^\",,Q3:Q12)","v":"60011^60011^60011^60011^60011^60011^60011^60011^60011^60011^60011^60011^60011^60011^60011^60011^60011^60011^60011"}]
[null,null,8]
[null,null,6]
[null,null,4,{"$nulls":7},"树精"]
[null,null,2,null,"树精","树精","树精","树精","树精","树精","树精"]
[null,null,1,"树精",null,"树精",null,"树精",null,"树精"]
[null,null,3,null,"树精",null,"树精","树精","树精","树精","树精"]
[null,null,5,{"$nulls":7},"树精"]
[null,null,7]
[null,null,9]
[]
[null,null,"位置",5,15,25,37,50,65,80,100]
[null,null,8,{"$nulls":13},{"$f":"_xlfn.TEXTJOIN(\"^\",,D25:D34)","v":"1"}]
[null,null,6,{"$nulls":13},{"$f":"_xlfn.TEXTJOIN(\"^\",,E25:E34)","v":"2^1"}]
[null,null,4,{"$nulls":7},4,{"$nulls":5},{"$f":"_xlfn.TEXTJOIN(\"^\",,F25:F34)","v":"2^1"}]
[null,null,2,null,2,2,2,2,2,2,2,{"$nulls":5},{"$f":"_xlfn.TEXTJOIN(\"^\",,G25:G34)","v":"2^3"}]
[null,null,1,1,1,1,null,1,null,1,{"$nulls":6},{"$f":"_xlfn.TEXTJOIN(\"^\",,H25:H34)","v":"2^1^3"}]
[null,null,3,null,null,null,3,3,3,3,3,{"$nulls":5},{"$f":"_xlfn.TEXTJOIN(\"^\",,I25:I34)","v":"2^3"}]
[null,null,5,{"$nulls":7},5,{"$nulls":5},{"$f":"_xlfn.TEXTJOIN(\"^\",,J25:J34)","v":"2^1^3"}]
[null,null,7,{"$nulls":13},{"$f":"_xlfn.TEXTJOIN(\"^\",,K25:K34)","v":"4^2^3^5"}]
[null,null,9,{"$nulls":13},{"$f":"_xlfn.TEXTJOIN(\"^\",,L25:L34)","v":""}]
[{"$nulls":16},{"$f":"_xlfn.TEXTJOIN(\"^\",,M25:M34)","v":""}]
[{"$nulls":15},"最终",{"$f":"_xlfn.TEXTJOIN(\"^\",,Q25:Q34)","v":"1^2^1^2^1^2^3^2^1^3^2^3^2^1^3^4^2^3^5"}]
[]
[null,null,"时间",5,15,25,37,50,65,80,100]
[null,null,8,{"$nulls":13},{"$f":"_xlfn.TEXTJOIN(\"^\",,D38:D47)","v":"5"}]
[null,null,6,{"$nulls":13},{"$f":"_xlfn.TEXTJOIN(\"^\",,E38:E47)","v":"15^15"}]
[null,null,4,{"$nulls":7},100,{"$nulls":5},{"$f":"_xlfn.TEXTJOIN(\"^\",,F38:F47)","v":"25^25"}]
[null,null,2,null,15,25,37,50,65,80,100,{"$nulls":5},{"$f":"_xlfn.TEXTJOIN(\"^\",,G38:G47)","v":"37^37"}]
[null,null,1,5,15,25,null,50,null,80,{"$nulls":6},{"$f":"_xlfn.TEXTJOIN(\"^\",,H38:H47)","v":"50^50^50"}]
[null,null,3,null,null,null,37,50,65,80,100,{"$nulls":5},{"$f":"_xlfn.TEXTJOIN(\"^\",,I38:I47)","v":"65^65"}]
[null,null,5,{"$nulls":7},100,{"$nulls":5},{"$f":"_xlfn.TEXTJOIN(\"^\",,J38:J47)","v":"80^80^80"}]
[null,null,7,{"$nulls":13},{"$f":"_xlfn.TEXTJOIN(\"^\",,K38:K47)","v":"100^100^100^100"}]
[null,null,9,{"$nulls":13},{"$f":"_xlfn.TEXTJOIN(\"^\",,L38:L47)","v":""}]
[{"$nulls":16},{"$f":"_xlfn.TEXTJOIN(\"^\",,M38:M47)","v":""}]
[{"$nulls":15},"最终",{"$f":"_xlfn.TEXTJOIN(\"^\",,Q38:Q47)","v":"5^15^15^25^25^37^37^50^50^50^65^65^80^80^80^100^100^100^100"}]
[]
[]
[{"$nulls":4},{"$f":"E52-D52","v":12},{"$f":"F52-E52","v":12},13,13,15,15,15,20,20]
[2,"森林-2","波1·怪物",5,17,29,42,55,70,85,100,120,140]
[null,{"$f":"M52/60","v":2.3333333333333335},8,{"$nulls":13},{"$f":"_xlfn.TEXTJOIN(\"^\",,D53:D62)","v":"60021"}]
[null,null,6,{"$nulls":13},{"$f":"_xlfn.TEXTJOIN(\"^\",,E53:E62)","v":"60021^60021"}]
[null,null,4,null,null,60021,60021,60021,60021,null,60021,60021,{"$nulls":4},{"$f":"_xlfn.TEXTJOIN(\"^\",,F53:F62)","v":"60021^60022^60021"}]
[null,null,2,null,60021,null,60021,null,null,60021,60022,null,60021,null,null,null,{"$f":"_xlfn.TEXTJOIN(\"^\",,G53:G62)","v":"60021^60021^60021^60022"}]
[null,null,1,60021,null,60022,60021,60022,60021,60021,null,60022,60021,null,null,null,{"$f":"_xlfn.TEXTJOIN(\"^\",,H53:H62)","v":"60021^60022^60021"}]
[null,null,3,null,60021,{"$nulls":4},60021,60022,null,60021,null,null,null,{"$f":"_xlfn.TEXTJOIN(\"^\",,I53:I62)","v":"60021^60021^60021"}]
[null,null,5,null,null,60021,60022,60021,60021,null,60021,60021,60021,null,null,null,{"$f":"_xlfn.TEXTJOIN(\"^\",,J53:J62)","v":"60021^60021^60021"}]
[null,null,7,{"$nulls":13},{"$f":"_xlfn.TEXTJOIN(\"^\",,K53:K62)","v":"60021^60022^60022^60021"}]
[null,null,9,{"$nulls":13},{"$f":"_xlfn.TEXTJOIN(\"^\",,L53:L62)","v":"60021^60022^60021"}]
[{"$nulls":16},{"$f":"_xlfn.TEXTJOIN(\"^\",,M53:M62)","v":"60021^60021^60021^60021"}]
[{"$nulls":15},"最终",{"$f":"_xlfn.TEXTJOIN(\"^\",,Q53:Q62)","v":"60021^60021^60021^60021^60022^60021^60021^60021^60021^60022^60021^60022^60021^60021^60021^60021^60021^60021^60021^60021^60022^60022^60021^60021^60022^60021^60021^60021^60021^60021"}]
[null,null,8]
[null,null,6]
[null,null,4,null,null,"树精","树精","树精","树精",null,"树精","树精"]
[null,null,2,null,"树精",null,"树精",null,null,"树精","毒蜘蛛",null,"树精"]
[null,null,1,"树精",null,"毒蜘蛛","树精","毒蜘蛛","树精","树精",null,"毒蜘蛛","树精"]
[null,null,3,null,"树精",{"$nulls":4},"树精","毒蜘蛛",null,"树精"]
[null,null,5,null,null,"树精","毒蜘蛛","树精","树精",null,"树精","树精","树精"]
[null,null,7]
[null,null,9]
[]
[null,null,"位置",5,17,29,42,55,70,85,100,120,140]
[null,null,8,{"$nulls":13},{"$f":"_xlfn.TEXTJOIN(\"^\",,D75:D84)","v":"1"}]
[null,null,6,{"$nulls":13},{"$f":"_xlfn.TEXTJOIN(\"^\",,E75:E84)","v":"2^3"}]
[null,null,4,null,null,4,4,4,4,null,4,4,{"$nulls":4},{"$f":"_xlfn.TEXTJOIN(\"^\",,F75:F84)","v":"4^1^5"}]
[null,null,2,null,2,null,2,null,null,2,2,null,2,null,null,null,{"$f":"_xlfn.TEXTJOIN(\"^\",,G75:G84)","v":"4^2^1^5"}]
[null,null,1,1,null,1,1,1,1,1,null,1,1,null,null,null,{"$f":"_xlfn.TEXTJOIN(\"^\",,H75:H84)","v":"4^1^5"}]
[null,null,3,null,3,{"$nulls":4},3,3,null,3,null,null,null,{"$f":"_xlfn.TEXTJOIN(\"^\",,I75:I84)","v":"4^1^5"}]
[null,null,5,null,null,5,5,5,5,null,5,5,5,null,null,null,{"$f":"_xlfn.TEXTJOIN(\"^\",,J75:J84)","v":"2^1^3"}]
[null,null,7,{"$nulls":13},{"$f":"_xlfn.TEXTJOIN(\"^\",,K75:K84)","v":"4^2^3^5"}]
[null,null,9,{"$nulls":13},{"$f":"_xlfn.TEXTJOIN(\"^\",,L75:L84)","v":"4^1^5"}]
[{"$nulls":16},{"$f":"_xlfn.TEXTJOIN(\"^\",,M75:M84)","v":"2^1^3^5"}]
[{"$nulls":15},"最终",{"$f":"_xlfn.TEXTJOIN(\"^\",,Q75:Q84)","v":"1^2^3^4^1^5^4^2^1^5^4^1^5^4^1^5^2^1^3^4^2^3^5^4^1^5^2^1^3^5"}]
[]
[null,null,"时间",5,17,29,42,55,70,85,100,120,140]
[null,null,8,{"$nulls":13},{"$f":"_xlfn.TEXTJOIN(\"^\",,D88:D97)","v":"5"}]
[null,null,6,{"$nulls":13},{"$f":"_xlfn.TEXTJOIN(\"^\",,E88:E97)","v":"17^17"}]
[null,null,4,null,null,29,42,55,70,null,100,120,{"$nulls":4},{"$f":"_xlfn.TEXTJOIN(\"^\",,F88:F97)","v":"29^29^29"}]
[null,null,2,null,17,null,42,null,null,85,100,null,140,null,null,null,{"$f":"_xlfn.TEXTJOIN(\"^\",,G88:G97)","v":"42^42^42^42"}]
[null,null,1,5,null,29,42,55,70,85,null,120,140,null,null,null,{"$f":"_xlfn.TEXTJOIN(\"^\",,H88:H97)","v":"55^55^55"}]
[null,null,3,null,17,{"$nulls":4},85,100,null,140,null,null,null,{"$f":"_xlfn.TEXTJOIN(\"^\",,I88:I97)","v":"70^70^70"}]
[null,null,5,null,null,29,42,55,70,null,100,120,140,null,null,null,{"$f":"_xlfn.TEXTJOIN(\"^\",,J88:J97)","v":"85^85^85"}]
[null,null,7,{"$nulls":13},{"$f":"_xlfn.TEXTJOIN(\"^\",,K88:K97)","v":"100^100^100^100"}]
[null,null,9,{"$nulls":13},{"$f":"_xlfn.TEXTJOIN(\"^\",,L88:L97)","v":"120^120^120"}]
[{"$nulls":16},{"$f":"_xlfn.TEXTJOIN(\"^\",,M88:M97)","v":"140^140^140^140"}]
[{"$nulls":15},"最终",{"$f":"_xlfn.TEXTJOIN(\"^\",,Q88:Q97)","v":"5^17^17^29^29^29^42^42^42^42^55^55^55^70^70^70^85^85^85^100^100^100^100^120^120^120^140^140^140^140"}]
[]
[]
[{"$nulls":4},{"$f":"E102-D102","v":10},{"$f":"F102-E102","v":10},10,10,10,10,10,10,10,10]
[3,"森林-3","波1·怪物",10,20,30,40,50,60,70,80,90,100,110]
[null,{"$f":"N102/60","v":1.8333333333333333},8,{"$nulls":13},{"$f":"_xlfn.TEXTJOIN(\"^\",,D103:D111)","v":"60031"}]
[null,null,6,{"$nulls":13},{"$f":"_xlfn.TEXTJOIN(\"^\",,E103:E111)","v":"60031"}]
[null,null,4,60031,60031,60031,60031,60031,60031,60031,60031,60031,60031,60031,null,null,{"$f":"_xlfn.TEXTJOIN(\"^\",,F103:F111)","v":"60031^60032"}]
[null,null,2,null,null,60032,null,60033,60032,60032,60032,60032,60033,null,null,null,{"$f":"_xlfn.TEXTJOIN(\"^\",,G103:G111)","v":"60031"}]
[null,null,1,{"$nulls":13},{"$f":"_xlfn.TEXTJOIN(\"^\",,H103:H111)","v":"60031^60033"}]
[null,null,3,{"$nulls":13},{"$f":"_xlfn.TEXTJOIN(\"^\",,I103:I111)","v":"60031^60032"}]
[null,null,5,{"$nulls":13},{"$f":"_xlfn.TEXTJOIN(\"^\",,J103:J111)","v":"60031^60032"}]
[null,null,7,{"$nulls":13},{"$f":"_xlfn.TEXTJOIN(\"^\",,K103:K111)","v":"60031^60032"}]
[null,null,9,{"$nulls":13},{"$f":"_xlfn.TEXTJOIN(\"^\",,L103:L111)","v":"60031^60032"}]
[null,null,null,5,5,5,5,5,15,15,15,15,5,20,null,null,{"$f":"_xlfn.TEXTJOIN(\"^\",,M103:M111)","v":"60031^60033"}]
[{"$nulls":5},2,null,2,5,5,5,5,2,null,null,null,{"$f":"_xlfn.TEXTJOIN(\"^\",,N103:N111)","v":"60031"}]
[null,null,8,{"$nulls":12},"最终",{"$f":"_xlfn.TEXTJOIN(\"|\",,Q103:Q113)","v":"60031|60031|60031^60032|60031|60031^60033|60031^60032|60031^60032|60031^60032|60031^60032|60031^60033|60031"}]
[null,null,6]
[null,null,4]
[null,null,2]
[null,null,1,"树精","树精","树精","树精","树精","树精","树精","树精","树精","毒蜘蛛","树精"]
[null,null,3,null,null,"毒蜘蛛",null,"哥布林","毒蜘蛛","毒蜘蛛","毒蜘蛛","毒蜘蛛","哥布林"]
[null,null,5]
[null,null,7]
[null,null,9]
[]
[null,null,"位置",10,20,30,40,50,60,70,80,90,100,110]
[null,null,8,{"$nulls":13},{"$f":"_xlfn.TEXTJOIN(\"^\",,D125:D134)","v":"0"}]
[null,null,6,{"$nulls":13},{"$f":"_xlfn.TEXTJOIN(\"^\",,E125:E134)","v":"0"}]
[null,null,4,0,0,0,0,0,0,0,0,0,0,0,null,null,{"$f":"_xlfn.TEXTJOIN(\"^\",,F125:F134)","v":"0^0"}]
[null,null,2,null,null,0,null,0,0,0,0,0,0,null,null,null,{"$f":"_xlfn.TEXTJOIN(\"^\",,G125:G134)","v":"0"}]
[null,null,1,{"$nulls":13},{"$f":"_xlfn.TEXTJOIN(\"^\",,H125:H134)","v":"0^0"}]
[null,null,3,{"$nulls":13},{"$f":"_xlfn.TEXTJOIN(\"^\",,I125:I134)","v":"0^0"}]
[null,null,5,{"$nulls":13},{"$f":"_xlfn.TEXTJOIN(\"^\",,J125:J134)","v":"0^0"}]
[null,null,7,{"$nulls":13},{"$f":"_xlfn.TEXTJOIN(\"^\",,K125:K134)","v":"0^0"}]
[null,null,9,{"$nulls":13},{"$f":"_xlfn.TEXTJOIN(\"^\",,L125:L134)","v":"0^0"}]
[{"$nulls":16},{"$f":"_xlfn.TEXTJOIN(\"^\",,M125:M134)","v":"0^0"}]
[{"$nulls":16},{"$f":"_xlfn.TEXTJOIN(\"^\",,N125:N134)","v":"0"}]
[{"$nulls":15},"最终",{"$f":"_xlfn.TEXTJOIN(\"|\",,Q125:Q135)","v":"0|0|0^0|0|0^0|0^0|0^0|0^0|0^0|0^0|0"}]
[]
[null,null,"数量",10,20,30,40,50,60,70,80,90,100,110]
[null,null,8,{"$nulls":13},{"$f":"_xlfn.TEXTJOIN(\"^\",,D139:D148)","v":"5"}]
[null,null,6,{"$nulls":13},{"$f":"_xlfn.TEXTJOIN(\"^\",,E139:E148)","v":"5"}]
[null,null,4,5,5,5,5,6,6,6,7,7,7,10,null,null,{"$f":"_xlfn.TEXTJOIN(\"^\",,F139:F148)","v":"5^2"}]
[null,null,2,null,null,2,null,2,2,2,2,2,2,null,null,null,{"$f":"_xlfn.TEXTJOIN(\"^\",,G139:G148)","v":"5"}]
[null,null,1,{"$nulls":13},{"$f":"_xlfn.TEXTJOIN(\"^\",,H139:H148)","v":"6^2"}]
[null,null,3,{"$nulls":13},{"$f":"_xlfn.TEXTJOIN(\"^\",,I139:I148)","v":"6^2"}]
[null,null,5,{"$nulls":13},{"$f":"_xlfn.TEXTJOIN(\"^\",,J139:J148)","v":"6^2"}]
[null,null,7,{"$nulls":13},{"$f":"_xlfn.TEXTJOIN(\"^\",,K139:K148)","v":"7^2"}]
[null,null,9,{"$nulls":13},{"$f":"_xlfn.TEXTJOIN(\"^\",,L139:L148)","v":"7^2"}]
[{"$nulls":16},{"$f":"_xlfn.TEXTJOIN(\"^\",,M139:M148)","v":"7^2"}]
[{"$nulls":16},{"$f":"_xlfn.TEXTJOIN(\"^\",,N139:N148)","v":"10"}]
[{"$nulls":15},"最终",{"$f":"_xlfn.TEXTJOIN(\"|\",,Q139:Q149)","v":"5|5|5^2|5|6^2|6^2|6^2|7^2|7^2|7^2|10"}]
[]
[]
[{"$nulls":4},{"$f":"E154-D154","v":12},{"$f":"F154-E154","v":12},12,12,12,12,12,12,12,12]
[3,"森林-4","波1·怪物",1,13,25,37,{"$f":"G154+12","v":49},{"$f":"H154+12","v":61},73,85,97,109,{"$f":"M154+12","v":121}]
[null,{"$f":"N154/60","v":2.0166666666666666},8,{"$nulls":13},{"$f":"_xlfn.TEXTJOIN(\"^\",,D155:D163)","v":"60041"}]
[null,null,6,{"$nulls":13},{"$f":"_xlfn.TEXTJOIN(\"^\",,E155:E163)","v":"60041^60042"}]
[null,null,4,null,null,60041,null,60041,60041,60041,60041,60042,60042,60043,null,null,{"$f":"_xlfn.TEXTJOIN(\"^\",,F155:F163)","v":"60041^60042"}]
[null,null,2,60041,60041,null,60043,{"$nulls":4},60041,60041,null,null,null,{"$f":"_xlfn.TEXTJOIN(\"^\",,G155:G163)","v":"60043^60041"}]
[null,null,1,null,60042,60042,60041,60042,null,60042,60043,{"$nulls":5},{"$f":"_xlfn.TEXTJOIN(\"^\",,H155:H163)","v":"60041^60042"}]
[null,null,3,{"$nulls":13},{"$f":"_xlfn.TEXTJOIN(\"^\",,I155:I163)","v":"60041"}]
[null,null,5,{"$nulls":13},{"$f":"_xlfn.TEXTJOIN(\"^\",,J155:J163)","v":"60041^60042"}]
[null,null,7,{"$nulls":13},{"$f":"_xlfn.TEXTJOIN(\"^\",,K155:K163)","v":"60041^60043"}]
[null,null,9,{"$nulls":13},{"$f":"_xlfn.TEXTJOIN(\"^\",,L155:L163)","v":"60042^60041"}]
[{"$nulls":16},{"$f":"_xlfn.TEXTJOIN(\"^\",,M155:M163)","v":"60042^60041"}]
[{"$nulls":16},{"$f":"_xlfn.TEXTJOIN(\"^\",,N155:N163)","v":"60043"}]
[null,null,8,{"$nulls":12},"最终",{"$f":"_xlfn.TEXTJOIN(\"|\",,Q155:Q165)","v":"60041|60041^60042|60041^60042|60043^60041|60041^60042|60041|60041^60042|60041^60043|60042^60041|60042^60041|60043"}]
[null,null,6]
[null,null,4,null,null,"树精",null,"树精","树精","树精","树精","毒蜘蛛","毒蜘蛛","哥布林"]
[null,null,2,"树精","树精",null,"哥布林",{"$nulls":4},"树精","树精"]
[null,null,1,null,"毒蜘蛛","毒蜘蛛","树精","毒蜘蛛",null,"毒蜘蛛","哥布林"]
[null,null,3]
[null,null,5]
[null,null,7]
[null,null,9]
[]
[null,null,"位置",6,17,32,47,60,75,90,100,115,130,150]
[null,null,8,{"$nulls":13},{"$f":"_xlfn.TEXTJOIN(\"^\",,D177:D186)","v":"0"}]
[null,null,6,{"$nulls":13},{"$f":"_xlfn.TEXTJOIN(\"^\",,E177:E186)","v":"0^0"}]
[null,null,4,null,null,0,null,0,0,0,0,0,0,0,null,null,{"$f":"_xlfn.TEXTJOIN(\"^\",,F177:F186)","v":"0^0"}]
[null,null,2,0,0,null,0,{"$nulls":4},0,0,null,null,null,{"$f":"_xlfn.TEXTJOIN(\"^\",,G177:G186)","v":"0^0"}]
[null,null,1,null,0,0,0,0,null,0,0,{"$nulls":5},{"$f":"_xlfn.TEXTJOIN(\"^\",,H177:H186)","v":"0^0"}]
[null,null,3,{"$nulls":13},{"$f":"_xlfn.TEXTJOIN(\"^\",,I177:I186)","v":"0"}]
[null,null,5,{"$nulls":13},{"$f":"_xlfn.TEXTJOIN(\"^\",,J177:J186)","v":"0^0"}]
[null,null,7,{"$nulls":13},{"$f":"_xlfn.TEXTJOIN(\"^\",,K177:K186)","v":"0^0"}]
[null,null,9,{"$nulls":13},{"$f":"_xlfn.TEXTJOIN(\"^\",,L177:L186)","v":"0^0"}]
[{"$nulls":16},{"$f":"_xlfn.TEXTJOIN(\"^\",,M177:M186)","v":"0^0"}]
[{"$nulls":16},{"$f":"_xlfn.TEXTJOIN(\"^\",,N177:N186)","v":"0"}]
[{"$nulls":15},"最终",{"$f":"_xlfn.TEXTJOIN(\"|\",,Q177:Q187)","v":"0|0^0|0^0|0^0|0^0|0|0^0|0^0|0^0|0^0|0"}]
[]
[null,null,"时间",6,17,32,47,60,75,90,100,115,130,150]
[null,null,8,{"$nulls":13},{"$f":"_xlfn.TEXTJOIN(\"^\",,D191:D200)","v":"4"}]
[null,null,6,{"$nulls":13},{"$f":"_xlfn.TEXTJOIN(\"^\",,E191:E200)","v":"4^2"}]
[null,null,4,{"$nulls":13},{"$f":"_xlfn.TEXTJOIN(\"^\",,F191:F200)","v":"4^2"}]
[null,null,2,null,null,4,null,5,7,7,8,2,2,5,null,null,{"$f":"_xlfn.TEXTJOIN(\"^\",,G191:G200)","v":"3^4"}]
[null,null,1,4,4,null,3,{"$nulls":4},8,8,null,null,null,{"$f":"_xlfn.TEXTJOIN(\"^\",,H191:H200)","v":"5^2"}]
[null,null,3,null,2,2,4,2,null,2,2,{"$nulls":5},{"$f":"_xlfn.TEXTJOIN(\"^\",,I191:I200)","v":"7"}]
[null,null,5,{"$nulls":13},{"$f":"_xlfn.TEXTJOIN(\"^\",,J191:J200)","v":"7^2"}]
[null,null,7,{"$nulls":13},{"$f":"_xlfn.TEXTJOIN(\"^\",,K191:K200)","v":"8^2"}]
[null,null,9,{"$nulls":13},{"$f":"_xlfn.TEXTJOIN(\"^\",,L191:L200)","v":"2^8"}]
[{"$nulls":16},{"$f":"_xlfn.TEXTJOIN(\"^\",,M191:M200)","v":"2^8"}]
[{"$nulls":16},{"$f":"_xlfn.TEXTJOIN(\"^\",,N191:N200)","v":"5"}]
[{"$nulls":15},"最终",{"$f":"_xlfn.TEXTJOIN(\"|\",,Q191:Q201)","v":"4|4^2|4^2|3^4|5^2|7|7^2|8^2|2^8|2^8|5"}]
[]
[]
[{"$nulls":4},{"$f":"E206-D206","v":12},{"$f":"F206-E206","v":12},12,12,12,12,12,12,12,12,{"$nulls":6},{"$f":"U206-T206","v":12},{"$f":"V206-U206","v":12},{"$f":"W206-V206","v":12},{"$f":"X206-W206","v":12},{"$f":"Y206-X206","v":12},{"$f":"Z206-Y206","v":12},{"$f":"AA206-Z206","v":12},{"$f":"AB206-AA206","v":12},{"$f":"AC206-AB206","v":12},{"$f":"AD206-AC206","v":12}]
[3,"森林-5","波1·怪物",1,13,25,37,49,61,73,85,97,109,121,{"$nulls":4},"波1·怪物",1,13,25,37,49,61,73,85,97,109,121]
[null,{"$f":"(N206+AD206)/60","v":4.0333333333333332},8,{"$nulls":13},{"$f":"_xlfn.TEXTJOIN(\"^\",,D207:D215)","v":"60051"},null,8,{"$nulls":11},{"$f":"_xlfn.TEXTJOIN(\"^\",,T207:T216)","v":"60051"}]
[null,null,6,{"$nulls":13},{"$f":"_xlfn.TEXTJOIN(\"^\",,E207:E215)","v":"60051^60052"},null,6,{"$nulls":11},{"$f":"_xlfn.TEXTJOIN(\"^\",,U207:U216)","v":"60051^60052"}]
[null,null,4,{"$nulls":13},{"$f":"_xlfn.TEXTJOIN(\"^\",,F207:F215)","v":"60051^60052"},null,4,{"$nulls":11},{"$f":"_xlfn.TEXTJOIN(\"^\",,V207:V216)","v":"60051^60055"}]
[null,null,2,60051,60051,60051,60051,60051,60051,60055,60053,60051,60051,60053,null,null,{"$f":"_xlfn.TEXTJOIN(\"^\",,G207:G215)","v":"60051^60053"},null,2,60051,60051,60051,60051,60052,60051,60051,60052,60052,60051,60053,{"$f":"_xlfn.TEXTJOIN(\"^\",,W207:W216)","v":"60051^60053"}]
[null,null,1,null,60052,60052,60053,60053,60054,60051,60052,60052,60054,60051,null,null,{"$f":"_xlfn.TEXTJOIN(\"^\",,H207:H215)","v":"60051^60053^60052"},null,1,null,60052,60055,60053,60051,60054,60052,60053,60051,60054,60051,{"$f":"_xlfn.TEXTJOIN(\"^\",,X207:X216)","v":"60052^60051^60053"}]
[null,null,3,{"$nulls":4},60052,{"$nulls":8},{"$f":"_xlfn.TEXTJOIN(\"^\",,I207:I215)","v":"60051^60054"},null,3,{"$nulls":4},60053,{"$nulls":6},{"$f":"_xlfn.TEXTJOIN(\"^\",,Y207:Y216)","v":"60051^60054"}]
[null,null,5,{"$nulls":13},{"$f":"_xlfn.TEXTJOIN(\"^\",,J207:J215)","v":"60055^60051"},null,5,{"$nulls":11},{"$f":"_xlfn.TEXTJOIN(\"^\",,Z207:Z216)","v":"60051^60052"}]
[null,null,7,{"$nulls":13},{"$f":"_xlfn.TEXTJOIN(\"^\",,K207:K215)","v":"60053^60052"},null,7,{"$nulls":11},{"$f":"_xlfn.TEXTJOIN(\"^\",,AA207:AA216)","v":"60052^60053"}]
[null,null,9,{"$nulls":13},{"$f":"_xlfn.TEXTJOIN(\"^\",,L207:L215)","v":"60051^60052"},null,9,{"$nulls":11},{"$f":"_xlfn.TEXTJOIN(\"^\",,AB207:AB216)","v":"60052^60051"}]
[{"$nulls":16},{"$f":"_xlfn.TEXTJOIN(\"^\",,M207:M215)","v":"60051^60054"},{"$nulls":13},{"$f":"_xlfn.TEXTJOIN(\"^\",,AC207:AC216)","v":"60051^60054"}]
[{"$nulls":16},{"$f":"_xlfn.TEXTJOIN(\"^\",,N207:N215)","v":"60053^60051"},{"$nulls":13},{"$f":"_xlfn.TEXTJOIN(\"^\",,AD207:AD216)","v":"60053^60051"}]
[{"$nulls":15},"最终",{"$f":"_xlfn.TEXTJOIN(\"|\",,Q207:Q217)","v":"60051|60051^60052|60051^60052|60051^60053|60051^60053^60052|60051^60054|60055^60051|60053^60052|60051^60052|60051^60054|60053^60051"},{"$nulls":13},{"$f":"_xlfn.TEXTJOIN(\"|\",,AE207:AE217)","v":"60051|60051^60052|60051^60055|60051^60053|60052^60051^60053|60051^60054|60051^60052|60052^60053|60052^60051|60051^60054|60053^60051"}]
[null,null,8,{"$nulls":15},8]
[null,null,6,{"$nulls":15},6]
[null,null,4,{"$nulls":15},4]
[null,null,2,"树精","树精","树精","树精","树精","树精","森林蜘蛛","哥布林","树精","树精","哥布林",{"$nulls":4},2,"树精","树精","树精","树精","毒蜘蛛","树精","树精","毒蜘蛛","毒蜘蛛","树精","哥布林"]
[null,null,1,null,"毒蜘蛛","毒蜘蛛","哥布林","哥布林","血树精","树精","毒蜘蛛","毒蜘蛛","血树精","树精",{"$nulls":4},1,null,"毒蜘蛛","森林蜘蛛","哥布林","树精","血树精","毒蜘蛛","哥布林","树精","血树精","树精"]
[null,null,3,{"$nulls":4},"毒蜘蛛",{"$nulls":10},3,{"$nulls":4},"哥布林"]
[null,null,5,{"$nulls":15},5]
[null,null,7,{"$nulls":15},7]
[null,null,9,{"$nulls":15},9]
[]
[null,null,"位置",6,18,30,40,55,70,85,95,110,125,135,{"$nulls":4},"位置",6,18,30,40,55,70,85,95,110,125,135,{"$f":"_xlfn.TEXTJOIN(\"^\",,T230:T238)","v":"0"}]
[null,null,8,{"$nulls":13},{"$f":"_xlfn.TEXTJOIN(\"^\",,D230:D239)","v":"0"},null,8,{"$nulls":11},{"$f":"_xlfn.TEXTJOIN(\"^\",,U230:U238)","v":"0^0"}]
[null,null,6,{"$nulls":13},{"$f":"_xlfn.TEXTJOIN(\"^\",,E230:E239)","v":"0^0"},null,6,{"$nulls":11},{"$f":"_xlfn.TEXTJOIN(\"^\",,V230:V238)","v":"0^100"}]
[null,null,4,{"$nulls":13},{"$f":"_xlfn.TEXTJOIN(\"^\",,F230:F239)","v":"0^0"},null,4,{"$nulls":11},{"$f":"_xlfn.TEXTJOIN(\"^\",,W230:W238)","v":"0^0"}]
[null,null,2,0,0,0,0,0,0,100,0,0,0,0,null,null,{"$f":"_xlfn.TEXTJOIN(\"^\",,G230:G239)","v":"0^0"},null,2,0,0,0,0,0,0,0,0,0,0,0,{"$f":"_xlfn.TEXTJOIN(\"^\",,X230:X238)","v":"0^0^0"}]
[null,null,1,null,0,0,0,0,0,0,0,0,0,0,null,null,{"$f":"_xlfn.TEXTJOIN(\"^\",,H230:H239)","v":"0^0^0"},null,1,null,0,100,0,0,0,0,0,0,0,0,{"$f":"_xlfn.TEXTJOIN(\"^\",,Y230:Y238)","v":"0^0"}]
[null,null,3,{"$nulls":4},0,{"$nulls":8},{"$f":"_xlfn.TEXTJOIN(\"^\",,I230:I239)","v":"0^0"},null,3,{"$nulls":4},0,{"$nulls":6},{"$f":"_xlfn.TEXTJOIN(\"^\",,Z230:Z239)","v":"0^0"}]
[null,null,5,{"$nulls":13},{"$f":"_xlfn.TEXTJOIN(\"^\",,J230:J239)","v":"100^0"},null,5,{"$nulls":11},{"$f":"_xlfn.TEXTJOIN(\"^\",,AA230:AA239)","v":"0^0"}]
[null,null,7,{"$nulls":13},{"$f":"_xlfn.TEXTJOIN(\"^\",,K230:K239)","v":"0^0"},null,7,{"$nulls":11},{"$f":"_xlfn.TEXTJOIN(\"^\",,AB230:AB239)","v":"0^0"}]
[null,null,9,{"$nulls":13},{"$f":"_xlfn.TEXTJOIN(\"^\",,L230:L239)","v":"0^0"},null,9,{"$nulls":11},{"$f":"_xlfn.TEXTJOIN(\"^\",,AC230:AC239)","v":"0^0"}]
[{"$nulls":16},{"$f":"_xlfn.TEXTJOIN(\"^\",,M230:M239)","v":"0^0"},{"$nulls":13},{"$f":"_xlfn.TEXTJOIN(\"^\",,AD230:AD239)","v":"0^0"}]
[{"$nulls":16},{"$f":"_xlfn.TEXTJOIN(\"^\",,N230:N239)","v":"0^0"},{"$nulls":13},{"$f":"_xlfn.TEXTJOIN(\"|\",,AE229:AE239)","v":"0|0^0|0^100|0^0|0^0^0|0^0|0^0|0^0|0^0|0^0|0^0"}]
[{"$nulls":15},"最终",{"$f":"_xlfn.TEXTJOIN(\"|\",,Q230:Q240)","v":"0|0^0|0^0|0^0|0^0^0|0^0|100^0|0^0|0^0|0^0|0^0"}]
[]
[null,null,"时间",6,18,30,40,55,70,85,95,110,125,135,{"$nulls":4},"时间",6,18,30,40,55,70,85,95,110,125,135,{"$f":"_xlfn.TEXTJOIN(\"^\",,T244:T252)","v":"15"}]
[null,null,8,{"$nulls":13},{"$f":"_xlfn.TEXTJOIN(\"^\",,D244:D253)","v":"4"},null,8,{"$nulls":11},{"$f":"_xlfn.TEXTJOIN(\"^\",,U244:U252)","v":"7^2"}]
[null,null,6,{"$nulls":13},{"$f":"_xlfn.TEXTJOIN(\"^\",,E244:E253)","v":"4^2"},null,6,{"$nulls":11},{"$f":"_xlfn.TEXTJOIN(\"^\",,V244:V252)","v":"8^2"}]
[null,null,4,4,4,5,5,2,6,3,4,7,8,3,null,null,{"$f":"_xlfn.TEXTJOIN(\"^\",,F244:F253)","v":"5^2"},null,4,15,7,8,7,2,9,10,6,2,12,5,{"$f":"_xlfn.TEXTJOIN(\"^\",,W244:W252)","v":"7^3"}]
[null,null,2,null,2,2,2,4,4,3,3,3,2,8,null,null,{"$f":"_xlfn.TEXTJOIN(\"^\",,G244:G253)","v":"5^2"},null,2,null,2,2,3,7,4,2,4,10,2,12,{"$f":"_xlfn.TEXTJOIN(\"^\",,X244:X252)","v":"2^7^2"}]
[null,null,1,{"$nulls":4},2,{"$nulls":8},{"$f":"_xlfn.TEXTJOIN(\"^\",,H244:H253)","v":"2^4^2"},null,1,{"$nulls":4},2,{"$nulls":6},{"$f":"_xlfn.TEXTJOIN(\"^\",,Y244:Y252)","v":"9^4"}]
[null,null,3,{"$nulls":13},{"$f":"_xlfn.TEXTJOIN(\"^\",,I244:I253)","v":"6^4"},null,3,{"$nulls":11},{"$f":"_xlfn.TEXTJOIN(\"^\",,Z244:Z253)","v":"10^2"}]
[null,null,5,{"$nulls":13},{"$f":"_xlfn.TEXTJOIN(\"^\",,J244:J253)","v":"3^3"},null,5,{"$nulls":11},{"$f":"_xlfn.TEXTJOIN(\"^\",,AA244:AA253)","v":"6^4"}]
[null,null,7,{"$nulls":13},{"$f":"_xlfn.TEXTJOIN(\"^\",,K244:K253)","v":"4^3"},null,7,{"$nulls":11},{"$f":"_xlfn.TEXTJOIN(\"^\",,AB244:AB253)","v":"2^10"}]
[null,null,9,{"$nulls":13},{"$f":"_xlfn.TEXTJOIN(\"^\",,L244:L253)","v":"7^3"},null,9,{"$nulls":11},{"$f":"_xlfn.TEXTJOIN(\"^\",,AC244:AC253)","v":"12^2"}]
[{"$nulls":16},{"$f":"_xlfn.TEXTJOIN(\"^\",,M244:M253)","v":"8^2"},{"$nulls":13},{"$f":"_xlfn.TEXTJOIN(\"^\",,AD244:AD253)","v":"5^12"}]
[{"$nulls":16},{"$f":"_xlfn.TEXTJOIN(\"^\",,N244:N253)","v":"3^8"},{"$nulls":12},"最终",{"$f":"_xlfn.TEXTJOIN(\"|\",,AE243:AE253)","v":"15|7^2|8^2|7^3|2^7^2|9^4|10^2|6^4|2^10|12^2|5^12"}]
[{"$f":"N255+AE255","v":219},{"$nulls":12},{"$f":"SUM(D244:N252)","v":86},null,"最终",{"$f":"_xlfn.TEXTJOIN(\"|\",,Q244:Q254)","v":"4|4^2|5^2|5^2|2^4^2|6^4|3^3|4^3|7^3|8^2|3^8"},{"$nulls":13},{"$f":"SUM(T246:AD249)","v":133}]
[{"$nulls":16},{"$f":"SUM(D245:N250)","v":86},{"$nulls":13},{"$f":"SUM(AE255,Q256)","v":219}]

{"sheet":"2","index":2,"n_rows":263,"n_cols":30,"rows_kept":263,"cut":false,"hidden":false,"merged":[]}
[{"$nulls":4},{"$f":"E2-D2","v":12},{"$f":"F2-E2","v":12},15,15,10,15,10,15,15,10,{"$nulls":5},{"$f":"T2-S2","v":1},3,5,5,5,2]
[3,"密林-1","波1·怪物",6,18,30,45,60,70,85,95,110,125,135,null,null,null,"波2·怪物",1,2,5,10,15,20,22]
[null,"3.5m",8,{"$nulls":12},{"$f":"_xlfn.TEXTJOIN(\"^\",,D3:D12)","v":"60061"},null,8,{"$nulls":11},{"$f":"_xlfn.TEXTJOIN(\"^\",,S3:S12)","v":"60061"}]
[null,null,6,{"$nulls":12},{"$f":"_xlfn.TEXTJOIN(\"^\",,E3:E12)","v":"60063^60062"},null,6,{"$nulls":11},{"$f":"_xlfn.TEXTJOIN(\"^\",,T3:T12)","v":"60065^60061"}]
[null,null,4,{"$nulls":12},{"$f":"_xlfn.TEXTJOIN(\"^\",,F3:F12)","v":"60061^60062"},null,4,{"$nulls":11},{"$f":"_xlfn.TEXTJOIN(\"^\",,U3:U12)","v":"60063^60062"}]
[null,null,2,{"$nulls":12},{"$f":"_xlfn.TEXTJOIN(\"^\",,G3:G12)","v":"60061^60063"},null,2,{"$nulls":11},{"$f":"_xlfn.TEXTJOIN(\"^\",,V3:V12)","v":"60062^60061^60064"}]
[null,null,1,60061,60063,60061,60061,60064,60061,60063,60064,60063,60062,60063,null,{"$f":"_xlfn.TEXTJOIN(\"^\",,H3:H12)","v":"60064^60061^60062"},null,1,60061,60065,60063,60062,60063,60061,60062,60063,null,null,null,{"$f":"_xlfn.TEXTJOIN(\"^\",,W3:W12)","v":"60063^60062"}]
[null,null,3,null,60062,60062,60063,60061,60064,60062,60065,60061,60064,60061,null,{"$f":"_xlfn.TEXTJOIN(\"^\",,I3:I12)","v":"60061^60064"},null,3,null,60061,60062,60061,60062,60062,60064,60061,null,null,null,{"$f":"_xlfn.TEXTJOIN(\"^\",,X3:X12)","v":"60061^60062^60063"}]
[null,null,5,{"$nulls":4},60062,null,60061,null,null,60061,60062,null,{"$f":"_xlfn.TEXTJOIN(\"^\",,J3:J12)","v":"60063^60062^60061"},null,5,null,null,null,60064,null,60063,null,60062,null,null,null,{"$f":"_xlfn.TEXTJOIN(\"^\",,Y3:Y12)","v":"60062^60064"}]
[null,null,7,{"$nulls":12},{"$f":"_xlfn.TEXTJOIN(\"^\",,K3:K12)","v":"60064^60065"},null,7,{"$nulls":11},{"$f":"_xlfn.TEXTJOIN(\"^\",,Z3:Z12)","v":"60063^60061^60062"}]
[null,null,9,{"$nulls":12},{"$f":"_xlfn.TEXTJOIN(\"^\",,L3:L12)","v":"60063^60061"},null,9,{"$nulls":11},{"$f":"_xlfn.TEXTJOIN(\"^\",,AA3:AA12)","v":""}]
[{"$nulls":15},{"$f":"_xlfn.TEXTJOIN(\"^\",,M3:M12)","v":"60062^60064^60061"},{"$nulls":13},{"$f":"_xlfn.TEXTJOIN(\"^\",,AB3:AB12)","v":""}]
[{"$nulls":15},{"$f":"_xlfn.TEXTJOIN(\"^\",,N3:N12)","v":"60063^60061^60062"},{"$nulls":13},{"$f":"_xlfn.TEXTJOIN(\"^\",,AC3:AC12)","v":""}]
[{"$nulls":14},"最终",{"$f":"_xlfn.TEXTJOIN(\"|\",,P3:P13)","v":"60061|60063^60062|60061^60062|60061^60063|60064^60061^60062|60061^60064|60063^60062^60061|60064^60065|60063^60061|60062^60064^60061|60063^60061^60062"},{"$nulls":12},"最终",{"$f":"_xlfn.TEXTJOIN(\"|\",,AD3:AD13)","v":"60061|60065^60061|60063^60062|60062^60061^60064|60063^60062|60061^60062^60063|60062^60064|60063^60061^60062"}]
[null,null,8,{"$nulls":14},8]
[null,null,6,{"$nulls":14},6]
[null,null,4,{"$nulls":14},4]
[null,null,2,{"$nulls":14},2]
[null,null,1,"树精","哥布林","树精","树精","血树精","树精","哥布林","血树精","哥布林","毒蜘蛛","哥布林",null,null,null,1,"树精","森林蜘蛛","哥布林","毒蜘蛛","哥布林","树精","毒蜘蛛","哥布林"]
[null,null,3,null,"毒蜘蛛","毒蜘蛛","哥布林","树精","血树精","毒蜘蛛","森林蜘蛛","树精","血树精","树精",null,null,null,3,null,"树精","毒蜘蛛","树精","毒蜘蛛","毒蜘蛛","血树精","树精"]
[null,null,5,{"$nulls":4},"毒蜘蛛",null,"树精",null,null,"树精","毒蜘蛛",null,null,null,5,null,null,null,"血树精",null,"哥布林",null,"毒蜘蛛"]
[null,null,7,{"$nulls":14},7]
[null,null,9,{"$nulls":14},9]
[]
[null,null,"位置",6,18,30,45,60,70,85,95,110,125,135,null,null,null,"位置",1,2,5,10,15,20,22,25,null,null,null,{"$f":"_xlfn.TEXTJOIN(\"^\",,S26:S34)","v":"0"}]
[null,null,8,{"$nulls":12},{"$f":"_xlfn.TEXTJOIN(\"^\",,D26:D35)","v":"0"},null,8,{"$nulls":11},{"$f":"_xlfn.TEXTJOIN(\"^\",,T26:T34)","v":"0^0"}]
[null,null,6,{"$nulls":12},{"$f":"_xlfn.TEXTJOIN(\"^\",,E26:E35)","v":"0^0"},null,6,{"$nulls":11},{"$f":"_xlfn.TEXTJOIN(\"^\",,U26:U34)","v":"0^0"}]
[null,null,4,{"$nulls":12},{"$f":"_xlfn.TEXTJOIN(\"^\",,F26:F35)","v":"0^0"},null,4,{"$nulls":11},{"$f":"_xlfn.TEXTJOIN(\"^\",,V26:V34)","v":"0^0^0"}]
[null,null,2,{"$nulls":12},{"$f":"_xlfn.TEXTJOIN(\"^\",,G26:G35)","v":"0^0"},null,2,{"$nulls":11},{"$f":"_xlfn.TEXTJOIN(\"^\",,W26:W34)","v":"0^0"}]
[null,null,1,0,0,0,0,0,0,0,0,0,0,0,null,{"$f":"_xlfn.TEXTJOIN(\"^\",,H26:H35)","v":"0^0^0"},null,1,0,0,0,0,0,0,0,0,null,null,null,{"$f":"_xlfn.TEXTJOIN(\"^\",,X26:X34)","v":"0^0^0"}]
[null,null,3,null,0,0,0,0,0,0,100,0,0,0,null,{"$f":"_xlfn.TEXTJOIN(\"^\",,I26:I35)","v":"0^0"},null,3,null,0,0,0,0,0,0,0,null,null,null,{"$f":"_xlfn.TEXTJOIN(\"^\",,Y26:Y34)","v":"0^0"}]
[null,null,5,{"$nulls":4},0,null,0,null,null,0,0,null,{"$f":"_xlfn.TEXTJOIN(\"^\",,J26:J35)","v":"0^0^0"},null,5,null,null,null,0,null,0,null,0,null,null,null,{"$f":"_xlfn.TEXTJOIN(\"^\",,Z26:Z34)","v":"0^0^0"}]
[null,null,7,{"$nulls":12},{"$f":"_xlfn.TEXTJOIN(\"^\",,K26:K35)","v":"0^100"},null,7,{"$nulls":11},{"$f":"_xlfn.TEXTJOIN(\"^\",,AA26:AA34)","v":""}]
[null,null,9,{"$nulls":12},{"$f":"_xlfn.TEXTJOIN(\"^\",,L26:L35)","v":"0^0"},null,9,{"$nulls":11},{"$f":"_xlfn.TEXTJOIN(\"^\",,AB26:AB34)","v":""}]
[{"$nulls":15},{"$f":"_xlfn.TEXTJOIN(\"^\",,M26:M35)","v":"0^0^0"},{"$nulls":13},{"$f":"_xlfn.TEXTJOIN(\"^\",,AC26:AC34)","v":""}]
[{"$nulls":15},{"$f":"_xlfn.TEXTJOIN(\"^\",,N26:N35)","v":"0^0^0"},{"$nulls":12},"最终",{"$f":"_xlfn.TEXTJOIN(\"|\",,AD25:AD35)","v":"0|0^0|0^0|0^0^0|0^0|0^0^0|0^0|0^0^0"}]
[{"$nulls":14},"最终",{"$f":"_xlfn.TEXTJOIN(\"|\",,P26:P36)","v":"0|0^0|0^0|0^0|0^0^0|0^0|0^0^0|0^100|0^0|0^0^0|0^0^0"}]
[]
[null,null,"时间",6,18,30,45,60,70,85,95,110,125,135,null,null,null,"时间",1,2,5,10,15,20,22,24,null,null,null,{"$f":"_xlfn.TEXTJOIN(\"^\",,S40:S48)","v":"20"}]
[null,null,8,{"$nulls":12},{"$f":"_xlfn.TEXTJOIN(\"^\",,D40:D49)","v":"4"},null,8,{"$nulls":11},{"$f":"_xlfn.TEXTJOIN(\"^\",,T40:T48)","v":"3^8"}]
[null,null,6,{"$nulls":12},{"$f":"_xlfn.TEXTJOIN(\"^\",,E40:E49)","v":"2^4"},null,6,{"$nulls":11},{"$f":"_xlfn.TEXTJOIN(\"^\",,U40:U48)","v":"2^4"}]
[null,null,4,{"$nulls":12},{"$f":"_xlfn.TEXTJOIN(\"^\",,F40:F49)","v":"5^2"},null,4,{"$nulls":11},{"$f":"_xlfn.TEXTJOIN(\"^\",,V40:V48)","v":"4^6^2"}]
[null,null,2,{"$nulls":12},{"$f":"_xlfn.TEXTJOIN(\"^\",,G40:G49)","v":"6^2"},null,2,{"$nulls":11},{"$f":"_xlfn.TEXTJOIN(\"^\",,W40:W48)","v":"3^4"}]
[null,null,1,4,2,5,6,2,8,2,3,3,4,2,null,{"$f":"_xlfn.TEXTJOIN(\"^\",,H40:H49)","v":"2^6^2"},null,1,20,3,2,4,3,6,4,2,null,null,null,{"$f":"_xlfn.TEXTJOIN(\"^\",,X40:X48)","v":"6^4^2"}]
[null,null,3,null,4,2,2,6,2,3,3,7,2,6,null,{"$f":"_xlfn.TEXTJOIN(\"^\",,I40:I49)","v":"8^2"},null,3,null,8,4,6,4,4,3,6,null,null,null,{"$f":"_xlfn.TEXTJOIN(\"^\",,Y40:Y48)","v":"4^3"}]
[null,null,5,{"$nulls":4},2,null,5,null,null,5,3,null,{"$f":"_xlfn.TEXTJOIN(\"^\",,J40:J49)","v":"2^3^5"},null,5,null,null,null,2,null,2,null,4,null,null,null,{"$f":"_xlfn.TEXTJOIN(\"^\",,Z40:Z48)","v":"2^6^4"}]
[null,null,7,{"$nulls":12},{"$f":"_xlfn.TEXTJOIN(\"^\",,K40:K49)","v":"3^3"},null,7,{"$nulls":11},{"$f":"_xlfn.TEXTJOIN(\"^\",,AA40:AA48)","v":""}]
[null,null,9,{"$nulls":12},{"$f":"_xlfn.TEXTJOIN(\"^\",,L40:L49)","v":"3^7"},null,9,{"$nulls":11},{"$f":"_xlfn.TEXTJOIN(\"^\",,AB40:AB48)","v":""}]
[{"$nulls":15},{"$f":"_xlfn.TEXTJOIN(\"^\",,M40:M49)","v":"4^2^5"},{"$nulls":13},{"$f":"_xlfn.TEXTJOIN(\"^\",,AC40:AC48)","v":""}]
[{"$nulls":15},{"$f":"_xlfn.TEXTJOIN(\"^\",,N40:N49)","v":"2^6^3"},{"$nulls":12},"最终",{"$f":"_xlfn.TEXTJOIN(\"|\",,AD39:AD49)","v":"20|3^8|2^4|4^6^2|3^4|6^4^2|4^3|2^6^4"}]
[{"$nulls":14},"最终",{"$f":"_xlfn.TEXTJOIN(\"|\",,P40:P50)","v":"4|2^4|5^2|6^2|2^6^2|8^2|2^3^5|3^3|3^7|4^2^5|2^6^3"},{"$nulls":13},{"$f":"SUM(S41:AB48)","v":87}]
[{"$nulls":15},{"$f":"SUM(D42:N49)","v":93},{"$nulls":13},{"$f":"AD51+P52","v":180}]
[]
[{"$nulls":4},{"$f":"E55-D55","v":10},{"$f":"F55-E55","v":15},15,15,10,15,10,15,15,10,{"$nulls":5},{"$f":"T55-S55","v":2},3,4,5,5,3]
[3,"密林-2","波1·怪物",5,15,30,45,60,70,85,95,110,125,135,null,null,null,"波2·怪物",1,3,6,10,15,20,23]
[null,"3.5m",8,{"$nulls":12},{"$f":"_xlfn.TEXTJOIN(\"^\",,D56:D65)","v":"60072"},null,8,{"$nulls":11},{"$f":"_xlfn.TEXTJOIN(\"^\",,S56:S65)","v":"60071"}]
[null,null,6,{"$nulls":12},{"$f":"_xlfn.TEXTJOIN(\"^\",,E56:E65)","v":"60072^60071"},null,6,{"$nulls":11},{"$f":"_xlfn.TEXTJOIN(\"^\",,T56:T65)","v":"60071^60072"}]
[null,null,4,{"$nulls":12},{"$f":"_xlfn.TEXTJOIN(\"^\",,F56:F65)","v":"60073^60072"},null,4,{"$nulls":11},{"$f":"_xlfn.TEXTJOIN(\"^\",,U56:U65)","v":"60074^60071"}]
[null,null,2,{"$nulls":12},{"$f":"_xlfn.TEXTJOIN(\"^\",,G56:G65)","v":"60074^60073^60072"},null,2,{"$nulls":11},{"$f":"_xlfn.TEXTJOIN(\"^\",,V56:V65)","v":"60072^60073^60071"}]
[null,null,1,60072,60072,60073,60074,60071,60074,60071,60074,60071,60072,60071,null,{"$f":"_xlfn.TEXTJOIN(\"^\",,H56:H65)","v":"60071^60072"},null,1,60071,60071,60074,60072,60074,60073,60071,60071,60073,null,null,{"$f":"_xlfn.TEXTJOIN(\"^\",,W56:W65)","v":"60074^60072"}]
[null,null,3,null,60071,60072,60073,60072,60073,60072,60071,null,60071,60072,null,{"$f":"_xlfn.TEXTJOIN(\"^\",,I56:I65)","v":"60074^60073"},null,3,null,60072,60071,60073,60072,60072,60072,null,60072,null,null,{"$f":"_xlfn.TEXTJOIN(\"^\",,X56:X65)","v":"60073^60072"}]
[null,null,5,null,null,null,60072,null,null,null,60072,null,null,60073,null,{"$f":"_xlfn.TEXTJOIN(\"^\",,J56:J65)","v":"60071^60072"},null,5,null,null,null,60071,{"$nulls":7},{"$f":"_xlfn.TEXTJOIN(\"^\",,Y56:Y65)","v":"60071^60072"}]
[null,null,7,{"$nulls":12},{"$f":"_xlfn.TEXTJOIN(\"^\",,K56:K65)","v":"60074^60071^60072"},null,7,{"$nulls":11},{"$f":"_xlfn.TEXTJOIN(\"^\",,Z56:Z65)","v":"60071"}]
[null,null,9,{"$nulls":12},{"$f":"_xlfn.TEXTJOIN(\"^\",,L56:L65)","v":"60071"},null,9,{"$nulls":11},{"$f":"_xlfn.TEXTJOIN(\"^\",,AA56:AA65)","v":"60073^60072"}]
[{"$nulls":15},{"$f":"_xlfn.TEXTJOIN(\"^\",,M56:M65)","v":"60072^60071"},{"$nulls":13},{"$f":"_xlfn.TEXTJOIN(\"^\",,AB56:AB65)","v":""}]
[{"$nulls":15},{"$f":"_xlfn.TEXTJOIN(\"^\",,N56:N65)","v":"60071^60072^60073"},{"$nulls":13},{"$f":"_xlfn.TEXTJOIN(\"^\",,AC56:AC65)","v":""}]
[{"$nulls":14},"最终",{"$f":"_xlfn.TEXTJOIN(\"|\",,P56:P66)","v":"60072|60072^60071|60073^60072|60074^60073^60072|60071^60072|60074^60073|60071^60072|60074^60071^60072|60071|60072^60071|60071^60072^60073"},{"$nulls":12},"最终",{"$f":"_xlfn.TEXTJOIN(\"|\",,AD56:AD66)","v":"60071|60071^60072|60074^60071|60072^60073^60071|60074^60072|60073^60072|60071^60072|60071|60073^60072"}]
[null,null,8,{"$nulls":14},8]
[null,null,6,{"$nulls":14},6]
[null,null,4,{"$nulls":14},4]
[null,null,2,{"$nulls":14},2]
[null,null,1,"毒蜘蛛","毒蜘蛛","哥布林","血树精","树精","血树精","树精","血树精","树精","毒蜘蛛","树精",null,null,null,1,"树精","树精","血树精","毒蜘蛛","血树精","哥布林","树精","树精","哥布林"]
[null,null,3,null,"树精","毒蜘蛛","哥布林","毒蜘蛛","哥布林","毒蜘蛛","树精",null,"树精","毒蜘蛛",null,null,null,3,null,"毒蜘蛛","树精","哥布林","毒蜘蛛","毒蜘蛛","毒蜘蛛",null,"毒蜘蛛"]
[null,null,5,null,null,null,"毒蜘蛛",null,null,null,"毒蜘蛛",null,null,"哥布林",null,null,null,5,null,null,null,"树精"]
[null,null,7,{"$nulls":14},7]
[null,null,9,{"$nulls":14},9]
[]
[null,null,"位置",5,15,30,45,60,70,85,95,110,125,135,null,null,null,"位置",1,3,6,10,15,20,23,{"$nulls":4},{"$f":"_xlfn.TEXTJOIN(\"^\",,S79:S87)","v":"0"}]
[null,null,8,{"$nulls":12},{"$f":"_xlfn.TEXTJOIN(\"^\",,D79:D88)","v":"0"},null,8,{"$nulls":11},{"$f":"_xlfn.TEXTJOIN(\"^\",,T79:T87)","v":"0^0"}]
[null,null,6,{"$nulls":12},{"$f":"_xlfn.TEXTJOIN(\"^\",,E79:E88)","v":"0^0"},null,6,{"$nulls":11},{"$f":"_xlfn.TEXTJOIN(\"^\",,U79:U87)","v":"0^0"}]
[null,null,4,{"$nulls":12},{"$f":"_xlfn.TEXTJOIN(\"^\",,F79:F88)","v":"0^0"},null,4,{"$nulls":11},{"$f":"_xlfn.TEXTJOIN(\"^\",,V79:V87)","v":"0^0^0"}]
[null,null,2,{"$nulls":12},{"$f":"_xlfn.TEXTJOIN(\"^\",,G79:G88)","v":"0^0^0"},null,2,{"$nulls":11},{"$f":"_xlfn.TEXTJOIN(\"^\",,W79:W87)","v":"0^0"}]
[null,null,1,0,0,0,0,0,0,0,0,0,0,0,null,{"$f":"_xlfn.TEXTJOIN(\"^\",,H79:H88)","v":"0^0"},null,1,0,0,0,0,0,0,0,0,0,null,null,{"$f":"_xlfn.TEXTJOIN(\"^\",,X79:X87)","v":"0^0"}]
[null,null,3,null,0,0,0,0,0,0,0,null,0,0,null,{"$f":"_xlfn.TEXTJOIN(\"^\",,I79:I88)","v":"0^0"},null,3,null,0,0,0,0,0,0,null,0,null,null,{"$f":"_xlfn.TEXTJOIN(\"^\",,Y79:Y87)","v":"0^0"}]
[null,null,5,null,null,null,0,null,null,null,0,null,null,0,null,{"$f":"_xlfn.TEXTJOIN(\"^\",,J79:J88)","v":"0^0"},null,5,null,null,null,0,{"$nulls":7},{"$f":"_xlfn.TEXTJOIN(\"^\",,Z79:Z87)","v":"0"}]
[null,null,7,{"$nulls":12},{"$f":"_xlfn.TEXTJOIN(\"^\",,K79:K88)","v":"0^0^0"},null,7,{"$nulls":11},{"$f":"_xlfn.TEXTJOIN(\"^\",,AA79:AA87)","v":"0^0"}]
[null,null,9,{"$nulls":12},{"$f":"_xlfn.TEXTJOIN(\"^\",,L79:L88)","v":"0"},null,9,{"$nulls":11},{"$f":"_xlfn.TEXTJOIN(\"^\",,AB79:AB87)","v":""}]
[{"$nulls":15},{"$f":"_xlfn.TEXTJOIN(\"^\",,M79:M88)","v":"0^0"},{"$nulls":13},{"$f":"_xlfn.TEXTJOIN(\"^\",,AC79:AC87)","v":""}]
[{"$nulls":15},{"$f":"_xlfn.TEXTJOIN(\"^\",,N79:N88)","v":"0^0^0"},{"$nulls":12},"最终",{"$f":"_xlfn.TEXTJOIN(\"|\",,AD78:AD88)","v":"0|0^0|0^0|0^0^0|0^0|0^0|0^0|0|0^0"}]
[{"$nulls":14},"最终",{"$f":"_xlfn.TEXTJOIN(\"|\",,P79:P89)","v":"0|0^0|0^0|0^0^0|0^0|0^0|0^0|0^0^0|0|0^0|0^0^0"}]
[]
[null,null,"时间",5,15,30,45,60,70,85,95,110,125,135,null,null,null,"时间",1,3,6,10,15,20,23,{"$nulls":4},{"$f":"_xlfn.TEXTJOIN(\"^\",,S93:S101)","v":"25"}]
[null,null,8,{"$nulls":12},{"$f":"_xlfn.TEXTJOIN(\"^\",,D93:D102)","v":"4"},null,8,{"$nulls":11},{"$f":"_xlfn.TEXTJOIN(\"^\",,T93:T101)","v":"7^3"}]
[null,null,6,{"$nulls":12},{"$f":"_xlfn.TEXTJOIN(\"^\",,E93:E102)","v":"2^7"},null,6,{"$nulls":11},{"$f":"_xlfn.TEXTJOIN(\"^\",,U93:U101)","v":"2^8"}]
[null,null,4,{"$nulls":12},{"$f":"_xlfn.TEXTJOIN(\"^\",,F93:F102)","v":"3^4"},null,4,{"$nulls":11},{"$f":"_xlfn.TEXTJOIN(\"^\",,V93:V101)","v":"4^2^6"}]
[null,null,2,{"$nulls":12},{"$f":"_xlfn.TEXTJOIN(\"^\",,G93:G102)","v":"2^2^4"},null,2,{"$nulls":11},{"$f":"_xlfn.TEXTJOIN(\"^\",,W93:W101)","v":"3^4"}]
[null,null,1,4,2,3,2,8,3,7,3,9,3,7,null,{"$f":"_xlfn.TEXTJOIN(\"^\",,H93:H102)","v":"8^3"},null,1,25,7,2,4,3,3,8,10,3,null,null,{"$f":"_xlfn.TEXTJOIN(\"^\",,X93:X101)","v":"3^4"}]
[null,null,3,null,7,4,2,3,3,4,7,null,7,4,null,{"$f":"_xlfn.TEXTJOIN(\"^\",,I93:I102)","v":"3^3"},null,3,null,3,8,2,4,4,2,null,4,null,null,{"$f":"_xlfn.TEXTJOIN(\"^\",,Y93:Y101)","v":"8^2"}]
[null,null,5,null,null,null,4,null,null,null,3,null,null,2,null,{"$f":"_xlfn.TEXTJOIN(\"^\",,J93:J102)","v":"7^4"},null,5,null,null,null,6,{"$nulls":7},{"$f":"_xlfn.TEXTJOIN(\"^\",,Z93:Z101)","v":"10"}]
[null,null,7,{"$nulls":12},{"$f":"_xlfn.TEXTJOIN(\"^\",,K93:K102)","v":"3^7^3"},null,7,{"$nulls":11},{"$f":"_xlfn.TEXTJOIN(\"^\",,AA93:AA101)","v":"3^4"}]
[null,null,9,{"$nulls":12},{"$f":"_xlfn.TEXTJOIN(\"^\",,L93:L102)","v":"9"},null,9,{"$nulls":11},{"$f":"_xlfn.TEXTJOIN(\"^\",,AB93:AB101)","v":""}]
[{"$nulls":15},{"$f":"_xlfn.TEXTJOIN(\"^\",,M93:M102)","v":"3^7"},{"$nulls":13},{"$f":"_xlfn.TEXTJOIN(\"^\",,AC93:AC101)","v":""}]
[{"$nulls":15},{"$f":"_xlfn.TEXTJOIN(\"^\",,N93:N102)","v":"7^4^2"},{"$nulls":12},"最终",{"$f":"_xlfn.TEXTJOIN(\"|\",,AD92:AD102)","v":"25|7^3|2^8|4^2^6|3^4|3^4|8^2|10|3^4"}]
[{"$nulls":14},"最终",{"$f":"_xlfn.TEXTJOIN(\"|\",,P93:P103)","v":"4|2^7|3^4|2^2^4|8^3|3^3|7^4|3^7^3|9|3^7|7^4^2"},{"$nulls":13},{"$f":"SUM(S94:AB101)","v":98}]
[{"$nulls":15},{"$f":"SUM(D95:N102)","v":101},{"$nulls":13},{"$f":"AD104+P105","v":199}]
[]
[{"$nulls":4},{"$f":"E108-D108","v":10},{"$f":"F108-E108","v":10},10,10,10,10,10,10,5,10,{"$nulls":5},{"$f":"T108-S108","v":2},3,4,5,5,5]
[1,"密林-3","波1·怪物",5,15,25,35,45,55,65,75,85,90,100,null,null,null,"波2·怪物",1,3,6,10,15,20,25]
[null,"4m",8,{"$nulls":9},60081,null,null,{"$f":"_xlfn.TEXTJOIN(\"^\",,D109:D118)","v":"60082"},null,8,{"$nulls":11},{"$f":"_xlfn.TEXTJOIN(\"^\",,S109:S118)","v":"60081^60081^60081^60081"}]
[null,null,6,{"$nulls":4},60081,60082,60082,60081,60081,60081,60084,null,{"$f":"_xlfn.TEXTJOIN(\"^\",,E109:E118)","v":"60081^60082^60081"},null,6,null,null,60081,{"$nulls":8},{"$f":"_xlfn.TEXTJOIN(\"^\",,T109:T118)","v":"60082^60082^60084^60084"}]
[null,null,4,null,null,60081,60082,null,60083,null,60083,60083,60082,60083,null,{"$f":"_xlfn.TEXTJOIN(\"^\",,F109:F118)","v":"60081^60081^60084^60083^60083"},null,4,null,60082,60081,60082,60082,60083,{"$nulls":5},{"$f":"_xlfn.TEXTJOIN(\"^\",,U109:U118)","v":"60081^60081^60083^60083^60081^60081"}]
[null,null,2,null,60081,60081,60083,60082,60081,60081,60082,60081,null,60082,null,{"$f":"_xlfn.TEXTJOIN(\"^\",,G109:G118)","v":"60082^60083^60082^60083^60082"},null,2,60081,60082,60083,60082,60081,null,60084,{"$nulls":4},{"$f":"_xlfn.TEXTJOIN(\"^\",,V109:V118)","v":"60082^60082^60084^60081^60081"}]
[null,null,1,60082,60082,60084,60082,60084,60083,60083,60082,60082,60084,60083,null,{"$f":"_xlfn.TEXTJOIN(\"^\",,H109:H118)","v":"60081^60082^60084^60082^60081"},null,1,60081,null,60083,60084,60081,60083,{"$nulls":5},{"$f":"_xlfn.TEXTJOIN(\"^\",,W109:W118)","v":"60082^60081^60081^60081^60082"}]
[null,null,3,null,60081,60083,60083,60082,60081,60081,60082,60081,null,60084,null,{"$f":"_xlfn.TEXTJOIN(\"^\",,I109:I118)","v":"60082^60083^60081^60083^60081^60083^60082"},null,3,60081,60084,60081,60081,60081,null,60084,{"$nulls":4},{"$f":"_xlfn.TEXTJOIN(\"^\",,X109:X118)","v":"60083^60083^60083"}]
[null,null,5,null,null,60083,60082,null,60083,null,60083,60083,60082,60083,null,{"$f":"_xlfn.TEXTJOIN(\"^\",,J109:J118)","v":"60082^60081^60083^60081^60084"},null,5,60081,60084,60081,60081,60082,60083,{"$nulls":5},{"$f":"_xlfn.TEXTJOIN(\"^\",,Y109:Y118)","v":"60084^60084"}]
[null,null,7,{"$nulls":4},60081,60082,60084,60081,60081,60081,60082,null,{"$f":"_xlfn.TEXTJOIN(\"^\",,K109:K118)","v":"60081^60083^60082^60082^60082^60083^60081"},null,7,{"$nulls":11},{"$f":"_xlfn.TEXTJOIN(\"^\",,Z109:Z118)","v":""}]
[null,null,9,{"$nulls":9},60081,null,null,{"$f":"_xlfn.TEXTJOIN(\"^\",,L109:L118)","v":"60081^60083^60081^60082^60081^60083^60081"},null,9,{"$nulls":11},{"$f":"_xlfn.TEXTJOIN(\"^\",,AA109:AA118)","v":""}]
[{"$nulls":15},{"$f":"_xlfn.TEXTJOIN(\"^\",,M109:M118)","v":"60081^60081^60082^60084^60082^60081^60081"},{"$nulls":13},{"$f":"_xlfn.TEXTJOIN(\"^\",,AB109:AB118)","v":""}]
[{"$nulls":15},{"$f":"_xlfn.TEXTJOIN(\"^\",,N109:N118)","v":"60084^60083^60082^60083^60084^60083^60082"},{"$nulls":13},{"$f":"_xlfn.TEXTJOIN(\"^\",,AC109:AC118)","v":""}]
[null,null,null,60081,60082,60083,60084,{"$nulls":7},"最终",{"$f":"_xlfn.TEXTJOIN(\"^\",,P109:P119)","v":"60082^60081^60082^60081^60081^60081^60084^60083^60083^60082^60083^60082^60083^60082^60081^60082^60084^60082^60081^60082^60083^60081^60083^60081^60083^60082^60082^60081^60083^60081^60084^60081^60083^60082^60082^60082^60083^60081^60081^60083^60081^60082^60081^60083^60081^60081^60081^60082^60084^60082^60081^60081^60084^60083^60082^60083^60084^60083^60082"},{"$nulls":12},"最终",{"$f":"_xlfn.TEXTJOIN(\"^\",,AD109:AD119)","v":"60081^60081^60081^60081^60082^60082^60084^60084^60081^60081^60083^60083^60081^60081^60082^60082^60084^60081^60081^60082^60081^60081^60081^60082^60083^60083^60083^60084^60084"}]
[null,null,8,{"$nulls":9},"树精",{"$nulls":4},8]
[null,null,6,{"$nulls":4},"树精","毒蜘蛛","毒蜘蛛","树精","树精","树精","木精灵",null,null,null,6,null,null,"树精"]
[null,null,4,null,null,"树精","毒蜘蛛",null,"哥布林",null,"哥布林","哥布林","毒蜘蛛","哥布林",null,null,null,4,null,"毒蜘蛛","树精","毒蜘蛛","毒蜘蛛","哥布林"]
[null,null,2,null,"树精","树精","哥布林","毒蜘蛛","树精","树精","毒蜘蛛","树精",null,"毒蜘蛛",null,null,null,2,"树精","毒蜘蛛","哥布林","毒蜘蛛","树精",null,"木精灵"]
[null,null,1,"毒蜘蛛","毒蜘蛛","木精灵","毒蜘蛛","木精灵","哥布林","哥布林","毒蜘蛛","毒蜘蛛","木精灵","哥布林",null,null,null,1,"树精",null,"哥布林","木精灵","树精","哥布林"]
[null,null,3,null,"树精","哥布林","哥布林","毒蜘蛛","树精","树精","毒蜘蛛","树精",null,"木精灵",null,null,null,3,"树精","木精灵","树精","树精","树精",null,"木精灵"]
[null,null,5,null,null,"哥布林","毒蜘蛛",null,"哥布林",null,"哥布林","哥布林","毒蜘蛛","哥布林",null,null,null,5,"树精","木精灵","树精","树精","毒蜘蛛","哥布林"]
[null,null,7,{"$nulls":4},"树精","毒蜘蛛","木精灵","树精","树精","树精","毒蜘蛛",null,null,null,7]
[null,null,9,{"$nulls":9},"树精",{"$nulls":4},9]
[]
[null,null,"位置",5,15,25,35,45,55,65,75,85,90,100,null,null,null,"位置",1,3,6,10,15,20,25,{"$nulls":4},{"$f":"_xlfn.TEXTJOIN(\"^\",,S132:S140)","v":"2^1^3^5"}]
[null,null,8,{"$nulls":9},{"$f":"$C132","v":8},null,null,{"$f":"_xlfn.TEXTJOIN(\"^\",,D132:D141)","v":"1"},null,8,{"$nulls":11},{"$f":"_xlfn.TEXTJOIN(\"^\",,T132:T140)","v":"4^2^3^5"}]
[null,null,6,{"$nulls":4},{"$f":"$C133","v":6},{"$f":"$C133","v":6},{"$f":"$C133","v":6},6,6,6,6,null,{"$f":"_xlfn.TEXTJOIN(\"^\",,E132:E141)","v":"2^1^3"},null,6,null,null,{"$f":"$C133","v":6},{"$nulls":8},{"$f":"_xlfn.TEXTJOIN(\"^\",,U132:U140)","v":"6^4^2^1^3^5"}]
[null,null,4,null,null,{"$f":"$C134","v":4},4,null,4,null,4,4,4,4,null,{"$f":"_xlfn.TEXTJOIN(\"^\",,F132:F141)","v":"4^2^1^3^5"},null,4,null,{"$f":"$C134","v":4},4,4,4,{"$f":"$C134","v":4},{"$nulls":5},{"$f":"_xlfn.TEXTJOIN(\"^\",,V132:V140)","v":"4^2^1^3^5"}]
[null,null,2,null,{"$f":"$C135","v":2},2,2,2,2,2,2,2,null,2,null,{"$f":"_xlfn.TEXTJOIN(\"^\",,G132:G141)","v":"4^2^1^3^5"},null,2,{"$f":"$C135","v":2},2,2,2,2,null,{"$f":"$C135","v":2},{"$nulls":4},{"$f":"_xlfn.TEXTJOIN(\"^\",,W132:W140)","v":"4^2^1^3^5"}]
[null,null,1,{"$f":"$C136","v":1},1,1,1,1,1,1,1,1,{"$f":"$C136","v":1},1,null,{"$f":"_xlfn.TEXTJOIN(\"^\",,H132:H141)","v":"6^2^1^3^7"},null,1,1,null,1,1,1,{"$f":"$C136","v":1},{"$nulls":5},{"$f":"_xlfn.TEXTJOIN(\"^\",,X132:X140)","v":"4^1^5"}]
[null,null,3,null,3,3,3,3,3,3,3,3,null,{"$f":"$C137","v":3},null,{"$f":"_xlfn.TEXTJOIN(\"^\",,I132:I141)","v":"6^4^2^1^3^5^7"},null,3,3,3,3,3,3,null,{"$f":"$C137","v":3},{"$nulls":4},{"$f":"_xlfn.TEXTJOIN(\"^\",,Y132:Y140)","v":"2^3"}]
[null,null,5,null,null,{"$f":"$C138","v":5},5,null,5,null,5,5,5,5,null,{"$f":"_xlfn.TEXTJOIN(\"^\",,J132:J141)","v":"6^2^1^3^7"},null,5,5,5,5,5,5,{"$f":"$C138","v":5},{"$nulls":5},{"$f":"_xlfn.TEXTJOIN(\"^\",,Z132:Z140)","v":""}]
[null,null,7,{"$nulls":4},{"$f":"$C139","v":7},7,{"$f":"$C139","v":7},7,7,7,7,null,{"$f":"_xlfn.TEXTJOIN(\"^\",,K132:K141)","v":"6^4^2^1^3^5^7"},null,7,{"$nulls":11},{"$f":"_xlfn.TEXTJOIN(\"^\",,AA132:AA140)","v":""}]
[null,null,9,{"$nulls":9},9,null,null,{"$f":"_xlfn.TEXTJOIN(\"^\",,L132:L141)","v":"6^4^2^1^3^5^7"},null,9,{"$nulls":11},{"$f":"_xlfn.TEXTJOIN(\"^\",,AB132:AB140)","v":""}]
[{"$nulls":15},{"$f":"_xlfn.TEXTJOIN(\"^\",,M132:M141)","v":"8^6^4^1^5^7^9"},{"$nulls":13},{"$f":"_xlfn.TEXTJOIN(\"^\",,AC132:AC140)","v":""}]
[{"$nulls":15},{"$f":"_xlfn.TEXTJOIN(\"^\",,N132:N141)","v":"6^4^2^1^3^5^7"},{"$nulls":12},"最终",{"$f":"_xlfn.TEXTJOIN(\"^\",,AD131:AD141)","v":"2^1^3^5^4^2^3^5^6^4^2^1^3^5^4^2^1^3^5^4^2^1^3^5^4^1^5^2^3"}]
[{"$nulls":14},"最终",{"$f":"_xlfn.TEXTJOIN(\"^\",,P132:P142)","v":"1^2^1^3^4^2^1^3^5^4^2^1^3^5^6^2^1^3^7^6^4^2^1^3^5^7^6^2^1^3^7^6^4^2^1^3^5^7^6^4^2^1^3^5^7^8^6^4^1^5^7^9^6^4^2^1^3^5^7"}]
[]
[null,null,"时间",5,15,25,35,45,55,65,75,85,90,100,null,null,null,"时间",1,3,6,10,15,20,25,{"$nulls":4},{"$f":"_xlfn.TEXTJOIN(\"^\",,S146:S154)","v":"1^1^1^1"}]
[null,null,8,{"$nulls":9},{"$f":"M$145","v":90},null,null,{"$f":"_xlfn.TEXTJOIN(\"^\",,D146:D155)","v":"5"},null,8,{"$nulls":11},{"$f":"_xlfn.TEXTJOIN(\"^\",,T146:T154)","v":"3^3^3^3"}]
[null,null,6,{"$nulls":4},{"$f":"H$145","v":45},{"$f":"I$145","v":55},{"$f":"J$145","v":65},{"$f":"K$145","v":75},85,90,100,null,{"$f":"_xlfn.TEXTJOIN(\"^\",,E146:E155)","v":"15^15^15"},null,6,null,null,{"$f":"U$145","v":6},{"$nulls":8},{"$f":"_xlfn.TEXTJOIN(\"^\",,U146:U154)","v":"6^6^6^6^6^6"}]
[null,null,4,null,null,{"$f":"F$145","v":25},35,null,55,null,75,85,90,100,null,{"$f":"_xlfn.TEXTJOIN(\"^\",,F146:F155)","v":"25^25^25^25^25"},null,4,null,{"$f":"T$145","v":3},6,10,15,{"$f":"X$145","v":20},{"$nulls":5},{"$f":"_xlfn.TEXTJOIN(\"^\",,V146:V154)","v":"10^10^10^10^10"}]
[null,null,2,null,{"$f":"E$145","v":15},25,35,45,55,65,75,85,null,100,null,{"$f":"_xlfn.TEXTJOIN(\"^\",,G146:G155)","v":"35^35^35^35^35"},null,2,{"$f":"S$145","v":1},3,6,10,15,null,{"$f":"Y$145","v":25},{"$nulls":4},{"$f":"_xlfn.TEXTJOIN(\"^\",,W146:W154)","v":"15^15^15^15^15"}]
[null,null,1,{"$f":"D$145","v":5},15,25,35,45,55,65,75,85,{"$f":"M$145","v":90},100,null,{"$f":"_xlfn.TEXTJOIN(\"^\",,H146:H155)","v":"45^45^45^45^45"},null,1,1,null,6,10,15,{"$f":"X$145","v":20},{"$nulls":5},{"$f":"_xlfn.TEXTJOIN(\"^\",,X146:X154)","v":"20^20^20"}]
[null,null,3,null,15,25,35,45,55,65,75,85,null,{"$f":"N$145","v":100},null,{"$f":"_xlfn.TEXTJOIN(\"^\",,I146:I155)","v":"55^55^55^55^55^55^55"},null,3,1,3,6,10,15,null,{"$f":"Y$145","v":25},{"$nulls":4},{"$f":"_xlfn.TEXTJOIN(\"^\",,Y146:Y154)","v":"25^25"}]
[null,null,5,null,null,{"$f":"F$145","v":25},35,null,55,null,75,85,90,100,null,{"$f":"_xlfn.TEXTJOIN(\"^\",,J146:J155)","v":"65^65^65^65^65"},null,5,1,3,6,10,15,{"$f":"X$145","v":20},{"$nulls":5},{"$f":"_xlfn.TEXTJOIN(\"^\",,Z146:Z154)","v":""}]
[null,null,7,{"$nulls":4},{"$f":"H$145","v":45},55,{"$f":"J$145","v":65},75,85,90,100,null,{"$f":"_xlfn.TEXTJOIN(\"^\",,K146:K155)","v":"75^75^75^75^75^75^75"},null,7,{"$nulls":11},{"$f":"_xlfn.TEXTJOIN(\"^\",,AA146:AA154)","v":""}]
[null,null,9,{"$nulls":9},{"$f":"M$145","v":90},null,null,{"$f":"_xlfn.TEXTJOIN(\"^\",,L146:L155)","v":"85^85^85^85^85^85^85"},null,9,{"$nulls":11},{"$f":"_xlfn.TEXTJOIN(\"^\",,AB146:AB154)","v":""}]
[{"$nulls":15},{"$f":"_xlfn.TEXTJOIN(\"^\",,M146:M155)","v":"90^90^90^90^90^90^90"},{"$nulls":13},{"$f":"_xlfn.TEXTJOIN(\"^\",,AC146:AC154)","v":""}]
[{"$nulls":15},{"$f":"_xlfn.TEXTJOIN(\"^\",,N146:N155)","v":"100^100^100^100^100^100^100"},{"$nulls":12},"最终",{"$f":"_xlfn.TEXTJOIN(\"^\",,AD145:AD155)","v":"1^1^1^1^3^3^3^3^6^6^6^6^6^6^10^10^10^10^10^15^15^15^15^15^20^20^20^25^25"}]
[{"$nulls":14},"最终",{"$f":"_xlfn.TEXTJOIN(\"^\",,P146:P156)","v":"5^15^15^15^25^25^25^25^25^35^35^35^35^35^45^45^45^45^45^55^55^55^55^55^55^55^65^65^65^65^65^75^75^75^75^75^75^75^85^85^85^85^85^85^85^90^90^90^90^90^90^90^100^100^100^100^100^100^100"},{"$nulls":13},{"$f":"SUM(S147:AB154)","v":287}]
[{"$nulls":15},{"$f":"SUM(D148:N155)","v":3130},{"$nulls":13},{"$f":"AD157+P158","v":3417}]
[]
[{"$nulls":4},{"$f":"E161-D161","v":12},{"$f":"F161-E161","v":13},15,10,15,15,10,15,10,15,{"$nulls":5},{"$f":"T161-S161","v":2},3,4,5,6,14]
[3,"密林-4","波1·怪物",5,17,30,45,55,70,85,95,110,120,135,null,null,null,"波2·怪物",1,3,6,10,15,21,35]
[null,"4m",8,{"$nulls":12},{"$f":"_xlfn.TEXTJOIN(\"^\",,D162:D171)","v":"60091^60092"},null,8,{"$nulls":11},{"$f":"_xlfn.TEXTJOIN(\"^\",,S162:S171)","v":"60091^60092"}]
[null,null,6,{"$nulls":12},{"$f":"_xlfn.TEXTJOIN(\"^\",,E162:E171)","v":"60091^60094"},null,6,{"$nulls":11},{"$f":"_xlfn.TEXTJOIN(\"^\",,T162:T171)","v":"60094^60093"}]
[null,null,4,{"$nulls":12},{"$f":"_xlfn.TEXTJOIN(\"^\",,F162:F171)","v":"60091^60092"},null,4,{"$nulls":11},{"$f":"_xlfn.TEXTJOIN(\"^\",,U162:U171)","v":"60091^60092"}]
[null,null,2,{"$nulls":12},{"$f":"_xlfn.TEXTJOIN(\"^\",,G162:G171)","v":"60093^60091^60094"},null,2,{"$nulls":11},{"$f":"_xlfn.TEXTJOIN(\"^\",,V162:V171)","v":"60093^60092^60091"}]
[null,null,1,60091,60091,60091,60093,60091,60093,60094,60093,60094,60092,60093,null,{"$f":"_xlfn.TEXTJOIN(\"^\",,H162:H171)","v":"60091^60092"},null,1,60091,60094,60091,60093,60091,60093,60092,60093,null,null,null,{"$f":"_xlfn.TEXTJOIN(\"^\",,W162:W171)","v":"60091^60092^60094"}]
[null,null,3,60092,60094,60092,60091,60092,60092,60092,60092,60091,60091,60092,null,{"$f":"_xlfn.TEXTJOIN(\"^\",,I162:I171)","v":"60093^60092"},null,3,60092,60093,60092,60092,60092,60091,60091,60092,null,null,null,{"$f":"_xlfn.TEXTJOIN(\"^\",,X162:X171)","v":"60093^60091"}]
[null,null,5,null,null,null,60094,null,null,60091,60091,60092,null,null,null,{"$f":"_xlfn.TEXTJOIN(\"^\",,J162:J171)","v":"60094^60092^60091"},null,5,null,null,null,60091,60094,null,null,60094,null,null,null,{"$f":"_xlfn.TEXTJOIN(\"^\",,Y162:Y171)","v":"60092^60091"}]
[null,null,7,{"$nulls":12},{"$f":"_xlfn.TEXTJOIN(\"^\",,K162:K171)","v":"60093^60092^60091"},null,7,{"$nulls":11},{"$f":"_xlfn.TEXTJOIN(\"^\",,Z162:Z171)","v":"60093^60092^60094"}]
[null,null,9,{"$nulls":12},{"$f":"_xlfn.TEXTJOIN(\"^\",,L162:L171)","v":"60094^60091^60092"},null,9,{"$nulls":11},{"$f":"_xlfn.TEXTJOIN(\"^\",,AA162:AA171)","v":""}]
[{"$nulls":15},{"$f":"_xlfn.TEXTJOIN(\"^\",,M162:M171)","v":"60092^60091"},{"$nulls":13},{"$f":"_xlfn.TEXTJOIN(\"^\",,AB162:AB171)","v":""}]
[{"$nulls":15},{"$f":"_xlfn.TEXTJOIN(\"^\",,N162:N171)","v":"60093^60092"},{"$nulls":13},{"$f":"_xlfn.TEXTJOIN(\"^\",,AC162:AC171)","v":""}]
[{"$nulls":14},"最终",{"$f":"_xlfn.TEXTJOIN(\"|\",,P162:P172)","v":"60091^60092|60091^60094|60091^60092|60093^60091^60094|60091^60092|60093^60092|60094^60092^60091|60093^60092^60091|60094^60091^60092|60092^60091|60093^60092"},{"$nulls":12},"最终",{"$f":"_xlfn.TEXTJOIN(\"|\",,AD162:AD172)","v":"60091^60092|60094^60093|60091^60092|60093^60092^60091|60091^60092^60094|60093^60091|60092^60091|60093^60092^60094"}]
[null,null,8,{"$nulls":14},8]
[null,null,6,{"$nulls":14},6]
[null,null,4,{"$nulls":14},4]
[null,null,2,{"$nulls":14},2]
[null,null,1,"树精","树精","树精","哥布林","树精","哥布林","木精灵","哥布林","木精灵","毒蜘蛛","哥布林",null,null,null,1,"树精","木精灵","树精","哥布林","树精","哥布林","毒蜘蛛","哥布林"]
[null,null,3,"毒蜘蛛","木精灵","毒蜘蛛","树精","毒蜘蛛","毒蜘蛛","毒蜘蛛","毒蜘蛛","树精","树精","毒蜘蛛",null,null,null,3,"毒蜘蛛","哥布林","毒蜘蛛","毒蜘蛛","毒蜘蛛","树精","树精","毒蜘蛛"]
[null,null,5,null,null,null,"木精灵",null,null,"树精","树精","毒蜘蛛",{"$nulls":5},5,null,null,null,"树精","木精灵",null,null,"木精灵"]
[null,null,7,{"$nulls":14},7]
[null,null,9,{"$nulls":14},9]
[]
[null,null,"位置",5,17,30,45,55,70,85,95,110,120,135,null,null,null,"位置",1,3,6,10,15,21,35,{"$nulls":4},{"$f":"_xlfn.TEXTJOIN(\"^\",,S185:S193)","v":"0^0"}]
[null,null,8,{"$nulls":12},{"$f":"_xlfn.TEXTJOIN(\"^\",,D185:D194)","v":"0^0"},null,8,{"$nulls":11},{"$f":"_xlfn.TEXTJOIN(\"^\",,T185:T193)","v":"0^0"}]
[null,null,6,{"$nulls":12},{"$f":"_xlfn.TEXTJOIN(\"^\",,E185:E194)","v":"0^0"},null,6,{"$nulls":11},{"$f":"_xlfn.TEXTJOIN(\"^\",,U185:U193)","v":"0^0"}]
[null,null,4,{"$nulls":12},{"$f":"_xlfn.TEXTJOIN(\"^\",,F185:F194)","v":"0^0"},null,4,{"$nulls":11},{"$f":"_xlfn.TEXTJOIN(\"^\",,V185:V193)","v":"0^0^0"}]
[null,null,2,{"$nulls":12},{"$f":"_xlfn.TEXTJOIN(\"^\",,G185:G194)","v":"0^0^0"},null,2,{"$nulls":11},{"$f":"_xlfn.TEXTJOIN(\"^\",,W185:W193)","v":"0^0^0"}]
[null,null,1,0,0,0,0,0,0,0,0,0,0,0,null,{"$f":"_xlfn.TEXTJOIN(\"^\",,H185:H194)","v":"0^0"},null,1,0,0,0,0,0,0,0,0,null,null,null,{"$f":"_xlfn.TEXTJOIN(\"^\",,X185:X193)","v":"0^0"}]
[null,null,3,0,0,0,0,0,0,0,0,0,0,0,null,{"$f":"_xlfn.TEXTJOIN(\"^\",,I185:I194)","v":"0^0"},null,3,0,0,0,0,0,0,0,0,null,null,null,{"$f":"_xlfn.TEXTJOIN(\"^\",,Y185:Y193)","v":"0^0"}]
[null,null,5,null,null,null,0,null,null,0,0,0,null,null,null,{"$f":"_xlfn.TEXTJOIN(\"^\",,J185:J194)","v":"0^0^0"},null,5,null,null,null,0,0,null,null,0,null,null,null,{"$f":"_xlfn.TEXTJOIN(\"^\",,Z185:Z193)","v":"0^0^0"}]
[null,null,7,{"$nulls":12},{"$f":"_xlfn.TEXTJOIN(\"^\",,K185:K194)","v":"0^0^0"},null,7,{"$nulls":11},{"$f":"_xlfn.TEXTJOIN(\"^\",,AA185:AA193)","v":""}]
[null,null,9,{"$nulls":12},{"$f":"_xlfn.TEXTJOIN(\"^\",,L185:L194)","v":"0^0^0"},null,9,{"$nulls":11},{"$f":"_xlfn.TEXTJOIN(\"^\",,AB185:AB193)","v":""}]
[{"$nulls":15},{"$f":"_xlfn.TEXTJOIN(\"^\",,M185:M194)","v":"0^0"},{"$nulls":13},{"$f":"_xlfn.TEXTJOIN(\"^\",,AC185:AC193)","v":""}]
[{"$nulls":15},{"$f":"_xlfn.TEXTJOIN(\"^\",,N185:N194)","v":"0^0"},{"$nulls":12},"最终",{"$f":"_xlfn.TEXTJOIN(\"|\",,AD184:AD194)","v":"0^0|0^0|0^0|0^0^0|0^0^0|0^0|0^0|0^0^0"}]
[{"$nulls":14},"最终",{"$f":"_xlfn.TEXTJOIN(\"|\",,P185:P195)","v":"0^0|0^0|0^0|0^0^0|0^0|0^0|0^0^0|0^0^0|0^0^0|0^0|0^0"}]
[]
[null,null,"时间",5,17,30,45,55,70,85,95,110,120,135,null,null,null,"时间",1,3,6,10,15,21,35,{"$nulls":4},{"$f":"_xlfn.TEXTJOIN(\"^\",,S199:S207)","v":"20^10"}]
[null,null,8,{"$nulls":12},{"$f":"_xlfn.TEXTJOIN(\"^\",,D199:D208)","v":"4^2"},null,8,{"$nulls":11},{"$f":"_xlfn.TEXTJOIN(\"^\",,T199:T207)","v":"2^3"}]
[null,null,6,{"$nulls":12},{"$f":"_xlfn.TEXTJOIN(\"^\",,E199:E208)","v":"7^2"},null,6,{"$nulls":11},{"$f":"_xlfn.TEXTJOIN(\"^\",,U199:U207)","v":"5^4"}]
[null,null,4,{"$nulls":12},{"$f":"_xlfn.TEXTJOIN(\"^\",,F199:F208)","v":"7^4"},null,4,{"$nulls":11},{"$f":"_xlfn.TEXTJOIN(\"^\",,V199:V207)","v":"2^2^6"}]
[null,null,2,{"$nulls":12},{"$f":"_xlfn.TEXTJOIN(\"^\",,G199:G208)","v":"2^6^2"},null,2,{"$nulls":11},{"$f":"_xlfn.TEXTJOIN(\"^\",,W199:W207)","v":"5^3^2"}]
[null,null,1,4,7,7,2,8,2,2,2,2,3,3,null,{"$f":"_xlfn.TEXTJOIN(\"^\",,H199:H208)","v":"8^3"},null,1,20,2,5,2,5,3,3,2,null,null,null,{"$f":"_xlfn.TEXTJOIN(\"^\",,X199:X207)","v":"3^6"}]
[null,null,3,2,2,4,6,3,4,2,3,5,6,4,null,{"$f":"_xlfn.TEXTJOIN(\"^\",,I199:I208)","v":"2^4"},null,3,10,3,4,2,3,6,8,7,null,null,null,{"$f":"_xlfn.TEXTJOIN(\"^\",,Y199:Y207)","v":"3^8"}]
[null,null,5,null,null,null,2,null,null,6,5,3,null,null,null,{"$f":"_xlfn.TEXTJOIN(\"^\",,J199:J208)","v":"2^2^6"},null,5,null,null,null,6,2,null,null,2,null,null,null,{"$f":"_xlfn.TEXTJOIN(\"^\",,Z199:Z207)","v":"2^7^2"}]
[null,null,7,{"$nulls":12},{"$f":"_xlfn.TEXTJOIN(\"^\",,K199:K208)","v":"2^3^5"},null,7,{"$nulls":11},{"$f":"_xlfn.TEXTJOIN(\"^\",,AA199:AA207)","v":""}]
[null,null,9,{"$nulls":12},{"$f":"_xlfn.TEXTJOIN(\"^\",,L199:L208)","v":"2^5^3"},null,9,{"$nulls":11},{"$f":"_xlfn.TEXTJOIN(\"^\",,AB199:AB207)","v":""}]
[{"$nulls":15},{"$f":"_xlfn.TEXTJOIN(\"^\",,M199:M208)","v":"3^6"},{"$nulls":13},{"$f":"_xlfn.TEXTJOIN(\"^\",,AC199:AC207)","v":""}]
[{"$nulls":15},{"$f":"_xlfn.TEXTJOIN(\"^\",,N199:N208)","v":"3^4"},{"$nulls":12},"最终",{"$f":"_xlfn.TEXTJOIN(\"|\",,AD198:AD208)","v":"20^10|2^3|5^4|2^2^6|5^3^2|3^6|3^8|2^7^2"}]
[{"$nulls":14},"最终",{"$f":"_xlfn.TEXTJOIN(\"|\",,P199:P209)","v":"4^2|7^2|7^4|2^6^2|8^3|2^4|2^2^6|2^3^5|2^5^3|3^6|3^4"},{"$nulls":13},{"$f":"SUM(S200:AB207)","v":95}]
[{"$nulls":15},{"$f":"SUM(D201:N208)","v":99},{"$nulls":13},{"$f":"AD210+P211","v":194}]
[]
[{"$nulls":4},{"$f":"E214-D214","v":12},{"$f":"F214-E214","v":12},15,10,15,12,13,15,13,7,{"$nulls":5},{"$f":"T214-S214","v":2},4,6,6,10,12,13,10]
[3,"密林-5","波1·怪物",6,18,30,45,55,70,82,95,110,123,130,null,null,null,"波2·怪物",2,4,8,14,20,30,42,55,65,75]
[null,"4.5m",8,{"$nulls":12},{"$f":"_xlfn.TEXTJOIN(\"^\",,D215:D224)","v":"60101"},null,8,{"$nulls":11},{"$f":"_xlfn.TEXTJOIN(\"^\",,S215:S224)","v":"60101^60101^60101^60101"}]
[null,null,6,{"$nulls":12},{"$f":"_xlfn.TEXTJOIN(\"^\",,E215:E224)","v":"60101^60102"},null,6,null,null,60104,{"$nulls":4},60101,60102,null,null,{"$f":"_xlfn.TEXTJOIN(\"^\",,T215:T224)","v":"60102^60102^60102"}]
[null,null,4,{"$nulls":12},{"$f":"_xlfn.TEXTJOIN(\"^\",,F215:F224)","v":"60101^60104"},null,4,60101,60102,null,60102,null,60101,60102,60101,null,60102,null,{"$f":"_xlfn.TEXTJOIN(\"^\",,U215:U224)","v":"60104^60103^60104"}]
[null,null,2,{"$nulls":12},{"$f":"_xlfn.TEXTJOIN(\"^\",,G215:G224)","v":"60101^60102^60103"},null,2,60101,null,null,60101,60103,60101,null,60101,null,60104,null,{"$f":"_xlfn.TEXTJOIN(\"^\",,V215:V224)","v":"60102^60101^60101^60101^60102"}]
[null,null,1,60101,60101,60101,60101,60104,60101,60101,60101,60101,60101,60105,null,{"$f":"_xlfn.TEXTJOIN(\"^\",,H215:H224)","v":"60104^60102^60103"},null,1,null,60102,60103,60101,60103,60104,60102,null,60103,60102,null,{"$f":"_xlfn.TEXTJOIN(\"^\",,W215:W224)","v":"60103^60103^60103"}]
[null,null,3,null,60102,60104,60102,60102,60102,60103,60102,60102,60103,60102,null,{"$f":"_xlfn.TEXTJOIN(\"^\",,I215:I224)","v":"60101^60102"},null,3,60101,null,null,60101,60103,60101,null,60101,60103,60104,null,{"$f":"_xlfn.TEXTJOIN(\"^\",,X215:X224)","v":"60101^60101^60104^60101^60101"}]
[null,null,5,null,null,null,60103,60103,null,60104,60103,null,60104,null,null,{"$f":"_xlfn.TEXTJOIN(\"^\",,J215:J224)","v":"60101^60103^60104"},null,5,60101,60102,null,60102,null,60101,60102,60101,null,60102,null,{"$f":"_xlfn.TEXTJOIN(\"^\",,Y215:Y224)","v":"60102^60102^60102"}]
[null,null,7,{"$nulls":12},{"$f":"_xlfn.TEXTJOIN(\"^\",,K215:K224)","v":"60101^60102^60103"},null,7,null,null,60104,{"$nulls":4},60101,60102,null,null,{"$f":"_xlfn.TEXTJOIN(\"^\",,Z215:Z224)","v":"60101^60101^60101^60101^60101^60101"}]
[null,null,9,{"$nulls":12},{"$f":"_xlfn.TEXTJOIN(\"^\",,L215:L224)","v":"60101^60102"},null,9,{"$nulls":11},{"$f":"_xlfn.TEXTJOIN(\"^\",,AA215:AA224)","v":"60102^60103^60103^60102"}]
[{"$nulls":15},{"$f":"_xlfn.TEXTJOIN(\"^\",,M215:M224)","v":"60101^60103^60104"},{"$nulls":13},{"$f":"_xlfn.TEXTJOIN(\"^\",,AB215:AB224)","v":"60102^60104^60102^60104^60102"}]
[{"$nulls":15},{"$f":"_xlfn.TEXTJOIN(\"^\",,N215:N224)","v":"60105^60102"},{"$nulls":13},{"$f":"_xlfn.TEXTJOIN(\"^\",,AC215:AC224)","v":""}]
[{"$nulls":14},"最终",{"$f":"_xlfn.TEXTJOIN(\"|\",,P215:P225)","v":"60101|60101^60102|60101^60104|60101^60102^60103|60104^60102^60103|60101^60102|60101^60103^60104|60101^60102^60103|60101^60102|60101^60103^60104|60105^60102"},{"$nulls":12},"最终",{"$f":"_xlfn.TEXTJOIN(\"^\",,AD215:AD225)","v":"60101^60101^60101^60101^60102^60102^60102^60104^60103^60104^60102^60101^60101^60101^60102^60103^60103^60103^60101^60101^60104^60101^60101^60102^60102^60102^60101^60101^60101^60101^60101^60101^60102^60103^60103^60102^60102^60104^60102^60104^60102"}]
[null,null,8,{"$nulls":14},8]
[null,null,6,{"$nulls":14},6,null,null,"木精灵",{"$nulls":4},"树精","毒蜘蛛"]
[null,null,4,{"$nulls":14},4,"树精","毒蜘蛛",null,"毒蜘蛛",null,"树精","毒蜘蛛","树精",null,"毒蜘蛛"]
[null,null,2,{"$nulls":14},2,"树精",null,null,"树精","哥布林","树精",null,"树精",null,"木精灵"]
[null,null,1,"树精","树精","树精","树精","木精灵","树精","树精","树精","树精","树精","森林巨兽",null,null,null,1,null,"毒蜘蛛","哥布林","树精","哥布林","木精灵","毒蜘蛛",null,"哥布林","毒蜘蛛"]
[null,null,3,null,"毒蜘蛛","木精灵","毒蜘蛛","毒蜘蛛","毒蜘蛛","哥布林","毒蜘蛛","毒蜘蛛","哥布林","毒蜘蛛",null,null,null,3,"树精",null,null,"树精","哥布林","树精",null,"树精","哥布林","木精灵"]
[null,null,5,null,null,null,"哥布林","哥布林",null,"木精灵","哥布林",null,"木精灵",{"$nulls":4},5,"树精","毒蜘蛛",null,"毒蜘蛛",null,"树精","毒蜘蛛","树精",null,"毒蜘蛛"]
[null,null,7,{"$nulls":14},7,null,null,"木精灵",{"$nulls":4},"树精","毒蜘蛛"]
[null,null,9,{"$nulls":14},9]
[]
[null,null,"位置",6,18,30,45,55,70,82,95,110,123,130,null,null,null,"位置",2,4,8,14,20,30,42,55,65,75,null,{"$f":"_xlfn.TEXTJOIN(\"^\",,S238:S246)","v":"4^2^3^5"}]
[null,null,8,{"$nulls":12},{"$f":"_xlfn.TEXTJOIN(\"^\",,D238:D247)","v":"0"},null,8,{"$nulls":11},{"$f":"_xlfn.TEXTJOIN(\"^\",,T238:T246)","v":"4^1^5"}]
[null,null,6,{"$nulls":12},{"$f":"_xlfn.TEXTJOIN(\"^\",,E238:E247)","v":"0^0"},null,6,null,null,{"$f":"$C239","v":6},{"$nulls":4},{"$f":"$C239","v":6},{"$f":"$C239","v":6},null,null,{"$f":"_xlfn.TEXTJOIN(\"^\",,U238:U246)","v":"6^1^7"}]
[null,null,4,{"$nulls":12},{"$f":"_xlfn.TEXTJOIN(\"^\",,F238:F247)","v":"0^0"},null,4,{"$f":"$C240","v":4},{"$f":"$C240","v":4},null,{"$f":"$C240","v":4},null,{"$f":"$C240","v":4},{"$f":"$C240","v":4},4,null,{"$f":"$C240","v":4},null,{"$f":"_xlfn.TEXTJOIN(\"^\",,V238:V246)","v":"4^2^1^3^5"}]
[null,null,2,{"$nulls":12},{"$f":"_xlfn.TEXTJOIN(\"^\",,G238:G247)","v":"0^0^0"},null,2,2,null,null,2,2,2,null,2,null,2,null,{"$f":"_xlfn.TEXTJOIN(\"^\",,W238:W246)","v":"2^1^3"}]
[null,null,1,0,0,0,0,0,0,0,0,0,0,0,null,{"$f":"_xlfn.TEXTJOIN(\"^\",,H238:H247)","v":"0^0^0"},null,1,null,{"$f":"$C242","v":1},1,1,1,1,{"$f":"$C242","v":1},null,{"$f":"$C242","v":1},1,null,{"$f":"_xlfn.TEXTJOIN(\"^\",,X238:X246)","v":"4^2^1^3^5"}]
[null,null,3,null,0,0,0,0,0,0,0,0,0,0,null,{"$f":"_xlfn.TEXTJOIN(\"^\",,I238:I247)","v":"0^0"},null,3,{"$f":"$C243","v":3},null,null,3,3,3,null,{"$f":"$C243","v":3},3,3,null,{"$f":"_xlfn.TEXTJOIN(\"^\",,Y238:Y246)","v":"4^1^5"}]
[null,null,5,null,null,null,0,0,null,0,0,null,0,null,null,{"$f":"_xlfn.TEXTJOIN(\"^\",,J238:J247)","v":"0^0^0"},null,5,5,{"$f":"$C244","v":5},null,5,null,5,{"$f":"$C244","v":5},5,null,5,null,{"$f":"_xlfn.TEXTJOIN(\"^\",,Z238:Z246)","v":"6^4^2^3^5^7"}]
[null,null,7,{"$nulls":12},{"$f":"_xlfn.TEXTJOIN(\"^\",,K238:K247)","v":"0^0^0"},null,7,null,null,{"$f":"$C245","v":7},{"$nulls":4},7,{"$f":"$C245","v":7},null,null,{"$f":"_xlfn.TEXTJOIN(\"^\",,AA238:AA246)","v":"6^1^3^7"}]
[null,null,9,{"$nulls":12},{"$f":"_xlfn.TEXTJOIN(\"^\",,L238:L247)","v":"0^0"},null,9,{"$nulls":11},{"$f":"_xlfn.TEXTJOIN(\"^\",,AB238:AB246)","v":"4^2^1^3^5"}]
[{"$nulls":15},{"$f":"_xlfn.TEXTJOIN(\"^\",,M238:M247)","v":"0^0^0"},{"$nulls":13},{"$f":"_xlfn.TEXTJOIN(\"^\",,AC238:AC246)","v":""}]
[{"$nulls":15},{"$f":"_xlfn.TEXTJOIN(\"^\",,N238:N247)","v":"0^0"},{"$nulls":12},"最终",{"$f":"_xlfn.TEXTJOIN(\"^\",,AD237:AD247)","v":"4^2^3^5^4^1^5^6^1^7^4^2^1^3^5^2^1^3^4^2^1^3^5^4^1^5^6^4^2^3^5^7^6^1^3^7^4^2^1^3^5"}]
[{"$nulls":14},"最终",{"$f":"_xlfn.TEXTJOIN(\"|\",,P238:P248)","v":"0|0^0|0^0|0^0^0|0^0^0|0^0|0^0^0|0^0^0|0^0|0^0^0|0^0"}]
[]
[null,null,"时间",6,18,30,45,55,70,82,95,110,123,130,null,null,null,"时间",2,4,8,14,20,30,42,55,65,75,null,{"$f":"_xlfn.TEXTJOIN(\"^\",,S252:S260)","v":"2^2^2^2"}]
[null,null,8,{"$nulls":12},{"$f":"_xlfn.TEXTJOIN(\"^\",,D252:D261)","v":"7"},null,8,{"$nulls":11},{"$f":"_xlfn.TEXTJOIN(\"^\",,T252:T260)","v":"4^1^4"}]
[null,null,6,{"$nulls":12},{"$f":"_xlfn.TEXTJOIN(\"^\",,E252:E261)","v":"8^2"},null,6,null,null,{"$f":"U$251","v":8},{"$nulls":4},{"$f":"Z$251","v":55},65,null,null,{"$f":"_xlfn.TEXTJOIN(\"^\",,U252:U260)","v":"8^8^8"}]
[null,null,4,{"$nulls":12},{"$f":"_xlfn.TEXTJOIN(\"^\",,F252:F261)","v":"9^2"},null,4,{"$f":"S$251","v":2},4,null,{"$f":"V$251","v":14},null,{"$f":"X$251","v":30},42,55,null,{"$f":"AB$251","v":75},null,{"$f":"_xlfn.TEXTJOIN(\"^\",,V252:V260)","v":"14^14^14^14^14"}]
[null,null,2,{"$nulls":12},{"$f":"_xlfn.TEXTJOIN(\"^\",,G252:G261)","v":"6^3^2"},null,2,2,null,null,14,20,30,null,55,null,75,null,{"$f":"_xlfn.TEXTJOIN(\"^\",,W252:W260)","v":"20^20^20"}]
[null,null,1,7,8,9,6,2,10,6,7,8,8,1,null,{"$f":"_xlfn.TEXTJOIN(\"^\",,H252:H261)","v":"2^4^3"},null,1,null,{"$f":"$C256","v":1},8,14,20,30,42,null,{"$f":"AA$251","v":65},75,null,{"$f":"_xlfn.TEXTJOIN(\"^\",,X252:X260)","v":"30^30^30^30^30"}]
[null,null,3,null,2,2,3,4,2,3,3,4,3,4,null,{"$f":"_xlfn.TEXTJOIN(\"^\",,I252:I261)","v":"10^2"},null,3,{"$f":"S$251","v":2},null,null,14,20,30,null,{"$f":"Z$251","v":55},65,75,null,{"$f":"_xlfn.TEXTJOIN(\"^\",,Y252:Y260)","v":"42^42^42"}]
[null,null,5,null,null,null,2,3,null,2,2,null,2,null,null,{"$f":"_xlfn.TEXTJOIN(\"^\",,J252:J261)","v":"6^3^2"},null,5,2,4,null,14,null,30,42,55,null,75,null,{"$f":"_xlfn.TEXTJOIN(\"^\",,Z252:Z260)","v":"55^55^55^55^55^55"}]
[null,null,7,{"$nulls":12},{"$f":"_xlfn.TEXTJOIN(\"^\",,K252:K261)","v":"7^3^2"},null,7,null,null,{"$f":"U$251","v":8},{"$nulls":4},55,65,null,null,{"$f":"_xlfn.TEXTJOIN(\"^\",,AA252:AA260)","v":"65^65^65^65"}]
[null,null,9,{"$nulls":12},{"$f":"_xlfn.TEXTJOIN(\"^\",,L252:L261)","v":"8^4"},null,9,{"$nulls":11},{"$f":"_xlfn.TEXTJOIN(\"^\",,AB252:AB260)","v":"75^75^75^75^75"}]
[{"$nulls":15},{"$f":"_xlfn.TEXTJOIN(\"^\",,M252:M261)","v":"8^3^2"},{"$nulls":13},{"$f":"_xlfn.TEXTJOIN(\"^\",,AC252:AC260)","v":""}]
[{"$nulls":15},{"$f":"_xlfn.TEXTJOIN(\"^\",,N252:N261)","v":"1^4"},{"$nulls":12},"最终",{"$f":"_xlfn.TEXTJOIN(\"^\",,AD251:AD261)","v":"2^2^2^2^4^1^4^8^8^8^14^14^14^14^14^20^20^20^30^30^30^30^30^42^42^42^55^55^55^55^55^55^65^65^65^65^75^75^75^75^75"}]
[{"$nulls":14},"最终",{"$f":"_xlfn.TEXTJOIN(\"|\",,P252:P262)","v":"7|8^2|9^2|6^3^2|2^4^3|10^2|6^3^2|7^3^2|8^4|8^3^2|1^4"}]

{"sheet":"3","index":3,"n_rows":264,"n_cols":44,"rows_kept":264,"cut":false,"hidden":false,"merged":[]}
[]
[{"$nulls":4},{"$f":"E3-D3","v":12},{"$f":"F3-E3","v":13},15,15,15,17,18,20,20,20,{"$nulls":5},{"$f":"T3-S3","v":3},3,6,6,10,10,15,15,20]
[3,"雪原-1","波1·怪物",5,17,30,45,60,75,92,110,130,150,170,null,null,null,"波2·怪物",2,5,8,14,20,30,40,55,70,90]
[null,"4.5m",8,{"$nulls":12},{"$f":"_xlfn.TEXTJOIN(\"^\",,D4:D13)","v":"60111"},null,8,{"$nulls":11},{"$f":"_xlfn.TEXTJOIN(\"^\",,S4:S13)","v":"60111"}]
[null,null,6,{"$nulls":12},{"$f":"_xlfn.TEXTJOIN(\"^\",,E4:E13)","v":"60111^60112"},null,6,{"$nulls":11},{"$f":"_xlfn.TEXTJOIN(\"^\",,T4:T13)","v":"60112^60114"}]
[null,null,4,{"$nulls":12},{"$f":"_xlfn.TEXTJOIN(\"^\",,F4:F13)","v":"60114^60111^60112"},null,4,{"$nulls":11},{"$f":"_xlfn.TEXTJOIN(\"^\",,U4:U13)","v":"60113^60112"}]
[null,null,2,{"$nulls":12},{"$f":"_xlfn.TEXTJOIN(\"^\",,G4:G13)","v":"60111^60113"},null,2,{"$nulls":11},{"$f":"_xlfn.TEXTJOIN(\"^\",,V4:V13)","v":"60111^60112"}]
[null,null,1,60111,60111,60114,60111,60114,60113,60112,60111,60114,60114,60113,null,{"$f":"_xlfn.TEXTJOIN(\"^\",,H4:H13)","v":"60114^60111^60112"},null,1,60111,60112,60113,60111,60112,60114,60112,60111,60113,60112,null,{"$f":"_xlfn.TEXTJOIN(\"^\",,W4:W13)","v":"60112^60113^60111"}]
[null,null,3,null,60112,60111,60113,60111,60114,60111,60113,60111,60112,60112,null,{"$f":"_xlfn.TEXTJOIN(\"^\",,I4:I13)","v":"60113^60114"},null,3,null,60114,60112,60112,60113,60111,60111,60114,60112,60111,null,{"$f":"_xlfn.TEXTJOIN(\"^\",,X4:X13)","v":"60114^60111"}]
[null,null,5,null,null,60112,null,60112,null,null,null,60112,60111,60114,null,{"$f":"_xlfn.TEXTJOIN(\"^\",,J4:J13)","v":"60112^60111"},null,5,{"$nulls":4},60111,null,null,null,60111,60114,null,{"$f":"_xlfn.TEXTJOIN(\"^\",,Y4:Y13)","v":"60112^60111"}]
[null,null,7,{"$nulls":12},{"$f":"_xlfn.TEXTJOIN(\"^\",,K4:K13)","v":"60111^60113"},null,7,{"$nulls":11},{"$f":"_xlfn.TEXTJOIN(\"^\",,Z4:Z13)","v":"60111^60114"}]
[null,null,9,{"$nulls":12},{"$f":"_xlfn.TEXTJOIN(\"^\",,L4:L13)","v":"60114^60111^60112"},null,9,{"$nulls":11},{"$f":"_xlfn.TEXTJOIN(\"^\",,AA4:AA13)","v":"60113^60112^60111"}]
[{"$nulls":15},{"$f":"_xlfn.TEXTJOIN(\"^\",,M4:M13)","v":"60114^60112^60111"},{"$nulls":13},{"$f":"_xlfn.TEXTJOIN(\"^\",,AB4:AB13)","v":"60112^60111^60114"}]
[{"$nulls":15},{"$f":"_xlfn.TEXTJOIN(\"^\",,N4:N13)","v":"60113^60112^60114"},{"$nulls":13},{"$f":"_xlfn.TEXTJOIN(\"^\",,AC4:AC13)","v":""}]
[{"$nulls":14},"最终",{"$f":"_xlfn.TEXTJOIN(\"|\",,P4:P14)","v":"60111|60111^60112|60114^60111^60112|60111^60113|60114^60111^60112|60113^60114|60112^60111|60111^60113|60114^60111^60112|60114^60112^60111|60113^60112^60114"},{"$nulls":12},"最终",{"$f":"_xlfn.TEXTJOIN(\"|\",,AD4:AD14)","v":"60111|60112^60114|60113^60112|60111^60112|60112^60113^60111|60114^60111|60112^60111|60111^60114|60113^60112^60111|60112^60111^60114"}]
[null,null,8,{"$nulls":14},8]
[null,null,6,{"$nulls":14},6]
[null,null,4,{"$nulls":14},4]
[null,null,2,{"$nulls":14},2]
[null,null,1,"雪怪","雪怪","木精灵","雪怪","木精灵","雪原熊","独角兽","雪怪","木精灵","木精灵","雪原熊",null,null,null,1,"雪怪","独角兽","雪原熊","雪怪","独角兽","木精灵","独角兽","雪怪","雪原熊","独角兽"]
[null,null,3,null,"独角兽","雪怪","雪原熊","雪怪","木精灵","雪怪","雪原熊","雪怪","独角兽","独角兽",null,null,null,3,null,"木精灵","独角兽","独角兽","雪原熊","雪怪","雪怪","木精灵","独角兽","雪怪"]
[null,null,5,null,null,"独角兽",null,"独角兽",null,null,null,"独角兽","雪怪","木精灵",null,null,null,5,{"$nulls":4},"雪怪",null,null,null,"雪怪","木精灵"]
[null,null,7,{"$nulls":14},7]
[null,null,9,{"$nulls":14},9]
[]
[null,null,"位置",5,17,30,45,60,75,92,110,130,150,170,null,null,null,"位置",2,5,8,14,20,30,40,55,70,90,null,{"$f":"_xlfn.TEXTJOIN(\"^\",,S27:S35)","v":"0"}]
[null,null,8,{"$nulls":12},{"$f":"_xlfn.TEXTJOIN(\"^\",,D27:D36)","v":"0"},null,8,{"$nulls":11},{"$f":"_xlfn.TEXTJOIN(\"^\",,T27:T35)","v":"0^0"}]
[null,null,6,{"$nulls":12},{"$f":"_xlfn.TEXTJOIN(\"^\",,E27:E36)","v":"0^0"},null,6,{"$nulls":11},{"$f":"_xlfn.TEXTJOIN(\"^\",,U27:U35)","v":"0^0"}]
[null,null,4,{"$nulls":12},{"$f":"_xlfn.TEXTJOIN(\"^\",,F27:F36)","v":"0^0^0"},null,4,{"$nulls":11},{"$f":"_xlfn.TEXTJOIN(\"^\",,V27:V35)","v":"0^0"}]
[null,null,2,{"$nulls":12},{"$f":"_xlfn.TEXTJOIN(\"^\",,G27:G36)","v":"0^0"},null,2,{"$nulls":11},{"$f":"_xlfn.TEXTJOIN(\"^\",,W27:W35)","v":"0^0^0"}]
[null,null,1,0,0,0,0,0,0,0,0,0,0,0,null,{"$f":"_xlfn.TEXTJOIN(\"^\",,H27:H36)","v":"0^0^0"},null,1,0,0,0,0,0,0,0,0,0,0,null,{"$f":"_xlfn.TEXTJOIN(\"^\",,X27:X35)","v":"0^0"}]
[null,null,3,null,0,0,0,0,0,0,0,0,0,0,null,{"$f":"_xlfn.TEXTJOIN(\"^\",,I27:I36)","v":"0^0"},null,3,null,0,0,0,0,0,0,0,0,0,null,{"$f":"_xlfn.TEXTJOIN(\"^\",,Y27:Y35)","v":"0^0"}]
[null,null,5,null,null,0,null,0,null,null,null,0,0,0,null,{"$f":"_xlfn.TEXTJOIN(\"^\",,J27:J36)","v":"0^0"},null,5,{"$nulls":4},0,null,null,null,0,0,null,{"$f":"_xlfn.TEXTJOIN(\"^\",,Z27:Z35)","v":"0^0"}]
[null,null,7,{"$nulls":12},{"$f":"_xlfn.TEXTJOIN(\"^\",,K27:K36)","v":"0^0"},null,7,{"$nulls":11},{"$f":"_xlfn.TEXTJOIN(\"^\",,AA27:AA35)","v":"0^0^0"}]
[null,null,9,{"$nulls":12},{"$f":"_xlfn.TEXTJOIN(\"^\",,L27:L36)","v":"0^0^0"},null,9,{"$nulls":11},{"$f":"_xlfn.TEXTJOIN(\"^\",,AB27:AB35)","v":"0^0^0"}]
[{"$nulls":15},{"$f":"_xlfn.TEXTJOIN(\"^\",,M27:M36)","v":"0^0^0"},{"$nulls":13},{"$f":"_xlfn.TEXTJOIN(\"^\",,AC27:AC35)","v":""}]
[{"$nulls":15},{"$f":"_xlfn.TEXTJOIN(\"^\",,N27:N36)","v":"0^0^0"},{"$nulls":12},"最终",{"$f":"_xlfn.TEXTJOIN(\"|\",,AD26:AD36)","v":"0|0^0|0^0|0^0|0^0^0|0^0|0^0|0^0|0^0^0|0^0^0"}]
[{"$nulls":14},"最终",{"$f":"_xlfn.TEXTJOIN(\"|\",,P27:P37)","v":"0|0^0|0^0^0|0^0|0^0^0|0^0|0^0|0^0|0^0^0|0^0^0|0^0^0"}]
[]
[null,null,"时间",5,17,30,45,60,75,92,110,130,150,170,null,null,null,"时间",2,5,8,14,20,30,40,55,70,90,null,{"$f":"_xlfn.TEXTJOIN(\"^\",,S41:S49)","v":"25"}]
[null,null,8,{"$nulls":12},{"$f":"_xlfn.TEXTJOIN(\"^\",,D41:D50)","v":"6"},null,8,{"$nulls":11},{"$f":"_xlfn.TEXTJOIN(\"^\",,T41:T49)","v":"6^3"}]
[null,null,6,{"$nulls":12},{"$f":"_xlfn.TEXTJOIN(\"^\",,E41:E50)","v":"6^3"},null,6,{"$nulls":11},{"$f":"_xlfn.TEXTJOIN(\"^\",,U41:U49)","v":"3^6"}]
[null,null,4,{"$nulls":12},{"$f":"_xlfn.TEXTJOIN(\"^\",,F41:F50)","v":"2^6^3"},null,4,{"$nulls":11},{"$f":"_xlfn.TEXTJOIN(\"^\",,V41:V49)","v":"7^3"}]
[null,null,2,{"$nulls":12},{"$f":"_xlfn.TEXTJOIN(\"^\",,G41:G50)","v":"8^2"},null,2,{"$nulls":11},{"$f":"_xlfn.TEXTJOIN(\"^\",,W41:W49)","v":"3^2^6"}]
[null,null,1,6,6,2,8,2,6,4,8,2,2,2,null,{"$f":"_xlfn.TEXTJOIN(\"^\",,H41:H50)","v":"2^5^4"},null,1,25,6,3,7,3,2,4,10,2,4,null,{"$f":"_xlfn.TEXTJOIN(\"^\",,X41:X49)","v":"2^9"}]
[null,null,3,null,3,6,2,5,3,6,2,7,4,8,null,{"$f":"_xlfn.TEXTJOIN(\"^\",,I41:I50)","v":"6^3"},null,3,null,3,6,3,2,9,8,2,3,7,null,{"$f":"_xlfn.TEXTJOIN(\"^\",,Y41:Y49)","v":"4^8"}]
[null,null,5,null,null,3,null,4,null,null,null,3,7,2,null,{"$f":"_xlfn.TEXTJOIN(\"^\",,J41:J50)","v":"4^6"},null,5,{"$nulls":4},6,null,null,null,6,2,null,{"$f":"_xlfn.TEXTJOIN(\"^\",,Z41:Z49)","v":"10^2"}]
[null,null,7,{"$nulls":12},{"$f":"_xlfn.TEXTJOIN(\"^\",,K41:K50)","v":"8^2"},null,7,{"$nulls":11},{"$f":"_xlfn.TEXTJOIN(\"^\",,AA41:AA49)","v":"2^3^6"}]
[null,null,9,{"$nulls":12},{"$f":"_xlfn.TEXTJOIN(\"^\",,L41:L50)","v":"2^7^3"},null,9,{"$nulls":11},{"$f":"_xlfn.TEXTJOIN(\"^\",,AB41:AB49)","v":"4^7^2"}]
[{"$nulls":15},{"$f":"_xlfn.TEXTJOIN(\"^\",,M41:M50)","v":"2^4^7"},{"$nulls":13},{"$f":"_xlfn.TEXTJOIN(\"^\",,AC41:AC49)","v":""}]
[{"$nulls":15},{"$f":"_xlfn.TEXTJOIN(\"^\",,N41:N50)","v":"2^8^2"},{"$nulls":12},"最终",{"$f":"_xlfn.TEXTJOIN(\"|\",,AD40:AD50)","v":"25|6^3|3^6|7^3|3^2^6|2^9|4^8|10^2|2^3^6|4^7^2"}]
[{"$nulls":14},"最终",{"$f":"_xlfn.TEXTJOIN(\"|\",,P41:P51)","v":"6|6^3|2^6^3|8^2|2^5^4|6^3|4^6|8^2|2^7^3|2^4^7|2^8^2"},{"$nulls":13},{"$f":"SUM(S41:AB48)","v":123}]
[{"$nulls":15},{"$f":"SUM(D42:N49)","v":113},{"$nulls":13},{"$f":"AD52+P53","v":236}]
[]
[{"$nulls":4},{"$f":"E56-D56","v":12},{"$f":"F56-E56","v":13},14,15,15,17,18,20,20,20,{"$nulls":5},{"$f":"T56-S56","v":3},3,5,5,10,12,14,16,20]
[3,"雪原-2","波1·怪物",6,18,31,45,60,75,92,110,130,150,170,null,null,null,"波2·怪物",1,4,7,12,17,27,39,53,69,89]
[null,"4.5m",8,{"$nulls":12},{"$f":"_xlfn.TEXTJOIN(\"^\",,D57:D66)","v":"60121^60122"},null,8,{"$nulls":11},{"$f":"_xlfn.TEXTJOIN(\"^\",,S57:S66)","v":"60121^60124"}]
[null,null,6,{"$nulls":12},{"$f":"_xlfn.TEXTJOIN(\"^\",,E57:E66)","v":"60122^60124"},null,6,{"$nulls":11},{"$f":"_xlfn.TEXTJOIN(\"^\",,T57:T66)","v":"60122^60121"}]
[null,null,4,{"$nulls":12},{"$f":"_xlfn.TEXTJOIN(\"^\",,F57:F66)","v":"60121^60122"},null,4,{"$nulls":11},{"$f":"_xlfn.TEXTJOIN(\"^\",,U57:U66)","v":"60123^60121"}]
[null,null,2,{"$nulls":12},{"$f":"_xlfn.TEXTJOIN(\"^\",,G57:G66)","v":"60123^60122^60121"},null,2,{"$nulls":11},{"$f":"_xlfn.TEXTJOIN(\"^\",,V57:V66)","v":"60122^60121"}]
[null,null,1,60121,60122,60121,60123,60121,60123,60124,60121,60123,60124,60123,null,{"$f":"_xlfn.TEXTJOIN(\"^\",,H57:H66)","v":"60121^60124"},null,1,60121,60122,60123,60122,60124,60124,60123,60124,60121,60124,null,{"$f":"_xlfn.TEXTJOIN(\"^\",,W57:W66)","v":"60124^60123^60121"}]
[null,null,3,60122,60124,60122,60122,60124,60122,60122,60124,60122,60122,60124,null,{"$f":"_xlfn.TEXTJOIN(\"^\",,I57:I66)","v":"60123^60122^60121"},null,3,60124,60121,60121,60121,60123,60121,60122,60122,60122,60123,null,{"$f":"_xlfn.TEXTJOIN(\"^\",,X57:X66)","v":"60124^60121^60122"}]
[null,null,5,null,null,null,60121,null,60121,60121,null,null,60121,null,null,{"$f":"_xlfn.TEXTJOIN(\"^\",,J57:J66)","v":"60124^60122^60121"},null,5,{"$nulls":4},60121,60122,null,60121,null,60121,null,{"$f":"_xlfn.TEXTJOIN(\"^\",,Y57:Y66)","v":"60123^60122"}]
[null,null,7,{"$nulls":12},{"$f":"_xlfn.TEXTJOIN(\"^\",,K57:K66)","v":"60121^60124"},null,7,{"$nulls":9},60122,null,{"$f":"_xlfn.TEXTJOIN(\"^\",,Z57:Z66)","v":"60124^60122^60121"}]
[null,null,9,{"$nulls":12},{"$f":"_xlfn.TEXTJOIN(\"^\",,L57:L66)","v":"60123^60122"},null,9,{"$nulls":11},{"$f":"_xlfn.TEXTJOIN(\"^\",,AA57:AA66)","v":"60121^60122"}]
[{"$nulls":15},{"$f":"_xlfn.TEXTJOIN(\"^\",,M57:M66)","v":"60124^60122^60121"},{"$nulls":13},{"$f":"_xlfn.TEXTJOIN(\"^\",,AB57:AB66)","v":"60124^60123^60121^60122"}]
[{"$nulls":15},{"$f":"_xlfn.TEXTJOIN(\"^\",,N57:N66)","v":"60123^60124"},{"$nulls":13},{"$f":"_xlfn.TEXTJOIN(\"^\",,AC57:AC66)","v":""}]
[{"$nulls":14},"最终",{"$f":"_xlfn.TEXTJOIN(\"|\",,P57:P67)","v":"60121^60122|60122^60124|60121^60122|60123^60122^60121|60121^60124|60123^60122^60121|60124^60122^60121|60121^60124|60123^60122|60124^60122^60121|60123^60124"},{"$nulls":12},"最终",{"$f":"_xlfn.TEXTJOIN(\"|\",,AD57:AD67)","v":"60121^60124|60122^60121|60123^60121|60122^60121|60124^60123^60121|60124^60121^60122|60123^60122|60124^60122^60121|60121^60122|60124^60123^60121^60122"}]
[null,null,8,{"$nulls":14},8]
[null,null,6,{"$nulls":14},6]
[null,null,4,{"$nulls":14},4]
[null,null,2,{"$nulls":14},2]
[null,null,1,"雪怪","独角兽","雪怪","雪原熊","雪怪","雪原熊","木精灵","雪怪","雪原熊","木精灵","雪原熊",null,null,null,1,"雪怪","独角兽","雪原熊","独角兽","木精灵","木精灵","雪原熊","木精灵","雪怪","木精灵"]
[null,null,3,"独角兽","木精灵","独角兽","独角兽","木精灵","独角兽","独角兽","木精灵","独角兽","独角兽","木精灵",null,null,null,3,"木精灵","雪怪","雪怪","雪怪","雪原熊","雪怪","独角兽","独角兽","独角兽","雪原熊"]
[null,null,5,null,null,null,"雪怪",null,"雪怪","雪怪",null,null,"雪怪",{"$nulls":4},5,{"$nulls":4},"雪怪","独角兽",null,"雪怪",null,"雪怪"]
[null,null,7,{"$nulls":14},7,{"$nulls":9},"独角兽"]
[null,null,9,{"$nulls":14},9]
[]
[null,null,"位置",6,18,31,45,60,75,92,110,130,150,170,null,null,null,"位置",1,4,7,12,17,27,39,53,69,89,null,{"$f":"_xlfn.TEXTJOIN(\"^\",,S80:S88)","v":"0^0"}]
[null,null,8,{"$nulls":12},{"$f":"_xlfn.TEXTJOIN(\"^\",,D80:D89)","v":"0^0"},null,8,{"$nulls":11},{"$f":"_xlfn.TEXTJOIN(\"^\",,T80:T88)","v":"0^0"}]
[null,null,6,{"$nulls":12},{"$f":"_xlfn.TEXTJOIN(\"^\",,E80:E89)","v":"0^0"},null,6,{"$nulls":11},{"$f":"_xlfn.TEXTJOIN(\"^\",,U80:U88)","v":"0^0"}]
[null,null,4,{"$nulls":12},{"$f":"_xlfn.TEXTJOIN(\"^\",,F80:F89)","v":"0^0"},null,4,{"$nulls":11},{"$f":"_xlfn.TEXTJOIN(\"^\",,V80:V88)","v":"0^0"}]
[null,null,2,{"$nulls":12},{"$f":"_xlfn.TEXTJOIN(\"^\",,G80:G89)","v":"0^0^0"},null,2,{"$nulls":11},{"$f":"_xlfn.TEXTJOIN(\"^\",,W80:W88)","v":"0^0^0"}]
[null,null,1,0,0,0,0,0,0,0,0,0,0,0,null,{"$f":"_xlfn.TEXTJOIN(\"^\",,H80:H89)","v":"0^0"},null,1,0,0,0,0,0,0,0,0,0,0,null,{"$f":"_xlfn.TEXTJOIN(\"^\",,X80:X88)","v":"0^0^0"}]
[null,null,3,0,0,0,0,0,0,0,0,0,0,0,null,{"$f":"_xlfn.TEXTJOIN(\"^\",,I80:I89)","v":"0^0^0"},null,3,0,0,0,0,0,0,0,0,0,0,null,{"$f":"_xlfn.TEXTJOIN(\"^\",,Y80:Y88)","v":"0^0"}]
[null,null,5,null,null,null,0,null,0,0,null,null,0,null,null,{"$f":"_xlfn.TEXTJOIN(\"^\",,J80:J89)","v":"0^0^0"},null,5,{"$nulls":4},0,0,null,0,null,0,null,{"$f":"_xlfn.TEXTJOIN(\"^\",,Z80:Z88)","v":"0^0^0"}]
[null,null,7,{"$nulls":12},{"$f":"_xlfn.TEXTJOIN(\"^\",,K80:K89)","v":"0^0"},null,7,{"$nulls":9},0,null,{"$f":"_xlfn.TEXTJOIN(\"^\",,AA80:AA88)","v":"0^0"}]
[null,null,9,{"$nulls":12},{"$f":"_xlfn.TEXTJOIN(\"^\",,L80:L89)","v":"0^0"},null,9,{"$nulls":11},{"$f":"_xlfn.TEXTJOIN(\"^\",,AB80:AB88)","v":"0^0^0^0"}]
[{"$nulls":15},{"$f":"_xlfn.TEXTJOIN(\"^\",,M80:M89)","v":"0^0^0"},{"$nulls":13},{"$f":"_xlfn.TEXTJOIN(\"^\",,AC80:AC88)","v":""}]
[{"$nulls":15},{"$f":"_xlfn.TEXTJOIN(\"^\",,N80:N89)","v":"0^0"},{"$nulls":12},"最终",{"$f":"_xlfn.TEXTJOIN(\"|\",,AD79:AD89)","v":"0^0|0^0|0^0|0^0|0^0^0|0^0^0|0^0|0^0^0|0^0|0^0^0^0"}]
[{"$nulls":14},"最终",{"$f":"_xlfn.TEXTJOIN(\"|\",,P80:P90)","v":"0^0|0^0|0^0|0^0^0|0^0|0^0^0|0^0^0|0^0|0^0|0^0^0|0^0"}]
[]
[null,null,"时间",6,18,31,45,60,75,92,110,130,150,170,null,null,null,"时间",1,4,7,12,17,27,39,53,69,89,null,{"$f":"_xlfn.TEXTJOIN(\"^\",,S94:S102)","v":"25^4"}]
[null,null,8,{"$nulls":12},{"$f":"_xlfn.TEXTJOIN(\"^\",,D94:D103)","v":"5^2"},null,8,{"$nulls":11},{"$f":"_xlfn.TEXTJOIN(\"^\",,T94:T102)","v":"4^6"}]
[null,null,6,{"$nulls":12},{"$f":"_xlfn.TEXTJOIN(\"^\",,E94:E103)","v":"4^2"},null,6,{"$nulls":11},{"$f":"_xlfn.TEXTJOIN(\"^\",,U94:U102)","v":"3^8"}]
[null,null,4,{"$nulls":12},{"$f":"_xlfn.TEXTJOIN(\"^\",,F94:F103)","v":"8^4"},null,4,{"$nulls":11},{"$f":"_xlfn.TEXTJOIN(\"^\",,V94:V102)","v":"4^8"}]
[null,null,2,{"$nulls":12},{"$f":"_xlfn.TEXTJOIN(\"^\",,G94:G103)","v":"3^3^6"},null,2,{"$nulls":11},{"$f":"_xlfn.TEXTJOIN(\"^\",,W94:W102)","v":"2^3^9"}]
[null,null,1,5,4,8,3,10,3,2,8,3,2,4,null,{"$f":"_xlfn.TEXTJOIN(\"^\",,H94:H103)","v":"10^2"},null,1,25,4,3,4,2,2,4,2,9,2,null,{"$f":"_xlfn.TEXTJOIN(\"^\",,X94:X102)","v":"2^6^4"}]
[null,null,3,2,2,4,3,2,3,4,3,8,4,3,null,{"$f":"_xlfn.TEXTJOIN(\"^\",,I94:I103)","v":"3^3^7"},null,3,4,6,8,8,3,6,6,3,4,2,null,{"$f":"_xlfn.TEXTJOIN(\"^\",,Y94:Y102)","v":"4^6"}]
[null,null,5,null,null,null,6,null,7,8,null,null,8,null,null,{"$f":"_xlfn.TEXTJOIN(\"^\",,J94:J103)","v":"2^4^8"},null,5,{"$nulls":4},9,4,null,8,null,7,null,{"$f":"_xlfn.TEXTJOIN(\"^\",,Z94:Z102)","v":"2^3^8"}]
[null,null,7,{"$nulls":12},{"$f":"_xlfn.TEXTJOIN(\"^\",,K94:K103)","v":"8^3"},null,7,{"$nulls":9},3,null,{"$f":"_xlfn.TEXTJOIN(\"^\",,AA94:AA102)","v":"9^4"}]
[null,null,9,{"$nulls":12},{"$f":"_xlfn.TEXTJOIN(\"^\",,L94:L103)","v":"3^8"},null,9,{"$nulls":11},{"$f":"_xlfn.TEXTJOIN(\"^\",,AB94:AB102)","v":"2^2^7^3"}]
[{"$nulls":15},{"$f":"_xlfn.TEXTJOIN(\"^\",,M94:M103)","v":"2^4^8"},{"$nulls":13},{"$f":"_xlfn.TEXTJOIN(\"^\",,AC94:AC102)","v":""}]
[{"$nulls":15},{"$f":"_xlfn.TEXTJOIN(\"^\",,N94:N103)","v":"4^3"},{"$nulls":12},"最终",{"$f":"_xlfn.TEXTJOIN(\"|\",,AD93:AD103)","v":"25^4|4^6|3^8|4^8|2^3^9|2^6^4|4^6|2^3^8|9^4|2^2^7^3"}]
[{"$nulls":14},"最终",{"$f":"_xlfn.TEXTJOIN(\"|\",,P94:P104)","v":"5^2|4^2|8^4|3^3^6|10^2|3^3^7|2^4^8|8^3|3^8|2^4^8|4^3"},{"$nulls":13},{"$f":"SUM(S94:AB101)","v":138}]
[{"$nulls":15},{"$f":"SUM(D95:N102)","v":119},{"$nulls":13},{"$f":"AD105+P106","v":257}]
[]
[{"$nulls":4},{"$f":"E109-D109","v":5},{"$f":"F109-E109","v":6},6,10,5,10,10,10,5,10,{"$nulls":5},{"$f":"T109-S109","v":2},4,5,6,10,10,15,15,20]
[1,"雪原-3","波1·怪物",3,8,14,20,30,35,45,55,65,70,80,null,null,3,"波2·怪物",3,5,9,14,20,30,40,55,70,90]
[null,"4.5m",8,{"$nulls":4},60132,null,null,null,60132,null,null,null,{"$f":"_xlfn.TEXTJOIN(\"^\",,D110:D119)","v":"60131^60131^60131"},null,8,{"$nulls":11},{"$f":"_xlfn.TEXTJOIN(\"^\",,S110:S119)","v":"60131^60132"}]
[null,null,6,null,null,60132,60133,null,60134,60131,60131,null,null,60132,null,{"$f":"_xlfn.TEXTJOIN(\"^\",,E110:E119)","v":"60132^60134^60132"},null,6,{"$nulls":11},{"$f":"_xlfn.TEXTJOIN(\"^\",,T110:T119)","v":"60132^60134"}]
[null,null,4,null,60132,60131,60134,60131,60133,60132,60131,60131,60134,60133,null,{"$f":"_xlfn.TEXTJOIN(\"^\",,F110:F119)","v":"60132^60131^60133^60133^60131^60132"},null,4,{"$nulls":11},{"$f":"_xlfn.TEXTJOIN(\"^\",,U110:U119)","v":"60131^60133"}]
[null,null,2,60131,null,60133,60131,60131,null,60132,60133,60131,60132,null,null,{"$f":"_xlfn.TEXTJOIN(\"^\",,G110:G119)","v":"60133^60134^60131^60131^60134^60133"},null,2,{"$nulls":11},{"$f":"_xlfn.TEXTJOIN(\"^\",,V110:V119)","v":"60131^60132"}]
[null,null,1,60131,60134,null,null,60131,60132,60131,60133,60134,60132,60133,null,{"$f":"_xlfn.TEXTJOIN(\"^\",,H110:H119)","v":"60132^60131^60131^60131^60131^60131^60132"},null,1,60131,60132,60131,60131,60131,60131,60133,60131,60131,60131,null,{"$f":"_xlfn.TEXTJOIN(\"^\",,W110:W119)","v":"60131^60133^60134"}]
[null,null,3,60131,null,60133,60131,60131,null,60132,60133,60131,60132,null,null,{"$f":"_xlfn.TEXTJOIN(\"^\",,I110:I119)","v":"60134^60133^60132^60133^60134"},null,3,60132,60134,60133,60132,60133,60132,60132,60134,60132,60132,null,{"$f":"_xlfn.TEXTJOIN(\"^\",,X110:X119)","v":"60131^60132"}]
[null,null,5,null,60132,60131,60134,60131,60133,60132,60131,60131,60134,60133,null,{"$f":"_xlfn.TEXTJOIN(\"^\",,J110:J119)","v":"60131^60132^60132^60131^60132^60132^60131"},null,5,{"$nulls":4},60134,null,60134,null,60133,60134,null,{"$f":"_xlfn.TEXTJOIN(\"^\",,Y110:Y119)","v":"60133^60132^60134"}]
[null,null,7,null,null,60132,60133,null,60134,60131,60131,null,null,60132,null,{"$f":"_xlfn.TEXTJOIN(\"^\",,K110:K119)","v":"60131^60131^60133^60133^60133^60131^60131"},null,7,{"$nulls":11},{"$f":"_xlfn.TEXTJOIN(\"^\",,Z110:Z119)","v":"60131^60134"}]
[null,null,9,{"$nulls":4},60132,null,null,null,60132,null,null,null,{"$f":"_xlfn.TEXTJOIN(\"^\",,L110:L119)","v":"60132^60131^60131^60134^60131^60131^60132"},null,9,{"$nulls":11},{"$f":"_xlfn.TEXTJOIN(\"^\",,AA110:AA119)","v":"60131^60132^60133"}]
[{"$nulls":15},{"$f":"_xlfn.TEXTJOIN(\"^\",,M110:M119)","v":"60134^60132^60132^60132^60134"},{"$nulls":13},{"$f":"_xlfn.TEXTJOIN(\"^\",,AB110:AB119)","v":"60131^60132^60134"}]
[{"$nulls":15},{"$f":"_xlfn.TEXTJOIN(\"^\",,N110:N119)","v":"60132^60133^60133^60133^60132"},{"$nulls":13},{"$f":"_xlfn.TEXTJOIN(\"^\",,AC110:AC119)","v":""}]
[{"$nulls":14},"最终",{"$f":"_xlfn.TEXTJOIN(\"^\",,P110:P120)","v":"60131^60131^60131^60132^60134^60132^60132^60131^60133^60133^60131^60132^60133^60134^60131^60131^60134^60133^60132^60131^60131^60131^60131^60131^60132^60134^60133^60132^60133^60134^60131^60132^60132^60131^60132^60132^60131^60131^60131^60133^60133^60133^60131^60131^60132^60131^60131^60134^60131^60131^60132^60134^60132^60132^60132^60134^60132^60133^60133^60133^60132"},{"$nulls":12},"最终",{"$f":"_xlfn.TEXTJOIN(\"|\",,AD110:AD120)","v":"60131^60132|60132^60134|60131^60133|60131^60132|60131^60133^60134|60131^60132|60133^60132^60134|60131^60134|60131^60132^60133|60131^60132^60134"}]
[null,null,8,{"$nulls":4},"独角兽",null,null,null,"独角兽",{"$nulls":5},8]
[null,null,6,null,null,"独角兽","雪原熊",null,"木精灵","雪怪","雪怪",null,null,"独角兽",null,null,null,6]
[null,null,4,null,"独角兽","雪怪","木精灵","雪怪","雪原熊","独角兽","雪怪","雪怪","木精灵","雪原熊",null,null,null,4]
[null,null,2,"雪怪",null,"雪原熊","雪怪","雪怪",null,"独角兽","雪原熊","雪怪","独角兽",{"$nulls":4},2]
[null,null,1,"雪怪","木精灵",null,null,"雪怪","独角兽","雪怪","雪原熊","木精灵","独角兽","雪原熊",null,null,null,1,"雪怪","独角兽","雪怪","雪怪","雪怪","雪怪","雪原熊","雪怪","雪怪","雪怪"]
[null,null,3,"雪怪",null,"雪原熊","雪怪","雪怪",null,"独角兽","雪原熊","雪怪","独角兽",{"$nulls":4},3,"独角兽","木精灵","雪原熊","独角兽","雪原熊","独角兽","独角兽","木精灵","独角兽","独角兽"]
[null,null,5,null,"独角兽","雪怪","木精灵","雪怪","雪原熊","独角兽","雪怪","雪怪","木精灵","雪原熊",null,null,null,5,{"$nulls":4},"木精灵",null,"木精灵",null,"雪原熊","木精灵"]
[null,null,7,null,null,"独角兽","雪原熊",null,"木精灵","雪怪","雪怪",null,null,"独角兽",null,null,null,7]
[null,null,9,{"$nulls":4},"独角兽",null,null,null,"独角兽",{"$nulls":5},9]
[]
[null,null,"位置",3,8,14,20,30,35,45,55,65,70,80,null,null,null,"位置",3,5,9,14,20,30,40,55,70,90,null,{"$f":"_xlfn.TEXTJOIN(\"^\",,S133:S141)","v":"0^0"}]
[null,null,8,{"$nulls":4},{"$f":"$C133","v":8},null,null,null,{"$f":"$C133","v":8},null,null,null,{"$f":"_xlfn.TEXTJOIN(\"^\",,D133:D142)","v":"2^1^3"},null,8,{"$nulls":11},{"$f":"_xlfn.TEXTJOIN(\"^\",,T133:T141)","v":"0^0"}]
[null,null,6,null,null,{"$f":"$C134","v":6},{"$f":"$C134","v":6},null,{"$f":"$C134","v":6},6,{"$f":"$C134","v":6},null,null,{"$f":"$C134","v":6},null,{"$f":"_xlfn.TEXTJOIN(\"^\",,E133:E142)","v":"4^1^5"},null,6,{"$nulls":11},{"$f":"_xlfn.TEXTJOIN(\"^\",,U133:U141)","v":"0^0"}]
[null,null,4,null,{"$f":"$C135","v":4},4,{"$f":"$C135","v":4},4,4,4,4,{"$f":"$C135","v":4},{"$f":"$C135","v":4},4,null,{"$f":"_xlfn.TEXTJOIN(\"^\",,F133:F142)","v":"6^4^2^3^5^7"},null,4,{"$nulls":11},{"$f":"_xlfn.TEXTJOIN(\"^\",,V133:V141)","v":"0^0"}]
[null,null,2,{"$f":"$C136","v":2},null,{"$f":"$C136","v":2},2,2,null,2,2,{"$f":"$C136","v":2},2,null,null,{"$f":"_xlfn.TEXTJOIN(\"^\",,G133:G142)","v":"6^4^2^3^5^7"},null,2,{"$nulls":11},{"$f":"_xlfn.TEXTJOIN(\"^\",,W133:W141)","v":"0^0^0"}]
[null,null,1,1,{"$f":"$C137","v":1},null,null,1,{"$f":"$C137","v":1},1,1,{"$f":"$C137","v":1},1,{"$f":"$C137","v":1},null,{"$f":"_xlfn.TEXTJOIN(\"^\",,H133:H142)","v":"8^4^2^1^3^5^9"},null,1,0,0,0,0,0,0,0,0,0,0,null,{"$f":"_xlfn.TEXTJOIN(\"^\",,X133:X141)","v":"0^0"}]
[null,null,3,3,null,{"$f":"$C138","v":3},3,3,null,{"$f":"$C138","v":3},3,{"$f":"$C138","v":3},3,null,null,{"$f":"_xlfn.TEXTJOIN(\"^\",,I133:I142)","v":"6^4^1^5^7"},null,3,0,0,0,0,0,0,0,0,0,0,null,{"$f":"_xlfn.TEXTJOIN(\"^\",,Y133:Y141)","v":"0^0^0"}]
[null,null,5,null,{"$f":"$C139","v":5},{"$f":"$C139","v":5},5,5,5,5,5,{"$f":"$C139","v":5},5,5,null,{"$f":"_xlfn.TEXTJOIN(\"^\",,J133:J142)","v":"6^4^2^1^3^5^7"},null,5,{"$nulls":4},0,null,0,null,0,0,null,{"$f":"_xlfn.TEXTJOIN(\"^\",,Z133:Z141)","v":"0^0"}]
[null,null,7,null,null,7,{"$f":"$C140","v":7},null,7,7,7,null,null,7,null,{"$f":"_xlfn.TEXTJOIN(\"^\",,K133:K142)","v":"6^4^2^1^3^5^7"},null,7,{"$nulls":11},{"$f":"_xlfn.TEXTJOIN(\"^\",,AA133:AA141)","v":"0^0^0"}]
[null,null,9,{"$nulls":4},{"$f":"$C141","v":9},null,null,null,{"$f":"$C141","v":9},null,null,null,{"$f":"_xlfn.TEXTJOIN(\"^\",,L133:L142)","v":"8^4^2^1^3^5^9"},null,9,{"$nulls":11},{"$f":"_xlfn.TEXTJOIN(\"^\",,AB133:AB141)","v":"0^0^0"}]
[{"$nulls":15},{"$f":"_xlfn.TEXTJOIN(\"^\",,M133:M142)","v":"4^2^1^3^5"},{"$nulls":13},{"$f":"_xlfn.TEXTJOIN(\"^\",,AC133:AC141)","v":""}]
[{"$nulls":15},{"$f":"_xlfn.TEXTJOIN(\"^\",,N133:N142)","v":"6^4^1^5^7"},{"$nulls":12},"最终",{"$f":"_xlfn.TEXTJOIN(\"|\",,AD132:AD142)","v":"0^0|0^0|0^0|0^0|0^0^0|0^0|0^0^0|0^0|0^0^0|0^0^0"}]
[{"$nulls":14},"最终",{"$f":"_xlfn.TEXTJOIN(\"^\",,P133:P143)","v":"2^1^3^4^1^5^6^4^2^3^5^7^6^4^2^3^5^7^8^4^2^1^3^5^9^6^4^1^5^7^6^4^2^1^3^5^7^6^4^2^1^3^5^7^8^4^2^1^3^5^9^4^2^1^3^5^6^4^1^5^7"}]
[]
[null,null,"时间",3,8,14,20,30,35,45,55,65,70,80,null,null,null,"时间",3,5,9,14,20,30,40,55,70,90,null,{"$f":"_xlfn.TEXTJOIN(\"^\",,S147:S155)","v":"22^8"}]
[null,null,8,{"$nulls":4},{"$f":"H$146","v":30},null,null,null,{"$f":"L$146","v":65},null,null,null,{"$f":"_xlfn.TEXTJOIN(\"^\",,D147:D156)","v":"3^3^3"},null,8,{"$nulls":11},{"$f":"_xlfn.TEXTJOIN(\"^\",,T147:T155)","v":"6^4"}]
[null,null,6,null,null,{"$f":"F$146","v":14},{"$f":"G$146","v":20},null,{"$f":"I$146","v":35},45,{"$f":"K$146","v":55},null,null,{"$f":"N$146","v":80},null,{"$f":"_xlfn.TEXTJOIN(\"^\",,E147:E156)","v":"8^8^8"},null,6,{"$nulls":11},{"$f":"_xlfn.TEXTJOIN(\"^\",,U147:U155)","v":"8^3"}]
[null,null,4,null,{"$f":"E$146","v":8},14,{"$f":"G$146","v":20},30,35,45,55,{"$f":"L$146","v":65},{"$f":"M$146","v":70},80,null,{"$f":"_xlfn.TEXTJOIN(\"^\",,F147:F156)","v":"14^14^14^14^14^14"},null,4,{"$nulls":11},{"$f":"_xlfn.TEXTJOIN(\"^\",,V147:V155)","v":"8^4"}]
[null,null,2,{"$f":"D$146","v":3},null,{"$f":"F$146","v":14},20,30,null,45,55,{"$f":"L$146","v":65},70,null,null,{"$f":"_xlfn.TEXTJOIN(\"^\",,G147:G156)","v":"20^20^20^20^20^20"},null,2,{"$nulls":11},{"$f":"_xlfn.TEXTJOIN(\"^\",,W147:W155)","v":"9^3^2"}]
[null,null,1,{"$f":"D$146","v":3},{"$f":"E$146","v":8},null,null,30,{"$f":"I$146","v":35},45,55,{"$f":"L$146","v":65},70,{"$f":"N$146","v":80},null,{"$f":"_xlfn.TEXTJOIN(\"^\",,H147:H156)","v":"30^30^30^30^30^30^30"},null,1,22,6,8,8,9,8,3,9,8,10,null,{"$f":"_xlfn.TEXTJOIN(\"^\",,X147:X155)","v":"8^4"}]
[null,null,3,3,null,{"$f":"F$146","v":14},20,30,null,{"$f":"J$146","v":45},55,{"$f":"L$146","v":65},70,null,null,{"$f":"_xlfn.TEXTJOIN(\"^\",,I147:I156)","v":"35^35^35^35^35"},null,3,8,4,3,4,3,4,6,3,4,4,null,{"$f":"_xlfn.TEXTJOIN(\"^\",,Y147:Y155)","v":"3^6^2"}]
[null,null,5,null,{"$f":"E$146","v":8},{"$f":"F$146","v":14},20,30,35,45,55,{"$f":"L$146","v":65},70,80,null,{"$f":"_xlfn.TEXTJOIN(\"^\",,J147:J156)","v":"45^45^45^45^45^45^45"},null,5,{"$nulls":4},2,null,2,null,3,2,null,{"$f":"_xlfn.TEXTJOIN(\"^\",,Z147:Z155)","v":"9^3"}]
[null,null,7,null,null,14,{"$f":"G$146","v":20},null,35,45,55,null,null,80,null,{"$f":"_xlfn.TEXTJOIN(\"^\",,K147:K156)","v":"55^55^55^55^55^55^55"},null,7,{"$nulls":11},{"$f":"_xlfn.TEXTJOIN(\"^\",,AA147:AA155)","v":"8^4^3"}]
[null,null,9,{"$nulls":4},{"$f":"H$146","v":30},null,null,null,{"$f":"L$146","v":65},null,null,null,{"$f":"_xlfn.TEXTJOIN(\"^\",,L147:L156)","v":"65^65^65^65^65^65^65"},null,9,{"$nulls":11},{"$f":"_xlfn.TEXTJOIN(\"^\",,AB147:AB155)","v":"10^4^2"}]
[{"$nulls":15},{"$f":"_xlfn.TEXTJOIN(\"^\",,M147:M156)","v":"70^70^70^70^70"},{"$nulls":13},{"$f":"_xlfn.TEXTJOIN(\"^\",,AC147:AC155)","v":""}]
[{"$nulls":15},{"$f":"_xlfn.TEXTJOIN(\"^\",,N147:N156)","v":"80^80^80^80^80"},{"$nulls":12},"最终",{"$f":"_xlfn.TEXTJOIN(\"|\",,AD146:AD156)","v":"22^8|6^4|8^3|8^4|9^3^2|8^4|3^6^2|9^3|8^4^3|10^4^2"}]
[{"$nulls":14},"最终",{"$f":"_xlfn.TEXTJOIN(\"^\",,P147:P157)","v":"3^3^3^8^8^8^14^14^14^14^14^14^20^20^20^20^20^20^30^30^30^30^30^30^30^35^35^35^35^35^45^45^45^45^45^45^45^55^55^55^55^55^55^55^65^65^65^65^65^65^65^70^70^70^70^70^80^80^80^80^80"}]
[]
[]
[{"$nulls":4},{"$f":"E162-D162","v":13},{"$f":"F162-E162","v":14},15,15,17,20,18,18,19,20,{"$nulls":5},{"$f":"T162-S162","v":3},3,6,5,10,10,15,15,20]
[3,"雪原-4","波1·怪物",6,19,33,48,63,80,100,118,136,155,175,null,null,null,"波2·怪物",3,6,9,15,20,30,40,55,70,90]
[null,"4.5m",8,{"$nulls":12},{"$f":"_xlfn.TEXTJOIN(\"^\",,D163:D172)","v":"60142^60141"},null,8,{"$nulls":11},{"$f":"_xlfn.TEXTJOIN(\"^\",,S163:S172)","v":"60142^60144^60141"}]
[null,null,6,{"$nulls":12},{"$f":"_xlfn.TEXTJOIN(\"^\",,E163:E172)","v":"60141^60142^60144"},null,6,{"$nulls":11},{"$f":"_xlfn.TEXTJOIN(\"^\",,T163:T172)","v":"60141^60143"}]
[null,null,4,{"$nulls":12},{"$f":"_xlfn.TEXTJOIN(\"^\",,F163:F172)","v":"60143^60141^60142"},null,4,{"$nulls":11},{"$f":"_xlfn.TEXTJOIN(\"^\",,U163:U172)","v":"60143^60142"}]
[null,null,2,{"$nulls":12},{"$f":"_xlfn.TEXTJOIN(\"^\",,G163:G172)","v":"60141^60144"},null,2,{"$nulls":11},{"$f":"_xlfn.TEXTJOIN(\"^\",,V163:V172)","v":"60141^60142"}]
[null,null,1,60142,60141,60143,60141,60143,60144,60141,60143,60141,60144,60143,null,{"$f":"_xlfn.TEXTJOIN(\"^\",,H163:H172)","v":"60143^60142"},null,1,60142,60141,60143,60141,60141,60141,60143,60141,60142,60143,null,{"$f":"_xlfn.TEXTJOIN(\"^\",,W163:W172)","v":"60141^60143^60144"}]
[null,null,3,60141,60142,60141,60144,60142,60143,60142,60144,60142,60142,60142,null,{"$f":"_xlfn.TEXTJOIN(\"^\",,I163:I172)","v":"60144^60143^60141"},null,3,60144,60143,60142,60142,60143,60142,60141,60144,60141,60142,null,{"$f":"_xlfn.TEXTJOIN(\"^\",,X163:X172)","v":"60141^60142"}]
[null,null,5,null,60144,60142,null,null,60141,null,60141,null,60141,60144,null,{"$f":"_xlfn.TEXTJOIN(\"^\",,J163:J172)","v":"60141^60142"},null,5,60141,null,null,null,60144,null,60142,null,null,60144,null,{"$f":"_xlfn.TEXTJOIN(\"^\",,Y163:Y172)","v":"60143^60141^60142"}]
[null,null,7,{"$nulls":12},{"$f":"_xlfn.TEXTJOIN(\"^\",,K163:K172)","v":"60143^60144^60141"},null,7,{"$nulls":11},{"$f":"_xlfn.TEXTJOIN(\"^\",,Z163:Z172)","v":"60141^60144"}]
[null,null,9,{"$nulls":12},{"$f":"_xlfn.TEXTJOIN(\"^\",,L163:L172)","v":"60141^60142"},null,9,{"$nulls":11},{"$f":"_xlfn.TEXTJOIN(\"^\",,AA163:AA172)","v":"60142^60141"}]
[{"$nulls":15},{"$f":"_xlfn.TEXTJOIN(\"^\",,M163:M172)","v":"60144^60142^60141"},{"$nulls":13},{"$f":"_xlfn.TEXTJOIN(\"^\",,AB163:AB172)","v":"60143^60142^60144"}]
[{"$nulls":15},{"$f":"_xlfn.TEXTJOIN(\"^\",,N163:N172)","v":"60143^60142^60144"},{"$nulls":13},{"$f":"_xlfn.TEXTJOIN(\"^\",,AC163:AC172)","v":""}]
[{"$nulls":14},"最终",{"$f":"_xlfn.TEXTJOIN(\"|\",,P163:P173)","v":"60142^60141|60141^60142^60144|60143^60141^60142|60141^60144|60143^60142|60144^60143^60141|60141^60142|60143^60144^60141|60141^60142|60144^60142^60141|60143^60142^60144"},{"$nulls":12},"最终",{"$f":"_xlfn.TEXTJOIN(\"|\",,AD163:AD173)","v":"60142^60144^60141|60141^60143|60143^60142|60141^60142|60141^60143^60144|60141^60142|60143^60141^60142|60141^60144|60142^60141|60143^60142^60144"}]
[null,null,8,{"$nulls":14},8]
[null,null,6,{"$nulls":14},6]
[null,null,4,{"$nulls":14},4]
[null,null,2,{"$nulls":14},2]
[null,null,1,"独角兽","雪怪","雪原熊","雪怪","雪原熊","木精灵","雪怪","雪原熊","雪怪","木精灵","雪原熊",null,null,null,1,"独角兽","雪怪","雪原熊","雪怪","雪怪","雪怪","雪原熊","雪怪","独角兽","雪原熊"]
[null,null,3,"雪怪","独角兽","雪怪","木精灵","独角兽","雪原熊","独角兽","木精灵","独角兽","独角兽","独角兽",null,null,null,3,"木精灵","雪原熊","独角兽","独角兽","雪原熊","独角兽","雪怪","木精灵","雪怪","独角兽"]
[null,null,5,null,"木精灵","独角兽",null,null,"雪怪",null,"雪怪",null,"雪怪","木精灵",null,null,null,5,"雪怪",null,null,null,"木精灵",null,"独角兽",null,null,"木精灵"]
[null,null,7,{"$nulls":14},7]
[null,null,9,{"$nulls":14},9]
[]
[null,null,"位置",6,19,33,48,63,80,100,118,136,155,175,null,null,null,"位置",3,6,9,15,20,30,40,55,70,90,null,{"$f":"_xlfn.TEXTJOIN(\"^\",,S186:S194)","v":"0^0^0"}]
[null,null,8,{"$nulls":12},{"$f":"_xlfn.TEXTJOIN(\"^\",,D186:D195)","v":"0^0"},null,8,{"$nulls":11},{"$f":"_xlfn.TEXTJOIN(\"^\",,T186:T194)","v":"0^0"}]
[null,null,6,{"$nulls":12},{"$f":"_xlfn.TEXTJOIN(\"^\",,E186:E195)","v":"0^0^0"},null,6,{"$nulls":11},{"$f":"_xlfn.TEXTJOIN(\"^\",,U186:U194)","v":"0^0"}]
[null,null,4,{"$nulls":12},{"$f":"_xlfn.TEXTJOIN(\"^\",,F186:F195)","v":"0^0^0"},null,4,{"$nulls":11},{"$f":"_xlfn.TEXTJOIN(\"^\",,V186:V194)","v":"0^0"}]
[null,null,2,{"$nulls":12},{"$f":"_xlfn.TEXTJOIN(\"^\",,G186:G195)","v":"0^0"},null,2,{"$nulls":11},{"$f":"_xlfn.TEXTJOIN(\"^\",,W186:W194)","v":"0^0^0"}]
[null,null,1,0,0,0,0,0,0,0,0,0,0,0,null,{"$f":"_xlfn.TEXTJOIN(\"^\",,H186:H195)","v":"0^0"},null,1,0,0,0,0,0,0,0,0,0,0,null,{"$f":"_xlfn.TEXTJOIN(\"^\",,X186:X194)","v":"0^0"}]
[null,null,3,0,0,0,0,0,0,0,0,0,0,0,null,{"$f":"_xlfn.TEXTJOIN(\"^\",,I186:I195)","v":"0^0^0"},null,3,0,0,0,0,0,0,0,0,0,0,null,{"$f":"_xlfn.TEXTJOIN(\"^\",,Y186:Y194)","v":"0^0^0"}]
[null,null,5,null,0,0,null,null,0,null,0,null,0,0,null,{"$f":"_xlfn.TEXTJOIN(\"^\",,J186:J195)","v":"0^0"},null,5,0,null,null,null,0,null,0,null,null,0,null,{"$f":"_xlfn.TEXTJOIN(\"^\",,Z186:Z194)","v":"0^0"}]
[null,null,7,{"$nulls":12},{"$f":"_xlfn.TEXTJOIN(\"^\",,K186:K195)","v":"0^0^0"},null,7,{"$nulls":11},{"$f":"_xlfn.TEXTJOIN(\"^\",,AA186:AA194)","v":"0^0"}]
[null,null,9,{"$nulls":12},{"$f":"_xlfn.TEXTJOIN(\"^\",,L186:L195)","v":"0^0"},null,9,{"$nulls":11},{"$f":"_xlfn.TEXTJOIN(\"^\",,AB186:AB194)","v":"0^0^0"}]
[{"$nulls":15},{"$f":"_xlfn.TEXTJOIN(\"^\",,M186:M195)","v":"0^0^0"},{"$nulls":13},{"$f":"_xlfn.TEXTJOIN(\"^\",,AC186:AC194)","v":""}]
[{"$nulls":15},{"$f":"_xlfn.TEXTJOIN(\"^\",,N186:N195)","v":"0^0^0"},{"$nulls":12},"最终",{"$f":"_xlfn.TEXTJOIN(\"|\",,AD185:AD195)","v":"0^0^0|0^0|0^0|0^0|0^0^0|0^0|0^0^0|0^0|0^0|0^0^0"}]
[{"$nulls":14},"最终",{"$f":"_xlfn.TEXTJOIN(\"|\",,P186:P196)","v":"0^0|0^0^0|0^0^0|0^0|0^0|0^0^0|0^0|0^0^0|0^0|0^0^0|0^0^0"}]
[]
[null,null,"时间",6,19,33,48,63,80,100,118,136,155,175,null,null,null,"时间",3,6,9,15,20,30,40,55,70,90,null,{"$f":"_xlfn.TEXTJOIN(\"^\",,S200:S208)","v":"10^5^20"}]
[null,null,8,{"$nulls":12},{"$f":"_xlfn.TEXTJOIN(\"^\",,D200:D209)","v":"2^4"},null,8,{"$nulls":11},{"$f":"_xlfn.TEXTJOIN(\"^\",,T200:T208)","v":"10^2"}]
[null,null,6,{"$nulls":12},{"$f":"_xlfn.TEXTJOIN(\"^\",,E200:E209)","v":"6^3^2"},null,6,{"$nulls":11},{"$f":"_xlfn.TEXTJOIN(\"^\",,U200:U208)","v":"3^6"}]
[null,null,4,{"$nulls":12},{"$f":"_xlfn.TEXTJOIN(\"^\",,F200:F209)","v":"2^7^3"},null,4,{"$nulls":11},{"$f":"_xlfn.TEXTJOIN(\"^\",,V200:V208)","v":"8^4"}]
[null,null,2,{"$nulls":12},{"$f":"_xlfn.TEXTJOIN(\"^\",,G200:G209)","v":"9^2"},null,2,{"$nulls":11},{"$f":"_xlfn.TEXTJOIN(\"^\",,W200:W208)","v":"7^2^2"}]
[null,null,1,2,6,2,9,4,2,8,2,8,2,4,null,{"$f":"_xlfn.TEXTJOIN(\"^\",,H200:H209)","v":"4^6"},null,1,10,10,3,8,7,9,2,9,4,4,null,{"$f":"_xlfn.TEXTJOIN(\"^\",,X200:X208)","v":"9^4"}]
[null,null,3,4,3,7,2,6,2,4,2,4,3,5,null,{"$f":"_xlfn.TEXTJOIN(\"^\",,I200:I209)","v":"2^2^8"},null,3,5,2,6,4,2,4,7,2,10,6,null,{"$f":"_xlfn.TEXTJOIN(\"^\",,Y200:Y208)","v":"2^7^4"}]
[null,null,5,null,2,3,null,null,8,null,9,null,7,3,null,{"$f":"_xlfn.TEXTJOIN(\"^\",,J200:J209)","v":"8^4"},null,5,20,null,null,null,2,null,4,null,null,2,null,{"$f":"_xlfn.TEXTJOIN(\"^\",,Z200:Z208)","v":"9^2"}]
[null,null,7,{"$nulls":12},{"$f":"_xlfn.TEXTJOIN(\"^\",,K200:K209)","v":"2^2^9"},null,7,{"$nulls":11},{"$f":"_xlfn.TEXTJOIN(\"^\",,AA200:AA208)","v":"4^10"}]
[null,null,9,{"$nulls":12},{"$f":"_xlfn.TEXTJOIN(\"^\",,L200:L209)","v":"8^4"},null,9,{"$nulls":11},{"$f":"_xlfn.TEXTJOIN(\"^\",,AB200:AB208)","v":"4^6^2"}]
[{"$nulls":15},{"$f":"_xlfn.TEXTJOIN(\"^\",,M200:M209)","v":"2^3^7"},{"$nulls":13},{"$f":"_xlfn.TEXTJOIN(\"^\",,AC200:AC208)","v":""}]
[{"$nulls":15},{"$f":"_xlfn.TEXTJOIN(\"^\",,N200:N209)","v":"4^5^3"},{"$nulls":12},"最终",{"$f":"_xlfn.TEXTJOIN(\"|\",,AD199:AD209)","v":"10^5^20|10^2|3^6|8^4|7^2^2|9^4|2^7^4|9^2|4^10|4^6^2"}]
[{"$nulls":14},"最终",{"$f":"_xlfn.TEXTJOIN(\"|\",,P200:P210)","v":"2^4|6^3^2|2^7^3|9^2|4^6|2^2^8|8^4|2^2^9|8^4|2^3^7|4^5^3"},{"$nulls":13},{"$f":"SUM(S200:AB207)","v":142}]
[{"$nulls":15},{"$f":"SUM(D201:N208)","v":123},{"$nulls":13},{"$f":"AD211+P212","v":265}]
[]
[{"$nulls":4},{"$f":"E215-D215","v":3},{"$f":"F215-E215","v":4},5,5,6,7,7,8,7,5,{"$nulls":5},{"$f":"T215-S215","v":3},5,5,6,6,8,{"$nulls":8},{"$f":"AH215-AG215","v":2},3,4,5,10,5]
[1,"雪原-5","波1·怪物",3,6,10,15,20,26,33,40,48,55,60,null,null,1,"波2·怪物",2,5,10,15,21,27,35,{"$nulls":6},"波3·怪物",1,3,6,10,15,25,30]
[null,"5m",8,null,null,null,60154,null,null,60151,60151,60152,60151,null,null,{"$f":"_xlfn.TEXTJOIN(\"^\",,D216:D225)","v":"60152^60151^60152"},null,8,60152,null,null,null,60154,{"$nulls":6},{"$f":"_xlfn.TEXTJOIN(\"^\",,S216:S225)","v":"60152^60151^60151^60151^60151^60151^60152"},null,8,{"$nulls":11},{"$f":"_xlfn.TEXTJOIN(\"^\",,AG216:AG225)","v":"60151^60151^60155^60151^60151"}]
[null,null,6,null,null,60152,null,60152,60154,60151,60151,null,60151,null,null,{"$f":"_xlfn.TEXTJOIN(\"^\",,E216:E225)","v":"60151^60151^60154^60151^60151"},null,6,null,60154,null,60152,null,60151,60152,{"$nulls":4},{"$f":"_xlfn.TEXTJOIN(\"^\",,T216:T225)","v":"60154^60152^60152^60152^60154"},null,6,null,null,null,60152,null,60151,{"$nulls":5},{"$f":"_xlfn.TEXTJOIN(\"^\",,AH216:AH225)","v":"60152^60152^60152"}]
[null,null,4,null,60151,null,60152,60151,60153,null,60153,60151,null,60153,null,{"$f":"_xlfn.TEXTJOIN(\"^\",,F216:F225)","v":"60152^60151^60153^60151^60152"},null,4,60151,60152,60153,null,null,60151,60153,{"$nulls":4},{"$f":"_xlfn.TEXTJOIN(\"^\",,U216:U225)","v":"60153^60152^60153^60152^60153"},null,4,60151,60152,60153,null,60154,60151,60152,{"$nulls":4},{"$f":"_xlfn.TEXTJOIN(\"^\",,AI216:AI225)","v":"60153^60153^60153"}]
[null,null,2,60152,60151,60151,60153,60151,60151,60152,null,60151,60152,60153,null,{"$f":"_xlfn.TEXTJOIN(\"^\",,G216:G225)","v":"60154^60152^60153^60153^60152^60154"},null,2,60151,null,60152,60151,60153,60151,{"$nulls":5},{"$f":"_xlfn.TEXTJOIN(\"^\",,V216:V225)","v":"60152^60151^60151^60151^60152"},null,2,60151,null,null,60151,60153,60151,{"$nulls":5},{"$f":"_xlfn.TEXTJOIN(\"^\",,AJ216:AJ225)","v":"60152^60151^60151^60151^60152"}]
[null,null,1,60151,60154,60153,null,null,60153,60152,60155,60154,60152,60154,null,{"$f":"_xlfn.TEXTJOIN(\"^\",,H216:H225)","v":"60152^60151^60151^60151^60151^60152"},null,1,60151,60152,60153,60151,60152,60151,60154,{"$nulls":4},{"$f":"_xlfn.TEXTJOIN(\"^\",,W216:W225)","v":"60154^60153^60152^60153^60154"},null,1,60155,60152,60153,60151,60153,null,60152,{"$nulls":4},{"$f":"_xlfn.TEXTJOIN(\"^\",,AK216:AK225)","v":"60154^60153^60153^60153^60154"}]
[null,null,3,60152,60151,60151,60153,60151,60151,60152,null,60151,60152,60152,null,{"$f":"_xlfn.TEXTJOIN(\"^\",,I216:I225)","v":"60154^60153^60151^60153^60151^60153^60154"},null,3,60151,null,60152,60151,60153,60151,{"$nulls":5},{"$f":"_xlfn.TEXTJOIN(\"^\",,X216:X225)","v":"60151^60151^60151^60151^60151^60151^60151"},null,3,60151,null,null,60151,60153,60151,{"$nulls":5},{"$f":"_xlfn.TEXTJOIN(\"^\",,AL216:AL225)","v":"60151^60151^60151^60151^60151^60151"}]
[null,null,5,null,60151,null,60152,60151,60153,null,60153,60151,null,60152,null,{"$f":"_xlfn.TEXTJOIN(\"^\",,J216:J225)","v":"60151^60151^60152^60152^60152^60151^60151"},null,5,60151,60152,60153,null,null,60151,60153,{"$nulls":4},{"$f":"_xlfn.TEXTJOIN(\"^\",,Y216:Y225)","v":"60152^60153^60154^60153^60152"},null,5,60151,60152,60153,null,60154,60151,60152,{"$nulls":4},{"$f":"_xlfn.TEXTJOIN(\"^\",,AM216:AM225)","v":"60152^60152^60152"}]
[null,null,7,null,null,60152,null,60152,60154,60151,60151,null,60151,null,null,{"$f":"_xlfn.TEXTJOIN(\"^\",,K216:K225)","v":"60151^60151^60153^60155^60153^60151^60151"},null,7,null,60154,null,60152,null,60151,60152,{"$nulls":4},{"$f":"_xlfn.TEXTJOIN(\"^\",,Z216:Z225)","v":""},null,7,null,null,null,60152,null,60151,{"$nulls":5},{"$f":"_xlfn.TEXTJOIN(\"^\",,AN216:AN225)","v":""}]
[null,null,9,null,null,null,60154,null,null,60151,60151,60152,60151,null,null,{"$f":"_xlfn.TEXTJOIN(\"^\",,L216:L225)","v":"60152^60151^60151^60154^60151^60151^60152"},null,9,60152,null,null,null,60154,{"$nulls":6},{"$f":"_xlfn.TEXTJOIN(\"^\",,AA216:AA225)","v":""},null,9,{"$nulls":11},{"$f":"_xlfn.TEXTJOIN(\"^\",,AO216:AO225)","v":""}]
[{"$nulls":15},{"$f":"_xlfn.TEXTJOIN(\"^\",,M216:M225)","v":"60151^60151^60152^60152^60152^60151^60151"},{"$nulls":13},{"$f":"_xlfn.TEXTJOIN(\"^\",,AB216:AB225)","v":""},{"$nulls":13},{"$f":"_xlfn.TEXTJOIN(\"^\",,AP216:AP225)","v":""}]
[{"$nulls":15},{"$f":"_xlfn.TEXTJOIN(\"^\",,N216:N225)","v":"60153^60153^60154^60152^60152"},{"$nulls":13},{"$f":"_xlfn.TEXTJOIN(\"^\",,AC216:AC225)","v":""},{"$nulls":13},{"$f":"_xlfn.TEXTJOIN(\"^\",,AQ216:AQ225)","v":""}]
[{"$nulls":14},"最终",{"$f":"_xlfn.TEXTJOIN(\"^\",,P216:P226)","v":"60152^60151^60152^60151^60151^60154^60151^60151^60152^60151^60153^60151^60152^60154^60152^60153^60153^60152^60154^60152^60151^60151^60151^60151^60152^60154^60153^60151^60153^60151^60153^60154^60151^60151^60152^60152^60152^60151^60151^60151^60151^60153^60155^60153^60151^60151^60152^60151^60151^60154^60151^60151^60152^60151^60151^60152^60152^60152^60151^60151^60153^60153^60154^60152^60152"},{"$nulls":12},"最终",{"$f":"_xlfn.TEXTJOIN(\"^\",,AD216:AD226)","v":"60152^60151^60151^60151^60151^60151^60152^60154^60152^60152^60152^60154^60153^60152^60153^60152^60153^60152^60151^60151^60151^60152^60154^60153^60152^60153^60154^60151^60151^60151^60151^60151^60151^60151^60152^60153^60154^60153^60152"},{"$nulls":12},"最终",{"$f":"_xlfn.TEXTJOIN(\"^\",,AR216:AR226)","v":"60151^60151^60155^60151^60151^60152^60152^60152^60153^60153^60153^60152^60151^60151^60151^60152^60154^60153^60153^60153^60154^60151^60151^60151^60151^60151^60151^60152^60152^60152"}]
[null,null,8,null,null,null,"木精灵",null,null,"雪怪","雪怪","独角兽","雪怪",{"$nulls":4},8,"独角兽",null,null,null,"木精灵",{"$nulls":8},8]
[null,null,6,null,null,"独角兽",null,"独角兽","木精灵","雪怪","雪怪",null,"雪怪",{"$nulls":4},6,null,"木精灵",null,"独角兽",null,"雪怪","独角兽",{"$nulls":6},6,null,null,null,"独角兽",null,"雪怪"]
[null,null,4,null,"雪怪",null,"独角兽","雪怪","雪原熊",null,"雪原熊","雪怪",null,"雪原熊",null,null,null,4,"雪怪","独角兽","雪原熊",null,null,"雪怪","雪原熊",{"$nulls":6},4,"雪怪","独角兽","雪原熊",null,"木精灵","雪怪","独角兽"]
[null,null,2,"独角兽","雪怪","雪怪","雪原熊","雪怪","雪怪","独角兽",null,"雪怪","独角兽","雪原熊",null,null,null,2,"雪怪",null,"独角兽","雪怪","雪原熊","雪怪",{"$nulls":7},2,"雪怪",null,null,"雪怪","雪原熊","雪怪"]
[null,null,1,"雪怪","木精灵","雪原熊",null,null,"雪原熊","独角兽","蘑菇精英","木精灵","独角兽","木精灵",null,null,null,1,"雪怪","独角兽","雪原熊","雪怪","独角兽","雪怪","木精灵",{"$nulls":6},1,"蘑菇精英","独角兽","雪原熊","雪怪","雪原熊",null,"独角兽"]
[null,null,3,"独角兽","雪怪","雪怪","雪原熊","雪怪","雪怪","独角兽",null,"雪怪","独角兽","独角兽",null,null,null,3,"雪怪",null,"独角兽","雪怪","雪原熊","雪怪",{"$nulls":7},3,"雪怪",null,null,"雪怪","雪原熊","雪怪"]
[null,null,5,null,"雪怪",null,"独角兽","雪怪","雪原熊",null,"雪原熊","雪怪",null,"独角兽",null,null,null,5,"雪怪","独角兽","雪原熊",null,null,"雪怪","雪原熊",{"$nulls":6},5,"雪怪","独角兽","雪原熊",null,"木精灵","雪怪","独角兽"]
[null,null,7,null,null,"独角兽",null,"独角兽","木精灵","雪怪","雪怪",null,"雪怪",{"$nulls":4},7,null,"木精灵",null,"独角兽",null,"雪怪","独角兽",{"$nulls":6},7,null,null,null,"独角兽",null,"雪怪"]
[null,null,9,null,null,null,"木精灵",null,null,"雪怪","雪怪","独角兽","雪怪",{"$nulls":4},9,"独角兽",null,null,null,"木精灵",{"$nulls":8},9]
[]
[null,null,"位置",3,6,10,15,20,26,33,40,48,55,60,null,null,null,"位置",2,5,10,15,21,27,35,{"$nulls":4},{"$f":"_xlfn.TEXTJOIN(\"^\",,S239:S247)","v":"8^4^2^1^3^5^9"},null,"位置",1,3,6,10,15,25,30,{"$nulls":4},{"$f":"_xlfn.TEXTJOIN(\"^\",,AG239:AG247)","v":"4^2^1^3^5"}]
[null,null,8,null,null,null,{"$f":"$C239","v":8},null,null,{"$f":"$C239","v":8},8,8,8,null,null,{"$f":"_xlfn.TEXTJOIN(\"^\",,D239:D248)","v":"2^1^3"},null,8,{"$f":"$C239","v":8},null,null,null,{"$f":"$C239","v":8},{"$nulls":6},{"$f":"_xlfn.TEXTJOIN(\"^\",,T239:T247)","v":"6^4^1^5^7"},null,8,{"$nulls":11},{"$f":"_xlfn.TEXTJOIN(\"^\",,AH239:AH247)","v":"4^1^5"}]
[null,null,6,null,null,{"$f":"$C240","v":6},null,6,6,6,6,null,6,null,null,{"$f":"_xlfn.TEXTJOIN(\"^\",,E239:E248)","v":"4^2^1^3^5"},null,6,null,{"$f":"$C240","v":6},null,{"$f":"$C240","v":6},null,{"$f":"$C240","v":6},6,{"$nulls":4},{"$f":"_xlfn.TEXTJOIN(\"^\",,U239:U247)","v":"4^2^1^3^5"},null,6,null,null,null,{"$f":"$C240","v":6},null,{"$f":"$C240","v":6},{"$nulls":5},{"$f":"_xlfn.TEXTJOIN(\"^\",,AI239:AI247)","v":"4^1^5"}]
[null,null,4,null,{"$f":"$C241","v":4},null,{"$f":"$C241","v":4},4,4,null,4,4,null,{"$f":"$C241","v":4},null,{"$f":"_xlfn.TEXTJOIN(\"^\",,F239:F248)","v":"6^2^1^3^7"},null,4,4,4,4,null,null,4,4,{"$nulls":4},{"$f":"_xlfn.TEXTJOIN(\"^\",,V239:V247)","v":"6^2^1^3^7"},null,4,{"$f":"$C241","v":4},{"$f":"$C241","v":4},4,null,{"$f":"$C241","v":4},4,4,{"$nulls":4},{"$f":"_xlfn.TEXTJOIN(\"^\",,AJ239:AJ247)","v":"6^2^1^3^7"}]
[null,null,2,{"$f":"$C242","v":2},2,2,2,2,2,2,null,2,2,2,null,{"$f":"_xlfn.TEXTJOIN(\"^\",,G239:G248)","v":"8^4^2^3^5^9"},null,2,2,null,2,2,2,2,{"$nulls":5},{"$f":"_xlfn.TEXTJOIN(\"^\",,W239:W247)","v":"8^2^1^3^9"},null,2,2,null,null,{"$f":"$C242","v":2},2,2,{"$nulls":5},{"$f":"_xlfn.TEXTJOIN(\"^\",,AK239:AK247)","v":"4^2^1^3^5"}]
[null,null,1,1,1,1,null,null,1,1,1,1,1,1,null,{"$f":"_xlfn.TEXTJOIN(\"^\",,H239:H248)","v":"6^4^2^3^5^7"},null,1,1,{"$f":"$C243","v":1},1,1,1,1,1,{"$nulls":4},{"$f":"_xlfn.TEXTJOIN(\"^\",,X239:X247)","v":"6^4^2^1^3^5^7"},null,1,1,1,{"$f":"$C243","v":1},1,1,null,{"$f":"$C243","v":1},{"$nulls":4},{"$f":"_xlfn.TEXTJOIN(\"^\",,AL239:AL247)","v":"6^4^2^3^5^7"}]
[null,null,3,3,3,3,3,3,3,3,null,3,3,3,null,{"$f":"_xlfn.TEXTJOIN(\"^\",,I239:I248)","v":"6^4^2^1^3^5^7"},null,3,3,null,{"$f":"$C244","v":3},3,3,3,{"$nulls":5},{"$f":"_xlfn.TEXTJOIN(\"^\",,Y239:Y247)","v":"6^4^1^5^7"},null,3,3,null,null,3,3,3,{"$nulls":5},{"$f":"_xlfn.TEXTJOIN(\"^\",,AM239:AM247)","v":"4^1^5"}]
[null,null,5,null,5,null,5,5,5,null,{"$f":"$C245","v":5},5,null,5,null,{"$f":"_xlfn.TEXTJOIN(\"^\",,J239:J248)","v":"8^6^2^1^3^7^9"},null,5,5,5,5,null,null,5,5,{"$nulls":4},{"$f":"_xlfn.TEXTJOIN(\"^\",,Z239:Z247)","v":""},null,5,5,{"$f":"$C245","v":5},5,null,5,5,5,{"$nulls":4},{"$f":"_xlfn.TEXTJOIN(\"^\",,AN239:AN247)","v":""}]
[null,null,7,null,null,{"$f":"$C246","v":7},null,7,7,7,7,null,{"$f":"$C246","v":7},null,null,{"$f":"_xlfn.TEXTJOIN(\"^\",,K239:K248)","v":"8^6^4^1^5^7^9"},null,7,null,7,null,{"$f":"$C246","v":7},null,7,7,{"$nulls":4},{"$f":"_xlfn.TEXTJOIN(\"^\",,AA239:AA247)","v":""},null,7,null,null,null,{"$f":"$C246","v":7},null,7,{"$nulls":5},{"$f":"_xlfn.TEXTJOIN(\"^\",,AO239:AO247)","v":""}]
[null,null,9,null,null,null,{"$f":"$C247","v":9},null,null,9,9,9,9,null,null,{"$f":"_xlfn.TEXTJOIN(\"^\",,L239:L248)","v":"8^4^2^1^3^5^9"},null,9,{"$f":"$C247","v":9},null,null,null,{"$f":"$C247","v":9},{"$nulls":6},{"$f":"_xlfn.TEXTJOIN(\"^\",,AB239:AB247)","v":""},null,9,{"$nulls":11},{"$f":"_xlfn.TEXTJOIN(\"^\",,AP239:AP247)","v":""}]
[{"$nulls":15},{"$f":"_xlfn.TEXTJOIN(\"^\",,M239:M248)","v":"8^6^2^1^3^7^9"},{"$nulls":13},{"$f":"_xlfn.TEXTJOIN(\"^\",,AC239:AC247)","v":""},{"$nulls":13},{"$f":"_xlfn.TEXTJOIN(\"^\",,AQ239:AQ247)","v":""}]
[{"$nulls":15},{"$f":"_xlfn.TEXTJOIN(\"^\",,N239:N248)","v":"4^2^1^3^5"},{"$nulls":12},"最终",{"$f":"_xlfn.TEXTJOIN(\"^\",,AD238:AD248)","v":"8^4^2^1^3^5^9^6^4^1^5^7^4^2^1^3^5^6^2^1^3^7^8^2^1^3^9^6^4^2^1^3^5^7^6^4^1^5^7"},{"$nulls":12},"最终",{"$f":"_xlfn.TEXTJOIN(\"^\",,AR238:AR248)","v":"4^2^1^3^5^4^1^5^4^1^5^6^2^1^3^7^4^2^1^3^5^6^4^2^3^5^7^4^1^5"}]
[{"$nulls":14},"最终",{"$f":"_xlfn.TEXTJOIN(\"^\",,P239:P249)","v":"2^1^3^4^2^1^3^5^6^2^1^3^7^8^4^2^3^5^9^6^4^2^3^5^7^6^4^2^1^3^5^7^8^6^2^1^3^7^9^8^6^4^1^5^7^9^8^4^2^1^3^5^9^8^6^2^1^3^7^9^4^2^1^3^5"}]
[]
[null,null,"时间",3,6,10,15,20,26,33,40,48,55,60,null,null,null,"时间",2,5,10,15,21,27,35,{"$nulls":4},{"$f":"_xlfn.TEXTJOIN(\"^\",,S253:S261)","v":"2^2^2^2^2^2^2"},null,"时间",1,3,6,10,15,25,30,{"$nulls":4},{"$f":"_xlfn.TEXTJOIN(\"^\",,AG253:AG261)","v":"1^1^1^1^1"}]
[null,null,8,null,null,null,{"$f":"G$252","v":15},null,null,{"$f":"J$252","v":33},40,{"$f":"L$252","v":48},{"$f":"M$252","v":55},null,null,{"$f":"_xlfn.TEXTJOIN(\"^\",,D253:D262)","v":"3^3^3"},null,8,{"$f":"S$252","v":2},null,null,null,{"$f":"W$252","v":21},{"$nulls":6},{"$f":"_xlfn.TEXTJOIN(\"^\",,T253:T261)","v":"5^5^5^5^5"},null,8,{"$nulls":11},{"$f":"_xlfn.TEXTJOIN(\"^\",,AH253:AH261)","v":"3^3^3"}]
[null,null,6,null,null,{"$f":"F$252","v":10},null,{"$f":"H$252","v":20},26,{"$f":"J$252","v":33},40,null,{"$f":"M$252","v":55},null,null,{"$f":"_xlfn.TEXTJOIN(\"^\",,E253:E262)","v":"6^6^6^6^6"},null,6,null,{"$f":"T$252","v":5},null,{"$f":"V$252","v":15},null,{"$f":"X$252","v":27},35,{"$nulls":4},{"$f":"_xlfn.TEXTJOIN(\"^\",,U253:U261)","v":"10^10^10^10^10"},null,6,null,null,null,{"$f":"AJ$252","v":10},null,{"$f":"AL$252","v":25},{"$nulls":5},{"$f":"_xlfn.TEXTJOIN(\"^\",,AI253:AI261)","v":"6^6^6"}]
[null,null,4,null,{"$f":"E$252","v":6},null,{"$f":"G$252","v":15},20,26,null,40,48,null,{"$f":"N$252","v":60},null,{"$f":"_xlfn.TEXTJOIN(\"^\",,F253:F262)","v":"10^10^10^10^10"},null,4,2,{"$f":"T$252","v":5},{"$f":"U$252","v":10},null,null,27,35,{"$nulls":4},{"$f":"_xlfn.TEXTJOIN(\"^\",,V253:V261)","v":"15^15^15^15^15"},null,4,{"$f":"AG$252","v":1},{"$f":"AH$252","v":3},{"$f":"AI$252","v":6},null,{"$f":"AK$252","v":15},25,{"$f":"AM$252","v":30},{"$nulls":4},{"$f":"_xlfn.TEXTJOIN(\"^\",,AJ253:AJ261)","v":"10^10^10^10^10"}]
[null,null,2,{"$f":"D$252","v":3},{"$f":"E$252","v":6},{"$f":"F$252","v":10},{"$f":"G$252","v":15},20,26,33,null,48,55,60,null,{"$f":"_xlfn.TEXTJOIN(\"^\",,G253:G262)","v":"15^15^15^15^15^15"},null,2,2,null,10,15,21,27,{"$nulls":5},{"$f":"_xlfn.TEXTJOIN(\"^\",,W253:W261)","v":"21^21^21^21^21"},null,2,1,null,null,{"$f":"AJ$252","v":10},15,25,{"$nulls":5},{"$f":"_xlfn.TEXTJOIN(\"^\",,AK253:AK261)","v":"15^15^15^15^15"}]
[null,null,1,{"$f":"D$252","v":3},{"$f":"E$252","v":6},10,null,null,{"$f":"I$252","v":26},33,{"$f":"K$252","v":40},48,55,60,null,{"$f":"_xlfn.TEXTJOIN(\"^\",,H253:H262)","v":"20^20^20^20^20^20"},null,1,2,{"$f":"T$252","v":5},10,15,21,27,{"$f":"Y$252","v":35},{"$nulls":4},{"$f":"_xlfn.TEXTJOIN(\"^\",,X253:X261)","v":"27^27^27^27^27^27^27"},null,1,1,{"$f":"AH$252","v":3},{"$f":"AI$252","v":6},10,15,null,{"$f":"AM$252","v":30},{"$nulls":4},{"$f":"_xlfn.TEXTJOIN(\"^\",,AL253:AL261)","v":"25^25^25^25^25^25"}]
[null,null,3,3,{"$f":"E$252","v":6},10,{"$f":"G$252","v":15},{"$f":"H$252","v":20},26,33,null,48,55,60,null,{"$f":"_xlfn.TEXTJOIN(\"^\",,I253:I262)","v":"26^26^26^26^26^26^26"},null,3,{"$f":"S$252","v":2},null,{"$f":"U$252","v":10},15,21,27,{"$nulls":5},{"$f":"_xlfn.TEXTJOIN(\"^\",,Y253:Y261)","v":"35^35^35^35^35"},null,3,1,null,null,10,15,25,{"$nulls":5},{"$f":"_xlfn.TEXTJOIN(\"^\",,AM253:AM261)","v":"30^30^30"}]
[null,null,5,null,{"$f":"E$252","v":6},null,{"$f":"G$252","v":15},20,26,null,{"$f":"K$252","v":40},48,null,60,null,{"$f":"_xlfn.TEXTJOIN(\"^\",,J253:J262)","v":"33^33^33^33^33^33^33"},null,5,2,{"$f":"T$252","v":5},10,null,null,27,35,{"$nulls":4},{"$f":"_xlfn.TEXTJOIN(\"^\",,Z253:Z261)","v":""},null,5,1,{"$f":"AH$252","v":3},{"$f":"AI$252","v":6},null,15,25,{"$f":"AM$252","v":30},{"$nulls":4},{"$f":"_xlfn.TEXTJOIN(\"^\",,AN253:AN261)","v":""}]
[null,null,7,null,null,{"$f":"F$252","v":10},null,20,26,{"$f":"J$252","v":33},40,null,{"$f":"M$252","v":55},null,null,{"$f":"_xlfn.TEXTJOIN(\"^\",,K253:K262)","v":"40^40^40^40^40^40^40"},null,7,null,{"$f":"T$252","v":5},null,{"$f":"V$252","v":15},null,27,35,{"$nulls":4},{"$f":"_xlfn.TEXTJOIN(\"^\",,AA253:AA261)","v":""},null,7,null,null,null,{"$f":"AJ$252","v":10},null,25,{"$nulls":5},{"$f":"_xlfn.TEXTJOIN(\"^\",,AO253:AO261)","v":""}]
[null,null,9,null,null,null,{"$f":"G$252","v":15},null,null,{"$f":"J$252","v":33},40,{"$f":"L$252","v":48},{"$f":"M$252","v":55},null,null,{"$f":"_xlfn.TEXTJOIN(\"^\",,L253:L262)","v":"48^48^48^48^48^48^48"},null,9,{"$f":"S$252","v":2},null,null,null,{"$f":"W$252","v":21},{"$nulls":6},{"$f":"_xlfn.TEXTJOIN(\"^\",,AB253:AB261)","v":""},null,9,{"$nulls":11},{"$f":"_xlfn.TEXTJOIN(\"^\",,AP253:AP261)","v":""}]
[{"$nulls":15},{"$f":"_xlfn.TEXTJOIN(\"^\",,M253:M262)","v":"55^55^55^55^55^55^55"},{"$nulls":13},{"$f":"_xlfn.TEXTJOIN(\"^\",,AC253:AC261)","v":""},{"$nulls":13},{"$f":"_xlfn.TEXTJOIN(\"^\",,AQ253:AQ261)","v":""}]
[{"$nulls":15},{"$f":"_xlfn.TEXTJOIN(\"^\",,N253:N262)","v":"60^60^60^60^60"},{"$nulls":12},"最终",{"$f":"_xlfn.TEXTJOIN(\"^\",,AD252:AD262)","v":"2^2^2^2^2^2^2^5^5^5^5^5^10^10^10^10^10^15^15^15^15^15^21^21^21^21^21^27^27^27^27^27^27^27^35^35^35^35^35"},{"$nulls":12},"最终",{"$f":"_xlfn.TEXTJOIN(\"^\",,AR252:AR262)","v":"1^1^1^1^1^3^3^3^6^6^6^10^10^10^10^10^15^15^15^15^15^25^25^25^25^25^25^30^30^30"}]
[{"$nulls":14},"最终",{"$f":"_xlfn.TEXTJOIN(\"^\",,P253:P263)","v":"3^3^3^6^6^6^6^6^10^10^10^10^10^15^15^15^15^15^15^20^20^20^20^20^20^26^26^26^26^26^26^26^33^33^33^33^33^33^33^40^40^40^40^40^40^40^48^48^48^48^48^48^48^55^55^55^55^55^55^55^60^60^60^60^60"}]

{"sheet":"4","index":4,"n_rows":274,"n_cols":44,"rows_kept":274,"cut":false,"hidden":false,"merged":[]}
[]
[{"$nulls":4},{"$f":"E3-D3","v":9},{"$f":"F3-E3","v":15},15,15,20,20,20,20,{"$nulls":7},{"$f":"T3-S3","v":11},16,17,18,19,20,{"$nulls":8},{"$f":"AH3-AG3","v":2},4,6,6,5,5]
[3,"雪山-1","波1·怪物",6,15,30,45,60,80,100,120,140,{"$nulls":4},3,"波2·怪物",4,15,31,48,66,85,105,{"$nulls":5},1,"波3·怪物",2,4,8,14,20,25,30]
[null,"4.5m",8,{"$nulls":12},{"$f":"_xlfn.TEXTJOIN(\"^\",,D4:D13)","v":"60164^60162"},null,8,{"$nulls":11},{"$f":"_xlfn.TEXTJOIN(\"^\",,S4:S13)","v":"60161^60164^60163"},null,8,{"$nulls":11},{"$f":"_xlfn.TEXTJOIN(\"^\",,AG4:AG13)","v":"60164^60161^60161^60164"}]
[null,null,6,{"$nulls":12},{"$f":"_xlfn.TEXTJOIN(\"^\",,E4:E13)","v":"60162^60161"},null,6,{"$nulls":11},{"$f":"_xlfn.TEXTJOIN(\"^\",,T4:T13)","v":"60162^60161"},null,6,null,null,null,60162,null,60161,60161,{"$nulls":4},{"$f":"_xlfn.TEXTJOIN(\"^\",,AH4:AH13)","v":"60163^60163^60163"}]
[null,null,4,{"$nulls":12},{"$f":"_xlfn.TEXTJOIN(\"^\",,F4:F13)","v":"60162^60161"},null,4,{"$nulls":11},{"$f":"_xlfn.TEXTJOIN(\"^\",,U4:U13)","v":"60163^60161^60162"},null,4,60164,null,null,60164,60161,60161,60162,{"$nulls":4},{"$f":"_xlfn.TEXTJOIN(\"^\",,AI4:AI13)","v":"60162^60162^60162"}]
[null,null,2,{"$nulls":12},{"$f":"_xlfn.TEXTJOIN(\"^\",,G4:G13)","v":"60163^60161^60164"},null,2,{"$nulls":11},{"$f":"_xlfn.TEXTJOIN(\"^\",,V4:V13)","v":"60164^60161^60162"},null,2,60161,60163,60162,null,60163,60162,{"$nulls":5},{"$f":"_xlfn.TEXTJOIN(\"^\",,AJ4:AJ13)","v":"60162^60164^60164^60162"}]
[null,null,1,60164,60162,60162,60163,60162,60162,60161,60162,60161,null,null,null,{"$f":"_xlfn.TEXTJOIN(\"^\",,H4:H13)","v":"60162^60161"},null,1,60161,60162,60163,60164,60163,60161,60163,{"$nulls":4},{"$f":"_xlfn.TEXTJOIN(\"^\",,W4:W13)","v":"60163^60162^60164"},null,1,null,60163,60162,null,60163,null,60162,{"$nulls":4},{"$f":"_xlfn.TEXTJOIN(\"^\",,AK4:AK13)","v":"60161^60163^60163^60163^60161"}]
[null,null,3,60162,60161,60161,60161,60161,60163,60162,60163,60164,null,null,null,{"$f":"_xlfn.TEXTJOIN(\"^\",,I4:I13)","v":"60162^60163^60164"},null,3,60164,60161,60161,60161,60162,60165,60162,{"$nulls":4},{"$f":"_xlfn.TEXTJOIN(\"^\",,X4:X13)","v":"60161^60165"},null,3,60161,60163,60162,null,60163,60162,{"$nulls":5},{"$f":"_xlfn.TEXTJOIN(\"^\",,AL4:AL13)","v":"60161^60161^60162^60162^60161^60161"}]
[null,null,5,null,null,null,60164,null,60164,null,60161,60162,null,null,null,{"$f":"_xlfn.TEXTJOIN(\"^\",,J4:J13)","v":"60161^60162"},null,5,60163,null,60162,60162,60164,null,60164,{"$nulls":4},{"$f":"_xlfn.TEXTJOIN(\"^\",,Y4:Y13)","v":"60163^60162^60164"},null,5,60164,null,null,60164,60161,60161,60162,{"$nulls":4},{"$f":"_xlfn.TEXTJOIN(\"^\",,AM4:AM13)","v":"60161^60162^60162^60162^60161"}]
[null,null,7,{"$nulls":12},{"$f":"_xlfn.TEXTJOIN(\"^\",,K4:K13)","v":"60162^60163^60161"},null,7,{"$nulls":11},{"$f":"_xlfn.TEXTJOIN(\"^\",,Z4:Z13)","v":""},null,7,null,null,null,60162,null,60161,60161,{"$nulls":4},{"$f":"_xlfn.TEXTJOIN(\"^\",,AN4:AN13)","v":""}]
[null,null,9,{"$nulls":12},{"$f":"_xlfn.TEXTJOIN(\"^\",,L4:L13)","v":"60161^60164^60162"},null,9,{"$nulls":11},{"$f":"_xlfn.TEXTJOIN(\"^\",,AA4:AA13)","v":""},null,9,{"$nulls":11},{"$f":"_xlfn.TEXTJOIN(\"^\",,AO4:AO13)","v":""}]
[{"$nulls":15},{"$f":"_xlfn.TEXTJOIN(\"^\",,M4:M13)","v":""},{"$nulls":13},{"$f":"_xlfn.TEXTJOIN(\"^\",,AB4:AB13)","v":""},{"$nulls":13},{"$f":"_xlfn.TEXTJOIN(\"^\",,AP4:AP13)","v":""}]
[{"$nulls":15},{"$f":"_xlfn.TEXTJOIN(\"^\",,N4:N13)","v":""},{"$nulls":13},{"$f":"_xlfn.TEXTJOIN(\"^\",,AC4:AC13)","v":""},{"$nulls":13},{"$f":"_xlfn.TEXTJOIN(\"^\",,AQ4:AQ13)","v":""}]
[{"$nulls":14},"最终",{"$f":"_xlfn.TEXTJOIN(\"|\",,P4:P14)","v":"60164^60162|60162^60161|60162^60161|60163^60161^60164|60162^60161|60162^60163^60164|60161^60162|60162^60163^60161|60161^60164^60162"},{"$nulls":12},"最终",{"$f":"_xlfn.TEXTJOIN(\"|\",,AD4:AD14)","v":"60161^60164^60163|60162^60161|60163^60161^60162|60164^60161^60162|60163^60162^60164|60161^60165|60163^60162^60164"},{"$nulls":12},"最终",{"$f":"_xlfn.TEXTJOIN(\"^\",,AR4:AR14)","v":"60164^60161^60161^60164^60163^60163^60163^60162^60162^60162^60162^60164^60164^60162^60161^60163^60163^60163^60161^60161^60161^60162^60162^60161^60161^60161^60162^60162^60162^60161"}]
[null,null,8,{"$nulls":14},8,{"$nulls":13},8]
[null,null,6,{"$nulls":14},6,{"$nulls":13},6,null,null,null,"独角兽",null,"雪怪","雪怪"]
[null,null,4,{"$nulls":14},4,{"$nulls":13},4,"木精灵",null,null,"木精灵","雪怪","雪怪","独角兽"]
[null,null,2,{"$nulls":14},2,{"$nulls":13},2,"雪怪","雪原熊","独角兽",null,"雪原熊","独角兽"]
[null,null,1,"木精灵","独角兽","独角兽","雪原熊","独角兽","独角兽","雪怪","独角兽","雪怪",{"$nulls":5},1,"雪怪","独角兽","雪原熊","木精灵","雪原熊","雪怪","雪原熊",{"$nulls":6},1,null,"雪原熊","独角兽",null,"雪原熊",null,"独角兽"]
[null,null,3,"独角兽","雪怪","雪怪","雪怪","雪怪","雪原熊","独角兽","雪原熊","木精灵",{"$nulls":5},3,"木精灵","雪怪","雪怪","雪怪","独角兽","蘑菇精英","独角兽",{"$nulls":6},3,"雪怪","雪原熊","独角兽",null,"雪原熊","独角兽"]
[null,null,5,null,null,null,"木精灵",null,"木精灵",null,"雪怪","独角兽",{"$nulls":5},5,"雪原熊",null,"独角兽","独角兽","木精灵",null,"木精灵",{"$nulls":6},5,"木精灵",null,null,"木精灵","雪怪","雪怪","独角兽"]
[null,null,7,{"$nulls":14},7,{"$nulls":13},7,null,null,null,"独角兽",null,"雪怪","雪怪"]
[null,null,9,{"$nulls":14},9,{"$nulls":13},9]
[]
[null,null,"位置",6,15,30,45,60,80,100,120,140,{"$nulls":5},"位置",4,15,31,48,66,85,105,{"$nulls":4},{"$f":"_xlfn.TEXTJOIN(\"^\",,S27:S35)","v":"0^0^0"},null,"位置",2,4,8,14,20,25,30,{"$nulls":4},{"$f":"_xlfn.TEXTJOIN(\"^\",,AG27:AG35)","v":"4^2^3^5"}]
[null,null,8,{"$nulls":12},{"$f":"_xlfn.TEXTJOIN(\"^\",,D27:D36)","v":"0^0"},null,8,{"$nulls":11},{"$f":"_xlfn.TEXTJOIN(\"^\",,T27:T35)","v":"0^0"},null,8,{"$nulls":11},{"$f":"_xlfn.TEXTJOIN(\"^\",,AH27:AH35)","v":"2^1^3"}]
[null,null,6,{"$nulls":12},{"$f":"_xlfn.TEXTJOIN(\"^\",,E27:E36)","v":"0^0"},null,6,{"$nulls":11},{"$f":"_xlfn.TEXTJOIN(\"^\",,U27:U35)","v":"0^0^0"},null,6,null,null,null,{"$f":"$C28","v":6},null,{"$f":"$C28","v":6},6,{"$nulls":4},{"$f":"_xlfn.TEXTJOIN(\"^\",,AI27:AI35)","v":"2^1^3"}]
[null,null,4,{"$nulls":12},{"$f":"_xlfn.TEXTJOIN(\"^\",,F27:F36)","v":"0^0"},null,4,{"$nulls":11},{"$f":"_xlfn.TEXTJOIN(\"^\",,V27:V35)","v":"0^0^0"},null,4,{"$f":"$C29","v":4},null,null,{"$f":"$C29","v":4},{"$f":"$C29","v":4},4,4,{"$nulls":4},{"$f":"_xlfn.TEXTJOIN(\"^\",,AJ27:AJ35)","v":"6^4^5^7"}]
[null,null,2,{"$nulls":12},{"$f":"_xlfn.TEXTJOIN(\"^\",,G27:G36)","v":"0^0^0"},null,2,{"$nulls":11},{"$f":"_xlfn.TEXTJOIN(\"^\",,W27:W35)","v":"0^0^0"},null,2,2,{"$f":"$C30","v":2},{"$f":"$C30","v":2},null,2,2,{"$nulls":5},{"$f":"_xlfn.TEXTJOIN(\"^\",,AK27:AK35)","v":"4^2^1^3^5"}]
[null,null,1,0,0,0,0,0,0,0,0,0,null,null,null,{"$f":"_xlfn.TEXTJOIN(\"^\",,H27:H36)","v":"0^0"},null,1,0,0,0,0,0,0,0,{"$nulls":4},{"$f":"_xlfn.TEXTJOIN(\"^\",,X27:X35)","v":"0^0"},null,1,null,{"$f":"$C31","v":1},1,null,1,null,{"$f":"$C31","v":1},{"$nulls":4},{"$f":"_xlfn.TEXTJOIN(\"^\",,AL27:AL35)","v":"6^4^2^3^5^7"}]
[null,null,3,0,0,0,0,0,0,0,0,0,null,null,null,{"$f":"_xlfn.TEXTJOIN(\"^\",,I27:I36)","v":"0^0^0"},null,3,0,0,0,0,0,0,0,{"$nulls":4},{"$f":"_xlfn.TEXTJOIN(\"^\",,Y27:Y35)","v":"0^0^0"},null,3,{"$f":"$C32","v":3},{"$f":"$C32","v":3},3,null,3,3,{"$nulls":5},{"$f":"_xlfn.TEXTJOIN(\"^\",,AM27:AM35)","v":"6^4^1^5^7"}]
[null,null,5,null,null,null,0,null,0,null,0,0,null,null,null,{"$f":"_xlfn.TEXTJOIN(\"^\",,J27:J36)","v":"0^0"},null,5,0,null,0,0,0,null,0,{"$nulls":4},{"$f":"_xlfn.TEXTJOIN(\"^\",,Z27:Z35)","v":""},null,5,5,null,null,{"$f":"$C33","v":5},5,5,5,{"$nulls":4},{"$f":"_xlfn.TEXTJOIN(\"^\",,AN27:AN35)","v":""}]
[null,null,7,{"$nulls":12},{"$f":"_xlfn.TEXTJOIN(\"^\",,K27:K36)","v":"0^0^0"},null,7,{"$nulls":11},{"$f":"_xlfn.TEXTJOIN(\"^\",,AA27:AA35)","v":""},null,7,null,null,null,7,null,7,7,{"$nulls":4},{"$f":"_xlfn.TEXTJOIN(\"^\",,AO27:AO35)","v":""}]
[null,null,9,{"$nulls":12},{"$f":"_xlfn.TEXTJOIN(\"^\",,L27:L36)","v":"0^0^0"},null,9,{"$nulls":11},{"$f":"_xlfn.TEXTJOIN(\"^\",,AB27:AB35)","v":""},null,9,{"$nulls":11},{"$f":"_xlfn.TEXTJOIN(\"^\",,AP27:AP35)","v":""}]
[{"$nulls":15},{"$f":"_xlfn.TEXTJOIN(\"^\",,M27:M36)","v":""},{"$nulls":13},{"$f":"_xlfn.TEXTJOIN(\"^\",,AC27:AC35)","v":""},{"$nulls":13},{"$f":"_xlfn.TEXTJOIN(\"^\",,AQ27:AQ35)","v":""}]
[{"$nulls":15},{"$f":"_xlfn.TEXTJOIN(\"^\",,N27:N36)","v":""},{"$nulls":12},"最终",{"$f":"_xlfn.TEXTJOIN(\"|\",,AD26:AD36)","v":"0^0^0|0^0|0^0^0|0^0^0|0^0^0|0^0|0^0^0"},{"$nulls":12},"最终",{"$f":"_xlfn.TEXTJOIN(\"^\",,AR26:AR36)","v":"4^2^3^5^2^1^3^2^1^3^6^4^5^7^4^2^1^3^5^6^4^2^3^5^7^6^4^1^5^7"}]
[{"$nulls":14},"最终",{"$f":"_xlfn.TEXTJOIN(\"|\",,P27:P37)","v":"0^0|0^0|0^0|0^0^0|0^0|0^0^0|0^0|0^0^0|0^0^0"}]
[]
[null,null,"时间",6,15,30,45,60,80,100,120,140,{"$nulls":5},"时间",4,15,31,48,66,85,105,{"$nulls":4},{"$f":"_xlfn.TEXTJOIN(\"^\",,S41:S49)","v":"20^6^4"},null,"时间",2,4,8,14,20,25,30,{"$nulls":4},{"$f":"_xlfn.TEXTJOIN(\"^\",,AG41:AG49)","v":"2^2^2^2"}]
[null,null,8,{"$nulls":12},{"$f":"_xlfn.TEXTJOIN(\"^\",,D41:D50)","v":"2^4"},null,8,{"$nulls":11},{"$f":"_xlfn.TEXTJOIN(\"^\",,T41:T49)","v":"6^8"},null,8,{"$nulls":11},{"$f":"_xlfn.TEXTJOIN(\"^\",,AH41:AH49)","v":"4^4^4"}]
[null,null,6,{"$nulls":12},{"$f":"_xlfn.TEXTJOIN(\"^\",,E41:E50)","v":"3^8"},null,6,{"$nulls":11},{"$f":"_xlfn.TEXTJOIN(\"^\",,U41:U49)","v":"3^7^4"},null,6,null,null,null,{"$f":"AJ$40","v":14},null,{"$f":"AL$40","v":25},30,{"$nulls":4},{"$f":"_xlfn.TEXTJOIN(\"^\",,AI41:AI49)","v":"8^8^8"}]
[null,null,4,{"$nulls":12},{"$f":"_xlfn.TEXTJOIN(\"^\",,F41:F50)","v":"4^8"},null,4,{"$nulls":11},{"$f":"_xlfn.TEXTJOIN(\"^\",,V41:V49)","v":"3^8^4"},null,4,{"$f":"AG$40","v":2},null,null,14,20,25,30,{"$nulls":4},{"$f":"_xlfn.TEXTJOIN(\"^\",,AJ41:AJ49)","v":"14^14^14^14"}]
[null,null,2,{"$nulls":12},{"$f":"_xlfn.TEXTJOIN(\"^\",,G41:G50)","v":"2^8^2"},null,2,{"$nulls":11},{"$f":"_xlfn.TEXTJOIN(\"^\",,W41:W49)","v":"4^4^4"},null,2,2,{"$f":"AH$40","v":4},{"$f":"AI$40","v":8},null,20,25,{"$nulls":5},{"$f":"_xlfn.TEXTJOIN(\"^\",,AK41:AK49)","v":"20^20^20^20^20"}]
[null,null,1,2,3,4,2,4,4,9,4,8,null,null,null,{"$f":"_xlfn.TEXTJOIN(\"^\",,H41:H50)","v":"4^8"},null,1,20,6,3,3,4,15,4,{"$nulls":4},{"$f":"_xlfn.TEXTJOIN(\"^\",,X41:X49)","v":"15^1"},null,1,null,{"$f":"AH$40","v":4},8,null,20,null,{"$f":"AM$40","v":30},{"$nulls":4},{"$f":"_xlfn.TEXTJOIN(\"^\",,AL41:AL49)","v":"25^25^25^25^25^25"}]
[null,null,3,4,8,8,8,8,4,4,3,2,null,null,null,{"$f":"_xlfn.TEXTJOIN(\"^\",,I41:I50)","v":"4^4^4"},null,3,6,8,7,8,4,1,4,{"$nulls":4},{"$f":"_xlfn.TEXTJOIN(\"^\",,Y41:Y49)","v":"4^4^2"},null,3,{"$f":"AG$40","v":2},{"$f":"AH$40","v":4},8,null,20,25,{"$nulls":5},{"$f":"_xlfn.TEXTJOIN(\"^\",,AM41:AM49)","v":"30^30^30^30^30"}]
[null,null,5,null,null,null,2,null,4,null,7,4,null,null,null,{"$f":"_xlfn.TEXTJOIN(\"^\",,J41:J50)","v":"9^4"},null,5,4,null,4,4,4,null,2,{"$nulls":4},{"$f":"_xlfn.TEXTJOIN(\"^\",,Z41:Z49)","v":""},null,5,2,null,null,{"$f":"AJ$40","v":14},20,25,30,{"$nulls":4},{"$f":"_xlfn.TEXTJOIN(\"^\",,AN41:AN49)","v":""}]
[null,null,7,{"$nulls":12},{"$f":"_xlfn.TEXTJOIN(\"^\",,K41:K50)","v":"4^3^7"},null,7,{"$nulls":11},{"$f":"_xlfn.TEXTJOIN(\"^\",,AA41:AA49)","v":""},null,7,null,null,null,14,null,25,30,{"$nulls":4},{"$f":"_xlfn.TEXTJOIN(\"^\",,AO41:AO49)","v":""}]
[null,null,9,{"$nulls":12},{"$f":"_xlfn.TEXTJOIN(\"^\",,L41:L50)","v":"8^2^4"},null,9,{"$nulls":11},{"$f":"_xlfn.TEXTJOIN(\"^\",,AB41:AB49)","v":""},null,9,{"$nulls":11},{"$f":"_xlfn.TEXTJOIN(\"^\",,AP41:AP49)","v":""}]
[{"$nulls":14},"最终",{"$f":"_xlfn.TEXTJOIN(\"|\",,P39:P49)","v":"2^4|3^8|4^8|2^8^2|4^8|4^4^4|9^4|4^3^7|8^2^4"},{"$nulls":13},{"$f":"_xlfn.TEXTJOIN(\"|\",,AD40:AD49)","v":"20^6^4|6^8|3^7^4|3^8^4|4^4^4|15^1|4^4^2"},{"$nulls":12},"最终",{"$f":"_xlfn.TEXTJOIN(\"^\",,AR39:AR49)","v":"2^2^2^2^4^4^4^8^8^8^14^14^14^14^20^20^20^20^20^25^25^25^25^25^25^30^30^30^30^30"}]
[{"$nulls":15},{"$f":"SUM(D42:L47)","v":106},{"$nulls":13},{"$f":"SUM(S42:Z47)","v":111},{"$nulls":13},{"$f":"COUNT(AG41:AM48)","v":30}]
[{"$nulls":43},{"$f":"AR51+AD51+P51","v":247}]
[]
[{"$nulls":4},{"$f":"E55-D55","v":10},{"$f":"F55-E55","v":15},16,17,18,19,20,20,{"$nulls":7},{"$f":"T55-S55","v":12},15,16,17,18,19,{"$nulls":8},{"$f":"AH55-AG55","v":1},3,5,7,10,15]
[3,"雪山-2","波1·怪物",5,15,30,46,63,81,100,120,140,{"$nulls":4},3,"波2·怪物",3,15,30,46,63,81,100,{"$nulls":6},"波3·怪物",1,2,5,10,17,27,42]
[9,"4.5m",8,{"$nulls":12},{"$f":"_xlfn.TEXTJOIN(\"^\",,D56:D65)","v":"60171^60172"},null,8,{"$nulls":11},{"$f":"_xlfn.TEXTJOIN(\"^\",,S56:S65)","v":"60171^60172"},null,8,{"$nulls":5},60172,{"$nulls":5},{"$f":"_xlfn.TEXTJOIN(\"^\",,AG56:AG65)","v":"60174^60171^60171^60174"}]
[null,null,6,{"$nulls":12},{"$f":"_xlfn.TEXTJOIN(\"^\",,E56:E65)","v":"60171^60174"},null,6,{"$nulls":11},{"$f":"_xlfn.TEXTJOIN(\"^\",,T56:T65)","v":"60171^60172"},null,6,null,null,null,60172,null,60174,60171,{"$nulls":4},{"$f":"_xlfn.TEXTJOIN(\"^\",,AH56:AH65)","v":"60172^60172"}]
[null,null,4,{"$nulls":12},{"$f":"_xlfn.TEXTJOIN(\"^\",,F56:F65)","v":"60173^60171^60172"},null,4,{"$nulls":11},{"$f":"_xlfn.TEXTJOIN(\"^\",,U56:U65)","v":"60173^60174^60172"},null,4,60174,null,60173,null,60172,60171,60173,{"$nulls":4},{"$f":"_xlfn.TEXTJOIN(\"^\",,AI56:AI65)","v":"60173^60173^60173"}]
[null,null,2,{"$nulls":12},{"$f":"_xlfn.TEXTJOIN(\"^\",,G56:G65)","v":"60173^60172^60174"},null,2,{"$nulls":11},{"$f":"_xlfn.TEXTJOIN(\"^\",,V56:V65)","v":"60171^60172"},null,2,60171,60172,null,60171,60173,{"$nulls":6},{"$f":"_xlfn.TEXTJOIN(\"^\",,AJ56:AJ65)","v":"60172^60171^60174^60171^60172"}]
[null,null,1,60171,60171,60173,60173,60171,60173,60171,60174,60173,null,null,null,{"$f":"_xlfn.TEXTJOIN(\"^\",,H56:H65)","v":"60171^60172"},null,1,60171,60171,60173,60171,60173,60172,60173,{"$nulls":4},{"$f":"_xlfn.TEXTJOIN(\"^\",,W56:W65)","v":"60173^60174^60172"},null,1,null,null,60173,60174,60171,null,60172,{"$nulls":4},{"$f":"_xlfn.TEXTJOIN(\"^\",,AK56:AK65)","v":"60172^60173^60171^60173^60172"}]
[null,null,3,60172,60174,60171,60172,60172,60174,60172,60173,60172,null,null,null,{"$f":"_xlfn.TEXTJOIN(\"^\",,I56:I65)","v":"60173^60174^60172"},null,3,60172,60172,60174,60172,60174,60171,60172,{"$nulls":4},{"$f":"_xlfn.TEXTJOIN(\"^\",,X56:X65)","v":"60172^60171"},null,3,60171,60172,null,60171,60173,{"$nulls":6},{"$f":"_xlfn.TEXTJOIN(\"^\",,AL56:AL65)","v":"60172^60174^60171^60171^60174^60172"}]
[null,null,5,null,null,60172,60174,null,60172,null,60171,60174,null,null,null,{"$f":"_xlfn.TEXTJOIN(\"^\",,J56:J65)","v":"60171^60172"},null,5,null,null,60172,null,60172,null,60174,{"$nulls":4},{"$f":"_xlfn.TEXTJOIN(\"^\",,Y56:Y65)","v":"60173^60172^60174"},null,5,60174,null,60173,null,60172,60171,60173,{"$nulls":4},{"$f":"_xlfn.TEXTJOIN(\"^\",,AM56:AM65)","v":"60171^60173^60172^60173^60171"}]
[null,null,7,{"$nulls":12},{"$f":"_xlfn.TEXTJOIN(\"^\",,K56:K65)","v":"60174^60173^60171"},null,7,{"$nulls":11},{"$f":"_xlfn.TEXTJOIN(\"^\",,Z56:Z65)","v":""},null,7,null,null,null,60172,null,60174,60171,{"$nulls":4},{"$f":"_xlfn.TEXTJOIN(\"^\",,AN56:AN65)","v":""}]
[null,null,9,{"$nulls":12},{"$f":"_xlfn.TEXTJOIN(\"^\",,L56:L65)","v":"60173^60172^60174"},null,9,{"$nulls":11},{"$f":"_xlfn.TEXTJOIN(\"^\",,AA56:AA65)","v":""},null,9,{"$nulls":5},60172,{"$nulls":5},{"$f":"_xlfn.TEXTJOIN(\"^\",,AO56:AO65)","v":""}]
[{"$nulls":15},{"$f":"_xlfn.TEXTJOIN(\"^\",,M56:M65)","v":""},{"$nulls":13},{"$f":"_xlfn.TEXTJOIN(\"^\",,AB56:AB65)","v":""},{"$nulls":13},{"$f":"_xlfn.TEXTJOIN(\"^\",,AP56:AP65)","v":""}]
[{"$nulls":15},{"$f":"_xlfn.TEXTJOIN(\"^\",,N56:N65)","v":""},{"$nulls":13},{"$f":"_xlfn.TEXTJOIN(\"^\",,AC56:AC65)","v":""},{"$nulls":13},{"$f":"_xlfn.TEXTJOIN(\"^\",,AQ56:AQ65)","v":""}]
[{"$nulls":14},"最终",{"$f":"_xlfn.TEXTJOIN(\"|\",,P56:P66)","v":"60171^60172|60171^60174|60173^60171^60172|60173^60172^60174|60171^60172|60173^60174^60172|60171^60172|60174^60173^60171|60173^60172^60174"},{"$nulls":12},"最终",{"$f":"_xlfn.TEXTJOIN(\"|\",,AD56:AD66)","v":"60171^60172|60171^60172|60173^60174^60172|60171^60172|60173^60174^60172|60172^60171|60173^60172^60174"},{"$nulls":12},"最终",{"$f":"_xlfn.TEXTJOIN(\"^\",,AR56:AR66)","v":"60174^60171^60171^60174^60172^60172^60173^60173^60173^60172^60171^60174^60171^60172^60172^60173^60171^60173^60172^60172^60174^60171^60171^60174^60172^60171^60173^60172^60173^60171"}]
[null,null,8,{"$nulls":14},8,{"$nulls":13},8,{"$nulls":5},"独角兽"]
[null,null,6,{"$nulls":14},6,{"$nulls":13},6,null,null,null,"独角兽",null,"木精灵","雪怪"]
[null,null,4,{"$nulls":14},4,{"$nulls":13},4,"木精灵",null,"雪原熊",null,"独角兽","雪怪","雪原熊"]
[null,null,2,{"$nulls":14},2,{"$nulls":13},2,"雪怪","独角兽",null,"雪怪","雪原熊"]
[null,null,1,"雪怪","雪怪","雪原熊","雪原熊","雪怪","雪原熊","雪怪","木精灵","雪原熊",{"$nulls":5},1,"雪怪","雪怪","雪原熊","雪怪","雪原熊","独角兽","雪原熊",{"$nulls":6},1,null,null,"雪原熊","木精灵","雪怪",null,"独角兽"]
[null,null,3,"独角兽","木精灵","雪怪","独角兽","独角兽","木精灵","独角兽","雪原熊","独角兽",{"$nulls":5},3,"独角兽","独角兽","木精灵","独角兽","木精灵","雪怪","独角兽",{"$nulls":6},3,"雪怪","独角兽",null,"雪怪","雪原熊"]
[null,null,5,null,null,"独角兽","木精灵",null,"独角兽",null,"雪怪","木精灵",{"$nulls":5},5,null,null,"独角兽",null,"独角兽",null,"木精灵",{"$nulls":6},5,"木精灵",null,"雪原熊",null,"独角兽","雪怪","雪原熊"]
[null,null,7,{"$nulls":14},7,{"$nulls":13},7,null,null,null,"独角兽",null,"木精灵","雪怪"]
[null,null,9,{"$nulls":14},9,{"$nulls":13},9,{"$nulls":5},"独角兽"]
[]
[null,null,"位置",5,15,30,46,63,81,100,120,140,{"$nulls":5},"位置",3,15,30,46,63,81,100,{"$nulls":4},{"$f":"_xlfn.TEXTJOIN(\"^\",,S79:S87)","v":"0^0"},null,"位置",1,2,5,10,17,27,42,{"$nulls":4},{"$f":"_xlfn.TEXTJOIN(\"^\",,AG79:AG87)","v":"4^2^3^5"}]
[null,null,8,{"$nulls":12},{"$f":"_xlfn.TEXTJOIN(\"^\",,D79:D88)","v":"0^0"},null,8,{"$nulls":11},{"$f":"_xlfn.TEXTJOIN(\"^\",,T79:T87)","v":"0^0"},null,8,{"$nulls":5},{"$f":"$C79","v":8},{"$nulls":5},{"$f":"_xlfn.TEXTJOIN(\"^\",,AH79:AH87)","v":"2^3"}]
[null,null,6,{"$nulls":12},{"$f":"_xlfn.TEXTJOIN(\"^\",,E79:E88)","v":"0^0"},null,6,{"$nulls":11},{"$f":"_xlfn.TEXTJOIN(\"^\",,U79:U87)","v":"0^0^0"},null,6,null,null,null,{"$f":"$C80","v":6},null,6,6,{"$nulls":4},{"$f":"_xlfn.TEXTJOIN(\"^\",,AI79:AI87)","v":"4^1^5"}]
[null,null,4,{"$nulls":12},{"$f":"_xlfn.TEXTJOIN(\"^\",,F79:F88)","v":"0^0^0"},null,4,{"$nulls":11},{"$f":"_xlfn.TEXTJOIN(\"^\",,V79:V87)","v":"0^0"},null,4,{"$f":"$C81","v":4},null,{"$f":"$C81","v":4},null,{"$f":"$C81","v":4},4,4,{"$nulls":4},{"$f":"_xlfn.TEXTJOIN(\"^\",,AJ79:AJ87)","v":"6^2^1^3^7"}]
[null,null,2,{"$nulls":12},{"$f":"_xlfn.TEXTJOIN(\"^\",,G79:G88)","v":"0^0^0"},null,2,{"$nulls":11},{"$f":"_xlfn.TEXTJOIN(\"^\",,W79:W87)","v":"0^0^0"},null,2,2,{"$f":"$C82","v":2},null,{"$f":"$C82","v":2},2,{"$nulls":6},{"$f":"_xlfn.TEXTJOIN(\"^\",,AK79:AK87)","v":"4^2^1^3^5"}]
[null,null,1,0,0,0,0,0,0,0,0,0,null,null,null,{"$f":"_xlfn.TEXTJOIN(\"^\",,H79:H88)","v":"0^0"},null,1,0,0,0,0,0,0,0,{"$nulls":4},{"$f":"_xlfn.TEXTJOIN(\"^\",,X79:X87)","v":"0^0"},null,1,null,null,{"$f":"$C83","v":1},1,1,null,{"$f":"$C83","v":1},{"$nulls":4},{"$f":"_xlfn.TEXTJOIN(\"^\",,AL79:AL87)","v":"8^6^4^5^7^9"}]
[null,null,3,0,0,0,0,0,0,0,0,0,null,null,null,{"$f":"_xlfn.TEXTJOIN(\"^\",,I79:I88)","v":"0^0^0"},null,3,0,0,0,0,0,0,0,{"$nulls":4},{"$f":"_xlfn.TEXTJOIN(\"^\",,Y79:Y87)","v":"0^0^0"},null,3,{"$f":"$C84","v":3},{"$f":"$C84","v":3},null,3,3,{"$nulls":6},{"$f":"_xlfn.TEXTJOIN(\"^\",,AM79:AM87)","v":"6^4^1^5^7"}]
[null,null,5,null,null,0,0,null,0,null,0,0,null,null,null,{"$f":"_xlfn.TEXTJOIN(\"^\",,J79:J88)","v":"0^0"},null,5,null,null,0,null,0,null,0,{"$nulls":4},{"$f":"_xlfn.TEXTJOIN(\"^\",,Z79:Z87)","v":""},null,5,5,null,{"$f":"$C85","v":5},null,5,5,5,{"$nulls":4},{"$f":"_xlfn.TEXTJOIN(\"^\",,AN79:AN87)","v":""}]
[null,null,7,{"$nulls":12},{"$f":"_xlfn.TEXTJOIN(\"^\",,K79:K88)","v":"0^0^0"},null,7,{"$nulls":11},{"$f":"_xlfn.TEXTJOIN(\"^\",,AA79:AA87)","v":""},null,7,null,null,null,{"$f":"$C86","v":7},null,7,7,{"$nulls":4},{"$f":"_xlfn.TEXTJOIN(\"^\",,AO79:AO87)","v":""}]
[null,null,9,{"$nulls":12},{"$f":"_xlfn.TEXTJOIN(\"^\",,L79:L88)","v":"0^0^0"},null,9,{"$nulls":11},{"$f":"_xlfn.TEXTJOIN(\"^\",,AB79:AB87)","v":""},null,9,{"$nulls":5},9,{"$nulls":5},{"$f":"_xlfn.TEXTJOIN(\"^\",,AP79:AP87)","v":""}]
[{"$nulls":15},{"$f":"_xlfn.TEXTJOIN(\"^\",,M79:M88)","v":""},{"$nulls":13},{"$f":"_xlfn.TEXTJOIN(\"^\",,AC79:AC87)","v":""},{"$nulls":13},{"$f":"_xlfn.TEXTJOIN(\"^\",,AQ79:AQ87)","v":""}]
[{"$nulls":15},{"$f":"_xlfn.TEXTJOIN(\"^\",,N79:N88)","v":""},{"$nulls":12},"最终",{"$f":"_xlfn.TEXTJOIN(\"|\",,AD78:AD88)","v":"0^0|0^0|0^0^0|0^0|0^0^0|0^0|0^0^0"},{"$nulls":12},"最终",{"$f":"_xlfn.TEXTJOIN(\"^\",,AR78:AR88)","v":"4^2^3^5^2^3^4^1^5^6^2^1^3^7^4^2^1^3^5^8^6^4^5^7^9^6^4^1^5^7"}]
[{"$nulls":14},"最终",{"$f":"_xlfn.TEXTJOIN(\"|\",,P79:P89)","v":"0^0|0^0|0^0^0|0^0^0|0^0|0^0^0|0^0|0^0^0|0^0^0"}]
[]
[null,null,"时间",5,15,30,46,63,81,100,120,140,{"$nulls":5},"时间",3,15,30,46,63,81,100,{"$nulls":4},{"$f":"_xlfn.TEXTJOIN(\"^\",,S93:S101)","v":"22^8"},null,"时间",1,2,5,10,17,27,42,{"$nulls":4},{"$f":"_xlfn.TEXTJOIN(\"^\",,AG93:AG101)","v":"1^1^1^1"}]
[null,null,8,{"$nulls":12},{"$f":"_xlfn.TEXTJOIN(\"^\",,D93:D102)","v":"5^2"},null,8,{"$nulls":11},{"$f":"_xlfn.TEXTJOIN(\"^\",,T93:T101)","v":"8^6"},null,8,{"$nulls":5},{"$f":"AL$92","v":27},{"$nulls":5},{"$f":"_xlfn.TEXTJOIN(\"^\",,AH93:AH101)","v":"2^2"}]
[null,null,6,{"$nulls":12},{"$f":"_xlfn.TEXTJOIN(\"^\",,E93:E102)","v":"8^3"},null,6,{"$nulls":11},{"$f":"_xlfn.TEXTJOIN(\"^\",,U93:U101)","v":"4^2^4"},null,6,null,null,null,{"$f":"AJ$92","v":10},null,27,{"$f":"AM$92","v":42},{"$nulls":4},{"$f":"_xlfn.TEXTJOIN(\"^\",,AI93:AI101)","v":"5^5^5"}]
[null,null,4,{"$nulls":12},{"$f":"_xlfn.TEXTJOIN(\"^\",,F93:F102)","v":"2^7^4"},null,4,{"$nulls":11},{"$f":"_xlfn.TEXTJOIN(\"^\",,V93:V101)","v":"9^3"},null,4,{"$f":"AG$92","v":1},null,{"$f":"AI$92","v":5},null,{"$f":"AK$92","v":17},27,{"$f":"AM$92","v":42},{"$nulls":4},{"$f":"_xlfn.TEXTJOIN(\"^\",,AJ93:AJ101)","v":"10^10^10^10^10"}]
[null,null,2,{"$nulls":12},{"$f":"_xlfn.TEXTJOIN(\"^\",,G93:G102)","v":"3^8^2"},null,2,{"$nulls":11},{"$f":"_xlfn.TEXTJOIN(\"^\",,W93:W101)","v":"3^2^5"},null,2,1,{"$f":"AH$92","v":2},null,{"$f":"AJ$92","v":10},17,{"$nulls":6},{"$f":"_xlfn.TEXTJOIN(\"^\",,AK93:AK101)","v":"17^17^17^17^17"}]
[null,null,1,5,8,2,3,8,4,10,2,4,null,null,null,{"$f":"_xlfn.TEXTJOIN(\"^\",,H93:H102)","v":"8^4"},null,1,22,8,4,9,3,4,3,{"$nulls":4},{"$f":"_xlfn.TEXTJOIN(\"^\",,X93:X101)","v":"4^10"},null,1,null,null,{"$f":"AI$92","v":5},10,17,null,{"$f":"AM$92","v":42},{"$nulls":4},{"$f":"_xlfn.TEXTJOIN(\"^\",,AL93:AL101)","v":"27^27^27^27^27^27"}]
[null,null,3,2,3,7,8,4,4,3,3,4,null,null,null,{"$f":"_xlfn.TEXTJOIN(\"^\",,I93:I102)","v":"4^4^4"},null,3,8,6,2,3,2,10,4,{"$nulls":4},{"$f":"_xlfn.TEXTJOIN(\"^\",,Y93:Y101)","v":"3^4^3"},null,3,{"$f":"AG$92","v":1},{"$f":"AH$92","v":2},null,10,17,{"$nulls":6},{"$f":"_xlfn.TEXTJOIN(\"^\",,AM93:AM101)","v":"42^42^42^42^42"}]
[null,null,5,null,null,4,2,null,4,null,8,4,null,null,null,{"$f":"_xlfn.TEXTJOIN(\"^\",,J93:J102)","v":"10^3"},null,5,null,null,4,null,5,null,3,{"$nulls":4},{"$f":"_xlfn.TEXTJOIN(\"^\",,Z93:Z101)","v":""},null,5,1,null,{"$f":"AI$92","v":5},null,17,27,42,{"$nulls":4},{"$f":"_xlfn.TEXTJOIN(\"^\",,AN93:AN101)","v":""}]
[null,null,7,{"$nulls":12},{"$f":"_xlfn.TEXTJOIN(\"^\",,K93:K102)","v":"2^3^8"},null,7,{"$nulls":11},{"$f":"_xlfn.TEXTJOIN(\"^\",,AA93:AA101)","v":""},null,7,null,null,null,{"$f":"AJ$92","v":10},null,27,42,{"$nulls":4},{"$f":"_xlfn.TEXTJOIN(\"^\",,AO93:AO101)","v":""}]
[null,null,9,{"$nulls":12},{"$f":"_xlfn.TEXTJOIN(\"^\",,L93:L102)","v":"4^4^4"},null,9,{"$nulls":11},{"$f":"_xlfn.TEXTJOIN(\"^\",,AB93:AB101)","v":""},null,9,{"$nulls":5},27,{"$nulls":5},{"$f":"_xlfn.TEXTJOIN(\"^\",,AP93:AP101)","v":""}]
[{"$nulls":14},"最终",{"$f":"_xlfn.TEXTJOIN(\"|\",,P91:P101)","v":"5^2|8^3|2^7^4|3^8^2|8^4|4^4^4|10^3|2^3^8|4^4^4"},{"$nulls":13},{"$f":"_xlfn.TEXTJOIN(\"|\",,AD91:AD101)","v":"22^8|8^6|4^2^4|9^3|3^2^5|4^10|3^4^3"},{"$nulls":13},{"$f":"_xlfn.TEXTJOIN(\"^\",,AR92:AR101)","v":"1^1^1^1^2^2^5^5^5^10^10^10^10^10^17^17^17^17^17^27^27^27^27^27^27^42^42^42^42^42"}]
[{"$nulls":15},{"$f":"SUM(D94:N101)","v":106},{"$nulls":12},"最终",{"$f":"SUM(S94:AB99)","v":100},{"$nulls":13},{"$f":"COUNT(AG93:AM101)","v":30}]
[{"$nulls":43},{"$f":"AR103+AD103+P103","v":236}]
[]
[{"$nulls":4},{"$f":"E107-D107","v":6},{"$f":"F107-E107","v":7},8,5,10,10,10,5,10,{"$nulls":6},{"$f":"T107-S107","v":11},15,15,5,15,15,{"$nulls":8},{"$f":"AH107-AG107","v":2},4,8,9,15,10]
[1,"雪山-3","波1·怪物",4,10,17,25,30,40,50,60,65,75,null,null,null,3,"波2·怪物",4,15,30,45,50,65,80,{"$nulls":5},1,"波3·怪物",2,4,8,16,25,40,50]
[null,"4.5m",8,null,null,60182,60182,null,null,null,60182,{"$nulls":4},{"$f":"_xlfn.TEXTJOIN(\"^\",,D108:D117)","v":"60182^60184^60182"},null,8,{"$nulls":11},{"$f":"_xlfn.TEXTJOIN(\"^\",,S108:S117)","v":"60181^60182^60184"},null,8,{"$nulls":6},60184,{"$nulls":4},{"$f":"_xlfn.TEXTJOIN(\"^\",,AG108:AG117)","v":"60181^60184^60181"}]
[null,null,6,null,null,60182,60181,null,60184,60182,60182,60185,60182,null,null,{"$f":"_xlfn.TEXTJOIN(\"^\",,E108:E117)","v":"60181^60181^60181^60181^60181"},null,6,{"$nulls":11},{"$f":"_xlfn.TEXTJOIN(\"^\",,T108:T117)","v":"60183^60185^60186"},null,6,null,null,null,60182,null,60181,60182,{"$nulls":4},{"$f":"_xlfn.TEXTJOIN(\"^\",,AH108:AH117)","v":"60182^60182^60182"}]
[null,null,4,60182,60181,null,60181,60185,60182,null,60183,60185,60181,null,null,{"$f":"_xlfn.TEXTJOIN(\"^\",,F108:F117)","v":"60182^60182^60183^60184^60183^60182^60182"},null,4,{"$nulls":11},{"$f":"_xlfn.TEXTJOIN(\"^\",,U108:U117)","v":"60181^60182^60183"},null,4,null,60182,60183,null,60184,60181,{"$nulls":5},{"$f":"_xlfn.TEXTJOIN(\"^\",,AI108:AI117)","v":"60183^60183^60183"}]
[null,null,2,null,60181,60183,null,60185,60183,60181,null,null,60183,null,null,{"$f":"_xlfn.TEXTJOIN(\"^\",,G108:G117)","v":"60182^60181^60181^60183^60181^60181^60182"},null,2,{"$nulls":11},{"$f":"_xlfn.TEXTJOIN(\"^\",,V108:V117)","v":"60181^60182^60184"},null,2,60181,null,null,60181,60183,60182,60183,{"$nulls":4},{"$f":"_xlfn.TEXTJOIN(\"^\",,AJ108:AJ117)","v":"60182^60181^60182^60181^60182"}]
[null,null,1,60184,60181,60184,60183,60185,60183,60181,60184,60185,60184,null,null,{"$f":"_xlfn.TEXTJOIN(\"^\",,H108:H117)","v":"60185^60185^60185^60185^60185"},null,1,60181,60183,60181,60181,60183,60181,60183,{"$nulls":4},{"$f":"_xlfn.TEXTJOIN(\"^\",,W108:W117)","v":"60183^60185"},null,1,60184,60182,60183,60182,60182,{"$nulls":6},{"$f":"_xlfn.TEXTJOIN(\"^\",,AK108:AK117)","v":"60184^60183^60182^60183^60184"}]
[null,null,3,null,60181,60183,null,60185,60183,60181,null,60185,60183,null,null,{"$f":"_xlfn.TEXTJOIN(\"^\",,I108:I117)","v":"60184^60182^60183^60183^60183^60182^60184"},null,3,60182,60185,60182,60182,60185,60182,60182,{"$nulls":4},{"$f":"_xlfn.TEXTJOIN(\"^\",,X108:X117)","v":"60181^60182"},null,3,60181,null,null,60181,60183,60182,60183,{"$nulls":4},{"$f":"_xlfn.TEXTJOIN(\"^\",,AL108:AL117)","v":"60181^60181^60182^60182^60181^60181"}]
[null,null,5,60182,60181,null,60181,60185,60182,null,60183,60185,60181,null,null,{"$f":"_xlfn.TEXTJOIN(\"^\",,J108:J117)","v":"60182^60181^60181^60181^60182"},null,5,60184,60186,60183,60184,null,null,60184,{"$nulls":4},{"$f":"_xlfn.TEXTJOIN(\"^\",,Y108:Y117)","v":"60183^60182^60184"},null,5,null,60182,60183,null,60184,60181,{"$nulls":5},{"$f":"_xlfn.TEXTJOIN(\"^\",,AM108:AM117)","v":"60184^60182^60183^60183^60182^60184"}]
[null,null,7,null,null,60182,60181,null,60184,60182,60182,null,60182,null,null,{"$f":"_xlfn.TEXTJOIN(\"^\",,K108:K117)","v":"60182^60182^60183^60184^60183^60182^60182"},null,7,{"$nulls":11},{"$f":"_xlfn.TEXTJOIN(\"^\",,Z108:Z117)","v":""},null,7,null,null,null,60182,null,60181,60182,{"$nulls":4},{"$f":"_xlfn.TEXTJOIN(\"^\",,AN108:AN117)","v":""}]
[null,null,9,null,null,60182,60182,null,null,null,60182,{"$nulls":4},{"$f":"_xlfn.TEXTJOIN(\"^\",,L108:L117)","v":"60185^60185^60185^60185^60185"},null,9,{"$nulls":11},{"$f":"_xlfn.TEXTJOIN(\"^\",,AA108:AA117)","v":""},null,9,{"$nulls":6},60184,{"$nulls":4},{"$f":"_xlfn.TEXTJOIN(\"^\",,AO108:AO117)","v":""}]
[{"$nulls":15},{"$f":"_xlfn.TEXTJOIN(\"^\",,M108:M117)","v":"60182^60181^60183^60184^60183^60181^60182"},{"$nulls":13},{"$f":"_xlfn.TEXTJOIN(\"^\",,AB108:AB117)","v":""},{"$nulls":13},{"$f":"_xlfn.TEXTJOIN(\"^\",,AP108:AP117)","v":""}]
[{"$nulls":15},{"$f":"_xlfn.TEXTJOIN(\"^\",,N108:N117)","v":""},{"$nulls":13},{"$f":"_xlfn.TEXTJOIN(\"^\",,AC108:AC117)","v":""},{"$nulls":13},{"$f":"_xlfn.TEXTJOIN(\"^\",,AQ108:AQ117)","v":""}]
[{"$nulls":14},"最终",{"$f":"_xlfn.TEXTJOIN(\"^\",,P108:P118)","v":"60182^60184^60182^60181^60181^60181^60181^60181^60182^60182^60183^60184^60183^60182^60182^60182^60181^60181^60183^60181^60181^60182^60185^60185^60185^60185^60185^60184^60182^60183^60183^60183^60182^60184^60182^60181^60181^60181^60182^60182^60182^60183^60184^60183^60182^60182^60185^60185^60185^60185^60185^60182^60181^60183^60184^60183^60181^60182"},{"$nulls":12},"最终",{"$f":"_xlfn.TEXTJOIN(\"|\",,AD108:AD118)","v":"60181^60182^60184|60183^60185^60186|60181^60182^60183|60181^60182^60184|60183^60185|60181^60182|60183^60182^60184"},{"$nulls":12},"最终",{"$f":"_xlfn.TEXTJOIN(\"^\",,AR108:AR118)","v":"60181^60184^60181^60182^60182^60182^60183^60183^60183^60182^60181^60182^60181^60182^60184^60183^60182^60183^60184^60181^60181^60182^60182^60181^60181^60184^60182^60183^60183^60182^60184"}]
[null,null,8,null,null,"独角兽","独角兽",null,null,null,"独角兽",{"$nulls":6},8,{"$nulls":13},8,{"$nulls":6},"木精灵"]
[null,null,6,null,null,"独角兽","雪怪",null,"木精灵","独角兽","独角兽","雪山蜘蛛","独角兽",{"$nulls":4},6,{"$nulls":13},6,null,null,null,"独角兽",null,"雪怪","独角兽"]
[null,null,4,"独角兽","雪怪",null,"雪怪","雪山蜘蛛","独角兽",null,"雪原熊","雪山蜘蛛","雪怪",{"$nulls":4},4,{"$nulls":13},4,null,"独角兽","雪原熊",null,"木精灵","雪怪"]
[null,null,2,null,"雪怪","雪原熊",null,"雪山蜘蛛","雪原熊","雪怪",null,null,"雪原熊",{"$nulls":4},2,{"$nulls":13},2,"雪怪",null,null,"雪怪","雪原熊","独角兽","雪原熊"]
[null,null,1,"木精灵","雪怪","木精灵","雪原熊","雪山蜘蛛","雪原熊","雪怪","木精灵","雪山蜘蛛","木精灵",{"$nulls":4},1,"雪怪","雪原熊","雪怪","雪怪","雪原熊","雪怪","雪原熊",{"$nulls":6},1,"木精灵","独角兽","雪原熊","独角兽","独角兽"]
[null,null,3,null,"雪怪","雪原熊",null,"雪山蜘蛛","雪原熊","雪怪",null,"雪山蜘蛛","雪原熊",{"$nulls":4},3,"独角兽","雪山蜘蛛","独角兽","独角兽","雪山蜘蛛","独角兽","独角兽",{"$nulls":6},3,"雪怪",null,null,"雪怪","雪原熊","独角兽","雪原熊"]
[null,null,5,"独角兽","雪怪",null,"雪怪","雪山蜘蛛","独角兽",null,"雪原熊","雪山蜘蛛","雪怪",{"$nulls":4},5,"木精灵","蘑菇精英","雪原熊","木精灵",null,null,"木精灵",{"$nulls":6},5,null,"独角兽","雪原熊",null,"木精灵","雪怪"]
[null,null,7,null,null,"独角兽","雪怪",null,"木精灵","独角兽","独角兽",null,"独角兽",{"$nulls":4},7,{"$nulls":13},7,null,null,null,"独角兽",null,"雪怪","独角兽"]
[null,null,9,null,null,"独角兽","独角兽",null,null,null,"独角兽",{"$nulls":6},9,{"$nulls":13},9,{"$nulls":6},"木精灵"]
[]
[null,null,"位置",4,10,17,25,30,40,50,60,65,75,{"$nulls":4},"位置",4,15,30,45,50,65,80,{"$nulls":6},"位置",2,4,8,16,25,40,50,{"$nulls":4},{"$f":"_xlfn.TEXTJOIN(\"^\",,AG131:AG145)","v":"2^1^3"}]
[null,null,8,null,null,{"$f":"$C131","v":8},{"$f":"$C131","v":8},null,null,null,{"$f":"$C131","v":8},{"$nulls":4},{"$f":"_xlfn.TEXTJOIN(\"^\",,D131:D145)","v":"4^1^5"},null,8,{"$nulls":13},8,{"$nulls":6},{"$f":"$C131","v":8},{"$nulls":4},{"$f":"_xlfn.TEXTJOIN(\"^\",,AH131:AH145)","v":"4^1^5"}]
[null,null,6,null,null,{"$f":"$C132","v":6},6,null,{"$f":"$C132","v":6},{"$f":"$C132","v":6},6,null,{"$f":"$C132","v":6},null,null,{"$f":"_xlfn.TEXTJOIN(\"^\",,E131:E145)","v":"4^2^1^3^5"},null,6,{"$nulls":11},{"$f":"_xlfn.TEXTJOIN(\"^\",,S131:S145)","v":"0^0^0"},null,6,null,null,null,{"$f":"$C132","v":6},null,{"$f":"$C132","v":6},6,{"$nulls":4},{"$f":"_xlfn.TEXTJOIN(\"^\",,AI131:AI145)","v":"4^1^5"}]
[null,null,4,{"$f":"$C133","v":4},{"$f":"$C133","v":4},null,4,null,4,null,4,null,{"$f":"$C133","v":4},null,null,{"$f":"_xlfn.TEXTJOIN(\"^\",,F131:F145)","v":"8^6^2^1^3^7^9"},null,4,{"$nulls":11},{"$f":"_xlfn.TEXTJOIN(\"^\",,T131:T145)","v":"0^100^0"},null,4,null,{"$f":"$C133","v":4},{"$f":"$C133","v":4},null,{"$f":"$C133","v":4},4,{"$nulls":5},{"$f":"_xlfn.TEXTJOIN(\"^\",,AJ131:AJ145)","v":"6^2^1^3^7"}]
[null,null,2,null,2,2,null,null,2,2,null,null,2,null,null,{"$f":"_xlfn.TEXTJOIN(\"^\",,G131:G145)","v":"8^6^4^1^5^7^9"},null,2,{"$nulls":11},{"$f":"_xlfn.TEXTJOIN(\"^\",,U131:U145)","v":"0^0^0"},null,2,{"$f":"$C134","v":2},null,null,{"$f":"$C134","v":2},2,2,{"$f":"$C134","v":2},{"$nulls":4},{"$f":"_xlfn.TEXTJOIN(\"^\",,AK131:AK145)","v":"4^2^1^3^5"}]
[null,null,1,{"$f":"$C135","v":1},1,1,{"$f":"$C135","v":1},null,1,1,{"$f":"$C135","v":1},null,1,null,null,{"$f":"_xlfn.TEXTJOIN(\"^\",,H131:H145)","v":"101^102^103^104^105"},null,1,0,0,0,0,0,0,0,{"$nulls":4},{"$f":"_xlfn.TEXTJOIN(\"^\",,V131:V145)","v":"0^0^0"},null,1,1,{"$f":"$C135","v":1},{"$f":"$C135","v":1},1,1,{"$nulls":6},{"$f":"_xlfn.TEXTJOIN(\"^\",,AL131:AL145)","v":"6^4^2^3^5^7"}]
[null,null,3,null,3,3,null,null,{"$f":"$C136","v":3},3,null,null,3,null,null,{"$f":"_xlfn.TEXTJOIN(\"^\",,I131:I145)","v":"6^4^2^1^3^5^7"},null,3,0,100,0,0,100,0,0,{"$nulls":4},{"$f":"_xlfn.TEXTJOIN(\"^\",,W131:W145)","v":"0^100"},null,3,3,null,null,3,3,3,{"$f":"$C136","v":3},{"$nulls":4},{"$f":"_xlfn.TEXTJOIN(\"^\",,AM131:AM145)","v":"8^6^2^3^7^9"}]
[null,null,5,{"$f":"$C137","v":5},5,null,{"$f":"$C137","v":5},null,5,null,{"$f":"$C137","v":5},null,5,null,null,{"$f":"_xlfn.TEXTJOIN(\"^\",,J131:J145)","v":"6^2^1^3^7"},null,5,0,0,0,0,null,null,0,{"$nulls":4},{"$f":"_xlfn.TEXTJOIN(\"^\",,X131:X145)","v":"0^0"},null,5,null,{"$f":"$C137","v":5},{"$f":"$C137","v":5},null,5,5,{"$nulls":5},{"$f":"_xlfn.TEXTJOIN(\"^\",,AN131:AN145)","v":""}]
[null,null,7,null,null,{"$f":"$C138","v":7},7,null,7,{"$f":"$C138","v":7},7,null,{"$f":"$C138","v":7},null,null,{"$f":"_xlfn.TEXTJOIN(\"^\",,K131:K145)","v":"8^6^4^1^5^7^9"},null,7,{"$nulls":11},{"$f":"_xlfn.TEXTJOIN(\"^\",,Y131:Y145)","v":"0^0^0"},null,7,null,null,null,{"$f":"$C138","v":7},null,7,7,{"$nulls":4},{"$f":"_xlfn.TEXTJOIN(\"^\",,AO131:AO145)","v":""}]
[null,null,9,null,null,{"$f":"$C139","v":9},9,null,null,null,9,{"$nulls":4},{"$f":"_xlfn.TEXTJOIN(\"^\",,L131:L145)","v":"101^102^103^104^105"},null,9,{"$nulls":13},9,{"$nulls":6},9,{"$nulls":4},{"$f":"_xlfn.TEXTJOIN(\"^\",,AP131:AP145)","v":""}]
[null,null,"空降",{"$nulls":12},{"$f":"_xlfn.TEXTJOIN(\"^\",,M131:M145)","v":"6^4^2^1^3^5^7"},null,"空降",{"$nulls":13},"空降",{"$nulls":11},{"$f":"_xlfn.TEXTJOIN(\"^\",,AQ131:AQ139)","v":""}]
[null,null,101,{"$nulls":4},{"$f":"$C141","v":101},null,null,null,{"$f":"$C141","v":101},null,null,null,{"$f":"_xlfn.TEXTJOIN(\"^\",,N131:N145)","v":""},null,101,{"$nulls":11},{"$f":"_xlfn.TEXTJOIN(\"^\",,Z131:Z145)","v":""},null,101]
[null,null,102,{"$nulls":4},{"$f":"$C142","v":102},null,null,null,{"$f":"$C142","v":102},{"$nulls":5},102,{"$nulls":11},{"$f":"_xlfn.TEXTJOIN(\"^\",,AA131:AA145)","v":""},null,102]
[null,null,103,{"$nulls":4},{"$f":"$C143","v":103},null,null,null,{"$f":"$C143","v":103},{"$nulls":5},103,{"$nulls":11},{"$f":"_xlfn.TEXTJOIN(\"^\",,AB131:AB145)","v":""},null,103]
[null,null,104,{"$nulls":4},{"$f":"$C144","v":104},null,null,null,{"$f":"$C144","v":104},{"$nulls":5},104,{"$nulls":13},104]
[null,null,105,{"$nulls":4},{"$f":"$C145","v":105},null,null,null,{"$f":"$C145","v":105},{"$nulls":5},105,{"$nulls":13},105]
[{"$nulls":14},"最终",{"$f":"_xlfn.TEXTJOIN(\"^\",,P131:P145)","v":"4^1^5^4^2^1^3^5^8^6^2^1^3^7^9^8^6^4^1^5^7^9^101^102^103^104^105^6^4^2^1^3^5^7^6^2^1^3^7^8^6^4^1^5^7^9^101^102^103^104^105^6^4^2^1^3^5^7"},{"$nulls":12},"最终",{"$f":"_xlfn.TEXTJOIN(\"|\",,AD131:AD145)","v":"0^0^0|0^100^0|0^0^0|0^0^0|0^100|0^0|0^0^0"},{"$nulls":12},"最终",{"$f":"_xlfn.TEXTJOIN(\"^\",,AR130:AR145)","v":"2^1^3^4^1^5^4^1^5^6^2^1^3^7^4^2^1^3^5^6^4^2^3^5^7^8^6^2^3^7^9"}]
[]
[null,null,"时间",4,10,17,25,30,40,50,60,65,75,{"$nulls":4},"时间",4,15,30,45,50,65,80,{"$nulls":4},{"$f":"_xlfn.TEXTJOIN(\"^\",,S149:S157)","v":"20^6^3"},null,"时间",2,4,8,16,25,40,50,{"$nulls":4},{"$f":"_xlfn.TEXTJOIN(\"^\",,AG149:AG157)","v":"2^2^2"}]
[null,null,8,null,null,{"$f":"F$148","v":17},25,null,null,null,{"$f":"K$148","v":60},{"$nulls":4},{"$f":"_xlfn.TEXTJOIN(\"^\",,D149:D158)","v":"4^4^4"},null,8,{"$nulls":11},{"$f":"_xlfn.TEXTJOIN(\"^\",,T149:T157)","v":"3^6^1"},null,8,{"$nulls":6},{"$f":"AM$148","v":50},{"$nulls":4},{"$f":"_xlfn.TEXTJOIN(\"^\",,AH149:AH157)","v":"4^4^4"}]
[null,null,6,null,null,{"$f":"F$148","v":17},25,null,{"$f":"I$148","v":40},{"$f":"J$148","v":50},60,null,{"$f":"M$148","v":75},null,null,{"$f":"_xlfn.TEXTJOIN(\"^\",,E149:E158)","v":"10^10^10^10^10"},null,6,{"$nulls":11},{"$f":"_xlfn.TEXTJOIN(\"^\",,U149:U157)","v":"6^5^3"},null,6,null,null,null,{"$f":"AJ$148","v":16},null,{"$f":"AL$148","v":40},50,{"$nulls":4},{"$f":"_xlfn.TEXTJOIN(\"^\",,AI149:AI157)","v":"8^8^8"}]
[null,null,4,{"$f":"D$148","v":4},10,null,25,{"$f":"H$148","v":30},40,null,60,{"$f":"L$148","v":65},{"$f":"M$148","v":75},null,null,{"$f":"_xlfn.TEXTJOIN(\"^\",,F149:F158)","v":"17^17^17^17^17^17^17"},null,4,{"$nulls":11},{"$f":"_xlfn.TEXTJOIN(\"^\",,V149:V157)","v":"6^4^3"},null,4,null,{"$f":"AH$148","v":4},{"$f":"AI$148","v":8},null,{"$f":"AK$148","v":25},40,{"$nulls":5},{"$f":"_xlfn.TEXTJOIN(\"^\",,AJ149:AJ157)","v":"16^16^16^16^16"}]
[null,null,2,null,10,17,null,{"$f":"H$148","v":30},40,50,null,{"$f":"L$148","v":65},{"$f":"M$148","v":75},null,null,{"$f":"_xlfn.TEXTJOIN(\"^\",,G149:G158)","v":"25^25^25^25^25^25^25"},null,2,{"$nulls":11},{"$f":"_xlfn.TEXTJOIN(\"^\",,W149:W157)","v":"3^8"},null,2,{"$f":"AG$148","v":2},null,null,{"$f":"AJ$148","v":16},25,40,{"$f":"AM$148","v":50},{"$nulls":4},{"$f":"_xlfn.TEXTJOIN(\"^\",,AK149:AK157)","v":"25^25^25^25^25"}]
[null,null,1,{"$f":"D$148","v":4},10,17,{"$f":"G$148","v":25},{"$f":"H$148","v":30},40,50,{"$f":"K$148","v":60},{"$f":"L$148","v":65},75,null,null,{"$f":"_xlfn.TEXTJOIN(\"^\",,H149:H158)","v":"30^30^30^30^30"},null,1,20,3,6,6,3,7,4,{"$nulls":4},{"$f":"_xlfn.TEXTJOIN(\"^\",,X149:X157)","v":"7^5"},null,1,2,{"$f":"AH$148","v":4},{"$f":"AI$148","v":8},16,25,{"$nulls":6},{"$f":"_xlfn.TEXTJOIN(\"^\",,AL149:AL157)","v":"40^40^40^40^40^40"}]
[null,null,3,null,10,17,null,{"$f":"H$148","v":30},{"$f":"I$148","v":40},50,null,{"$f":"L$148","v":65},75,null,null,{"$f":"_xlfn.TEXTJOIN(\"^\",,I149:I158)","v":"40^40^40^40^40^40^40"},null,3,6,6,5,4,8,5,4,{"$nulls":4},{"$f":"_xlfn.TEXTJOIN(\"^\",,Y149:Y157)","v":"4^4^3"},null,3,2,null,null,16,25,40,{"$f":"AM$148","v":50},{"$nulls":4},{"$f":"_xlfn.TEXTJOIN(\"^\",,AM149:AM157)","v":"50^50^50^50^50^50"}]
[null,null,5,{"$f":"D$148","v":4},10,null,{"$f":"G$148","v":25},{"$f":"H$148","v":30},40,null,{"$f":"K$148","v":60},{"$f":"L$148","v":65},{"$f":"M$148","v":75},null,null,{"$f":"_xlfn.TEXTJOIN(\"^\",,J149:J158)","v":"50^50^50^50^50"},null,5,3,1,3,3,null,null,3,{"$nulls":4},{"$f":"_xlfn.TEXTJOIN(\"^\",,Z149:Z157)","v":""},null,5,null,{"$f":"AH$148","v":4},{"$f":"AI$148","v":8},null,25,40,{"$nulls":5},{"$f":"_xlfn.TEXTJOIN(\"^\",,AN149:AN157)","v":""}]
[null,null,7,null,null,{"$f":"F$148","v":17},25,null,40,{"$f":"J$148","v":50},60,null,{"$f":"M$148","v":75},null,null,{"$f":"_xlfn.TEXTJOIN(\"^\",,K149:K158)","v":"60^60^60^60^60^60^60"},null,7,{"$nulls":11},{"$f":"_xlfn.TEXTJOIN(\"^\",,AA149:AA157)","v":""},null,7,null,null,null,{"$f":"AJ$148","v":16},null,40,50,{"$nulls":4},{"$f":"_xlfn.TEXTJOIN(\"^\",,AO149:AO157)","v":""}]
[null,null,9,null,null,{"$f":"F$148","v":17},25,null,null,null,60,{"$nulls":4},{"$f":"_xlfn.TEXTJOIN(\"^\",,L149:L158)","v":"65^65^65^65^65"},null,9,{"$nulls":11},{"$f":"_xlfn.TEXTJOIN(\"^\",,AB149:AB157)","v":""},null,9,{"$nulls":6},50,{"$nulls":4},{"$f":"_xlfn.TEXTJOIN(\"^\",,AP149:AP157)","v":""}]
[{"$nulls":15},{"$f":"_xlfn.TEXTJOIN(\"^\",,M149:M158)","v":"75^75^75^75^75^75^75"},{"$nulls":13},{"$f":"_xlfn.TEXTJOIN(\"^\",,AC149:AC157)","v":""},{"$nulls":13},{"$f":"_xlfn.TEXTJOIN(\"^\",,AQ149:AQ157)","v":""}]
[{"$nulls":15},{"$f":"_xlfn.TEXTJOIN(\"^\",,N149:N158)","v":""},{"$nulls":12},"最终",{"$f":"_xlfn.TEXTJOIN(\"|\",,AD148:AD158)","v":"20^6^3|3^6^1|6^5^3|6^4^3|3^8|7^5|4^4^3"},{"$nulls":12},"最终",{"$f":"_xlfn.TEXTJOIN(\"^\",,AR148:AR158)","v":"2^2^2^4^4^4^8^8^8^16^16^16^16^16^25^25^25^25^25^40^40^40^40^40^40^50^50^50^50^50^50"}]
[{"$nulls":14},"最终",{"$f":"_xlfn.TEXTJOIN(\"^\",,P149:P159)","v":"4^4^4^10^10^10^10^10^17^17^17^17^17^17^17^25^25^25^25^25^25^25^30^30^30^30^30^40^40^40^40^40^40^40^50^50^50^50^50^60^60^60^60^60^60^60^65^65^65^65^65^75^75^75^75^75^75^75"}]
[]
[{"$nulls":4},{"$f":"E163-D163","v":10},{"$f":"F163-E163","v":15},15,5,15,16,16,3,15,{"$nulls":6},{"$f":"T163-S163","v":12},15,15,5,15,15,{"$nulls":8},{"$f":"AH163-AG163","v":2},3,4,8,15,15]
[3,"雪山-4","波1·怪物",5,15,30,45,50,65,81,97,100,115,null,null,null,3,"波2·怪物",3,15,30,45,50,65,80,{"$nulls":5},1,"波3·怪物",3,5,8,12,20,35,50]
[null,"4.5m",8,{"$nulls":12},{"$f":"_xlfn.TEXTJOIN(\"^\",,D164:D173)","v":"60191^60194"},null,8,{"$nulls":11},{"$f":"_xlfn.TEXTJOIN(\"^\",,S164:S173)","v":"60192^60191"},null,8,{"$nulls":11},{"$f":"_xlfn.TEXTJOIN(\"^\",,AG164:AG173)","v":"60192^60194^60192"}]
[null,null,6,{"$nulls":12},{"$f":"_xlfn.TEXTJOIN(\"^\",,E164:E173)","v":"60192^60191"},null,6,{"$nulls":11},{"$f":"_xlfn.TEXTJOIN(\"^\",,T164:T173)","v":"60194^60192"},null,6,{"$nulls":4},60192,60191,{"$nulls":5},{"$f":"_xlfn.TEXTJOIN(\"^\",,AH164:AH173)","v":"60191^60191^60191"}]
[null,null,4,{"$nulls":12},{"$f":"_xlfn.TEXTJOIN(\"^\",,F164:F173)","v":"60193^60191^60192"},null,4,{"$nulls":11},{"$f":"_xlfn.TEXTJOIN(\"^\",,U164:U173)","v":"60192^60193^60194"},null,4,60192,null,60193,null,60194,60191,60192,{"$nulls":4},{"$f":"_xlfn.TEXTJOIN(\"^\",,AI164:AI173)","v":"60193^60193^60193"}]
[null,null,2,{"$nulls":12},{"$f":"_xlfn.TEXTJOIN(\"^\",,G164:G173)","v":"60193^60192^60194"},null,2,{"$nulls":11},{"$f":"_xlfn.TEXTJOIN(\"^\",,V164:V173)","v":"60194^60191^60192"},null,2,null,60191,null,60195,60193,60191,60193,{"$nulls":4},{"$f":"_xlfn.TEXTJOIN(\"^\",,AJ164:AJ173)","v":"60195^60195"}]
[null,null,1,60191,60192,60193,60193,60195,60191,60192,60194,60195,60194,null,null,{"$f":"_xlfn.TEXTJOIN(\"^\",,H164:H173)","v":"60195^60191"},null,1,60192,60194,60192,60194,60195,60193,60193,{"$nulls":4},{"$f":"_xlfn.TEXTJOIN(\"^\",,W164:W173)","v":"60195^60196"},null,1,60194,60191,60193,null,null,null,60192,{"$nulls":4},{"$f":"_xlfn.TEXTJOIN(\"^\",,AK164:AK173)","v":"60192^60194^60193^60193^60194^60192"}]
[null,null,3,60194,60191,60191,60192,60191,60193,60191,60193,null,60192,null,null,{"$f":"_xlfn.TEXTJOIN(\"^\",,I164:I173)","v":"60191^60193^60192"},null,3,60191,60192,60193,60191,60196,60191,60192,{"$nulls":4},{"$f":"_xlfn.TEXTJOIN(\"^\",,X164:X173)","v":"60193^60191^60192"},null,3,null,60191,null,60195,60193,60191,60193,{"$nulls":4},{"$f":"_xlfn.TEXTJOIN(\"^\",,AL164:AL173)","v":"60191^60191^60191^60191^60191^60191"}]
[null,null,5,null,null,60192,60194,null,60192,null,60191,null,60191,null,null,{"$f":"_xlfn.TEXTJOIN(\"^\",,J164:J173)","v":"60192^60191"},null,5,null,null,60194,60192,null,60192,60194,{"$nulls":4},{"$f":"_xlfn.TEXTJOIN(\"^\",,Y164:Y173)","v":"60193^60192^60194"},null,5,60192,null,60193,null,60194,60191,60192,{"$nulls":4},{"$f":"_xlfn.TEXTJOIN(\"^\",,AM164:AM173)","v":"60192^60193^60192^60193^60192"}]
[null,null,7,{"$nulls":7},60192,{"$nulls":4},{"$f":"_xlfn.TEXTJOIN(\"^\",,K164:K173)","v":"60194^60193^60191^60192"},null,7,{"$nulls":11},{"$f":"_xlfn.TEXTJOIN(\"^\",,Z164:Z173)","v":""},null,7,{"$nulls":4},60192,60191,{"$nulls":5},{"$f":"_xlfn.TEXTJOIN(\"^\",,AN164:AN173)","v":""}]
[null,null,9,{"$nulls":12},{"$f":"_xlfn.TEXTJOIN(\"^\",,L164:L173)","v":"60195"},null,9,{"$nulls":11},{"$f":"_xlfn.TEXTJOIN(\"^\",,AA164:AA173)","v":""},null,9,{"$nulls":11},{"$f":"_xlfn.TEXTJOIN(\"^\",,AO164:AO173)","v":""}]
[{"$nulls":15},{"$f":"_xlfn.TEXTJOIN(\"^\",,M164:M173)","v":"60194^60192^60191"},{"$nulls":13},{"$f":"_xlfn.TEXTJOIN(\"^\",,AB164:AB173)","v":""},{"$nulls":13},{"$f":"_xlfn.TEXTJOIN(\"^\",,AP164:AP173)","v":""}]
[{"$nulls":15},{"$f":"_xlfn.TEXTJOIN(\"^\",,N164:N173)","v":""},{"$nulls":13},{"$f":"_xlfn.TEXTJOIN(\"^\",,AC164:AC173)","v":""},{"$nulls":13},{"$f":"_xlfn.TEXTJOIN(\"^\",,AQ164:AQ173)","v":""}]
[{"$nulls":14},"最终",{"$f":"_xlfn.TEXTJOIN(\"|\",,P164:P174)","v":"60191^60194|60192^60191|60193^60191^60192|60193^60192^60194|60195^60191|60191^60193^60192|60192^60191|60194^60193^60191^60192|60195|60194^60192^60191"},{"$nulls":12},"最终",{"$f":"_xlfn.TEXTJOIN(\"|\",,AD164:AD174)","v":"60192^60191|60194^60192|60192^60193^60194|60194^60191^60192|60195^60196|60193^60191^60192|60193^60192^60194"},{"$nulls":12},"最终",{"$f":"_xlfn.TEXTJOIN(\"^\",,AR164:AR174)","v":"60192^60194^60192^60191^60191^60191^60193^60193^60193^60195^60195^60192^60194^60193^60193^60194^60192^60191^60191^60191^60191^60191^60191^60192^60193^60192^60193^60192"}]
[null,null,8,{"$nulls":14},8,{"$nulls":13},8]
[null,null,6,{"$nulls":14},6,{"$nulls":13},6,{"$nulls":4},"独角兽","雪怪"]
[null,null,4,{"$nulls":14},4,{"$nulls":13},4,"独角兽",null,"雪原熊",null,"木精灵","雪怪","独角兽"]
[null,null,2,{"$nulls":14},2,{"$nulls":13},2,null,"雪怪",null,"雪山蜘蛛","雪原熊","雪怪","雪原熊"]
[null,null,1,"雪怪","独角兽","雪原熊","雪原熊","雪山蜘蛛","雪怪","独角兽","木精灵","雪山蜘蛛","木精灵",{"$nulls":4},1,"独角兽","木精灵","独角兽","木精灵","雪山蜘蛛","雪原熊","雪原熊",{"$nulls":6},1,"木精灵","雪怪","雪原熊",null,null,null,"独角兽"]
[null,null,3,"木精灵","雪怪","雪怪","独角兽","雪怪","雪原熊","雪怪","雪原熊",null,"独角兽",{"$nulls":4},3,"雪怪","独角兽","雪原熊","雪怪","蘑菇精英","雪怪","独角兽",{"$nulls":6},3,null,"雪怪",null,"雪山蜘蛛","雪原熊","雪怪","雪原熊"]
[null,null,5,null,null,"独角兽","木精灵",null,"独角兽",null,"雪怪",null,"雪怪",{"$nulls":4},5,null,null,"木精灵","独角兽",null,"独角兽","木精灵",{"$nulls":6},5,"独角兽",null,"雪原熊",null,"木精灵","雪怪","独角兽"]
[null,null,7,{"$nulls":7},"独角兽",{"$nulls":6},7,{"$nulls":13},7,{"$nulls":4},"独角兽","雪怪"]
[null,null,9,{"$nulls":14},9,{"$nulls":13},9]
[]
[null,null,"位置",5,15,30,45,50,65,81,97,100,115,{"$nulls":4},"位置",3,15,30,45,50,65,80,{"$nulls":6},"位置",3,5,8,12,20,35,50,{"$nulls":4},{"$f":"_xlfn.TEXTJOIN(\"^\",,AG187:AG201)","v":"4^1^5"}]
[null,null,8,{"$nulls":12},{"$f":"_xlfn.TEXTJOIN(\"^\",,D187:D201)","v":"0^0"},null,8,{"$nulls":13},8,{"$nulls":11},{"$f":"_xlfn.TEXTJOIN(\"^\",,AH187:AH201)","v":"2^1^3"}]
[null,null,6,{"$nulls":12},{"$f":"_xlfn.TEXTJOIN(\"^\",,E187:E201)","v":"0^0"},null,6,{"$nulls":11},{"$f":"_xlfn.TEXTJOIN(\"^\",,S187:S201)","v":"0^0"},null,6,{"$nulls":4},{"$f":"$C188","v":6},6,{"$nulls":5},{"$f":"_xlfn.TEXTJOIN(\"^\",,AI187:AI201)","v":"4^1^5"}]
[null,null,4,{"$nulls":12},{"$f":"_xlfn.TEXTJOIN(\"^\",,F187:F201)","v":"0^0^0"},null,4,{"$nulls":11},{"$f":"_xlfn.TEXTJOIN(\"^\",,T187:T201)","v":"0^0"},null,4,{"$f":"$C189","v":4},null,{"$f":"$C189","v":4},null,4,4,4,{"$nulls":4},{"$f":"_xlfn.TEXTJOIN(\"^\",,AJ187:AJ201)","v":"102^104"}]
[null,null,2,{"$nulls":12},{"$f":"_xlfn.TEXTJOIN(\"^\",,G187:G201)","v":"0^0^0"},null,2,{"$nulls":11},{"$f":"_xlfn.TEXTJOIN(\"^\",,U187:U201)","v":"0^0^0"},null,2,null,{"$f":"$C190","v":2},null,null,2,2,2,{"$nulls":4},{"$f":"_xlfn.TEXTJOIN(\"^\",,AK187:AK201)","v":"6^4^2^3^5^7"}]
[null,null,1,0,0,0,0,100,0,0,0,100,0,null,null,{"$f":"_xlfn.TEXTJOIN(\"^\",,H187:H201)","v":"100^0"},null,1,0,0,0,0,100,0,0,{"$nulls":4},{"$f":"_xlfn.TEXTJOIN(\"^\",,V187:V201)","v":"0^0^0"},null,1,{"$f":"$C191","v":1},1,{"$f":"$C191","v":1},null,null,null,1,{"$nulls":4},{"$f":"_xlfn.TEXTJOIN(\"^\",,AL187:AL201)","v":"6^4^2^3^5^7"}]
[null,null,3,0,0,0,0,0,0,0,0,null,0,null,null,{"$f":"_xlfn.TEXTJOIN(\"^\",,I187:I201)","v":"0^0^0"},null,3,0,0,0,0,0,0,0,{"$nulls":4},{"$f":"_xlfn.TEXTJOIN(\"^\",,W187:W201)","v":"100^0"},null,3,null,3,null,null,{"$f":"$C192","v":3},3,3,{"$nulls":4},{"$f":"_xlfn.TEXTJOIN(\"^\",,AM187:AM201)","v":"4^2^1^3^5"}]
[null,null,5,null,null,0,0,null,0,null,0,null,0,null,null,{"$f":"_xlfn.TEXTJOIN(\"^\",,J187:J201)","v":"0^0"},null,5,null,null,0,0,null,0,0,{"$nulls":4},{"$f":"_xlfn.TEXTJOIN(\"^\",,X187:X201)","v":"0^0^0"},null,5,{"$f":"$C193","v":5},null,{"$f":"$C193","v":5},null,5,5,5,{"$nulls":4},{"$f":"_xlfn.TEXTJOIN(\"^\",,AN187:AN201)","v":""}]
[null,null,7,{"$nulls":7},0,{"$nulls":4},{"$f":"_xlfn.TEXTJOIN(\"^\",,K187:K201)","v":"0^0^0^0"},null,7,{"$nulls":11},{"$f":"_xlfn.TEXTJOIN(\"^\",,Y187:Y201)","v":"0^0^0"},null,7,{"$nulls":4},7,7,{"$nulls":5},{"$f":"_xlfn.TEXTJOIN(\"^\",,AO187:AO201)","v":""}]
[null,null,9,{"$nulls":12},{"$f":"_xlfn.TEXTJOIN(\"^\",,L187:L201)","v":"100"},null,9,{"$nulls":13},9,{"$nulls":11},{"$f":"_xlfn.TEXTJOIN(\"^\",,AP187:AP201)","v":""}]
[null,null,"空降",{"$nulls":12},{"$f":"_xlfn.TEXTJOIN(\"^\",,M187:M201)","v":"0^0^0"},null,"空降",{"$nulls":13},"空降",{"$nulls":11},{"$f":"_xlfn.TEXTJOIN(\"^\",,AQ187:AQ195)","v":""}]
[null,null,101,{"$nulls":12},{"$f":"_xlfn.TEXTJOIN(\"^\",,N187:N201)","v":""},null,101,{"$nulls":11},{"$f":"_xlfn.TEXTJOIN(\"^\",,Z187:Z201)","v":""},null,101]
[null,null,102,{"$nulls":14},102,{"$nulls":11},{"$f":"_xlfn.TEXTJOIN(\"^\",,AA187:AA201)","v":""},null,102,null,null,null,{"$f":"$C198","v":102}]
[null,null,103,{"$nulls":14},103,{"$nulls":11},{"$f":"_xlfn.TEXTJOIN(\"^\",,AB187:AB201)","v":""},null,103]
[null,null,104,{"$nulls":14},104,{"$nulls":13},104,null,null,null,{"$f":"$C200","v":104}]
[null,null,105,{"$nulls":14},105,{"$nulls":13},105]
[{"$nulls":14},"最终",{"$f":"_xlfn.TEXTJOIN(\"|\",,P187:P201)","v":"0^0|0^0|0^0^0|0^0^0|100^0|0^0^0|0^0|0^0^0^0|100|0^0^0"},{"$nulls":12},"最终",{"$f":"_xlfn.TEXTJOIN(\"|\",,AD187:AD201)","v":"0^0|0^0|0^0^0|0^0^0|100^0|0^0^0|0^0^0"},{"$nulls":12},"最终",{"$f":"_xlfn.TEXTJOIN(\"^\",,AR186:AR201)","v":"4^1^5^2^1^3^4^1^5^102^104^6^4^2^3^5^7^6^4^2^3^5^7^4^2^1^3^5"}]
[]
[null,null,"时间",5,15,30,45,50,65,81,97,100,115,{"$nulls":4},"时间",3,15,30,45,50,65,80,{"$nulls":4},{"$f":"_xlfn.TEXTJOIN(\"^\",,S205:S213)","v":"8^20"},null,"时间",3,5,8,12,20,35,50,{"$nulls":4},{"$f":"_xlfn.TEXTJOIN(\"^\",,AG205:AG213)","v":"3^3^3"}]
[null,null,8,{"$nulls":12},{"$f":"_xlfn.TEXTJOIN(\"^\",,D205:D214)","v":"5^2"},null,8,{"$nulls":11},{"$f":"_xlfn.TEXTJOIN(\"^\",,T205:T213)","v":"4^6"},null,8,{"$nulls":11},{"$f":"_xlfn.TEXTJOIN(\"^\",,AH205:AH213)","v":"5^5^5"}]
[null,null,6,{"$nulls":12},{"$f":"_xlfn.TEXTJOIN(\"^\",,E205:E214)","v":"3^8"},null,6,{"$nulls":11},{"$f":"_xlfn.TEXTJOIN(\"^\",,U205:U213)","v":"4^3^2"},null,6,{"$nulls":4},{"$f":"AK$204","v":20},35,{"$nulls":5},{"$f":"_xlfn.TEXTJOIN(\"^\",,AI205:AI213)","v":"8^8^8"}]
[null,null,4,{"$nulls":12},{"$f":"_xlfn.TEXTJOIN(\"^\",,F205:F214)","v":"2^7^3"},null,4,{"$nulls":11},{"$f":"_xlfn.TEXTJOIN(\"^\",,V205:V213)","v":"2^8^3"},null,4,{"$f":"AG$204","v":3},null,{"$f":"AI$204","v":8},null,20,35,{"$f":"AM$204","v":50},{"$nulls":4},{"$f":"_xlfn.TEXTJOIN(\"^\",,AJ205:AJ213)","v":"12^12"}]
[null,null,2,{"$nulls":12},{"$f":"_xlfn.TEXTJOIN(\"^\",,G205:G214)","v":"3^4^3"},null,2,{"$nulls":11},{"$f":"_xlfn.TEXTJOIN(\"^\",,W205:W213)","v":"7^1"},null,2,null,{"$f":"AH$204","v":5},null,{"$f":"AJ$204","v":12},20,35,50,{"$nulls":4},{"$f":"_xlfn.TEXTJOIN(\"^\",,AK205:AK213)","v":"20^20^20^20^20^20"}]
[null,null,1,5,3,2,3,6,8,4,2,6,2,null,null,{"$f":"_xlfn.TEXTJOIN(\"^\",,H205:H214)","v":"6^6"},null,1,8,4,4,2,7,2,3,{"$nulls":4},{"$f":"_xlfn.TEXTJOIN(\"^\",,X205:X213)","v":"2^8^3"},null,1,{"$f":"AG$204","v":3},5,{"$f":"AI$204","v":8},null,null,null,50,{"$nulls":4},{"$f":"_xlfn.TEXTJOIN(\"^\",,AL205:AL213)","v":"35^35^35^35^35^35"}]
[null,null,3,2,8,7,4,6,2,7,3,null,4,null,null,{"$f":"_xlfn.TEXTJOIN(\"^\",,I205:I214)","v":"8^2^4"},null,3,20,6,3,8,1,8,4,{"$nulls":4},{"$f":"_xlfn.TEXTJOIN(\"^\",,Y205:Y213)","v":"3^4^3"},null,3,null,5,null,{"$f":"AJ$204","v":12},{"$f":"AK$204","v":20},35,50,{"$nulls":4},{"$f":"_xlfn.TEXTJOIN(\"^\",,AM205:AM213)","v":"50^50^50^50^50"}]
[null,null,5,null,null,3,3,null,4,null,7,null,7,null,null,{"$f":"_xlfn.TEXTJOIN(\"^\",,J205:J214)","v":"4^7"},null,5,null,null,2,3,null,3,3,{"$nulls":4},{"$f":"_xlfn.TEXTJOIN(\"^\",,Z205:Z213)","v":""},null,5,{"$f":"AG$204","v":3},null,{"$f":"AI$204","v":8},null,20,35,50,{"$nulls":4},{"$f":"_xlfn.TEXTJOIN(\"^\",,AN205:AN213)","v":""}]
[null,null,7,{"$nulls":7},3,{"$nulls":4},{"$f":"_xlfn.TEXTJOIN(\"^\",,K205:K214)","v":"2^3^7^3"},null,7,{"$nulls":11},{"$f":"_xlfn.TEXTJOIN(\"^\",,AA205:AA213)","v":""},null,7,{"$nulls":4},20,35,{"$nulls":5},{"$f":"_xlfn.TEXTJOIN(\"^\",,AO205:AO213)","v":""}]
[null,null,9,{"$nulls":12},{"$f":"_xlfn.TEXTJOIN(\"^\",,L205:L214)","v":"6"},null,9,{"$nulls":11},{"$f":"_xlfn.TEXTJOIN(\"^\",,AB205:AB213)","v":""},null,9,{"$nulls":11},{"$f":"_xlfn.TEXTJOIN(\"^\",,AP205:AP213)","v":""}]
[{"$nulls":15},{"$f":"_xlfn.TEXTJOIN(\"^\",,M205:M214)","v":"2^4^7"},{"$nulls":13},{"$f":"_xlfn.TEXTJOIN(\"^\",,AC205:AC213)","v":""},{"$nulls":13},{"$f":"_xlfn.TEXTJOIN(\"^\",,AQ205:AQ213)","v":""}]
[{"$nulls":15},{"$f":"_xlfn.TEXTJOIN(\"^\",,N205:N214)","v":""},{"$nulls":12},"最终",{"$f":"_xlfn.TEXTJOIN(\"|\",,AD204:AD214)","v":"8^20|4^6|4^3^2|2^8^3|7^1|2^8^3|3^4^3"},{"$nulls":12},"最终",{"$f":"_xlfn.TEXTJOIN(\"^\",,AR204:AR214)","v":"3^3^3^5^5^5^8^8^8^12^12^20^20^20^20^20^20^35^35^35^35^35^35^50^50^50^50^50"}]
[{"$nulls":14},"最终",{"$f":"_xlfn.TEXTJOIN(\"|\",,P205:P215)","v":"5^2|3^8|2^7^3|3^4^3|6^6|8^2^4|4^7|2^3^7^3|6|2^4^7"}]
[{"$nulls":15},{"$f":"SUM(D206:N213)","v":111},{"$nulls":12},"最终",{"$f":"SUM(S206:AB211)","v":91},{"$nulls":13},{"$f":"COUNT(AG206:AM213)","v":28}]
[{"$nulls":43},{"$f":"AR217+AD217+P217","v":230}]
[]
[{"$nulls":4},{"$f":"E221-D221","v":5},{"$f":"F221-E221","v":7},8,5,8,8,9,5,10,{"$nulls":6},{"$f":"T221-S221","v":11},15,16,4,15,20,{"$nulls":8},{"$f":"AH221-AG221","v":3},4,5,11,10,10]
[1,"雪山-5","波1·怪物",5,10,17,25,30,38,46,55,60,70,null,null,null,3,"波2·怪物",4,15,30,46,50,65,85,{"$nulls":5},1,"波3·怪物",2,5,9,14,25,35,45]
[null,"5m",8,null,null,null,60204,null,60202,null,60201,{"$nulls":4},{"$f":"_xlfn.TEXTJOIN(\"^\",,D222:D231)","v":"60204^60201^60201^60202"},null,8,{"$nulls":11},{"$f":"_xlfn.TEXTJOIN(\"^\",,S222:S231)","v":"60204^60201^60202"},null,8,{"$nulls":11},{"$f":"_xlfn.TEXTJOIN(\"^\",,AG222:AG231)","v":"60204^60201^60201^60201^60204"}]
[null,null,6,null,null,60202,60202,null,60204,60201,60201,null,60204,null,null,{"$f":"_xlfn.TEXTJOIN(\"^\",,E222:E231)","v":"60202^60204^60202"},null,6,{"$nulls":11},{"$f":"_xlfn.TEXTJOIN(\"^\",,T222:T231)","v":"60202^60201"},null,6,{"$nulls":4},60202,60202,60204,{"$nulls":4},{"$f":"_xlfn.TEXTJOIN(\"^\",,AH222:AH231)","v":"60202^60202^60202"}]
[null,null,4,60204,null,60201,null,60205,null,60201,60203,60205,60202,null,null,{"$f":"_xlfn.TEXTJOIN(\"^\",,F222:F231)","v":"60202^60201^60203^60203^60201^60202"},null,4,{"$nulls":11},{"$f":"_xlfn.TEXTJOIN(\"^\",,U222:U231)","v":"60202^60203^60204"},null,4,60204,60202,null,60201,60204,60201,60202,{"$nulls":4},{"$f":"_xlfn.TEXTJOIN(\"^\",,AI222:AI231)","v":"60205^60205^60205"}]
[null,null,2,60201,60202,60203,60201,60205,60203,60202,null,60205,null,null,null,{"$f":"_xlfn.TEXTJOIN(\"^\",,G222:G231)","v":"60204^60202^60201^60203^60201^60202^60204"},null,2,{"$nulls":11},{"$f":"_xlfn.TEXTJOIN(\"^\",,V222:V231)","v":"60202^60201"},null,2,60201,null,60205,60203,60203,60201,{"$nulls":5},{"$f":"_xlfn.TEXTJOIN(\"^\",,AJ222:AJ231)","v":"60201^60203^60203^60203^60201"}]
[null,null,1,null,60204,null,60203,60205,60203,60202,60204,60205,60206,null,null,{"$f":"_xlfn.TEXTJOIN(\"^\",,H222:H231)","v":"60205^60205^60205^60205^60205"},null,1,60204,60202,60202,60202,60205,60201,60203,{"$nulls":4},{"$f":"_xlfn.TEXTJOIN(\"^\",,W222:W231)","v":"60205^60207"},null,1,60201,60202,60205,60203,60207,null,60202,{"$nulls":4},{"$f":"_xlfn.TEXTJOIN(\"^\",,AK222:AK231)","v":"60202^60204^60203^60207^60203^60204^60202"}]
[null,null,3,60201,60202,60203,60201,60205,60203,60202,null,60205,null,null,null,{"$f":"_xlfn.TEXTJOIN(\"^\",,I222:I231)","v":"60202^60204^60203^60203^60203^60204^60202"},null,3,60201,60201,60203,60201,60207,60204,60201,{"$nulls":4},{"$f":"_xlfn.TEXTJOIN(\"^\",,X222:X231)","v":"60201^60204"},null,3,60201,null,60205,60203,60203,60201,{"$nulls":5},{"$f":"_xlfn.TEXTJOIN(\"^\",,AL222:AL231)","v":"60202^60201^60201^60201^60201^60202"}]
[null,null,5,60202,null,60201,null,60205,null,60201,60203,60205,60207,null,null,{"$f":"_xlfn.TEXTJOIN(\"^\",,J222:J231)","v":"60201^60201^60202^60202^60202^60201^60201"},null,5,60202,null,60204,null,null,null,60202,{"$nulls":4},{"$f":"_xlfn.TEXTJOIN(\"^\",,Y222:Y231)","v":"60203^60201^60202"},null,5,60204,60202,null,60201,60204,60201,60202,{"$nulls":4},{"$f":"_xlfn.TEXTJOIN(\"^\",,AM222:AM231)","v":"60204^60202^60202^60202^60204"}]
[null,null,7,null,null,60202,60202,null,60204,60201,60201,null,60204,null,null,{"$f":"_xlfn.TEXTJOIN(\"^\",,K222:K231)","v":"60201^60201^60203^60204^60203^60201^60201"},null,7,{"$nulls":11},{"$f":"_xlfn.TEXTJOIN(\"^\",,Z222:Z231)","v":""},null,7,{"$nulls":4},60202,60202,60204,{"$nulls":4},{"$f":"_xlfn.TEXTJOIN(\"^\",,AN222:AN231)","v":""}]
[null,null,9,null,null,null,60204,null,60202,null,60201,{"$nulls":4},{"$f":"_xlfn.TEXTJOIN(\"^\",,L222:L231)","v":"60205^60205^60205^60205^60205"},null,9,{"$nulls":11},{"$f":"_xlfn.TEXTJOIN(\"^\",,AA222:AA231)","v":""},null,9,{"$nulls":11},{"$f":"_xlfn.TEXTJOIN(\"^\",,AO222:AO231)","v":""}]
[{"$nulls":15},{"$f":"_xlfn.TEXTJOIN(\"^\",,M222:M231)","v":"60204^60202^60206^60207^60204"},{"$nulls":13},{"$f":"_xlfn.TEXTJOIN(\"^\",,AB222:AB231)","v":""},{"$nulls":13},{"$f":"_xlfn.TEXTJOIN(\"^\",,AP222:AP231)","v":""}]
[{"$nulls":15},{"$f":"_xlfn.TEXTJOIN(\"^\",,N222:N231)","v":""},{"$nulls":13},{"$f":"_xlfn.TEXTJOIN(\"^\",,AC222:AC231)","v":""},{"$nulls":13},{"$f":"_xlfn.TEXTJOIN(\"^\",,AQ222:AQ231)","v":""}]
[{"$nulls":14},"最终",{"$f":"_xlfn.TEXTJOIN(\"^\",,P222:P232)","v":"60204^60201^60201^60202^60202^60204^60202^60202^60201^60203^60203^60201^60202^60204^60202^60201^60203^60201^60202^60204^60205^60205^60205^60205^60205^60202^60204^60203^60203^60203^60204^60202^60201^60201^60202^60202^60202^60201^60201^60201^60201^60203^60204^60203^60201^60201^60205^60205^60205^60205^60205^60204^60202^60206^60207^60204"},{"$nulls":12},"最终",{"$f":"_xlfn.TEXTJOIN(\"|\",,AD222:AD232)","v":"60204^60201^60202|60202^60201|60202^60203^60204|60202^60201|60205^60207|60201^60204|60203^60201^60202"},{"$nulls":12},"最终",{"$f":"_xlfn.TEXTJOIN(\"^\",,AR222:AR232)","v":"60204^60201^60201^60201^60204^60202^60202^60202^60205^60205^60205^60201^60203^60203^60203^60201^60202^60204^60203^60207^60203^60204^60202^60202^60201^60201^60201^60201^60202^60204^60202^60202^60202^60204"}]
[null,null,8,null,null,null,"木精灵",null,"独角兽",null,"雪怪",{"$nulls":6},8,{"$nulls":13},8]
[null,null,6,null,null,"独角兽","独角兽",null,"木精灵","雪怪","雪怪",null,"木精灵",{"$nulls":4},6,{"$nulls":13},6,{"$nulls":4},"独角兽","独角兽","木精灵"]
[null,null,4,"木精灵",null,"雪怪",null,"雪山蜘蛛",null,"雪怪","雪原熊","雪山蜘蛛","独角兽",{"$nulls":4},4,{"$nulls":13},4,"木精灵","独角兽",null,"雪怪","木精灵","雪怪","独角兽"]
[null,null,2,"雪怪","独角兽","雪原熊","雪怪","雪山蜘蛛","雪原熊","独角兽",null,"雪山蜘蛛",{"$nulls":5},2,{"$nulls":13},2,"雪怪",null,"雪山蜘蛛","雪原熊","雪原熊","雪怪"]
[null,null,1,null,"木精灵",null,"雪原熊","雪山蜘蛛","雪原熊","独角兽","木精灵","雪山蜘蛛","冰霜巨人",{"$nulls":4},1,"木精灵","独角兽","独角兽","独角兽","雪山蜘蛛","雪怪","雪原熊",{"$nulls":6},1,"雪怪","独角兽","雪山蜘蛛","雪原熊","蘑菇精英",null,"独角兽"]
[null,null,3,"雪怪","独角兽","雪原熊","雪怪","雪山蜘蛛","雪原熊","独角兽",null,"雪山蜘蛛",{"$nulls":5},3,"雪怪","雪怪","雪原熊","雪怪","蘑菇精英","木精灵","雪怪",{"$nulls":6},3,"雪怪",null,"雪山蜘蛛","雪原熊","雪原熊","雪怪"]
[null,null,5,"独角兽",null,"雪怪",null,"雪山蜘蛛",null,"雪怪","雪原熊","雪山蜘蛛","蘑菇精英",{"$nulls":4},5,"独角兽",null,"木精灵",null,null,null,"独角兽",{"$nulls":6},5,"木精灵","独角兽",null,"雪怪","木精灵","雪怪","独角兽"]
[null,null,7,null,null,"独角兽","独角兽",null,"木精灵","雪怪","雪怪",null,"木精灵",{"$nulls":4},7,{"$nulls":13},7,{"$nulls":4},"独角兽","独角兽","木精灵"]
[null,null,9,null,null,null,"木精灵",null,"独角兽",null,"雪怪",{"$nulls":6},9,{"$nulls":13},9]
[]
[null,null,"位置",5,10,17,25,30,38,46,55,60,70,{"$nulls":4},"位置",4,15,30,46,50,65,85,{"$nulls":6},"位置",2,5,9,14,25,35,45,{"$nulls":4},{"$f":"_xlfn.TEXTJOIN(\"^\",,AG245:AG259)","v":"4^2^1^3^5"}]
[null,null,8,null,null,null,{"$f":"$C245","v":8},null,{"$f":"$C245","v":8},null,{"$f":"$C245","v":8},{"$nulls":4},{"$f":"_xlfn.TEXTJOIN(\"^\",,D245:D259)","v":"4^2^3^5"},null,8,{"$nulls":13},8,{"$nulls":11},{"$f":"_xlfn.TEXTJOIN(\"^\",,AH245:AH259)","v":"4^1^5"}]
[null,null,6,null,null,{"$f":"$C246","v":6},6,null,6,{"$f":"$C246","v":6},6,null,{"$f":"$C246","v":6},null,null,{"$f":"_xlfn.TEXTJOIN(\"^\",,E245:E259)","v":"2^1^3"},null,6,{"$nulls":11},{"$f":"_xlfn.TEXTJOIN(\"^\",,S245:S259)","v":"0^0^0"},null,6,{"$nulls":4},{"$f":"$C246","v":6},6,6,{"$nulls":4},{"$f":"_xlfn.TEXTJOIN(\"^\",,AI245:AI259)","v":"102^103^104"}]
[null,null,4,{"$f":"$C247","v":4},null,{"$f":"$C247","v":4},null,null,null,{"$f":"$C247","v":4},4,null,4,null,null,{"$f":"_xlfn.TEXTJOIN(\"^\",,F245:F259)","v":"6^4^2^3^5^7"},null,4,{"$nulls":11},{"$f":"_xlfn.TEXTJOIN(\"^\",,T245:T259)","v":"0^0"},null,4,{"$f":"$C247","v":4},{"$f":"$C247","v":4},null,{"$f":"$C247","v":4},4,4,4,{"$nulls":4},{"$f":"_xlfn.TEXTJOIN(\"^\",,AJ245:AJ259)","v":"4^2^1^3^5"}]
[null,null,2,{"$f":"$C248","v":2},2,2,2,null,{"$f":"$C248","v":2},{"$f":"$C248","v":2},{"$nulls":5},{"$f":"_xlfn.TEXTJOIN(\"^\",,G245:G259)","v":"8^6^2^1^3^7^9"},null,2,{"$nulls":11},{"$f":"_xlfn.TEXTJOIN(\"^\",,U245:U259)","v":"0^0^0"},null,2,2,null,null,2,2,2,{"$nulls":5},{"$f":"_xlfn.TEXTJOIN(\"^\",,AK245:AK259)","v":"6^4^2^1^3^5^7"}]
[null,null,1,null,1,null,1,null,null,1,{"$f":"$C249","v":1},null,{"$f":"$C249","v":1},null,null,{"$f":"_xlfn.TEXTJOIN(\"^\",,H245:H259)","v":"101^102^103^104^105"},null,1,0,0,0,0,100,0,0,{"$nulls":4},{"$f":"_xlfn.TEXTJOIN(\"^\",,V245:V259)","v":"0^0"},null,1,1,{"$f":"$C249","v":1},null,1,{"$f":"$C249","v":1},null,{"$f":"$C249","v":1},{"$nulls":4},{"$f":"_xlfn.TEXTJOIN(\"^\",,AL245:AL259)","v":"6^4^2^3^5^7"}]
[null,null,3,{"$f":"$C250","v":3},3,3,3,null,{"$f":"$C250","v":3},3,{"$nulls":5},{"$f":"_xlfn.TEXTJOIN(\"^\",,I245:I259)","v":"8^6^2^3^5^7^9"},null,3,0,0,0,0,0,0,0,{"$nulls":4},{"$f":"_xlfn.TEXTJOIN(\"^\",,W245:W259)","v":"100^0"},null,3,{"$f":"$C250","v":3},null,null,3,3,3,{"$nulls":5},{"$f":"_xlfn.TEXTJOIN(\"^\",,AM245:AM259)","v":"6^4^1^5^7"}]
[null,null,5,{"$f":"$C251","v":5},null,5,null,null,{"$f":"$C251","v":5},{"$f":"$C251","v":5},{"$f":"$C251","v":5},null,{"$f":"$C251","v":5},null,null,{"$f":"_xlfn.TEXTJOIN(\"^\",,J245:J259)","v":"6^4^2^1^3^5^7"},null,5,0,null,0,null,null,null,0,{"$nulls":4},{"$f":"_xlfn.TEXTJOIN(\"^\",,X245:X259)","v":"0^0"},null,5,5,{"$f":"$C251","v":5},null,5,5,5,5,{"$nulls":4},{"$f":"_xlfn.TEXTJOIN(\"^\",,AN245:AN259)","v":""}]
[null,null,7,null,null,{"$f":"$C252","v":7},{"$f":"$C252","v":7},null,{"$f":"$C252","v":7},{"$f":"$C252","v":7},7,null,7,null,null,{"$f":"_xlfn.TEXTJOIN(\"^\",,K245:K259)","v":"8^6^4^1^5^7^9"},null,7,{"$nulls":11},{"$f":"_xlfn.TEXTJOIN(\"^\",,Y245:Y259)","v":"0^0^0"},null,7,{"$nulls":4},7,7,7,{"$nulls":4},{"$f":"_xlfn.TEXTJOIN(\"^\",,AO245:AO259)","v":""}]
[null,null,9,null,null,null,9,null,9,null,9,{"$nulls":4},{"$f":"_xlfn.TEXTJOIN(\"^\",,L245:L259)","v":"101^102^103^104^105"},null,9,{"$nulls":13},9,{"$nulls":11},{"$f":"_xlfn.TEXTJOIN(\"^\",,AP245:AP259)","v":""}]
[null,null,"空降",{"$nulls":12},{"$f":"_xlfn.TEXTJOIN(\"^\",,M245:M259)","v":"6^4^1^5^7"},null,"空降",{"$nulls":13},"空降",{"$nulls":11},{"$f":"_xlfn.TEXTJOIN(\"^\",,AQ245:AQ253)","v":""}]
[null,null,101,{"$nulls":4},{"$f":"$C255","v":101},null,null,null,{"$f":"$C255","v":101},null,null,null,{"$f":"_xlfn.TEXTJOIN(\"^\",,N245:N259)","v":""},null,101,{"$nulls":11},{"$f":"_xlfn.TEXTJOIN(\"^\",,Z245:Z259)","v":""},null,101]
[null,null,102,{"$nulls":4},{"$f":"$C256","v":102},null,null,null,{"$f":"$C256","v":102},{"$nulls":5},102,{"$nulls":11},{"$f":"_xlfn.TEXTJOIN(\"^\",,AA245:AA259)","v":""},null,102,null,null,{"$f":"$C256","v":102}]
[null,null,103,{"$nulls":4},{"$f":"$C257","v":103},null,null,null,{"$f":"$C257","v":103},{"$nulls":5},103,{"$nulls":11},{"$f":"_xlfn.TEXTJOIN(\"^\",,AB245:AB259)","v":""},null,103,null,null,{"$f":"$C257","v":103}]
[null,null,104,{"$nulls":4},{"$f":"$C258","v":104},null,null,null,{"$f":"$C258","v":104},{"$nulls":5},104,{"$nulls":13},104,null,null,{"$f":"$C258","v":104}]
[null,null,105,{"$nulls":4},{"$f":"$C259","v":105},null,null,null,{"$f":"$C259","v":105},{"$nulls":5},105,{"$nulls":13},105]
[{"$nulls":14},"最终",{"$f":"_xlfn.TEXTJOIN(\"^\",,P245:P259)","v":"4^2^3^5^2^1^3^6^4^2^3^5^7^8^6^2^1^3^7^9^101^102^103^104^105^8^6^2^3^5^7^9^6^4^2^1^3^5^7^8^6^4^1^5^7^9^101^102^103^104^105^6^4^1^5^7"},{"$nulls":12},"最终",{"$f":"_xlfn.TEXTJOIN(\"|\",,AD245:AD259)","v":"0^0^0|0^0|0^0^0|0^0|100^0|0^0|0^0^0"},{"$nulls":12},"最终",{"$f":"_xlfn.TEXTJOIN(\"^\",,AR244:AR259)","v":"4^2^1^3^5^4^1^5^102^103^104^4^2^1^3^5^6^4^2^1^3^5^7^6^4^2^3^5^7^6^4^1^5^7"}]
[]
[null,null,"时间",5,10,17,25,30,38,46,55,60,70,{"$nulls":4},"时间",4,15,30,46,50,65,85,{"$nulls":4},{"$f":"_xlfn.TEXTJOIN(\"^\",,S263:S271)","v":"6^18^6"},null,"时间",2,5,9,14,25,35,45,{"$nulls":4},{"$f":"_xlfn.TEXTJOIN(\"^\",,AG263:AG271)","v":"2^2^2^2^2"}]
[null,null,8,null,null,null,{"$f":"G$262","v":25},null,{"$f":"I$262","v":38},null,{"$f":"K$262","v":55},{"$nulls":4},{"$f":"_xlfn.TEXTJOIN(\"^\",,D263:D272)","v":"5^5^5^5"},null,8,{"$nulls":11},{"$f":"_xlfn.TEXTJOIN(\"^\",,T263:T271)","v":"4^10"},null,8,{"$nulls":11},{"$f":"_xlfn.TEXTJOIN(\"^\",,AH263:AH271)","v":"5^5^5"}]
[null,null,6,null,null,{"$f":"F$262","v":17},25,null,38,{"$f":"J$262","v":46},55,null,{"$f":"M$262","v":70},null,null,{"$f":"_xlfn.TEXTJOIN(\"^\",,E263:E272)","v":"10^10^10"},null,6,{"$nulls":11},{"$f":"_xlfn.TEXTJOIN(\"^\",,U263:U271)","v":"4^4^4"},null,6,{"$nulls":4},{"$f":"AK$262","v":25},35,{"$f":"AM$262","v":45},{"$nulls":4},{"$f":"_xlfn.TEXTJOIN(\"^\",,AI263:AI271)","v":"9^9^9"}]
[null,null,4,{"$f":"D$262","v":5},null,17,null,{"$f":"H$262","v":30},null,{"$f":"J$262","v":46},55,{"$f":"L$262","v":60},70,null,null,{"$f":"_xlfn.TEXTJOIN(\"^\",,F263:F272)","v":"17^17^17^17^17^17"},null,4,{"$nulls":11},{"$f":"_xlfn.TEXTJOIN(\"^\",,V263:V271)","v":"4^11"},null,4,{"$f":"AG$262","v":2},{"$f":"AH$262","v":5},null,{"$f":"AJ$262","v":14},25,35,{"$f":"AM$262","v":45},{"$nulls":4},{"$f":"_xlfn.TEXTJOIN(\"^\",,AJ263:AJ271)","v":"14^14^14^14^14"}]
[null,null,2,5,10,17,25,{"$f":"H$262","v":30},{"$f":"I$262","v":38},46,null,{"$f":"L$262","v":60},null,null,null,{"$f":"_xlfn.TEXTJOIN(\"^\",,G263:G272)","v":"25^25^25^25^25^25^25"},null,2,{"$nulls":11},{"$f":"_xlfn.TEXTJOIN(\"^\",,W263:W271)","v":"8^1"},null,2,2,null,{"$f":"AI$262","v":9},14,25,35,{"$nulls":5},{"$f":"_xlfn.TEXTJOIN(\"^\",,AK263:AK271)","v":"25^25^25^25^25^25^25"}]
[null,null,1,null,10,null,25,{"$f":"H$262","v":30},{"$f":"I$262","v":38},46,{"$f":"K$262","v":55},60,{"$f":"M$262","v":70},null,null,{"$f":"_xlfn.TEXTJOIN(\"^\",,H263:H272)","v":"30^30^30^30^30"},null,1,6,4,4,4,8,12,3,{"$nulls":4},{"$f":"_xlfn.TEXTJOIN(\"^\",,X263:X271)","v":"12^2"},null,1,2,{"$f":"AH$262","v":5},{"$f":"AI$262","v":9},14,25,null,{"$f":"AM$262","v":45},{"$nulls":4},{"$f":"_xlfn.TEXTJOIN(\"^\",,AL263:AL271)","v":"35^35^35^35^35^35"}]
[null,null,3,{"$f":"D$262","v":5},10,17,25,{"$f":"H$262","v":30},{"$f":"I$262","v":38},46,null,60,null,null,null,{"$f":"_xlfn.TEXTJOIN(\"^\",,I263:I272)","v":"38^38^38^38^38^38^38"},null,3,18,10,4,11,1,2,8,{"$nulls":4},{"$f":"_xlfn.TEXTJOIN(\"^\",,Y263:Y271)","v":"3^8^4"},null,3,{"$f":"AG$262","v":2},null,{"$f":"AI$262","v":9},{"$f":"AJ$262","v":14},25,35,{"$nulls":5},{"$f":"_xlfn.TEXTJOIN(\"^\",,AM263:AM271)","v":"45^45^45^45^45"}]
[null,null,5,5,null,17,null,{"$f":"H$262","v":30},null,46,{"$f":"K$262","v":55},{"$f":"L$262","v":60},{"$f":"M$262","v":70},null,null,{"$f":"_xlfn.TEXTJOIN(\"^\",,J263:J272)","v":"46^46^46^46^46^46^46"},null,5,6,null,4,null,null,null,4,{"$nulls":4},{"$f":"_xlfn.TEXTJOIN(\"^\",,Z263:Z271)","v":""},null,5,2,{"$f":"AH$262","v":5},null,14,25,35,45,{"$nulls":4},{"$f":"_xlfn.TEXTJOIN(\"^\",,AN263:AN271)","v":""}]
[null,null,7,null,null,{"$f":"F$262","v":17},{"$f":"G$262","v":25},null,{"$f":"I$262","v":38},{"$f":"J$262","v":46},55,null,70,null,null,{"$f":"_xlfn.TEXTJOIN(\"^\",,K263:K272)","v":"55^55^55^55^55^55^55"},null,7,{"$nulls":11},{"$f":"_xlfn.TEXTJOIN(\"^\",,AA263:AA271)","v":""},null,7,{"$nulls":4},25,35,45,{"$nulls":4},{"$f":"_xlfn.TEXTJOIN(\"^\",,AO263:AO271)","v":""}]
[null,null,9,null,null,null,25,null,38,null,55,{"$nulls":4},{"$f":"_xlfn.TEXTJOIN(\"^\",,L263:L272)","v":"60^60^60^60^60"},null,9,{"$nulls":11},{"$f":"_xlfn.TEXTJOIN(\"^\",,AB263:AB271)","v":""},null,9,{"$nulls":11},{"$f":"_xlfn.TEXTJOIN(\"^\",,AP263:AP271)","v":""}]
[{"$nulls":15},{"$f":"_xlfn.TEXTJOIN(\"^\",,M263:M272)","v":"70^70^70^70^70"},{"$nulls":13},{"$f":"_xlfn.TEXTJOIN(\"^\",,AC263:AC271)","v":""},{"$nulls":13},{"$f":"_xlfn.TEXTJOIN(\"^\",,AQ263:AQ271)","v":""}]
[{"$nulls":15},{"$f":"_xlfn.TEXTJOIN(\"^\",,N263:N272)","v":""},{"$nulls":12},"最终",{"$f":"_xlfn.TEXTJOIN(\"|\",,AD262:AD272)","v":"6^18^6|4^10|4^4^4|4^11|8^1|12^2|3^8^4"},{"$nulls":12},"最终",{"$f":"_xlfn.TEXTJOIN(\"^\",,AR262:AR272)","v":"2^2^2^2^2^5^5^5^9^9^9^14^14^14^14^14^25^25^25^25^25^25^25^35^35^35^35^35^35^45^45^45^45^45"}]
[{"$nulls":14},"最终",{"$f":"_xlfn.TEXTJOIN(\"^\",,P263:P273)","v":"5^5^5^5^10^10^10^17^17^17^17^17^17^25^25^25^25^25^25^25^30^30^30^30^30^38^38^38^38^38^38^38^46^46^46^46^46^46^46^55^55^55^55^55^55^55^60^60^60^60^60^70^70^70^70^70"}]

{"sheet":"5","index":5,"n_rows":290,"n_cols":44,"rows_kept":290,"cut":false,"hidden":false,"merged":[]}
[]
[{"$nulls":4},{"$f":"E3-D3","v":10},{"$f":"F3-E3","v":15},16,17,7,15,18,2,15,{"$nulls":6},{"$f":"T3-S3","v":11},15,16,4,15,20,{"$nulls":8},{"$f":"AH3-AG3","v":2},4,6,8,7,10]
[3,"火山-1","波1·怪物",5,15,30,46,63,70,85,103,105,120,null,null,null,3,"波2·怪物",4,15,30,46,50,65,85,{"$nulls":5},1,"波3·怪物",3,5,9,15,23,30,40]
[null,"5m",8,{"$nulls":12},{"$f":"_xlfn.TEXTJOIN(\"^\",,D4:D13)","v":"60211"},null,8,{"$nulls":11},{"$f":"_xlfn.TEXTJOIN(\"^\",,S4:S13)","v":"60214^60211^60213"},null,8,{"$nulls":11},{"$f":"_xlfn.TEXTJOIN(\"^\",,AG4:AG13)","v":"60214^60211^60211^60214"}]
[null,null,6,{"$nulls":12},{"$f":"_xlfn.TEXTJOIN(\"^\",,E4:E13)","v":"60212^60211"},null,6,{"$nulls":11},{"$f":"_xlfn.TEXTJOIN(\"^\",,T4:T13)","v":"60212^60211"},null,6,{"$nulls":4},60212,60212,60214,{"$nulls":4},{"$f":"_xlfn.TEXTJOIN(\"^\",,AH4:AH13)","v":"60212^60212^60212"}]
[null,null,4,{"$nulls":12},{"$f":"_xlfn.TEXTJOIN(\"^\",,F4:F13)","v":"60214^60213^60212"},null,4,{"$nulls":11},{"$f":"_xlfn.TEXTJOIN(\"^\",,U4:U13)","v":"60213^60211^60214"},null,4,60214,60212,null,60211,60214,60211,60212,{"$nulls":4},{"$f":"_xlfn.TEXTJOIN(\"^\",,AI4:AI13)","v":"60215^60215^60215"}]
[null,null,2,{"$nulls":12},{"$f":"_xlfn.TEXTJOIN(\"^\",,G4:G13)","v":"60213^60211^60212^60214"},null,2,{"$nulls":11},{"$f":"_xlfn.TEXTJOIN(\"^\",,V4:V13)","v":"60212^60211"},null,2,60211,null,60215,60213,60213,60211,{"$nulls":5},{"$f":"_xlfn.TEXTJOIN(\"^\",,AJ4:AJ13)","v":"60211^60213^60213^60211"}]
[null,null,1,60211,60212,60214,60213,60211,60215,60213,60214,60215,60213,null,null,{"$f":"_xlfn.TEXTJOIN(\"^\",,H4:H13)","v":"60211^60212"},null,1,60214,60212,60213,60212,60215,60214,60213,{"$nulls":4},{"$f":"_xlfn.TEXTJOIN(\"^\",,W4:W13)","v":"60215"},null,1,null,60212,60215,null,null,null,60212,{"$nulls":4},{"$f":"_xlfn.TEXTJOIN(\"^\",,AK4:AK13)","v":"60212^60214^60213^60213^60214^60212"}]
[null,null,3,null,60211,60213,60211,60212,null,60212,60211,null,60211,null,null,{"$f":"_xlfn.TEXTJOIN(\"^\",,I4:I13)","v":"60215"},null,3,60211,60211,60211,60211,null,60211,60211,{"$nulls":4},{"$f":"_xlfn.TEXTJOIN(\"^\",,X4:X13)","v":"60214^60211^60212"},null,3,60211,null,60215,60213,60213,60211,{"$nulls":5},{"$f":"_xlfn.TEXTJOIN(\"^\",,AL4:AL13)","v":"60212^60211^60211^60211^60211^60212"}]
[null,null,5,null,null,60212,60212,null,null,60214,60212,null,60214,null,null,{"$f":"_xlfn.TEXTJOIN(\"^\",,J4:J13)","v":"60213^60212^60214"},null,5,60213,null,60214,null,null,60212,60212,{"$nulls":4},{"$f":"_xlfn.TEXTJOIN(\"^\",,Y4:Y13)","v":"60213^60211^60212"},null,5,60214,60212,null,60211,60214,60211,60212,{"$nulls":4},{"$f":"_xlfn.TEXTJOIN(\"^\",,AM4:AM13)","v":"60214^60212^60212^60212^60214"}]
[null,null,7,null,null,null,60214,{"$nulls":8},{"$f":"_xlfn.TEXTJOIN(\"^\",,K4:K13)","v":"60214^60211^60212"},null,7,{"$nulls":11},{"$f":"_xlfn.TEXTJOIN(\"^\",,Z4:Z13)","v":""},null,7,{"$nulls":4},60212,60212,60214,{"$nulls":4},{"$f":"_xlfn.TEXTJOIN(\"^\",,AN4:AN13)","v":""}]
[null,null,9,{"$nulls":12},{"$f":"_xlfn.TEXTJOIN(\"^\",,L4:L13)","v":"60215"},null,9,{"$nulls":11},{"$f":"_xlfn.TEXTJOIN(\"^\",,AA4:AA13)","v":""},null,9,{"$nulls":11},{"$f":"_xlfn.TEXTJOIN(\"^\",,AO4:AO13)","v":""}]
[{"$nulls":15},{"$f":"_xlfn.TEXTJOIN(\"^\",,M4:M13)","v":"60213^60211^60214"},{"$nulls":13},{"$f":"_xlfn.TEXTJOIN(\"^\",,AB4:AB13)","v":""},{"$nulls":13},{"$f":"_xlfn.TEXTJOIN(\"^\",,AP4:AP13)","v":""}]
[{"$nulls":15},{"$f":"_xlfn.TEXTJOIN(\"^\",,N4:N13)","v":""},{"$nulls":13},{"$f":"_xlfn.TEXTJOIN(\"^\",,AC4:AC13)","v":""},{"$nulls":13},{"$f":"_xlfn.TEXTJOIN(\"^\",,AQ4:AQ13)","v":""}]
[{"$nulls":14},"最终",{"$f":"_xlfn.TEXTJOIN(\"|\",,P4:P14)","v":"60211|60212^60211|60214^60213^60212|60213^60211^60212^60214|60211^60212|60215|60213^60212^60214|60214^60211^60212|60215|60213^60211^60214"},{"$nulls":12},"最终",{"$f":"_xlfn.TEXTJOIN(\"|\",,AD4:AD14)","v":"60214^60211^60213|60212^60211|60213^60211^60214|60212^60211|60215|60214^60211^60212|60213^60211^60212"},{"$nulls":12},"最终",{"$f":"_xlfn.TEXTJOIN(\"^\",,AR4:AR14)","v":"60214^60211^60211^60214^60212^60212^60212^60215^60215^60215^60211^60213^60213^60211^60212^60214^60213^60213^60214^60212^60212^60211^60211^60211^60211^60212^60214^60212^60212^60212^60214"}]
[null,null,8,{"$nulls":14},8,{"$nulls":13},8]
[null,null,6,{"$nulls":14},6,{"$nulls":13},6,{"$nulls":4},"岩浆人","岩浆人","火精灵"]
[null,null,4,{"$nulls":14},4,{"$nulls":13},4,"火精灵","岩浆人",null,"岩浆蝎","火精灵","岩浆蝎","岩浆人"]
[null,null,2,{"$nulls":14},2,{"$nulls":13},2,"岩浆蝎",null,"火山蜘蛛","岩浆战士","岩浆战士","岩浆蝎"]
[null,null,1,"岩浆蝎","岩浆人","火精灵","岩浆战士","岩浆蝎","火山蜘蛛","岩浆战士","火精灵","火山蜘蛛","岩浆战士",{"$nulls":4},1,"火精灵","岩浆人","岩浆战士","岩浆人","火山蜘蛛","火精灵","岩浆战士",{"$nulls":6},1,null,"岩浆人","火山蜘蛛",null,null,null,"岩浆人"]
[null,null,3,null,"岩浆蝎","岩浆战士","岩浆蝎","岩浆人",null,"岩浆人","岩浆蝎",null,"岩浆蝎",{"$nulls":4},3,"岩浆蝎","岩浆蝎","岩浆蝎","岩浆蝎",null,"岩浆蝎","岩浆蝎",{"$nulls":6},3,"岩浆蝎",null,"火山蜘蛛","岩浆战士","岩浆战士","岩浆蝎"]
[null,null,5,null,null,"岩浆人","岩浆人",null,null,"火精灵","岩浆人",null,"火精灵",{"$nulls":4},5,"岩浆战士",null,"火精灵",null,null,"岩浆人","岩浆人",{"$nulls":6},5,"火精灵","岩浆人",null,"岩浆蝎","火精灵","岩浆蝎","岩浆人"]
[null,null,7,null,null,null,"火精灵",{"$nulls":10},7,{"$nulls":13},7,{"$nulls":4},"岩浆人","岩浆人","火精灵"]
[null,null,9,{"$nulls":14},9,{"$nulls":13},9]
[]
[null,null,"位置",5,15,30,46,63,70,85,103,105,120,{"$nulls":4},"位置",4,15,30,46,50,65,85,{"$nulls":6},"位置",3,5,9,15,23,30,40,{"$nulls":4},{"$f":"_xlfn.TEXTJOIN(\"^\",,AG27:AG41)","v":"4^2^3^5"}]
[null,null,8,{"$nulls":12},{"$f":"_xlfn.TEXTJOIN(\"^\",,D27:D41)","v":"0"},null,8,{"$nulls":13},8,{"$nulls":11},{"$f":"_xlfn.TEXTJOIN(\"^\",,AH27:AH41)","v":"4^1^5"}]
[null,null,6,{"$nulls":12},{"$f":"_xlfn.TEXTJOIN(\"^\",,E27:E41)","v":"0^0"},null,6,{"$nulls":11},{"$f":"_xlfn.TEXTJOIN(\"^\",,S27:S41)","v":"0^0^0"},null,6,{"$nulls":4},{"$f":"$C28","v":6},6,6,{"$nulls":4},{"$f":"_xlfn.TEXTJOIN(\"^\",,AI27:AI41)","v":"102^103^104"}]
[null,null,4,{"$nulls":12},{"$f":"_xlfn.TEXTJOIN(\"^\",,F27:F41)","v":"0^0^0"},null,4,{"$nulls":11},{"$f":"_xlfn.TEXTJOIN(\"^\",,T27:T41)","v":"0^0"},null,4,{"$f":"$C29","v":4},{"$f":"$C29","v":4},null,{"$f":"$C29","v":4},4,4,4,{"$nulls":4},{"$f":"_xlfn.TEXTJOIN(\"^\",,AJ27:AJ41)","v":"4^2^3^5"}]
[null,null,2,{"$nulls":12},{"$f":"_xlfn.TEXTJOIN(\"^\",,G27:G41)","v":"0^0^0^0"},null,2,{"$nulls":11},{"$f":"_xlfn.TEXTJOIN(\"^\",,U27:U41)","v":"0^0^0"},null,2,2,null,null,2,2,2,{"$nulls":5},{"$f":"_xlfn.TEXTJOIN(\"^\",,AK27:AK41)","v":"6^4^2^3^5^7"}]
[null,null,1,0,0,0,0,0,100,0,0,100,0,null,null,{"$f":"_xlfn.TEXTJOIN(\"^\",,H27:H41)","v":"0^0"},null,1,0,0,0,0,100,0,0,{"$nulls":4},{"$f":"_xlfn.TEXTJOIN(\"^\",,V27:V41)","v":"0^0"},null,1,null,{"$f":"$C31","v":1},{"$nulls":4},{"$f":"$C31","v":1},{"$nulls":4},{"$f":"_xlfn.TEXTJOIN(\"^\",,AL27:AL41)","v":"6^4^2^3^5^7"}]
[null,null,3,null,0,0,0,0,null,0,0,null,0,null,null,{"$f":"_xlfn.TEXTJOIN(\"^\",,I27:I41)","v":"100"},null,3,0,0,0,0,null,0,0,{"$nulls":4},{"$f":"_xlfn.TEXTJOIN(\"^\",,W27:W41)","v":"100"},null,3,{"$f":"$C32","v":3},null,null,{"$f":"$C32","v":3},3,3,{"$nulls":5},{"$f":"_xlfn.TEXTJOIN(\"^\",,AM27:AM41)","v":"6^4^1^5^7"}]
[null,null,5,null,null,0,0,null,null,0,0,null,0,null,null,{"$f":"_xlfn.TEXTJOIN(\"^\",,J27:J41)","v":"0^0^0"},null,5,0,null,0,null,null,0,0,{"$nulls":4},{"$f":"_xlfn.TEXTJOIN(\"^\",,X27:X41)","v":"0^0^0"},null,5,5,{"$f":"$C33","v":5},null,5,5,5,5,{"$nulls":4},{"$f":"_xlfn.TEXTJOIN(\"^\",,AN27:AN41)","v":""}]
[null,null,7,null,null,null,0,{"$nulls":8},{"$f":"_xlfn.TEXTJOIN(\"^\",,K27:K41)","v":"0^0^0"},null,7,{"$nulls":11},{"$f":"_xlfn.TEXTJOIN(\"^\",,Y27:Y41)","v":"0^0^0"},null,7,{"$nulls":4},7,7,7,{"$nulls":4},{"$f":"_xlfn.TEXTJOIN(\"^\",,AO27:AO41)","v":""}]
[null,null,9,{"$nulls":12},{"$f":"_xlfn.TEXTJOIN(\"^\",,L27:L41)","v":"100"},null,9,{"$nulls":13},9,{"$nulls":11},{"$f":"_xlfn.TEXTJOIN(\"^\",,AP27:AP41)","v":""}]
[null,null,"空降",{"$nulls":12},{"$f":"_xlfn.TEXTJOIN(\"^\",,M27:M41)","v":"0^0^0"},null,"空降",{"$nulls":13},"空降",{"$nulls":11},{"$f":"_xlfn.TEXTJOIN(\"^\",,AQ27:AQ35)","v":""}]
[null,null,101,{"$nulls":12},{"$f":"_xlfn.TEXTJOIN(\"^\",,N27:N41)","v":""},null,101,{"$nulls":11},{"$f":"_xlfn.TEXTJOIN(\"^\",,Z27:Z41)","v":""},null,101]
[null,null,102,{"$nulls":14},102,{"$nulls":11},{"$f":"_xlfn.TEXTJOIN(\"^\",,AA27:AA41)","v":""},null,102,null,null,{"$f":"$C38","v":102}]
[null,null,103,{"$nulls":14},103,{"$nulls":11},{"$f":"_xlfn.TEXTJOIN(\"^\",,AB27:AB41)","v":""},null,103,null,null,{"$f":"$C39","v":103}]
[null,null,104,{"$nulls":14},104,{"$nulls":13},104,null,null,{"$f":"$C40","v":104}]
[null,null,105,{"$nulls":14},105,{"$nulls":13},105]
[{"$nulls":14},"最终",{"$f":"_xlfn.TEXTJOIN(\"|\",,P27:P41)","v":"0|0^0|0^0^0|0^0^0^0|0^0|100|0^0^0|0^0^0|100|0^0^0"},{"$nulls":12},"最终",{"$f":"_xlfn.TEXTJOIN(\"|\",,AD27:AD41)","v":"0^0^0|0^0|0^0^0|0^0|100|0^0^0|0^0^0"},{"$nulls":12},"最终",{"$f":"_xlfn.TEXTJOIN(\"^\",,AR26:AR41)","v":"4^2^3^5^4^1^5^102^103^104^4^2^3^5^6^4^2^3^5^7^6^4^2^3^5^7^6^4^1^5^7"}]
[]
[null,null,"时间",5,15,30,46,63,70,85,103,105,120,{"$nulls":4},"时间",4,15,30,46,50,65,85,{"$nulls":4},{"$f":"_xlfn.TEXTJOIN(\"^\",,S45:S53)","v":"6^22^4"},null,"时间",3,5,9,15,23,30,40,{"$nulls":4},{"$f":"_xlfn.TEXTJOIN(\"^\",,AG45:AG53)","v":"3^3^3^3"}]
[null,null,8,{"$nulls":12},{"$f":"_xlfn.TEXTJOIN(\"^\",,D45:D54)","v":"7"},null,8,{"$nulls":11},{"$f":"_xlfn.TEXTJOIN(\"^\",,T45:T53)","v":"4^7"},null,8,{"$nulls":11},{"$f":"_xlfn.TEXTJOIN(\"^\",,AH45:AH53)","v":"5^5^5"}]
[null,null,6,{"$nulls":12},{"$f":"_xlfn.TEXTJOIN(\"^\",,E45:E54)","v":"3^6"},null,6,{"$nulls":11},{"$f":"_xlfn.TEXTJOIN(\"^\",,U45:U53)","v":"3^8^2"},null,6,{"$nulls":4},{"$f":"AK$44","v":23},30,40,{"$nulls":4},{"$f":"_xlfn.TEXTJOIN(\"^\",,AI45:AI53)","v":"9^9^9"}]
[null,null,4,{"$nulls":12},{"$f":"_xlfn.TEXTJOIN(\"^\",,F45:F54)","v":"2^3^4"},null,4,{"$nulls":11},{"$f":"_xlfn.TEXTJOIN(\"^\",,V45:V53)","v":"4^8"},null,4,{"$f":"AG$44","v":3},{"$f":"AH$44","v":5},null,{"$f":"AJ$44","v":15},23,30,40,{"$nulls":4},{"$f":"_xlfn.TEXTJOIN(\"^\",,AJ45:AJ53)","v":"15^15^15^15"}]
[null,null,2,{"$nulls":12},{"$f":"_xlfn.TEXTJOIN(\"^\",,G45:G54)","v":"2^6^3^2"},null,2,{"$nulls":11},{"$f":"_xlfn.TEXTJOIN(\"^\",,W45:W53)","v":"7"},null,2,3,null,{"$f":"AI$44","v":9},15,23,30,{"$nulls":5},{"$f":"_xlfn.TEXTJOIN(\"^\",,AK45:AK53)","v":"23^23^23^23^23^23"}]
[null,null,1,7,3,2,2,8,7,4,2,8,4,null,null,{"$f":"_xlfn.TEXTJOIN(\"^\",,H45:H54)","v":"8^4"},null,1,6,4,3,4,7,2,2,{"$nulls":4},{"$f":"_xlfn.TEXTJOIN(\"^\",,X45:X53)","v":"2^9^3"},null,1,null,{"$f":"AH$44","v":5},{"$f":"AI$44","v":9},null,null,null,{"$f":"AM$44","v":40},{"$nulls":4},{"$f":"_xlfn.TEXTJOIN(\"^\",,AL45:AL53)","v":"30^30^30^30^30^30"}]
[null,null,3,null,6,3,6,4,null,4,8,null,8,null,null,{"$f":"_xlfn.TEXTJOIN(\"^\",,I45:I54)","v":"7"},null,3,22,7,8,8,null,9,8,{"$nulls":4},{"$f":"_xlfn.TEXTJOIN(\"^\",,Y45:Y53)","v":"2^8^4"},null,3,{"$f":"AG$44","v":3},null,{"$f":"AI$44","v":9},{"$f":"AJ$44","v":15},23,30,{"$nulls":5},{"$f":"_xlfn.TEXTJOIN(\"^\",,AM45:AM53)","v":"40^40^40^40^40"}]
[null,null,5,null,null,4,3,null,null,2,3,null,2,null,null,{"$f":"_xlfn.TEXTJOIN(\"^\",,J45:J54)","v":"4^4^2"},null,5,4,null,2,null,null,3,4,{"$nulls":4},{"$f":"_xlfn.TEXTJOIN(\"^\",,Z45:Z53)","v":""},null,5,3,{"$f":"AH$44","v":5},null,15,23,30,40,{"$nulls":4},{"$f":"_xlfn.TEXTJOIN(\"^\",,AN45:AN53)","v":""}]
[null,null,7,null,null,null,2,{"$nulls":8},{"$f":"_xlfn.TEXTJOIN(\"^\",,K45:K54)","v":"2^8^3"},null,7,{"$nulls":11},{"$f":"_xlfn.TEXTJOIN(\"^\",,AA45:AA53)","v":""},null,7,{"$nulls":4},23,30,40,{"$nulls":4},{"$f":"_xlfn.TEXTJOIN(\"^\",,AO45:AO53)","v":""}]
[null,null,9,{"$nulls":12},{"$f":"_xlfn.TEXTJOIN(\"^\",,L45:L54)","v":"8"},null,9,{"$nulls":11},{"$f":"_xlfn.TEXTJOIN(\"^\",,AB45:AB53)","v":""},null,9,{"$nulls":11},{"$f":"_xlfn.TEXTJOIN(\"^\",,AP45:AP53)","v":""}]
[{"$nulls":15},{"$f":"_xlfn.TEXTJOIN(\"^\",,M45:M54)","v":"4^8^2"},{"$nulls":13},{"$f":"_xlfn.TEXTJOIN(\"^\",,AC45:AC53)","v":""},{"$nulls":13},{"$f":"_xlfn.TEXTJOIN(\"^\",,AQ45:AQ53)","v":""}]
[{"$nulls":15},{"$f":"_xlfn.TEXTJOIN(\"^\",,N45:N54)","v":""},{"$nulls":12},"最终",{"$f":"_xlfn.TEXTJOIN(\"|\",,AD44:AD54)","v":"6^22^4|4^7|3^8^2|4^8|7|2^9^3|2^8^4"},{"$nulls":12},"最终",{"$f":"_xlfn.TEXTJOIN(\"^\",,AR44:AR54)","v":"3^3^3^3^5^5^5^9^9^9^15^15^15^15^23^23^23^23^23^23^30^30^30^30^30^30^40^40^40^40^40"}]
[{"$nulls":14},"最终",{"$f":"_xlfn.TEXTJOIN(\"|\",,P45:P55)","v":"7|3^6|2^3^4|2^6^3^2|8^4|7|4^4^2|2^8^3|8|4^8^2"}]
[{"$nulls":15},{"$f":"SUM(D46:N53)","v":102},{"$nulls":13},{"$f":"SUM(S46:AB51)","v":103},{"$nulls":13},{"$f":"COUNT(AG46:AM53)","v":31}]
[{"$nulls":43},{"$f":"AR57+AD57+P57","v":236}]
[]
[{"$nulls":4},{"$f":"E61-D61","v":10},{"$f":"F61-E61","v":15},16,17,7,12,18,5,15,{"$nulls":6},{"$f":"T61-S61","v":11},15,16,4,15,20,{"$nulls":8},{"$f":"AH61-AG61","v":2},4,5,5,5,5]
[3,"火山-2","波1·怪物",5,15,30,46,63,70,82,100,105,120,null,null,null,3,"波2·怪物",4,15,30,46,50,65,85,{"$nulls":5},1,"波3·怪物",4,6,10,15,20,25,30]
[null,"5m",8,{"$nulls":12},{"$f":"_xlfn.TEXTJOIN(\"^\",,D62:D71)","v":"60224^60221"},null,8,{"$nulls":11},{"$f":"_xlfn.TEXTJOIN(\"^\",,S62:S71)","v":"60224^60222^60221"},null,8,{"$nulls":11},{"$f":"_xlfn.TEXTJOIN(\"^\",,AG62:AG71)","v":"60224^60222^60222^60224"}]
[null,null,6,{"$nulls":12},{"$f":"_xlfn.TEXTJOIN(\"^\",,E62:E71)","v":"60222^60221"},null,6,{"$nulls":11},{"$f":"_xlfn.TEXTJOIN(\"^\",,T62:T71)","v":"60221^60222"},null,6,{"$nulls":4},60222,60222,60224,{"$nulls":4},{"$f":"_xlfn.TEXTJOIN(\"^\",,AH62:AH71)","v":"60221^60221^60221"}]
[null,null,4,{"$nulls":12},{"$f":"_xlfn.TEXTJOIN(\"^\",,F62:F71)","v":"60224^60223^60221"},null,4,{"$nulls":11},{"$f":"_xlfn.TEXTJOIN(\"^\",,U62:U71)","v":"60223^60221^60222"},null,4,60224,60221,null,60222,60224,60221,60222,{"$nulls":4},{"$f":"_xlfn.TEXTJOIN(\"^\",,AI62:AI71)","v":"60225^60225"}]
[null,null,2,{"$nulls":12},{"$f":"_xlfn.TEXTJOIN(\"^\",,G62:G71)","v":"60224^60222^60221"},null,2,{"$nulls":11},{"$f":"_xlfn.TEXTJOIN(\"^\",,V62:V71)","v":"60222^60224^60226"},null,2,60222,null,60225,60223,60221,60221,{"$nulls":5},{"$f":"_xlfn.TEXTJOIN(\"^\",,AJ62:AJ71)","v":"60222^60223^60226^60223^60222"}]
[null,null,1,60224,60222,60224,60224,60221,60225,60223,60222,60225,60223,null,null,{"$f":"_xlfn.TEXTJOIN(\"^\",,H62:H71)","v":"60221^60222^60223"},null,1,60224,60221,60223,60222,60225,60221,60223,{"$nulls":4},{"$f":"_xlfn.TEXTJOIN(\"^\",,W62:W71)","v":"60225"},null,1,null,60221,null,60226,60221,null,60222,{"$nulls":4},{"$f":"_xlfn.TEXTJOIN(\"^\",,AK62:AK71)","v":"60222^60224^60221^60221^60221^60224^60222"}]
[null,null,3,60221,60221,60223,60222,60222,null,60221,60221,60226,60221,null,null,{"$f":"_xlfn.TEXTJOIN(\"^\",,I62:I71)","v":"60225"},null,3,60222,60222,60221,60224,null,60222,60222,{"$nulls":4},{"$f":"_xlfn.TEXTJOIN(\"^\",,X62:X71)","v":"60221^60222"},null,3,60222,null,60225,60223,60221,60221,{"$nulls":5},{"$f":"_xlfn.TEXTJOIN(\"^\",,AL62:AL71)","v":"60222^60221^60221^60221^60221^60222"}]
[null,null,5,null,null,60221,60221,60223,null,60222,null,null,60222,null,null,{"$f":"_xlfn.TEXTJOIN(\"^\",,J62:J71)","v":"60223^60221^60222"},null,5,60221,null,60222,60226,null,null,60224,{"$nulls":4},{"$f":"_xlfn.TEXTJOIN(\"^\",,Y62:Y71)","v":"60223^60222^60224"},null,5,60224,60221,null,60222,60224,60221,60222,{"$nulls":4},{"$f":"_xlfn.TEXTJOIN(\"^\",,AM62:AM71)","v":"60224^60222^60222^60222^60224"}]
[null,null,7,{"$nulls":12},{"$f":"_xlfn.TEXTJOIN(\"^\",,K62:K71)","v":"60222^60221"},null,7,{"$nulls":11},{"$f":"_xlfn.TEXTJOIN(\"^\",,Z62:Z71)","v":""},null,7,{"$nulls":4},60222,60222,60224,{"$nulls":4},{"$f":"_xlfn.TEXTJOIN(\"^\",,AN62:AN71)","v":""}]
[null,null,9,{"$nulls":12},{"$f":"_xlfn.TEXTJOIN(\"^\",,L62:L71)","v":"60225^60226"},null,9,{"$nulls":11},{"$f":"_xlfn.TEXTJOIN(\"^\",,AA62:AA71)","v":""},null,9,{"$nulls":11},{"$f":"_xlfn.TEXTJOIN(\"^\",,AO62:AO71)","v":""}]
[{"$nulls":15},{"$f":"_xlfn.TEXTJOIN(\"^\",,M62:M71)","v":"60223^60221^60222"},{"$nulls":13},{"$f":"_xlfn.TEXTJOIN(\"^\",,AB62:AB71)","v":""},{"$nulls":13},{"$f":"_xlfn.TEXTJOIN(\"^\",,AP62:AP71)","v":""}]
[{"$nulls":15},{"$f":"_xlfn.TEXTJOIN(\"^\",,N62:N71)","v":""},{"$nulls":13},{"$f":"_xlfn.TEXTJOIN(\"^\",,AC62:AC71)","v":""},{"$nulls":13},{"$f":"_xlfn.TEXTJOIN(\"^\",,AQ62:AQ71)","v":""}]
[{"$nulls":14},"最终",{"$f":"_xlfn.TEXTJOIN(\"|\",,P62:P72)","v":"60224^60221|60222^60221|60224^60223^60221|60224^60222^60221|60221^60222^60223|60225|60223^60221^60222|60222^60221|60225^60226|60223^60221^60222"},{"$nulls":12},"最终",{"$f":"_xlfn.TEXTJOIN(\"|\",,AD62:AD72)","v":"60224^60222^60221|60221^60222|60223^60221^60222|60222^60224^60226|60225|60221^60222|60223^60222^60224"},{"$nulls":12},"最终",{"$f":"_xlfn.TEXTJOIN(\"^\",,AR62:AR72)","v":"60224^60222^60222^60224^60221^60221^60221^60225^60225^60222^60223^60226^60223^60222^60222^60224^60221^60221^60221^60224^60222^60222^60221^60221^60221^60221^60222^60224^60222^60222^60222^60224"}]
[null,null,8,{"$nulls":14},8,{"$nulls":13},8]
[null,null,6,{"$nulls":14},6,{"$nulls":13},6,{"$nulls":4},"岩浆人","岩浆人","火精灵"]
[null,null,4,{"$nulls":14},4,{"$nulls":13},4,"火精灵","岩浆蝎",null,"岩浆人","火精灵","岩浆蝎","岩浆人"]
[null,null,2,{"$nulls":14},2,{"$nulls":13},2,"岩浆人",null,"火山蜘蛛","岩浆战士","岩浆蝎","岩浆蝎"]
[null,null,1,"火精灵","岩浆人","火精灵","火精灵","岩浆蝎","火山蜘蛛","岩浆战士","岩浆人","火山蜘蛛","岩浆战士",{"$nulls":4},1,"火精灵","岩浆蝎","岩浆战士","岩浆人","火山蜘蛛","岩浆蝎","岩浆战士",{"$nulls":6},1,null,"岩浆蝎",null,"蘑菇王","岩浆蝎",null,"岩浆人"]
[null,null,3,"岩浆蝎","岩浆蝎","岩浆战士","岩浆人","岩浆人",null,"岩浆蝎","岩浆蝎","蘑菇王","岩浆蝎",{"$nulls":4},3,"岩浆人","岩浆人","岩浆蝎","火精灵",null,"岩浆人","岩浆人",{"$nulls":6},3,"岩浆人",null,"火山蜘蛛","岩浆战士","岩浆蝎","岩浆蝎"]
[null,null,5,null,null,"岩浆蝎","岩浆蝎","岩浆战士",null,"岩浆人",null,null,"岩浆人",{"$nulls":4},5,"岩浆蝎",null,"岩浆人","蘑菇王",null,null,"火精灵",{"$nulls":6},5,"火精灵","岩浆蝎",null,"岩浆人","火精灵","岩浆蝎","岩浆人"]
[null,null,7,{"$nulls":14},7,{"$nulls":13},7,{"$nulls":4},"岩浆人","岩浆人","火精灵"]
[null,null,9,{"$nulls":14},9,{"$nulls":13},9]
[]
[null,null,"位置",5,15,30,46,63,70,82,100,105,120,{"$nulls":4},"位置",4,15,30,46,50,65,85,{"$nulls":6},"位置",4,6,10,15,20,25,30,{"$nulls":4},{"$f":"_xlfn.TEXTJOIN(\"^\",,AG85:AG99)","v":"4^2^3^5"}]
[null,null,8,{"$nulls":12},{"$f":"_xlfn.TEXTJOIN(\"^\",,D85:D99)","v":"0^0"},null,8,{"$nulls":13},8,{"$nulls":11},{"$f":"_xlfn.TEXTJOIN(\"^\",,AH85:AH99)","v":"4^1^5"}]
[null,null,6,{"$nulls":12},{"$f":"_xlfn.TEXTJOIN(\"^\",,E85:E99)","v":"0^0"},null,6,{"$nulls":11},{"$f":"_xlfn.TEXTJOIN(\"^\",,S85:S99)","v":"0^0^0"},null,6,{"$nulls":4},{"$f":"$C86","v":6},6,6,{"$nulls":4},{"$f":"_xlfn.TEXTJOIN(\"^\",,AI85:AI99)","v":"102^104"}]
[null,null,4,{"$nulls":12},{"$f":"_xlfn.TEXTJOIN(\"^\",,F85:F99)","v":"0^0^0"},null,4,{"$nulls":11},{"$f":"_xlfn.TEXTJOIN(\"^\",,T85:T99)","v":"0^0"},null,4,{"$f":"$C87","v":4},4,null,{"$f":"$C87","v":4},4,4,4,{"$nulls":4},{"$f":"_xlfn.TEXTJOIN(\"^\",,AJ85:AJ99)","v":"4^2^1^3^5"}]
[null,null,2,{"$nulls":12},{"$f":"_xlfn.TEXTJOIN(\"^\",,G85:G99)","v":"0^0^0"},null,2,{"$nulls":11},{"$f":"_xlfn.TEXTJOIN(\"^\",,U85:U99)","v":"0^0^0"},null,2,2,null,null,2,2,2,{"$nulls":5},{"$f":"_xlfn.TEXTJOIN(\"^\",,AK85:AK99)","v":"6^4^2^1^3^5^7"}]
[null,null,1,0,0,0,0,0,100,0,0,100,0,null,null,{"$f":"_xlfn.TEXTJOIN(\"^\",,H85:H99)","v":"0^0^0"},null,1,0,0,0,0,100,0,0,{"$nulls":4},{"$f":"_xlfn.TEXTJOIN(\"^\",,V85:V99)","v":"0^0^0"},null,1,null,{"$f":"$C89","v":1},null,1,1,null,{"$f":"$C89","v":1},{"$nulls":4},{"$f":"_xlfn.TEXTJOIN(\"^\",,AL85:AL99)","v":"6^4^2^3^5^7"}]
[null,null,3,0,0,0,0,0,null,0,0,0,0,null,null,{"$f":"_xlfn.TEXTJOIN(\"^\",,I85:I99)","v":"100"},null,3,0,0,0,0,null,0,0,{"$nulls":4},{"$f":"_xlfn.TEXTJOIN(\"^\",,W85:W99)","v":"100"},null,3,{"$f":"$C90","v":3},null,null,{"$f":"$C90","v":3},3,3,{"$nulls":5},{"$f":"_xlfn.TEXTJOIN(\"^\",,AM85:AM99)","v":"6^4^1^5^7"}]
[null,null,5,null,null,0,0,0,null,0,null,null,0,null,null,{"$f":"_xlfn.TEXTJOIN(\"^\",,J85:J99)","v":"0^0^0"},null,5,0,null,0,0,null,null,0,{"$nulls":4},{"$f":"_xlfn.TEXTJOIN(\"^\",,X85:X99)","v":"0^0"},null,5,5,5,null,5,5,5,5,{"$nulls":4},{"$f":"_xlfn.TEXTJOIN(\"^\",,AN85:AN99)","v":""}]
[null,null,7,{"$nulls":12},{"$f":"_xlfn.TEXTJOIN(\"^\",,K85:K99)","v":"0^0"},null,7,{"$nulls":11},{"$f":"_xlfn.TEXTJOIN(\"^\",,Y85:Y99)","v":"0^0^0"},null,7,{"$nulls":4},7,7,7,{"$nulls":4},{"$f":"_xlfn.TEXTJOIN(\"^\",,AO85:AO99)","v":""}]
[null,null,9,{"$nulls":12},{"$f":"_xlfn.TEXTJOIN(\"^\",,L85:L99)","v":"100^0"},null,9,{"$nulls":13},9,{"$nulls":11},{"$f":"_xlfn.TEXTJOIN(\"^\",,AP85:AP99)","v":""}]
[null,null,"空降",{"$nulls":12},{"$f":"_xlfn.TEXTJOIN(\"^\",,M85:M99)","v":"0^0^0"},null,"空降",{"$nulls":13},"空降",{"$nulls":11},{"$f":"_xlfn.TEXTJOIN(\"^\",,AQ85:AQ93)","v":""}]
[null,null,101,{"$nulls":12},{"$f":"_xlfn.TEXTJOIN(\"^\",,N85:N99)","v":""},null,101,{"$nulls":11},{"$f":"_xlfn.TEXTJOIN(\"^\",,Z85:Z99)","v":""},null,101]
[null,null,102,{"$nulls":14},102,{"$nulls":11},{"$f":"_xlfn.TEXTJOIN(\"^\",,AA85:AA99)","v":""},null,102,null,null,{"$f":"$C96","v":102}]
[null,null,103,{"$nulls":14},103,{"$nulls":11},{"$f":"_xlfn.TEXTJOIN(\"^\",,AB85:AB99)","v":""},null,103]
[null,null,104,{"$nulls":14},104,{"$nulls":13},104,null,null,{"$f":"$C98","v":104}]
[null,null,105,{"$nulls":14},105,{"$nulls":13},105]
[{"$nulls":14},"最终",{"$f":"_xlfn.TEXTJOIN(\"|\",,P85:P99)","v":"0^0|0^0|0^0^0|0^0^0|0^0^0|100|0^0^0|0^0|100^0|0^0^0"},{"$nulls":12},"最终",{"$f":"_xlfn.TEXTJOIN(\"|\",,AD85:AD99)","v":"0^0^0|0^0|0^0^0|0^0^0|100|0^0|0^0^0"},{"$nulls":12},"最终",{"$f":"_xlfn.TEXTJOIN(\"^\",,AR84:AR99)","v":"4^2^3^5^4^1^5^102^104^4^2^1^3^5^6^4^2^1^3^5^7^6^4^2^3^5^7^6^4^1^5^7"}]
[]
[null,null,"时间",5,15,30,46,63,70,82,100,105,120,{"$nulls":4},"时间",4,15,30,46,50,65,85,{"$nulls":4},{"$f":"_xlfn.TEXTJOIN(\"^\",,S103:S111)","v":"6^8^18"},null,"时间",4,6,10,15,20,25,30,{"$nulls":4},{"$f":"_xlfn.TEXTJOIN(\"^\",,AG103:AG111)","v":"4^4^4^4"}]
[null,null,8,{"$nulls":12},{"$f":"_xlfn.TEXTJOIN(\"^\",,D103:D112)","v":"2^5"},null,8,{"$nulls":11},{"$f":"_xlfn.TEXTJOIN(\"^\",,T103:T111)","v":"6^4"},null,8,{"$nulls":11},{"$f":"_xlfn.TEXTJOIN(\"^\",,AH103:AH111)","v":"6^6^6"}]
[null,null,6,{"$nulls":12},{"$f":"_xlfn.TEXTJOIN(\"^\",,E103:E112)","v":"4^5"},null,6,{"$nulls":11},{"$f":"_xlfn.TEXTJOIN(\"^\",,U103:U111)","v":"3^8^3"},null,6,{"$nulls":4},{"$f":"AK$102","v":20},25,30,{"$nulls":4},{"$f":"_xlfn.TEXTJOIN(\"^\",,AI103:AI111)","v":"10^10"}]
[null,null,4,{"$nulls":12},{"$f":"_xlfn.TEXTJOIN(\"^\",,F103:F112)","v":"2^2^6"},null,4,{"$nulls":11},{"$f":"_xlfn.TEXTJOIN(\"^\",,V103:V111)","v":"6^3^2"},null,4,{"$f":"AG$102","v":4},{"$f":"AH$102","v":6},null,{"$f":"AJ$102","v":15},20,25,30,{"$nulls":4},{"$f":"_xlfn.TEXTJOIN(\"^\",,AJ103:AJ111)","v":"15^15^15^15^15"}]
[null,null,2,{"$nulls":12},{"$f":"_xlfn.TEXTJOIN(\"^\",,G103:G112)","v":"2^3^6"},null,2,{"$nulls":11},{"$f":"_xlfn.TEXTJOIN(\"^\",,W103:W111)","v":"7"},null,2,4,null,{"$f":"AI$102","v":10},15,20,25,{"$nulls":5},{"$f":"_xlfn.TEXTJOIN(\"^\",,AK103:AK111)","v":"20^20^20^20^20^20^20"}]
[null,null,1,2,4,2,2,7,7,4,4,8,3,null,null,{"$f":"_xlfn.TEXTJOIN(\"^\",,H103:H112)","v":"7^3^3"},null,1,6,6,3,6,7,7,3,{"$nulls":4},{"$f":"_xlfn.TEXTJOIN(\"^\",,X103:X111)","v":"7^4"},null,1,null,{"$f":"AH$102","v":6},null,15,20,null,{"$f":"AM$102","v":30},{"$nulls":4},{"$f":"_xlfn.TEXTJOIN(\"^\",,AL103:AL111)","v":"25^25^25^25^25^25"}]
[null,null,3,5,5,2,3,3,null,6,8,1,8,null,null,{"$f":"_xlfn.TEXTJOIN(\"^\",,I103:I112)","v":"7"},null,3,8,4,8,3,null,4,4,{"$nulls":4},{"$f":"_xlfn.TEXTJOIN(\"^\",,Y103:Y111)","v":"3^4^2"},null,3,{"$f":"AG$102","v":4},null,{"$f":"AI$102","v":10},{"$f":"AJ$102","v":15},20,25,{"$nulls":5},{"$f":"_xlfn.TEXTJOIN(\"^\",,AM103:AM111)","v":"30^30^30^30^30"}]
[null,null,5,null,null,6,6,3,null,3,null,null,3,null,null,{"$f":"_xlfn.TEXTJOIN(\"^\",,J103:J112)","v":"4^6^3"},null,5,18,null,3,2,null,null,2,{"$nulls":4},{"$f":"_xlfn.TEXTJOIN(\"^\",,Z103:Z111)","v":""},null,5,4,{"$f":"AH$102","v":6},null,15,20,25,30,{"$nulls":4},{"$f":"_xlfn.TEXTJOIN(\"^\",,AN103:AN111)","v":""}]
[null,null,7,{"$nulls":12},{"$f":"_xlfn.TEXTJOIN(\"^\",,K103:K112)","v":"4^8"},null,7,{"$nulls":11},{"$f":"_xlfn.TEXTJOIN(\"^\",,AA103:AA111)","v":""},null,7,{"$nulls":4},20,25,30,{"$nulls":4},{"$f":"_xlfn.TEXTJOIN(\"^\",,AO103:AO111)","v":""}]
[null,null,9,{"$nulls":12},{"$f":"_xlfn.TEXTJOIN(\"^\",,L103:L112)","v":"8^1"},null,9,{"$nulls":11},{"$f":"_xlfn.TEXTJOIN(\"^\",,AB103:AB111)","v":""},null,9,{"$nulls":11},{"$f":"_xlfn.TEXTJOIN(\"^\",,AP103:AP111)","v":""}]
[{"$nulls":15},{"$f":"_xlfn.TEXTJOIN(\"^\",,M103:M112)","v":"3^8^3"},{"$nulls":13},{"$f":"_xlfn.TEXTJOIN(\"^\",,AC103:AC111)","v":""},{"$nulls":13},{"$f":"_xlfn.TEXTJOIN(\"^\",,AQ103:AQ111)","v":""}]
[{"$nulls":15},{"$f":"_xlfn.TEXTJOIN(\"^\",,N103:N112)","v":""},{"$nulls":12},"最终",{"$f":"_xlfn.TEXTJOIN(\"|\",,AD102:AD112)","v":"6^8^18|6^4|3^8^3|6^3^2|7|7^4|3^4^2"},{"$nulls":12},"最终",{"$f":"_xlfn.TEXTJOIN(\"^\",,AR102:AR112)","v":"4^4^4^4^6^6^6^10^10^15^15^15^15^15^20^20^20^20^20^20^20^25^25^25^25^25^25^30^30^30^30^30"}]
[{"$nulls":14},"最终",{"$f":"_xlfn.TEXTJOIN(\"|\",,P103:P113)","v":"2^5|4^5|2^2^6|2^3^6|7^3^3|7|4^6^3|4^8|8^1|3^8^3"}]
[{"$nulls":15},{"$f":"SUM(D104:N111)","v":105},{"$nulls":13},{"$f":"SUM(S104:AB109)","v":94},{"$nulls":13},{"$f":"COUNT(AG104:AM111)","v":32}]
[{"$nulls":43},{"$f":"AR115+AD115+P115","v":231}]
[]
[{"$nulls":4},{"$f":"E119-D119","v":5},{"$f":"F119-E119","v":6},7,7,5,8,9,8,5,{"$nulls":6},{"$f":"T119-S119","v":4},6,7,5,7,8,{"$nulls":8},{"$f":"AH119-AG119","v":2},5,5,10,15,15]
[1,"火山-3","波1·怪物",5,10,16,23,30,35,43,52,60,65,null,null,null,1,"波2·怪物",3,7,13,20,25,32,40,{"$nulls":5},3,"波3·怪物",3,5,10,15,25,40,55]
[null,"5m",8,null,null,60232,{"$nulls":5},60234,null,null,null,{"$f":"_xlfn.TEXTJOIN(\"^\",,D120:D129)","v":"60232^60231^60231^60231^60232"},null,8,{"$nulls":11},{"$f":"_xlfn.TEXTJOIN(\"^\",,S120:S129)","v":"60232^60231^60231^60231^60231^60232^60232"},null,8,{"$nulls":11},{"$f":"_xlfn.TEXTJOIN(\"^\",,AG120:AG129)","v":"60231^60232"}]
[null,null,6,null,null,null,60234,null,null,60234,60232,60232,null,null,null,{"$f":"_xlfn.TEXTJOIN(\"^\",,E120:E129)","v":"60234^60232^60232^60234"},null,6,60232,null,60234,60231,null,60231,60232,{"$nulls":4},{"$f":"_xlfn.TEXTJOIN(\"^\",,T120:T129)","v":"60233^60232^60234^60232^60233"},null,6,{"$nulls":11},{"$f":"_xlfn.TEXTJOIN(\"^\",,AH120:AH129)","v":"60234^60232^60233"}]
[null,null,4,60232,60234,null,60232,60232,60235,60232,60231,null,60235,null,null,{"$f":"_xlfn.TEXTJOIN(\"^\",,F120:F129)","v":"60232^60233^60234^60233^60232"},null,4,60231,60233,60231,60231,60235,60234,60231,{"$nulls":4},{"$f":"_xlfn.TEXTJOIN(\"^\",,U120:U129)","v":"60234^60231^60233^60236^60233^60231^60234"},null,4,{"$nulls":11},{"$f":"_xlfn.TEXTJOIN(\"^\",,AI120:AI129)","v":"60235"}]
[null,null,2,60231,60232,60233,60231,60231,60235,60233,60231,60233,60235,null,null,{"$f":"_xlfn.TEXTJOIN(\"^\",,G120:G129)","v":"60234^60232^60231^60231^60231^60232^60234"},null,2,60231,60232,60233,60232,60235,60231,60233,{"$nulls":4},{"$f":"_xlfn.TEXTJOIN(\"^\",,V120:V129)","v":"60231^60231^60232^60232^60231^60231"},null,2,{"$nulls":11},{"$f":"_xlfn.TEXTJOIN(\"^\",,AJ120:AJ129)","v":"60232^60233^60231"}]
[null,null,1,60231,null,60234,60231,60231,60235,null,60232,60236,60235,null,null,{"$f":"_xlfn.TEXTJOIN(\"^\",,H120:H129)","v":"60232^60231^60231^60231^60232"},null,1,60231,60234,60236,null,60235,60231,60233,{"$nulls":4},{"$f":"_xlfn.TEXTJOIN(\"^\",,W120:W129)","v":"60235^60235^60235^60235^60235"},null,1,60231,60234,60235,60232,60231,60233,60232,{"$nulls":4},{"$f":"_xlfn.TEXTJOIN(\"^\",,AK120:AK129)","v":"60231^60232^60234"}]
[null,null,3,60231,60232,60233,60231,60231,60235,60233,60231,60233,60235,null,null,{"$f":"_xlfn.TEXTJOIN(\"^\",,I120:I129)","v":"60235^60235^60235^60235^60235"},null,3,60231,60232,60233,60232,60235,60231,60233,{"$nulls":4},{"$f":"_xlfn.TEXTJOIN(\"^\",,X120:X129)","v":"60231^60234^60231^60231^60231^60234^60231"},null,3,60232,60232,null,60233,60232,60231,60234,{"$nulls":4},{"$f":"_xlfn.TEXTJOIN(\"^\",,AL120:AL129)","v":"60233^60231^60232"}]
[null,null,5,60232,60234,null,60232,60232,60235,60232,60231,null,60235,null,null,{"$f":"_xlfn.TEXTJOIN(\"^\",,J120:J129)","v":"60234^60232^60233^60233^60232^60234"},null,5,60232,60233,60231,60231,60235,60234,60231,{"$nulls":4},{"$f":"_xlfn.TEXTJOIN(\"^\",,Y120:Y129)","v":"60232^60231^60233^60233^60233^60231^60232"},null,5,null,60233,null,60231,60234,60232,{"$nulls":5},{"$f":"_xlfn.TEXTJOIN(\"^\",,AM120:AM129)","v":"60232^60234"}]
[null,null,7,null,null,null,60234,null,null,60234,60232,60232,null,null,null,{"$f":"_xlfn.TEXTJOIN(\"^\",,K120:K129)","v":"60232^60231^60231^60232^60231^60231^60232"},null,7,60232,null,60234,60231,null,60231,60232,{"$nulls":4},{"$f":"_xlfn.TEXTJOIN(\"^\",,Z120:Z129)","v":""},null,7,{"$nulls":11},{"$f":"_xlfn.TEXTJOIN(\"^\",,AN120:AN129)","v":""}]
[null,null,9,null,null,60232,{"$nulls":5},60234,null,null,null,{"$f":"_xlfn.TEXTJOIN(\"^\",,L120:L129)","v":"60234^60232^60233^60236^60233^60232^60234"},null,9,{"$nulls":11},{"$f":"_xlfn.TEXTJOIN(\"^\",,AA120:AA129)","v":""},null,9,{"$nulls":11},{"$f":"_xlfn.TEXTJOIN(\"^\",,AO120:AO129)","v":""}]
[{"$nulls":15},{"$f":"_xlfn.TEXTJOIN(\"^\",,M120:M129)","v":"60235^60235^60235^60235^60235"},{"$nulls":13},{"$f":"_xlfn.TEXTJOIN(\"^\",,AB120:AB129)","v":""},{"$nulls":13},{"$f":"_xlfn.TEXTJOIN(\"^\",,AP120:AP129)","v":""}]
[{"$nulls":15},{"$f":"_xlfn.TEXTJOIN(\"^\",,N120:N129)","v":""},{"$nulls":13},{"$f":"_xlfn.TEXTJOIN(\"^\",,AC120:AC129)","v":""},{"$nulls":13},{"$f":"_xlfn.TEXTJOIN(\"^\",,AQ120:AQ129)","v":""}]
[{"$nulls":14},"最终",{"$f":"_xlfn.TEXTJOIN(\"^\",,P120:P130)","v":"60232^60231^60231^60231^60232^60234^60232^60232^60234^60232^60233^60234^60233^60232^60234^60232^60231^60231^60231^60232^60234^60232^60231^60231^60231^60232^60235^60235^60235^60235^60235^60234^60232^60233^60233^60232^60234^60232^60231^60231^60232^60231^60231^60232^60234^60232^60233^60236^60233^60232^60234^60235^60235^60235^60235^60235"},{"$nulls":12},"最终",{"$f":"_xlfn.TEXTJOIN(\"^\",,AD120:AD130)","v":"60232^60231^60231^60231^60231^60232^60232^60233^60232^60234^60232^60233^60234^60231^60233^60236^60233^60231^60234^60231^60231^60232^60232^60231^60231^60235^60235^60235^60235^60235^60231^60234^60231^60231^60231^60234^60231^60232^60231^60233^60233^60233^60231^60232"},{"$nulls":12},"最终",{"$f":"_xlfn.TEXTJOIN(\"|\",,AR120:AR130)","v":"60231^60232|60234^60232^60233|60235|60232^60233^60231|60231^60232^60234|60233^60231^60232|60232^60234"}]
[null,null,8,null,null,"岩浆人",{"$nulls":5},"火精灵",{"$nulls":5},8,{"$nulls":13},8]
[null,null,6,null,null,null,"火精灵",null,null,"火精灵","岩浆人","岩浆人",{"$nulls":5},6,"岩浆人",null,"火精灵","岩浆蝎",null,"岩浆蝎","岩浆人",{"$nulls":6},6]
[null,null,4,"岩浆人","火精灵",null,"岩浆人","岩浆人","火山蜘蛛","岩浆人","岩浆蝎",null,"火山蜘蛛",{"$nulls":4},4,"岩浆蝎","岩浆战士","岩浆蝎","岩浆蝎","火山蜘蛛","火精灵","岩浆蝎",{"$nulls":6},4]
[null,null,2,"岩浆蝎","岩浆人","岩浆战士","岩浆蝎","岩浆蝎","火山蜘蛛","岩浆战士","岩浆蝎","岩浆战士","火山蜘蛛",{"$nulls":4},2,"岩浆蝎","岩浆人","岩浆战士","岩浆人","火山蜘蛛","岩浆蝎","岩浆战士",{"$nulls":6},2]
[null,null,1,"岩浆蝎",null,"火精灵","岩浆蝎","岩浆蝎","火山蜘蛛",null,"岩浆人","蘑菇王","火山蜘蛛",{"$nulls":4},1,"岩浆蝎","火精灵","蘑菇王",null,"火山蜘蛛","岩浆蝎","岩浆战士",{"$nulls":6},1,"岩浆蝎","火精灵","火山蜘蛛","岩浆人","岩浆蝎","岩浆战士","岩浆人"]
[null,null,3,"岩浆蝎","岩浆人","岩浆战士","岩浆蝎","岩浆蝎","火山蜘蛛","岩浆战士","岩浆蝎","岩浆战士","火山蜘蛛",{"$nulls":4},3,"岩浆蝎","岩浆人","岩浆战士","岩浆人","火山蜘蛛","岩浆蝎","岩浆战士",{"$nulls":6},3,"岩浆人","岩浆人",null,"岩浆战士","岩浆人","岩浆蝎","火精灵"]
[null,null,5,"岩浆人","火精灵",null,"岩浆人","岩浆人","火山蜘蛛","岩浆人","岩浆蝎",null,"火山蜘蛛",{"$nulls":4},5,"岩浆人","岩浆战士","岩浆蝎","岩浆蝎","火山蜘蛛","火精灵","岩浆蝎",{"$nulls":6},5,null,"岩浆战士",null,"岩浆蝎","火精灵","岩浆人"]
[null,null,7,null,null,null,"火精灵",null,null,"火精灵","岩浆人","岩浆人",{"$nulls":5},7,"岩浆人",null,"火精灵","岩浆蝎",null,"岩浆蝎","岩浆人",{"$nulls":6},7]
[null,null,9,null,null,"岩浆人",{"$nulls":5},"火精灵",{"$nulls":5},9,{"$nulls":13},9]
[]
[null,null,"位置",5,10,16,23,30,35,43,52,60,65,{"$nulls":4},"位置",3,7,13,20,25,32,40,{"$nulls":6},"位置",3,5,10,15,25,40,55,{"$nulls":4},{"$f":"_xlfn.TEXTJOIN(\"^\",,AG143:AG157)","v":"0^0"}]
[null,null,8,null,null,{"$f":"$AF143","v":8},{"$nulls":5},{"$f":"$AF143","v":8},null,null,null,{"$f":"_xlfn.TEXTJOIN(\"^\",,D143:D157)","v":"4^2^1^3^5"},null,8,{"$nulls":13},8,{"$nulls":11},{"$f":"_xlfn.TEXTJOIN(\"^\",,AH143:AH157)","v":"0^0^0"}]
[null,null,6,null,null,null,{"$f":"$AF144","v":6},null,null,{"$f":"$AF144","v":6},6,6,null,null,null,{"$f":"_xlfn.TEXTJOIN(\"^\",,E143:E157)","v":"4^2^3^5"},null,6,{"$f":"$AF144","v":6},null,{"$f":"$AF144","v":6},{"$f":"$AF144","v":6},null,{"$f":"$AF144","v":6},6,{"$nulls":4},{"$f":"_xlfn.TEXTJOIN(\"^\",,S143:S157)","v":"6^4^2^1^3^5^7"},null,6,{"$nulls":11},{"$f":"_xlfn.TEXTJOIN(\"^\",,AI143:AI157)","v":"100"}]
[null,null,4,{"$f":"$AF145","v":4},{"$f":"$AF145","v":4},null,4,{"$f":"$AF145","v":4},null,4,4,{"$nulls":4},{"$f":"_xlfn.TEXTJOIN(\"^\",,F143:F157)","v":"8^2^1^3^9"},null,4,4,4,4,{"$f":"$AF145","v":4},null,4,4,{"$nulls":4},{"$f":"_xlfn.TEXTJOIN(\"^\",,T143:T157)","v":"4^2^1^3^5"},null,4,{"$nulls":11},{"$f":"_xlfn.TEXTJOIN(\"^\",,AJ143:AJ157)","v":"0^0^0"}]
[null,null,2,2,{"$f":"$AF146","v":2},{"$f":"$AF146","v":2},2,2,null,2,2,{"$f":"$AF146","v":2},null,null,null,{"$f":"_xlfn.TEXTJOIN(\"^\",,G143:G157)","v":"6^4^2^1^3^5^7"},null,2,2,2,2,2,null,2,2,{"$nulls":4},{"$f":"_xlfn.TEXTJOIN(\"^\",,U143:U157)","v":"6^4^2^1^3^5^7"},null,2,{"$nulls":11},{"$f":"_xlfn.TEXTJOIN(\"^\",,AK143:AK157)","v":"0^0^0"}]
[null,null,1,1,null,1,1,1,null,null,1,{"$f":"$AF147","v":1},null,null,null,{"$f":"_xlfn.TEXTJOIN(\"^\",,H143:H157)","v":"4^2^1^3^5"},null,1,1,1,1,null,null,1,1,{"$nulls":4},{"$f":"_xlfn.TEXTJOIN(\"^\",,V143:V157)","v":"6^4^2^3^5^7"},null,1,0,0,100,0,0,0,0,{"$nulls":4},{"$f":"_xlfn.TEXTJOIN(\"^\",,AL143:AL157)","v":"0^0^0"}]
[null,null,3,{"$f":"$AF148","v":3},{"$f":"$AF148","v":3},3,3,3,null,3,3,{"$f":"$AF148","v":3},null,null,null,{"$f":"_xlfn.TEXTJOIN(\"^\",,I143:I157)","v":"101^102^103^104^105"},null,3,3,3,3,{"$f":"$AF148","v":3},null,3,3,{"$nulls":4},{"$f":"_xlfn.TEXTJOIN(\"^\",,W143:W157)","v":"101^102^103^104^105"},null,3,0,0,null,0,0,0,0,{"$nulls":4},{"$f":"_xlfn.TEXTJOIN(\"^\",,AM143:AM157)","v":"0^0"}]
[null,null,5,5,{"$f":"$AF149","v":5},null,5,5,null,{"$f":"$AF149","v":5},5,{"$nulls":4},{"$f":"_xlfn.TEXTJOIN(\"^\",,J143:J157)","v":"6^4^2^3^5^7"},null,5,5,5,5,{"$f":"$AF149","v":5},null,5,5,{"$nulls":4},{"$f":"_xlfn.TEXTJOIN(\"^\",,X143:X157)","v":"6^4^2^1^3^5^7"},null,5,null,0,null,0,0,0,{"$nulls":5},{"$f":"_xlfn.TEXTJOIN(\"^\",,AN143:AN157)","v":""}]
[null,null,7,null,null,null,7,null,null,7,7,7,null,null,null,{"$f":"_xlfn.TEXTJOIN(\"^\",,K143:K157)","v":"6^4^2^1^3^5^7"},null,7,7,null,7,{"$f":"$AF150","v":7},null,7,7,{"$nulls":4},{"$f":"_xlfn.TEXTJOIN(\"^\",,Y143:Y157)","v":"6^4^2^1^3^5^7"},null,7,{"$nulls":11},{"$f":"_xlfn.TEXTJOIN(\"^\",,AO143:AO157)","v":""}]
[null,null,9,null,null,{"$f":"$AF151","v":9},{"$nulls":5},9,null,null,null,{"$f":"_xlfn.TEXTJOIN(\"^\",,L143:L157)","v":"8^6^2^1^3^7^9"},null,9,{"$nulls":13},9,{"$nulls":11},{"$f":"_xlfn.TEXTJOIN(\"^\",,AP143:AP157)","v":""}]
[null,null,"空降",{"$nulls":12},{"$f":"_xlfn.TEXTJOIN(\"^\",,M143:M157)","v":"101^102^103^104^105"},null,"空降",{"$nulls":13},"空降",{"$nulls":11},{"$f":"_xlfn.TEXTJOIN(\"^\",,AQ143:AQ151)","v":""}]
[null,null,101,{"$nulls":5},{"$f":"$AF153","v":101},null,null,null,{"$f":"$AF153","v":101},null,null,{"$f":"_xlfn.TEXTJOIN(\"^\",,N143:N157)","v":""},null,101,{"$nulls":4},{"$f":"$AF153","v":101},{"$nulls":6},{"$f":"_xlfn.TEXTJOIN(\"^\",,Z143:Z157)","v":""},null,101]
[null,null,102,{"$nulls":5},{"$f":"$AF154","v":102},null,null,null,{"$f":"$AF154","v":102},{"$nulls":4},102,{"$nulls":4},{"$f":"$AF154","v":102},{"$nulls":6},{"$f":"_xlfn.TEXTJOIN(\"^\",,AA143:AA157)","v":""},null,102]
[null,null,103,{"$nulls":5},103,null,null,null,{"$f":"$AF155","v":103},{"$nulls":4},103,{"$nulls":4},{"$f":"$AF155","v":103},{"$nulls":6},{"$f":"_xlfn.TEXTJOIN(\"^\",,AB143:AB157)","v":""},null,103]
[null,null,104,{"$nulls":5},104,null,null,null,104,{"$nulls":4},104,{"$nulls":4},{"$f":"$AF156","v":104},{"$nulls":8},104]
[null,null,105,{"$nulls":5},{"$f":"$AF157","v":105},null,null,null,{"$f":"$AF157","v":105},{"$nulls":4},105,{"$nulls":4},{"$f":"$AF157","v":105},{"$nulls":8},105]
[{"$nulls":14},"最终",{"$f":"_xlfn.TEXTJOIN(\"^\",,P143:P157)","v":"4^2^1^3^5^4^2^3^5^8^2^1^3^9^6^4^2^1^3^5^7^4^2^1^3^5^101^102^103^104^105^6^4^2^3^5^7^6^4^2^1^3^5^7^8^6^2^1^3^7^9^101^102^103^104^105"},{"$nulls":12},"最终",{"$f":"_xlfn.TEXTJOIN(\"^\",,AD143:AD157)","v":"6^4^2^1^3^5^7^4^2^1^3^5^6^4^2^1^3^5^7^6^4^2^3^5^7^101^102^103^104^105^6^4^2^1^3^5^7^6^4^2^1^3^5^7"},{"$nulls":12},"最终",{"$f":"_xlfn.TEXTJOIN(\"|\",,AR142:AR157)","v":"0^0|0^0^0|100|0^0^0|0^0^0|0^0^0|0^0"}]
[]
[null,null,"时间",5,10,16,23,30,35,43,52,60,65,{"$nulls":4},"时间",3,7,13,20,25,32,40,{"$nulls":4},{"$f":"_xlfn.TEXTJOIN(\"^\",,S161:S169)","v":"3^3^3^3^3^3^3"},null,"时间",3,5,10,15,25,40,55,{"$nulls":4},{"$f":"_xlfn.TEXTJOIN(\"^\",,AG161:AG169)","v":"25^8"}]
[null,null,8,null,null,{"$f":"F$160","v":16},{"$nulls":5},{"$f":"L$160","v":60},null,null,null,{"$f":"_xlfn.TEXTJOIN(\"^\",,D161:D170)","v":"5^5^5^5^5"},null,8,{"$nulls":11},{"$f":"_xlfn.TEXTJOIN(\"^\",,T161:T169)","v":"7^7^7^7^7"},null,8,{"$nulls":11},{"$f":"_xlfn.TEXTJOIN(\"^\",,AH161:AH169)","v":"2^4^4"}]
[null,null,6,null,null,null,{"$f":"G$160","v":23},null,null,{"$f":"J$160","v":43},52,60,null,null,null,{"$f":"_xlfn.TEXTJOIN(\"^\",,E161:E170)","v":"10^10^10^10"},null,6,{"$f":"S$160","v":3},null,{"$f":"U$160","v":13},{"$f":"V$160","v":20},null,{"$f":"X$160","v":32},40,{"$nulls":4},{"$f":"_xlfn.TEXTJOIN(\"^\",,U161:U169)","v":"13^13^13^13^13^13^13"},null,6,{"$nulls":11},{"$f":"_xlfn.TEXTJOIN(\"^\",,AI161:AI169)","v":"8"}]
[null,null,4,{"$f":"D$160","v":5},{"$f":"E$160","v":10},null,23,{"$f":"H$160","v":30},{"$f":"I$160","v":35},43,52,null,{"$f":"M$160","v":65},null,null,{"$f":"_xlfn.TEXTJOIN(\"^\",,F161:F170)","v":"16^16^16^16^16"},null,4,3,7,13,20,{"$f":"W$160","v":25},32,40,{"$nulls":4},{"$f":"_xlfn.TEXTJOIN(\"^\",,V161:V169)","v":"20^20^20^20^20^20"},null,4,{"$nulls":11},{"$f":"_xlfn.TEXTJOIN(\"^\",,AJ161:AJ169)","v":"3^3^7"}]
[null,null,2,{"$f":"D$160","v":5},{"$f":"E$160","v":10},{"$f":"F$160","v":16},23,30,35,43,52,{"$f":"L$160","v":60},{"$f":"M$160","v":65},null,null,{"$f":"_xlfn.TEXTJOIN(\"^\",,G161:G170)","v":"23^23^23^23^23^23^23"},null,2,3,7,13,20,25,32,40,{"$nulls":4},{"$f":"_xlfn.TEXTJOIN(\"^\",,W161:W169)","v":"25^25^25^25^25"},null,2,{"$nulls":11},{"$f":"_xlfn.TEXTJOIN(\"^\",,AK161:AK169)","v":"6^4^2"}]
[null,null,1,{"$f":"D$160","v":5},null,16,23,30,{"$f":"I$160","v":35},null,52,{"$f":"L$160","v":60},65,null,null,{"$f":"_xlfn.TEXTJOIN(\"^\",,H161:H170)","v":"30^30^30^30^30"},null,1,3,7,13,null,25,32,40,{"$nulls":4},{"$f":"_xlfn.TEXTJOIN(\"^\",,X161:X169)","v":"32^32^32^32^32^32^32"},null,1,25,2,8,3,6,3,6,{"$nulls":4},{"$f":"_xlfn.TEXTJOIN(\"^\",,AL161:AL169)","v":"3^8^3"}]
[null,null,3,{"$f":"D$160","v":5},10,16,23,30,{"$f":"I$160","v":35},{"$f":"J$160","v":43},52,{"$f":"L$160","v":60},65,null,null,{"$f":"_xlfn.TEXTJOIN(\"^\",,I161:I170)","v":"35^35^35^35^35"},null,3,3,7,13,20,25,32,40,{"$nulls":4},{"$f":"_xlfn.TEXTJOIN(\"^\",,Y161:Y169)","v":"40^40^40^40^40^40^40"},null,3,8,4,null,3,4,8,4,{"$nulls":4},{"$f":"_xlfn.TEXTJOIN(\"^\",,AM161:AM169)","v":"6^4"}]
[null,null,5,5,{"$f":"E$160","v":10},null,23,30,{"$f":"I$160","v":35},43,52,null,{"$f":"M$160","v":65},null,null,{"$f":"_xlfn.TEXTJOIN(\"^\",,J161:J170)","v":"43^43^43^43^43^43"},null,5,3,7,13,20,{"$f":"W$160","v":25},32,40,{"$nulls":4},{"$f":"_xlfn.TEXTJOIN(\"^\",,Z161:Z169)","v":""},null,5,null,4,null,7,2,3,{"$nulls":5},{"$f":"_xlfn.TEXTJOIN(\"^\",,AN161:AN169)","v":""}]
[null,null,7,null,null,null,23,null,null,43,52,60,null,null,null,{"$f":"_xlfn.TEXTJOIN(\"^\",,K161:K170)","v":"52^52^52^52^52^52^52"},null,7,3,null,13,20,null,32,40,{"$nulls":4},{"$f":"_xlfn.TEXTJOIN(\"^\",,AA161:AA169)","v":""},null,7,{"$nulls":11},{"$f":"_xlfn.TEXTJOIN(\"^\",,AO161:AO169)","v":""}]
[null,null,9,null,null,{"$f":"F$160","v":16},{"$nulls":5},60,null,null,null,{"$f":"_xlfn.TEXTJOIN(\"^\",,L161:L170)","v":"60^60^60^60^60^60^60"},null,9,{"$nulls":11},{"$f":"_xlfn.TEXTJOIN(\"^\",,AB161:AB169)","v":""},null,9,{"$nulls":11},{"$f":"_xlfn.TEXTJOIN(\"^\",,AP161:AP169)","v":""}]
[{"$nulls":15},{"$f":"_xlfn.TEXTJOIN(\"^\",,M161:M170)","v":"65^65^65^65^65"},{"$nulls":13},{"$f":"_xlfn.TEXTJOIN(\"^\",,AC161:AC169)","v":""},{"$nulls":13},{"$f":"_xlfn.TEXTJOIN(\"^\",,AQ161:AQ169)","v":""}]
[{"$nulls":15},{"$f":"_xlfn.TEXTJOIN(\"^\",,N161:N170)","v":""},{"$nulls":12},"最终",{"$f":"_xlfn.TEXTJOIN(\"^\",,AD160:AD170)","v":"3^3^3^3^3^3^3^7^7^7^7^7^13^13^13^13^13^13^13^20^20^20^20^20^20^25^25^25^25^25^32^32^32^32^32^32^32^40^40^40^40^40^40^40"},{"$nulls":12},"最终",{"$f":"_xlfn.TEXTJOIN(\"|\",,AR160:AR170)","v":"25^8|2^4^4|8|3^3^7|6^4^2|3^8^3|6^4"}]
[{"$nulls":14},"最终",{"$f":"_xlfn.TEXTJOIN(\"^\",,P161:P171)","v":"5^5^5^5^5^10^10^10^10^16^16^16^16^16^23^23^23^23^23^23^23^30^30^30^30^30^35^35^35^35^35^43^43^43^43^43^43^52^52^52^52^52^52^52^60^60^60^60^60^60^60^65^65^65^65^65"}]
[{"$nulls":15},{"$f":"COUNT(D161:M169)","v":56},{"$nulls":12},{"$f":"COUNT(S161:Z169)","v":44},{"$nulls":14},{"$f":"SUM(AG161:AM168)","v":100}]
[{"$nulls":43},{"$f":"AR173+AC173+P173","v":200}]
[]
[{"$nulls":4},{"$f":"E177-D177","v":9},{"$f":"F177-E177","v":15},16,17,7,13,17,5,15,{"$nulls":6},{"$f":"T177-S177","v":7},15,15,5,15,15,{"$nulls":8},{"$f":"AH177-AG177","v":2},5,5,6,7,7]
[3,"火山-4","波1·怪物",6,15,30,46,63,70,83,100,105,120,null,null,null,2,"波2·怪物",3,10,25,40,45,60,75,{"$nulls":5},1,"波3·怪物",3,5,10,15,21,28,35]
[null,"5m",8,{"$nulls":12},{"$f":"_xlfn.TEXTJOIN(\"^\",,D178:D187)","v":"60242^60244"},null,8,{"$nulls":11},{"$f":"_xlfn.TEXTJOIN(\"^\",,S178:S187)","v":"60241^60244^60241^60246^60241^60244^60241"},null,8,{"$nulls":5},60244,{"$nulls":5},{"$f":"_xlfn.TEXTJOIN(\"^\",,AG178:AG187)","v":"60244^60242^60242^60242^60244"}]
[null,null,6,{"$nulls":12},{"$f":"_xlfn.TEXTJOIN(\"^\",,E178:E187)","v":"60241^60242"},null,6,60241,null,60244,60242,null,60242,60242,{"$nulls":4},{"$f":"_xlfn.TEXTJOIN(\"^\",,T178:T187)","v":"60242^60243^60242^60243^60242^60242"},null,6,null,60241,null,null,60241,60242,60243,{"$nulls":4},{"$f":"_xlfn.TEXTJOIN(\"^\",,AH178:AH187)","v":"60241^60242^60241^60242^60241"}]
[null,null,4,{"$nulls":12},{"$f":"_xlfn.TEXTJOIN(\"^\",,F178:F187)","v":"60244^60242^60243"},null,4,60244,60242,60242,60242,60245,60241,60241,{"$nulls":4},{"$f":"_xlfn.TEXTJOIN(\"^\",,U178:U187)","v":"60244^60242^60243^60243^60243^60242^60244"},null,4,60244,null,60245,60242,60241,null,60242,{"$nulls":4},{"$f":"_xlfn.TEXTJOIN(\"^\",,AI178:AI187)","v":"60245^60245^60245^60245^60245"}]
[null,null,2,{"$nulls":12},{"$f":"_xlfn.TEXTJOIN(\"^\",,G178:G187)","v":"60241^60242^60244"},null,2,60241,60243,60243,60241,60245,60241,60243,{"$nulls":4},{"$f":"_xlfn.TEXTJOIN(\"^\",,V178:V187)","v":"60242^60242^60241^60244^60241^60242^60242"},null,2,60242,60242,60245,60243,60243,60241,60242,{"$nulls":4},{"$f":"_xlfn.TEXTJOIN(\"^\",,AJ178:AJ187)","v":"60242^60243^60246^60243^60242"}]
[null,null,1,60242,60241,60244,60241,60242,60245,60241,60244,60245,60242,null,null,{"$f":"_xlfn.TEXTJOIN(\"^\",,H178:H187)","v":"60242^60243^60241"},null,1,60246,60242,60243,60244,60245,60244,60243,{"$nulls":4},{"$f":"_xlfn.TEXTJOIN(\"^\",,W178:W187)","v":"60245^60245^60245^60245^60245"},null,1,60242,60241,60245,60246,60242,60241,60244,{"$nulls":4},{"$f":"_xlfn.TEXTJOIN(\"^\",,AK178:AK187)","v":"60241^60241^60243^60242^60243^60241^60241"}]
[null,null,3,60244,60242,60242,60242,60243,null,60242,60243,60246,60243,null,null,{"$f":"_xlfn.TEXTJOIN(\"^\",,I178:I187)","v":"60245"},null,3,60241,60243,60243,60241,60245,60241,60243,{"$nulls":4},{"$f":"_xlfn.TEXTJOIN(\"^\",,X178:X187)","v":"60242^60241^60241^60244^60241^60241^60242"},null,3,60242,60242,60245,60243,60243,60241,60242,{"$nulls":4},{"$f":"_xlfn.TEXTJOIN(\"^\",,AL178:AL187)","v":"60244^60242^60241^60241^60241^60242^60244"}]
[null,null,5,null,null,60243,60244,60241,null,60244,60241,null,60241,null,null,{"$f":"_xlfn.TEXTJOIN(\"^\",,J178:J187)","v":"60241^60242^60244"},null,5,60244,60242,60242,60242,60245,60241,60241,{"$nulls":4},{"$f":"_xlfn.TEXTJOIN(\"^\",,Y178:Y187)","v":"60242^60241^60243^60243^60243^60241^60242"},null,5,60244,null,60245,60242,60241,null,60242,{"$nulls":4},{"$f":"_xlfn.TEXTJOIN(\"^\",,AM178:AM187)","v":"60243^60242^60242^60244^60242^60242^60243"}]
[null,null,7,{"$nulls":7},60242,null,60244,null,null,{"$f":"_xlfn.TEXTJOIN(\"^\",,K178:K187)","v":"60244^60243^60241^60242"},null,7,60241,null,60244,60242,null,60242,60242,{"$nulls":4},{"$f":"_xlfn.TEXTJOIN(\"^\",,Z178:Z187)","v":""},null,7,null,60241,null,null,60241,60242,60243,{"$nulls":4},{"$f":"_xlfn.TEXTJOIN(\"^\",,AN178:AN187)","v":""}]
[null,null,9,{"$nulls":12},{"$f":"_xlfn.TEXTJOIN(\"^\",,L178:L187)","v":"60245^60246"},null,9,null,60242,{"$nulls":9},{"$f":"_xlfn.TEXTJOIN(\"^\",,AA178:AA187)","v":""},null,9,{"$nulls":5},60244,{"$nulls":5},{"$f":"_xlfn.TEXTJOIN(\"^\",,AO178:AO187)","v":""}]
[{"$nulls":15},{"$f":"_xlfn.TEXTJOIN(\"^\",,M178:M187)","v":"60242^60243^60241^60244"},{"$nulls":13},{"$f":"_xlfn.TEXTJOIN(\"^\",,AB178:AB187)","v":""},{"$nulls":13},{"$f":"_xlfn.TEXTJOIN(\"^\",,AP178:AP187)","v":""}]
[{"$nulls":15},{"$f":"_xlfn.TEXTJOIN(\"^\",,N178:N187)","v":""},{"$nulls":13},{"$f":"_xlfn.TEXTJOIN(\"^\",,AC178:AC187)","v":""},{"$nulls":13},{"$f":"_xlfn.TEXTJOIN(\"^\",,AQ178:AQ187)","v":""}]
[{"$nulls":14},"最终",{"$f":"_xlfn.TEXTJOIN(\"|\",,P178:P188)","v":"60242^60244|60241^60242|60244^60242^60243|60241^60242^60244|60242^60243^60241|60245|60241^60242^60244|60244^60243^60241^60242|60245^60246|60242^60243^60241^60244"},{"$nulls":12},"最终",{"$f":"_xlfn.TEXTJOIN(\"^\",,AD178:AD188)","v":"60241^60244^60241^60246^60241^60244^60241^60242^60243^60242^60243^60242^60242^60244^60242^60243^60243^60243^60242^60244^60242^60242^60241^60244^60241^60242^60242^60245^60245^60245^60245^60245^60242^60241^60241^60244^60241^60241^60242^60242^60241^60243^60243^60243^60241^60242"},{"$nulls":12},"最终",{"$f":"_xlfn.TEXTJOIN(\"^\",,AR178:AR188)","v":"60244^60242^60242^60242^60244^60241^60242^60241^60242^60241^60245^60245^60245^60245^60245^60242^60243^60246^60243^60242^60241^60241^60243^60242^60243^60241^60241^60244^60242^60241^60241^60241^60242^60244^60243^60242^60242^60244^60242^60242^60243"}]
[null,null,8,{"$nulls":14},8,{"$nulls":13},8,{"$nulls":5},"火精灵"]
[null,null,6,{"$nulls":14},6,"岩浆蝎",null,"火精灵","岩浆人",null,"岩浆人","岩浆人",{"$nulls":6},6,null,"岩浆蝎",null,null,"岩浆蝎","岩浆人","岩浆战士"]
[null,null,4,{"$nulls":14},4,"火精灵","岩浆人","岩浆人","岩浆人","火山蜘蛛","岩浆蝎","岩浆蝎",{"$nulls":6},4,"火精灵",null,"火山蜘蛛","岩浆人","岩浆蝎",null,"岩浆人"]
[null,null,2,{"$nulls":14},2,"岩浆蝎","岩浆战士","岩浆战士","岩浆蝎","火山蜘蛛","岩浆蝎","岩浆战士",{"$nulls":6},2,"岩浆人","岩浆人","火山蜘蛛","岩浆战士","岩浆战士","岩浆蝎","岩浆人"]
[null,null,1,"岩浆人","岩浆蝎","火精灵","岩浆蝎","岩浆人","火山蜘蛛","岩浆蝎","火精灵","火山蜘蛛","岩浆人",{"$nulls":4},1,"蘑菇王","岩浆人","岩浆战士","火精灵","火山蜘蛛","火精灵","岩浆战士",{"$nulls":6},1,"岩浆人","岩浆蝎","火山蜘蛛","蘑菇王","岩浆人","岩浆蝎","火精灵"]
[null,null,3,"火精灵","岩浆人","岩浆人","岩浆人","岩浆战士",null,"岩浆人","岩浆战士","蘑菇王","岩浆战士",{"$nulls":4},3,"岩浆蝎","岩浆战士","岩浆战士","岩浆蝎","火山蜘蛛","岩浆蝎","岩浆战士",{"$nulls":6},3,"岩浆人","岩浆人","火山蜘蛛","岩浆战士","岩浆战士","岩浆蝎","岩浆人"]
[null,null,5,null,null,"岩浆战士","火精灵","岩浆蝎",null,"火精灵","岩浆蝎",null,"岩浆蝎",{"$nulls":4},5,"火精灵","岩浆人","岩浆人","岩浆人","火山蜘蛛","岩浆蝎","岩浆蝎",{"$nulls":6},5,"火精灵",null,"火山蜘蛛","岩浆人","岩浆蝎",null,"岩浆人"]
[null,null,7,{"$nulls":7},"岩浆人",null,"火精灵",{"$nulls":4},7,"岩浆蝎",null,"火精灵","岩浆人","火山蜘蛛","岩浆人","岩浆人",{"$nulls":6},7,null,"岩浆蝎",null,null,"岩浆蝎","岩浆人","岩浆战士"]
[null,null,9,{"$nulls":14},9,null,"岩浆人",{"$nulls":11},9,{"$nulls":5},"火精灵"]
[]
[null,null,"位置",6,15,30,46,63,70,83,100,105,120,{"$nulls":4},"位置",3,10,25,40,45,60,75,{"$nulls":6},"位置",3,5,10,15,21,28,35,{"$nulls":4},{"$f":"_xlfn.TEXTJOIN(\"^\",,AG201:AG215)","v":"4^2^1^3^5"}]
[null,null,8,{"$nulls":12},{"$f":"_xlfn.TEXTJOIN(\"^\",,D201:D215)","v":"0^0"},null,8,{"$nulls":13},8,{"$nulls":5},{"$f":"$AF201","v":8},{"$nulls":5},{"$f":"_xlfn.TEXTJOIN(\"^\",,AH201:AH215)","v":"6^2^1^3^7"}]
[null,null,6,{"$nulls":12},{"$f":"_xlfn.TEXTJOIN(\"^\",,E201:E215)","v":"0^0"},null,6,{"$f":"$AF202","v":6},null,{"$f":"$AF202","v":6},{"$f":"$AF202","v":6},null,{"$f":"$AF202","v":6},6,{"$nulls":4},{"$f":"_xlfn.TEXTJOIN(\"^\",,S201:S215)","v":"6^4^2^1^3^5^7"},null,6,null,{"$f":"$AF202","v":6},null,null,{"$f":"$AF202","v":6},6,6,{"$nulls":4},{"$f":"_xlfn.TEXTJOIN(\"^\",,AI201:AI215)","v":"101^102^103^104^105"}]
[null,null,4,{"$nulls":12},{"$f":"_xlfn.TEXTJOIN(\"^\",,F201:F215)","v":"0^0^0"},null,4,4,{"$f":"$AF203","v":4},4,4,null,4,4,{"$nulls":4},{"$f":"_xlfn.TEXTJOIN(\"^\",,T201:T215)","v":"4^2^1^3^5^9"},null,4,{"$f":"$AF203","v":4},null,null,{"$f":"$AF203","v":4},4,null,4,{"$nulls":4},{"$f":"_xlfn.TEXTJOIN(\"^\",,AJ201:AJ215)","v":"4^2^1^3^5"}]
[null,null,2,{"$nulls":12},{"$f":"_xlfn.TEXTJOIN(\"^\",,G201:G215)","v":"0^0^0"},null,2,2,2,2,2,null,2,2,{"$nulls":4},{"$f":"_xlfn.TEXTJOIN(\"^\",,U201:U215)","v":"6^4^2^1^3^5^7"},null,2,{"$f":"$AF204","v":2},2,null,2,2,{"$f":"$AF204","v":2},2,{"$nulls":4},{"$f":"_xlfn.TEXTJOIN(\"^\",,AK201:AK215)","v":"6^4^2^1^3^5^7"}]
[null,null,1,0,0,0,0,0,100,0,0,100,0,null,null,{"$f":"_xlfn.TEXTJOIN(\"^\",,H201:H215)","v":"0^0^0"},null,1,1,{"$f":"$AF205","v":1},1,1,null,1,1,{"$nulls":4},{"$f":"_xlfn.TEXTJOIN(\"^\",,V201:V215)","v":"6^4^2^1^3^5^7"},null,1,{"$f":"$AF205","v":1},1,null,1,1,{"$f":"$AF205","v":1},{"$f":"$AF205","v":1},{"$nulls":4},{"$f":"_xlfn.TEXTJOIN(\"^\",,AL201:AL215)","v":"8^6^2^1^3^7^9"}]
[null,null,3,0,0,0,0,0,null,0,0,0,0,null,null,{"$f":"_xlfn.TEXTJOIN(\"^\",,I201:I215)","v":"100"},null,3,3,3,{"$f":"$AF206","v":3},3,null,3,3,{"$nulls":4},{"$f":"_xlfn.TEXTJOIN(\"^\",,W201:W215)","v":"101^102^103^104^105"},null,3,{"$f":"$AF206","v":3},3,null,3,3,{"$f":"$AF206","v":3},3,{"$nulls":4},{"$f":"_xlfn.TEXTJOIN(\"^\",,AM201:AM215)","v":"6^4^2^1^3^5^7"}]
[null,null,5,null,null,0,0,0,null,0,0,null,0,null,null,{"$f":"_xlfn.TEXTJOIN(\"^\",,J201:J215)","v":"0^0^0"},null,5,5,{"$f":"$AF207","v":5},5,5,null,5,5,{"$nulls":4},{"$f":"_xlfn.TEXTJOIN(\"^\",,X201:X215)","v":"6^4^2^1^3^5^7"},null,5,{"$f":"$AF207","v":5},null,null,5,5,null,{"$f":"$AF207","v":5},{"$nulls":4},{"$f":"_xlfn.TEXTJOIN(\"^\",,AN201:AN215)","v":""}]
[null,null,7,{"$nulls":7},0,null,0,null,null,{"$f":"_xlfn.TEXTJOIN(\"^\",,K201:K215)","v":"0^0^0^0"},null,7,7,null,7,{"$f":"$AF208","v":7},null,7,7,{"$nulls":4},{"$f":"_xlfn.TEXTJOIN(\"^\",,Y201:Y215)","v":"6^4^2^1^3^5^7"},null,7,null,7,null,null,{"$f":"$AF208","v":7},{"$f":"$AF208","v":7},7,{"$nulls":4},{"$f":"_xlfn.TEXTJOIN(\"^\",,AO201:AO215)","v":""}]
[null,null,9,{"$nulls":12},{"$f":"_xlfn.TEXTJOIN(\"^\",,L201:L215)","v":"100^0"},null,9,null,{"$f":"$AF209","v":9},{"$nulls":11},9,{"$nulls":5},9,{"$nulls":5},{"$f":"_xlfn.TEXTJOIN(\"^\",,AP201:AP215)","v":""}]
[null,null,"空降",{"$nulls":12},{"$f":"_xlfn.TEXTJOIN(\"^\",,M201:M215)","v":"0^0^0^0"},null,"空降",{"$nulls":13},"空降",{"$nulls":11},{"$f":"_xlfn.TEXTJOIN(\"^\",,AQ201:AQ209)","v":""}]
[null,null,101,{"$nulls":12},{"$f":"_xlfn.TEXTJOIN(\"^\",,N201:N215)","v":""},null,101,{"$nulls":4},{"$f":"$AF211","v":101},{"$nulls":6},{"$f":"_xlfn.TEXTJOIN(\"^\",,Z201:Z215)","v":""},null,101,null,null,{"$f":"$AF211","v":101}]
[null,null,102,{"$nulls":14},102,{"$nulls":4},{"$f":"$AF212","v":102},{"$nulls":6},{"$f":"_xlfn.TEXTJOIN(\"^\",,AA201:AA215)","v":""},null,102,null,null,{"$f":"$AF212","v":102}]
[null,null,103,{"$nulls":14},103,{"$nulls":4},{"$f":"$AF213","v":103},{"$nulls":6},{"$f":"_xlfn.TEXTJOIN(\"^\",,AB201:AB215)","v":""},null,103,null,null,103]
[null,null,104,{"$nulls":14},104,{"$nulls":4},{"$f":"$AF214","v":104},{"$nulls":8},104,null,null,104]
[null,null,105,{"$nulls":14},105,{"$nulls":4},{"$f":"$AF215","v":105},{"$nulls":8},105,null,null,{"$f":"$AF215","v":105}]
[{"$nulls":14},"最终",{"$f":"_xlfn.TEXTJOIN(\"|\",,P201:P215)","v":"0^0|0^0|0^0^0|0^0^0|0^0^0|100|0^0^0|0^0^0^0|100^0|0^0^0^0"},{"$nulls":12},"最终",{"$f":"_xlfn.TEXTJOIN(\"^\",,AD201:AD215)","v":"6^4^2^1^3^5^7^4^2^1^3^5^9^6^4^2^1^3^5^7^6^4^2^1^3^5^7^101^102^103^104^105^6^4^2^1^3^5^7^6^4^2^1^3^5^7"},{"$nulls":12},"最终",{"$f":"_xlfn.TEXTJOIN(\"^\",,AR200:AR215)","v":"4^2^1^3^5^6^2^1^3^7^101^102^103^104^105^4^2^1^3^5^6^4^2^1^3^5^7^8^6^2^1^3^7^9^6^4^2^1^3^5^7"}]
[]
[null,null,"时间",6,15,30,46,63,70,83,100,105,120,{"$nulls":4},"时间",3,10,25,40,45,60,75,{"$nulls":4},{"$f":"_xlfn.TEXTJOIN(\"^\",,S219:S227)","v":"3^3^3^3^3^3^3"},null,"时间",3,5,10,15,21,28,35,{"$nulls":4},{"$f":"_xlfn.TEXTJOIN(\"^\",,AG219:AG227)","v":"3^3^3^3^3"}]
[null,null,8,{"$nulls":12},{"$f":"_xlfn.TEXTJOIN(\"^\",,D219:D228)","v":"4^2"},null,8,{"$nulls":11},{"$f":"_xlfn.TEXTJOIN(\"^\",,T219:T227)","v":"10^10^10^10^10^10"},null,8,{"$nulls":5},{"$f":"AL$218","v":28},{"$nulls":5},{"$f":"_xlfn.TEXTJOIN(\"^\",,AH219:AH227)","v":"5^5^5^5^5"}]
[null,null,6,{"$nulls":12},{"$f":"_xlfn.TEXTJOIN(\"^\",,E219:E228)","v":"6^3"},null,6,{"$f":"S$218","v":3},null,{"$f":"U$218","v":25},{"$f":"V$218","v":40},null,{"$f":"X$218","v":60},75,{"$nulls":4},{"$f":"_xlfn.TEXTJOIN(\"^\",,U219:U227)","v":"25^25^25^25^25^25^25"},null,6,null,{"$f":"AH$218","v":5},null,null,{"$f":"AK$218","v":21},28,35,{"$nulls":4},{"$f":"_xlfn.TEXTJOIN(\"^\",,AI219:AI227)","v":"10^10^10^10^10"}]
[null,null,4,{"$nulls":12},{"$f":"_xlfn.TEXTJOIN(\"^\",,F219:F228)","v":"2^4^3"},null,4,3,{"$f":"T$218","v":10},25,40,{"$f":"W$218","v":45},60,75,{"$nulls":4},{"$f":"_xlfn.TEXTJOIN(\"^\",,V219:V227)","v":"40^40^40^40^40^40^40"},null,4,3,null,{"$f":"AI$218","v":10},{"$f":"AJ$218","v":15},21,null,35,{"$nulls":4},{"$f":"_xlfn.TEXTJOIN(\"^\",,AJ219:AJ227)","v":"15^15^15^15^15"}]
[null,null,2,{"$nulls":12},{"$f":"_xlfn.TEXTJOIN(\"^\",,G219:G228)","v":"7^3^2"},null,2,3,10,25,40,45,60,75,{"$nulls":4},{"$f":"_xlfn.TEXTJOIN(\"^\",,W219:W227)","v":"45^45^45^45^45"},null,2,3,5,10,15,21,{"$f":"AL$218","v":28},35,{"$nulls":4},{"$f":"_xlfn.TEXTJOIN(\"^\",,AK219:AK227)","v":"21^21^21^21^21^21^21"}]
[null,null,1,4,6,2,7,3,7,8,2,7,2,null,null,{"$f":"_xlfn.TEXTJOIN(\"^\",,H219:H228)","v":"3^2^8"},null,1,3,{"$f":"T$218","v":10},25,40,45,60,75,{"$nulls":4},{"$f":"_xlfn.TEXTJOIN(\"^\",,X219:X227)","v":"60^60^60^60^60^60^60"},null,1,3,5,10,15,21,{"$f":"AL$218","v":28},{"$f":"AM$218","v":35},{"$nulls":4},{"$f":"_xlfn.TEXTJOIN(\"^\",,AL219:AL227)","v":"28^28^28^28^28^28^28"}]
[null,null,3,2,3,4,3,2,null,2,2,1,3,null,null,{"$f":"_xlfn.TEXTJOIN(\"^\",,I219:I228)","v":"7"},null,3,3,10,{"$f":"U$218","v":25},40,45,60,75,{"$nulls":4},{"$f":"_xlfn.TEXTJOIN(\"^\",,Y219:Y227)","v":"75^75^75^75^75^75^75"},null,3,{"$f":"AG$218","v":3},5,10,15,21,{"$f":"AL$218","v":28},35,{"$nulls":4},{"$f":"_xlfn.TEXTJOIN(\"^\",,AM219:AM227)","v":"35^35^35^35^35^35^35"}]
[null,null,5,null,null,3,2,8,null,2,7,null,6,null,null,{"$f":"_xlfn.TEXTJOIN(\"^\",,J219:J228)","v":"8^2^2"},null,5,3,{"$f":"T$218","v":10},25,40,45,60,75,{"$nulls":4},{"$f":"_xlfn.TEXTJOIN(\"^\",,Z219:Z227)","v":""},null,5,3,null,{"$f":"AI$218","v":10},{"$f":"AJ$218","v":15},21,null,{"$f":"AM$218","v":35},{"$nulls":4},{"$f":"_xlfn.TEXTJOIN(\"^\",,AN219:AN227)","v":""}]
[null,null,7,{"$nulls":7},2,null,2,null,null,{"$f":"_xlfn.TEXTJOIN(\"^\",,K219:K228)","v":"2^2^7^2"},null,7,3,null,25,{"$f":"V$218","v":40},null,60,75,{"$nulls":4},{"$f":"_xlfn.TEXTJOIN(\"^\",,AA219:AA227)","v":""},null,7,null,5,null,null,21,28,35,{"$nulls":4},{"$f":"_xlfn.TEXTJOIN(\"^\",,AO219:AO227)","v":""}]
[null,null,9,{"$nulls":12},{"$f":"_xlfn.TEXTJOIN(\"^\",,L219:L228)","v":"7^1"},null,9,null,{"$f":"T$218","v":10},{"$nulls":9},{"$f":"_xlfn.TEXTJOIN(\"^\",,AB219:AB227)","v":""},null,9,{"$nulls":5},28,{"$nulls":5},{"$f":"_xlfn.TEXTJOIN(\"^\",,AP219:AP227)","v":""}]
[{"$nulls":15},{"$f":"_xlfn.TEXTJOIN(\"^\",,M219:M228)","v":"2^3^6^2"},{"$nulls":13},{"$f":"_xlfn.TEXTJOIN(\"^\",,AC219:AC227)","v":""},{"$nulls":13},{"$f":"_xlfn.TEXTJOIN(\"^\",,AQ219:AQ227)","v":""}]
[{"$nulls":15},{"$f":"_xlfn.TEXTJOIN(\"^\",,N219:N228)","v":""},{"$nulls":12},"最终",{"$f":"_xlfn.TEXTJOIN(\"^\",,AD218:AD228)","v":"3^3^3^3^3^3^3^10^10^10^10^10^10^25^25^25^25^25^25^25^40^40^40^40^40^40^40^45^45^45^45^45^60^60^60^60^60^60^60^75^75^75^75^75^75^75"},{"$nulls":12},"最终",{"$f":"_xlfn.TEXTJOIN(\"^\",,AR218:AR228)","v":"3^3^3^3^3^5^5^5^5^5^10^10^10^10^10^15^15^15^15^15^21^21^21^21^21^21^21^28^28^28^28^28^28^28^35^35^35^35^35^35^35"}]
[{"$nulls":14},"最终",{"$f":"_xlfn.TEXTJOIN(\"|\",,P219:P229)","v":"4^2|6^3|2^4^3|7^3^2|3^2^8|7|8^2^2|2^2^7^2|7^1|2^3^6^2"}]
[{"$nulls":15},{"$f":"SUM(D220:M226)","v":102},{"$nulls":12},{"$f":"COUNT(S219:Y227)","v":46},{"$nulls":14},{"$f":"COUNT(AG219:AN227)","v":41}]
[{"$nulls":43},{"$f":"AR231+AC231+P231","v":189}]
[]
[{"$nulls":4},{"$f":"E235-D235","v":5},{"$f":"F235-E235","v":6},7,7,7,8,10,5,10,{"$nulls":6},{"$f":"T235-S235","v":6},5,15,5,16,17,17,{"$nulls":7},{"$f":"AH235-AG235","v":3},4,5,6,5,7,8]
[1,"火山-5","波1·怪物",5,10,16,23,30,37,45,55,60,70,null,null,null,3,"波2·怪物",4,10,15,30,35,51,68,85,{"$nulls":4},1,"波3·怪物",2,5,9,14,20,25,32,40]
[null,"5m",8,null,null,null,60254,null,60252,null,60254,{"$nulls":4},{"$f":"_xlfn.TEXTJOIN(\"^\",,D236:D245)","v":"60252^60251^60251^60252"},null,8,{"$nulls":11},{"$f":"_xlfn.TEXTJOIN(\"^\",,S236:S245)","v":"60252^60254^60251"},null,8,{"$nulls":4},60254,null,60252,{"$nulls":4},{"$f":"_xlfn.TEXTJOIN(\"^\",,AG236:AG245)","v":"60254^60251^60251^60251^60254"}]
[null,null,6,60252,null,60252,60252,null,null,null,60252,null,60254,null,null,{"$f":"_xlfn.TEXTJOIN(\"^\",,E236:E245)","v":"60252^60254^60252^60254^60252"},null,6,{"$nulls":11},{"$f":"_xlfn.TEXTJOIN(\"^\",,T236:T245)","v":"60251^60253"},null,6,null,null,null,60252,60252,null,null,60254,null,null,null,{"$f":"_xlfn.TEXTJOIN(\"^\",,AH236:AH245)","v":"60252^60252^60252^60252"}]
[null,null,4,null,60252,60253,null,60255,60251,60255,60251,60255,60252,null,null,{"$f":"_xlfn.TEXTJOIN(\"^\",,F236:F245)","v":"60252^60253^60254^60254^60253^60252"},null,4,{"$nulls":11},{"$f":"_xlfn.TEXTJOIN(\"^\",,U236:U245)","v":"60255^60256"},null,4,60254,60252,60255,60251,null,60255,60251,60252,null,null,null,{"$f":"_xlfn.TEXTJOIN(\"^\",,AI236:AI245)","v":"60255^60255^60255^60255^60255"}]
[null,null,2,60251,60254,60254,60251,60255,60253,60255,60253,60255,60253,null,null,{"$f":"_xlfn.TEXTJOIN(\"^\",,G236:G245)","v":"60254^60252^60251^60251^60251^60252^60254"},null,2,{"$nulls":11},{"$f":"_xlfn.TEXTJOIN(\"^\",,V236:V245)","v":"60253^60252^60254"},null,2,60251,60252,60255,60253,60251,60255,60253,60252,null,null,null,{"$f":"_xlfn.TEXTJOIN(\"^\",,AJ236:AJ245)","v":"60252^60251^60253^60256^60253^60251^60252"}]
[null,null,1,null,60252,null,60251,60255,60254,60255,null,60255,60256,null,null,{"$f":"_xlfn.TEXTJOIN(\"^\",,H236:H245)","v":"60255^60255^60255^60255^60255"},null,1,60252,60251,60255,60253,60255,60254,60253,60251,null,null,null,{"$f":"_xlfn.TEXTJOIN(\"^\",,W236:W245)","v":"60255"},null,1,60251,null,60255,60256,60251,60255,60253,{"$nulls":4},{"$f":"_xlfn.TEXTJOIN(\"^\",,AK236:AK245)","v":"60254^60252^60251^60251^60251^60252^60254"}]
[null,null,3,60251,60254,60254,60251,60255,60253,60255,60253,60255,60253,null,null,{"$f":"_xlfn.TEXTJOIN(\"^\",,I236:I245)","v":"60252^60251^60253^60254^60253^60251^60252"},null,3,60254,60253,60256,60252,null,60251,60251,60252,null,null,null,{"$f":"_xlfn.TEXTJOIN(\"^\",,X236:X245)","v":"60254^60251^60252"},null,3,60251,60252,60255,60253,60251,60255,60253,60252,null,null,null,{"$f":"_xlfn.TEXTJOIN(\"^\",,AL236:AL245)","v":"60255^60255^60255^60255^60255"}]
[null,null,5,null,60252,60253,null,60255,60251,60255,60251,60255,60252,null,null,{"$f":"_xlfn.TEXTJOIN(\"^\",,J236:J245)","v":"60255^60255^60255^60255^60255"},null,5,60251,null,null,60254,null,60252,60252,60254,null,null,null,{"$f":"_xlfn.TEXTJOIN(\"^\",,Y236:Y245)","v":"60253^60251^60252"},null,5,60254,60252,60255,60251,null,60255,60251,60252,null,null,null,{"$f":"_xlfn.TEXTJOIN(\"^\",,AM236:AM245)","v":"60252^60251^60253^60253^60253^60251^60252"}]
[null,null,7,60252,null,60252,60252,null,null,null,60252,null,60254,null,null,{"$f":"_xlfn.TEXTJOIN(\"^\",,K236:K245)","v":"60254^60252^60251^60253^60253^60251^60252^60254"},null,7,{"$nulls":7},60256,null,null,null,{"$f":"_xlfn.TEXTJOIN(\"^\",,Z236:Z245)","v":"60251^60252^60254^60256"},null,7,null,null,null,60252,60252,null,null,60254,null,null,null,{"$f":"_xlfn.TEXTJOIN(\"^\",,AN236:AN245)","v":"60254^60252^60252^60252^60252^60254"}]
[null,null,9,null,null,null,60254,null,60252,null,60254,{"$nulls":4},{"$f":"_xlfn.TEXTJOIN(\"^\",,L236:L245)","v":"60255^60255^60255^60255^60255"},null,9,{"$nulls":11},{"$f":"_xlfn.TEXTJOIN(\"^\",,AA236:AA245)","v":""},null,9,{"$nulls":4},60254,null,60252,{"$nulls":4},{"$f":"_xlfn.TEXTJOIN(\"^\",,AO236:AO245)","v":""}]
[{"$nulls":15},{"$f":"_xlfn.TEXTJOIN(\"^\",,M236:M245)","v":"60254^60252^60253^60256^60253^60252^60254"},{"$nulls":13},{"$f":"_xlfn.TEXTJOIN(\"^\",,AB236:AB245)","v":""},{"$nulls":13},{"$f":"_xlfn.TEXTJOIN(\"^\",,AP236:AP245)","v":""}]
[{"$nulls":15},{"$f":"_xlfn.TEXTJOIN(\"^\",,N236:N245)","v":""},{"$nulls":13},{"$f":"_xlfn.TEXTJOIN(\"^\",,AC236:AC245)","v":""},{"$nulls":13},{"$f":"_xlfn.TEXTJOIN(\"^\",,AQ236:AQ245)","v":""}]
[{"$nulls":14},"最终",{"$f":"_xlfn.TEXTJOIN(\"^\",,P236:P246)","v":"60252^60251^60251^60252^60252^60254^60252^60254^60252^60252^60253^60254^60254^60253^60252^60254^60252^60251^60251^60251^60252^60254^60255^60255^60255^60255^60255^60252^60251^60253^60254^60253^60251^60252^60255^60255^60255^60255^60255^60254^60252^60251^60253^60253^60251^60252^60254^60255^60255^60255^60255^60255^60254^60252^60253^60256^60253^60252^60254"},{"$nulls":12},"最终",{"$f":"_xlfn.TEXTJOIN(\"|\",,AD236:AD246)","v":"60252^60254^60251|60251^60253|60255^60256|60253^60252^60254|60255|60254^60251^60252|60253^60251^60252|60251^60252^60254^60256"},{"$nulls":12},"最终",{"$f":"_xlfn.TEXTJOIN(\"^\",,AR236:AR246)","v":"60254^60251^60251^60251^60254^60252^60252^60252^60252^60255^60255^60255^60255^60255^60252^60251^60253^60256^60253^60251^60252^60254^60252^60251^60251^60251^60252^60254^60255^60255^60255^60255^60255^60252^60251^60253^60253^60253^60251^60252^60254^60252^60252^60252^60252^60254"}]
[null,null,8,null,null,null,"火精灵",null,"岩浆人",null,"火精灵",{"$nulls":6},8,{"$nulls":13},8,{"$nulls":4},"火精灵",null,"岩浆人"]
[null,null,6,"岩浆人",null,"岩浆人","岩浆人",null,null,null,"岩浆人",null,"火精灵",{"$nulls":4},6,{"$nulls":13},6,null,null,null,"岩浆人","岩浆人",null,null,"火精灵"]
[null,null,4,null,"岩浆人","岩浆战士",null,"火山蜘蛛","岩浆蝎","火山蜘蛛","岩浆蝎","火山蜘蛛","岩浆人",{"$nulls":4},4,{"$nulls":13},4,"火精灵","岩浆人","火山蜘蛛","岩浆蝎",null,"火山蜘蛛","岩浆蝎","岩浆人"]
[null,null,2,"岩浆蝎","火精灵","火精灵","岩浆蝎","火山蜘蛛","岩浆战士","火山蜘蛛","岩浆战士","火山蜘蛛","岩浆战士",{"$nulls":4},2,{"$nulls":13},2,"岩浆蝎","岩浆人","火山蜘蛛","岩浆战士","岩浆蝎","火山蜘蛛","岩浆战士","岩浆人"]
[null,null,1,null,"岩浆人",null,"岩浆蝎","火山蜘蛛","火精灵","火山蜘蛛",null,"火山蜘蛛","蘑菇王",{"$nulls":4},1,"岩浆人","岩浆蝎","火山蜘蛛","岩浆战士","火山蜘蛛","火精灵","岩浆战士","岩浆蝎",{"$nulls":5},1,"岩浆蝎",null,"火山蜘蛛","蘑菇王","岩浆蝎","火山蜘蛛","岩浆战士"]
[null,null,3,"岩浆蝎","火精灵","火精灵","岩浆蝎","火山蜘蛛","岩浆战士","火山蜘蛛","岩浆战士","火山蜘蛛","岩浆战士",{"$nulls":4},3,"火精灵","岩浆战士","蘑菇王","岩浆人",null,"岩浆蝎","岩浆蝎","岩浆人",{"$nulls":5},3,"岩浆蝎","岩浆人","火山蜘蛛","岩浆战士","岩浆蝎","火山蜘蛛","岩浆战士","岩浆人"]
[null,null,5,null,"岩浆人","岩浆战士",null,"火山蜘蛛","岩浆蝎","火山蜘蛛","岩浆蝎","火山蜘蛛","岩浆人",{"$nulls":4},5,"岩浆蝎",null,null,"火精灵",null,"岩浆人","岩浆人","火精灵",{"$nulls":5},5,"火精灵","岩浆人","火山蜘蛛","岩浆蝎",null,"火山蜘蛛","岩浆蝎","岩浆人"]
[null,null,7,"岩浆人",null,"岩浆人","岩浆人",null,null,null,"岩浆人",null,"火精灵",{"$nulls":4},7,{"$nulls":7},"蘑菇王",{"$nulls":5},7,null,null,null,"岩浆人","岩浆人",null,null,"火精灵"]
[null,null,9,null,null,null,"火精灵",null,"岩浆人",null,"火精灵",{"$nulls":6},9,{"$nulls":13},9,{"$nulls":4},"火精灵",null,"岩浆人"]
[]
[null,null,"位置",5,10,16,23,30,37,45,55,60,70,{"$nulls":4},"位置",4,10,15,30,35,51,68,85,{"$nulls":5},"位置",2,5,9,14,20,25,32,40,null,null,null,{"$f":"_xlfn.TEXTJOIN(\"^\",,AG259:AG273)","v":"4^2^1^3^5"}]
[null,null,8,null,null,null,{"$f":"$C259","v":8},null,{"$f":"$C259","v":8},null,{"$f":"$C259","v":8},{"$nulls":4},{"$f":"_xlfn.TEXTJOIN(\"^\",,D259:D273)","v":"6^2^3^7"},null,8,{"$nulls":13},8,{"$nulls":4},{"$f":"$C259","v":8},null,{"$f":"$C259","v":8},{"$nulls":4},{"$f":"_xlfn.TEXTJOIN(\"^\",,AH259:AH273)","v":"4^2^3^5"}]
[null,null,6,{"$f":"$C260","v":6},null,{"$f":"$C260","v":6},6,null,null,null,6,null,{"$f":"$C260","v":6},null,null,{"$f":"_xlfn.TEXTJOIN(\"^\",,E259:E273)","v":"4^2^1^3^5"},null,6,{"$nulls":11},{"$f":"_xlfn.TEXTJOIN(\"^\",,S259:S273)","v":"0^0^0"},null,6,null,null,null,{"$f":"$C260","v":6},6,null,null,{"$f":"$C260","v":6},null,null,null,{"$f":"_xlfn.TEXTJOIN(\"^\",,AI259:AI273)","v":"101^102^103^104^105"}]
[null,null,4,null,{"$f":"$C261","v":4},4,null,null,{"$f":"$C261","v":4},null,4,null,4,null,null,{"$f":"_xlfn.TEXTJOIN(\"^\",,F259:F273)","v":"6^4^2^3^5^7"},null,4,{"$nulls":11},{"$f":"_xlfn.TEXTJOIN(\"^\",,T259:T273)","v":"0^0"},null,4,{"$f":"$C261","v":4},4,null,4,null,null,{"$f":"$C261","v":4},4,null,null,null,{"$f":"_xlfn.TEXTJOIN(\"^\",,AJ259:AJ273)","v":"6^4^2^1^3^5^7"}]
[null,null,2,{"$f":"$C262","v":2},2,{"$f":"$C262","v":2},{"$f":"$C262","v":2},null,2,null,2,null,2,null,null,{"$f":"_xlfn.TEXTJOIN(\"^\",,G259:G273)","v":"8^6^2^1^3^7^9"},null,2,{"$nulls":11},{"$f":"_xlfn.TEXTJOIN(\"^\",,U259:U273)","v":"100^0"},null,2,2,2,null,2,2,null,2,2,null,null,null,{"$f":"_xlfn.TEXTJOIN(\"^\",,AK259:AK273)","v":"8^6^2^1^3^7^9"}]
[null,null,1,null,1,null,1,null,1,null,null,null,1,null,null,{"$f":"_xlfn.TEXTJOIN(\"^\",,H259:H273)","v":"101^102^103^104^105"},null,1,0,0,100,0,100,0,0,0,null,null,null,{"$f":"_xlfn.TEXTJOIN(\"^\",,V259:V273)","v":"0^0^0"},null,1,1,null,null,1,1,null,1,{"$nulls":4},{"$f":"_xlfn.TEXTJOIN(\"^\",,AL259:AL273)","v":"101^102^103^104^105"}]
[null,null,3,{"$f":"$C264","v":3},3,{"$f":"$C264","v":3},3,null,3,null,{"$f":"$C264","v":3},null,3,null,null,{"$f":"_xlfn.TEXTJOIN(\"^\",,I259:I273)","v":"8^4^2^1^3^5^9"},null,3,0,0,0,0,null,0,0,0,null,null,null,{"$f":"_xlfn.TEXTJOIN(\"^\",,W259:W273)","v":"100"},null,3,{"$f":"$C264","v":3},3,null,{"$f":"$C264","v":3},3,null,{"$f":"$C264","v":3},3,null,null,null,{"$f":"_xlfn.TEXTJOIN(\"^\",,AM259:AM273)","v":"8^4^2^1^3^5^9"}]
[null,null,5,null,5,5,null,null,5,null,5,null,5,null,null,{"$f":"_xlfn.TEXTJOIN(\"^\",,J259:J273)","v":"101^102^103^104^105"},null,5,0,null,null,0,null,0,0,0,null,null,null,{"$f":"_xlfn.TEXTJOIN(\"^\",,X259:X273)","v":"0^0^0"},null,5,5,5,null,5,null,null,5,5,null,null,null,{"$f":"_xlfn.TEXTJOIN(\"^\",,AN259:AN273)","v":"6^4^2^3^5^7"}]
[null,null,7,{"$f":"$C266","v":7},null,7,7,null,null,null,7,null,7,null,null,{"$f":"_xlfn.TEXTJOIN(\"^\",,K259:K273)","v":"8^6^4^2^3^5^7^9"},null,7,{"$nulls":7},0,null,null,null,{"$f":"_xlfn.TEXTJOIN(\"^\",,Y259:Y273)","v":"0^0^0"},null,7,null,null,null,7,7,null,null,7,null,null,null,{"$f":"_xlfn.TEXTJOIN(\"^\",,AO259:AO273)","v":""}]
[null,null,9,null,null,null,9,null,{"$f":"$C267","v":9},null,9,{"$nulls":4},{"$f":"_xlfn.TEXTJOIN(\"^\",,L259:L273)","v":"101^102^103^104^105"},null,9,{"$nulls":13},9,{"$nulls":4},9,null,{"$f":"$C267","v":9},{"$nulls":4},{"$f":"_xlfn.TEXTJOIN(\"^\",,AP259:AP273)","v":""}]
[null,null,"空降",{"$nulls":12},{"$f":"_xlfn.TEXTJOIN(\"^\",,M259:M273)","v":"6^4^2^1^3^5^7"},null,"空降",{"$nulls":13},"空降",{"$nulls":11},{"$f":"_xlfn.TEXTJOIN(\"^\",,AQ259:AQ267)","v":""}]
[null,null,101,{"$nulls":4},{"$f":"$C269","v":101},null,{"$f":"$C269","v":101},null,{"$f":"$C269","v":101},null,null,null,{"$f":"_xlfn.TEXTJOIN(\"^\",,N259:N273)","v":""},null,101,{"$nulls":11},{"$f":"_xlfn.TEXTJOIN(\"^\",,Z259:Z273)","v":"0^0^0^0"},null,101,null,null,{"$f":"$C269","v":101},null,null,{"$f":"$C269","v":101}]
[null,null,102,{"$nulls":4},102,null,{"$f":"$C270","v":102},null,102,{"$nulls":5},102,{"$nulls":11},{"$f":"_xlfn.TEXTJOIN(\"^\",,AA259:AA273)","v":""},null,102,null,null,{"$f":"$C270","v":102},null,null,102]
[null,null,103,{"$nulls":4},103,null,{"$f":"$C271","v":103},null,103,{"$nulls":5},103,{"$nulls":11},{"$f":"_xlfn.TEXTJOIN(\"^\",,AB259:AB273)","v":""},null,103,null,null,103,null,null,103]
[null,null,104,{"$nulls":4},104,null,{"$f":"$C272","v":104},null,104,{"$nulls":5},104,{"$nulls":13},104,null,null,104,null,null,{"$f":"$C272","v":104}]
[null,null,105,{"$nulls":4},105,null,{"$f":"$C273","v":105},null,105,{"$nulls":5},105,{"$nulls":13},105,null,null,105,null,null,105]
[{"$nulls":14},"最终",{"$f":"_xlfn.TEXTJOIN(\"^\",,P259:P273)","v":"6^2^3^7^4^2^1^3^5^6^4^2^3^5^7^8^6^2^1^3^7^9^101^102^103^104^105^8^4^2^1^3^5^9^101^102^103^104^105^8^6^4^2^3^5^7^9^101^102^103^104^105^6^4^2^1^3^5^7"},{"$nulls":12},"最终",{"$f":"_xlfn.TEXTJOIN(\"|\",,AD259:AD273)","v":"0^0^0|0^0|100^0|0^0^0|100|0^0^0|0^0^0|0^0^0^0"},{"$nulls":12},"最终",{"$f":"_xlfn.TEXTJOIN(\"^\",,AR258:AR273)","v":"4^2^1^3^5^4^2^3^5^101^102^103^104^105^6^4^2^1^3^5^7^8^6^2^1^3^7^9^101^102^103^104^105^8^4^2^1^3^5^9^6^4^2^3^5^7"}]
[]
[null,null,"时间",5,10,16,23,30,37,45,55,60,70,{"$nulls":4},"时间",4,10,15,30,35,51,68,85,null,null,null,{"$f":"_xlfn.TEXTJOIN(\"^\",,S277:S285)","v":"6^4^20"},null,"时间",2,5,9,14,20,25,32,40,null,null,null,{"$f":"_xlfn.TEXTJOIN(\"^\",,AG277:AG285)","v":"2^2^2^2^2"}]
[null,null,8,null,null,null,{"$f":"G$276","v":23},null,{"$f":"I$276","v":37},null,{"$f":"K$276","v":55},{"$nulls":4},{"$f":"_xlfn.TEXTJOIN(\"^\",,D277:D286)","v":"5^5^5^5"},null,8,{"$nulls":11},{"$f":"_xlfn.TEXTJOIN(\"^\",,T277:T285)","v":"8^3"},null,8,{"$nulls":4},{"$f":"AK$276","v":20},null,{"$f":"AM$276","v":32},{"$nulls":4},{"$f":"_xlfn.TEXTJOIN(\"^\",,AH277:AH285)","v":"5^5^5^5"}]
[null,null,6,{"$f":"D$276","v":5},null,{"$f":"F$276","v":16},23,null,null,null,55,null,{"$f":"M$276","v":70},null,null,{"$f":"_xlfn.TEXTJOIN(\"^\",,E277:E286)","v":"10^10^10^10^10"},null,6,{"$nulls":11},{"$f":"_xlfn.TEXTJOIN(\"^\",,U277:U285)","v":"7^1"},null,6,null,null,null,{"$f":"AJ$276","v":14},20,null,null,{"$f":"AN$276","v":40},null,null,null,{"$f":"_xlfn.TEXTJOIN(\"^\",,AI277:AI285)","v":"9^9^9^9^9"}]
[null,null,4,null,{"$f":"E$276","v":10},16,null,{"$f":"H$276","v":30},37,{"$f":"J$276","v":45},55,60,70,null,null,{"$f":"_xlfn.TEXTJOIN(\"^\",,F277:F286)","v":"16^16^16^16^16^16"},null,4,{"$nulls":11},{"$f":"_xlfn.TEXTJOIN(\"^\",,V277:V285)","v":"4^4^2"},null,4,{"$f":"AG$276","v":2},5,{"$f":"AI$276","v":9},14,null,{"$f":"AL$276","v":25},32,40,null,null,null,{"$f":"_xlfn.TEXTJOIN(\"^\",,AJ277:AJ285)","v":"14^14^14^14^14^14^14"}]
[null,null,2,{"$f":"D$276","v":5},10,{"$f":"F$276","v":16},{"$f":"G$276","v":23},30,37,{"$f":"J$276","v":45},{"$f":"K$276","v":55},60,70,null,null,{"$f":"_xlfn.TEXTJOIN(\"^\",,G277:G286)","v":"23^23^23^23^23^23^23"},null,2,{"$nulls":11},{"$f":"_xlfn.TEXTJOIN(\"^\",,W277:W285)","v":"8"},null,2,2,5,9,14,20,25,32,40,null,null,null,{"$f":"_xlfn.TEXTJOIN(\"^\",,AK277:AK285)","v":"20^20^20^20^20^20^20"}]
[null,null,1,null,10,null,23,30,37,{"$f":"J$276","v":45},null,60,70,null,null,{"$f":"_xlfn.TEXTJOIN(\"^\",,H277:H286)","v":"30^30^30^30^30"},null,1,6,8,7,4,8,2,4,9,null,null,null,{"$f":"_xlfn.TEXTJOIN(\"^\",,X277:X285)","v":"2^9^3"},null,1,2,null,9,14,20,25,32,{"$nulls":4},{"$f":"_xlfn.TEXTJOIN(\"^\",,AL277:AL285)","v":"25^25^25^25^25"}]
[null,null,3,{"$f":"D$276","v":5},10,{"$f":"F$276","v":16},23,30,37,{"$f":"J$276","v":45},{"$f":"K$276","v":55},{"$f":"L$276","v":60},70,null,null,{"$f":"_xlfn.TEXTJOIN(\"^\",,I277:I286)","v":"37^37^37^37^37^37^37"},null,3,4,3,1,4,null,9,8,4,null,null,null,{"$f":"_xlfn.TEXTJOIN(\"^\",,Y277:Y285)","v":"4^8^3"},null,3,{"$f":"AG$276","v":2},5,9,{"$f":"AJ$276","v":14},20,25,32,40,null,null,null,{"$f":"_xlfn.TEXTJOIN(\"^\",,AM277:AM285)","v":"32^32^32^32^32^32^32"}]
[null,null,5,null,10,16,null,30,37,{"$f":"J$276","v":45},55,60,70,null,null,{"$f":"_xlfn.TEXTJOIN(\"^\",,J277:J286)","v":"45^45^45^45^45"},null,5,20,null,null,2,null,3,3,2,null,null,null,{"$f":"_xlfn.TEXTJOIN(\"^\",,Z277:Z285)","v":"9^4^2^1"},null,5,2,5,{"$f":"AI$276","v":9},14,null,25,32,40,null,null,null,{"$f":"_xlfn.TEXTJOIN(\"^\",,AN277:AN285)","v":"40^40^40^40^40^40"}]
[null,null,7,{"$f":"D$276","v":5},null,16,23,null,null,null,55,null,70,null,null,{"$f":"_xlfn.TEXTJOIN(\"^\",,K277:K286)","v":"55^55^55^55^55^55^55^55"},null,7,{"$nulls":7},1,null,null,null,{"$f":"_xlfn.TEXTJOIN(\"^\",,AA277:AA285)","v":""},null,7,null,null,null,14,20,null,null,40,null,null,null,{"$f":"_xlfn.TEXTJOIN(\"^\",,AO277:AO285)","v":""}]
[null,null,9,null,null,null,23,null,{"$f":"I$276","v":37},null,55,{"$nulls":4},{"$f":"_xlfn.TEXTJOIN(\"^\",,L277:L286)","v":"60^60^60^60^60"},null,9,{"$nulls":11},{"$f":"_xlfn.TEXTJOIN(\"^\",,AB277:AB285)","v":""},null,9,{"$nulls":4},20,null,{"$f":"AM$276","v":32},{"$nulls":4},{"$f":"_xlfn.TEXTJOIN(\"^\",,AP277:AP285)","v":""}]
[{"$nulls":15},{"$f":"_xlfn.TEXTJOIN(\"^\",,M277:M286)","v":"70^70^70^70^70^70^70"},{"$nulls":13},{"$f":"_xlfn.TEXTJOIN(\"^\",,AC277:AC285)","v":""},{"$nulls":13},{"$f":"_xlfn.TEXTJOIN(\"^\",,AQ277:AQ285)","v":""}]
[{"$nulls":15},{"$f":"_xlfn.TEXTJOIN(\"^\",,N277:N286)","v":""},{"$nulls":12},"最终",{"$f":"_xlfn.TEXTJOIN(\"|\",,AD276:AD286)","v":"6^4^20|8^3|7^1|4^4^2|8|2^9^3|4^8^3|9^4^2^1"},{"$nulls":12},"最终",{"$f":"_xlfn.TEXTJOIN(\"^\",,AR276:AR286)","v":"2^2^2^2^2^5^5^5^5^9^9^9^9^9^14^14^14^14^14^14^14^20^20^20^20^20^20^20^25^25^25^25^25^32^32^32^32^32^32^32^40^40^40^40^40^40"}]
[{"$nulls":14},"最终",{"$f":"_xlfn.TEXTJOIN(\"^\",,P277:P287)","v":"5^5^5^5^10^10^10^10^10^16^16^16^16^16^16^23^23^23^23^23^23^23^30^30^30^30^30^37^37^37^37^37^37^37^45^45^45^45^45^55^55^55^55^55^55^55^55^60^60^60^60^60^70^70^70^70^70^70^70"}]
[{"$nulls":15},{"$f":"COUNT(D277:M285)","v":59},{"$nulls":12},{"$f":"SUM(S277:Z285)","v":112},{"$nulls":14},{"$f":"COUNT(AG277:AN285)","v":46}]
[{"$nulls":43},{"$f":"AR289+AC289+P289","v":217}]

{"sheet":"6","index":6,"n_rows":290,"n_cols":58,"rows_kept":290,"cut":false,"hidden":false,"merged":[]}
[]
[{"$nulls":4},{"$f":"E3-D3","v":9},{"$f":"F3-E3","v":15},16,4,15,16,17,2,15,{"$nulls":6},{"$f":"T3-S3","v":5},5,15,16,16,3,15,{"$nulls":7},{"$f":"AH3-AG3","v":2},3,5,7,10,5,10]
[3,"炎地-1","波1·怪物",6,15,30,46,50,65,81,98,100,115,null,null,null,3,"波2·怪物",5,10,15,30,46,62,65,80,{"$nulls":4},1,"波3·怪物",3,5,8,13,20,30,35,45]
[null,"5m",8,{"$nulls":12},{"$f":"_xlfn.TEXTJOIN(\"^\",,D4:D13)","v":"60261^60264"},null,8,{"$nulls":11},{"$f":"_xlfn.TEXTJOIN(\"^\",,S4:S13)","v":"60261^60264^60266"},null,8,{"$nulls":4},60264,{"$nulls":6},{"$f":"_xlfn.TEXTJOIN(\"^\",,AG4:AG13)","v":"60263^60263"}]
[null,null,6,{"$nulls":12},{"$f":"_xlfn.TEXTJOIN(\"^\",,E4:E13)","v":"60261^60262"},null,6,{"$nulls":11},{"$f":"_xlfn.TEXTJOIN(\"^\",,T4:T13)","v":"60262^60261"},null,6,null,null,null,60262,60262,60262,null,60264,null,null,null,{"$f":"_xlfn.TEXTJOIN(\"^\",,AH4:AH13)","v":"60264^60264"}]
[null,null,4,{"$nulls":12},{"$f":"_xlfn.TEXTJOIN(\"^\",,F4:F13)","v":"60264^60263^60262"},null,4,{"$nulls":11},{"$f":"_xlfn.TEXTJOIN(\"^\",,U4:U13)","v":"60265"},null,4,null,60264,60261,60262,60261,null,60265,60262,null,null,null,{"$f":"_xlfn.TEXTJOIN(\"^\",,AI4:AI13)","v":"60261^60261^60261^60261"}]
[null,null,2,{"$nulls":12},{"$f":"_xlfn.TEXTJOIN(\"^\",,G4:G13)","v":"60262^60261^60264"},null,2,{"$nulls":11},{"$f":"_xlfn.TEXTJOIN(\"^\",,V4:V13)","v":"60263^60262^60264"},null,2,60263,null,60261,null,null,60261,60265,60263,null,null,null,{"$f":"_xlfn.TEXTJOIN(\"^\",,AJ4:AJ13)","v":"60262^60262^60262^60262"}]
[null,null,1,60261,60261,60264,60262,60265,60264,60262,60264,60265,60263,null,null,{"$f":"_xlfn.TEXTJOIN(\"^\",,H4:H13)","v":"60265"},null,1,60261,60262,60265,60263,60264,60263,60265,60262,null,null,null,{"$f":"_xlfn.TEXTJOIN(\"^\",,W4:W13)","v":"60264^60261^60262"},null,1,{"$nulls":4},60263,60263,{"$nulls":5},{"$f":"_xlfn.TEXTJOIN(\"^\",,AK4:AK13)","v":"60264^60262^60261^60263^60261^60262^60264"}]
[null,null,3,60264,60262,60263,60261,null,60263,60261,60263,null,60262,null,null,{"$f":"_xlfn.TEXTJOIN(\"^\",,I4:I13)","v":"60264^60263^60262"},null,3,60264,60261,null,60262,60261,60261,null,60261,null,null,null,{"$f":"_xlfn.TEXTJOIN(\"^\",,X4:X13)","v":"60263^60261^60262"},null,3,60263,null,60261,null,null,60263,60265,60263,null,null,null,{"$f":"_xlfn.TEXTJOIN(\"^\",,AL4:AL13)","v":"60262^60261^60263^60263^60261^60262"}]
[null,null,5,null,null,60262,60264,null,60262,60264,60262,null,60264,null,null,{"$f":"_xlfn.TEXTJOIN(\"^\",,J4:J13)","v":"60262^60261^60264"},null,5,60266,null,null,60264,60262,60262,null,60264,null,null,null,{"$f":"_xlfn.TEXTJOIN(\"^\",,Y4:Y13)","v":"60265"},null,5,null,60264,60261,60262,60261,60261,60265,60262,null,null,null,{"$f":"_xlfn.TEXTJOIN(\"^\",,AM4:AM13)","v":"60265^60265^60265^60265"}]
[null,null,7,{"$nulls":12},{"$f":"_xlfn.TEXTJOIN(\"^\",,K4:K13)","v":"60264^60263^60262"},null,7,{"$nulls":11},{"$f":"_xlfn.TEXTJOIN(\"^\",,Z4:Z13)","v":"60262^60261^60264"},null,7,null,null,null,60262,60262,null,null,60264,null,null,null,{"$f":"_xlfn.TEXTJOIN(\"^\",,AN4:AN13)","v":"60264^60262^60263^60263^60262^60264"}]
[null,null,9,{"$nulls":12},{"$f":"_xlfn.TEXTJOIN(\"^\",,L4:L13)","v":"60265"},null,9,{"$nulls":11},{"$f":"_xlfn.TEXTJOIN(\"^\",,AA4:AA13)","v":""},null,9,{"$nulls":4},60264,60262,{"$nulls":5},{"$f":"_xlfn.TEXTJOIN(\"^\",,AO4:AO13)","v":""}]
[{"$nulls":15},{"$f":"_xlfn.TEXTJOIN(\"^\",,M4:M13)","v":"60263^60262^60264"},{"$nulls":13},{"$f":"_xlfn.TEXTJOIN(\"^\",,AB4:AB13)","v":""},{"$nulls":13},{"$f":"_xlfn.TEXTJOIN(\"^\",,AP4:AP13)","v":""}]
[{"$nulls":15},{"$f":"_xlfn.TEXTJOIN(\"^\",,N4:N13)","v":""},{"$nulls":13},{"$f":"_xlfn.TEXTJOIN(\"^\",,AC4:AC13)","v":""},{"$nulls":13},{"$f":"_xlfn.TEXTJOIN(\"^\",,AQ4:AQ13)","v":""}]
[{"$nulls":14},"最终",{"$f":"_xlfn.TEXTJOIN(\"|\",,P4:P14)","v":"60261^60264|60261^60262|60264^60263^60262|60262^60261^60264|60265|60264^60263^60262|60262^60261^60264|60264^60263^60262|60265|60263^60262^60264"},{"$nulls":12},"最终",{"$f":"_xlfn.TEXTJOIN(\"|\",,AD4:AD14)","v":"60261^60264^60266|60262^60261|60265|60263^60262^60264|60264^60261^60262|60263^60261^60262|60265|60262^60261^60264"},{"$nulls":12},"最终",{"$f":"_xlfn.TEXTJOIN(\"^\",,AR4:AR14)","v":"60263^60263^60264^60264^60261^60261^60261^60261^60262^60262^60262^60262^60264^60262^60261^60263^60261^60262^60264^60262^60261^60263^60263^60261^60262^60265^60265^60265^60265^60264^60262^60263^60263^60262^60264"}]
[null,null,8,{"$nulls":14},8,{"$nulls":13},8,{"$nulls":4},"火精灵"]
[null,null,6,{"$nulls":14},6,{"$nulls":13},6,null,null,null,"岩浆人","岩浆人","岩浆人",null,"火精灵"]
[null,null,4,{"$nulls":14},4,{"$nulls":13},4,null,"火精灵","岩浆蝎","岩浆人","岩浆蝎",null,"火山蜘蛛","岩浆人"]
[null,null,2,{"$nulls":14},2,{"$nulls":13},2,"岩浆战士",null,"岩浆蝎",null,null,"岩浆蝎","火山蜘蛛","岩浆战士"]
[null,null,1,"岩浆蝎","岩浆蝎","火精灵","岩浆人","火山蜘蛛","火精灵","岩浆人","火精灵","火山蜘蛛","岩浆战士",{"$nulls":4},1,"岩浆蝎","岩浆人","火山蜘蛛","岩浆战士","火精灵","岩浆战士","火山蜘蛛","岩浆人",{"$nulls":5},1,{"$nulls":4},"岩浆战士","岩浆战士"]
[null,null,3,"火精灵","岩浆人","岩浆战士","岩浆蝎",null,"岩浆战士","岩浆蝎","岩浆战士",null,"岩浆人",{"$nulls":4},3,"火精灵","岩浆蝎",null,"岩浆人","岩浆蝎","岩浆蝎",null,"岩浆蝎",{"$nulls":5},3,"岩浆战士",null,"岩浆蝎",null,null,"岩浆战士","火山蜘蛛","岩浆战士"]
[null,null,5,null,null,"岩浆人","火精灵",null,"岩浆人","火精灵","岩浆人",null,"火精灵",{"$nulls":4},5,"蘑菇王",null,null,"火精灵","岩浆人","岩浆人",null,"火精灵",{"$nulls":5},5,null,"火精灵","岩浆蝎","岩浆人","岩浆蝎","岩浆蝎","火山蜘蛛","岩浆人"]
[null,null,7,{"$nulls":14},7,{"$nulls":13},7,null,null,null,"岩浆人","岩浆人",null,null,"火精灵"]
[null,null,9,{"$nulls":14},9,{"$nulls":13},9,{"$nulls":4},"火精灵","岩浆人"]
[]
[null,null,"位置",6,15,30,46,50,65,81,98,100,115,{"$nulls":4},"位置",5,10,15,30,46,62,65,80,{"$nulls":5},"位置",3,5,8,13,20,30,35,45,null,null,null,{"$f":"_xlfn.TEXTJOIN(\"^\",,AG27:AG41)","v":"2^3"}]
[null,null,8,{"$nulls":12},{"$f":"_xlfn.TEXTJOIN(\"^\",,D27:D41)","v":"0^0"},null,8,{"$nulls":13},8,{"$nulls":4},{"$f":"$C27","v":8},{"$nulls":6},{"$f":"_xlfn.TEXTJOIN(\"^\",,AH27:AH41)","v":"4^5"}]
[null,null,6,{"$nulls":12},{"$f":"_xlfn.TEXTJOIN(\"^\",,E27:E41)","v":"0^0"},null,6,{"$nulls":11},{"$f":"_xlfn.TEXTJOIN(\"^\",,S27:S41)","v":"0^0^0"},null,6,null,null,null,{"$f":"$C28","v":6},6,6,null,{"$f":"$C28","v":6},null,null,null,{"$f":"_xlfn.TEXTJOIN(\"^\",,AI27:AI41)","v":"4^2^3^5"}]
[null,null,4,{"$nulls":12},{"$f":"_xlfn.TEXTJOIN(\"^\",,F27:F41)","v":"0^0^0"},null,4,{"$nulls":11},{"$f":"_xlfn.TEXTJOIN(\"^\",,T27:T41)","v":"0^0"},null,4,null,{"$f":"$C29","v":4},4,4,4,null,null,4,null,null,null,{"$f":"_xlfn.TEXTJOIN(\"^\",,AJ27:AJ41)","v":"6^4^5^7"}]
[null,null,2,{"$nulls":12},{"$f":"_xlfn.TEXTJOIN(\"^\",,G27:G41)","v":"0^0^0"},null,2,{"$nulls":11},{"$f":"_xlfn.TEXTJOIN(\"^\",,U27:U41)","v":"100"},null,2,{"$f":"$C30","v":2},null,2,null,null,{"$f":"$C30","v":2},null,2,null,null,null,{"$f":"_xlfn.TEXTJOIN(\"^\",,AK27:AK41)","v":"8^6^4^1^5^7^9"}]
[null,null,1,0,0,0,0,100,0,0,0,100,0,null,null,{"$f":"_xlfn.TEXTJOIN(\"^\",,H27:H41)","v":"100"},null,1,0,0,100,0,0,0,100,0,null,null,null,{"$f":"_xlfn.TEXTJOIN(\"^\",,V27:V41)","v":"0^0^0"},null,1,{"$nulls":4},{"$f":"$C31","v":1},1,{"$nulls":5},{"$f":"_xlfn.TEXTJOIN(\"^\",,AL27:AL41)","v":"6^2^1^3^5^9"}]
[null,null,3,0,0,0,0,null,0,0,0,null,0,null,null,{"$f":"_xlfn.TEXTJOIN(\"^\",,I27:I41)","v":"0^0^0"},null,3,0,0,null,0,0,0,null,0,null,null,null,{"$f":"_xlfn.TEXTJOIN(\"^\",,W27:W41)","v":"0^0^0"},null,3,{"$f":"$C32","v":3},null,{"$f":"$C32","v":3},null,null,3,null,{"$f":"$C32","v":3},null,null,null,{"$f":"_xlfn.TEXTJOIN(\"^\",,AM27:AM41)","v":"101^102^104^105"}]
[null,null,5,null,null,0,0,null,0,0,0,null,0,null,null,{"$f":"_xlfn.TEXTJOIN(\"^\",,J27:J41)","v":"0^0^0"},null,5,0,null,null,0,0,0,null,0,null,null,null,{"$f":"_xlfn.TEXTJOIN(\"^\",,X27:X41)","v":"0^0^0"},null,5,null,{"$f":"$C33","v":5},5,5,5,5,null,5,null,null,null,{"$f":"_xlfn.TEXTJOIN(\"^\",,AN27:AN41)","v":"6^4^2^3^5^7"}]
[null,null,7,{"$nulls":12},{"$f":"_xlfn.TEXTJOIN(\"^\",,K27:K41)","v":"0^0^0"},null,7,{"$nulls":11},{"$f":"_xlfn.TEXTJOIN(\"^\",,Y27:Y41)","v":"100"},null,7,null,null,null,7,7,null,null,7,null,null,null,{"$f":"_xlfn.TEXTJOIN(\"^\",,AO27:AO41)","v":""}]
[null,null,9,{"$nulls":12},{"$f":"_xlfn.TEXTJOIN(\"^\",,L27:L41)","v":"100"},null,9,{"$nulls":13},9,{"$nulls":4},9,9,{"$nulls":5},{"$f":"_xlfn.TEXTJOIN(\"^\",,AP27:AP41)","v":""}]
[null,null,"空降",{"$nulls":12},{"$f":"_xlfn.TEXTJOIN(\"^\",,M27:M41)","v":"0^0^0"},null,"空降",{"$nulls":13},"空降",{"$nulls":11},{"$f":"_xlfn.TEXTJOIN(\"^\",,AQ27:AQ35)","v":""}]
[null,null,101,{"$nulls":12},{"$f":"_xlfn.TEXTJOIN(\"^\",,N27:N41)","v":""},null,101,{"$nulls":11},{"$f":"_xlfn.TEXTJOIN(\"^\",,Z27:Z41)","v":"0^0^0"},null,101,{"$nulls":6},{"$f":"$C37","v":101}]
[null,null,102,{"$nulls":14},102,{"$nulls":11},{"$f":"_xlfn.TEXTJOIN(\"^\",,AA27:AA41)","v":""},null,102,{"$nulls":6},102]
[null,null,103,{"$nulls":14},103,{"$nulls":11},{"$f":"_xlfn.TEXTJOIN(\"^\",,AB27:AB41)","v":""},null,103]
[null,null,104,{"$nulls":14},104,{"$nulls":13},104,{"$nulls":6},{"$f":"$C40","v":104}]
[null,null,105,{"$nulls":14},105,{"$nulls":13},105,{"$nulls":6},105]
[{"$nulls":14},"最终",{"$f":"_xlfn.TEXTJOIN(\"|\",,P27:P41)","v":"0^0|0^0|0^0^0|0^0^0|100|0^0^0|0^0^0|0^0^0|100|0^0^0"},{"$nulls":12},"最终",{"$f":"_xlfn.TEXTJOIN(\"|\",,AD27:AD41)","v":"0^0^0|0^0|100|0^0^0|0^0^0|0^0^0|100|0^0^0"},{"$nulls":12},"最终",{"$f":"_xlfn.TEXTJOIN(\"^\",,AR26:AR41)","v":"2^3^4^5^4^2^3^5^6^4^5^7^8^6^4^1^5^7^9^6^2^1^3^5^9^101^102^104^105^6^4^2^3^5^7"}]
[]
[null,null,"时间",6,15,30,46,50,65,81,98,100,115,{"$nulls":4},"时间",5,10,15,30,46,62,65,80,null,null,null,{"$f":"_xlfn.TEXTJOIN(\"^\",,S45:S53)","v":"18^6^1"},null,"时间",3,5,8,13,20,30,35,45,null,null,null,{"$f":"_xlfn.TEXTJOIN(\"^\",,AG45:AG53)","v":"3^3"}]
[null,null,8,{"$nulls":12},{"$f":"_xlfn.TEXTJOIN(\"^\",,D45:D54)","v":"5^2"},null,8,{"$nulls":11},{"$f":"_xlfn.TEXTJOIN(\"^\",,T45:T53)","v":"3^8"},null,8,{"$nulls":4},{"$f":"AK$44","v":20},{"$nulls":6},{"$f":"_xlfn.TEXTJOIN(\"^\",,AH45:AH53)","v":"5^5"}]
[null,null,6,{"$nulls":12},{"$f":"_xlfn.TEXTJOIN(\"^\",,E45:E54)","v":"7^4"},null,6,{"$nulls":11},{"$f":"_xlfn.TEXTJOIN(\"^\",,U45:U53)","v":"9"},null,6,null,null,null,{"$f":"AJ$44","v":13},20,{"$f":"AL$44","v":30},null,{"$f":"AN$44","v":45},null,null,null,{"$f":"_xlfn.TEXTJOIN(\"^\",,AI45:AI53)","v":"8^8^8^8"}]
[null,null,4,{"$nulls":12},{"$f":"_xlfn.TEXTJOIN(\"^\",,F45:F54)","v":"2^3^5"},null,4,{"$nulls":11},{"$f":"_xlfn.TEXTJOIN(\"^\",,V45:V53)","v":"3^5^2"},null,4,null,{"$f":"AH$44","v":5},{"$f":"AI$44","v":8},13,20,null,{"$f":"AM$44","v":35},{"$f":"AN$44","v":45},null,null,null,{"$f":"_xlfn.TEXTJOIN(\"^\",,AJ45:AJ53)","v":"13^13^13^13"}]
[null,null,2,{"$nulls":12},{"$f":"_xlfn.TEXTJOIN(\"^\",,G45:G54)","v":"3^7^2"},null,2,{"$nulls":11},{"$f":"_xlfn.TEXTJOIN(\"^\",,W45:W53)","v":"2^7^3"},null,2,{"$f":"AG$44","v":3},null,8,null,null,{"$f":"AL$44","v":30},35,{"$f":"AN$44","v":45},null,null,null,{"$f":"_xlfn.TEXTJOIN(\"^\",,AK45:AK53)","v":"20^20^20^20^20^20^20"}]
[null,null,1,5,7,2,3,8,2,3,2,9,3,null,null,{"$f":"_xlfn.TEXTJOIN(\"^\",,H45:H54)","v":"8"},null,1,18,3,9,3,2,2,10,3,null,null,null,{"$f":"_xlfn.TEXTJOIN(\"^\",,X45:X53)","v":"2^8^3"},null,1,{"$nulls":4},{"$f":"AK$44","v":20},30,{"$nulls":5},{"$f":"_xlfn.TEXTJOIN(\"^\",,AL45:AL53)","v":"30^30^30^30^30^30"}]
[null,null,3,2,4,3,7,null,3,8,4,null,6,null,null,{"$f":"_xlfn.TEXTJOIN(\"^\",,I45:I54)","v":"2^3^5"},null,3,6,8,null,5,7,8,null,9,null,null,null,{"$f":"_xlfn.TEXTJOIN(\"^\",,Y45:Y53)","v":"10"},null,3,{"$f":"AG$44","v":3},null,{"$f":"AI$44","v":8},null,null,30,35,45,null,null,null,{"$f":"_xlfn.TEXTJOIN(\"^\",,AM45:AM53)","v":"35^35^35^35"}]
[null,null,5,null,null,5,2,null,5,2,5,null,2,null,null,{"$f":"_xlfn.TEXTJOIN(\"^\",,J45:J54)","v":"3^8^2"},null,5,1,null,null,2,3,3,null,2,null,null,null,{"$f":"_xlfn.TEXTJOIN(\"^\",,Z45:Z53)","v":"3^9^2"},null,5,null,{"$f":"AH$44","v":5},8,13,20,30,35,45,null,null,null,{"$f":"_xlfn.TEXTJOIN(\"^\",,AN45:AN53)","v":"45^45^45^45^45^45"}]
[null,null,7,{"$nulls":12},{"$f":"_xlfn.TEXTJOIN(\"^\",,K45:K54)","v":"2^4^5"},null,7,{"$nulls":11},{"$f":"_xlfn.TEXTJOIN(\"^\",,AA45:AA53)","v":""},null,7,null,null,null,13,20,null,null,45,null,null,null,{"$f":"_xlfn.TEXTJOIN(\"^\",,AO45:AO53)","v":""}]
[null,null,9,{"$nulls":12},{"$f":"_xlfn.TEXTJOIN(\"^\",,L45:L54)","v":"9"},null,9,{"$nulls":11},{"$f":"_xlfn.TEXTJOIN(\"^\",,AB45:AB53)","v":""},null,9,{"$nulls":4},20,{"$f":"AL$44","v":30},{"$nulls":5},{"$f":"_xlfn.TEXTJOIN(\"^\",,AP45:AP53)","v":""}]
[{"$nulls":15},{"$f":"_xlfn.TEXTJOIN(\"^\",,M45:M54)","v":"3^6^2"},{"$nulls":13},{"$f":"_xlfn.TEXTJOIN(\"^\",,AC45:AC53)","v":""},{"$nulls":13},{"$f":"_xlfn.TEXTJOIN(\"^\",,AQ45:AQ53)","v":""}]
[{"$nulls":15},{"$f":"_xlfn.TEXTJOIN(\"^\",,N45:N54)","v":""},{"$nulls":12},"最终",{"$f":"_xlfn.TEXTJOIN(\"|\",,AD44:AD54)","v":"18^6^1|3^8|9|3^5^2|2^7^3|2^8^3|10|3^9^2"},{"$nulls":12},"最终",{"$f":"_xlfn.TEXTJOIN(\"^\",,AR44:AR54)","v":"3^3^5^5^8^8^8^8^13^13^13^13^20^20^20^20^20^20^20^30^30^30^30^30^30^35^35^35^35^45^45^45^45^45^45"}]
[{"$nulls":14},"最终",{"$f":"_xlfn.TEXTJOIN(\"|\",,P45:P55)","v":"5^2|7^4|2^3^5|3^7^2|8|2^3^5|3^8^2|2^4^5|9|3^6^2"}]
[{"$nulls":15},{"$f":"SUM(D45:M53)","v":102},{"$nulls":13},{"$f":"SUM(S45:AA53)","v":104},{"$nulls":13},{"$f":"COUNT(AG45:AN53)","v":35}]
[{"$nulls":43},{"$f":"AR57+AD57+P57","v":241}]
[]
[{"$nulls":4},{"$f":"E61-D61","v":9},{"$f":"F61-E61","v":15},5,15,16,4,15,17,3,{"$nulls":6},{"$f":"T61-S61","v":6},5,10,10,5,10,10,{"$nulls":7},{"$f":"AH61-AG61","v":2},4,6,6,10,10,10,5]
[3,"炎地-2","波1·怪物",6,15,30,35,50,66,70,85,102,105,null,null,null,1,"波2·怪物",4,10,15,25,35,40,50,60,{"$nulls":4},1,"波3·怪物",2,4,8,14,20,30,40,50,55]
[null,"5m",8,{"$nulls":12},{"$f":"_xlfn.TEXTJOIN(\"^\",,D62:D71)","v":"60271^60272"},null,8,{"$nulls":4},60272,null,null,60274,null,null,null,{"$f":"_xlfn.TEXTJOIN(\"^\",,S62:S71)","v":"60271^60272^60272^60272^60271"},null,8,{"$nulls":6},60272,{"$nulls":4},{"$f":"_xlfn.TEXTJOIN(\"^\",,AG62:AG71)","v":"60273^60273"}]
[null,null,6,{"$nulls":12},{"$f":"_xlfn.TEXTJOIN(\"^\",,E62:E71)","v":"60272^60274"},null,6,null,null,null,60274,null,null,60272,60271,null,null,null,{"$f":"_xlfn.TEXTJOIN(\"^\",,T62:T71)","v":"60274^60272^60273^60272^60274"},null,6,{"$nulls":4},60272,60272,null,60274,null,null,null,{"$f":"_xlfn.TEXTJOIN(\"^\",,AH62:AH71)","v":"60275^60275^60275"}]
[null,null,4,{"$nulls":12},{"$f":"_xlfn.TEXTJOIN(\"^\",,F62:F71)","v":"60274^60273^60271"},null,4,60271,60274,60275,60272,60271,60275,60271,{"$nulls":4},{"$f":"_xlfn.TEXTJOIN(\"^\",,U62:U71)","v":"60275^60275^60275^60275^60275"},null,4,null,60275,null,60271,60272,60271,60271,60272,60275,null,null,{"$f":"_xlfn.TEXTJOIN(\"^\",,AI62:AI71)","v":"60274^60274"}]
[null,null,2,{"$nulls":12},{"$f":"_xlfn.TEXTJOIN(\"^\",,G62:G71)","v":"60275"},null,2,60272,60272,60275,60273,60271,60275,60273,60272,null,null,null,{"$f":"_xlfn.TEXTJOIN(\"^\",,V62:V71)","v":"60274^60272^60273^60272^60273^60272^60274"},null,2,60273,null,60274,60271,null,60273,60273,60271,60275,null,null,{"$f":"_xlfn.TEXTJOIN(\"^\",,AJ62:AJ71)","v":"60271^60271^60271^60271"}]
[null,null,1,60271,60272,60274,60275,60271,60274,60274,60271,60273,60275,null,null,{"$f":"_xlfn.TEXTJOIN(\"^\",,H62:H71)","v":"60271^60274^60272"},null,1,60272,60273,60275,60272,60272,60275,60272,60276,null,null,null,{"$f":"_xlfn.TEXTJOIN(\"^\",,W62:W71)","v":"60272^60271^60271^60272^60271^60271^60272"},null,1,null,60275,null,null,null,60274,{"$nulls":5},{"$f":"_xlfn.TEXTJOIN(\"^\",,AK62:AK71)","v":"60272^60272^60272^60272"}]
[null,null,3,60272,60274,60273,null,60274,60273,60272,60272,60272,60276,null,null,{"$f":"_xlfn.TEXTJOIN(\"^\",,I62:I71)","v":"60274^60273^60271^60272"},null,3,60272,60272,60275,60273,60271,60275,60273,60272,null,null,null,{"$f":"_xlfn.TEXTJOIN(\"^\",,X62:X71)","v":"60275^60275^60275^60275^60275"},null,3,60273,null,60274,60271,null,60273,60273,60271,60275,null,null,{"$f":"_xlfn.TEXTJOIN(\"^\",,AL62:AL71)","v":"60272^60271^60273^60274^60273^60271^60272"}]
[null,null,5,null,null,60271,null,60272,60271,null,null,60274,null,null,null,{"$f":"_xlfn.TEXTJOIN(\"^\",,J62:J71)","v":"60274^60272"},null,5,60271,60274,60275,60272,60271,60275,60271,{"$nulls":4},{"$f":"_xlfn.TEXTJOIN(\"^\",,Y62:Y71)","v":"60272^60271^60273^60272^60273^60271^60272"},null,5,null,60275,null,60271,60272,60271,60271,60272,60275,null,null,{"$f":"_xlfn.TEXTJOIN(\"^\",,AM62:AM71)","v":"60272^60271^60273^60273^60271^60272"}]
[null,null,7,{"$nulls":5},60272,{"$nulls":6},{"$f":"_xlfn.TEXTJOIN(\"^\",,K62:K71)","v":"60271^60272"},null,7,null,null,null,60274,null,null,60272,60271,null,null,null,{"$f":"_xlfn.TEXTJOIN(\"^\",,Z62:Z71)","v":"60274^60271^60272^60276^60272^60271^60274"},null,7,{"$nulls":4},60272,60272,null,60274,null,null,null,{"$f":"_xlfn.TEXTJOIN(\"^\",,AN62:AN71)","v":"60274^60272^60271^60271^60272^60274"}]
[null,null,9,{"$nulls":12},{"$f":"_xlfn.TEXTJOIN(\"^\",,L62:L71)","v":"60273^60272^60274"},null,9,{"$nulls":4},60272,null,null,60274,null,null,null,{"$f":"_xlfn.TEXTJOIN(\"^\",,AA62:AA71)","v":""},null,9,{"$nulls":6},60272,{"$nulls":4},{"$f":"_xlfn.TEXTJOIN(\"^\",,AO62:AO71)","v":"60275^60275^60275^60275"}]
[{"$nulls":15},{"$f":"_xlfn.TEXTJOIN(\"^\",,M62:M71)","v":"60275^60276"},{"$nulls":13},{"$f":"_xlfn.TEXTJOIN(\"^\",,AB62:AB71)","v":""},{"$nulls":13},{"$f":"_xlfn.TEXTJOIN(\"^\",,AP62:AP71)","v":""}]
[{"$nulls":15},{"$f":"_xlfn.TEXTJOIN(\"^\",,N62:N71)","v":""},{"$nulls":13},{"$f":"_xlfn.TEXTJOIN(\"^\",,AC62:AC71)","v":""},{"$nulls":13},{"$f":"_xlfn.TEXTJOIN(\"^\",,AQ62:AQ71)","v":""}]
[{"$nulls":14},"最终",{"$f":"_xlfn.TEXTJOIN(\"|\",,P62:P72)","v":"60271^60272|60272^60274|60274^60273^60271|60275|60271^60274^60272|60274^60273^60271^60272|60274^60272|60271^60272|60273^60272^60274|60275^60276"},{"$nulls":12},"最终",{"$f":"_xlfn.TEXTJOIN(\"^\",,AD62:AD72)","v":"60271^60272^60272^60272^60271^60274^60272^60273^60272^60274^60275^60275^60275^60275^60275^60274^60272^60273^60272^60273^60272^60274^60272^60271^60271^60272^60271^60271^60272^60275^60275^60275^60275^60275^60272^60271^60273^60272^60273^60271^60272^60274^60271^60272^60276^60272^60271^60274"},{"$nulls":12},"最终",{"$f":"_xlfn.TEXTJOIN(\"^\",,AR62:AR72)","v":"60273^60273^60275^60275^60275^60274^60274^60271^60271^60271^60271^60272^60272^60272^60272^60272^60271^60273^60274^60273^60271^60272^60272^60271^60273^60273^60271^60272^60274^60272^60271^60271^60272^60274^60275^60275^60275^60275"}]
[null,null,8,{"$nulls":14},8,{"$nulls":4},"岩浆人",null,null,"火精灵",{"$nulls":5},8,{"$nulls":6},"岩浆人"]
[null,null,6,{"$nulls":14},6,null,null,null,"火精灵",null,null,"岩浆人","岩浆蝎",{"$nulls":5},6,{"$nulls":4},"岩浆人","岩浆人",null,"火精灵"]
[null,null,4,{"$nulls":14},4,"岩浆蝎","火精灵","火山蜘蛛","岩浆人","岩浆蝎","火山蜘蛛","岩浆蝎",{"$nulls":6},4,null,"火山蜘蛛",null,"岩浆蝎","岩浆人","岩浆蝎","岩浆蝎","岩浆人","火山蜘蛛"]
[null,null,2,{"$nulls":14},2,"岩浆人","岩浆人","火山蜘蛛","岩浆战士","岩浆蝎","火山蜘蛛","岩浆战士","岩浆人",{"$nulls":5},2,"岩浆战士",null,"火精灵","岩浆蝎",null,"岩浆战士","岩浆战士","岩浆蝎","火山蜘蛛"]
[null,null,1,"岩浆蝎","岩浆人","火精灵","火山蜘蛛","岩浆蝎","火精灵","火精灵","岩浆蝎","岩浆战士","火山蜘蛛",{"$nulls":4},1,"岩浆人","岩浆战士","火山蜘蛛","岩浆人","岩浆人","火山蜘蛛","岩浆人","蘑菇王",{"$nulls":5},1,null,"火山蜘蛛",null,null,null,"火精灵"]
[null,null,3,"岩浆人","火精灵","岩浆战士",null,"火精灵","岩浆战士","岩浆人","岩浆人","岩浆人","蘑菇王",{"$nulls":4},3,"岩浆人","岩浆人","火山蜘蛛","岩浆战士","岩浆蝎","火山蜘蛛","岩浆战士","岩浆人",{"$nulls":5},3,"岩浆战士",null,"火精灵","岩浆蝎",null,"岩浆战士","岩浆战士","岩浆蝎","火山蜘蛛"]
[null,null,5,null,null,"岩浆蝎",null,"岩浆人","岩浆蝎",null,null,"火精灵",{"$nulls":5},5,"岩浆蝎","火精灵","火山蜘蛛","岩浆人","岩浆蝎","火山蜘蛛","岩浆蝎",{"$nulls":6},5,null,"火山蜘蛛",null,"岩浆蝎","岩浆人","岩浆蝎","岩浆蝎","岩浆人","火山蜘蛛"]
[null,null,7,{"$nulls":5},"岩浆人",{"$nulls":8},7,null,null,null,"火精灵",null,null,"岩浆人","岩浆蝎",{"$nulls":5},7,{"$nulls":4},"岩浆人","岩浆人",null,"火精灵"]
[null,null,9,{"$nulls":14},9,{"$nulls":4},"岩浆人",null,null,"火精灵",{"$nulls":5},9,{"$nulls":6},"岩浆人"]
[]
[null,null,"位置",6,15,30,35,50,66,70,85,102,105,{"$nulls":4},"位置",4,10,15,25,35,40,50,60,{"$nulls":5},"位置",2,4,8,14,20,30,40,50,55,null,null,{"$f":"_xlfn.TEXTJOIN(\"^\",,AG85:AG99)","v":"2^3"}]
[null,null,8,{"$nulls":12},{"$f":"_xlfn.TEXTJOIN(\"^\",,D85:D99)","v":"0^0"},null,8,{"$nulls":4},{"$f":"$AF85","v":8},null,null,{"$f":"$AF85","v":8},{"$nulls":5},8,{"$nulls":6},{"$f":"$AF85","v":8},{"$nulls":4},{"$f":"_xlfn.TEXTJOIN(\"^\",,AH85:AH99)","v":"101^103^105"}]
[null,null,6,{"$nulls":12},{"$f":"_xlfn.TEXTJOIN(\"^\",,E85:E99)","v":"0^0"},null,6,null,null,null,{"$f":"$AF86","v":6},null,null,{"$f":"$AF86","v":6},6,null,null,null,{"$f":"_xlfn.TEXTJOIN(\"^\",,S85:S99)","v":"4^2^1^3^5"},null,6,{"$nulls":4},6,6,null,6,null,null,null,{"$f":"_xlfn.TEXTJOIN(\"^\",,AI85:AI99)","v":"2^3"}]
[null,null,4,{"$nulls":12},{"$f":"_xlfn.TEXTJOIN(\"^\",,F85:F99)","v":"0^0^0"},null,4,{"$f":"$AF87","v":4},4,null,4,4,null,4,{"$nulls":4},{"$f":"_xlfn.TEXTJOIN(\"^\",,T85:T99)","v":"4^2^1^3^5"},null,4,null,null,null,4,4,4,4,4,null,null,null,{"$f":"_xlfn.TEXTJOIN(\"^\",,AJ85:AJ99)","v":"4^2^3^5"}]
[null,null,2,{"$nulls":12},{"$f":"_xlfn.TEXTJOIN(\"^\",,G85:G99)","v":"100"},null,2,2,2,null,2,2,null,2,2,null,null,null,{"$f":"_xlfn.TEXTJOIN(\"^\",,U85:U99)","v":"101^102^103^104^105"},null,2,2,null,2,2,null,2,2,2,null,null,null,{"$f":"_xlfn.TEXTJOIN(\"^\",,AK85:AK99)","v":"6^4^5^7"}]
[null,null,1,0,0,0,100,0,0,0,0,0,100,null,null,{"$f":"_xlfn.TEXTJOIN(\"^\",,H85:H99)","v":"0^0^0"},null,1,1,1,null,1,1,null,1,1,null,null,null,{"$f":"_xlfn.TEXTJOIN(\"^\",,V85:V99)","v":"6^4^2^1^3^5^7"},null,1,{"$nulls":5},1,{"$nulls":5},{"$f":"_xlfn.TEXTJOIN(\"^\",,AL85:AL99)","v":"6^4^2^1^3^5^7"}]
[null,null,3,0,0,0,null,0,0,0,0,0,0,null,null,{"$f":"_xlfn.TEXTJOIN(\"^\",,I85:I99)","v":"0^0^0^0"},null,3,3,3,null,3,3,null,3,3,null,null,null,{"$f":"_xlfn.TEXTJOIN(\"^\",,W85:W99)","v":"8^4^2^1^3^5^9"},null,3,3,null,3,3,null,3,3,3,null,null,null,{"$f":"_xlfn.TEXTJOIN(\"^\",,AM85:AM99)","v":"8^4^2^3^5^9"}]
[null,null,5,null,null,0,null,0,0,null,null,0,null,null,null,{"$f":"_xlfn.TEXTJOIN(\"^\",,J85:J99)","v":"0^0"},null,5,5,5,null,5,5,null,5,{"$nulls":4},{"$f":"_xlfn.TEXTJOIN(\"^\",,X85:X99)","v":"101^102^103^104^105"},null,5,null,null,null,5,5,5,5,5,null,null,null,{"$f":"_xlfn.TEXTJOIN(\"^\",,AN85:AN99)","v":"6^4^2^3^5^7"}]
[null,null,7,{"$nulls":5},0,{"$nulls":6},{"$f":"_xlfn.TEXTJOIN(\"^\",,K85:K99)","v":"0^0"},null,7,null,null,null,7,null,null,7,7,null,null,null,{"$f":"_xlfn.TEXTJOIN(\"^\",,Y85:Y99)","v":"6^4^2^1^3^5^7"},null,7,{"$nulls":4},7,7,null,7,null,null,null,{"$f":"_xlfn.TEXTJOIN(\"^\",,AO85:AO99)","v":"101^102^104^105"}]
[null,null,9,{"$nulls":12},{"$f":"_xlfn.TEXTJOIN(\"^\",,L85:L99)","v":"0^0^0"},null,9,{"$nulls":4},{"$f":"$AF93","v":9},null,null,9,{"$nulls":5},9,{"$nulls":6},9,{"$nulls":4},{"$f":"_xlfn.TEXTJOIN(\"^\",,AP85:AP99)","v":""}]
[null,null,"空降",{"$nulls":12},{"$f":"_xlfn.TEXTJOIN(\"^\",,M85:M99)","v":"100^0"},null,"空降",{"$nulls":13},"空降",{"$nulls":11},{"$f":"_xlfn.TEXTJOIN(\"^\",,AQ85:AQ93)","v":""}]
[null,null,101,{"$nulls":12},{"$f":"_xlfn.TEXTJOIN(\"^\",,N85:N99)","v":""},null,101,null,null,{"$f":"$AF95","v":101},null,null,{"$f":"$AF95","v":101},{"$nulls":5},{"$f":"_xlfn.TEXTJOIN(\"^\",,Z85:Z99)","v":"8^6^2^1^3^7^9"},null,101,null,101,{"$nulls":6},{"$f":"$AF95","v":101}]
[null,null,102,{"$nulls":14},102,null,null,102,null,null,102,{"$nulls":5},{"$f":"_xlfn.TEXTJOIN(\"^\",,AA85:AA99)","v":""},null,102,{"$nulls":8},{"$f":"$AF96","v":102}]
[null,null,103,{"$nulls":14},103,null,null,103,null,null,103,{"$nulls":5},{"$f":"_xlfn.TEXTJOIN(\"^\",,AB85:AB99)","v":""},null,103,null,103]
[null,null,104,{"$nulls":14},104,null,null,{"$f":"$AF98","v":104},null,null,104,{"$nulls":7},104,{"$nulls":8},{"$f":"$AF98","v":104}]
[null,null,105,{"$nulls":14},105,null,null,105,null,null,105,{"$nulls":7},105,null,105,{"$nulls":6},{"$f":"$AF99","v":105}]
[{"$nulls":14},"最终",{"$f":"_xlfn.TEXTJOIN(\"|\",,P85:P99)","v":"0^0|0^0|0^0^0|100|0^0^0|0^0^0^0|0^0|0^0|0^0^0|100^0"},{"$nulls":12},"最终",{"$f":"_xlfn.TEXTJOIN(\"^\",,AD85:AD99)","v":"4^2^1^3^5^4^2^1^3^5^101^102^103^104^105^6^4^2^1^3^5^7^8^4^2^1^3^5^9^101^102^103^104^105^6^4^2^1^3^5^7^8^6^2^1^3^7^9"},{"$nulls":12},"最终",{"$f":"_xlfn.TEXTJOIN(\"^\",,AR84:AR99)","v":"2^3^101^103^105^2^3^4^2^3^5^6^4^5^7^6^4^2^1^3^5^7^8^4^2^3^5^9^6^4^2^3^5^7^101^102^104^105"}]
[]
[null,null,"时间",6,15,30,35,50,66,70,85,102,105,{"$nulls":4},"时间",4,10,15,25,35,40,50,60,null,null,null,{"$f":"_xlfn.TEXTJOIN(\"^\",,S103:S111)","v":"4^4^4^4^4"},null,"时间",2,4,8,14,20,30,40,50,55,null,null,{"$f":"_xlfn.TEXTJOIN(\"^\",,AG103:AG111)","v":"2^2"}]
[null,null,8,{"$nulls":12},{"$f":"_xlfn.TEXTJOIN(\"^\",,D103:D112)","v":"5^2"},null,8,{"$nulls":4},{"$f":"W$102","v":35},null,null,{"$f":"Z$102","v":60},null,null,null,{"$f":"_xlfn.TEXTJOIN(\"^\",,T103:T111)","v":"10^10^10^10^10"},null,8,{"$nulls":6},{"$f":"AM$102","v":40},{"$nulls":4},{"$f":"_xlfn.TEXTJOIN(\"^\",,AH103:AH111)","v":"4^4^4"}]
[null,null,6,{"$nulls":12},{"$f":"_xlfn.TEXTJOIN(\"^\",,E103:E112)","v":"5^3"},null,6,null,null,null,{"$f":"V$102","v":25},null,null,{"$f":"Y$102","v":50},60,null,null,null,{"$f":"_xlfn.TEXTJOIN(\"^\",,U103:U111)","v":"15^15^15^15^15"},null,6,{"$nulls":4},{"$f":"AK$102","v":20},30,null,{"$f":"AN$102","v":50},null,null,null,{"$f":"_xlfn.TEXTJOIN(\"^\",,AI103:AI111)","v":"8^8"}]
[null,null,4,{"$nulls":12},{"$f":"_xlfn.TEXTJOIN(\"^\",,F103:F112)","v":"3^2^7"},null,4,{"$f":"S$102","v":4},{"$f":"T$102","v":10},{"$f":"U$102","v":15},25,35,40,50,{"$nulls":4},{"$f":"_xlfn.TEXTJOIN(\"^\",,V103:V111)","v":"25^25^25^25^25^25^25"},null,4,null,{"$f":"AH$102","v":4},null,{"$f":"AJ$102","v":14},20,30,40,50,55,null,null,{"$f":"_xlfn.TEXTJOIN(\"^\",,AJ103:AJ111)","v":"14^14^14^14"}]
[null,null,2,{"$nulls":12},{"$f":"_xlfn.TEXTJOIN(\"^\",,G103:G112)","v":"9"},null,2,4,{"$f":"T$102","v":10},15,25,35,40,50,60,null,null,null,{"$f":"_xlfn.TEXTJOIN(\"^\",,W103:W111)","v":"35^35^35^35^35^35^35"},null,2,{"$f":"AG$102","v":2},null,{"$f":"AI$102","v":8},14,null,30,40,50,55,null,null,{"$f":"_xlfn.TEXTJOIN(\"^\",,AK103:AK111)","v":"20^20^20^20"}]
[null,null,1,5,5,3,9,8,2,3,9,2,8,null,null,{"$f":"_xlfn.TEXTJOIN(\"^\",,H103:H112)","v":"8^2^3"},null,1,4,{"$f":"T$102","v":10},15,25,35,40,50,60,null,null,null,{"$f":"_xlfn.TEXTJOIN(\"^\",,X103:X111)","v":"40^40^40^40^40"},null,1,null,{"$f":"AH$102","v":4},null,null,null,30,{"$nulls":5},{"$f":"_xlfn.TEXTJOIN(\"^\",,AL103:AL111)","v":"30^30^30^30^30^30^30"}]
[null,null,3,2,3,2,null,2,3,5,3,8,1,null,null,{"$f":"_xlfn.TEXTJOIN(\"^\",,I103:I112)","v":"2^3^7^3"},null,3,4,{"$f":"T$102","v":10},{"$f":"U$102","v":15},25,35,40,50,60,null,null,null,{"$f":"_xlfn.TEXTJOIN(\"^\",,Y103:Y111)","v":"50^50^50^50^50^50^50"},null,3,{"$f":"AG$102","v":2},null,{"$f":"AI$102","v":8},{"$f":"AJ$102","v":14},null,30,40,50,55,null,null,{"$f":"_xlfn.TEXTJOIN(\"^\",,AM103:AM111)","v":"40^40^40^40^40^40"}]
[null,null,5,null,null,7,null,3,7,null,null,2,null,null,null,{"$f":"_xlfn.TEXTJOIN(\"^\",,J103:J112)","v":"3^5"},null,5,4,{"$f":"T$102","v":10},15,25,35,40,50,{"$nulls":4},{"$f":"_xlfn.TEXTJOIN(\"^\",,Z103:Z111)","v":"60^60^60^60^60^60^60"},null,5,null,{"$f":"AH$102","v":4},null,14,20,30,40,50,55,null,null,{"$f":"_xlfn.TEXTJOIN(\"^\",,AN103:AN111)","v":"50^50^50^50^50^50"}]
[null,null,7,{"$nulls":5},3,{"$nulls":6},{"$f":"_xlfn.TEXTJOIN(\"^\",,K103:K112)","v":"9^3"},null,7,null,null,null,{"$f":"V$102","v":25},null,null,50,60,null,null,null,{"$f":"_xlfn.TEXTJOIN(\"^\",,AA103:AA111)","v":""},null,7,{"$nulls":4},20,30,null,50,null,null,null,{"$f":"_xlfn.TEXTJOIN(\"^\",,AO103:AO111)","v":"55^55^55^55"}]
[null,null,9,{"$nulls":12},{"$f":"_xlfn.TEXTJOIN(\"^\",,L103:L112)","v":"2^8^2"},null,9,{"$nulls":4},{"$f":"W$102","v":35},null,null,60,null,null,null,{"$f":"_xlfn.TEXTJOIN(\"^\",,AB103:AB111)","v":""},null,9,{"$nulls":6},{"$f":"AM$102","v":40},{"$nulls":4},{"$f":"_xlfn.TEXTJOIN(\"^\",,AP103:AP111)","v":""}]
[{"$nulls":15},{"$f":"_xlfn.TEXTJOIN(\"^\",,M103:M112)","v":"8^1"},{"$nulls":13},{"$f":"_xlfn.TEXTJOIN(\"^\",,AC103:AC111)","v":""},{"$nulls":13},{"$f":"_xlfn.TEXTJOIN(\"^\",,AQ103:AQ111)","v":""}]
[{"$nulls":15},{"$f":"_xlfn.TEXTJOIN(\"^\",,N103:N112)","v":""},{"$nulls":12},"最终",{"$f":"_xlfn.TEXTJOIN(\"^\",,AD102:AD112)","v":"4^4^4^4^4^10^10^10^10^10^15^15^15^15^15^25^25^25^25^25^25^25^35^35^35^35^35^35^35^40^40^40^40^40^50^50^50^50^50^50^50^60^60^60^60^60^60^60"},{"$nulls":12},"最终",{"$f":"_xlfn.TEXTJOIN(\"^\",,AR102:AR112)","v":"2^2^4^4^4^8^8^14^14^14^14^20^20^20^20^30^30^30^30^30^30^30^40^40^40^40^40^40^50^50^50^50^50^50^55^55^55^55"}]
[{"$nulls":14},"最终",{"$f":"_xlfn.TEXTJOIN(\"|\",,P103:P113)","v":"5^2|5^3|3^2^7|9|8^2^3|2^3^7^3|3^5|9^3|2^8^2|8^1"}]
[{"$nulls":15},{"$f":"SUM(D103:M111)","v":105},{"$nulls":13},{"$f":"COUNT(S103:AA111)","v":48},{"$nulls":13},{"$f":"COUNT(AG103:AO111)","v":38}]
[{"$nulls":43},{"$f":"AR115+AD115+P115","v":191}]
[]
[{"$nulls":4},{"$f":"E119-D119","v":5},{"$f":"F119-E119","v":8},10,7,10,5,10,5,10,{"$nulls":6},{"$f":"T119-S119","v":5},5,15,16,4,15,17,{"$nulls":7},{"$f":"AH119-AG119","v":2},4,6,8,7,10,10,10]
[1,"炎地-3","波1·怪物",5,10,18,28,35,45,50,60,65,75,null,null,null,3,"波2·怪物",5,10,15,30,46,50,65,82,{"$nulls":5},"波3·怪物",3,5,9,15,23,30,40,50,60]
[null,"5m",8,null,null,null,60284,null,60282,null,60284,{"$nulls":4},{"$f":"_xlfn.TEXTJOIN(\"^\",,D120:D129)","v":"60284^60282^60282^60284"},null,8,{"$nulls":11},{"$f":"_xlfn.TEXTJOIN(\"^\",,S120:S129)","v":"60282^60283^60281"},null,8,{"$nulls":4},60284,null,60282,{"$nulls":4},{"$f":"_xlfn.TEXTJOIN(\"^\",,AG120:AG129)","v":"60282^60284^60282"}]
[null,null,6,null,60281,60282,60282,null,60284,null,60282,null,60284,null,null,{"$f":"_xlfn.TEXTJOIN(\"^\",,E120:E129)","v":"60281^60281^60284^60281^60281"},null,6,{"$nulls":11},{"$f":"_xlfn.TEXTJOIN(\"^\",,T120:T129)","v":"60283^60281"},null,6,null,null,null,60281,60282,null,60284,60284,60282,null,null,{"$f":"_xlfn.TEXTJOIN(\"^\",,AH120:AH129)","v":"60285^60285^60285"}]
[null,null,4,60284,60281,null,60281,60285,null,60285,60281,60285,60282,null,null,{"$f":"_xlfn.TEXTJOIN(\"^\",,F120:F129)","v":"60282^60283^60283^60283^60282"},null,4,{"$nulls":11},{"$f":"_xlfn.TEXTJOIN(\"^\",,U120:U129)","v":"60285"},null,4,null,60285,null,60281,null,60285,60281,60282,60281,null,null,{"$f":"_xlfn.TEXTJOIN(\"^\",,AI120:AI129)","v":"60283^60283^60283"}]
[null,null,2,60282,null,60283,null,60285,60281,60285,60283,60285,60283,null,null,{"$f":"_xlfn.TEXTJOIN(\"^\",,G120:G129)","v":"60284^60282^60281^60281^60281^60282^60284"},null,2,{"$nulls":11},{"$f":"_xlfn.TEXTJOIN(\"^\",,V120:V129)","v":"60282^60283^60283"},null,2,60282,null,60283,null,60283,60285,null,60283,60281,null,null,{"$f":"_xlfn.TEXTJOIN(\"^\",,AJ120:AJ129)","v":"60281^60281^60281^60281"}]
[null,null,1,null,60284,60283,60281,60285,60283,60285,null,60285,60286,null,null,{"$f":"_xlfn.TEXTJOIN(\"^\",,H120:H129)","v":"60285^60285^60285^60285^60285"},null,1,60282,60283,60285,60282,60283,60285,60283,60283,null,null,null,{"$f":"_xlfn.TEXTJOIN(\"^\",,W120:W129)","v":"60283^60281^60282"},null,1,60284,60285,60283,null,60281,60285,60282,60283,null,null,null,{"$f":"_xlfn.TEXTJOIN(\"^\",,AK120:AK129)","v":"60284^60282^60283^60281^60283^60282^60284"}]
[null,null,3,60282,null,60283,null,60285,60281,60285,60283,60285,60283,null,null,{"$f":"_xlfn.TEXTJOIN(\"^\",,I120:I129)","v":"60282^60284^60281^60283^60281^60284^60282"},null,3,60283,60281,null,60283,60281,60286,60283,60282,null,null,null,{"$f":"_xlfn.TEXTJOIN(\"^\",,X120:X129)","v":"60285^60286"},null,3,60282,null,60283,null,60283,60285,null,60283,60281,null,null,{"$f":"_xlfn.TEXTJOIN(\"^\",,AL120:AL129)","v":"60285^60285^60285^60285^60285"}]
[null,null,5,60284,60281,null,60281,60285,null,60285,60281,60285,60282,null,null,{"$f":"_xlfn.TEXTJOIN(\"^\",,J120:J129)","v":"60285^60285^60285^60285^60285"},null,5,60281,null,null,60283,60282,null,60282,60281,null,null,null,{"$f":"_xlfn.TEXTJOIN(\"^\",,Y120:Y129)","v":"60283^60283^60282"},null,5,null,60285,null,60281,null,60285,60281,60282,60281,null,null,{"$f":"_xlfn.TEXTJOIN(\"^\",,AM120:AM129)","v":"60282^60284^60281^60282^60281^60284^60282"}]
[null,null,7,null,60281,60282,60282,null,60284,null,60282,null,60284,null,null,{"$f":"_xlfn.TEXTJOIN(\"^\",,K120:K129)","v":"60284^60282^60281^60283^60283^60281^60282^60284"},null,7,{"$nulls":11},{"$f":"_xlfn.TEXTJOIN(\"^\",,Z120:Z129)","v":"60283^60282^60281"},null,7,null,null,null,60281,60282,null,60284,60284,60282,null,null,{"$f":"_xlfn.TEXTJOIN(\"^\",,AN120:AN129)","v":"60284^60282^60283^60283^60283^60282^60284"}]
[null,null,9,null,null,null,60284,null,60282,null,60284,{"$nulls":4},{"$f":"_xlfn.TEXTJOIN(\"^\",,L120:L129)","v":"60285^60285^60285^60285^60285"},null,9,{"$nulls":11},{"$f":"_xlfn.TEXTJOIN(\"^\",,AA120:AA129)","v":""},null,9,{"$nulls":4},60284,null,60282,{"$nulls":4},{"$f":"_xlfn.TEXTJOIN(\"^\",,AO120:AO129)","v":"60282^60281^60281^60281^60281^60282"}]
[{"$nulls":15},{"$f":"_xlfn.TEXTJOIN(\"^\",,M120:M129)","v":"60284^60282^60283^60286^60283^60282^60284"},{"$nulls":13},{"$f":"_xlfn.TEXTJOIN(\"^\",,AB120:AB129)","v":""},{"$nulls":13},{"$f":"_xlfn.TEXTJOIN(\"^\",,AP120:AP129)","v":""}]
[{"$nulls":15},{"$f":"_xlfn.TEXTJOIN(\"^\",,N120:N129)","v":""},{"$nulls":13},{"$f":"_xlfn.TEXTJOIN(\"^\",,AC120:AC129)","v":""},{"$nulls":13},{"$f":"_xlfn.TEXTJOIN(\"^\",,AQ120:AQ129)","v":""}]
[{"$nulls":14},"最终",{"$f":"_xlfn.TEXTJOIN(\"^\",,P120:P130)","v":"60284^60282^60282^60284^60281^60281^60284^60281^60281^60282^60283^60283^60283^60282^60284^60282^60281^60281^60281^60282^60284^60285^60285^60285^60285^60285^60282^60284^60281^60283^60281^60284^60282^60285^60285^60285^60285^60285^60284^60282^60281^60283^60283^60281^60282^60284^60285^60285^60285^60285^60285^60284^60282^60283^60286^60283^60282^60284"},{"$nulls":12},"最终",{"$f":"_xlfn.TEXTJOIN(\"|\",,AD120:AD130)","v":"60282^60283^60281|60283^60281|60285|60282^60283^60283|60283^60281^60282|60285^60286|60283^60283^60282|60283^60282^60281"},{"$nulls":12},"最终",{"$f":"_xlfn.TEXTJOIN(\"^\",,AR120:AR130)","v":"60282^60284^60282^60285^60285^60285^60283^60283^60283^60281^60281^60281^60281^60284^60282^60283^60281^60283^60282^60284^60285^60285^60285^60285^60285^60282^60284^60281^60282^60281^60284^60282^60284^60282^60283^60283^60283^60282^60284^60282^60281^60281^60281^60281^60282"}]
[null,null,8,null,null,null,"火精灵",null,"岩浆人",null,"火精灵",{"$nulls":6},8,{"$nulls":13},8,{"$nulls":4},"火精灵"]
[null,null,6,null,"岩浆蝎","岩浆人","岩浆人",null,"火精灵",null,"岩浆人",null,"火精灵",{"$nulls":4},6,{"$nulls":13},6,null,null,null,"岩浆蝎","岩浆人",null,"火精灵","火精灵","岩浆人"]
[null,null,4,"火精灵","岩浆蝎",null,"岩浆蝎","火山蜘蛛",null,"火山蜘蛛","岩浆蝎","火山蜘蛛","岩浆人",{"$nulls":4},4,{"$nulls":13},4,null,"火山蜘蛛",null,"岩浆蝎",null,"火山蜘蛛","岩浆蝎","岩浆人","岩浆蝎"]
[null,null,2,"岩浆人",null,"岩浆战士",null,"火山蜘蛛","岩浆蝎","火山蜘蛛","岩浆战士","火山蜘蛛","岩浆战士",{"$nulls":4},2,{"$nulls":13},2,"岩浆人",null,"岩浆战士",null,"岩浆战士","火山蜘蛛",null,"岩浆战士","岩浆蝎"]
[null,null,1,null,"火精灵","岩浆战士","岩浆蝎","火山蜘蛛","岩浆战士","火山蜘蛛",null,"火山蜘蛛","蘑菇王",{"$nulls":4},1,"岩浆人","岩浆战士","火山蜘蛛","岩浆人","火精灵","火山蜘蛛","岩浆战士","火精灵",{"$nulls":5},1,"火精灵","火山蜘蛛","岩浆战士",null,"岩浆蝎","火山蜘蛛","岩浆人","岩浆战士"]
[null,null,3,"岩浆人",null,"岩浆战士",null,"火山蜘蛛","岩浆蝎","火山蜘蛛","岩浆战士","火山蜘蛛","岩浆战士",{"$nulls":4},3,"火精灵","岩浆蝎",null,"岩浆战士","岩浆蝎","蘑菇王","火精灵","岩浆人",{"$nulls":5},3,"岩浆人",null,"岩浆战士",null,"岩浆战士","火山蜘蛛",null,"岩浆战士","岩浆蝎"]
[null,null,5,"火精灵","岩浆蝎",null,"岩浆蝎","火山蜘蛛",null,"火山蜘蛛","岩浆蝎","火山蜘蛛","岩浆人",{"$nulls":4},5,"岩浆蝎",null,null,"火精灵","岩浆人",null,"岩浆人","岩浆蝎",{"$nulls":5},5,null,"火山蜘蛛",null,"岩浆蝎",null,"火山蜘蛛","岩浆蝎","岩浆人","岩浆蝎"]
[null,null,7,null,"岩浆蝎","岩浆人","岩浆人",null,"火精灵",null,"岩浆人",null,"火精灵",{"$nulls":4},7,{"$nulls":13},7,null,null,null,"岩浆蝎","岩浆人",null,"火精灵","火精灵","岩浆人"]
[null,null,9,null,null,null,"火精灵",null,"岩浆人",null,"火精灵",{"$nulls":6},9,{"$nulls":13},9,{"$nulls":4},"火精灵",null,"岩浆人"]
[]
[null,null,"位置",5,10,18,28,35,45,50,60,65,75,{"$nulls":4},"位置",5,10,15,30,46,50,65,82,{"$nulls":5},"位置",3,5,9,15,23,30,40,50,60,null,null,{"$f":"_xlfn.TEXTJOIN(\"^\",,AG143:AG157)","v":"2^1^3"}]
[null,null,8,null,null,null,{"$f":"$C143","v":8},null,{"$f":"$C143","v":8},null,{"$f":"$C143","v":8},{"$nulls":4},{"$f":"_xlfn.TEXTJOIN(\"^\",,D143:D157)","v":"4^2^3^5"},null,8,{"$nulls":13},8,{"$nulls":4},{"$f":"$C143","v":8},null,{"$f":"$C143","v":8},{"$nulls":4},{"$f":"_xlfn.TEXTJOIN(\"^\",,AH143:AH157)","v":"101^103^105"}]
[null,null,6,null,{"$f":"$C144","v":6},{"$f":"$C144","v":6},6,null,6,null,6,null,{"$f":"$C144","v":6},null,null,{"$f":"_xlfn.TEXTJOIN(\"^\",,E143:E157)","v":"6^4^1^5^7"},null,6,{"$nulls":11},{"$f":"_xlfn.TEXTJOIN(\"^\",,S143:S157)","v":"0^0^0"},null,6,null,null,null,{"$f":"$C144","v":6},6,null,6,6,6,null,null,{"$f":"_xlfn.TEXTJOIN(\"^\",,AI143:AI157)","v":"2^1^3"}]
[null,null,4,{"$f":"$C145","v":4},4,null,4,null,null,null,4,null,4,null,null,{"$f":"_xlfn.TEXTJOIN(\"^\",,F143:F157)","v":"6^2^1^3^7"},null,4,{"$nulls":11},{"$f":"_xlfn.TEXTJOIN(\"^\",,T143:T157)","v":"0^0"},null,4,null,null,null,4,null,null,4,4,4,null,null,{"$f":"_xlfn.TEXTJOIN(\"^\",,AJ143:AJ157)","v":"6^4^5^7"}]
[null,null,2,{"$f":"$C146","v":2},null,{"$f":"$C146","v":2},null,null,{"$f":"$C146","v":2},null,2,null,2,null,null,{"$f":"_xlfn.TEXTJOIN(\"^\",,G143:G157)","v":"8^6^4^1^5^7^9"},null,2,{"$nulls":11},{"$f":"_xlfn.TEXTJOIN(\"^\",,U143:U157)","v":"100"},null,2,{"$f":"$C146","v":2},null,{"$f":"$C146","v":2},null,{"$f":"$C146","v":2},null,null,2,2,null,null,{"$f":"_xlfn.TEXTJOIN(\"^\",,AK143:AK157)","v":"8^6^2^1^3^7^9"}]
[null,null,1,null,{"$f":"$C147","v":1},1,1,null,1,null,null,null,1,null,null,{"$f":"_xlfn.TEXTJOIN(\"^\",,H143:H157)","v":"101^102^103^104^105"},null,1,0,0,100,0,0,100,0,0,null,null,null,{"$f":"_xlfn.TEXTJOIN(\"^\",,V143:V157)","v":"0^0^0"},null,1,1,null,1,null,1,null,{"$f":"$C147","v":1},1,null,null,null,{"$f":"_xlfn.TEXTJOIN(\"^\",,AL143:AL157)","v":"101^102^103^104^105"}]
[null,null,3,{"$f":"$C148","v":3},null,3,null,null,3,null,{"$f":"$C148","v":3},null,3,null,null,{"$f":"_xlfn.TEXTJOIN(\"^\",,I143:I157)","v":"8^6^2^1^3^7^9"},null,3,0,0,null,0,0,0,0,0,null,null,null,{"$f":"_xlfn.TEXTJOIN(\"^\",,W143:W157)","v":"0^0^0"},null,3,3,null,3,null,3,null,null,{"$f":"$C148","v":3},3,null,null,{"$f":"_xlfn.TEXTJOIN(\"^\",,AM143:AM157)","v":"8^6^4^1^5^7^9"}]
[null,null,5,5,5,null,{"$f":"$C149","v":5},null,null,null,5,null,5,null,null,{"$f":"_xlfn.TEXTJOIN(\"^\",,J143:J157)","v":"101^102^103^104^105"},null,5,0,null,null,0,0,null,0,0,null,null,null,{"$f":"_xlfn.TEXTJOIN(\"^\",,X143:X157)","v":"100^0"},null,5,null,null,null,{"$f":"$C149","v":5},null,null,5,5,5,null,null,{"$f":"_xlfn.TEXTJOIN(\"^\",,AN143:AN157)","v":"6^4^2^1^3^5^7"}]
[null,null,7,null,7,{"$f":"$C150","v":7},7,null,{"$f":"$C150","v":7},null,7,null,7,null,null,{"$f":"_xlfn.TEXTJOIN(\"^\",,K143:K157)","v":"8^6^4^2^3^5^7^9"},null,7,{"$nulls":11},{"$f":"_xlfn.TEXTJOIN(\"^\",,Y143:Y157)","v":"0^0^0"},null,7,null,null,null,7,7,null,7,7,7,null,null,{"$f":"_xlfn.TEXTJOIN(\"^\",,AO143:AO157)","v":"6^4^2^3^5^7"}]
[null,null,9,null,null,null,9,null,9,null,9,{"$nulls":4},{"$f":"_xlfn.TEXTJOIN(\"^\",,L143:L157)","v":"101^102^103^104^105"},null,9,{"$nulls":13},9,{"$nulls":4},9,null,9,{"$nulls":4},{"$f":"_xlfn.TEXTJOIN(\"^\",,AP143:AP157)","v":""}]
[null,null,"空降",{"$nulls":12},{"$f":"_xlfn.TEXTJOIN(\"^\",,M143:M157)","v":"6^4^2^1^3^5^7"},null,"空降",{"$nulls":13},"空降",{"$nulls":11},{"$f":"_xlfn.TEXTJOIN(\"^\",,AQ143:AQ151)","v":""}]
[null,null,101,{"$nulls":4},{"$f":"$C153","v":101},null,{"$f":"$C153","v":101},null,{"$f":"$C153","v":101},null,null,null,{"$f":"_xlfn.TEXTJOIN(\"^\",,N143:N157)","v":""},null,101,{"$nulls":11},{"$f":"_xlfn.TEXTJOIN(\"^\",,Z143:Z157)","v":"0^0^0"},null,101,null,{"$f":"$C153","v":101},null,null,null,{"$f":"$C153","v":101}]
[null,null,102,{"$nulls":4},102,null,{"$f":"$C154","v":102},null,102,{"$nulls":5},102,{"$nulls":11},{"$f":"_xlfn.TEXTJOIN(\"^\",,AA143:AA157)","v":""},null,102,{"$nulls":5},102]
[null,null,103,{"$nulls":4},103,null,{"$f":"$C155","v":103},null,103,{"$nulls":5},103,{"$nulls":11},{"$f":"_xlfn.TEXTJOIN(\"^\",,AB143:AB157)","v":""},null,103,null,{"$f":"$C155","v":103},null,null,null,103]
[null,null,104,{"$nulls":4},{"$f":"$C156","v":104},null,{"$f":"$C156","v":104},null,{"$f":"$C156","v":104},{"$nulls":5},104,{"$nulls":13},104,{"$nulls":5},{"$f":"$C156","v":104}]
[null,null,105,{"$nulls":4},105,null,{"$f":"$C157","v":105},null,105,{"$nulls":5},105,{"$nulls":13},105,null,{"$f":"$C157","v":105},null,null,null,105]
[{"$nulls":14},"最终",{"$f":"_xlfn.TEXTJOIN(\"^\",,P143:P157)","v":"4^2^3^5^6^4^1^5^7^6^2^1^3^7^8^6^4^1^5^7^9^101^102^103^104^105^8^6^2^1^3^7^9^101^102^103^104^105^8^6^4^2^3^5^7^9^101^102^103^104^105^6^4^2^1^3^5^7"},{"$nulls":12},"最终",{"$f":"_xlfn.TEXTJOIN(\"|\",,AD143:AD157)","v":"0^0^0|0^0|100|0^0^0|0^0^0|100^0|0^0^0|0^0^0"},{"$nulls":12},"最终",{"$f":"_xlfn.TEXTJOIN(\"^\",,AR142:AR157)","v":"2^1^3^101^103^105^2^1^3^6^4^5^7^8^6^2^1^3^7^9^101^102^103^104^105^8^6^4^1^5^7^9^6^4^2^1^3^5^7^6^4^2^3^5^7"}]
[]
[null,null,"时间",5,10,18,28,35,45,50,60,65,75,{"$nulls":4},"时间",5,10,15,30,46,50,65,82,null,null,null,{"$f":"_xlfn.TEXTJOIN(\"^\",,S161:S169)","v":"6^4^15"},null,"时间",3,5,9,15,23,30,40,50,60,null,null,{"$f":"_xlfn.TEXTJOIN(\"^\",,AG161:AG169)","v":"3^3^3"}]
[null,null,8,null,null,null,{"$f":"G$160","v":28},null,{"$f":"I$160","v":45},null,{"$f":"K$160","v":60},{"$nulls":4},{"$f":"_xlfn.TEXTJOIN(\"^\",,D161:D170)","v":"5^5^5^5"},null,8,{"$nulls":11},{"$f":"_xlfn.TEXTJOIN(\"^\",,T161:T169)","v":"3^8"},null,8,{"$nulls":4},{"$f":"AK$160","v":23},null,{"$f":"AM$160","v":40},{"$nulls":4},{"$f":"_xlfn.TEXTJOIN(\"^\",,AH161:AH169)","v":"5^5^5"}]
[null,null,6,null,{"$f":"E$160","v":10},{"$f":"F$160","v":18},28,null,45,null,60,null,{"$f":"M$160","v":75},null,null,{"$f":"_xlfn.TEXTJOIN(\"^\",,E161:E170)","v":"10^10^10^10^10"},null,6,{"$nulls":11},{"$f":"_xlfn.TEXTJOIN(\"^\",,U161:U169)","v":"8"},null,6,null,null,null,{"$f":"AJ$160","v":15},23,null,40,50,{"$f":"AO$160","v":60},null,null,{"$f":"_xlfn.TEXTJOIN(\"^\",,AI161:AI169)","v":"9^9^9"}]
[null,null,4,{"$f":"D$160","v":5},10,null,28,35,null,{"$f":"J$160","v":50},60,65,75,null,null,{"$f":"_xlfn.TEXTJOIN(\"^\",,F161:F170)","v":"18^18^18^18^18"},null,4,{"$nulls":11},{"$f":"_xlfn.TEXTJOIN(\"^\",,V161:V169)","v":"4^3^3"},null,4,null,{"$f":"AH$160","v":5},null,15,null,{"$f":"AL$160","v":30},40,50,60,null,null,{"$f":"_xlfn.TEXTJOIN(\"^\",,AJ161:AJ169)","v":"15^15^15^15"}]
[null,null,2,5,null,{"$f":"F$160","v":18},null,35,45,{"$f":"J$160","v":50},60,65,75,null,null,{"$f":"_xlfn.TEXTJOIN(\"^\",,G161:G170)","v":"28^28^28^28^28^28^28"},null,2,{"$nulls":11},{"$f":"_xlfn.TEXTJOIN(\"^\",,W161:W169)","v":"2^7^3"},null,2,{"$f":"AG$160","v":3},null,{"$f":"AI$160","v":9},null,{"$f":"AK$160","v":23},30,null,50,60,null,null,{"$f":"_xlfn.TEXTJOIN(\"^\",,AK161:AK169)","v":"23^23^23^23^23^23^23"}]
[null,null,1,null,{"$f":"E$160","v":10},18,28,35,45,{"$f":"J$160","v":50},null,65,75,null,null,{"$f":"_xlfn.TEXTJOIN(\"^\",,H161:H170)","v":"35^35^35^35^35"},null,1,6,3,8,4,2,9,3,2,null,null,null,{"$f":"_xlfn.TEXTJOIN(\"^\",,X161:X169)","v":"9^1"},null,1,3,{"$f":"AH$160","v":5},9,null,23,30,40,50,null,null,null,{"$f":"_xlfn.TEXTJOIN(\"^\",,AL161:AL169)","v":"30^30^30^30^30"}]
[null,null,3,{"$f":"D$160","v":5},null,18,null,{"$f":"H$160","v":35},45,{"$f":"J$160","v":50},{"$f":"K$160","v":60},65,75,null,null,{"$f":"_xlfn.TEXTJOIN(\"^\",,I161:I170)","v":"45^45^45^45^45^45^45"},null,3,4,8,null,3,7,1,3,3,null,null,null,{"$f":"_xlfn.TEXTJOIN(\"^\",,Y161:Y169)","v":"3^3^4"},null,3,3,null,9,null,23,30,null,{"$f":"AN$160","v":50},60,null,null,{"$f":"_xlfn.TEXTJOIN(\"^\",,AM161:AM169)","v":"40^40^40^40^40^40^40"}]
[null,null,5,5,10,null,{"$f":"G$160","v":28},35,null,{"$f":"J$160","v":50},60,65,75,null,null,{"$f":"_xlfn.TEXTJOIN(\"^\",,J161:J170)","v":"50^50^50^50^50"},null,5,15,null,null,3,3,null,4,8,null,null,null,{"$f":"_xlfn.TEXTJOIN(\"^\",,Z161:Z169)","v":"2^3^8"},null,5,null,{"$f":"AH$160","v":5},null,{"$f":"AJ$160","v":15},null,30,40,50,60,null,null,{"$f":"_xlfn.TEXTJOIN(\"^\",,AN161:AN169)","v":"50^50^50^50^50^50^50"}]
[null,null,7,null,10,{"$f":"F$160","v":18},28,null,{"$f":"I$160","v":45},null,60,null,75,null,null,{"$f":"_xlfn.TEXTJOIN(\"^\",,K161:K170)","v":"60^60^60^60^60^60^60^60"},null,7,{"$nulls":11},{"$f":"_xlfn.TEXTJOIN(\"^\",,AA161:AA169)","v":""},null,7,null,null,null,15,23,null,40,50,60,null,null,{"$f":"_xlfn.TEXTJOIN(\"^\",,AO161:AO169)","v":"60^60^60^60^60^60"}]
[null,null,9,null,null,null,28,null,45,null,60,{"$nulls":4},{"$f":"_xlfn.TEXTJOIN(\"^\",,L161:L170)","v":"65^65^65^65^65"},null,9,{"$nulls":11},{"$f":"_xlfn.TEXTJOIN(\"^\",,AB161:AB169)","v":""},null,9,{"$nulls":4},23,null,40,{"$nulls":4},{"$f":"_xlfn.TEXTJOIN(\"^\",,AP161:AP169)","v":""}]
[{"$nulls":15},{"$f":"_xlfn.TEXTJOIN(\"^\",,M161:M170)","v":"75^75^75^75^75^75^75"},{"$nulls":13},{"$f":"_xlfn.TEXTJOIN(\"^\",,AC161:AC169)","v":""},{"$nulls":13},{"$f":"_xlfn.TEXTJOIN(\"^\",,AQ161:AQ169)","v":""}]
[{"$nulls":15},{"$f":"_xlfn.TEXTJOIN(\"^\",,N161:N170)","v":""},{"$nulls":12},"最终",{"$f":"_xlfn.TEXTJOIN(\"|\",,AD160:AD170)","v":"6^4^15|3^8|8|4^3^3|2^7^3|9^1|3^3^4|2^3^8"},{"$nulls":12},"最终",{"$f":"_xlfn.TEXTJOIN(\"^\",,AR160:AR170)","v":"3^3^3^5^5^5^9^9^9^15^15^15^15^23^23^23^23^23^23^23^30^30^30^30^30^40^40^40^40^40^40^40^50^50^50^50^50^50^50^60^60^60^60^60^60"}]
[{"$nulls":14},"最终",{"$f":"_xlfn.TEXTJOIN(\"^\",,P161:P171)","v":"5^5^5^5^10^10^10^10^10^18^18^18^18^18^28^28^28^28^28^28^28^35^35^35^35^35^45^45^45^45^45^45^45^50^50^50^50^50^60^60^60^60^60^60^60^60^65^65^65^65^65^75^75^75^75^75^75^75"}]
[{"$nulls":15},{"$f":"COUNT(D161:M169)","v":58},{"$nulls":13},{"$f":"SUM(S161:AA169)","v":99},{"$nulls":13},{"$f":"COUNT(AG161:AO169)","v":45}]
[{"$nulls":43},{"$f":"AR173+AD173+P173","v":202}]
[]
[{"$nulls":4},{"$f":"E177-D177","v":5},{"$f":"F177-E177","v":6},4,10,{"$f":"I177-H177","v":10},{"$f":"J177-I177","v":10},5,10,10,{"$nulls":6},{"$f":"T177-S177","v":4},6,8,8,5,10,10,{"$nulls":7},{"$f":"AH177-AG177","v":2},3,4,6,7,8,7,10]
[1,"炎地-4","波1·怪物",5,10,16,20,30,40,50,55,65,75,null,null,null,1,"波2·怪物",4,8,14,22,30,35,45,55,{"$nulls":4},1,"波3·怪物",3,5,8,12,18,25,33,40,50]
[null,"5m",8,{"$nulls":5},60294,null,null,60294,null,null,null,{"$f":"_xlfn.TEXTJOIN(\"^\",,D178:D187)","v":"60291^60291^60291^60291"},null,8,null,null,null,60292,null,null,null,60294,null,null,null,{"$f":"_xlfn.TEXTJOIN(\"^\",,S178:S187)","v":"60295^60295^60295^60295^60295"},null,8,{"$nulls":11},{"$f":"_xlfn.TEXTJOIN(\"^\",,AG178:AG187)","v":"60292^60294^60292"}]
[null,null,6,null,null,60292,null,60292,60292,60293,null,60292,60294,null,null,{"$f":"_xlfn.TEXTJOIN(\"^\",,E178:E187)","v":"60292^60294^60294^60292"},null,6,null,null,null,60294,null,null,60292,60291,null,null,null,{"$f":"_xlfn.TEXTJOIN(\"^\",,T178:T187)","v":"60294^60292^60292^60292^60294"},null,6,null,null,60291,null,60292,60294,60292,null,60292,null,null,{"$f":"_xlfn.TEXTJOIN(\"^\",,AH178:AH187)","v":"60293^60293^60293"}]
[null,null,4,null,60292,60293,60295,60291,60291,60291,60295,60291,60292,null,null,{"$f":"_xlfn.TEXTJOIN(\"^\",,F178:F187)","v":"60292^60293^60294^60293^60292"},null,4,60295,60294,60291,60291,60291,60295,60291,{"$nulls":4},{"$f":"_xlfn.TEXTJOIN(\"^\",,U178:U187)","v":"60291^60291^60291^60291^60291"},null,4,null,60293,60291,60295,60291,60291,60291,60294,60291,null,null,{"$f":"_xlfn.TEXTJOIN(\"^\",,AI178:AI187)","v":"60291^60291^60291^60291"}]
[null,null,2,60291,60294,null,60295,60293,60291,60292,60295,60293,60293,null,null,{"$f":"_xlfn.TEXTJOIN(\"^\",,G178:G187)","v":"60295^60295^60295^60295^60295"},null,2,60295,60292,60291,60293,60292,60295,60293,60292,null,null,null,{"$f":"_xlfn.TEXTJOIN(\"^\",,V178:V187)","v":"60292^60294^60291^60293^60293^60291^60294^60292"},null,2,60292,null,null,60295,60293,60292,60293,60292,60293,null,null,{"$f":"_xlfn.TEXTJOIN(\"^\",,AJ178:AJ187)","v":"60295^60295^60295^60295^60295"}]
[null,null,1,60291,60294,60294,60295,60294,null,60296,60295,null,60292,null,null,{"$f":"_xlfn.TEXTJOIN(\"^\",,H178:H187)","v":"60292^60291^60293^60294^60293^60291^60292"},null,1,60295,60292,60291,null,60292,60295,60296,60292,null,null,null,{"$f":"_xlfn.TEXTJOIN(\"^\",,W178:W187)","v":"60291^60292^60292^60292^60291"},null,1,60294,60293,null,60295,60296,60292,60293,60291,60292,null,null,{"$f":"_xlfn.TEXTJOIN(\"^\",,AK178:AK187)","v":"60292^60291^60293^60296^60293^60291^60292"}]
[null,null,3,60291,60292,null,60295,60293,60291,60292,60295,60293,60293,null,null,{"$f":"_xlfn.TEXTJOIN(\"^\",,I178:I187)","v":"60294^60292^60291^60291^60291^60291^60292^60294"},null,3,60295,60292,60291,60293,60292,60295,60293,60292,null,null,null,{"$f":"_xlfn.TEXTJOIN(\"^\",,X178:X187)","v":"60295^60295^60295^60295^60295"},null,3,60292,null,null,60295,60293,60292,60291,60291,60293,null,null,{"$f":"_xlfn.TEXTJOIN(\"^\",,AL178:AL187)","v":"60294^60291^60292^60292^60292^60291^60294"}]
[null,null,5,60291,null,60293,60295,60291,60291,60291,60295,60291,60292,null,null,{"$f":"_xlfn.TEXTJOIN(\"^\",,J178:J187)","v":"60293^60291^60292^60296^60292^60291^60293"},null,5,60295,60294,60291,60291,60291,60295,60291,{"$nulls":4},{"$f":"_xlfn.TEXTJOIN(\"^\",,Y178:Y187)","v":"60292^60291^60293^60296^60293^60291^60292"},null,5,null,60293,60291,60295,60291,60291,60292,60292,60291,null,null,{"$f":"_xlfn.TEXTJOIN(\"^\",,AM178:AM187)","v":"60292^60291^60293^60293^60291^60292"}]
[null,null,7,null,null,60292,null,60292,60292,60293,null,60292,60294,null,null,{"$f":"_xlfn.TEXTJOIN(\"^\",,K178:K187)","v":"60295^60295^60295^60295^60295"},null,7,null,null,null,60294,null,null,60292,60291,null,null,null,{"$f":"_xlfn.TEXTJOIN(\"^\",,Z178:Z187)","v":"60294^60291^60292^60292^60292^60291^60294"},null,7,null,null,60291,null,60292,60294,null,60294,60292,null,null,{"$f":"_xlfn.TEXTJOIN(\"^\",,AN178:AN187)","v":"60294^60292^60291^60291^60292^60294"}]
[null,null,9,{"$nulls":5},60294,null,null,60294,null,null,null,{"$f":"_xlfn.TEXTJOIN(\"^\",,L178:L187)","v":"60294^60292^60291^60293^60293^60291^60292^60294"},null,9,null,null,null,60292,null,null,null,60294,null,null,null,{"$f":"_xlfn.TEXTJOIN(\"^\",,AA178:AA187)","v":""},null,9,{"$nulls":11},{"$f":"_xlfn.TEXTJOIN(\"^\",,AO178:AO187)","v":"60292^60291^60293^60292^60293^60291^60292"}]
[{"$nulls":15},{"$f":"_xlfn.TEXTJOIN(\"^\",,M178:M187)","v":"60294^60292^60293^60292^60293^60292^60294"},{"$nulls":13},{"$f":"_xlfn.TEXTJOIN(\"^\",,AB178:AB187)","v":""},{"$nulls":13},{"$f":"_xlfn.TEXTJOIN(\"^\",,AP178:AP187)","v":""}]
[{"$nulls":15},{"$f":"_xlfn.TEXTJOIN(\"^\",,N178:N187)","v":""},{"$nulls":13},{"$f":"_xlfn.TEXTJOIN(\"^\",,AC178:AC187)","v":""},{"$nulls":13},{"$f":"_xlfn.TEXTJOIN(\"^\",,AQ178:AQ187)","v":""}]
[{"$nulls":14},"最终",{"$f":"_xlfn.TEXTJOIN(\"^\",,P178:P188)","v":"60291^60291^60291^60291^60292^60294^60294^60292^60292^60293^60294^60293^60292^60295^60295^60295^60295^60295^60292^60291^60293^60294^60293^60291^60292^60294^60292^60291^60291^60291^60291^60292^60294^60293^60291^60292^60296^60292^60291^60293^60295^60295^60295^60295^60295^60294^60292^60291^60293^60293^60291^60292^60294^60294^60292^60293^60292^60293^60292^60294"},{"$nulls":12},"最终",{"$f":"_xlfn.TEXTJOIN(\"^\",,AD178:AD188)","v":"60295^60295^60295^60295^60295^60294^60292^60292^60292^60294^60291^60291^60291^60291^60291^60292^60294^60291^60293^60293^60291^60294^60292^60291^60292^60292^60292^60291^60295^60295^60295^60295^60295^60292^60291^60293^60296^60293^60291^60292^60294^60291^60292^60292^60292^60291^60294"},{"$nulls":12},"最终",{"$f":"_xlfn.TEXTJOIN(\"^\",,AR178:AR188)","v":"60292^60294^60292^60293^60293^60293^60291^60291^60291^60291^60295^60295^60295^60295^60295^60292^60291^60293^60296^60293^60291^60292^60294^60291^60292^60292^60292^60291^60294^60292^60291^60293^60293^60291^60292^60294^60292^60291^60291^60292^60294^60292^60291^60293^60292^60293^60291^60292"}]
[null,null,8,{"$nulls":5},"火精灵",null,null,"火精灵",{"$nulls":5},8,null,null,null,"岩浆人",null,null,null,"火精灵",{"$nulls":5},8]
[null,null,6,null,null,"岩浆人",null,"岩浆人","岩浆人","岩浆战士",null,"岩浆人","火精灵",{"$nulls":4},6,null,null,null,"火精灵",null,null,"岩浆人","岩浆蝎",{"$nulls":5},6,null,null,"岩浆蝎",null,"岩浆人","火精灵","岩浆人",null,"岩浆人"]
[null,null,4,null,"岩浆人","岩浆战士","火山蜘蛛","岩浆蝎","岩浆蝎","岩浆蝎","火山蜘蛛","岩浆蝎","岩浆人",{"$nulls":4},4,"火山蜘蛛","火精灵","岩浆蝎","岩浆蝎","岩浆蝎","火山蜘蛛","岩浆蝎",{"$nulls":6},4,null,"岩浆战士","岩浆蝎","火山蜘蛛","岩浆蝎","岩浆蝎","岩浆蝎","火精灵","岩浆蝎"]
[null,null,2,"岩浆蝎","火精灵",null,"火山蜘蛛","岩浆战士","岩浆蝎","岩浆人","火山蜘蛛","岩浆战士","岩浆战士",{"$nulls":4},2,"火山蜘蛛","岩浆人","岩浆蝎","岩浆战士","岩浆人","火山蜘蛛","岩浆战士","岩浆人",{"$nulls":5},2,"岩浆人",null,null,"火山蜘蛛","岩浆战士","岩浆人","岩浆战士","岩浆人","岩浆战士"]
[null,null,1,"岩浆蝎","火精灵","火精灵","火山蜘蛛","火精灵",null,"蘑菇王","火山蜘蛛",null,"岩浆人",{"$nulls":4},1,"火山蜘蛛","岩浆人","岩浆蝎",null,"岩浆人","火山蜘蛛","蘑菇王","岩浆人",{"$nulls":5},1,"火精灵","岩浆战士",null,"火山蜘蛛","蘑菇王","岩浆人","岩浆战士","岩浆蝎","岩浆人"]
[null,null,3,"岩浆蝎","岩浆人",null,"火山蜘蛛","岩浆战士","岩浆蝎","岩浆人","火山蜘蛛","岩浆战士","岩浆战士",{"$nulls":4},3,"火山蜘蛛","岩浆人","岩浆蝎","岩浆战士","岩浆人","火山蜘蛛","岩浆战士","岩浆人",{"$nulls":5},3,"岩浆人",null,null,"火山蜘蛛","岩浆战士","岩浆人","岩浆蝎","岩浆蝎","岩浆战士"]
[null,null,5,"岩浆蝎",null,"岩浆战士","火山蜘蛛","岩浆蝎","岩浆蝎","岩浆蝎","火山蜘蛛","岩浆蝎","岩浆人",{"$nulls":4},5,"火山蜘蛛","火精灵","岩浆蝎","岩浆蝎","岩浆蝎","火山蜘蛛","岩浆蝎",{"$nulls":6},5,null,"岩浆战士","岩浆蝎","火山蜘蛛","岩浆蝎","岩浆蝎","岩浆人","岩浆人","岩浆蝎"]
[null,null,7,null,null,"岩浆人",null,"岩浆人","岩浆人","岩浆战士",null,"岩浆人","火精灵",{"$nulls":4},7,null,null,null,"火精灵",null,null,"岩浆人","岩浆蝎",{"$nulls":5},7,null,null,"岩浆蝎",null,"岩浆人","火精灵",null,"火精灵","岩浆人"]
[null,null,9,{"$nulls":5},"火精灵",null,null,"火精灵",{"$nulls":5},9,null,null,null,"岩浆人",null,null,null,"火精灵",{"$nulls":5},9]
[]
[null,null,"位置",5,10,16,20,30,40,50,55,65,75,{"$nulls":4},"位置",4,8,14,30,47,50,65,80,{"$nulls":5},"位置",3,5,8,12,18,25,33,40,50,null,null,{"$f":"_xlfn.TEXTJOIN(\"^\",,AG201:AG215)","v":"2^1^3"}]
[null,null,8,{"$nulls":5},{"$f":"$AF201","v":8},null,null,{"$f":"$AF201","v":8},null,null,null,{"$f":"_xlfn.TEXTJOIN(\"^\",,D201:D215)","v":"2^1^3^5"},null,8,null,null,null,{"$f":"$AF201","v":8},null,null,null,{"$f":"$AF201","v":8},{"$nulls":5},8,{"$nulls":11},{"$f":"_xlfn.TEXTJOIN(\"^\",,AH201:AH215)","v":"4^1^5"}]
[null,null,6,null,null,{"$f":"$AF202","v":6},null,{"$f":"$AF202","v":6},6,6,null,6,6,null,null,{"$f":"_xlfn.TEXTJOIN(\"^\",,E201:E215)","v":"4^2^1^3"},null,6,null,null,null,6,null,null,{"$f":"$AF202","v":6},6,null,null,null,{"$f":"_xlfn.TEXTJOIN(\"^\",,S201:S215)","v":"101^102^103^104^105"},null,6,null,null,{"$f":"$AF202","v":6},null,{"$f":"$AF202","v":6},6,6,null,{"$f":"$AF202","v":6},null,null,{"$f":"_xlfn.TEXTJOIN(\"^\",,AI201:AI215)","v":"6^4^5^7"}]
[null,null,4,null,{"$f":"$AF203","v":4},4,null,4,4,4,null,4,4,null,null,{"$f":"_xlfn.TEXTJOIN(\"^\",,F201:F215)","v":"6^4^1^5^7"},null,4,null,{"$f":"$AF203","v":4},4,4,4,null,4,{"$nulls":4},{"$f":"_xlfn.TEXTJOIN(\"^\",,T201:T215)","v":"4^2^1^3^5"},null,4,null,{"$f":"$AF203","v":4},4,null,4,4,4,4,4,null,null,{"$f":"_xlfn.TEXTJOIN(\"^\",,AJ201:AJ215)","v":"101^102^103^104^105"}]
[null,null,2,{"$f":"$AF204","v":2},2,null,null,2,2,2,null,2,2,null,null,{"$f":"_xlfn.TEXTJOIN(\"^\",,G201:G215)","v":"101^102^103^104^105"},null,2,null,2,2,2,2,null,2,2,null,null,null,{"$f":"_xlfn.TEXTJOIN(\"^\",,U201:U215)","v":"4^2^1^3^5"},null,2,{"$f":"$AF204","v":2},null,null,null,2,2,2,2,2,null,null,{"$f":"_xlfn.TEXTJOIN(\"^\",,AK201:AK215)","v":"6^4^2^1^3^5^7"}]
[null,null,1,1,1,1,null,1,null,1,null,null,1,null,null,{"$f":"_xlfn.TEXTJOIN(\"^\",,H201:H215)","v":"6^4^2^1^3^5^7"},null,1,null,1,1,null,1,null,1,1,null,null,null,{"$f":"_xlfn.TEXTJOIN(\"^\",,V201:V215)","v":"8^6^4^2^3^5^7^9"},null,1,1,{"$f":"$AF205","v":1},null,null,1,1,1,1,1,null,null,{"$f":"_xlfn.TEXTJOIN(\"^\",,AL201:AL215)","v":"6^4^2^1^3^5^7"}]
[null,null,3,3,3,null,null,3,3,3,null,{"$f":"$AF206","v":3},3,null,null,{"$f":"_xlfn.TEXTJOIN(\"^\",,I201:I215)","v":"8^6^4^2^3^5^7^9"},null,3,null,{"$f":"$AF206","v":3},3,3,3,null,{"$f":"$AF206","v":3},3,null,null,null,{"$f":"_xlfn.TEXTJOIN(\"^\",,W201:W215)","v":"4^2^1^3^5"},null,3,3,null,null,null,{"$f":"$AF206","v":3},3,3,3,3,null,null,{"$f":"_xlfn.TEXTJOIN(\"^\",,AM201:AM215)","v":"6^4^2^1^3^5"}]
[null,null,5,5,null,{"$f":"$AF207","v":5},null,5,5,5,null,5,5,null,null,{"$f":"_xlfn.TEXTJOIN(\"^\",,J201:J215)","v":"6^4^2^1^3^5^7"},null,5,null,5,5,5,5,null,5,{"$nulls":4},{"$f":"_xlfn.TEXTJOIN(\"^\",,X201:X215)","v":"101^102^103^104^105"},null,5,null,{"$f":"$AF207","v":5},{"$f":"$AF207","v":5},null,5,5,5,5,5,null,null,{"$f":"_xlfn.TEXTJOIN(\"^\",,AN201:AN215)","v":"4^2^1^3^5^7"}]
[null,null,7,null,null,7,null,7,7,7,null,7,7,null,null,{"$f":"_xlfn.TEXTJOIN(\"^\",,K201:K215)","v":"101^102^103^104^105"},null,7,null,null,null,7,null,null,7,7,null,null,null,{"$f":"_xlfn.TEXTJOIN(\"^\",,Y201:Y215)","v":"6^4^2^1^3^5^7"},null,7,null,null,7,null,7,7,null,7,7,null,null,{"$f":"_xlfn.TEXTJOIN(\"^\",,AO201:AO215)","v":"6^4^2^1^3^5^7"}]
[null,null,9,{"$nulls":5},9,null,null,9,null,null,null,{"$f":"_xlfn.TEXTJOIN(\"^\",,L201:L215)","v":"8^6^4^2^3^5^7^9"},null,9,null,null,null,9,null,null,null,9,{"$nulls":5},9,{"$nulls":11},{"$f":"_xlfn.TEXTJOIN(\"^\",,AP201:AP215)","v":""}]
[null,null,"空降",{"$nulls":12},{"$f":"_xlfn.TEXTJOIN(\"^\",,M201:M215)","v":"6^4^2^1^3^5^7"},null,"空降",{"$nulls":13},"空降",{"$nulls":11},{"$f":"_xlfn.TEXTJOIN(\"^\",,AQ201:AQ209)","v":""}]
[null,null,101,null,null,null,{"$f":"$AF211","v":101},null,null,null,{"$f":"$AF211","v":101},{"$nulls":4},{"$f":"_xlfn.TEXTJOIN(\"^\",,N201:N215)","v":""},null,101,{"$f":"$AF211","v":101},{"$nulls":4},{"$f":"$AF211","v":101},{"$nulls":5},{"$f":"_xlfn.TEXTJOIN(\"^\",,Z201:Z215)","v":"8^6^2^1^3^7^9"},null,101,null,null,null,{"$f":"$AF211","v":101}]
[null,null,102,null,null,null,102,null,null,null,102,{"$nulls":6},102,102,{"$nulls":4},102,{"$nulls":5},{"$f":"_xlfn.TEXTJOIN(\"^\",,AA201:AA215)","v":""},null,102,null,null,null,102]
[null,null,103,null,null,null,103,null,null,null,103,{"$nulls":6},103,103,{"$nulls":4},103,{"$nulls":5},{"$f":"_xlfn.TEXTJOIN(\"^\",,AB201:AB215)","v":""},null,103,null,null,null,103]
[null,null,104,null,null,null,104,null,null,null,104,{"$nulls":6},104,104,{"$nulls":4},104,{"$nulls":7},104,null,null,null,{"$f":"$AF214","v":104}]
[null,null,105,null,null,null,105,null,null,null,105,{"$nulls":6},105,{"$f":"$AF215","v":105},{"$nulls":4},105,{"$nulls":7},105,null,null,null,105]
[{"$nulls":14},"最终",{"$f":"_xlfn.TEXTJOIN(\"^\",,P201:P215)","v":"2^1^3^5^4^2^1^3^6^4^1^5^7^101^102^103^104^105^6^4^2^1^3^5^7^8^6^4^2^3^5^7^9^6^4^2^1^3^5^7^101^102^103^104^105^8^6^4^2^3^5^7^9^6^4^2^1^3^5^7"},{"$nulls":12},"最终",{"$f":"_xlfn.TEXTJOIN(\"^\",,AD201:AD215)","v":"101^102^103^104^105^4^2^1^3^5^4^2^1^3^5^8^6^4^2^3^5^7^9^4^2^1^3^5^101^102^103^104^105^6^4^2^1^3^5^7^8^6^2^1^3^7^9"},{"$nulls":12},"最终",{"$f":"_xlfn.TEXTJOIN(\"^\",,AR200:AR215)","v":"2^1^3^4^1^5^6^4^5^7^101^102^103^104^105^6^4^2^1^3^5^7^6^4^2^1^3^5^7^6^4^2^1^3^5^4^2^1^3^5^7^6^4^2^1^3^5^7"}]
[]
[null,null,"时间",5,10,16,20,30,40,50,55,65,75,{"$nulls":4},"时间",4,8,14,30,47,50,65,80,null,null,null,{"$f":"_xlfn.TEXTJOIN(\"^\",,S219:S227)","v":"4^4^4^4^4"},null,"时间",3,5,8,12,18,25,33,40,50,null,null,{"$f":"_xlfn.TEXTJOIN(\"^\",,AG219:AG227)","v":"3^3^3"}]
[null,null,8,{"$nulls":5},{"$f":"I$218","v":40},null,null,{"$f":"L$218","v":65},null,null,null,{"$f":"_xlfn.TEXTJOIN(\"^\",,D219:D228)","v":"5^5^5^5"},null,8,null,null,null,{"$f":"V$218","v":30},null,null,null,{"$f":"Z$218","v":80},null,null,null,{"$f":"_xlfn.TEXTJOIN(\"^\",,T219:T227)","v":"8^8^8^8^8"},null,8,{"$nulls":11},{"$f":"_xlfn.TEXTJOIN(\"^\",,AH219:AH227)","v":"5^5^5"}]
[null,null,6,null,null,{"$f":"F$218","v":16},null,{"$f":"H$218","v":30},40,{"$f":"J$218","v":50},null,65,75,null,null,{"$f":"_xlfn.TEXTJOIN(\"^\",,E219:E228)","v":"10^10^10^10"},null,6,null,null,null,30,null,null,{"$f":"Y$218","v":65},80,null,null,null,{"$f":"_xlfn.TEXTJOIN(\"^\",,U219:U227)","v":"14^14^14^14^14"},null,6,null,null,{"$f":"AI$218","v":8},null,{"$f":"AK$218","v":18},25,33,null,{"$f":"AO$218","v":50},null,null,{"$f":"_xlfn.TEXTJOIN(\"^\",,AI219:AI227)","v":"8^8^8^8"}]
[null,null,4,null,{"$f":"E$218","v":10},16,20,30,40,50,{"$f":"K$218","v":55},65,75,null,null,{"$f":"_xlfn.TEXTJOIN(\"^\",,F219:F228)","v":"16^16^16^16^16"},null,4,{"$f":"S$218","v":4},{"$f":"T$218","v":8},14,30,47,50,65,{"$nulls":4},{"$f":"_xlfn.TEXTJOIN(\"^\",,V219:V227)","v":"30^30^30^30^30^30^30^30"},null,4,null,{"$f":"AH$218","v":5},8,12,18,25,33,40,50,null,null,{"$f":"_xlfn.TEXTJOIN(\"^\",,AJ219:AJ227)","v":"12^12^12^12^12"}]
[null,null,2,{"$f":"D$218","v":5},10,null,20,30,40,50,55,65,75,null,null,{"$f":"_xlfn.TEXTJOIN(\"^\",,G219:G228)","v":"20^20^20^20^20"},null,2,{"$f":"S$218","v":4},8,14,30,47,50,65,80,null,null,null,{"$f":"_xlfn.TEXTJOIN(\"^\",,W219:W227)","v":"47^47^47^47^47"},null,2,{"$f":"AG$218","v":3},null,null,12,{"$f":"AK$218","v":18},25,33,40,50,null,null,{"$f":"_xlfn.TEXTJOIN(\"^\",,AK219:AK227)","v":"18^18^18^18^18^18^18"}]
[null,null,1,{"$f":"D$218","v":5},10,{"$f":"F$218","v":16},20,30,null,50,55,null,75,null,null,{"$f":"_xlfn.TEXTJOIN(\"^\",,H219:H228)","v":"30^30^30^30^30^30^30"},null,1,4,8,14,null,47,50,65,80,null,null,null,{"$f":"_xlfn.TEXTJOIN(\"^\",,X219:X227)","v":"50^50^50^50^50"},null,1,3,{"$f":"AH$218","v":5},null,12,18,25,33,40,50,null,null,{"$f":"_xlfn.TEXTJOIN(\"^\",,AL219:AL227)","v":"25^25^25^25^25^25^25"}]
[null,null,3,5,10,null,20,30,40,50,55,65,75,null,null,{"$f":"_xlfn.TEXTJOIN(\"^\",,I219:I228)","v":"40^40^40^40^40^40^40^40"},null,3,4,{"$f":"T$218","v":8},14,30,47,50,65,80,null,null,null,{"$f":"_xlfn.TEXTJOIN(\"^\",,Y219:Y227)","v":"65^65^65^65^65^65^65"},null,3,3,null,null,{"$f":"AJ$218","v":12},18,25,33,40,50,null,null,{"$f":"_xlfn.TEXTJOIN(\"^\",,AM219:AM227)","v":"33^33^33^33^33^33"}]
[null,null,5,5,null,{"$f":"F$218","v":16},20,30,40,50,55,65,75,null,null,{"$f":"_xlfn.TEXTJOIN(\"^\",,J219:J228)","v":"50^50^50^50^50^50^50"},null,5,{"$f":"S$218","v":4},8,14,30,47,50,65,{"$nulls":4},{"$f":"_xlfn.TEXTJOIN(\"^\",,Z219:Z227)","v":"80^80^80^80^80^80^80"},null,5,null,{"$f":"AH$218","v":5},{"$f":"AI$218","v":8},12,18,25,33,40,50,null,null,{"$f":"_xlfn.TEXTJOIN(\"^\",,AN219:AN227)","v":"40^40^40^40^40^40"}]
[null,null,7,null,null,16,null,{"$f":"H$218","v":30},40,{"$f":"J$218","v":50},null,65,75,null,null,{"$f":"_xlfn.TEXTJOIN(\"^\",,K219:K228)","v":"55^55^55^55^55"},null,7,null,null,null,30,null,null,65,80,null,null,null,{"$f":"_xlfn.TEXTJOIN(\"^\",,AA219:AA227)","v":""},null,7,null,null,8,null,18,25,null,{"$f":"AN$218","v":40},50,null,null,{"$f":"_xlfn.TEXTJOIN(\"^\",,AO219:AO227)","v":"50^50^50^50^50^50^50"}]
[null,null,9,{"$nulls":5},40,null,null,65,null,null,null,{"$f":"_xlfn.TEXTJOIN(\"^\",,L219:L228)","v":"65^65^65^65^65^65^65^65"},null,9,null,null,null,30,null,null,null,80,null,null,null,{"$f":"_xlfn.TEXTJOIN(\"^\",,AB219:AB227)","v":""},null,9,{"$nulls":11},{"$f":"_xlfn.TEXTJOIN(\"^\",,AP219:AP227)","v":""}]
[{"$nulls":15},{"$f":"_xlfn.TEXTJOIN(\"^\",,M219:M228)","v":"75^75^75^75^75^75^75"},{"$nulls":13},{"$f":"_xlfn.TEXTJOIN(\"^\",,AC219:AC227)","v":""},{"$nulls":13},{"$f":"_xlfn.TEXTJOIN(\"^\",,AQ219:AQ227)","v":""}]
[{"$nulls":15},{"$f":"_xlfn.TEXTJOIN(\"^\",,N219:N228)","v":""},{"$nulls":12},"最终",{"$f":"_xlfn.TEXTJOIN(\"^\",,AD218:AD228)","v":"4^4^4^4^4^8^8^8^8^8^14^14^14^14^14^30^30^30^30^30^30^30^30^47^47^47^47^47^50^50^50^50^50^65^65^65^65^65^65^65^80^80^80^80^80^80^80"},{"$nulls":12},"最终",{"$f":"_xlfn.TEXTJOIN(\"^\",,AR218:AR228)","v":"3^3^3^5^5^5^8^8^8^8^12^12^12^12^12^18^18^18^18^18^18^18^25^25^25^25^25^25^25^33^33^33^33^33^33^40^40^40^40^40^40^50^50^50^50^50^50^50"}]
[{"$nulls":14},"最终",{"$f":"_xlfn.TEXTJOIN(\"^\",,P219:P229)","v":"5^5^5^5^10^10^10^10^16^16^16^16^16^20^20^20^20^20^30^30^30^30^30^30^30^40^40^40^40^40^40^40^40^50^50^50^50^50^50^50^55^55^55^55^55^65^65^65^65^65^65^65^65^75^75^75^75^75^75^75"}]
[{"$nulls":15},{"$f":"COUNT(D219:M227)","v":60},{"$nulls":13},{"$f":"COUNT(S219:AA227)","v":47},{"$nulls":13},{"$f":"COUNT(AG219:AO227)","v":48}]
[{"$nulls":43},{"$f":"AR231+AD231+P231","v":155}]
[]
[{"$nulls":4},{"$f":"E235-D235","v":10},{"$f":"F235-E235","v":15},16,4,16,4,15,5,15,{"$nulls":6},{"$f":"T235-S235","v":5},5,5,5,7,8,5,{"$nulls":7},{"$f":"AH235-AG235","v":2},4,5,6,7,8,5,{"$nulls":7},{"$f":"AV235-AU235","v":2},2,3,3,8,10,5]
[3,"炎地-5","波1·怪物",5,15,30,46,50,66,70,85,90,105,null,null,null,1,"波2·怪物",5,10,15,20,25,32,40,45,{"$nulls":4},1,"波3·怪物",3,5,9,14,20,27,35,40,{"$nulls":4},1,"波4·怪物",2,4,6,9,12,20,30,35]
[null,"5m",8,{"$nulls":12},{"$f":"_xlfn.TEXTJOIN(\"^\",,D236:D245)","v":"60301^60304"},null,8,{"$nulls":5},60304,{"$nulls":5},{"$f":"_xlfn.TEXTJOIN(\"^\",,S236:S245)","v":"60301^60301^60301^60301^60301"},null,8,{"$nulls":4},60304,60302,{"$nulls":5},{"$f":"_xlfn.TEXTJOIN(\"^\",,AG236:AG245)","v":"60302^60302^60302^60302"},null,8,{"$nulls":11},{"$f":"_xlfn.TEXTJOIN(\"^\",,AU236:AU245)","v":"60303^60303^60303"}]
[null,null,6,{"$nulls":12},{"$f":"_xlfn.TEXTJOIN(\"^\",,E236:E245)","v":"60301^60302"},null,6,null,null,60302,null,null,60302,60302,{"$nulls":4},{"$f":"_xlfn.TEXTJOIN(\"^\",,T236:T245)","v":"60304^60304^60304"},null,6,60302,null,60301,null,60302,null,60304,{"$nulls":4},{"$f":"_xlfn.TEXTJOIN(\"^\",,AH236:AH245)","v":"60305^60305^60305^60305^60305"},null,6,null,null,null,60301,null,60304,60302,{"$nulls":4},{"$f":"_xlfn.TEXTJOIN(\"^\",,AV236:AV245)","v":"60302^60302^60302"}]
[null,null,4,{"$nulls":12},{"$f":"_xlfn.TEXTJOIN(\"^\",,F236:F245)","v":"60303^60301^60302"},null,4,60301,60304,60302,60305,60303,60301,60301,60305,null,null,null,{"$f":"_xlfn.TEXTJOIN(\"^\",,U236:U245)","v":"60302^60302^60302^60302"},null,4,null,60305,60301,60303,null,60301,60302,60305,null,null,null,{"$f":"_xlfn.TEXTJOIN(\"^\",,AI236:AI245)","v":"60301^60301^60301^60301^60301"},null,4,null,60302,null,60301,60305,60302,60302,60305,null,null,null,{"$f":"_xlfn.TEXTJOIN(\"^\",,AW236:AW245)","v":"60304^60304"}]
[null,null,2,{"$nulls":12},{"$f":"_xlfn.TEXTJOIN(\"^\",,G236:G245)","v":"60301^60302^60304"},null,2,60301,null,null,60305,null,null,60303,60305,null,null,null,{"$f":"_xlfn.TEXTJOIN(\"^\",,V236:V245)","v":"60305^60305^60305^60305^60305"},null,2,60302,60305,null,null,60301,60303,60302,60305,null,null,null,{"$f":"_xlfn.TEXTJOIN(\"^\",,AJ236:AJ245)","v":"60303^60303^60303"},null,2,60303,null,60304,null,60305,60303,60301,60305,null,null,null,{"$f":"_xlfn.TEXTJOIN(\"^\",,AX236:AX245)","v":"60301^60301^60301^60301"}]
[null,null,1,60301,60301,60303,60301,60305,60303,60305,60303,60305,60302,null,null,{"$f":"_xlfn.TEXTJOIN(\"^\",,H236:H245)","v":"60305^60304"},null,1,60301,60304,null,60305,60303,60307,60302,60305,null,null,null,{"$f":"_xlfn.TEXTJOIN(\"^\",,W236:W245)","v":"60303^60303^60303"},null,1,null,60305,60301,60303,60301,60307,null,60305,null,null,null,{"$f":"_xlfn.TEXTJOIN(\"^\",,AK236:AK245)","v":"60304^60302^60301^60301^60301^60302^60304"},null,1,60303,60302,null,null,60305,60306,60304,60305,null,null,null,{"$f":"_xlfn.TEXTJOIN(\"^\",,AY236:AY245)","v":"60305^60305^60305^60305^60305"}]
[null,null,3,60304,60302,60301,60302,60304,60301,60302,60301,60301,60304,null,null,{"$f":"_xlfn.TEXTJOIN(\"^\",,I236:I245)","v":"60303^60301^60302"},null,3,60301,null,null,60305,null,null,60303,60305,null,null,null,{"$f":"_xlfn.TEXTJOIN(\"^\",,X236:X245)","v":"60304^60302^60301^60307^60301^60302^60304"},null,3,60302,60305,null,null,60301,60303,60302,60305,null,null,null,{"$f":"_xlfn.TEXTJOIN(\"^\",,AL236:AL245)","v":"60302^60301^60303^60307^60303^60301^60302"},null,3,60303,null,60304,null,60305,60303,60301,60305,null,null,null,{"$f":"_xlfn.TEXTJOIN(\"^\",,AZ236:AZ245)","v":"60304^60302^60303^60306^60303^60302^60304"}]
[null,null,5,null,null,60302,60304,null,60302,null,60302,60307,60303,null,null,{"$f":"_xlfn.TEXTJOIN(\"^\",,J236:J245)","v":"60305^60302"},null,5,60301,60304,60302,60305,60303,60301,60301,60305,null,null,null,{"$f":"_xlfn.TEXTJOIN(\"^\",,Y236:Y245)","v":"60302^60301^60303^60302^60303^60301^60302"},null,5,null,60305,60301,60303,null,60301,60302,60305,null,null,null,{"$f":"_xlfn.TEXTJOIN(\"^\",,AM236:AM245)","v":"60304^60302^60302^60302^60302^60304"},null,5,null,60302,null,60301,60305,60302,60302,60305,null,null,null,{"$f":"_xlfn.TEXTJOIN(\"^\",,BA236:BA245)","v":"60302^60302^60301^60304^60301^60302^60302"}]
[null,null,7,{"$nulls":7},60304,{"$nulls":4},{"$f":"_xlfn.TEXTJOIN(\"^\",,K236:K245)","v":"60303^60301^60302^60304"},null,7,null,null,60302,null,null,60302,60302,{"$nulls":4},{"$f":"_xlfn.TEXTJOIN(\"^\",,Z236:Z245)","v":"60305^60305^60305^60305^60305"},null,7,60302,null,60301,null,60302,null,60304,{"$nulls":4},{"$f":"_xlfn.TEXTJOIN(\"^\",,AN236:AN245)","v":"60305^60305^60305^60305^60305"},null,7,null,null,null,60301,null,60304,60302,{"$nulls":4},{"$f":"_xlfn.TEXTJOIN(\"^\",,BB236:BB245)","v":"60305^60305^60305^60305^60305"}]
[null,null,9,{"$nulls":12},{"$f":"_xlfn.TEXTJOIN(\"^\",,L236:L245)","v":"60305^60301^60307"},null,9,{"$nulls":5},60304,{"$nulls":5},{"$f":"_xlfn.TEXTJOIN(\"^\",,AA236:AA245)","v":""},null,9,{"$nulls":4},60304,60302,{"$nulls":5},{"$f":"_xlfn.TEXTJOIN(\"^\",,AO236:AO245)","v":""},null,9,{"$nulls":11},{"$f":"_xlfn.TEXTJOIN(\"^\",,BC236:BC245)","v":""}]
[{"$nulls":15},{"$f":"_xlfn.TEXTJOIN(\"^\",,M236:M245)","v":"60302^60304^60303"},{"$nulls":13},{"$f":"_xlfn.TEXTJOIN(\"^\",,AB236:AB245)","v":""},{"$nulls":13},{"$f":"_xlfn.TEXTJOIN(\"^\",,AP236:AP245)","v":""},{"$nulls":13},{"$f":"_xlfn.TEXTJOIN(\"^\",,BD236:BD245)","v":""}]
[{"$nulls":15},{"$f":"_xlfn.TEXTJOIN(\"^\",,N236:N245)","v":""},{"$nulls":13},{"$f":"_xlfn.TEXTJOIN(\"^\",,AC236:AC245)","v":""},{"$nulls":13},{"$f":"_xlfn.TEXTJOIN(\"^\",,AQ236:AQ245)","v":""},{"$nulls":13},{"$f":"_xlfn.TEXTJOIN(\"^\",,BE236:BE245)","v":""}]
[{"$nulls":14},"最终",{"$f":"_xlfn.TEXTJOIN(\"|\",,P236:P246)","v":"60301^60304|60301^60302|60303^60301^60302|60301^60302^60304|60305^60304|60303^60301^60302|60305^60302|60303^60301^60302^60304|60305^60301^60307|60302^60304^60303"},{"$nulls":12},"最终",{"$f":"_xlfn.TEXTJOIN(\"^\",,AD236:AD246)","v":"60301^60301^60301^60301^60301^60304^60304^60304^60302^60302^60302^60302^60305^60305^60305^60305^60305^60303^60303^60303^60304^60302^60301^60307^60301^60302^60304^60302^60301^60303^60302^60303^60301^60302^60305^60305^60305^60305^60305"},{"$nulls":12},"最终",{"$f":"_xlfn.TEXTJOIN(\"^\",,AR236:AR246)","v":"60302^60302^60302^60302^60305^60305^60305^60305^60305^60301^60301^60301^60301^60301^60303^60303^60303^60304^60302^60301^60301^60301^60302^60304^60302^60301^60303^60307^60303^60301^60302^60304^60302^60302^60302^60302^60304^60305^60305^60305^60305^60305"},{"$nulls":12},"最终",{"$f":"_xlfn.TEXTJOIN(\"^\",,BF236:BF246)","v":"60303^60303^60303^60302^60302^60302^60304^60304^60301^60301^60301^60301^60305^60305^60305^60305^60305^60304^60302^60303^60306^60303^60302^60304^60302^60302^60301^60304^60301^60302^60302^60305^60305^60305^60305^60305"}]
[null,null,8,{"$nulls":14},8,{"$nulls":5},"火精灵",{"$nulls":7},8,{"$nulls":4},"火精灵","岩浆人",{"$nulls":7},8]
[null,null,6,{"$nulls":14},6,null,null,"岩浆人",null,null,"岩浆人","岩浆人",{"$nulls":6},6,"岩浆人",null,"岩浆蝎",null,"岩浆人",null,"火精灵",{"$nulls":6},6,null,null,null,"岩浆蝎",null,"火精灵","岩浆人"]
[null,null,4,{"$nulls":14},4,"岩浆蝎","火精灵","岩浆人","火山蜘蛛","岩浆战士","岩浆蝎","岩浆蝎","火山蜘蛛",{"$nulls":5},4,null,"火山蜘蛛","岩浆蝎","岩浆战士",null,"岩浆蝎","岩浆人","火山蜘蛛",{"$nulls":5},4,null,"岩浆人",null,"岩浆蝎","火山蜘蛛","岩浆人","岩浆人","火山蜘蛛"]
[null,null,2,{"$nulls":14},2,"岩浆蝎",null,null,"火山蜘蛛",null,null,"岩浆战士","火山蜘蛛",{"$nulls":5},2,"岩浆人","火山蜘蛛",null,null,"岩浆蝎","岩浆战士","岩浆人","火山蜘蛛",{"$nulls":5},2,"岩浆战士",null,"火精灵",null,"火山蜘蛛","岩浆战士","岩浆蝎","火山蜘蛛"]
[null,null,1,"岩浆蝎","岩浆蝎","岩浆战士","岩浆蝎","火山蜘蛛","岩浆战士","火山蜘蛛","岩浆战士","火山蜘蛛","岩浆人",{"$nulls":4},1,"岩浆蝎","火精灵",null,"火山蜘蛛","岩浆战士","蘑菇王","岩浆人","火山蜘蛛",{"$nulls":5},1,null,"火山蜘蛛","岩浆蝎","岩浆战士","岩浆蝎","蘑菇王",null,"火山蜘蛛",{"$nulls":5},1,"岩浆战士","岩浆人",null,null,"火山蜘蛛","岩浆巨兽","火精灵","火山蜘蛛"]
[null,null,3,"火精灵","岩浆人","岩浆蝎","岩浆人","火精灵","岩浆蝎","岩浆人","岩浆蝎","岩浆蝎","火精灵",{"$nulls":4},3,"岩浆蝎",null,null,"火山蜘蛛",null,null,"岩浆战士","火山蜘蛛",{"$nulls":5},3,"岩浆人","火山蜘蛛",null,null,"岩浆蝎","岩浆战士","岩浆人","火山蜘蛛",{"$nulls":5},3,"岩浆战士",null,"火精灵",null,"火山蜘蛛","岩浆战士","岩浆蝎","火山蜘蛛"]
[null,null,5,null,null,"岩浆人","火精灵",null,"岩浆人",null,"岩浆人","蘑菇王","岩浆战士",{"$nulls":4},5,"岩浆蝎","火精灵","岩浆人","火山蜘蛛","岩浆战士","岩浆蝎","岩浆蝎","火山蜘蛛",{"$nulls":5},5,null,"火山蜘蛛","岩浆蝎","岩浆战士",null,"岩浆蝎","岩浆人","火山蜘蛛",{"$nulls":5},5,null,"岩浆人",null,"岩浆蝎","火山蜘蛛","岩浆人","岩浆人","火山蜘蛛"]
[null,null,7,{"$nulls":7},"火精灵",{"$nulls":6},7,null,null,"岩浆人",null,null,"岩浆人","岩浆人",{"$nulls":6},7,"岩浆人",null,"岩浆蝎",null,"岩浆人",null,"火精灵",{"$nulls":6},7,null,null,null,"岩浆蝎",null,"火精灵","岩浆人"]
[null,null,9,{"$nulls":14},9,{"$nulls":5},"火精灵",{"$nulls":7},9,{"$nulls":4},"火精灵","岩浆人",{"$nulls":7},9]
[]
[null,null,"位置",5,15,30,46,50,66,70,85,90,105,{"$nulls":4},"位置",5,10,15,20,25,32,40,45,{"$nulls":5},"位置",3,5,9,14,20,27,35,40,null,null,null,{"$f":"_xlfn.TEXTJOIN(\"^\",,AG259:AG273)","v":"6^2^3^7"},null,"位置",2,4,6,9,12,20,30,35,null,null,null,{"$f":"_xlfn.TEXTJOIN(\"^\",,AU259:AU273)","v":"2^1^3"}]
[null,null,8,{"$nulls":12},{"$f":"_xlfn.TEXTJOIN(\"^\",,D259:D273)","v":"0^0"},null,8,{"$nulls":5},{"$f":"$C259","v":8},{"$nulls":7},8,{"$nulls":4},{"$f":"$C259","v":8},{"$f":"$C259","v":8},{"$nulls":5},{"$f":"_xlfn.TEXTJOIN(\"^\",,AH259:AH273)","v":"101^102^103^104^105"},null,8,{"$nulls":11},{"$f":"_xlfn.TEXTJOIN(\"^\",,AV259:AV273)","v":"4^1^5"}]
[null,null,6,{"$nulls":12},{"$f":"_xlfn.TEXTJOIN(\"^\",,E259:E273)","v":"0^0"},null,6,null,null,{"$f":"$C260","v":6},null,null,6,6,{"$nulls":4},{"$f":"_xlfn.TEXTJOIN(\"^\",,S259:S273)","v":"4^2^1^3^5"},null,6,{"$f":"$C260","v":6},null,{"$f":"$C260","v":6},null,6,null,{"$f":"$C260","v":6},{"$nulls":4},{"$f":"_xlfn.TEXTJOIN(\"^\",,AI259:AI273)","v":"6^4^1^5^7"},null,6,null,null,null,{"$f":"$C260","v":6},null,{"$f":"$C260","v":6},6,{"$nulls":4},{"$f":"_xlfn.TEXTJOIN(\"^\",,AW259:AW273)","v":"2^3"}]
[null,null,4,{"$nulls":12},{"$f":"_xlfn.TEXTJOIN(\"^\",,F259:F273)","v":"0^0^0"},null,4,{"$f":"$C261","v":4},{"$f":"$C261","v":4},4,null,{"$f":"$C261","v":4},4,4,{"$nulls":4},{"$f":"_xlfn.TEXTJOIN(\"^\",,T259:T273)","v":"4^1^5"},null,4,null,null,4,{"$f":"$C261","v":4},null,{"$f":"$C261","v":4},4,{"$nulls":4},{"$f":"_xlfn.TEXTJOIN(\"^\",,AJ259:AJ273)","v":"4^1^5"},null,4,null,{"$f":"$C261","v":4},null,4,null,4,4,{"$nulls":4},{"$f":"_xlfn.TEXTJOIN(\"^\",,AX259:AX273)","v":"6^4^5^7"}]
[null,null,2,{"$nulls":12},{"$f":"_xlfn.TEXTJOIN(\"^\",,G259:G273)","v":"0^0^0"},null,2,2,{"$nulls":5},2,{"$nulls":4},{"$f":"_xlfn.TEXTJOIN(\"^\",,U259:U273)","v":"6^4^5^7"},null,2,{"$f":"$C262","v":2},null,null,null,{"$f":"$C262","v":2},2,2,{"$nulls":4},{"$f":"_xlfn.TEXTJOIN(\"^\",,AK259:AK273)","v":"8^6^2^1^3^7^9"},null,2,{"$f":"$C262","v":2},null,{"$f":"$C262","v":2},null,null,2,2,{"$nulls":4},{"$f":"_xlfn.TEXTJOIN(\"^\",,AY259:AY273)","v":"101^102^103^104^105"}]
[null,null,1,0,0,0,0,100,0,100,0,100,0,null,null,{"$f":"_xlfn.TEXTJOIN(\"^\",,H259:H273)","v":"100^0"},null,1,1,{"$f":"$C263","v":1},null,null,{"$f":"$C263","v":1},{"$f":"$C263","v":1},1,{"$nulls":4},{"$f":"_xlfn.TEXTJOIN(\"^\",,V259:V273)","v":"101^102^103^104^105"},null,1,null,null,1,{"$f":"$C263","v":1},1,1,{"$nulls":5},{"$f":"_xlfn.TEXTJOIN(\"^\",,AL259:AL273)","v":"8^4^2^1^3^5^9"},null,1,{"$f":"$C263","v":1},{"$f":"$C263","v":1},null,null,null,1,1,{"$nulls":4},{"$f":"_xlfn.TEXTJOIN(\"^\",,AZ259:AZ273)","v":"6^4^2^1^3^5^7"}]
[null,null,3,0,0,0,0,0,0,0,0,0,0,null,null,{"$f":"_xlfn.TEXTJOIN(\"^\",,I259:I273)","v":"0^0^0"},null,3,{"$f":"$C264","v":3},{"$nulls":5},3,{"$nulls":4},{"$f":"_xlfn.TEXTJOIN(\"^\",,W259:W273)","v":"4^1^5"},null,3,{"$f":"$C264","v":3},null,null,null,3,3,3,{"$nulls":4},{"$f":"_xlfn.TEXTJOIN(\"^\",,AM259:AM273)","v":"6^4^2^3^5^7"},null,3,{"$f":"$C264","v":3},null,{"$f":"$C264","v":3},null,null,{"$f":"$C264","v":3},3,{"$nulls":4},{"$f":"_xlfn.TEXTJOIN(\"^\",,BA259:BA273)","v":"6^4^2^1^3^5^7"}]
[null,null,5,null,null,0,0,null,0,null,0,0,0,null,null,{"$f":"_xlfn.TEXTJOIN(\"^\",,J259:J273)","v":"100^0"},null,5,5,{"$f":"$C265","v":5},{"$f":"$C265","v":5},null,{"$f":"$C265","v":5},{"$f":"$C265","v":5},5,{"$nulls":4},{"$f":"_xlfn.TEXTJOIN(\"^\",,X259:X273)","v":"8^6^4^1^5^7^9"},null,5,null,null,{"$f":"$C265","v":5},{"$f":"$C265","v":5},null,5,5,{"$nulls":4},{"$f":"_xlfn.TEXTJOIN(\"^\",,AN259:AN273)","v":"101^102^103^104^105"},null,5,null,{"$f":"$C265","v":5},null,{"$f":"$C265","v":5},null,5,5,{"$nulls":4},{"$f":"_xlfn.TEXTJOIN(\"^\",,BB259:BB273)","v":"101^102^103^104^105"}]
[null,null,7,{"$nulls":7},0,{"$nulls":4},{"$f":"_xlfn.TEXTJOIN(\"^\",,K259:K273)","v":"0^0^0^0"},null,7,null,null,7,null,null,7,7,{"$nulls":4},{"$f":"_xlfn.TEXTJOIN(\"^\",,Y259:Y273)","v":"6^4^2^1^3^5^7"},null,7,{"$f":"$C266","v":7},null,7,null,{"$f":"$C266","v":7},null,7,{"$nulls":4},{"$f":"_xlfn.TEXTJOIN(\"^\",,AO259:AO273)","v":""},null,7,null,null,null,7,null,7,7,{"$nulls":4},{"$f":"_xlfn.TEXTJOIN(\"^\",,BC259:BC273)","v":""}]
[null,null,9,{"$nulls":12},{"$f":"_xlfn.TEXTJOIN(\"^\",,L259:L273)","v":"100^0^0"},null,9,{"$nulls":5},9,{"$nulls":7},9,{"$nulls":4},9,{"$f":"$C267","v":9},{"$nulls":5},{"$f":"_xlfn.TEXTJOIN(\"^\",,AP259:AP273)","v":""},null,9,{"$nulls":11},{"$f":"_xlfn.TEXTJOIN(\"^\",,BD259:BD273)","v":""}]
[null,null,"空降",{"$nulls":12},{"$f":"_xlfn.TEXTJOIN(\"^\",,M259:M273)","v":"0^0^0"},null,"空降",{"$nulls":13},"空降",{"$nulls":11},{"$f":"_xlfn.TEXTJOIN(\"^\",,AQ259:AQ267)","v":""},null,"空降",{"$nulls":11},{"$f":"_xlfn.TEXTJOIN(\"^\",,BE259:BE267)","v":""}]
[null,null,101,{"$nulls":12},{"$f":"_xlfn.TEXTJOIN(\"^\",,N259:N273)","v":""},null,101,null,null,null,{"$f":"$C269","v":101},null,null,null,{"$f":"$C269","v":101},null,null,null,{"$f":"_xlfn.TEXTJOIN(\"^\",,Z259:Z273)","v":"101^102^103^104^105"},null,101,null,{"$f":"$C269","v":101},{"$nulls":5},{"$f":"$C269","v":101},{"$nulls":5},101,{"$nulls":4},{"$f":"$C269","v":101},null,null,{"$f":"$C269","v":101}]
[null,null,102,{"$nulls":14},102,null,null,null,102,null,null,null,102,null,null,null,{"$f":"_xlfn.TEXTJOIN(\"^\",,AA259:AA273)","v":""},null,102,null,102,{"$nulls":5},102,{"$nulls":5},102,{"$nulls":4},102,null,null,102]
[null,null,103,{"$nulls":14},103,null,null,null,103,null,null,null,103,null,null,null,{"$f":"_xlfn.TEXTJOIN(\"^\",,AB259:AB273)","v":""},null,103,null,103,{"$nulls":5},103,{"$nulls":5},103,{"$nulls":4},103,null,null,103]
[null,null,104,{"$nulls":14},104,null,null,null,{"$f":"$C272","v":104},null,null,null,104,{"$nulls":5},104,null,{"$f":"$C272","v":104},{"$nulls":5},104,{"$nulls":5},104,{"$nulls":4},{"$f":"$C272","v":104},null,null,{"$f":"$C272","v":104}]
[null,null,105,{"$nulls":14},105,null,null,null,105,null,null,null,105,{"$nulls":5},105,null,105,{"$nulls":5},{"$f":"$C273","v":105},{"$nulls":5},105,{"$nulls":4},105,null,null,105]
[{"$nulls":14},"最终",{"$f":"_xlfn.TEXTJOIN(\"|\",,P259:P273)","v":"0^0|0^0|0^0^0|0^0^0|100^0|0^0^0|100^0|0^0^0^0|100^0^0|0^0^0"},{"$nulls":12},"最终",{"$f":"_xlfn.TEXTJOIN(\"^\",,AD259:AD273)","v":"4^2^1^3^5^4^1^5^6^4^5^7^101^102^103^104^105^4^1^5^8^6^4^1^5^7^9^6^4^2^1^3^5^7^101^102^103^104^105"},{"$nulls":12},"最终",{"$f":"_xlfn.TEXTJOIN(\"^\",,AR258:AR273)","v":"6^2^3^7^101^102^103^104^105^6^4^1^5^7^4^1^5^8^6^2^1^3^7^9^8^4^2^1^3^5^9^6^4^2^3^5^7^101^102^103^104^105"},{"$nulls":12},"最终",{"$f":"_xlfn.TEXTJOIN(\"^\",,BF258:BF273)","v":"2^1^3^4^1^5^2^3^6^4^5^7^101^102^103^104^105^6^4^2^1^3^5^7^6^4^2^1^3^5^7^101^102^103^104^105"}]
[]
[null,null,"时间",5,15,30,46,50,66,70,85,90,105,{"$nulls":4},"时间",5,10,15,20,25,32,40,45,null,null,null,{"$f":"_xlfn.TEXTJOIN(\"^\",,S277:S285)","v":"5^5^5^5^5"},null,"时间",3,5,9,14,20,27,35,40,null,null,null,{"$f":"_xlfn.TEXTJOIN(\"^\",,AG277:AG285)","v":"3^3^3^3"},null,"时间",2,4,6,9,12,20,30,35,null,null,null,{"$f":"_xlfn.TEXTJOIN(\"^\",,AU277:AU285)","v":"2^2^2"}]
[null,null,8,{"$nulls":12},{"$f":"_xlfn.TEXTJOIN(\"^\",,D277:D286)","v":"6^2"},null,8,{"$nulls":5},{"$f":"X$276","v":32},{"$nulls":5},{"$f":"_xlfn.TEXTJOIN(\"^\",,T277:T285)","v":"10^10^10"},null,8,{"$nulls":4},{"$f":"AK$276","v":20},{"$f":"AL$276","v":27},{"$nulls":5},{"$f":"_xlfn.TEXTJOIN(\"^\",,AH277:AH285)","v":"5^5^5^5^5"},null,8,{"$nulls":11},{"$f":"_xlfn.TEXTJOIN(\"^\",,AV277:AV285)","v":"4^4^4"}]
[null,null,6,{"$nulls":12},{"$f":"_xlfn.TEXTJOIN(\"^\",,E277:E286)","v":"7^4"},null,6,null,null,{"$f":"U$276","v":15},null,null,32,40,{"$nulls":4},{"$f":"_xlfn.TEXTJOIN(\"^\",,U277:U285)","v":"15^15^15^15"},null,6,{"$f":"AG$276","v":3},null,{"$f":"AI$276","v":9},null,20,null,{"$f":"AM$276","v":35},{"$nulls":4},{"$f":"_xlfn.TEXTJOIN(\"^\",,AI277:AI285)","v":"9^9^9^9^9"},null,6,null,null,null,{"$f":"AX$276","v":9},null,{"$f":"AZ$276","v":20},30,{"$nulls":4},{"$f":"_xlfn.TEXTJOIN(\"^\",,AW277:AW285)","v":"6^6"}]
[null,null,4,{"$nulls":12},{"$f":"_xlfn.TEXTJOIN(\"^\",,F277:F286)","v":"2^7^3"},null,4,{"$f":"S$276","v":5},{"$f":"T$276","v":10},15,{"$f":"V$276","v":20},{"$f":"W$276","v":25},32,40,45,null,null,null,{"$f":"_xlfn.TEXTJOIN(\"^\",,V277:V285)","v":"20^20^20^20^20"},null,4,null,{"$f":"AH$276","v":5},9,{"$f":"AJ$276","v":14},null,{"$f":"AL$276","v":27},35,40,null,null,null,{"$f":"_xlfn.TEXTJOIN(\"^\",,AJ277:AJ285)","v":"14^14^14"},null,4,null,{"$f":"AV$276","v":4},null,9,12,20,30,{"$f":"BB$276","v":35},null,null,null,{"$f":"_xlfn.TEXTJOIN(\"^\",,AX277:AX285)","v":"9^9^9^9"}]
[null,null,2,{"$nulls":12},{"$f":"_xlfn.TEXTJOIN(\"^\",,G277:G286)","v":"7^4^2"},null,2,5,null,null,{"$f":"V$276","v":20},null,null,40,45,null,null,null,{"$f":"_xlfn.TEXTJOIN(\"^\",,W277:W285)","v":"25^25^25"},null,2,{"$f":"AG$276","v":3},5,null,null,{"$f":"AK$276","v":20},27,35,40,null,null,null,{"$f":"_xlfn.TEXTJOIN(\"^\",,AK277:AK285)","v":"20^20^20^20^20^20^20"},null,2,{"$f":"AU$276","v":2},null,{"$f":"AW$276","v":6},null,12,20,30,{"$f":"BB$276","v":35},null,null,null,{"$f":"_xlfn.TEXTJOIN(\"^\",,AY277:AY285)","v":"12^12^12^12^12"}]
[null,null,1,6,7,2,7,7,2,6,2,6,4,null,null,{"$f":"_xlfn.TEXTJOIN(\"^\",,H277:H286)","v":"7^2"},null,1,5,{"$f":"T$276","v":10},null,{"$f":"V$276","v":20},{"$f":"W$276","v":25},{"$f":"X$276","v":32},40,45,null,null,null,{"$f":"_xlfn.TEXTJOIN(\"^\",,X277:X285)","v":"32^32^32^32^32^32^32"},null,1,null,5,9,{"$f":"AJ$276","v":14},20,27,null,40,null,null,null,{"$f":"_xlfn.TEXTJOIN(\"^\",,AL277:AL285)","v":"27^27^27^27^27^27^27"},null,1,{"$f":"AU$276","v":2},{"$f":"AV$276","v":4},null,null,12,20,30,{"$f":"BB$276","v":35},null,null,null,{"$f":"_xlfn.TEXTJOIN(\"^\",,AZ277:AZ285)","v":"20^20^20^20^20^20^20"}]
[null,null,3,2,4,7,4,2,8,3,6,4,2,null,null,{"$f":"_xlfn.TEXTJOIN(\"^\",,I277:I286)","v":"2^8^3"},null,3,{"$f":"S$276","v":5},null,null,{"$f":"V$276","v":20},null,null,40,45,null,null,null,{"$f":"_xlfn.TEXTJOIN(\"^\",,Y277:Y285)","v":"40^40^40^40^40^40^40"},null,3,{"$f":"AG$276","v":3},{"$f":"AH$276","v":5},null,null,20,27,35,40,null,null,null,{"$f":"_xlfn.TEXTJOIN(\"^\",,AM277:AM285)","v":"35^35^35^35^35^35"},null,3,{"$f":"AU$276","v":2},null,{"$f":"AW$276","v":6},null,{"$f":"AY$276","v":12},20,30,35,null,null,null,{"$f":"_xlfn.TEXTJOIN(\"^\",,BA277:BA285)","v":"30^30^30^30^30^30^30"}]
[null,null,5,null,null,3,2,null,3,null,3,1,3,null,null,{"$f":"_xlfn.TEXTJOIN(\"^\",,J277:J286)","v":"6^3"},null,5,5,{"$f":"T$276","v":10},{"$f":"U$276","v":15},20,{"$f":"W$276","v":25},{"$f":"X$276","v":32},40,45,null,null,null,{"$f":"_xlfn.TEXTJOIN(\"^\",,Z277:Z285)","v":"45^45^45^45^45"},null,5,null,5,9,{"$f":"AJ$276","v":14},null,27,35,40,null,null,null,{"$f":"_xlfn.TEXTJOIN(\"^\",,AN277:AN285)","v":"40^40^40^40^40"},null,5,null,{"$f":"AV$276","v":4},null,{"$f":"AX$276","v":9},12,20,30,35,null,null,null,{"$f":"_xlfn.TEXTJOIN(\"^\",,BB277:BB285)","v":"35^35^35^35^35"}]
[null,null,7,{"$nulls":7},2,{"$nulls":4},{"$f":"_xlfn.TEXTJOIN(\"^\",,K277:K286)","v":"2^6^3^2"},null,7,null,null,15,null,null,32,40,{"$nulls":4},{"$f":"_xlfn.TEXTJOIN(\"^\",,AA277:AA285)","v":""},null,7,{"$f":"AG$276","v":3},null,9,null,{"$f":"AK$276","v":20},null,35,{"$nulls":4},{"$f":"_xlfn.TEXTJOIN(\"^\",,AO277:AO285)","v":""},null,7,null,null,null,9,null,20,30,{"$nulls":4},{"$f":"_xlfn.TEXTJOIN(\"^\",,BC277:BC285)","v":""}]
[null,null,9,{"$nulls":12},{"$f":"_xlfn.TEXTJOIN(\"^\",,L277:L286)","v":"6^4^1"},null,9,{"$nulls":5},32,{"$nulls":5},{"$f":"_xlfn.TEXTJOIN(\"^\",,AB277:AB285)","v":""},null,9,{"$nulls":4},20,{"$f":"AL$276","v":27},{"$nulls":5},{"$f":"_xlfn.TEXTJOIN(\"^\",,AP277:AP285)","v":""},null,9,{"$nulls":11},{"$f":"_xlfn.TEXTJOIN(\"^\",,BD277:BD285)","v":""}]
[{"$nulls":15},{"$f":"_xlfn.TEXTJOIN(\"^\",,M277:M286)","v":"4^2^3"},{"$nulls":13},{"$f":"_xlfn.TEXTJOIN(\"^\",,AC277:AC285)","v":""},{"$nulls":13},{"$f":"_xlfn.TEXTJOIN(\"^\",,AQ277:AQ285)","v":""},{"$nulls":13},{"$f":"_xlfn.TEXTJOIN(\"^\",,BE277:BE285)","v":""}]
[{"$nulls":15},{"$f":"_xlfn.TEXTJOIN(\"^\",,N277:N286)","v":""},{"$nulls":12},"最终",{"$f":"_xlfn.TEXTJOIN(\"^\",,AD276:AD286)","v":"5^5^5^5^5^10^10^10^15^15^15^15^20^20^20^20^20^25^25^25^32^32^32^32^32^32^32^40^40^40^40^40^40^40^45^45^45^45^45"},{"$nulls":12},"最终",{"$f":"_xlfn.TEXTJOIN(\"^\",,AR276:AR286)","v":"3^3^3^3^5^5^5^5^5^9^9^9^9^9^14^14^14^20^20^20^20^20^20^20^27^27^27^27^27^27^27^35^35^35^35^35^35^40^40^40^40^40"},{"$nulls":12},"最终",{"$f":"_xlfn.TEXTJOIN(\"^\",,BF276:BF286)","v":"2^2^2^4^4^4^6^6^9^9^9^9^12^12^12^12^12^20^20^20^20^20^20^20^30^30^30^30^30^30^30^35^35^35^35^35"}]
[{"$nulls":14},"最终",{"$f":"_xlfn.TEXTJOIN(\"|\",,P277:P287)","v":"6^2|7^4|2^7^3|7^4^2|7^2|2^8^3|6^3|2^6^3^2|6^4^1|4^2^3"}]
[{"$nulls":15},{"$f":"SUM(D277:M285)","v":108},{"$nulls":13},{"$f":"COUNT(S277:AA285)","v":39},{"$nulls":13},{"$f":"COUNT(AG277:AO285)","v":42},{"$nulls":13},{"$f":"COUNT(AU277:BC285)","v":36}]
[{"$nulls":57},{"$f":"BF289+AR289+AD289+P289","v":225}]

{"sheet":"7","index":7,"n_rows":289,"n_cols":58,"rows_kept":289,"cut":false,"hidden":false,"merged":[]}
[{"$nulls":4},{"$f":"E2-D2","v":10},{"$f":"F2-E2","v":15},16,4,16,17,17,15,5,{"$nulls":6},{"$f":"T2-S2","v":5},5,5,10,15,15,15,{"$nulls":7},{"$f":"AH2-AG2","v":2},4,5,10,15,17,18,{"$nulls":7},{"$f":"AV2-AU2","v":2},2,2,2,10,10,10]
[3,"沼泽-1","波1·怪物",5,15,30,46,50,66,83,100,115,120,null,null,null,3,"波2·怪物",5,10,15,20,30,45,60,75,{"$nulls":4},3,"波3·怪物",4,6,10,15,25,40,57,75,{"$nulls":4},1,"波4·怪物",2,4,6,8,10,20,30,40]
[null,"5m",8,{"$nulls":12},{"$f":"_xlfn.TEXTJOIN(\"^\",,D3:D12)","v":"60311"},null,8,{"$nulls":11},{"$f":"_xlfn.TEXTJOIN(\"^\",,S3:S12)","v":"60312^60314^60311"},null,8,{"$nulls":11},{"$f":"_xlfn.TEXTJOIN(\"^\",,AG3:AG12)","v":"60315^60314^60313"},null,8,{"$nulls":7},60312,null,null,null,{"$f":"_xlfn.TEXTJOIN(\"^\",,AU3:AU12)","v":"60313^60313"}]
[null,null,6,{"$nulls":12},{"$f":"_xlfn.TEXTJOIN(\"^\",,E3:E12)","v":"60311^60312"},null,6,{"$nulls":11},{"$f":"_xlfn.TEXTJOIN(\"^\",,T3:T12)","v":"60313^60311"},null,6,{"$nulls":11},{"$f":"_xlfn.TEXTJOIN(\"^\",,AH3:AH12)","v":"60312^60311"},null,6,null,null,null,60311,null,60314,60312,60312,null,null,null,{"$f":"_xlfn.TEXTJOIN(\"^\",,AV3:AV12)","v":"60312^60312^60312"}]
[null,null,4,{"$nulls":12},{"$f":"_xlfn.TEXTJOIN(\"^\",,F3:F12)","v":"60313^60314^60312"},null,4,{"$nulls":11},{"$f":"_xlfn.TEXTJOIN(\"^\",,U3:U12)","v":"60311^60312"},null,4,{"$nulls":11},{"$f":"_xlfn.TEXTJOIN(\"^\",,AI3:AI12)","v":"60311^60314"},null,4,null,60312,null,60311,60315,60312,60312,60311,null,null,null,{"$f":"_xlfn.TEXTJOIN(\"^\",,AW3:AW12)","v":"60314^60314"}]
[null,null,2,{"$nulls":12},{"$f":"_xlfn.TEXTJOIN(\"^\",,G3:G12)","v":"60311^60312^60314"},null,2,{"$nulls":11},{"$f":"_xlfn.TEXTJOIN(\"^\",,V3:V12)","v":"60315^60314^60316"},null,2,{"$nulls":11},{"$f":"_xlfn.TEXTJOIN(\"^\",,AJ3:AJ12)","v":"60313^60312"},null,2,60313,null,60314,null,60315,60313,60311,60311,null,null,null,{"$f":"_xlfn.TEXTJOIN(\"^\",,AX3:AX12)","v":"60311^60311^60311^60311"}]
[null,null,1,60311,60311,60313,60311,60315,60313,60314,60313,60312,60315,null,null,{"$f":"_xlfn.TEXTJOIN(\"^\",,H3:H12)","v":"60315^60312"},null,1,60312,60313,60311,60315,60313,60313,60313,60313,null,null,null,{"$f":"_xlfn.TEXTJOIN(\"^\",,W3:W12)","v":"60313^60311^60312"},null,1,60315,60312,60311,60313,60311,60314,60311,60313,null,null,null,{"$f":"_xlfn.TEXTJOIN(\"^\",,AK3:AK12)","v":"60311^60312^60314"},null,1,null,60312,{"$nulls":4},60314,{"$nulls":4},{"$f":"_xlfn.TEXTJOIN(\"^\",,AY3:AY12)","v":"60315^60315^60315^60315"}]
[null,null,3,null,60312,60314,60312,60312,60311,60311,60311,60311,60312,null,null,{"$f":"_xlfn.TEXTJOIN(\"^\",,I3:I12)","v":"60313^60311^60312"},null,3,60314,60311,60312,60314,60311,60311,60311,60311,null,null,null,{"$f":"_xlfn.TEXTJOIN(\"^\",,X3:X12)","v":"60313^60311^60312^60314"},null,3,60314,60311,60314,60312,60312,60313,60312,60311,null,null,null,{"$f":"_xlfn.TEXTJOIN(\"^\",,AL3:AL12)","v":"60314^60313^60311^60312"},null,3,60313,null,60314,null,60315,60313,60311,60311,null,null,null,{"$f":"_xlfn.TEXTJOIN(\"^\",,AZ3:AZ12)","v":"60314^60312^60313^60313^60312^60314"}]
[null,null,5,null,null,60312,60314,null,60312,60312,60312,null,60314,null,null,{"$f":"_xlfn.TEXTJOIN(\"^\",,J3:J12)","v":"60314^60311^60312"},null,5,60311,null,null,60316,60312,60312,60312,60312,null,null,null,{"$f":"_xlfn.TEXTJOIN(\"^\",,Y3:Y12)","v":"60313^60311^60312"},null,5,60313,null,null,null,60314,60311,null,60312,null,null,null,{"$f":"_xlfn.TEXTJOIN(\"^\",,AM3:AM12)","v":"60311^60312"},null,5,null,60312,null,60311,60315,60312,60312,60311,null,null,null,{"$f":"_xlfn.TEXTJOIN(\"^\",,BA3:BA12)","v":"60312^60312^60311^60314^60311^60312^60312"}]
[null,null,7,{"$nulls":7},60314,{"$nulls":4},{"$f":"_xlfn.TEXTJOIN(\"^\",,K3:K12)","v":"60313^60311^60312^60314"},null,7,{"$nulls":5},60314,null,60314,null,null,null,{"$f":"_xlfn.TEXTJOIN(\"^\",,Z3:Z12)","v":"60313^60311^60312^60314"},null,7,{"$nulls":5},60312,null,60314,null,null,null,{"$f":"_xlfn.TEXTJOIN(\"^\",,AN3:AN12)","v":"60313^60311^60312^60314"},null,7,null,null,null,60311,null,60314,60312,60312,null,null,null,{"$f":"_xlfn.TEXTJOIN(\"^\",,BB3:BB12)","v":"60312^60312^60311^60311^60311^60311^60312^60312"}]
[null,null,9,{"$nulls":12},{"$f":"_xlfn.TEXTJOIN(\"^\",,L3:L12)","v":"60312^60311"},null,9,{"$nulls":11},{"$f":"_xlfn.TEXTJOIN(\"^\",,AA3:AA12)","v":""},null,9,{"$nulls":11},{"$f":"_xlfn.TEXTJOIN(\"^\",,AO3:AO12)","v":""},null,9,{"$nulls":7},60312,null,null,null,{"$f":"_xlfn.TEXTJOIN(\"^\",,BC3:BC12)","v":""}]
[{"$nulls":15},{"$f":"_xlfn.TEXTJOIN(\"^\",,M3:M12)","v":"60315^60312^60314"},{"$nulls":13},{"$f":"_xlfn.TEXTJOIN(\"^\",,AB3:AB12)","v":""},{"$nulls":13},{"$f":"_xlfn.TEXTJOIN(\"^\",,AP3:AP12)","v":""},{"$nulls":13},{"$f":"_xlfn.TEXTJOIN(\"^\",,BD3:BD12)","v":""}]
[{"$nulls":15},{"$f":"_xlfn.TEXTJOIN(\"^\",,N3:N12)","v":""},{"$nulls":13},{"$f":"_xlfn.TEXTJOIN(\"^\",,AC3:AC12)","v":""},{"$nulls":13},{"$f":"_xlfn.TEXTJOIN(\"^\",,AQ3:AQ12)","v":""},{"$nulls":13},{"$f":"_xlfn.TEXTJOIN(\"^\",,BE3:BE12)","v":""}]
[{"$nulls":14},"最终",{"$f":"_xlfn.TEXTJOIN(\"|\",,P3:P13)","v":"60311|60311^60312|60313^60314^60312|60311^60312^60314|60315^60312|60313^60311^60312|60314^60311^60312|60313^60311^60312^60314|60312^60311|60315^60312^60314"},{"$nulls":12},"最终",{"$f":"_xlfn.TEXTJOIN(\"|\",,AD3:AD13)","v":"60312^60314^60311|60313^60311|60311^60312|60315^60314^60316|60313^60311^60312|60313^60311^60312^60314|60313^60311^60312|60313^60311^60312^60314"},{"$nulls":12},"最终",{"$f":"_xlfn.TEXTJOIN(\"|\",,AR3:AR13)","v":"60315^60314^60313|60312^60311|60311^60314|60313^60312|60311^60312^60314|60314^60313^60311^60312|60311^60312|60313^60311^60312^60314"},{"$nulls":12},"最终",{"$f":"_xlfn.TEXTJOIN(\"^\",,BF3:BF13)","v":"60313^60313^60312^60312^60312^60314^60314^60311^60311^60311^60311^60315^60315^60315^60315^60314^60312^60313^60313^60312^60314^60312^60312^60311^60314^60311^60312^60312^60312^60312^60311^60311^60311^60311^60312^60312"}]
[null,null,8,{"$nulls":14},8,{"$nulls":13},8,{"$nulls":13},8,{"$nulls":7},"毒蜘蛛"]
[null,null,6,{"$nulls":14},6,{"$nulls":13},6,{"$nulls":13},6,null,null,null,"树精",null,"木精灵","毒蜘蛛","毒蜘蛛"]
[null,null,4,{"$nulls":14},4,{"$nulls":13},4,{"$nulls":13},4,null,"毒蜘蛛",null,"树精","森林蜘蛛","毒蜘蛛","毒蜘蛛","树精"]
[null,null,2,{"$nulls":14},2,{"$nulls":13},2,{"$nulls":13},2,"哥布林",null,"木精灵",null,"森林蜘蛛","哥布林","树精","树精"]
[null,null,1,"树精","树精","哥布林","树精","森林蜘蛛","哥布林","木精灵","哥布林","毒蜘蛛","森林蜘蛛",{"$nulls":4},1,"毒蜘蛛","哥布林","树精","森林蜘蛛","哥布林","哥布林","哥布林","哥布林",{"$nulls":5},1,"森林蜘蛛","毒蜘蛛","树精","哥布林","树精","木精灵","树精","哥布林",{"$nulls":5},1,null,"毒蜘蛛",{"$nulls":4},"木精灵"]
[null,null,3,null,"毒蜘蛛","木精灵","毒蜘蛛","毒蜘蛛","树精","树精","树精","树精","毒蜘蛛",{"$nulls":4},3,"木精灵","树精","毒蜘蛛","木精灵","树精","树精","树精","树精",{"$nulls":5},3,"木精灵","树精","木精灵","毒蜘蛛","毒蜘蛛","哥布林","毒蜘蛛","树精",{"$nulls":5},3,"哥布林",null,"木精灵",null,"森林蜘蛛","哥布林","树精","树精"]
[null,null,5,null,null,"毒蜘蛛","木精灵",null,"毒蜘蛛","毒蜘蛛","毒蜘蛛",null,"木精灵",{"$nulls":4},5,"树精",null,null,"黑暗法师","毒蜘蛛","毒蜘蛛","毒蜘蛛","毒蜘蛛",{"$nulls":5},5,"哥布林",null,null,null,"木精灵","树精",null,"毒蜘蛛",{"$nulls":5},5,null,"毒蜘蛛",null,"树精","森林蜘蛛","毒蜘蛛","毒蜘蛛","树精"]
[null,null,7,{"$nulls":7},"木精灵",{"$nulls":6},7,{"$nulls":5},"木精灵",null,"木精灵",{"$nulls":5},7,{"$nulls":5},"毒蜘蛛",null,"木精灵",{"$nulls":5},7,null,null,null,"树精",null,"木精灵","毒蜘蛛","毒蜘蛛"]
[null,null,9,{"$nulls":14},9,{"$nulls":13},9,{"$nulls":13},9,{"$nulls":7},"毒蜘蛛"]
[]
[null,null,"位置",5,15,30,46,50,66,83,100,115,120,{"$nulls":4},"位置",5,10,15,20,30,45,60,75,{"$nulls":5},"位置",4,6,10,15,25,40,57,75,null,null,null,{"$f":"_xlfn.TEXTJOIN(\"^\",,AG26:AG40)","v":"100^0^0"},null,"位置",2,4,6,8,10,20,30,40,null,null,null,{"$f":"_xlfn.TEXTJOIN(\"^\",,AU26:AU40)","v":"2^3"}]
[null,null,8,{"$nulls":12},{"$f":"_xlfn.TEXTJOIN(\"^\",,D26:D40)","v":"0"},null,8,{"$nulls":13},8,{"$nulls":11},{"$f":"_xlfn.TEXTJOIN(\"^\",,AH26:AH40)","v":"0^0"},null,8,{"$nulls":7},{"$f":"$C26","v":8},null,null,null,{"$f":"_xlfn.TEXTJOIN(\"^\",,AV26:AV40)","v":"4^1^5"}]
[null,null,6,{"$nulls":12},{"$f":"_xlfn.TEXTJOIN(\"^\",,E26:E40)","v":"0^0"},null,6,{"$nulls":11},{"$f":"_xlfn.TEXTJOIN(\"^\",,S26:S40)","v":"0^0^0"},null,6,{"$nulls":11},{"$f":"_xlfn.TEXTJOIN(\"^\",,AI26:AI40)","v":"0^0"},null,6,null,null,null,{"$f":"$C27","v":6},null,{"$f":"$C27","v":6},6,6,null,null,null,{"$f":"_xlfn.TEXTJOIN(\"^\",,AW26:AW40)","v":"2^3"}]
[null,null,4,{"$nulls":12},{"$f":"_xlfn.TEXTJOIN(\"^\",,F26:F40)","v":"0^0^0"},null,4,{"$nulls":11},{"$f":"_xlfn.TEXTJOIN(\"^\",,T26:T40)","v":"0^0"},null,4,{"$nulls":11},{"$f":"_xlfn.TEXTJOIN(\"^\",,AJ26:AJ40)","v":"0^0"},null,4,null,{"$f":"$C28","v":4},null,4,null,4,4,4,null,null,null,{"$f":"_xlfn.TEXTJOIN(\"^\",,AX26:AX40)","v":"6^4^5^7"}]
[null,null,2,{"$nulls":12},{"$f":"_xlfn.TEXTJOIN(\"^\",,G26:G40)","v":"0^0^0"},null,2,{"$nulls":11},{"$f":"_xlfn.TEXTJOIN(\"^\",,U26:U40)","v":"0^0"},null,2,{"$nulls":11},{"$f":"_xlfn.TEXTJOIN(\"^\",,AK26:AK40)","v":"0^0^0"},null,2,{"$f":"$C29","v":2},null,{"$f":"$C29","v":2},null,null,2,2,2,null,null,null,{"$f":"_xlfn.TEXTJOIN(\"^\",,AY26:AY40)","v":"101^102^104^105"}]
[null,null,1,0,0,0,0,100,0,0,0,0,100,null,null,{"$f":"_xlfn.TEXTJOIN(\"^\",,H26:H40)","v":"100^0"},null,1,0,0,0,100,0,0,0,0,null,null,null,{"$f":"_xlfn.TEXTJOIN(\"^\",,V26:V40)","v":"100^0^0"},null,1,100,0,0,0,0,0,0,0,null,null,null,{"$f":"_xlfn.TEXTJOIN(\"^\",,AL26:AL40)","v":"0^0^0^0"},null,1,null,{"$f":"$C30","v":1},{"$nulls":4},1,{"$nulls":4},{"$f":"_xlfn.TEXTJOIN(\"^\",,AZ26:AZ40)","v":"6^4^2^3^5^7"}]
[null,null,3,null,0,0,0,0,0,0,0,0,0,null,null,{"$f":"_xlfn.TEXTJOIN(\"^\",,I26:I40)","v":"0^0^0"},null,3,0,0,0,0,0,0,0,0,null,null,null,{"$f":"_xlfn.TEXTJOIN(\"^\",,W26:W40)","v":"0^0^0"},null,3,0,0,0,0,0,0,0,0,null,null,null,{"$f":"_xlfn.TEXTJOIN(\"^\",,AM26:AM40)","v":"0^0"},null,3,{"$f":"$C31","v":3},null,{"$f":"$C31","v":3},null,null,{"$f":"$C31","v":3},3,3,null,null,null,{"$f":"_xlfn.TEXTJOIN(\"^\",,BA26:BA40)","v":"6^4^2^1^3^5^7"}]
[null,null,5,null,null,0,0,null,0,0,0,null,0,null,null,{"$f":"_xlfn.TEXTJOIN(\"^\",,J26:J40)","v":"0^0^0"},null,5,0,null,null,0,0,0,0,0,null,null,null,{"$f":"_xlfn.TEXTJOIN(\"^\",,X26:X40)","v":"0^0^0^0"},null,5,0,null,null,null,0,0,null,0,null,null,null,{"$f":"_xlfn.TEXTJOIN(\"^\",,AN26:AN40)","v":"0^0^0^0"},null,5,null,{"$f":"$C32","v":5},null,{"$f":"$C32","v":5},null,5,5,5,null,null,null,{"$f":"_xlfn.TEXTJOIN(\"^\",,BB26:BB40)","v":"8^6^4^2^3^5^7^9"}]
[null,null,7,{"$nulls":7},0,{"$nulls":4},{"$f":"_xlfn.TEXTJOIN(\"^\",,K26:K40)","v":"0^0^0^0"},null,7,{"$nulls":5},0,null,0,null,null,null,{"$f":"_xlfn.TEXTJOIN(\"^\",,Y26:Y40)","v":"0^0^0"},null,7,{"$nulls":5},0,null,0,null,null,null,{"$f":"_xlfn.TEXTJOIN(\"^\",,AO26:AO40)","v":""},null,7,null,null,null,7,null,7,7,7,null,null,null,{"$f":"_xlfn.TEXTJOIN(\"^\",,BC26:BC40)","v":""}]
[null,null,9,{"$nulls":12},{"$f":"_xlfn.TEXTJOIN(\"^\",,L26:L40)","v":"0^0"},null,9,{"$nulls":13},9,{"$nulls":11},{"$f":"_xlfn.TEXTJOIN(\"^\",,AP26:AP40)","v":""},null,9,{"$nulls":7},9,null,null,null,{"$f":"_xlfn.TEXTJOIN(\"^\",,BD26:BD40)","v":""}]
[null,null,"空降",{"$nulls":12},{"$f":"_xlfn.TEXTJOIN(\"^\",,M26:M40)","v":"100^0^0"},null,"空降",{"$nulls":13},"空降",{"$nulls":11},{"$f":"_xlfn.TEXTJOIN(\"^\",,AQ26:AQ34)","v":""},null,"空降",{"$nulls":11},{"$f":"_xlfn.TEXTJOIN(\"^\",,BE26:BE34)","v":""}]
[null,null,101,{"$nulls":12},{"$f":"_xlfn.TEXTJOIN(\"^\",,N26:N40)","v":""},null,101,{"$nulls":11},{"$f":"_xlfn.TEXTJOIN(\"^\",,Z26:Z40)","v":"0^0^0^0"},null,101,{"$nulls":13},101,{"$nulls":4},{"$f":"$C36","v":101}]
[null,null,102,{"$nulls":14},102,{"$nulls":11},{"$f":"_xlfn.TEXTJOIN(\"^\",,AA26:AA40)","v":""},null,102,{"$nulls":13},102,{"$nulls":4},102]
[null,null,103,{"$nulls":14},103,{"$nulls":11},{"$f":"_xlfn.TEXTJOIN(\"^\",,AB26:AB40)","v":""},null,103,{"$nulls":13},103]
[null,null,104,{"$nulls":14},104,{"$nulls":13},104,{"$nulls":13},104,{"$nulls":4},{"$f":"$C39","v":104}]
[null,null,105,{"$nulls":14},105,{"$nulls":13},105,{"$nulls":13},105,{"$nulls":4},105]
[{"$nulls":14},"最终",{"$f":"_xlfn.TEXTJOIN(\"|\",,P26:P40)","v":"0|0^0|0^0^0|0^0^0|100^0|0^0^0|0^0^0|0^0^0^0|0^0|100^0^0"},{"$nulls":12},"最终",{"$f":"_xlfn.TEXTJOIN(\"|\",,AD26:AD40)","v":"0^0^0|0^0|0^0|100^0^0|0^0^0|0^0^0^0|0^0^0|0^0^0^0"},{"$nulls":12},"最终",{"$f":"_xlfn.TEXTJOIN(\"|\",,AR25:AR40)","v":"100^0^0|0^0|0^0|0^0|0^0^0|0^0^0^0|0^0|0^0^0^0"},{"$nulls":12},"最终",{"$f":"_xlfn.TEXTJOIN(\"^\",,BF25:BF40)","v":"2^3^4^1^5^2^3^6^4^5^7^101^102^104^105^6^4^2^3^5^7^6^4^2^1^3^5^7^8^6^4^2^3^5^7^9"}]
[]
[null,null,"时间",5,15,30,46,50,66,83,100,115,120,{"$nulls":4},"时间",5,10,15,20,30,45,60,75,null,null,null,{"$f":"_xlfn.TEXTJOIN(\"^\",,S44:S52)","v":"6^4^15"},null,"时间",4,6,10,15,25,40,57,75,null,null,null,{"$f":"_xlfn.TEXTJOIN(\"^\",,AG44:AG52)","v":"10^4^4"},null,"时间",2,4,6,8,10,20,30,40,null,null,null,{"$f":"_xlfn.TEXTJOIN(\"^\",,AU44:AU52)","v":"2^2"}]
[null,null,8,{"$nulls":12},{"$f":"_xlfn.TEXTJOIN(\"^\",,D44:D53)","v":"8"},null,8,{"$nulls":11},{"$f":"_xlfn.TEXTJOIN(\"^\",,T44:T52)","v":"2^8"},null,8,{"$nulls":11},{"$f":"_xlfn.TEXTJOIN(\"^\",,AH44:AH52)","v":"4^8"},null,8,{"$nulls":7},{"$f":"BB$43","v":40},null,null,null,{"$f":"_xlfn.TEXTJOIN(\"^\",,AV44:AV52)","v":"4^4^4"}]
[null,null,6,{"$nulls":12},{"$f":"_xlfn.TEXTJOIN(\"^\",,E44:E53)","v":"7^3"},null,6,{"$nulls":11},{"$f":"_xlfn.TEXTJOIN(\"^\",,U44:U52)","v":"7^4"},null,6,{"$nulls":11},{"$f":"_xlfn.TEXTJOIN(\"^\",,AI44:AI52)","v":"9^2"},null,6,null,null,null,{"$f":"AX$43","v":8},null,{"$f":"AZ$43","v":20},30,40,null,null,null,{"$f":"_xlfn.TEXTJOIN(\"^\",,AW44:AW52)","v":"6^6"}]
[null,null,4,{"$nulls":12},{"$f":"_xlfn.TEXTJOIN(\"^\",,F44:F53)","v":"3^2^4"},null,4,{"$nulls":11},{"$f":"_xlfn.TEXTJOIN(\"^\",,V44:V52)","v":"7^2^1"},null,4,{"$nulls":11},{"$f":"_xlfn.TEXTJOIN(\"^\",,AJ44:AJ52)","v":"3^5"},null,4,null,{"$f":"AV$43","v":4},null,8,10,20,30,40,null,null,null,{"$f":"_xlfn.TEXTJOIN(\"^\",,AX44:AX52)","v":"8^8^8^8"}]
[null,null,2,{"$nulls":12},{"$f":"_xlfn.TEXTJOIN(\"^\",,G44:G53)","v":"7^3^2"},null,2,{"$nulls":11},{"$f":"_xlfn.TEXTJOIN(\"^\",,W44:W52)","v":"2^8^4"},null,2,{"$nulls":11},{"$f":"_xlfn.TEXTJOIN(\"^\",,AK44:AK52)","v":"8^3^2"},null,2,{"$f":"AU$43","v":2},null,{"$f":"AW$43","v":6},null,10,20,30,40,null,null,null,{"$f":"_xlfn.TEXTJOIN(\"^\",,AY44:AY52)","v":"10^10^10^10"}]
[null,null,1,8,7,3,7,7,2,2,2,4,6,null,null,{"$f":"_xlfn.TEXTJOIN(\"^\",,H44:H53)","v":"7^3"},null,1,6,2,7,7,2,2,2,2,null,null,null,{"$f":"_xlfn.TEXTJOIN(\"^\",,X44:X52)","v":"2^6^3^2"},null,1,10,4,9,3,8,2,8,2,null,null,null,{"$f":"_xlfn.TEXTJOIN(\"^\",,AL44:AL52)","v":"2^2^6^3"},null,1,null,{"$f":"AV$43","v":4},{"$nulls":4},30,{"$nulls":4},{"$f":"_xlfn.TEXTJOIN(\"^\",,AZ44:AZ52)","v":"20^20^20^20^20^20"}]
[null,null,3,null,3,2,3,3,7,9,7,9,3,null,null,{"$f":"_xlfn.TEXTJOIN(\"^\",,I44:I53)","v":"2^7^4"},null,3,4,8,4,2,8,6,8,6,null,null,null,{"$f":"_xlfn.TEXTJOIN(\"^\",,Y44:Y52)","v":"2^8^3"},null,3,4,8,2,5,3,2,4,9,null,null,null,{"$f":"_xlfn.TEXTJOIN(\"^\",,AM44:AM52)","v":"8^4"},null,3,{"$f":"AU$43","v":2},null,{"$f":"AW$43","v":6},null,{"$f":"AY$43","v":10},20,30,40,null,null,null,{"$f":"_xlfn.TEXTJOIN(\"^\",,BA44:BA52)","v":"30^30^30^30^30^30^30"}]
[null,null,5,null,null,4,2,null,4,3,3,null,2,null,null,{"$f":"_xlfn.TEXTJOIN(\"^\",,J44:J53)","v":"2^9^3"},null,5,15,null,null,1,4,3,3,4,null,null,null,{"$f":"_xlfn.TEXTJOIN(\"^\",,Z44:Z52)","v":"2^6^4^2"},null,5,4,null,null,null,2,6,null,3,null,null,null,{"$f":"_xlfn.TEXTJOIN(\"^\",,AN44:AN52)","v":"2^9^3^2"},null,5,null,{"$f":"AV$43","v":4},null,{"$f":"AX$43","v":8},10,20,30,40,null,null,null,{"$f":"_xlfn.TEXTJOIN(\"^\",,BB44:BB52)","v":"40^40^40^40^40^40^40^40"}]
[null,null,7,{"$nulls":7},2,{"$nulls":4},{"$f":"_xlfn.TEXTJOIN(\"^\",,K44:K53)","v":"2^7^3^2"},null,7,{"$nulls":5},2,null,2,null,null,null,{"$f":"_xlfn.TEXTJOIN(\"^\",,AA44:AA52)","v":""},null,7,{"$nulls":5},3,null,2,null,null,null,{"$f":"_xlfn.TEXTJOIN(\"^\",,AO44:AO52)","v":""},null,7,null,null,null,8,null,20,30,40,null,null,null,{"$f":"_xlfn.TEXTJOIN(\"^\",,BC44:BC52)","v":""}]
[null,null,9,{"$nulls":12},{"$f":"_xlfn.TEXTJOIN(\"^\",,L44:L53)","v":"4^9"},null,9,{"$nulls":11},{"$f":"_xlfn.TEXTJOIN(\"^\",,AB44:AB52)","v":""},null,9,{"$nulls":11},{"$f":"_xlfn.TEXTJOIN(\"^\",,AP44:AP52)","v":""},null,9,{"$nulls":7},40,null,null,null,{"$f":"_xlfn.TEXTJOIN(\"^\",,BD44:BD52)","v":""}]
[{"$nulls":15},{"$f":"_xlfn.TEXTJOIN(\"^\",,M44:M53)","v":"6^3^2"},{"$nulls":13},{"$f":"_xlfn.TEXTJOIN(\"^\",,AC44:AC52)","v":""},{"$nulls":13},{"$f":"_xlfn.TEXTJOIN(\"^\",,AQ44:AQ52)","v":""},{"$nulls":13},{"$f":"_xlfn.TEXTJOIN(\"^\",,BE44:BE52)","v":""}]
[{"$nulls":15},{"$f":"_xlfn.TEXTJOIN(\"^\",,N44:N53)","v":""},{"$nulls":12},"最终",{"$f":"_xlfn.TEXTJOIN(\"|\",,AD43:AD53)","v":"6^4^15|2^8|7^4|7^2^1|2^8^4|2^6^3^2|2^8^3|2^6^4^2"},{"$nulls":12},"最终",{"$f":"_xlfn.TEXTJOIN(\"|\",,AR43:AR53)","v":"10^4^4|4^8|9^2|3^5|8^3^2|2^2^6^3|8^4|2^9^3^2"},{"$nulls":12},"最终",{"$f":"_xlfn.TEXTJOIN(\"^\",,BF43:BF53)","v":"2^2^4^4^4^6^6^8^8^8^8^10^10^10^10^20^20^20^20^20^20^30^30^30^30^30^30^30^40^40^40^40^40^40^40^40"}]
[{"$nulls":14},"最终",{"$f":"_xlfn.TEXTJOIN(\"|\",,P44:P54)","v":"8|7^3|3^2^4|7^3^2|7^3|2^7^4|2^9^3|2^7^3^2|4^9|6^3^2"}]
[{"$nulls":15},{"$f":"SUM(D44:M52)","v":114},{"$nulls":13},{"$f":"SUM(S44:AA52)","v":110},{"$nulls":12},{"$f":"SUM(AG44:AN52)","v":103},{"$nulls":13},{"$f":"COUNT(AU44:BB52)","v":36}]
[{"$nulls":56},{"$f":"BE56+AQ56+AD56+P56","v":363}]
[]
[{"$nulls":4},{"$f":"E60-D60","v":10},{"$f":"F60-E60","v":15},5,15,16,17,7,15,15,{"$nulls":6},{"$f":"T60-S60","v":5},5,5,10,10,10,5,{"$nulls":7},{"$f":"AH60-AG60","v":2},4,5,10,15,17,18,{"$nulls":7},{"$f":"AV60-AU60","v":2},2,2,2,10,10,10]
[3,"沼泽-2","波1·怪物",5,15,30,35,50,66,83,90,105,120,null,null,null,1,"波2·怪物",5,10,15,20,30,40,50,55,{"$nulls":4},3,"波3·怪物",4,6,10,15,25,40,57,75,{"$nulls":4},1,"波4·怪物",2,4,6,8,10,20,30,40]
[null,"5m",8,{"$nulls":12},{"$f":"_xlfn.TEXTJOIN(\"^\",,D61:D70)","v":"60322^60324"},null,8,{"$nulls":5},60324,{"$nulls":5},{"$f":"_xlfn.TEXTJOIN(\"^\",,S61:S70)","v":"60325^60325^60325^60325"},null,8,{"$nulls":11},{"$f":"_xlfn.TEXTJOIN(\"^\",,AG61:AG70)","v":"60323^60321"},null,8,{"$nulls":7},60322,null,null,null,{"$f":"_xlfn.TEXTJOIN(\"^\",,AU61:AU70)","v":"60321^60321^60326^60321^60321"}]
[null,null,6,{"$nulls":12},{"$f":"_xlfn.TEXTJOIN(\"^\",,E61:E70)","v":"60321^60322"},null,6,null,null,60323,null,60322,60322,60322,{"$nulls":4},{"$f":"_xlfn.TEXTJOIN(\"^\",,T61:T70)","v":"60322^60322^60322"},null,6,{"$nulls":11},{"$f":"_xlfn.TEXTJOIN(\"^\",,AH61:AH70)","v":"60322^60324"},null,6,{"$nulls":5},60324,60322,60322,null,null,null,{"$f":"_xlfn.TEXTJOIN(\"^\",,AV61:AV70)","v":"60322^60322^60322"}]
[null,null,4,{"$nulls":12},{"$f":"_xlfn.TEXTJOIN(\"^\",,F61:F70)","v":"60323^60322^60324"},null,4,60325,60322,null,60324,60321,60321,60321,60325,null,null,null,{"$f":"_xlfn.TEXTJOIN(\"^\",,U61:U70)","v":"60323^60323^60323"},null,4,{"$nulls":11},{"$f":"_xlfn.TEXTJOIN(\"^\",,AI61:AI70)","v":"60321^60322"},null,4,60321,60322,null,60325,60323,60321,60322,60321,null,null,null,{"$f":"_xlfn.TEXTJOIN(\"^\",,AW61:AW70)","v":"60324^60324"}]
[null,null,2,{"$nulls":12},{"$f":"_xlfn.TEXTJOIN(\"^\",,G61:G70)","v":"60325^60321"},null,2,60325,null,null,60321,60321,60323,60322,60325,null,null,null,{"$f":"_xlfn.TEXTJOIN(\"^\",,V61:V70)","v":"60324^60321^60326^60321^60324"},null,2,{"$nulls":11},{"$f":"_xlfn.TEXTJOIN(\"^\",,AJ61:AJ70)","v":"60325^60322"},null,2,60321,null,60324,60325,null,60321,null,60323,null,null,null,{"$f":"_xlfn.TEXTJOIN(\"^\",,AX61:AX70)","v":"60325^60325^60325^60325"}]
[null,null,1,60322,60321,60323,60325,60322,60323,60321,60325,60324,60323,null,null,{"$f":"_xlfn.TEXTJOIN(\"^\",,H61:H70)","v":"60322^60321"},null,1,null,60322,60323,60326,null,null,60324,60325,null,null,null,{"$f":"_xlfn.TEXTJOIN(\"^\",,W61:W70)","v":"60322^60321^60321^60321^60321^60322"},null,1,60323,60322,60321,60325,60322,60324,60321,60323,null,null,null,{"$f":"_xlfn.TEXTJOIN(\"^\",,AK61:AK70)","v":"60322^60321^60324"},null,1,60326,60322,null,null,60323,null,60322,{"$nulls":4},{"$f":"_xlfn.TEXTJOIN(\"^\",,AY61:AY70)","v":"60323^60323^60323"}]
[null,null,3,60324,60322,60322,60321,60321,60321,60322,60322,60321,60321,null,null,{"$f":"_xlfn.TEXTJOIN(\"^\",,I61:I70)","v":"60323^60321^60322^60324"},null,3,60325,null,null,60321,60321,60323,60322,60325,null,null,null,{"$f":"_xlfn.TEXTJOIN(\"^\",,X61:X70)","v":"60324^60322^60321^60323^60323^60321^60322^60324"},null,3,60321,60324,60322,60322,60321,60323,60322,60321,null,null,null,{"$f":"_xlfn.TEXTJOIN(\"^\",,AL61:AL70)","v":"60324^60323^60321"},null,3,60321,null,60324,60325,null,60321,null,60323,null,null,null,{"$f":"_xlfn.TEXTJOIN(\"^\",,AZ61:AZ70)","v":"60324^60321^60321^60321^60321^60324"}]
[null,null,5,null,null,60324,null,null,60322,null,null,60322,60322,null,null,{"$f":"_xlfn.TEXTJOIN(\"^\",,J61:J70)","v":"60321^60322"},null,5,60325,60322,null,60324,60321,60321,60321,60325,null,null,null,{"$f":"_xlfn.TEXTJOIN(\"^\",,Y61:Y70)","v":"60322^60321^60322^60324^60322^60321^60322"},null,5,{"$nulls":4},60324,60321,null,60322,null,null,null,{"$f":"_xlfn.TEXTJOIN(\"^\",,AM61:AM70)","v":"60321^60322"},null,5,60321,60322,null,60325,60323,60321,60322,60321,null,null,null,{"$f":"_xlfn.TEXTJOIN(\"^\",,BA61:BA70)","v":"60322^60322^60322^60322^60322"}]
[null,null,7,{"$nulls":5},60324,null,null,null,60324,null,null,{"$f":"_xlfn.TEXTJOIN(\"^\",,K61:K70)","v":"60325^60322"},null,7,null,null,60323,null,60322,60322,60322,{"$nulls":4},{"$f":"_xlfn.TEXTJOIN(\"^\",,Z61:Z70)","v":"60325^60325^60325^60325^60325"},null,7,{"$nulls":7},60324,null,null,null,{"$f":"_xlfn.TEXTJOIN(\"^\",,AN61:AN70)","v":"60323^60321^60322^60324"},null,7,{"$nulls":5},60324,60322,60322,null,null,null,{"$f":"_xlfn.TEXTJOIN(\"^\",,BB61:BB70)","v":"60322^60322^60321^60323^60323^60321^60322^60322"}]
[null,null,9,{"$nulls":12},{"$f":"_xlfn.TEXTJOIN(\"^\",,L61:L70)","v":"60324^60321^60322"},null,9,{"$nulls":5},60324,{"$nulls":5},{"$f":"_xlfn.TEXTJOIN(\"^\",,AA61:AA70)","v":""},null,9,{"$nulls":11},{"$f":"_xlfn.TEXTJOIN(\"^\",,AO61:AO70)","v":""},null,9,{"$nulls":7},60322,null,null,null,{"$f":"_xlfn.TEXTJOIN(\"^\",,BC61:BC70)","v":""}]
[{"$nulls":15},{"$f":"_xlfn.TEXTJOIN(\"^\",,M61:M70)","v":"60323^60321^60322^60324"},{"$nulls":13},{"$f":"_xlfn.TEXTJOIN(\"^\",,AB61:AB70)","v":""},{"$nulls":13},{"$f":"_xlfn.TEXTJOIN(\"^\",,AP61:AP70)","v":""},{"$nulls":13},{"$f":"_xlfn.TEXTJOIN(\"^\",,BD61:BD70)","v":""}]
[{"$nulls":15},{"$f":"_xlfn.TEXTJOIN(\"^\",,N61:N70)","v":""},{"$nulls":13},{"$f":"_xlfn.TEXTJOIN(\"^\",,AC61:AC70)","v":""},{"$nulls":13},{"$f":"_xlfn.TEXTJOIN(\"^\",,AQ61:AQ70)","v":""},{"$nulls":13},{"$f":"_xlfn.TEXTJOIN(\"^\",,BE61:BE70)","v":""}]
[{"$nulls":14},"最终",{"$f":"_xlfn.TEXTJOIN(\"|\",,P61:P71)","v":"60322^60324|60321^60322|60323^60322^60324|60325^60321|60322^60321|60323^60321^60322^60324|60321^60322|60325^60322|60324^60321^60322|60323^60321^60322^60324"},{"$nulls":12},"最终",{"$f":"_xlfn.TEXTJOIN(\"^\",,AD61:AD71)","v":"60325^60325^60325^60325^60322^60322^60322^60323^60323^60323^60324^60321^60326^60321^60324^60322^60321^60321^60321^60321^60322^60324^60322^60321^60323^60323^60321^60322^60324^60322^60321^60322^60324^60322^60321^60322^60325^60325^60325^60325^60325"},{"$nulls":12},"最终",{"$f":"_xlfn.TEXTJOIN(\"|\",,AR61:AR71)","v":"60323^60321|60322^60324|60321^60322|60325^60322|60322^60321^60324|60324^60323^60321|60321^60322|60323^60321^60322^60324"},{"$nulls":12},"最终",{"$f":"_xlfn.TEXTJOIN(\"^\",,BF61:BF71)","v":"60321^60321^60326^60321^60321^60322^60322^60322^60324^60324^60325^60325^60325^60325^60323^60323^60323^60324^60321^60321^60321^60321^60324^60322^60322^60322^60322^60322^60322^60322^60321^60323^60323^60321^60322^60322"}]
[null,null,8,{"$nulls":14},8,{"$nulls":5},"木精灵",{"$nulls":7},8,{"$nulls":13},8,{"$nulls":7},"毒蜘蛛"]
[null,null,6,{"$nulls":14},6,null,null,"哥布林",null,"毒蜘蛛","毒蜘蛛","毒蜘蛛",{"$nulls":6},6,{"$nulls":13},6,{"$nulls":5},"木精灵","毒蜘蛛","毒蜘蛛"]
[null,null,4,{"$nulls":14},4,"森林蜘蛛","毒蜘蛛",null,"木精灵","树精","树精","树精","森林蜘蛛",{"$nulls":5},4,{"$nulls":13},4,"树精","毒蜘蛛",null,"森林蜘蛛","哥布林","树精","毒蜘蛛","树精"]
[null,null,2,{"$nulls":14},2,"森林蜘蛛",null,null,"树精","树精","哥布林","毒蜘蛛","森林蜘蛛",{"$nulls":5},2,{"$nulls":13},2,"树精",null,"木精灵","森林蜘蛛",null,"树精",null,"哥布林"]
[null,null,1,"毒蜘蛛","树精","哥布林","森林蜘蛛","毒蜘蛛","哥布林","树精","森林蜘蛛","木精灵","哥布林",{"$nulls":4},1,null,"毒蜘蛛","哥布林","黑暗法师",null,null,"木精灵","森林蜘蛛",{"$nulls":5},1,"哥布林","毒蜘蛛","树精","森林蜘蛛","毒蜘蛛","木精灵","树精","哥布林",{"$nulls":5},1,"黑暗法师","毒蜘蛛",null,null,"哥布林",null,"毒蜘蛛"]
[null,null,3,"木精灵","毒蜘蛛","毒蜘蛛","树精","树精","树精","毒蜘蛛","毒蜘蛛","树精","树精",{"$nulls":4},3,"森林蜘蛛",null,null,"树精","树精","哥布林","毒蜘蛛","森林蜘蛛",{"$nulls":5},3,"树精","木精灵","毒蜘蛛","毒蜘蛛","树精","哥布林","毒蜘蛛","树精",{"$nulls":5},3,"树精",null,"木精灵","森林蜘蛛",null,"树精",null,"哥布林"]
[null,null,5,null,null,"木精灵",null,null,"毒蜘蛛",null,null,"毒蜘蛛","毒蜘蛛",{"$nulls":4},5,"森林蜘蛛","毒蜘蛛",null,"木精灵","树精","树精","树精","森林蜘蛛",{"$nulls":5},5,{"$nulls":4},"木精灵","树精",null,"毒蜘蛛",{"$nulls":5},5,"树精","毒蜘蛛",null,"森林蜘蛛","哥布林","树精","毒蜘蛛","树精"]
[null,null,7,{"$nulls":5},"木精灵",null,null,null,"木精灵",{"$nulls":4},7,null,null,"哥布林",null,"毒蜘蛛","毒蜘蛛","毒蜘蛛",{"$nulls":6},7,{"$nulls":7},"木精灵",{"$nulls":5},7,{"$nulls":5},"木精灵","毒蜘蛛","毒蜘蛛"]
[null,null,9,{"$nulls":14},9,{"$nulls":5},"木精灵",{"$nulls":7},9,{"$nulls":13},9,{"$nulls":7},"毒蜘蛛"]
[]
[null,null,"位置",5,15,30,35,50,66,83,90,105,120,{"$nulls":4},"位置",5,10,15,20,30,40,50,55,{"$nulls":5},"位置",4,6,10,15,25,40,57,75,null,null,null,{"$f":"_xlfn.TEXTJOIN(\"^\",,AG84:AG98)","v":"0^0"},null,"位置",2,4,6,8,10,20,30,40,null,null,null,{"$f":"_xlfn.TEXTJOIN(\"^\",,AU84:AU98)","v":"4^2^1^3^5"}]
[null,null,8,{"$nulls":12},{"$f":"_xlfn.TEXTJOIN(\"^\",,D84:D98)","v":"0^0"},null,8,{"$nulls":5},{"$f":"$C84","v":8},{"$nulls":7},8,{"$nulls":11},{"$f":"_xlfn.TEXTJOIN(\"^\",,AH84:AH98)","v":"0^0"},null,8,{"$nulls":7},{"$f":"$C84","v":8},null,null,null,{"$f":"_xlfn.TEXTJOIN(\"^\",,AV84:AV98)","v":"4^1^5"}]
[null,null,6,{"$nulls":12},{"$f":"_xlfn.TEXTJOIN(\"^\",,E84:E98)","v":"0^0"},null,6,null,null,{"$f":"$C85","v":6},null,{"$f":"$C85","v":6},6,6,{"$nulls":4},{"$f":"_xlfn.TEXTJOIN(\"^\",,S84:S98)","v":"101^102^104^105"},null,6,{"$nulls":11},{"$f":"_xlfn.TEXTJOIN(\"^\",,AI84:AI98)","v":"0^0"},null,6,{"$nulls":5},{"$f":"$C85","v":6},6,6,null,null,null,{"$f":"_xlfn.TEXTJOIN(\"^\",,AW84:AW98)","v":"2^3"}]
[null,null,4,{"$nulls":12},{"$f":"_xlfn.TEXTJOIN(\"^\",,F84:F98)","v":"0^0^0"},null,4,null,{"$f":"$C86","v":4},null,{"$f":"$C86","v":4},4,4,4,{"$nulls":4},{"$f":"_xlfn.TEXTJOIN(\"^\",,T84:T98)","v":"4^1^5"},null,4,{"$nulls":11},{"$f":"_xlfn.TEXTJOIN(\"^\",,AJ84:AJ98)","v":"100^0"},null,4,{"$f":"$C86","v":4},{"$f":"$C86","v":4},null,null,{"$f":"$C86","v":4},4,4,4,null,null,null,{"$f":"_xlfn.TEXTJOIN(\"^\",,AX84:AX98)","v":"101^102^104^105"}]
[null,null,2,{"$nulls":12},{"$f":"_xlfn.TEXTJOIN(\"^\",,G84:G98)","v":"100^0"},null,2,null,null,null,2,2,2,2,{"$nulls":4},{"$f":"_xlfn.TEXTJOIN(\"^\",,U84:U98)","v":"6^1^7"},null,2,{"$nulls":11},{"$f":"_xlfn.TEXTJOIN(\"^\",,AK84:AK98)","v":"0^0^0"},null,2,2,null,{"$f":"$C87","v":2},null,null,2,null,2,null,null,null,{"$f":"_xlfn.TEXTJOIN(\"^\",,AY84:AY98)","v":"4^1^5"}]
[null,null,1,0,0,0,100,0,0,0,100,0,0,null,null,{"$f":"_xlfn.TEXTJOIN(\"^\",,H84:H98)","v":"0^0"},null,1,null,{"$f":"$C88","v":1},{"$f":"$C88","v":1},1,null,null,1,{"$nulls":4},{"$f":"_xlfn.TEXTJOIN(\"^\",,V84:V98)","v":"4^2^1^3^5"},null,1,0,0,0,100,0,0,0,0,null,null,null,{"$f":"_xlfn.TEXTJOIN(\"^\",,AL84:AL98)","v":"0^0^0"},null,1,1,{"$f":"$C88","v":1},null,null,{"$f":"$C88","v":1},null,{"$f":"$C88","v":1},{"$nulls":4},{"$f":"_xlfn.TEXTJOIN(\"^\",,AZ84:AZ98)","v":"6^4^2^3^5^7"}]
[null,null,3,0,0,0,0,0,0,0,0,0,0,null,null,{"$f":"_xlfn.TEXTJOIN(\"^\",,I84:I98)","v":"0^0^0^0"},null,3,null,null,null,{"$f":"$C89","v":3},3,3,3,{"$nulls":4},{"$f":"_xlfn.TEXTJOIN(\"^\",,W84:W98)","v":"6^4^2^3^5^7"},null,3,0,0,0,0,0,0,0,0,null,null,null,{"$f":"_xlfn.TEXTJOIN(\"^\",,AM84:AM98)","v":"0^0"},null,3,{"$f":"$C89","v":3},null,{"$f":"$C89","v":3},null,null,{"$f":"$C89","v":3},null,{"$f":"$C89","v":3},null,null,null,{"$f":"_xlfn.TEXTJOIN(\"^\",,BA84:BA98)","v":"6^4^1^5^7"}]
[null,null,5,null,null,0,null,null,0,null,null,0,0,null,null,{"$f":"_xlfn.TEXTJOIN(\"^\",,J84:J98)","v":"0^0"},null,5,null,{"$f":"$C90","v":5},null,5,5,5,5,{"$nulls":4},{"$f":"_xlfn.TEXTJOIN(\"^\",,X84:X98)","v":"8^6^4^2^3^5^7^9"},null,5,{"$nulls":4},0,0,null,0,null,null,null,{"$f":"_xlfn.TEXTJOIN(\"^\",,AN84:AN98)","v":"0^0^0^0"},null,5,5,{"$f":"$C90","v":5},null,null,{"$f":"$C90","v":5},5,5,5,null,null,null,{"$f":"_xlfn.TEXTJOIN(\"^\",,BB84:BB98)","v":"8^6^4^2^3^5^7^9"}]
[null,null,7,{"$nulls":5},0,null,null,null,0,null,null,{"$f":"_xlfn.TEXTJOIN(\"^\",,K84:K98)","v":"100^0"},null,7,null,null,{"$f":"$C91","v":7},null,7,7,7,{"$nulls":4},{"$f":"_xlfn.TEXTJOIN(\"^\",,Y84:Y98)","v":"6^4^2^1^3^5^7"},null,7,{"$nulls":7},0,null,null,null,{"$f":"_xlfn.TEXTJOIN(\"^\",,AO84:AO98)","v":""},null,7,{"$nulls":5},7,7,7,null,null,null,{"$f":"_xlfn.TEXTJOIN(\"^\",,BC84:BC98)","v":""}]
[null,null,9,{"$nulls":12},{"$f":"_xlfn.TEXTJOIN(\"^\",,L84:L98)","v":"0^0^0"},null,9,{"$nulls":5},9,{"$nulls":7},9,{"$nulls":11},{"$f":"_xlfn.TEXTJOIN(\"^\",,AP84:AP98)","v":""},null,9,{"$nulls":7},9,null,null,null,{"$f":"_xlfn.TEXTJOIN(\"^\",,BD84:BD98)","v":""}]
[null,null,"空降",{"$nulls":12},{"$f":"_xlfn.TEXTJOIN(\"^\",,M84:M98)","v":"0^0^0^0"},null,"空降",{"$nulls":13},"空降",{"$nulls":11},{"$f":"_xlfn.TEXTJOIN(\"^\",,AQ84:AQ92)","v":""},null,"空降",{"$nulls":11},{"$f":"_xlfn.TEXTJOIN(\"^\",,BE84:BE92)","v":""}]
[null,null,101,{"$nulls":12},{"$f":"_xlfn.TEXTJOIN(\"^\",,N84:N98)","v":""},null,101,{"$f":"$C94","v":101},{"$nulls":6},{"$f":"$C94","v":101},null,null,null,{"$f":"_xlfn.TEXTJOIN(\"^\",,Z84:Z98)","v":"101^102^103^104^105"},null,101,{"$nulls":13},101,null,null,null,{"$f":"$C94","v":101}]
[null,null,102,{"$nulls":14},102,102,{"$nulls":6},102,null,null,null,{"$f":"_xlfn.TEXTJOIN(\"^\",,AA84:AA98)","v":""},null,102,{"$nulls":13},102,null,null,null,102]
[null,null,103,{"$nulls":14},103,{"$nulls":7},103,null,null,null,{"$f":"_xlfn.TEXTJOIN(\"^\",,AB84:AB98)","v":""},null,103,{"$nulls":13},103]
[null,null,104,{"$nulls":14},104,{"$f":"$C97","v":104},{"$nulls":6},104,{"$nulls":5},104,{"$nulls":13},104,null,null,null,{"$f":"$C97","v":104}]
[null,null,105,{"$nulls":14},105,105,{"$nulls":6},105,{"$nulls":5},105,{"$nulls":13},105,null,null,null,105]
[{"$nulls":14},"最终",{"$f":"_xlfn.TEXTJOIN(\"|\",,P84:P98)","v":"0^0|0^0|0^0^0|100^0|0^0|0^0^0^0|0^0|100^0|0^0^0|0^0^0^0"},{"$nulls":12},"最终",{"$f":"_xlfn.TEXTJOIN(\"^\",,AD84:AD98)","v":"101^102^104^105^4^1^5^6^1^7^4^2^1^3^5^6^4^2^3^5^7^8^6^4^2^3^5^7^9^6^4^2^1^3^5^7^101^102^103^104^105"},{"$nulls":12},"最终",{"$f":"_xlfn.TEXTJOIN(\"|\",,AR83:AR98)","v":"0^0|0^0|0^0|100^0|0^0^0|0^0^0|0^0|0^0^0^0"},{"$nulls":12},"最终",{"$f":"_xlfn.TEXTJOIN(\"^\",,BF83:BF98)","v":"4^2^1^3^5^4^1^5^2^3^101^102^104^105^4^1^5^6^4^2^3^5^7^6^4^1^5^7^8^6^4^2^3^5^7^9"}]
[]
[null,null,"时间",5,15,30,35,50,66,83,90,105,120,{"$nulls":4},"时间",5,10,15,20,30,40,50,55,null,null,null,{"$f":"_xlfn.TEXTJOIN(\"^\",,S102:S110)","v":"5^5^5^5"},null,"时间",4,6,10,15,25,40,57,75,null,null,null,{"$f":"_xlfn.TEXTJOIN(\"^\",,AG102:AG110)","v":"5^13"},null,"时间",2,4,6,8,10,20,30,40,null,null,null,{"$f":"_xlfn.TEXTJOIN(\"^\",,AU102:AU110)","v":"2^2^2^2^2"}]
[null,null,8,{"$nulls":12},{"$f":"_xlfn.TEXTJOIN(\"^\",,D102:D111)","v":"5^2"},null,8,{"$nulls":5},{"$f":"X$101","v":40},{"$nulls":5},{"$f":"_xlfn.TEXTJOIN(\"^\",,T102:T110)","v":"10^10^10"},null,8,{"$nulls":11},{"$f":"_xlfn.TEXTJOIN(\"^\",,AH102:AH110)","v":"6^4"},null,8,{"$nulls":7},{"$f":"BB$101","v":40},null,null,null,{"$f":"_xlfn.TEXTJOIN(\"^\",,AV102:AV110)","v":"4^4^4"}]
[null,null,6,{"$nulls":12},{"$f":"_xlfn.TEXTJOIN(\"^\",,E102:E111)","v":"8^3"},null,6,null,null,{"$f":"U$101","v":15},null,{"$f":"W$101","v":30},40,50,{"$nulls":4},{"$f":"_xlfn.TEXTJOIN(\"^\",,U102:U110)","v":"15^15^15"},null,6,{"$nulls":11},{"$f":"_xlfn.TEXTJOIN(\"^\",,AI102:AI110)","v":"8^2"},null,6,{"$nulls":5},{"$f":"AZ$101","v":20},30,40,null,null,null,{"$f":"_xlfn.TEXTJOIN(\"^\",,AW102:AW110)","v":"6^6"}]
[null,null,4,{"$nulls":12},{"$f":"_xlfn.TEXTJOIN(\"^\",,F102:F111)","v":"4^5^2"},null,4,{"$f":"S$101","v":5},10,null,{"$f":"V$101","v":20},30,40,50,55,null,null,null,{"$f":"_xlfn.TEXTJOIN(\"^\",,V102:V110)","v":"20^20^20^20^20"},null,4,{"$nulls":11},{"$f":"_xlfn.TEXTJOIN(\"^\",,AJ102:AJ110)","v":"8^3"},null,4,{"$f":"AU$101","v":2},{"$f":"AV$101","v":4},null,{"$f":"AX$101","v":8},{"$f":"AY$101","v":10},20,30,40,null,null,null,{"$f":"_xlfn.TEXTJOIN(\"^\",,AX102:AX110)","v":"8^8^8^8"}]
[null,null,2,{"$nulls":12},{"$f":"_xlfn.TEXTJOIN(\"^\",,G102:G111)","v":"8^4"},null,2,5,null,null,20,30,40,50,55,null,null,null,{"$f":"_xlfn.TEXTJOIN(\"^\",,W102:W110)","v":"30^30^30^30^30^30"},null,2,{"$nulls":11},{"$f":"_xlfn.TEXTJOIN(\"^\",,AK102:AK110)","v":"3^7^2"},null,2,2,null,{"$f":"AW$101","v":6},8,null,20,null,40,null,null,null,{"$f":"_xlfn.TEXTJOIN(\"^\",,AY102:AY110)","v":"10^10^10"}]
[null,null,1,5,8,4,8,4,2,8,8,2,2,null,null,{"$f":"_xlfn.TEXTJOIN(\"^\",,H102:H111)","v":"4^8"},null,1,null,{"$f":"T$101","v":10},15,20,null,null,50,55,null,null,null,{"$f":"_xlfn.TEXTJOIN(\"^\",,X102:X110)","v":"40^40^40^40^40^40^40^40"},null,1,5,6,8,8,3,2,8,2,null,null,null,{"$f":"_xlfn.TEXTJOIN(\"^\",,AL102:AL110)","v":"2^2^8"},null,1,2,{"$f":"AV$101","v":4},null,null,{"$f":"AY$101","v":10},null,{"$f":"BA$101","v":30},{"$nulls":4},{"$f":"_xlfn.TEXTJOIN(\"^\",,AZ102:AZ110)","v":"20^20^20^20^20^20"}]
[null,null,3,2,3,5,4,8,7,4,4,8,7,null,null,{"$f":"_xlfn.TEXTJOIN(\"^\",,I102:I111)","v":"2^7^3^2"},null,3,{"$f":"S$101","v":5},null,null,{"$f":"V$101","v":20},30,40,50,55,null,null,null,{"$f":"_xlfn.TEXTJOIN(\"^\",,Y102:Y110)","v":"50^50^50^50^50^50^50"},null,3,13,4,2,3,7,2,4,7,null,null,null,{"$f":"_xlfn.TEXTJOIN(\"^\",,AM102:AM110)","v":"8^4"},null,3,{"$f":"AU$101","v":2},null,{"$f":"AW$101","v":6},{"$f":"AX$101","v":8},null,{"$f":"AZ$101","v":20},null,{"$f":"BB$101","v":40},null,null,null,{"$f":"_xlfn.TEXTJOIN(\"^\",,BA102:BA110)","v":"30^30^30^30^30"}]
[null,null,5,null,null,2,null,null,3,null,null,3,3,null,null,{"$f":"_xlfn.TEXTJOIN(\"^\",,J102:J111)","v":"8^4"},null,5,5,10,null,20,30,40,50,55,null,null,null,{"$f":"_xlfn.TEXTJOIN(\"^\",,Z102:Z110)","v":"55^55^55^55^55"},null,5,{"$nulls":4},2,8,null,3,null,null,null,{"$f":"_xlfn.TEXTJOIN(\"^\",,AN102:AN110)","v":"2^7^3^2"},null,5,2,{"$f":"AV$101","v":4},null,8,{"$f":"AY$101","v":10},20,30,40,null,null,null,{"$f":"_xlfn.TEXTJOIN(\"^\",,BB102:BB110)","v":"40^40^40^40^40^40^40^40"}]
[null,null,7,{"$nulls":5},2,null,null,null,2,null,null,{"$f":"_xlfn.TEXTJOIN(\"^\",,K102:K111)","v":"8^4"},null,7,null,null,{"$f":"U$101","v":15},null,30,40,50,{"$nulls":4},{"$f":"_xlfn.TEXTJOIN(\"^\",,AA102:AA110)","v":""},null,7,{"$nulls":7},2,null,null,null,{"$f":"_xlfn.TEXTJOIN(\"^\",,AO102:AO110)","v":""},null,7,{"$nulls":5},20,30,40,null,null,null,{"$f":"_xlfn.TEXTJOIN(\"^\",,BC102:BC110)","v":""}]
[null,null,9,{"$nulls":12},{"$f":"_xlfn.TEXTJOIN(\"^\",,L102:L111)","v":"2^8^3"},null,9,{"$nulls":5},40,{"$nulls":5},{"$f":"_xlfn.TEXTJOIN(\"^\",,AB102:AB110)","v":""},null,9,{"$nulls":11},{"$f":"_xlfn.TEXTJOIN(\"^\",,AP102:AP110)","v":""},null,9,{"$nulls":7},40,null,null,null,{"$f":"_xlfn.TEXTJOIN(\"^\",,BD102:BD110)","v":""}]
[{"$nulls":15},{"$f":"_xlfn.TEXTJOIN(\"^\",,M102:M111)","v":"2^7^3^2"},{"$nulls":13},{"$f":"_xlfn.TEXTJOIN(\"^\",,AC102:AC110)","v":""},{"$nulls":13},{"$f":"_xlfn.TEXTJOIN(\"^\",,AQ102:AQ110)","v":""},{"$nulls":13},{"$f":"_xlfn.TEXTJOIN(\"^\",,BE102:BE110)","v":""}]
[{"$nulls":15},{"$f":"_xlfn.TEXTJOIN(\"^\",,N102:N111)","v":""},{"$nulls":12},"最终",{"$f":"_xlfn.TEXTJOIN(\"^\",,AD101:AD111)","v":"5^5^5^5^10^10^10^15^15^15^20^20^20^20^20^30^30^30^30^30^30^40^40^40^40^40^40^40^40^50^50^50^50^50^50^50^55^55^55^55^55"},{"$nulls":12},"最终",{"$f":"_xlfn.TEXTJOIN(\"|\",,AR101:AR111)","v":"5^13|6^4|8^2|8^3|3^7^2|2^2^8|8^4|2^7^3^2"},{"$nulls":12},"最终",{"$f":"_xlfn.TEXTJOIN(\"^\",,BF101:BF111)","v":"2^2^2^2^2^4^4^4^6^6^8^8^8^8^10^10^10^20^20^20^20^20^20^30^30^30^30^30^40^40^40^40^40^40^40^40"}]
[{"$nulls":14},"最终",{"$f":"_xlfn.TEXTJOIN(\"|\",,P102:P112)","v":"5^2|8^3|4^5^2|8^4|4^8|2^7^3^2|8^4|8^4|2^8^3|2^7^3^2"}]
[{"$nulls":15},{"$f":"SUM(D102:M110)","v":118},{"$nulls":13},{"$f":"COUNT(S102:AA110)","v":41},{"$nulls":12},{"$f":"SUM(AG102:AN110)","v":99},{"$nulls":13},{"$f":"COUNT(AU102:BB110)","v":36}]
[{"$nulls":56},{"$f":"BE114+AQ114+AD114+P114","v":294}]
[]
[{"$nulls":4},{"$f":"E118-D118","v":5},{"$f":"F118-E118","v":7},8,10,5,10,10,10,5,{"$nulls":6},{"$f":"T118-S118","v":5},5,5,10,10,10,5,{"$nulls":7},{"$f":"AH118-AG118","v":3},5,10,10,10,10,5,{"$nulls":7},{"$f":"AV118-AU118","v":2},3,4,6,7,10,10]
[1,"沼泽-3","波1·怪物",5,10,17,25,35,40,50,60,70,75,null,null,null,1,"波2·怪物",5,10,15,20,30,40,50,55,{"$nulls":4},1,"波3·怪物",2,5,10,20,30,40,50,55,{"$nulls":4},1,"波4·怪物",3,5,8,12,18,25,35,45]
[null,"5m",8,null,null,60332,null,60334,null,60331,60334,{"$nulls":4},{"$f":"_xlfn.TEXTJOIN(\"^\",,D119:D128)","v":"60331^60331^60331^60331"},null,8,{"$nulls":6},60334,{"$nulls":4},{"$f":"_xlfn.TEXTJOIN(\"^\",,S119:S128)","v":"60334^60332^60332^60334"},null,8,{"$nulls":4},60334,60331,{"$nulls":5},{"$f":"_xlfn.TEXTJOIN(\"^\",,AG119:AG128)","v":"60333^60333^60336^60333^60333"},null,8,{"$nulls":5},60334,null,60332,null,null,null,{"$f":"_xlfn.TEXTJOIN(\"^\",,AU119:AU128)","v":"60335^60335^60335"}]
[null,null,6,null,60334,null,60332,60332,null,60331,60332,60332,null,null,null,{"$f":"_xlfn.TEXTJOIN(\"^\",,E119:E128)","v":"60334^60332^60332^60332^60334"},null,6,60334,null,null,null,60334,60332,60331,{"$nulls":4},{"$f":"_xlfn.TEXTJOIN(\"^\",,T119:T128)","v":"60331^60331^60331^60331"},null,6,null,60334,null,60332,60332,60331,60332,{"$nulls":4},{"$f":"_xlfn.TEXTJOIN(\"^\",,AH119:AH128)","v":"60334^60332^60332^60332^60334"},null,6,null,null,60334,null,60332,null,60332,{"$nulls":4},{"$f":"_xlfn.TEXTJOIN(\"^\",,AV119:AV128)","v":"60332^60332^60332"}]
[null,null,4,60331,null,60331,60331,null,60335,60332,60331,60331,60335,null,null,{"$f":"_xlfn.TEXTJOIN(\"^\",,F119:F128)","v":"60332^60331^60333^60333^60331^60332"},null,4,null,60331,60333,60335,60332,60331,null,60335,null,null,null,{"$f":"_xlfn.TEXTJOIN(\"^\",,U119:U128)","v":"60333^60333^60333"},null,4,60333,null,60335,60331,null,60332,60331,60335,null,null,null,{"$f":"_xlfn.TEXTJOIN(\"^\",,AI119:AI128)","v":"60335^60335^60335^60335^60335"},null,4,60335,null,null,60331,60331,60331,60331,60332,null,null,null,{"$f":"_xlfn.TEXTJOIN(\"^\",,AW119:AW128)","v":"60334^60333^60334"}]
[null,null,2,60331,60332,60333,60331,60333,60335,null,60333,60333,60335,null,null,{"$f":"_xlfn.TEXTJOIN(\"^\",,G119:G128)","v":"60332^60331^60331^60334^60331^60331^60332"},null,2,60332,60331,null,60335,60331,60333,60332,60335,null,null,null,{"$f":"_xlfn.TEXTJOIN(\"^\",,V119:V128)","v":"60335^60335^60335^60335"},null,2,60333,60332,60335,60333,60331,null,60333,60335,null,null,null,{"$f":"_xlfn.TEXTJOIN(\"^\",,AJ119:AJ128)","v":"60332^60331^60333^60332^60333^60331^60332"},null,2,null,60332,null,60331,60333,60332,60333,60331,null,null,null,{"$f":"_xlfn.TEXTJOIN(\"^\",,AX119:AX128)","v":"60331^60331^60331^60331"}]
[null,null,1,null,60332,null,60334,60332,60335,60332,null,60336,60335,null,null,{"$f":"_xlfn.TEXTJOIN(\"^\",,H119:H128)","v":"60334^60332^60333^60332^60333^60332^60334"},null,1,null,null,60333,null,null,60334,60332,60335,null,null,null,{"$f":"_xlfn.TEXTJOIN(\"^\",,W119:W128)","v":"60334^60332^60331^60331^60332^60334"},null,1,60336,60332,60335,60332,60331,60332,60334,60335,null,null,null,{"$f":"_xlfn.TEXTJOIN(\"^\",,AK119:AK128)","v":"60334^60332^60331^60331^60331^60332^60334"},null,1,60335,60332,60333,null,null,60332,60334,60333,null,null,null,{"$f":"_xlfn.TEXTJOIN(\"^\",,AY119:AY128)","v":"60332^60331^60333^60333^60331^60332"}]
[null,null,3,60331,60332,60333,60331,60333,60335,null,60333,60333,60335,null,null,{"$f":"_xlfn.TEXTJOIN(\"^\",,I119:I128)","v":"60335^60335^60335^60335^60335"},null,3,60332,60331,null,60335,60331,60333,60332,60335,null,null,null,{"$f":"_xlfn.TEXTJOIN(\"^\",,X119:X128)","v":"60332^60331^60333^60334^60333^60331^60332"},null,3,60333,60332,60335,60333,60331,null,60333,60335,null,null,null,{"$f":"_xlfn.TEXTJOIN(\"^\",,AL119:AL128)","v":"60331^60331^60332^60332^60332^60331^60331"},null,3,null,60332,null,60331,60333,60332,60333,60331,null,null,null,{"$f":"_xlfn.TEXTJOIN(\"^\",,AZ119:AZ128)","v":"60334^60331^60332^60332^60332^60331^60334"}]
[null,null,5,60331,null,60331,60331,null,60335,60332,60331,60331,60335,null,null,{"$f":"_xlfn.TEXTJOIN(\"^\",,J119:J128)","v":"60331^60331^60332^60332^60332^60331^60331"},null,5,null,60331,60333,60335,60332,60331,null,60335,null,null,null,{"$f":"_xlfn.TEXTJOIN(\"^\",,Y119:Y128)","v":"60334^60331^60332^60332^60332^60331^60334"},null,5,60333,null,60335,60331,null,60332,60331,60335,null,null,null,{"$f":"_xlfn.TEXTJOIN(\"^\",,AM119:AM128)","v":"60332^60331^60333^60334^60333^60331^60332"},null,5,60335,null,null,60331,60331,60331,60331,60332,null,null,null,{"$f":"_xlfn.TEXTJOIN(\"^\",,BA119:BA128)","v":"60332^60331^60333^60334^60333^60331^60332"}]
[null,null,7,null,60334,null,60332,60332,null,60331,60332,60332,null,null,null,{"$f":"_xlfn.TEXTJOIN(\"^\",,K119:K128)","v":"60334^60332^60331^60333^60333^60331^60332^60334"},null,7,60334,null,null,null,60334,60332,60331,{"$nulls":4},{"$f":"_xlfn.TEXTJOIN(\"^\",,Z119:Z128)","v":"60335^60335^60335^60335^60335"},null,7,null,60334,null,60332,60332,60331,60332,{"$nulls":4},{"$f":"_xlfn.TEXTJOIN(\"^\",,AN119:AN128)","v":"60335^60335^60335^60335^60335"},null,7,null,null,60334,null,60332,null,60332,{"$nulls":4},{"$f":"_xlfn.TEXTJOIN(\"^\",,BB119:BB128)","v":"60332^60332^60331^60333^60331^60332^60332"}]
[null,null,9,null,null,60332,null,60334,null,60331,60334,{"$nulls":4},{"$f":"_xlfn.TEXTJOIN(\"^\",,L119:L128)","v":"60332^60331^60333^60336^60333^60331^60332"},null,9,{"$nulls":6},60334,{"$nulls":4},{"$f":"_xlfn.TEXTJOIN(\"^\",,AA119:AA128)","v":""},null,9,{"$nulls":4},60334,60331,{"$nulls":5},{"$f":"_xlfn.TEXTJOIN(\"^\",,AO119:AO128)","v":""},null,9,{"$nulls":5},60334,null,60332,null,null,null,{"$f":"_xlfn.TEXTJOIN(\"^\",,BC119:BC128)","v":""}]
[{"$nulls":15},{"$f":"_xlfn.TEXTJOIN(\"^\",,M119:M128)","v":"60335^60335^60335^60335^60335"},{"$nulls":13},{"$f":"_xlfn.TEXTJOIN(\"^\",,AB119:AB128)","v":""},{"$nulls":13},{"$f":"_xlfn.TEXTJOIN(\"^\",,AP119:AP128)","v":""},{"$nulls":13},{"$f":"_xlfn.TEXTJOIN(\"^\",,BD119:BD128)","v":""}]
[{"$nulls":15},{"$f":"_xlfn.TEXTJOIN(\"^\",,N119:N128)","v":""},{"$nulls":13},{"$f":"_xlfn.TEXTJOIN(\"^\",,AC119:AC128)","v":""},{"$nulls":13},{"$f":"_xlfn.TEXTJOIN(\"^\",,AQ119:AQ128)","v":""},{"$nulls":13},{"$f":"_xlfn.TEXTJOIN(\"^\",,BE119:BE128)","v":""}]
[{"$nulls":14},"最终",{"$f":"_xlfn.TEXTJOIN(\"^\",,P119:P129)","v":"60331^60331^60331^60331^60334^60332^60332^60332^60334^60332^60331^60333^60333^60331^60332^60332^60331^60331^60334^60331^60331^60332^60334^60332^60333^60332^60333^60332^60334^60335^60335^60335^60335^60335^60331^60331^60332^60332^60332^60331^60331^60334^60332^60331^60333^60333^60331^60332^60334^60332^60331^60333^60336^60333^60331^60332^60335^60335^60335^60335^60335"},{"$nulls":12},"最终",{"$f":"_xlfn.TEXTJOIN(\"^\",,AD119:AD129)","v":"60334^60332^60332^60334^60331^60331^60331^60331^60333^60333^60333^60335^60335^60335^60335^60334^60332^60331^60331^60332^60334^60332^60331^60333^60334^60333^60331^60332^60334^60331^60332^60332^60332^60331^60334^60335^60335^60335^60335^60335"},{"$nulls":12},"最终",{"$f":"_xlfn.TEXTJOIN(\"^\",,AR119:AR129)","v":"60333^60333^60336^60333^60333^60334^60332^60332^60332^60334^60335^60335^60335^60335^60335^60332^60331^60333^60332^60333^60331^60332^60334^60332^60331^60331^60331^60332^60334^60331^60331^60332^60332^60332^60331^60331^60332^60331^60333^60334^60333^60331^60332^60335^60335^60335^60335^60335"},{"$nulls":12},"最终",{"$f":"_xlfn.TEXTJOIN(\"^\",,BF119:BF129)","v":"60335^60335^60335^60332^60332^60332^60334^60333^60334^60331^60331^60331^60331^60332^60331^60333^60333^60331^60332^60334^60331^60332^60332^60332^60331^60334^60332^60331^60333^60334^60333^60331^60332^60332^60332^60331^60333^60331^60332^60332"}]
[null,null,8,null,null,"孢子人",null,"木精灵",null,"树精","木精灵",{"$nulls":6},8,{"$nulls":6},"木精灵",{"$nulls":6},8,{"$nulls":4},"木精灵","树精",{"$nulls":7},8,{"$nulls":5},"木精灵",null,"孢子人"]
[null,null,6,null,"木精灵",null,"孢子人","孢子人",null,"树精","孢子人","孢子人",{"$nulls":5},6,"木精灵",null,null,null,"木精灵","孢子人","树精",{"$nulls":6},6,null,"木精灵",null,"孢子人","孢子人","树精","孢子人",{"$nulls":6},6,null,null,"木精灵",null,"孢子人",null,"孢子人"]
[null,null,4,"树精",null,"树精","树精",null,"森林蜘蛛","孢子人","树精","树精","森林蜘蛛",{"$nulls":4},4,null,"树精","哥布林","森林蜘蛛","孢子人","树精",null,"森林蜘蛛",{"$nulls":5},4,"哥布林",null,"森林蜘蛛","树精",null,"孢子人","树精","森林蜘蛛",{"$nulls":5},4,"森林蜘蛛",null,null,"树精","树精","树精","树精","孢子人"]
[null,null,2,"树精","孢子人","哥布林","树精","哥布林","森林蜘蛛",null,"哥布林","哥布林","森林蜘蛛",{"$nulls":4},2,"孢子人","树精",null,"森林蜘蛛","树精","哥布林","孢子人","森林蜘蛛",{"$nulls":5},2,"哥布林","孢子人","森林蜘蛛","哥布林","树精",null,"哥布林","森林蜘蛛",{"$nulls":5},2,null,"孢子人",null,"树精","哥布林","孢子人","哥布林","树精"]
[null,null,1,null,"孢子人",null,"木精灵","孢子人","森林蜘蛛","孢子人",null,"黑暗法师","森林蜘蛛",{"$nulls":4},1,null,null,"哥布林",null,null,"木精灵","孢子人","森林蜘蛛",{"$nulls":5},1,"黑暗法师","孢子人","森林蜘蛛","孢子人","树精","孢子人","木精灵","森林蜘蛛",{"$nulls":5},1,"森林蜘蛛","孢子人","哥布林",null,null,"孢子人","木精灵","哥布林"]
[null,null,3,"树精","孢子人","哥布林","树精","哥布林","森林蜘蛛",null,"哥布林","哥布林","森林蜘蛛",{"$nulls":4},3,"孢子人","树精",null,"森林蜘蛛","树精","哥布林","孢子人","森林蜘蛛",{"$nulls":5},3,"哥布林","孢子人","森林蜘蛛","哥布林","树精",null,"哥布林","森林蜘蛛",{"$nulls":5},3,null,"孢子人",null,"树精","哥布林","孢子人","哥布林","树精"]
[null,null,5,"树精",null,"树精","树精",null,"森林蜘蛛","孢子人","树精","树精","森林蜘蛛",{"$nulls":4},5,null,"树精","哥布林","森林蜘蛛","孢子人","树精",null,"森林蜘蛛",{"$nulls":5},5,"哥布林",null,"森林蜘蛛","树精",null,"孢子人","树精","森林蜘蛛",{"$nulls":5},5,"森林蜘蛛",null,null,"树精","树精","树精","树精","孢子人"]
[null,null,7,null,"木精灵",null,"孢子人","孢子人",null,"树精","孢子人","孢子人",{"$nulls":5},7,"木精灵",null,null,null,"木精灵","孢子人","树精",{"$nulls":6},7,null,"木精灵",null,"孢子人","孢子人","树精","孢子人",{"$nulls":6},7,null,null,"木精灵",null,"孢子人",null,"孢子人"]
[null,null,9,null,null,"孢子人",null,"木精灵",null,"树精","木精灵",{"$nulls":6},9,{"$nulls":6},"木精灵",{"$nulls":6},9,{"$nulls":4},"木精灵","树精",{"$nulls":7},9,{"$nulls":5},"木精灵",null,"孢子人"]
[]
[null,null,"位置",5,10,17,25,35,40,50,60,70,75,{"$nulls":4},"位置",5,10,15,20,30,40,50,55,{"$nulls":5},"位置",2,5,10,20,30,40,50,55,null,null,null,{"$f":"_xlfn.TEXTJOIN(\"^\",,AG142:AG156)","v":"4^2^1^3^5"},null,"位置",3,5,8,12,18,25,35,45,null,null,null,{"$f":"_xlfn.TEXTJOIN(\"^\",,AU142:AU156)","v":"101^103^105"}]
[null,null,8,null,null,{"$f":"$C142","v":8},null,{"$f":"$C142","v":8},null,{"$f":"$C142","v":8},8,{"$nulls":4},{"$f":"_xlfn.TEXTJOIN(\"^\",,D142:D156)","v":"4^2^3^5"},null,8,{"$nulls":6},{"$f":"$C142","v":8},{"$nulls":6},8,{"$nulls":4},{"$f":"$C142","v":8},8,{"$nulls":5},{"$f":"_xlfn.TEXTJOIN(\"^\",,AH142:AH156)","v":"6^2^1^3^7"},null,8,{"$nulls":5},{"$f":"$C142","v":8},null,{"$f":"$C142","v":8},null,null,null,{"$f":"_xlfn.TEXTJOIN(\"^\",,AV142:AV156)","v":"2^1^3"}]
[null,null,6,null,{"$f":"$C143","v":6},null,{"$f":"$C143","v":6},6,null,6,6,6,null,null,null,{"$f":"_xlfn.TEXTJOIN(\"^\",,E142:E156)","v":"6^2^1^3^7"},null,6,{"$f":"$C143","v":6},null,null,null,{"$f":"$C143","v":6},6,6,{"$nulls":4},{"$f":"_xlfn.TEXTJOIN(\"^\",,S142:S156)","v":"6^2^3^7"},null,6,null,{"$f":"$C143","v":6},null,{"$f":"$C143","v":6},6,6,6,{"$nulls":4},{"$f":"_xlfn.TEXTJOIN(\"^\",,AI142:AI156)","v":"101^102^103^104^105"},null,6,null,null,{"$f":"$C143","v":6},null,{"$f":"$C143","v":6},null,{"$f":"$C143","v":6},{"$nulls":4},{"$f":"_xlfn.TEXTJOIN(\"^\",,AW142:AW156)","v":"6^1^7"}]
[null,null,4,{"$f":"$C144","v":4},null,{"$f":"$C144","v":4},4,null,null,4,4,4,null,null,null,{"$f":"_xlfn.TEXTJOIN(\"^\",,F142:F156)","v":"8^4^2^3^5^9"},null,4,null,{"$f":"$C144","v":4},{"$f":"$C144","v":4},null,4,4,{"$nulls":5},{"$f":"_xlfn.TEXTJOIN(\"^\",,T142:T156)","v":"4^2^3^5"},null,4,{"$f":"$C144","v":4},null,null,4,null,4,4,{"$nulls":4},{"$f":"_xlfn.TEXTJOIN(\"^\",,AJ142:AJ156)","v":"6^4^2^1^3^5^7"},null,4,null,null,null,{"$f":"$C144","v":4},4,4,4,4,null,null,null,{"$f":"_xlfn.TEXTJOIN(\"^\",,AX142:AX156)","v":"4^2^3^5"}]
[null,null,2,{"$f":"$C145","v":2},{"$f":"$C145","v":2},2,2,{"$f":"$C145","v":2},null,null,2,{"$f":"$C145","v":2},null,null,null,{"$f":"_xlfn.TEXTJOIN(\"^\",,G142:G156)","v":"6^4^2^1^3^5^7"},null,2,{"$f":"$C145","v":2},2,null,null,2,2,2,{"$nulls":4},{"$f":"_xlfn.TEXTJOIN(\"^\",,U142:U156)","v":"4^1^5"},null,2,{"$f":"$C145","v":2},{"$f":"$C145","v":2},null,2,2,null,2,{"$nulls":4},{"$f":"_xlfn.TEXTJOIN(\"^\",,AK142:AK156)","v":"8^6^2^1^3^7^9"},null,2,null,{"$f":"$C145","v":2},null,2,2,2,2,2,null,null,null,{"$f":"_xlfn.TEXTJOIN(\"^\",,AY142:AY156)","v":"6^4^2^3^5^7"}]
[null,null,1,null,1,null,1,{"$f":"$C146","v":1},null,{"$f":"$C146","v":1},null,{"$f":"$C146","v":1},null,null,null,{"$f":"_xlfn.TEXTJOIN(\"^\",,H142:H156)","v":"8^6^2^1^3^7^9"},null,1,null,null,{"$f":"$C146","v":1},null,null,1,1,{"$nulls":4},{"$f":"_xlfn.TEXTJOIN(\"^\",,V142:V156)","v":"101^102^104^105"},null,1,{"$f":"$C146","v":1},{"$f":"$C146","v":1},null,1,1,{"$f":"$C146","v":1},1,{"$nulls":4},{"$f":"_xlfn.TEXTJOIN(\"^\",,AL142:AL156)","v":"8^6^4^1^5^7^9"},null,1,null,1,{"$f":"$C146","v":1},null,null,1,1,1,null,null,null,{"$f":"_xlfn.TEXTJOIN(\"^\",,AZ142:AZ156)","v":"8^4^2^1^3^5^9"}]
[null,null,3,{"$f":"$C147","v":3},3,3,3,{"$f":"$C147","v":3},null,null,{"$f":"$C147","v":3},{"$f":"$C147","v":3},null,null,null,{"$f":"_xlfn.TEXTJOIN(\"^\",,I142:I156)","v":"101^102^103^104^105"},null,3,{"$f":"$C147","v":3},{"$f":"$C147","v":3},null,null,{"$f":"$C147","v":3},3,3,{"$nulls":4},{"$f":"_xlfn.TEXTJOIN(\"^\",,W142:W156)","v":"6^4^2^3^5^7"},null,3,{"$f":"$C147","v":3},{"$f":"$C147","v":3},null,3,3,null,3,{"$nulls":4},{"$f":"_xlfn.TEXTJOIN(\"^\",,AM142:AM156)","v":"6^4^2^1^3^5^7"},null,3,null,3,null,{"$f":"$C147","v":3},3,3,3,3,null,null,null,{"$f":"_xlfn.TEXTJOIN(\"^\",,BA142:BA156)","v":"6^4^2^1^3^5^7"}]
[null,null,5,5,null,5,5,null,null,{"$f":"$C148","v":5},5,5,null,null,null,{"$f":"_xlfn.TEXTJOIN(\"^\",,J142:J156)","v":"8^6^4^1^5^7^9"},null,5,null,5,{"$f":"$C148","v":5},null,5,5,{"$nulls":5},{"$f":"_xlfn.TEXTJOIN(\"^\",,X142:X156)","v":"6^4^2^1^3^5^7"},null,5,{"$f":"$C148","v":5},null,null,5,null,{"$f":"$C148","v":5},5,{"$nulls":4},{"$f":"_xlfn.TEXTJOIN(\"^\",,AN142:AN156)","v":"101^102^103^104^105"},null,5,null,null,null,5,5,5,5,5,null,null,null,{"$f":"_xlfn.TEXTJOIN(\"^\",,BB142:BB156)","v":"8^4^2^1^3^5^9"}]
[null,null,7,null,{"$f":"$C149","v":7},null,7,7,null,7,7,7,null,null,null,{"$f":"_xlfn.TEXTJOIN(\"^\",,K142:K156)","v":"8^6^4^2^3^5^7^9"},null,7,{"$f":"$C149","v":7},null,null,null,7,7,7,{"$nulls":4},{"$f":"_xlfn.TEXTJOIN(\"^\",,Y142:Y156)","v":"8^6^2^1^3^7^9"},null,7,null,{"$f":"$C149","v":7},null,7,7,7,7,{"$nulls":4},{"$f":"_xlfn.TEXTJOIN(\"^\",,AO142:AO156)","v":""},null,7,null,null,{"$f":"$C149","v":7},null,7,null,7,{"$nulls":4},{"$f":"_xlfn.TEXTJOIN(\"^\",,BC142:BC156)","v":""}]
[null,null,9,null,null,{"$f":"$C150","v":9},null,9,null,9,9,{"$nulls":4},{"$f":"_xlfn.TEXTJOIN(\"^\",,L142:L156)","v":"6^4^2^1^3^5^7"},null,9,{"$nulls":6},9,{"$nulls":6},9,{"$nulls":4},9,9,{"$nulls":5},{"$f":"_xlfn.TEXTJOIN(\"^\",,AP142:AP156)","v":""},null,9,{"$nulls":5},{"$f":"$C150","v":9},null,{"$f":"$C150","v":9},null,null,null,{"$f":"_xlfn.TEXTJOIN(\"^\",,BD142:BD156)","v":""}]
[null,null,"空降",{"$nulls":12},{"$f":"_xlfn.TEXTJOIN(\"^\",,M142:M156)","v":"101^102^103^104^105"},null,"空降",{"$nulls":13},"空降",{"$nulls":11},{"$f":"_xlfn.TEXTJOIN(\"^\",,AQ142:AQ150)","v":""},null,"空降",{"$nulls":11},{"$f":"_xlfn.TEXTJOIN(\"^\",,BE142:BE150)","v":""}]
[null,null,101,{"$nulls":5},{"$f":"$C152","v":101},null,null,null,{"$f":"$C152","v":101},null,null,{"$f":"_xlfn.TEXTJOIN(\"^\",,N142:N156)","v":""},null,101,null,null,null,{"$f":"$C152","v":101},null,null,null,{"$f":"$C152","v":101},null,null,null,{"$f":"_xlfn.TEXTJOIN(\"^\",,Z142:Z156)","v":"101^102^103^104^105"},null,101,null,null,{"$f":"$C152","v":101},{"$nulls":4},{"$f":"$C152","v":101},{"$nulls":5},101,{"$f":"$C152","v":101}]
[null,null,102,{"$nulls":5},102,null,null,null,102,{"$nulls":4},102,null,null,null,102,null,null,null,102,null,null,null,{"$f":"_xlfn.TEXTJOIN(\"^\",,AA142:AA156)","v":""},null,102,null,null,102,{"$nulls":4},102,{"$nulls":5},102]
[null,null,103,{"$nulls":5},103,null,null,null,103,{"$nulls":4},103,{"$nulls":7},103,null,null,null,{"$f":"_xlfn.TEXTJOIN(\"^\",,AB142:AB156)","v":""},null,103,null,null,103,{"$nulls":4},103,{"$nulls":5},103,{"$f":"$C154","v":103}]
[null,null,104,{"$nulls":5},104,null,null,null,104,{"$nulls":4},104,null,null,null,{"$f":"$C155","v":104},null,null,null,104,{"$nulls":5},104,null,null,104,{"$nulls":4},104,{"$nulls":5},104]
[null,null,105,{"$nulls":5},105,null,null,null,105,{"$nulls":4},105,null,null,null,105,null,null,null,105,{"$nulls":5},105,null,null,105,{"$nulls":4},105,{"$nulls":5},105,{"$f":"$C156","v":105}]
[{"$nulls":14},"最终",{"$f":"_xlfn.TEXTJOIN(\"^\",,P142:P156)","v":"4^2^3^5^6^2^1^3^7^8^4^2^3^5^9^6^4^2^1^3^5^7^8^6^2^1^3^7^9^101^102^103^104^105^8^6^4^1^5^7^9^8^6^4^2^3^5^7^9^6^4^2^1^3^5^7^101^102^103^104^105"},{"$nulls":12},"最终",{"$f":"_xlfn.TEXTJOIN(\"^\",,AD142:AD156)","v":"6^2^3^7^4^2^3^5^4^1^5^101^102^104^105^6^4^2^3^5^7^6^4^2^1^3^5^7^8^6^2^1^3^7^9^101^102^103^104^105"},{"$nulls":12},"最终",{"$f":"_xlfn.TEXTJOIN(\"^\",,AR141:AR156)","v":"4^2^1^3^5^6^2^1^3^7^101^102^103^104^105^6^4^2^1^3^5^7^8^6^2^1^3^7^9^8^6^4^1^5^7^9^6^4^2^1^3^5^7^101^102^103^104^105"},{"$nulls":12},"最终",{"$f":"_xlfn.TEXTJOIN(\"^\",,BF141:BF156)","v":"101^103^105^2^1^3^6^1^7^4^2^3^5^6^4^2^3^5^7^8^4^2^1^3^5^9^6^4^2^1^3^5^7^8^4^2^1^3^5^9"}]
[]
[null,null,"时间",5,10,17,25,35,40,50,60,70,75,{"$nulls":4},"时间",5,10,15,20,30,40,50,55,null,null,null,{"$f":"_xlfn.TEXTJOIN(\"^\",,S160:S168)","v":"5^5^5^5"},null,"时间",2,5,10,20,30,40,50,55,null,null,null,{"$f":"_xlfn.TEXTJOIN(\"^\",,AG160:AG168)","v":"2^2^2^2^2"},null,"时间",3,5,8,12,18,25,35,45,null,null,null,{"$f":"_xlfn.TEXTJOIN(\"^\",,AU160:AU168)","v":"3^3^3"}]
[null,null,8,null,null,{"$f":"F$159","v":17},null,{"$f":"H$159","v":35},null,{"$f":"J$159","v":50},60,{"$nulls":4},{"$f":"_xlfn.TEXTJOIN(\"^\",,D160:D169)","v":"5^5^5^5"},null,8,{"$nulls":6},{"$f":"Y$159","v":50},{"$nulls":4},{"$f":"_xlfn.TEXTJOIN(\"^\",,T160:T168)","v":"10^10^10^10"},null,8,{"$nulls":4},{"$f":"AK$159","v":30},40,{"$nulls":5},{"$f":"_xlfn.TEXTJOIN(\"^\",,AH160:AH168)","v":"5^5^5^5^5"},null,8,{"$nulls":5},{"$f":"AZ$159","v":25},null,{"$f":"BB$159","v":45},null,null,null,{"$f":"_xlfn.TEXTJOIN(\"^\",,AV160:AV168)","v":"5^5^5"}]
[null,null,6,null,{"$f":"E$159","v":10},null,{"$f":"G$159","v":25},35,null,50,60,70,null,null,null,{"$f":"_xlfn.TEXTJOIN(\"^\",,E160:E169)","v":"10^10^10^10^10"},null,6,{"$f":"S$159","v":5},null,null,null,{"$f":"W$159","v":30},40,50,{"$nulls":4},{"$f":"_xlfn.TEXTJOIN(\"^\",,U160:U168)","v":"15^15^15"},null,6,null,{"$f":"AH$159","v":5},null,{"$f":"AJ$159","v":20},30,40,50,{"$nulls":4},{"$f":"_xlfn.TEXTJOIN(\"^\",,AI160:AI168)","v":"10^10^10^10^10"},null,6,null,null,{"$f":"AW$159","v":8},null,{"$f":"AY$159","v":18},null,{"$f":"BA$159","v":35},{"$nulls":4},{"$f":"_xlfn.TEXTJOIN(\"^\",,AW160:AW168)","v":"8^8^8"}]
[null,null,4,{"$f":"D$159","v":5},null,{"$f":"F$159","v":17},25,null,{"$f":"I$159","v":40},50,60,70,75,null,null,{"$f":"_xlfn.TEXTJOIN(\"^\",,F160:F169)","v":"17^17^17^17^17^17"},null,4,null,{"$f":"T$159","v":10},{"$f":"U$159","v":15},{"$f":"V$159","v":20},30,40,null,{"$f":"Z$159","v":55},null,null,null,{"$f":"_xlfn.TEXTJOIN(\"^\",,V160:V168)","v":"20^20^20^20"},null,4,{"$f":"AG$159","v":2},null,{"$f":"AI$159","v":10},20,null,40,50,55,null,null,null,{"$f":"_xlfn.TEXTJOIN(\"^\",,AJ160:AJ168)","v":"20^20^20^20^20^20^20"},null,4,{"$f":"AU$159","v":3},null,null,{"$f":"AX$159","v":12},18,25,35,{"$f":"BB$159","v":45},null,null,null,{"$f":"_xlfn.TEXTJOIN(\"^\",,AX160:AX168)","v":"12^12^12^12"}]
[null,null,2,5,10,17,25,{"$f":"H$159","v":35},40,null,{"$f":"K$159","v":60},70,75,null,null,{"$f":"_xlfn.TEXTJOIN(\"^\",,G160:G169)","v":"25^25^25^25^25^25^25"},null,2,{"$f":"S$159","v":5},10,null,20,30,40,50,55,null,null,null,{"$f":"_xlfn.TEXTJOIN(\"^\",,W160:W168)","v":"30^30^30^30^30^30"},null,2,{"$f":"AG$159","v":2},{"$f":"AH$159","v":5},10,20,30,null,50,55,null,null,null,{"$f":"_xlfn.TEXTJOIN(\"^\",,AK160:AK168)","v":"30^30^30^30^30^30^30"},null,2,null,{"$f":"AV$159","v":5},null,12,18,25,35,45,null,null,null,{"$f":"_xlfn.TEXTJOIN(\"^\",,AY160:AY168)","v":"18^18^18^18^18^18"}]
[null,null,1,null,10,null,25,35,40,{"$f":"J$159","v":50},null,70,75,null,null,{"$f":"_xlfn.TEXTJOIN(\"^\",,H160:H169)","v":"35^35^35^35^35^35^35"},null,1,null,null,{"$f":"U$159","v":15},null,null,40,50,55,null,null,null,{"$f":"_xlfn.TEXTJOIN(\"^\",,X160:X168)","v":"40^40^40^40^40^40^40"},null,1,{"$f":"AG$159","v":2},{"$f":"AH$159","v":5},10,20,30,{"$f":"AL$159","v":40},50,55,null,null,null,{"$f":"_xlfn.TEXTJOIN(\"^\",,AL160:AL168)","v":"40^40^40^40^40^40^40"},null,1,{"$f":"AU$159","v":3},5,{"$f":"AW$159","v":8},null,null,25,35,45,null,null,null,{"$f":"_xlfn.TEXTJOIN(\"^\",,AZ160:AZ168)","v":"25^25^25^25^25^25^25"}]
[null,null,3,{"$f":"D$159","v":5},10,17,25,{"$f":"H$159","v":35},40,null,{"$f":"K$159","v":60},70,75,null,null,{"$f":"_xlfn.TEXTJOIN(\"^\",,I160:I169)","v":"40^40^40^40^40"},null,3,{"$f":"S$159","v":5},{"$f":"T$159","v":10},null,{"$f":"V$159","v":20},30,40,50,55,null,null,null,{"$f":"_xlfn.TEXTJOIN(\"^\",,Y160:Y168)","v":"50^50^50^50^50^50^50"},null,3,{"$f":"AG$159","v":2},{"$f":"AH$159","v":5},10,20,30,null,50,55,null,null,null,{"$f":"_xlfn.TEXTJOIN(\"^\",,AM160:AM168)","v":"50^50^50^50^50^50^50"},null,3,null,5,null,{"$f":"AX$159","v":12},18,25,35,45,null,null,null,{"$f":"_xlfn.TEXTJOIN(\"^\",,BA160:BA168)","v":"35^35^35^35^35^35^35"}]
[null,null,5,5,null,17,25,null,40,50,60,70,75,null,null,{"$f":"_xlfn.TEXTJOIN(\"^\",,J160:J169)","v":"50^50^50^50^50^50^50"},null,5,null,10,{"$f":"U$159","v":15},20,30,40,null,55,null,null,null,{"$f":"_xlfn.TEXTJOIN(\"^\",,Z160:Z168)","v":"55^55^55^55^55"},null,5,{"$f":"AG$159","v":2},null,10,20,null,{"$f":"AL$159","v":40},50,55,null,null,null,{"$f":"_xlfn.TEXTJOIN(\"^\",,AN160:AN168)","v":"55^55^55^55^55"},null,5,{"$f":"AU$159","v":3},null,null,12,18,25,35,45,null,null,null,{"$f":"_xlfn.TEXTJOIN(\"^\",,BB160:BB168)","v":"45^45^45^45^45^45^45"}]
[null,null,7,null,{"$f":"E$159","v":10},null,25,35,null,50,60,70,null,null,null,{"$f":"_xlfn.TEXTJOIN(\"^\",,K160:K169)","v":"60^60^60^60^60^60^60^60"},null,7,{"$f":"S$159","v":5},null,null,null,30,40,50,{"$nulls":4},{"$f":"_xlfn.TEXTJOIN(\"^\",,AA160:AA168)","v":""},null,7,null,{"$f":"AH$159","v":5},null,20,30,40,50,{"$nulls":4},{"$f":"_xlfn.TEXTJOIN(\"^\",,AO160:AO168)","v":""},null,7,null,null,{"$f":"AW$159","v":8},null,18,null,35,{"$nulls":4},{"$f":"_xlfn.TEXTJOIN(\"^\",,BC160:BC168)","v":""}]
[null,null,9,null,null,{"$f":"F$159","v":17},null,35,null,50,60,{"$nulls":4},{"$f":"_xlfn.TEXTJOIN(\"^\",,L160:L169)","v":"70^70^70^70^70^70^70"},null,9,{"$nulls":6},50,{"$nulls":4},{"$f":"_xlfn.TEXTJOIN(\"^\",,AB160:AB168)","v":""},null,9,{"$nulls":4},30,40,{"$nulls":5},{"$f":"_xlfn.TEXTJOIN(\"^\",,AP160:AP168)","v":""},null,9,{"$nulls":5},{"$f":"AZ$159","v":25},null,{"$f":"BB$159","v":45},null,null,null,{"$f":"_xlfn.TEXTJOIN(\"^\",,BD160:BD168)","v":""}]
[{"$nulls":15},{"$f":"_xlfn.TEXTJOIN(\"^\",,M160:M169)","v":"75^75^75^75^75"},{"$nulls":13},{"$f":"_xlfn.TEXTJOIN(\"^\",,AC160:AC168)","v":""},{"$nulls":13},{"$f":"_xlfn.TEXTJOIN(\"^\",,AQ160:AQ168)","v":""},{"$nulls":13},{"$f":"_xlfn.TEXTJOIN(\"^\",,BE160:BE168)","v":""}]
[{"$nulls":15},{"$f":"_xlfn.TEXTJOIN(\"^\",,N160:N169)","v":""},{"$nulls":12},"最终",{"$f":"_xlfn.TEXTJOIN(\"^\",,AD159:AD169)","v":"5^5^5^5^10^10^10^10^15^15^15^20^20^20^20^30^30^30^30^30^30^40^40^40^40^40^40^40^50^50^50^50^50^50^50^55^55^55^55^55"},{"$nulls":12},"最终",{"$f":"_xlfn.TEXTJOIN(\"^\",,AR159:AR169)","v":"2^2^2^2^2^5^5^5^5^5^10^10^10^10^10^20^20^20^20^20^20^20^30^30^30^30^30^30^30^40^40^40^40^40^40^40^50^50^50^50^50^50^50^55^55^55^55^55"},{"$nulls":12},"最终",{"$f":"_xlfn.TEXTJOIN(\"^\",,BF159:BF169)","v":"3^3^3^5^5^5^8^8^8^12^12^12^12^18^18^18^18^18^18^25^25^25^25^25^25^25^35^35^35^35^35^35^35^45^45^45^45^45^45^45"}]
[{"$nulls":14},"最终",{"$f":"_xlfn.TEXTJOIN(\"^\",,P160:P170)","v":"5^5^5^5^10^10^10^10^10^17^17^17^17^17^17^25^25^25^25^25^25^25^35^35^35^35^35^35^35^40^40^40^40^40^50^50^50^50^50^50^50^60^60^60^60^60^60^60^60^70^70^70^70^70^70^70^75^75^75^75^75"}]
[{"$nulls":15},{"$f":"COUNT(D160:M168)","v":61},{"$nulls":13},{"$f":"COUNT(S160:AA168)","v":40},{"$nulls":12},{"$f":"COUNT(AG160:AN168)","v":48},{"$nulls":13},{"$f":"COUNT(AU160:BB168)","v":40}]
[{"$nulls":56},{"$f":"BE172+AQ172+AD172+P172","v":189}]
[]
[{"$nulls":4},{"$f":"E176-D176","v":10},{"$f":"F176-E176","v":15},15,5,15,16,17,7,15,{"$nulls":6},{"$f":"T176-S176","v":5},5,7,8,10,10,5,{"$nulls":7},{"$f":"AH176-AG176","v":6},5,15,16,17,7,15,{"$nulls":7},{"$f":"AV176-AU176","v":2},3,4,8,10,10,10]
[3,"沼泽-4","波1·怪物",5,15,30,45,50,65,81,98,105,120,null,null,null,1,"波2·怪物",5,10,15,22,30,40,50,55,{"$nulls":4},3,"波3·怪物",4,10,15,30,46,63,70,85,{"$nulls":4},1,"波4·怪物",3,5,8,12,20,30,40,50]
[null,"5m",8,{"$nulls":12},{"$f":"_xlfn.TEXTJOIN(\"^\",,D177:D186)","v":"60342^60344"},null,8,{"$nulls":4},60344,60342,60344,{"$nulls":4},{"$f":"_xlfn.TEXTJOIN(\"^\",,S177:S186)","v":"60344^60341^60341^60341^60344"},null,8,{"$nulls":11},{"$f":"_xlfn.TEXTJOIN(\"^\",,AG177:AG186)","v":"60345^60342^60343"},null,8,{"$nulls":5},60344,null,60342,null,null,null,{"$f":"_xlfn.TEXTJOIN(\"^\",,AU177:AU186)","v":"60343^60343^60343"}]
[null,null,6,{"$nulls":12},{"$f":"_xlfn.TEXTJOIN(\"^\",,E177:E186)","v":"60341^60342"},null,6,null,60342,{"$nulls":4},60342,{"$nulls":4},{"$f":"_xlfn.TEXTJOIN(\"^\",,T177:T186)","v":"60342^60342^60342^60342^60342"},null,6,{"$nulls":11},{"$f":"_xlfn.TEXTJOIN(\"^\",,AH177:AH186)","v":"60342^60344"},null,6,null,60342,null,null,null,60342,60342,60344,null,null,null,{"$f":"_xlfn.TEXTJOIN(\"^\",,AV177:AV186)","v":"60342^60342^60342"}]
[null,null,4,{"$nulls":12},{"$f":"_xlfn.TEXTJOIN(\"^\",,F177:F186)","v":"60343^60342^60344"},null,4,60344,null,60345,60343,60342,60341,60341,60345,null,null,null,{"$f":"_xlfn.TEXTJOIN(\"^\",,U177:U186)","v":"60345^60345^60345^60345^60345"},null,4,{"$nulls":11},{"$f":"_xlfn.TEXTJOIN(\"^\",,AI177:AI186)","v":"60341^60343"},null,4,60343,null,null,60341,60345,null,60341,60342,null,null,null,{"$f":"_xlfn.TEXTJOIN(\"^\",,AW177:AW186)","v":"60344^60344"}]
[null,null,2,{"$nulls":12},{"$f":"_xlfn.TEXTJOIN(\"^\",,G177:G186)","v":"60342^60341"},null,2,60341,60342,60345,60341,60341,60343,60341,60345,null,null,null,{"$f":"_xlfn.TEXTJOIN(\"^\",,V177:V186)","v":"60343^60341^60343^60341^60343"},null,2,{"$nulls":11},{"$f":"_xlfn.TEXTJOIN(\"^\",,AJ177:AJ186)","v":"60343^60341^60342"},null,2,null,null,60344,60341,60345,60343,60341,60343,null,null,null,{"$f":"_xlfn.TEXTJOIN(\"^\",,AX177:AX186)","v":"60341^60341^60341^60341"}]
[null,null,1,60342,60341,60343,60342,60345,60342,60343,60342,60345,60344,null,null,{"$f":"_xlfn.TEXTJOIN(\"^\",,H177:H186)","v":"60345^60342"},null,1,60341,60342,60345,60343,60341,60342,60347,60345,null,null,null,{"$f":"_xlfn.TEXTJOIN(\"^\",,W177:W186)","v":"60344^60342^60341^60341^60341^60342^60344"},null,1,60345,60342,60341,60343,60342,60343,60345,60343,null,null,null,{"$f":"_xlfn.TEXTJOIN(\"^\",,AK177:AK186)","v":"60342^60341^60344"},null,1,60343,60342,{"$nulls":4},60344,{"$nulls":4},{"$f":"_xlfn.TEXTJOIN(\"^\",,AY177:AY186)","v":"60345^60345^60345^60345"}]
[null,null,3,60344,60342,60342,60341,60342,60341,60342,60341,60344,60343,null,null,{"$f":"_xlfn.TEXTJOIN(\"^\",,I177:I186)","v":"60342^60341^60344"},null,3,60341,60342,60345,60341,60341,60343,60341,60345,null,null,null,{"$f":"_xlfn.TEXTJOIN(\"^\",,X177:X186)","v":"60342^60341^60343^60342^60343^60341^60342"},null,3,60342,60344,60343,60341,60341,60341,60342,60341,null,null,null,{"$f":"_xlfn.TEXTJOIN(\"^\",,AL177:AL186)","v":"60343^60341^60342"},null,3,null,null,60344,60341,60345,60343,60341,60343,null,null,null,{"$f":"_xlfn.TEXTJOIN(\"^\",,AZ177:AZ186)","v":"60344^60342^60343^60343^60342^60344"}]
[null,null,5,null,null,60344,null,null,60344,60341,60344,60347,60341,null,null,{"$f":"_xlfn.TEXTJOIN(\"^\",,J177:J186)","v":"60343^60342^60341"},null,5,60344,null,60345,60343,60342,60341,60341,60345,null,null,null,{"$f":"_xlfn.TEXTJOIN(\"^\",,Y177:Y186)","v":"60344^60342^60341^60341^60347^60341^60341^60342^60344"},null,5,60343,null,null,60342,60344,60342,null,60342,null,null,null,{"$f":"_xlfn.TEXTJOIN(\"^\",,AM177:AM186)","v":"60345^60342"},null,5,60343,null,null,60341,60345,null,60341,60342,null,null,null,{"$f":"_xlfn.TEXTJOIN(\"^\",,BA177:BA186)","v":"60342^60341^60341^60344^60341^60341^60342"}]
[null,null,7,{"$nulls":9},60342,null,null,{"$f":"_xlfn.TEXTJOIN(\"^\",,K177:K186)","v":"60342^60341^60344"},null,7,null,60342,{"$nulls":4},60342,{"$nulls":4},{"$f":"_xlfn.TEXTJOIN(\"^\",,Z177:Z186)","v":"60345^60345^60345^60345^60345"},null,7,{"$nulls":7},60344,null,null,null,{"$f":"_xlfn.TEXTJOIN(\"^\",,AN177:AN186)","v":"60343^60341^60342^60344"},null,7,null,60342,null,null,null,60342,60342,60344,null,null,null,{"$f":"_xlfn.TEXTJOIN(\"^\",,BB177:BB186)","v":"60342^60344^60342^60343^60343^60342^60344^60342"}]
[null,null,9,{"$nulls":12},{"$f":"_xlfn.TEXTJOIN(\"^\",,L177:L186)","v":"60345^60344^60347"},null,9,{"$nulls":4},60344,60342,60344,{"$nulls":4},{"$f":"_xlfn.TEXTJOIN(\"^\",,AA177:AA186)","v":""},null,9,{"$nulls":11},{"$f":"_xlfn.TEXTJOIN(\"^\",,AO177:AO186)","v":""},null,9,{"$nulls":5},60344,null,60342,null,null,null,{"$f":"_xlfn.TEXTJOIN(\"^\",,BC177:BC186)","v":""}]
[{"$nulls":15},{"$f":"_xlfn.TEXTJOIN(\"^\",,M177:M186)","v":"60344^60343^60341^60342"},{"$nulls":13},{"$f":"_xlfn.TEXTJOIN(\"^\",,AB177:AB186)","v":""},{"$nulls":13},{"$f":"_xlfn.TEXTJOIN(\"^\",,AP177:AP186)","v":""},{"$nulls":13},{"$f":"_xlfn.TEXTJOIN(\"^\",,BD177:BD186)","v":""}]
[{"$nulls":15},{"$f":"_xlfn.TEXTJOIN(\"^\",,N177:N186)","v":""},{"$nulls":13},{"$f":"_xlfn.TEXTJOIN(\"^\",,AC177:AC186)","v":""},{"$nulls":13},{"$f":"_xlfn.TEXTJOIN(\"^\",,AQ177:AQ186)","v":""},{"$nulls":13},{"$f":"_xlfn.TEXTJOIN(\"^\",,BE177:BE186)","v":""}]
[{"$nulls":14},"最终",{"$f":"_xlfn.TEXTJOIN(\"|\",,P177:P187)","v":"60342^60344|60341^60342|60343^60342^60344|60342^60341|60345^60342|60342^60341^60344|60343^60342^60341|60342^60341^60344|60345^60344^60347|60344^60343^60341^60342"},{"$nulls":12},"最终",{"$f":"_xlfn.TEXTJOIN(\"^\",,AD177:AD187)","v":"60344^60341^60341^60341^60344^60342^60342^60342^60342^60342^60345^60345^60345^60345^60345^60343^60341^60343^60341^60343^60344^60342^60341^60341^60341^60342^60344^60342^60341^60343^60342^60343^60341^60342^60344^60342^60341^60341^60347^60341^60341^60342^60344^60345^60345^60345^60345^60345"},{"$nulls":12},"最终",{"$f":"_xlfn.TEXTJOIN(\"|\",,AR177:AR187)","v":"60345^60342^60343|60342^60344|60341^60343|60343^60341^60342|60342^60341^60344|60343^60341^60342|60345^60342|60343^60341^60342^60344"},{"$nulls":12},"最终",{"$f":"_xlfn.TEXTJOIN(\"^\",,BF177:BF187)","v":"60343^60343^60343^60342^60342^60342^60344^60344^60341^60341^60341^60341^60345^60345^60345^60345^60344^60342^60343^60343^60342^60344^60342^60341^60341^60344^60341^60341^60342^60342^60344^60342^60343^60343^60342^60344^60342"}]
[null,null,8,{"$nulls":14},8,{"$nulls":4},"木精灵","孢子人","木精灵",{"$nulls":6},8,{"$nulls":13},8,{"$nulls":5},"木精灵",null,"孢子人"]
[null,null,6,{"$nulls":14},6,null,"孢子人",{"$nulls":4},"孢子人",{"$nulls":6},6,{"$nulls":13},6,null,"孢子人",null,null,null,"孢子人","孢子人","木精灵"]
[null,null,4,{"$nulls":14},4,"木精灵",null,"森林蜘蛛","哥布林","孢子人","树精","树精","森林蜘蛛",{"$nulls":5},4,{"$nulls":13},4,"哥布林",null,null,"树精","森林蜘蛛",null,"树精","孢子人"]
[null,null,2,{"$nulls":14},2,"树精","孢子人","森林蜘蛛","树精","树精","哥布林","树精","森林蜘蛛",{"$nulls":5},2,{"$nulls":13},2,null,null,"木精灵","树精","森林蜘蛛","哥布林","树精","哥布林"]
[null,null,1,"孢子人","树精","哥布林","孢子人","森林蜘蛛","孢子人","哥布林","孢子人","森林蜘蛛","木精灵",{"$nulls":4},1,"树精","孢子人","森林蜘蛛","哥布林","树精","孢子人","黑暗法师","森林蜘蛛",{"$nulls":5},1,"森林蜘蛛","孢子人","树精","哥布林","孢子人","哥布林","森林蜘蛛","哥布林",{"$nulls":5},1,"哥布林","孢子人",{"$nulls":4},"木精灵"]
[null,null,3,"木精灵","孢子人","孢子人","树精","孢子人","树精","孢子人","树精","木精灵","哥布林",{"$nulls":4},3,"树精","孢子人","森林蜘蛛","树精","树精","哥布林","树精","森林蜘蛛",{"$nulls":5},3,"孢子人","木精灵","哥布林","树精","树精","树精","孢子人","树精",{"$nulls":5},3,null,null,"木精灵","树精","森林蜘蛛","哥布林","树精","哥布林"]
[null,null,5,null,null,"木精灵",null,null,"木精灵","树精","木精灵","黑暗法师","树精",{"$nulls":4},5,"木精灵",null,"森林蜘蛛","哥布林","孢子人","树精","树精","森林蜘蛛",{"$nulls":5},5,"哥布林",null,null,"孢子人","木精灵","孢子人",null,"孢子人",{"$nulls":5},5,"哥布林",null,null,"树精","森林蜘蛛",null,"树精","孢子人"]
[null,null,7,{"$nulls":9},"孢子人",{"$nulls":4},7,null,"孢子人",{"$nulls":4},"孢子人",{"$nulls":6},7,{"$nulls":7},"木精灵",{"$nulls":5},7,null,"孢子人",null,null,null,"孢子人","孢子人","木精灵"]
[null,null,9,{"$nulls":14},9,{"$nulls":4},"木精灵","孢子人","木精灵",{"$nulls":6},9,{"$nulls":13},9,{"$nulls":5},"木精灵",null,"孢子人"]
[]
[null,null,"位置",5,15,30,45,50,65,81,98,105,120,{"$nulls":4},"位置",5,10,15,22,30,40,50,55,{"$nulls":5},"位置",4,10,15,30,46,63,70,85,null,null,null,{"$f":"_xlfn.TEXTJOIN(\"^\",,AG200:AG214)","v":"100^0^0"},null,"位置",3,5,8,12,20,30,40,50,null,null,null,{"$f":"_xlfn.TEXTJOIN(\"^\",,AU200:AU214)","v":"4^1^5"}]
[null,null,8,{"$nulls":12},{"$f":"_xlfn.TEXTJOIN(\"^\",,D200:D214)","v":"0^0"},null,8,{"$nulls":4},{"$f":"$C200","v":8},{"$f":"$C200","v":8},{"$f":"$C200","v":8},{"$nulls":6},8,{"$nulls":11},{"$f":"_xlfn.TEXTJOIN(\"^\",,AH200:AH214)","v":"0^0"},null,8,{"$nulls":5},{"$f":"$C200","v":8},null,{"$f":"$C200","v":8},null,null,null,{"$f":"_xlfn.TEXTJOIN(\"^\",,AV200:AV214)","v":"6^1^7"}]
[null,null,6,{"$nulls":12},{"$f":"_xlfn.TEXTJOIN(\"^\",,E200:E214)","v":"0^0"},null,6,null,{"$f":"$C201","v":6},{"$nulls":4},6,{"$nulls":4},{"$f":"_xlfn.TEXTJOIN(\"^\",,S200:S214)","v":"4^2^1^3^5"},null,6,{"$nulls":11},{"$f":"_xlfn.TEXTJOIN(\"^\",,AI200:AI214)","v":"0^0"},null,6,null,{"$f":"$C201","v":6},null,null,null,6,6,6,null,null,null,{"$f":"_xlfn.TEXTJOIN(\"^\",,AW200:AW214)","v":"2^3"}]
[null,null,4,{"$nulls":12},{"$f":"_xlfn.TEXTJOIN(\"^\",,F200:F214)","v":"0^0^0"},null,4,{"$f":"$C202","v":4},null,null,{"$f":"$C202","v":4},{"$f":"$C202","v":4},4,4,{"$nulls":4},{"$f":"_xlfn.TEXTJOIN(\"^\",,T200:T214)","v":"6^2^1^3^7"},null,4,{"$nulls":11},{"$f":"_xlfn.TEXTJOIN(\"^\",,AJ200:AJ214)","v":"0^0^0"},null,4,{"$f":"$C202","v":4},null,null,{"$f":"$C202","v":4},null,null,4,4,null,null,null,{"$f":"_xlfn.TEXTJOIN(\"^\",,AX200:AX214)","v":"4^2^3^5"}]
[null,null,2,{"$nulls":12},{"$f":"_xlfn.TEXTJOIN(\"^\",,G200:G214)","v":"0^0"},null,2,{"$f":"$C203","v":2},{"$f":"$C203","v":2},null,{"$f":"$C203","v":2},2,2,2,{"$nulls":4},{"$f":"_xlfn.TEXTJOIN(\"^\",,U200:U214)","v":"101^102^103^104^105"},null,2,{"$nulls":11},{"$f":"_xlfn.TEXTJOIN(\"^\",,AK200:AK214)","v":"0^0^0"},null,2,null,null,{"$f":"$C203","v":2},2,null,{"$f":"$C203","v":2},2,2,null,null,null,{"$f":"_xlfn.TEXTJOIN(\"^\",,AY200:AY214)","v":"101^102^104^105"}]
[null,null,1,0,0,0,0,100,0,0,0,100,0,null,null,{"$f":"_xlfn.TEXTJOIN(\"^\",,H200:H214)","v":"100^0"},null,1,1,{"$f":"$C204","v":1},null,{"$f":"$C204","v":1},1,1,1,{"$nulls":4},{"$f":"_xlfn.TEXTJOIN(\"^\",,V200:V214)","v":"4^2^1^3^5"},null,1,100,0,0,0,0,0,100,0,null,null,null,{"$f":"_xlfn.TEXTJOIN(\"^\",,AL200:AL214)","v":"0^0^0"},null,1,{"$f":"$C204","v":1},1,{"$nulls":4},1,{"$nulls":4},{"$f":"_xlfn.TEXTJOIN(\"^\",,AZ200:AZ214)","v":"8^6^2^3^7^9"}]
[null,null,3,0,0,0,0,0,0,0,0,0,0,null,null,{"$f":"_xlfn.TEXTJOIN(\"^\",,I200:I214)","v":"0^0^0"},null,3,3,{"$f":"$C205","v":3},null,{"$f":"$C205","v":3},3,3,3,{"$nulls":4},{"$f":"_xlfn.TEXTJOIN(\"^\",,W200:W214)","v":"8^4^2^1^3^5^9"},null,3,0,0,0,0,0,0,0,0,null,null,null,{"$f":"_xlfn.TEXTJOIN(\"^\",,AM200:AM214)","v":"100^0"},null,3,null,null,{"$f":"$C205","v":3},3,null,{"$f":"$C205","v":3},3,3,null,null,null,{"$f":"_xlfn.TEXTJOIN(\"^\",,BA200:BA214)","v":"6^4^2^1^3^5^7"}]
[null,null,5,null,null,0,null,null,0,0,0,0,0,null,null,{"$f":"_xlfn.TEXTJOIN(\"^\",,J200:J214)","v":"0^0^0"},null,5,5,null,null,{"$f":"$C206","v":5},5,5,5,{"$nulls":4},{"$f":"_xlfn.TEXTJOIN(\"^\",,X200:X214)","v":"8^4^2^1^3^5^9"},null,5,0,null,null,0,0,0,null,0,null,null,null,{"$f":"_xlfn.TEXTJOIN(\"^\",,AN200:AN214)","v":"0^0^0^0"},null,5,{"$f":"$C206","v":5},null,null,5,null,null,5,5,null,null,null,{"$f":"_xlfn.TEXTJOIN(\"^\",,BB200:BB214)","v":"8^6^4^2^3^5^7^9"}]
[null,null,7,{"$nulls":9},0,null,null,{"$f":"_xlfn.TEXTJOIN(\"^\",,K200:K214)","v":"0^0^0"},null,7,null,{"$f":"$C207","v":7},{"$nulls":4},7,{"$nulls":4},{"$f":"_xlfn.TEXTJOIN(\"^\",,Y200:Y214)","v":"8^6^4^2^1^3^5^7^9"},null,7,{"$nulls":7},0,null,null,null,{"$f":"_xlfn.TEXTJOIN(\"^\",,AO200:AO214)","v":""},null,7,null,{"$f":"$C207","v":7},null,null,null,{"$f":"$C207","v":7},7,7,null,null,null,{"$f":"_xlfn.TEXTJOIN(\"^\",,BC200:BC214)","v":""}]
[null,null,9,{"$nulls":12},{"$f":"_xlfn.TEXTJOIN(\"^\",,L200:L214)","v":"100^0^0"},null,9,{"$nulls":4},{"$f":"$C208","v":9},{"$f":"$C208","v":9},9,{"$nulls":6},9,{"$nulls":11},{"$f":"_xlfn.TEXTJOIN(\"^\",,AP200:AP214)","v":""},null,9,{"$nulls":5},9,null,9,null,null,null,{"$f":"_xlfn.TEXTJOIN(\"^\",,BD200:BD214)","v":""}]
[null,null,"空降",{"$nulls":12},{"$f":"_xlfn.TEXTJOIN(\"^\",,M200:M214)","v":"0^0^0^0"},null,"空降",{"$nulls":13},"空降",{"$nulls":11},{"$f":"_xlfn.TEXTJOIN(\"^\",,AQ200:AQ208)","v":""},null,"空降",{"$nulls":11},{"$f":"_xlfn.TEXTJOIN(\"^\",,BE200:BE208)","v":""}]
[null,null,101,{"$nulls":12},{"$f":"_xlfn.TEXTJOIN(\"^\",,N200:N214)","v":""},null,101,null,null,{"$f":"$C210","v":101},{"$nulls":4},{"$f":"$C210","v":101},null,null,null,{"$f":"_xlfn.TEXTJOIN(\"^\",,Z200:Z214)","v":"101^102^103^104^105"},null,101,{"$nulls":13},101,{"$nulls":4},{"$f":"$C210","v":101}]
[null,null,102,{"$nulls":14},102,null,null,102,{"$nulls":4},102,null,null,null,{"$f":"_xlfn.TEXTJOIN(\"^\",,AA200:AA214)","v":""},null,102,{"$nulls":13},102,{"$nulls":4},102]
[null,null,103,{"$nulls":14},103,null,null,103,{"$nulls":4},103,null,null,null,{"$f":"_xlfn.TEXTJOIN(\"^\",,AB200:AB214)","v":""},null,103,{"$nulls":13},103]
[null,null,104,{"$nulls":14},104,null,null,104,{"$nulls":4},104,{"$nulls":5},104,{"$nulls":13},104,{"$nulls":4},{"$f":"$C213","v":104}]
[null,null,105,{"$nulls":14},105,null,null,105,{"$nulls":4},105,{"$nulls":5},105,{"$nulls":13},105,{"$nulls":4},105]
[{"$nulls":14},"最终",{"$f":"_xlfn.TEXTJOIN(\"|\",,P200:P214)","v":"0^0|0^0|0^0^0|0^0|100^0|0^0^0|0^0^0|0^0^0|100^0^0|0^0^0^0"},{"$nulls":12},"最终",{"$f":"_xlfn.TEXTJOIN(\"^\",,AD200:AD214)","v":"4^2^1^3^5^6^2^1^3^7^101^102^103^104^105^4^2^1^3^5^8^4^2^1^3^5^9^8^4^2^1^3^5^9^8^6^4^2^1^3^5^7^9^101^102^103^104^105"},{"$nulls":12},"最终",{"$f":"_xlfn.TEXTJOIN(\"|\",,AR199:AR214)","v":"100^0^0|0^0|0^0|0^0^0|0^0^0|0^0^0|100^0|0^0^0^0"},{"$nulls":12},"最终",{"$f":"_xlfn.TEXTJOIN(\"^\",,BF199:BF214)","v":"4^1^5^6^1^7^2^3^4^2^3^5^101^102^104^105^8^6^2^3^7^9^6^4^2^1^3^5^7^8^6^4^2^3^5^7^9"}]
[]
[null,null,"时间",5,15,30,45,50,65,81,98,105,120,{"$nulls":4},"时间",5,10,15,22,30,40,50,55,null,null,null,{"$f":"_xlfn.TEXTJOIN(\"^\",,S218:S226)","v":"5^5^5^5^5"},null,"时间",4,10,15,30,46,63,70,85,null,null,null,{"$f":"_xlfn.TEXTJOIN(\"^\",,AG218:AG226)","v":"10^4^4"},null,"时间",3,5,8,12,20,30,40,50,null,null,null,{"$f":"_xlfn.TEXTJOIN(\"^\",,AU218:AU226)","v":"3^3^3"}]
[null,null,8,{"$nulls":12},{"$f":"_xlfn.TEXTJOIN(\"^\",,D218:D227)","v":"4^3"},null,8,{"$nulls":4},{"$f":"W$217","v":30},{"$f":"X$217","v":40},{"$f":"Y$217","v":50},{"$nulls":4},{"$f":"_xlfn.TEXTJOIN(\"^\",,T218:T226)","v":"10^10^10^10^10"},null,8,{"$nulls":11},{"$f":"_xlfn.TEXTJOIN(\"^\",,AH218:AH226)","v":"5^4"},null,8,{"$nulls":5},{"$f":"AZ$217","v":30},null,{"$f":"BB$217","v":50},null,null,null,{"$f":"_xlfn.TEXTJOIN(\"^\",,AV218:AV226)","v":"5^5^5"}]
[null,null,6,{"$nulls":12},{"$f":"_xlfn.TEXTJOIN(\"^\",,E218:E227)","v":"8^3"},null,6,null,{"$f":"T$217","v":10},{"$nulls":4},50,{"$nulls":4},{"$f":"_xlfn.TEXTJOIN(\"^\",,U218:U226)","v":"15^15^15^15^15"},null,6,{"$nulls":11},{"$f":"_xlfn.TEXTJOIN(\"^\",,AI218:AI226)","v":"9^2"},null,6,null,{"$f":"AV$217","v":5},null,null,null,30,40,50,null,null,null,{"$f":"_xlfn.TEXTJOIN(\"^\",,AW218:AW226)","v":"8^8"}]
[null,null,4,{"$nulls":12},{"$f":"_xlfn.TEXTJOIN(\"^\",,F218:F227)","v":"3^4^3"},null,4,{"$f":"S$217","v":5},null,{"$f":"U$217","v":15},{"$f":"V$217","v":22},{"$f":"W$217","v":30},40,50,55,null,null,null,{"$f":"_xlfn.TEXTJOIN(\"^\",,V218:V226)","v":"22^22^22^22^22"},null,4,{"$nulls":11},{"$f":"_xlfn.TEXTJOIN(\"^\",,AJ218:AJ226)","v":"2^8^3"},null,4,{"$f":"AU$217","v":3},null,null,{"$f":"AX$217","v":12},20,null,40,50,null,null,null,{"$f":"_xlfn.TEXTJOIN(\"^\",,AX218:AX226)","v":"12^12^12^12"}]
[null,null,2,{"$nulls":12},{"$f":"_xlfn.TEXTJOIN(\"^\",,G218:G227)","v":"4^8"},null,2,5,{"$f":"T$217","v":10},15,{"$f":"V$217","v":22},30,40,{"$f":"Y$217","v":50},55,null,null,null,{"$f":"_xlfn.TEXTJOIN(\"^\",,W218:W226)","v":"30^30^30^30^30^30^30"},null,2,{"$nulls":11},{"$f":"_xlfn.TEXTJOIN(\"^\",,AK218:AK226)","v":"3^8^2"},null,2,null,null,{"$f":"AW$217","v":8},12,20,{"$f":"AZ$217","v":30},40,50,null,null,null,{"$f":"_xlfn.TEXTJOIN(\"^\",,AY218:AY226)","v":"20^20^20^20"}]
[null,null,1,4,8,3,4,8,3,2,3,8,2,null,null,{"$f":"_xlfn.TEXTJOIN(\"^\",,H218:H227)","v":"8^4"},null,1,5,{"$f":"T$217","v":10},15,{"$f":"V$217","v":22},30,40,50,55,null,null,null,{"$f":"_xlfn.TEXTJOIN(\"^\",,X218:X226)","v":"40^40^40^40^40^40^40"},null,1,10,5,9,2,3,2,8,2,null,null,null,{"$f":"_xlfn.TEXTJOIN(\"^\",,AL218:AL226)","v":"2^8^3"},null,1,{"$f":"AU$217","v":3},{"$f":"AV$217","v":5},{"$nulls":4},40,{"$nulls":4},{"$f":"_xlfn.TEXTJOIN(\"^\",,AZ218:AZ226)","v":"30^30^30^30^30^30"}]
[null,null,3,3,3,4,8,4,8,3,9,2,2,null,null,{"$f":"_xlfn.TEXTJOIN(\"^\",,I218:I227)","v":"3^8^2"},null,3,5,{"$f":"T$217","v":10},15,{"$f":"V$217","v":22},30,40,50,55,null,null,null,{"$f":"_xlfn.TEXTJOIN(\"^\",,Y218:Y226)","v":"50^50^50^50^50^50^50^50^50"},null,3,4,4,2,8,8,8,3,7,null,null,null,{"$f":"_xlfn.TEXTJOIN(\"^\",,AM218:AM226)","v":"8^3"},null,3,null,null,{"$f":"AW$217","v":8},{"$f":"AX$217","v":12},20,{"$f":"AZ$217","v":30},40,50,null,null,null,{"$f":"_xlfn.TEXTJOIN(\"^\",,BA218:BA226)","v":"40^40^40^40^40^40^40"}]
[null,null,5,null,null,3,null,null,2,8,2,8,7,null,null,{"$f":"_xlfn.TEXTJOIN(\"^\",,J218:J227)","v":"2^3^8"},null,5,5,null,15,{"$f":"V$217","v":22},30,40,50,55,null,null,null,{"$f":"_xlfn.TEXTJOIN(\"^\",,Z218:Z226)","v":"55^55^55^55^55"},null,5,4,null,null,3,2,3,null,3,null,null,null,{"$f":"_xlfn.TEXTJOIN(\"^\",,AN218:AN226)","v":"2^7^3^2"},null,5,{"$f":"AU$217","v":3},null,null,12,20,null,40,50,null,null,null,{"$f":"_xlfn.TEXTJOIN(\"^\",,BB218:BB226)","v":"50^50^50^50^50^50^50^50"}]
[null,null,7,{"$nulls":9},3,null,null,{"$f":"_xlfn.TEXTJOIN(\"^\",,K218:K227)","v":"3^9^2"},null,7,null,{"$f":"T$217","v":10},{"$nulls":4},50,{"$nulls":4},{"$f":"_xlfn.TEXTJOIN(\"^\",,AA218:AA226)","v":""},null,7,{"$nulls":7},2,null,null,null,{"$f":"_xlfn.TEXTJOIN(\"^\",,AO218:AO226)","v":""},null,7,null,{"$f":"AV$217","v":5},null,null,null,{"$f":"AZ$217","v":30},40,50,null,null,null,{"$f":"_xlfn.TEXTJOIN(\"^\",,BC218:BC226)","v":""}]
[null,null,9,{"$nulls":12},{"$f":"_xlfn.TEXTJOIN(\"^\",,L218:L227)","v":"8^2^8"},null,9,{"$nulls":4},{"$f":"W$217","v":30},{"$f":"X$217","v":40},50,{"$nulls":4},{"$f":"_xlfn.TEXTJOIN(\"^\",,AB218:AB226)","v":""},null,9,{"$nulls":11},{"$f":"_xlfn.TEXTJOIN(\"^\",,AP218:AP226)","v":""},null,9,{"$nulls":5},30,null,50,null,null,null,{"$f":"_xlfn.TEXTJOIN(\"^\",,BD218:BD226)","v":""}]
[{"$nulls":15},{"$f":"_xlfn.TEXTJOIN(\"^\",,M218:M227)","v":"2^2^7^3"},{"$nulls":13},{"$f":"_xlfn.TEXTJOIN(\"^\",,AC218:AC226)","v":""},{"$nulls":13},{"$f":"_xlfn.TEXTJOIN(\"^\",,AQ218:AQ226)","v":""},{"$nulls":13},{"$f":"_xlfn.TEXTJOIN(\"^\",,BE218:BE226)","v":""}]
[{"$nulls":15},{"$f":"_xlfn.TEXTJOIN(\"^\",,N218:N227)","v":""},{"$nulls":12},"最终",{"$f":"_xlfn.TEXTJOIN(\"^\",,AD217:AD227)","v":"5^5^5^5^5^10^10^10^10^10^15^15^15^15^15^22^22^22^22^22^30^30^30^30^30^30^30^40^40^40^40^40^40^40^50^50^50^50^50^50^50^50^50^55^55^55^55^55"},{"$nulls":12},"最终",{"$f":"_xlfn.TEXTJOIN(\"|\",,AR217:AR227)","v":"10^4^4|5^4|9^2|2^8^3|3^8^2|2^8^3|8^3|2^7^3^2"},{"$nulls":12},"最终",{"$f":"_xlfn.TEXTJOIN(\"^\",,BF217:BF227)","v":"3^3^3^5^5^5^8^8^12^12^12^12^20^20^20^20^30^30^30^30^30^30^40^40^40^40^40^40^40^50^50^50^50^50^50^50^50"}]
[{"$nulls":14},"最终",{"$f":"_xlfn.TEXTJOIN(\"|\",,P218:P228)","v":"4^3|8^3|3^4^3|4^8|8^4|3^8^2|2^3^8|3^9^2|8^2^8|2^2^7^3"}]
[{"$nulls":15},{"$f":"SUM(D218:M226)","v":124},{"$nulls":13},{"$f":"COUNT(S218:AA226)","v":48},{"$nulls":12},{"$f":"SUM(AG218:AN226)","v":102},{"$nulls":13},{"$f":"COUNT(AU218:BB226)","v":37}]
[{"$nulls":56},{"$f":"BE230+AQ230+AD230+P230","v":311}]
[]
[{"$nulls":4},{"$f":"E234-D234","v":5},{"$f":"F234-E234","v":7},4,7,7,10,10,5,10,{"$nulls":6},{"$f":"T234-S234","v":5},5,10,15,16,4,15,{"$nulls":7},{"$f":"AH234-AG234","v":2},5,10,10,5,10,10,{"$nulls":7},{"$f":"AV234-AU234","v":2},3,4,8,10,10,10]
[1,"沼泽-5","波1·怪物",5,10,17,21,28,35,45,55,60,70,null,null,null,3,"波2·怪物",5,10,15,25,40,56,60,75,{"$nulls":4},1,"波3·怪物",3,5,10,20,30,35,45,55,{"$nulls":4},1,"波4·怪物",3,5,8,12,20,30,40,50]
[null,"5m",8,null,null,60352,null,60354,60354,60352,null,null,60352,null,null,{"$f":"_xlfn.TEXTJOIN(\"^\",,D235:D244)","v":"60354^60351^60351^60351^60354"},null,8,{"$nulls":11},{"$f":"_xlfn.TEXTJOIN(\"^\",,S235:S244)","v":"60355^60352^60353"},null,8,{"$nulls":6},60354,60352,null,null,null,{"$f":"_xlfn.TEXTJOIN(\"^\",,AG235:AG244)","v":"60354^60352^60352^60352^60354"},null,8,{"$nulls":5},60352,null,60354,null,null,null,{"$f":"_xlfn.TEXTJOIN(\"^\",,AU235:AU244)","v":"60354^60353^60359^60353^60354"}]
[null,null,6,60354,null,60351,null,60352,null,60351,60354,null,60352,null,null,{"$f":"_xlfn.TEXTJOIN(\"^\",,E235:E244)","v":"60352^60352^60352^60352"},null,6,{"$nulls":11},{"$f":"_xlfn.TEXTJOIN(\"^\",,T235:T244)","v":"60352^60351"},null,6,null,null,null,60354,60352,null,null,60352,null,null,null,{"$f":"_xlfn.TEXTJOIN(\"^\",,AH235:AH244)","v":"60353^60351^60353^60351^60353"},null,6,null,60352,null,60351,60354,null,60352,60352,null,null,null,{"$f":"_xlfn.TEXTJOIN(\"^\",,AV235:AV244)","v":"60352^60352^60352"}]
[null,null,4,null,60352,null,60355,null,60352,60351,60352,60355,null,null,null,{"$f":"_xlfn.TEXTJOIN(\"^\",,F235:F244)","v":"60352^60351^60353^60353^60351^60352"},null,4,{"$nulls":11},{"$f":"_xlfn.TEXTJOIN(\"^\",,U235:U244)","v":"60353^60351^60354"},null,4,60354,60353,60355,60352,60351,60355,60352,{"$nulls":4},{"$f":"_xlfn.TEXTJOIN(\"^\",,AI235:AI244)","v":"60355^60355^60355^60355^60355"},null,4,60354,null,60355,60351,60352,60351,60351,60351,null,null,null,{"$f":"_xlfn.TEXTJOIN(\"^\",,AW235:AW244)","v":"60355^60355^60355^60355"}]
[null,null,2,60351,60352,60353,60355,60351,60353,60351,60353,60355,60353,null,null,{"$f":"_xlfn.TEXTJOIN(\"^\",,G235:G244)","v":"60355^60355^60355^60355"},null,2,{"$nulls":11},{"$f":"_xlfn.TEXTJOIN(\"^\",,V235:V244)","v":"60351^60352^60354"},null,2,60352,60351,60355,60353,60351,60355,60353,60351,null,null,null,{"$f":"_xlfn.TEXTJOIN(\"^\",,AJ235:AJ244)","v":"60354^60352^60353^60352^60353^60352^60354"},null,2,60353,null,60355,null,60353,60351,60351,60353,null,null,null,{"$f":"_xlfn.TEXTJOIN(\"^\",,AX235:AX244)","v":"60351^60351^60351^60351^60351"}]
[null,null,1,60351,null,null,null,60351,60352,null,60352,60355,60359,null,null,{"$f":"_xlfn.TEXTJOIN(\"^\",,H235:H244)","v":"60354^60352^60351^60351^60351^60352^60354"},null,1,60355,60352,60353,60351,60354,60353,60355,60356,null,null,null,{"$f":"_xlfn.TEXTJOIN(\"^\",,W235:W244)","v":"60354^60353^60352"},null,1,60352,60353,60355,60352,60352,60355,60352,60353,null,null,null,{"$f":"_xlfn.TEXTJOIN(\"^\",,AK235:AK244)","v":"60352^60351^60351^60352^60351^60351^60352"},null,1,60359,60352,null,60351,null,60354,60353,{"$nulls":4},{"$f":"_xlfn.TEXTJOIN(\"^\",,AY235:AY244)","v":"60354^60352^60353^60353^60352^60354"}]
[null,null,3,60351,60352,60353,60355,60351,60353,60351,60353,60355,60353,null,null,{"$f":"_xlfn.TEXTJOIN(\"^\",,I235:I244)","v":"60354^60352^60353^60352^60353^60352^60354"},null,3,60352,60351,60351,60352,60353,60351,60351,60352,null,null,null,{"$f":"_xlfn.TEXTJOIN(\"^\",,X235:X244)","v":"60353^60351^60352"},null,3,60352,60351,60355,60353,60351,60355,60353,60351,null,null,null,{"$f":"_xlfn.TEXTJOIN(\"^\",,AL235:AL244)","v":"60355^60355^60355^60355^60355"},null,3,60353,null,60355,null,60353,60351,60351,60353,null,null,null,{"$f":"_xlfn.TEXTJOIN(\"^\",,AZ235:AZ244)","v":"60352^60351^60351^60354^60351^60351^60352"}]
[null,null,5,null,60352,null,60355,null,60352,60351,60352,60355,null,null,null,{"$f":"_xlfn.TEXTJOIN(\"^\",,J235:J244)","v":"60352^60351^60351^60351^60351^60351^60351^60352"},null,5,60353,null,60354,60354,60352,60352,null,60354,null,null,null,{"$f":"_xlfn.TEXTJOIN(\"^\",,Y235:Y244)","v":"60355^60351"},null,5,60354,60353,60355,60352,60351,60355,60352,{"$nulls":4},{"$f":"_xlfn.TEXTJOIN(\"^\",,AM235:AM244)","v":"60354^60352^60353^60352^60353^60352^60354"},null,5,60354,null,60355,60351,60352,60351,60351,60351,null,null,null,{"$f":"_xlfn.TEXTJOIN(\"^\",,BA235:BA244)","v":"60352^60351^60351^60353^60351^60351^60352"}]
[null,null,7,60354,null,60351,null,60352,null,60351,60354,null,60352,null,null,{"$f":"_xlfn.TEXTJOIN(\"^\",,K235:K244)","v":"60354^60352^60353^60352^60353^60352^60354"},null,7,{"$nulls":7},60353,null,null,null,{"$f":"_xlfn.TEXTJOIN(\"^\",,Z235:Z244)","v":"60356^60352^60354^60353^60359"},null,7,null,null,null,60354,60352,null,null,60352,null,null,null,{"$f":"_xlfn.TEXTJOIN(\"^\",,AN235:AN244)","v":"60352^60352^60351^60353^60351^60352^60352"},null,7,null,60352,null,60351,60354,null,60352,60352,null,null,null,{"$f":"_xlfn.TEXTJOIN(\"^\",,BB235:BB244)","v":"60354^60352^60351^60353^60353^60351^60352^60354"}]
[null,null,9,null,null,60352,null,60354,60354,60352,null,null,60352,null,null,{"$f":"_xlfn.TEXTJOIN(\"^\",,L235:L244)","v":"60355^60355^60355^60355^60355"},null,9,{"$nulls":7},60359,null,null,null,{"$f":"_xlfn.TEXTJOIN(\"^\",,AA235:AA244)","v":""},null,9,{"$nulls":6},60354,60352,null,null,null,{"$f":"_xlfn.TEXTJOIN(\"^\",,AO235:AO244)","v":""},null,9,{"$nulls":5},60352,null,60354,null,null,null,{"$f":"_xlfn.TEXTJOIN(\"^\",,BC235:BC244)","v":""}]
[{"$nulls":15},{"$f":"_xlfn.TEXTJOIN(\"^\",,M235:M244)","v":"60352^60352^60353^60359^60353^60352^60352"},{"$nulls":13},{"$f":"_xlfn.TEXTJOIN(\"^\",,AB235:AB244)","v":""},{"$nulls":13},{"$f":"_xlfn.TEXTJOIN(\"^\",,AP235:AP244)","v":""},{"$nulls":13},{"$f":"_xlfn.TEXTJOIN(\"^\",,BD235:BD244)","v":""}]
[{"$nulls":15},{"$f":"_xlfn.TEXTJOIN(\"^\",,N235:N244)","v":""},{"$nulls":13},{"$f":"_xlfn.TEXTJOIN(\"^\",,AC235:AC244)","v":""},{"$nulls":13},{"$f":"_xlfn.TEXTJOIN(\"^\",,AQ235:AQ244)","v":""},{"$nulls":13},{"$f":"_xlfn.TEXTJOIN(\"^\",,BE235:BE244)","v":""}]
[{"$nulls":14},"最终",{"$f":"_xlfn.TEXTJOIN(\"^\",,P235:P245)","v":"60354^60351^60351^60351^60354^60352^60352^60352^60352^60352^60351^60353^60353^60351^60352^60355^60355^60355^60355^60354^60352^60351^60351^60351^60352^60354^60354^60352^60353^60352^60353^60352^60354^60352^60351^60351^60351^60351^60351^60351^60352^60354^60352^60353^60352^60353^60352^60354^60355^60355^60355^60355^60355^60352^60352^60353^60359^60353^60352^60352"},{"$nulls":12},"最终",{"$f":"_xlfn.TEXTJOIN(\"|\",,AD235:AD245)","v":"60355^60352^60353|60352^60351|60353^60351^60354|60351^60352^60354|60354^60353^60352|60353^60351^60352|60355^60351|60356^60352^60354^60353^60359"},{"$nulls":12},"最终",{"$f":"_xlfn.TEXTJOIN(\"^\",,AR235:AR245)","v":"60354^60352^60352^60352^60354^60353^60351^60353^60351^60353^60355^60355^60355^60355^60355^60354^60352^60353^60352^60353^60352^60354^60352^60351^60351^60352^60351^60351^60352^60355^60355^60355^60355^60355^60354^60352^60353^60352^60353^60352^60354^60352^60352^60351^60353^60351^60352^60352"},{"$nulls":12},"最终",{"$f":"_xlfn.TEXTJOIN(\"^\",,BF235:BF245)","v":"60354^60353^60359^60353^60354^60352^60352^60352^60355^60355^60355^60355^60351^60351^60351^60351^60351^60354^60352^60353^60353^60352^60354^60352^60351^60351^60354^60351^60351^60352^60352^60351^60351^60353^60351^60351^60352^60354^60352^60351^60353^60353^60351^60352^60354"}]
[null,null,8,null,null,"孢子人",null,"木精灵","木精灵","孢子人",null,null,"孢子人",{"$nulls":4},8,{"$nulls":13},8,{"$nulls":6},"木精灵","孢子人",{"$nulls":5},8,{"$nulls":5},"孢子人",null,"木精灵"]
[null,null,6,"木精灵",null,"树精",null,"孢子人",null,"树精","木精灵",null,"孢子人",{"$nulls":4},6,{"$nulls":13},6,null,null,null,"木精灵","孢子人",null,null,"孢子人",{"$nulls":5},6,null,"孢子人",null,"树精","木精灵",null,"孢子人","孢子人"]
[null,null,4,null,"孢子人",null,"森林蜘蛛",null,"孢子人","树精","孢子人","森林蜘蛛",{"$nulls":5},4,{"$nulls":13},4,"木精灵","哥布林","森林蜘蛛","孢子人","树精","森林蜘蛛","孢子人",{"$nulls":6},4,"木精灵",null,"森林蜘蛛","树精","孢子人","树精","树精","树精"]
[null,null,2,"树精","孢子人","哥布林","森林蜘蛛","树精","哥布林","树精","哥布林","森林蜘蛛","哥布林",{"$nulls":4},2,{"$nulls":13},2,"孢子人","树精","森林蜘蛛","哥布林","树精","森林蜘蛛","哥布林","树精",{"$nulls":5},2,"哥布林",null,"森林蜘蛛",null,"哥布林","树精","树精","哥布林"]
[null,null,1,"树精",null,null,null,"树精","孢子人",null,"孢子人","森林蜘蛛","黑暗法师",{"$nulls":4},1,"森林蜘蛛","孢子人","哥布林","树精","木精灵","哥布林","森林蜘蛛","森林巨兽",{"$nulls":5},1,"孢子人","哥布林","森林蜘蛛","孢子人","孢子人","森林蜘蛛","孢子人","哥布林",{"$nulls":5},1,"黑暗法师","孢子人",null,"树精",null,"木精灵","哥布林"]
[null,null,3,"树精","孢子人","哥布林","森林蜘蛛","树精","哥布林","树精","哥布林","森林蜘蛛","哥布林",{"$nulls":4},3,"孢子人","树精","树精","孢子人","哥布林","树精","树精","孢子人",{"$nulls":5},3,"孢子人","树精","森林蜘蛛","哥布林","树精","森林蜘蛛","哥布林","树精",{"$nulls":5},3,"哥布林",null,"森林蜘蛛",null,"哥布林","树精","树精","哥布林"]
[null,null,5,null,"孢子人",null,"森林蜘蛛",null,"孢子人","树精","孢子人","森林蜘蛛",{"$nulls":5},5,"哥布林",null,"木精灵","木精灵","孢子人","孢子人",null,"木精灵",{"$nulls":5},5,"木精灵","哥布林","森林蜘蛛","孢子人","树精","森林蜘蛛","孢子人",{"$nulls":6},5,"木精灵",null,"森林蜘蛛","树精","孢子人","树精","树精","树精"]
[null,null,7,"木精灵",null,"树精",null,"孢子人",null,"树精","木精灵",null,"孢子人",{"$nulls":4},7,{"$nulls":7},"哥布林",{"$nulls":5},7,null,null,null,"木精灵","孢子人",null,null,"孢子人",{"$nulls":5},7,null,"孢子人",null,"树精","木精灵",null,"孢子人","孢子人"]
[null,null,9,null,null,"孢子人",null,"木精灵","木精灵","孢子人",null,null,"孢子人",{"$nulls":4},9,{"$nulls":7},"黑暗法师",{"$nulls":5},9,{"$nulls":6},"木精灵","孢子人",{"$nulls":5},9,{"$nulls":5},"孢子人",null,"木精灵"]
[]
[null,null,"位置",5,10,17,21,28,35,45,55,60,70,{"$nulls":4},"位置",5,10,15,25,40,56,60,75,{"$nulls":5},"位置",3,5,10,20,30,35,45,55,null,null,null,{"$f":"_xlfn.TEXTJOIN(\"^\",,AG258:AG272)","v":"4^2^1^3^5"},null,"位置",3,5,8,12,20,30,40,50,null,null,null,{"$f":"_xlfn.TEXTJOIN(\"^\",,AU258:AU272)","v":"4^2^1^3^5"}]
[null,null,8,null,null,{"$f":"$C258","v":8},null,{"$f":"$C258","v":8},{"$f":"$C258","v":8},{"$f":"$C258","v":8},null,null,{"$f":"$C258","v":8},null,null,{"$f":"_xlfn.TEXTJOIN(\"^\",,D258:D272)","v":"6^2^1^3^7"},null,8,{"$nulls":13},8,{"$nulls":6},{"$f":"$C258","v":8},{"$f":"$C258","v":8},null,null,null,{"$f":"_xlfn.TEXTJOIN(\"^\",,AH258:AH272)","v":"4^2^1^3^5"},null,8,{"$nulls":5},{"$f":"$C258","v":8},null,{"$f":"$C258","v":8},null,null,null,{"$f":"_xlfn.TEXTJOIN(\"^\",,AV258:AV272)","v":"6^1^7"}]
[null,null,6,{"$f":"$C259","v":6},null,6,null,6,null,6,6,null,6,null,null,{"$f":"_xlfn.TEXTJOIN(\"^\",,E258:E272)","v":"4^2^3^5"},null,6,{"$nulls":11},{"$f":"_xlfn.TEXTJOIN(\"^\",,S258:S272)","v":"100^0^0"},null,6,null,null,null,{"$f":"$C259","v":6},6,null,null,6,null,null,null,{"$f":"_xlfn.TEXTJOIN(\"^\",,AI258:AI272)","v":"101^102^103^104^105"},null,6,null,{"$f":"$C259","v":6},null,{"$f":"$C259","v":6},6,null,{"$f":"$C259","v":6},6,null,null,null,{"$f":"_xlfn.TEXTJOIN(\"^\",,AW258:AW272)","v":"101^102^104^105"}]
[null,null,4,null,{"$f":"$C260","v":4},null,null,null,{"$f":"$C260","v":4},4,4,{"$nulls":4},{"$f":"_xlfn.TEXTJOIN(\"^\",,F258:F272)","v":"8^6^2^3^7^9"},null,4,{"$nulls":11},{"$f":"_xlfn.TEXTJOIN(\"^\",,T258:T272)","v":"0^0"},null,4,{"$f":"$C260","v":4},{"$f":"$C260","v":4},null,4,4,null,{"$f":"$C260","v":4},{"$nulls":4},{"$f":"_xlfn.TEXTJOIN(\"^\",,AJ258:AJ272)","v":"6^4^2^1^3^5^7"},null,4,{"$f":"$C260","v":4},null,null,4,4,4,4,4,null,null,null,{"$f":"_xlfn.TEXTJOIN(\"^\",,AX258:AX272)","v":"6^4^1^5^7"}]
[null,null,2,{"$f":"$C261","v":2},2,{"$f":"$C261","v":2},null,{"$f":"$C261","v":2},2,2,2,null,{"$f":"$C261","v":2},null,null,{"$f":"_xlfn.TEXTJOIN(\"^\",,G258:G272)","v":"101^102^104^105"},null,2,{"$nulls":11},{"$f":"_xlfn.TEXTJOIN(\"^\",,U258:U272)","v":"0^0^0"},null,2,2,{"$f":"$C261","v":2},null,2,2,null,2,2,null,null,null,{"$f":"_xlfn.TEXTJOIN(\"^\",,AK258:AK272)","v":"6^4^2^1^3^5^7"},null,2,2,null,null,null,{"$f":"$C261","v":2},2,2,2,null,null,null,{"$f":"_xlfn.TEXTJOIN(\"^\",,AY258:AY272)","v":"6^4^2^3^5^7"}]
[null,null,1,1,null,null,null,1,1,null,1,null,1,null,null,{"$f":"_xlfn.TEXTJOIN(\"^\",,H258:H272)","v":"8^6^2^1^3^7^9"},null,1,100,0,0,0,0,0,100,0,null,null,null,{"$f":"_xlfn.TEXTJOIN(\"^\",,V258:V272)","v":"0^0^0"},null,1,1,{"$f":"$C262","v":1},null,1,1,null,1,1,null,null,null,{"$f":"_xlfn.TEXTJOIN(\"^\",,AL258:AL272)","v":"101^102^103^104^105"},null,1,1,{"$f":"$C262","v":1},null,{"$f":"$C262","v":1},null,1,1,{"$nulls":4},{"$f":"_xlfn.TEXTJOIN(\"^\",,AZ258:AZ272)","v":"8^4^2^1^3^5^9"}]
[null,null,3,3,3,{"$f":"$C263","v":3},null,3,3,3,3,null,3,null,null,{"$f":"_xlfn.TEXTJOIN(\"^\",,I258:I272)","v":"8^4^2^1^3^5^9"},null,3,0,0,0,0,0,0,0,0,null,null,null,{"$f":"_xlfn.TEXTJOIN(\"^\",,W258:W272)","v":"0^0^0"},null,3,3,{"$f":"$C263","v":3},null,3,3,null,3,3,null,null,null,{"$f":"_xlfn.TEXTJOIN(\"^\",,AM258:AM272)","v":"8^4^2^1^3^5^9"},null,3,{"$f":"$C263","v":3},null,null,null,{"$f":"$C263","v":3},3,3,3,null,null,null,{"$f":"_xlfn.TEXTJOIN(\"^\",,BA258:BA272)","v":"6^4^2^1^3^5^7"}]
[null,null,5,null,5,null,null,null,5,5,5,{"$nulls":4},{"$f":"_xlfn.TEXTJOIN(\"^\",,J258:J272)","v":"8^6^4^2^3^5^7^9"},null,5,0,null,0,0,0,0,null,0,null,null,null,{"$f":"_xlfn.TEXTJOIN(\"^\",,X258:X272)","v":"0^0^0"},null,5,5,{"$f":"$C264","v":5},null,5,5,null,5,{"$nulls":4},{"$f":"_xlfn.TEXTJOIN(\"^\",,AN258:AN272)","v":"8^6^2^1^3^7^9"},null,5,5,null,null,{"$f":"$C264","v":5},5,5,5,5,null,null,null,{"$f":"_xlfn.TEXTJOIN(\"^\",,BB258:BB272)","v":"8^6^4^2^3^5^7^9"}]
[null,null,7,{"$f":"$C265","v":7},null,{"$f":"$C265","v":7},null,{"$f":"$C265","v":7},null,7,7,null,{"$f":"$C265","v":7},null,null,{"$f":"_xlfn.TEXTJOIN(\"^\",,K258:K272)","v":"6^4^2^1^3^5^7"},null,7,{"$nulls":7},0,null,null,null,{"$f":"_xlfn.TEXTJOIN(\"^\",,Y258:Y272)","v":"100^0"},null,7,null,null,null,7,7,null,null,{"$f":"$C265","v":7},null,null,null,{"$f":"_xlfn.TEXTJOIN(\"^\",,AO258:AO272)","v":""},null,7,null,{"$f":"$C265","v":7},null,7,7,null,7,7,null,null,null,{"$f":"_xlfn.TEXTJOIN(\"^\",,BC258:BC272)","v":""}]
[null,null,9,null,null,9,null,9,{"$f":"$C266","v":9},9,null,null,9,null,null,{"$f":"_xlfn.TEXTJOIN(\"^\",,L258:L272)","v":"101^102^103^104^105"},null,9,{"$nulls":7},0,{"$nulls":5},9,{"$nulls":6},{"$f":"$C266","v":9},9,null,null,null,{"$f":"_xlfn.TEXTJOIN(\"^\",,AP258:AP272)","v":""},null,9,{"$nulls":5},{"$f":"$C266","v":9},null,9,null,null,null,{"$f":"_xlfn.TEXTJOIN(\"^\",,BD258:BD272)","v":""}]
[null,null,"空降",{"$nulls":12},{"$f":"_xlfn.TEXTJOIN(\"^\",,M258:M272)","v":"8^6^2^1^3^7^9"},null,"空降",{"$nulls":13},"空降",{"$nulls":11},{"$f":"_xlfn.TEXTJOIN(\"^\",,AQ258:AQ266)","v":""},null,"空降",{"$nulls":11},{"$f":"_xlfn.TEXTJOIN(\"^\",,BE258:BE266)","v":""}]
[null,null,101,null,null,null,{"$f":"$C268","v":101},{"$nulls":4},{"$f":"$C268","v":101},null,null,null,{"$f":"_xlfn.TEXTJOIN(\"^\",,N258:N272)","v":""},null,101,{"$nulls":11},{"$f":"_xlfn.TEXTJOIN(\"^\",,Z258:Z272)","v":"0^0^0^0^0"},null,101,null,null,{"$f":"$C268","v":101},null,null,{"$f":"$C268","v":101},{"$nulls":7},101,null,null,{"$f":"$C268","v":101}]
[null,null,102,null,null,null,102,{"$nulls":4},{"$f":"$C269","v":102},{"$nulls":5},102,{"$nulls":11},{"$f":"_xlfn.TEXTJOIN(\"^\",,AA258:AA272)","v":""},null,102,null,null,102,null,null,102,{"$nulls":7},102,null,null,102]
[null,null,103,{"$nulls":8},{"$f":"$C270","v":103},{"$nulls":5},103,{"$nulls":11},{"$f":"_xlfn.TEXTJOIN(\"^\",,AB258:AB272)","v":""},null,103,null,null,103,null,null,103,{"$nulls":7},103]
[null,null,104,null,null,null,{"$f":"$C271","v":104},{"$nulls":4},{"$f":"$C271","v":104},{"$nulls":5},104,{"$nulls":13},104,null,null,104,null,null,104,{"$nulls":7},104,null,null,{"$f":"$C271","v":104}]
[null,null,105,null,null,null,105,{"$nulls":4},105,{"$nulls":5},105,{"$nulls":13},105,null,null,105,null,null,105,{"$nulls":7},105,null,null,105]
[{"$nulls":14},"最终",{"$f":"_xlfn.TEXTJOIN(\"^\",,P258:P272)","v":"6^2^1^3^7^4^2^3^5^8^6^2^3^7^9^101^102^104^105^8^6^2^1^3^7^9^8^4^2^1^3^5^9^8^6^4^2^3^5^7^9^6^4^2^1^3^5^7^101^102^103^104^105^8^6^2^1^3^7^9"},{"$nulls":12},"最终",{"$f":"_xlfn.TEXTJOIN(\"|\",,AD258:AD272)","v":"100^0^0|0^0|0^0^0|0^0^0|0^0^0|0^0^0|100^0|0^0^0^0^0"},{"$nulls":12},"最终",{"$f":"_xlfn.TEXTJOIN(\"^\",,AR257:AR272)","v":"4^2^1^3^5^4^2^1^3^5^101^102^103^104^105^6^4^2^1^3^5^7^6^4^2^1^3^5^7^101^102^103^104^105^8^4^2^1^3^5^9^8^6^2^1^3^7^9"},{"$nulls":12},"最终",{"$f":"_xlfn.TEXTJOIN(\"^\",,BF257:BF272)","v":"4^2^1^3^5^6^1^7^101^102^104^105^6^4^1^5^7^6^4^2^3^5^7^8^4^2^1^3^5^9^6^4^2^1^3^5^7^8^6^4^2^3^5^7^9"}]
[]
[null,null,"时间",5,10,17,21,28,35,45,55,60,70,{"$nulls":4},"时间",5,10,15,25,40,56,60,75,null,null,null,{"$f":"_xlfn.TEXTJOIN(\"^\",,S276:S284)","v":"10^6^3"},null,"时间",3,5,10,20,30,35,45,55,null,null,null,{"$f":"_xlfn.TEXTJOIN(\"^\",,AG276:AG284)","v":"3^3^3^3^3"},null,"时间",3,5,8,12,20,30,40,50,null,null,null,{"$f":"_xlfn.TEXTJOIN(\"^\",,AU276:AU284)","v":"3^3^3^3^3"}]
[null,null,8,null,null,{"$f":"F$275","v":17},null,{"$f":"H$275","v":28},{"$f":"I$275","v":35},{"$f":"J$275","v":45},null,null,{"$f":"M$275","v":70},null,null,{"$f":"_xlfn.TEXTJOIN(\"^\",,D276:D285)","v":"5^5^5^5^5"},null,8,{"$nulls":11},{"$f":"_xlfn.TEXTJOIN(\"^\",,T276:T284)","v":"4^7"},null,8,{"$nulls":6},{"$f":"AM$275","v":45},{"$f":"AN$275","v":55},null,null,null,{"$f":"_xlfn.TEXTJOIN(\"^\",,AH276:AH284)","v":"5^5^5^5^5"},null,8,{"$nulls":5},{"$f":"AZ$275","v":30},null,{"$f":"BB$275","v":50},null,null,null,{"$f":"_xlfn.TEXTJOIN(\"^\",,AV276:AV284)","v":"5^5^5"}]
[null,null,6,{"$f":"D$275","v":5},null,17,null,28,null,45,55,null,70,null,null,{"$f":"_xlfn.TEXTJOIN(\"^\",,E276:E285)","v":"10^10^10^10"},null,6,{"$nulls":11},{"$f":"_xlfn.TEXTJOIN(\"^\",,U276:U284)","v":"2^8^2"},null,6,null,null,null,{"$f":"AJ$275","v":20},30,null,null,55,null,null,null,{"$f":"_xlfn.TEXTJOIN(\"^\",,AI276:AI284)","v":"10^10^10^10^10"},null,6,null,{"$f":"AV$275","v":5},null,{"$f":"AX$275","v":12},20,null,{"$f":"BA$275","v":40},50,null,null,null,{"$f":"_xlfn.TEXTJOIN(\"^\",,AW276:AW284)","v":"8^8^8^8"}]
[null,null,4,null,{"$f":"E$275","v":10},null,{"$f":"G$275","v":21},null,{"$f":"I$275","v":35},45,55,60,null,null,null,{"$f":"_xlfn.TEXTJOIN(\"^\",,F276:F285)","v":"17^17^17^17^17^17"},null,4,{"$nulls":11},{"$f":"_xlfn.TEXTJOIN(\"^\",,V276:V284)","v":"8^3^2"},null,4,{"$f":"AG$275","v":3},{"$f":"AH$275","v":5},{"$f":"AI$275","v":10},20,30,35,45,{"$nulls":4},{"$f":"_xlfn.TEXTJOIN(\"^\",,AJ276:AJ284)","v":"20^20^20^20^20^20^20"},null,4,{"$f":"AU$275","v":3},null,{"$f":"AW$275","v":8},12,20,30,40,50,null,null,null,{"$f":"_xlfn.TEXTJOIN(\"^\",,AX276:AX284)","v":"12^12^12^12^12"}]
[null,null,2,{"$f":"D$275","v":5},10,{"$f":"F$275","v":17},21,28,35,45,55,60,70,null,null,{"$f":"_xlfn.TEXTJOIN(\"^\",,G276:G285)","v":"21^21^21^21"},null,2,{"$nulls":11},{"$f":"_xlfn.TEXTJOIN(\"^\",,W276:W284)","v":"2^3^4"},null,2,3,{"$f":"AH$275","v":5},10,20,30,35,45,55,null,null,null,{"$f":"_xlfn.TEXTJOIN(\"^\",,AK276:AK284)","v":"30^30^30^30^30^30^30"},null,2,3,null,8,null,20,30,40,50,null,null,null,{"$f":"_xlfn.TEXTJOIN(\"^\",,AY276:AY284)","v":"20^20^20^20^20^20"}]
[null,null,1,5,null,null,null,28,35,null,55,60,70,null,null,{"$f":"_xlfn.TEXTJOIN(\"^\",,H276:H285)","v":"28^28^28^28^28^28^28"},null,1,10,4,2,8,2,2,6,1,null,null,null,{"$f":"_xlfn.TEXTJOIN(\"^\",,X276:X284)","v":"2^8^3"},null,1,3,{"$f":"AH$275","v":5},10,20,30,35,45,55,null,null,null,{"$f":"_xlfn.TEXTJOIN(\"^\",,AL276:AL284)","v":"35^35^35^35^35"},null,1,3,{"$f":"AV$275","v":5},null,{"$f":"AX$275","v":12},null,30,40,{"$nulls":4},{"$f":"_xlfn.TEXTJOIN(\"^\",,AZ276:AZ284)","v":"30^30^30^30^30^30^30"}]
[null,null,3,5,10,{"$f":"F$275","v":17},{"$f":"G$275","v":21},28,35,45,55,60,70,null,null,{"$f":"_xlfn.TEXTJOIN(\"^\",,I276:I285)","v":"35^35^35^35^35^35^35"},null,3,6,7,8,3,3,8,6,3,null,null,null,{"$f":"_xlfn.TEXTJOIN(\"^\",,Y276:Y284)","v":"6^6"},null,3,3,{"$f":"AH$275","v":5},10,20,30,35,45,55,null,null,null,{"$f":"_xlfn.TEXTJOIN(\"^\",,AM276:AM284)","v":"45^45^45^45^45^45^45"},null,3,{"$f":"AU$275","v":3},null,{"$f":"AW$275","v":8},null,{"$f":"AY$275","v":20},30,40,50,null,null,null,{"$f":"_xlfn.TEXTJOIN(\"^\",,BA276:BA284)","v":"40^40^40^40^40^40^40"}]
[null,null,5,null,10,null,21,null,35,45,55,60,null,null,null,{"$f":"_xlfn.TEXTJOIN(\"^\",,J276:J285)","v":"45^45^45^45^45^45^45^45"},null,5,3,null,2,2,4,3,null,3,null,null,null,{"$f":"_xlfn.TEXTJOIN(\"^\",,Z276:Z284)","v":"1^3^3^3^1"},null,5,3,{"$f":"AH$275","v":5},10,20,30,35,45,{"$nulls":4},{"$f":"_xlfn.TEXTJOIN(\"^\",,AN276:AN284)","v":"55^55^55^55^55^55^55"},null,5,3,null,8,12,20,30,40,50,null,null,null,{"$f":"_xlfn.TEXTJOIN(\"^\",,BB276:BB284)","v":"50^50^50^50^50^50^50^50"}]
[null,null,7,{"$f":"D$275","v":5},null,{"$f":"F$275","v":17},null,{"$f":"H$275","v":28},null,45,55,null,{"$f":"M$275","v":70},null,null,{"$f":"_xlfn.TEXTJOIN(\"^\",,K276:K285)","v":"55^55^55^55^55^55^55"},null,7,{"$nulls":7},3,null,null,null,{"$f":"_xlfn.TEXTJOIN(\"^\",,AA276:AA284)","v":""},null,7,null,null,null,20,30,null,null,{"$f":"AN$275","v":55},null,null,null,{"$f":"_xlfn.TEXTJOIN(\"^\",,AO276:AO284)","v":""},null,7,null,{"$f":"AV$275","v":5},null,12,20,null,40,50,null,null,null,{"$f":"_xlfn.TEXTJOIN(\"^\",,BC276:BC284)","v":""}]
[null,null,9,null,null,17,null,28,{"$f":"I$275","v":35},45,null,null,70,null,null,{"$f":"_xlfn.TEXTJOIN(\"^\",,L276:L285)","v":"60^60^60^60^60"},null,9,{"$nulls":7},1,null,null,null,{"$f":"_xlfn.TEXTJOIN(\"^\",,AB276:AB284)","v":""},null,9,{"$nulls":6},{"$f":"AM$275","v":45},55,null,null,null,{"$f":"_xlfn.TEXTJOIN(\"^\",,AP276:AP284)","v":""},null,9,{"$nulls":5},{"$f":"AZ$275","v":30},null,50,null,null,null,{"$f":"_xlfn.TEXTJOIN(\"^\",,BD276:BD284)","v":""}]
[{"$nulls":15},{"$f":"_xlfn.TEXTJOIN(\"^\",,M276:M285)","v":"70^70^70^70^70^70^70"},{"$nulls":13},{"$f":"_xlfn.TEXTJOIN(\"^\",,AC276:AC284)","v":""},{"$nulls":13},{"$f":"_xlfn.TEXTJOIN(\"^\",,AQ276:AQ284)","v":""},{"$nulls":13},{"$f":"_xlfn.TEXTJOIN(\"^\",,BE276:BE284)","v":""}]
[{"$nulls":15},{"$f":"_xlfn.TEXTJOIN(\"^\",,N276:N285)","v":""},{"$nulls":12},"最终",{"$f":"_xlfn.TEXTJOIN(\"|\",,AD275:AD285)","v":"10^6^3|4^7|2^8^2|8^3^2|2^3^4|2^8^3|6^6|1^3^3^3^1"},{"$nulls":12},"最终",{"$f":"_xlfn.TEXTJOIN(\"^\",,AR275:AR285)","v":"3^3^3^3^3^5^5^5^5^5^10^10^10^10^10^20^20^20^20^20^20^20^30^30^30^30^30^30^30^35^35^35^35^35^45^45^45^45^45^45^45^55^55^55^55^55^55^55"},{"$nulls":12},"最终",{"$f":"_xlfn.TEXTJOIN(\"^\",,BF275:BF285)","v":"3^3^3^3^3^5^5^5^8^8^8^8^12^12^12^12^12^20^20^20^20^20^20^30^30^30^30^30^30^30^40^40^40^40^40^40^40^50^50^50^50^50^50^50^50"}]
[{"$nulls":14},"最终",{"$f":"_xlfn.TEXTJOIN(\"^\",,P276:P286)","v":"5^5^5^5^5^10^10^10^10^17^17^17^17^17^17^21^21^21^21^28^28^28^28^28^28^28^35^35^35^35^35^35^35^45^45^45^45^45^45^45^45^55^55^55^55^55^55^55^60^60^60^60^60^70^70^70^70^70^70^70"}]
[{"$nulls":15},{"$f":"COUNT(D276:M284)","v":60},{"$nulls":13},{"$f":"SUM(S276:AA284)","v":100},{"$nulls":12},{"$f":"COUNT(AG276:AN284)","v":48},{"$nulls":13},{"$f":"COUNT(AU276:BB284)","v":45}]
[{"$nulls":56},{"$f":"BE288+AQ288+AD288+P288","v":253}]

{"sheet":"8","index":8,"n_rows":289,"n_cols":58,"rows_kept":289,"cut":false,"hidden":false,"merged":[]}
[{"$nulls":4},{"$f":"E2-D2","v":10},{"$f":"F2-E2","v":15},16,4,16,17,17,15,5,{"$nulls":6},{"$f":"T2-S2","v":5},5,5,7,8,10,10,{"$nulls":7},{"$f":"AH2-AG2","v":2},4,5,10,15,17,18,{"$nulls":7},{"$f":"AV2-AU2","v":2},2,2,2,5,10,10]
[3,"绿洲-1","波1·怪物",5,15,30,46,50,66,83,100,115,120,null,null,null,1,"波2·怪物",5,10,15,20,27,35,45,55,{"$nulls":4},3,"波3·怪物",4,6,10,15,25,40,57,75,{"$nulls":4},1,"波4·怪物",2,4,6,8,10,15,25,35]
[null,"5m",8,{"$nulls":12},{"$f":"_xlfn.TEXTJOIN(\"^\",,D3:D12)","v":"60361"},null,8,{"$nulls":5},60364,null,60364,null,null,null,{"$f":"_xlfn.TEXTJOIN(\"^\",,S3:S12)","v":"60364^60362^60362^60364"},null,8,{"$nulls":11},{"$f":"_xlfn.TEXTJOIN(\"^\",,AG3:AG12)","v":"60365^60362^60363"},null,8,{"$nulls":7},60362,null,null,null,{"$f":"_xlfn.TEXTJOIN(\"^\",,AU3:AU12)","v":"60363^60363"}]
[null,null,6,{"$nulls":12},{"$f":"_xlfn.TEXTJOIN(\"^\",,E3:E12)","v":"60361^60362"},null,6,null,null,60361,null,60362,60362,60362,60362,null,null,null,{"$f":"_xlfn.TEXTJOIN(\"^\",,T3:T12)","v":"60363^60363^60363"},null,6,{"$nulls":11},{"$f":"_xlfn.TEXTJOIN(\"^\",,AH3:AH12)","v":"60362^60361"},null,6,null,null,null,60361,null,60364,60362,60362,null,null,null,{"$f":"_xlfn.TEXTJOIN(\"^\",,AV3:AV12)","v":"60362^60362^60362"}]
[null,null,4,{"$nulls":12},{"$f":"_xlfn.TEXTJOIN(\"^\",,F3:F12)","v":"60363^60364^60362"},null,4,60364,60363,60361,60365,60361,60361,60361,60361,null,null,null,{"$f":"_xlfn.TEXTJOIN(\"^\",,U3:U12)","v":"60361^60361^60361^60361"},null,4,{"$nulls":11},{"$f":"_xlfn.TEXTJOIN(\"^\",,AI3:AI12)","v":"60361^60363"},null,4,null,60362,null,60361,60365,60362,60362,60361,null,null,null,{"$f":"_xlfn.TEXTJOIN(\"^\",,AW3:AW12)","v":"60364^60364"}]
[null,null,2,{"$nulls":12},{"$f":"_xlfn.TEXTJOIN(\"^\",,G3:G12)","v":"60361^60362^60364"},null,2,60362,null,null,60365,60363,null,60363,60363,null,null,null,{"$f":"_xlfn.TEXTJOIN(\"^\",,V3:V12)","v":"60365^60365^60365^60365"},null,2,{"$nulls":11},{"$f":"_xlfn.TEXTJOIN(\"^\",,AJ3:AJ12)","v":"60363^60362"},null,2,60363,null,60364,null,60365,60363,60361,60361,null,null,null,{"$f":"_xlfn.TEXTJOIN(\"^\",,AX3:AX12)","v":"60361^60361^60361^60361"}]
[null,null,1,60361,60361,60363,60361,60365,60363,60364,60363,60362,60365,null,null,{"$f":"_xlfn.TEXTJOIN(\"^\",,H3:H12)","v":"60365^60361"},null,1,null,60363,null,null,null,60363,60364,60366,null,null,null,{"$f":"_xlfn.TEXTJOIN(\"^\",,W3:W12)","v":"60362^60361^60363^60363^60361^60362"},null,1,60365,60362,60361,60363,60361,60363,60361,60363,null,null,null,{"$f":"_xlfn.TEXTJOIN(\"^\",,AK3:AK12)","v":"60361^60362^60363"},null,1,null,60362,{"$nulls":4},60364,{"$nulls":4},{"$f":"_xlfn.TEXTJOIN(\"^\",,AY3:AY12)","v":"60365^60365^60365^60365"}]
[null,null,3,null,60362,60364,60362,60361,60361,60361,60361,60361,60362,null,null,{"$f":"_xlfn.TEXTJOIN(\"^\",,I3:I12)","v":"60363^60361^60362"},null,3,60362,null,null,60365,60363,null,60363,60363,null,null,null,{"$f":"_xlfn.TEXTJOIN(\"^\",,X3:X12)","v":"60364^60362^60361^60363^60361^60362^60364"},null,3,60362,60361,60363,60362,60362,60363,60362,60361,null,null,null,{"$f":"_xlfn.TEXTJOIN(\"^\",,AL3:AL12)","v":"60363^60363^60361^60362"},null,3,60363,null,60364,null,60365,60363,60361,60361,null,null,null,{"$f":"_xlfn.TEXTJOIN(\"^\",,AZ3:AZ12)","v":"60364^60362^60363^60363^60362^60364"}]
[null,null,5,null,null,60362,60364,null,60362,60362,60362,null,60366,null,null,{"$f":"_xlfn.TEXTJOIN(\"^\",,J3:J12)","v":"60364^60361^60362"},null,5,60364,60363,60361,60365,60361,60361,60361,60361,null,null,null,{"$f":"_xlfn.TEXTJOIN(\"^\",,Y3:Y12)","v":"60362^60361^60363^60364^60363^60361^60362"},null,5,60363,null,null,null,60363,60361,null,60362,null,null,null,{"$f":"_xlfn.TEXTJOIN(\"^\",,AM3:AM12)","v":"60361^60362"},null,5,null,60362,null,60361,60365,60362,60362,60361,null,null,null,{"$f":"_xlfn.TEXTJOIN(\"^\",,BA3:BA12)","v":"60362^60362^60361^60364^60361^60362^60362"}]
[null,null,7,{"$nulls":7},60364,{"$nulls":4},{"$f":"_xlfn.TEXTJOIN(\"^\",,K3:K12)","v":"60363^60361^60362^60364"},null,7,null,null,60361,null,60362,60362,60362,60362,null,null,null,{"$f":"_xlfn.TEXTJOIN(\"^\",,Z3:Z12)","v":"60364^60362^60361^60363^60366^60363^60361^60362^60364"},null,7,{"$nulls":5},60362,null,60363,null,null,null,{"$f":"_xlfn.TEXTJOIN(\"^\",,AN3:AN12)","v":"60363^60361^60362^60363"},null,7,null,null,null,60361,null,60364,60362,60362,null,null,null,{"$f":"_xlfn.TEXTJOIN(\"^\",,BB3:BB12)","v":"60362^60362^60361^60361^60361^60361^60362^60362"}]
[null,null,9,{"$nulls":12},{"$f":"_xlfn.TEXTJOIN(\"^\",,L3:L12)","v":"60362^60361"},null,9,{"$nulls":5},60364,null,60364,null,null,null,{"$f":"_xlfn.TEXTJOIN(\"^\",,AA3:AA12)","v":""},null,9,{"$nulls":11},{"$f":"_xlfn.TEXTJOIN(\"^\",,AO3:AO12)","v":""},null,9,{"$nulls":7},60362,null,null,null,{"$f":"_xlfn.TEXTJOIN(\"^\",,BC3:BC12)","v":""}]
[{"$nulls":15},{"$f":"_xlfn.TEXTJOIN(\"^\",,M3:M12)","v":"60365^60362^60366"},{"$nulls":13},{"$f":"_xlfn.TEXTJOIN(\"^\",,AB3:AB12)","v":""},{"$nulls":13},{"$f":"_xlfn.TEXTJOIN(\"^\",,AP3:AP12)","v":""},{"$nulls":13},{"$f":"_xlfn.TEXTJOIN(\"^\",,BD3:BD12)","v":""}]
[{"$nulls":15},{"$f":"_xlfn.TEXTJOIN(\"^\",,N3:N12)","v":""},{"$nulls":13},{"$f":"_xlfn.TEXTJOIN(\"^\",,AC3:AC12)","v":""},{"$nulls":13},{"$f":"_xlfn.TEXTJOIN(\"^\",,AQ3:AQ12)","v":""},{"$nulls":13},{"$f":"_xlfn.TEXTJOIN(\"^\",,BE3:BE12)","v":""}]
[{"$nulls":14},"最终",{"$f":"_xlfn.TEXTJOIN(\"^\",,P3:P13)","v":"60361^60361^60362^60363^60364^60362^60361^60362^60364^60365^60361^60363^60361^60362^60364^60361^60362^60363^60361^60362^60364^60362^60361^60365^60362^60366"},{"$nulls":12},"最终",{"$f":"_xlfn.TEXTJOIN(\"^\",,AD3:AD13)","v":"60364^60362^60362^60364^60363^60363^60363^60361^60361^60361^60361^60365^60365^60365^60365^60362^60361^60363^60363^60361^60362^60364^60362^60361^60363^60361^60362^60364^60362^60361^60363^60364^60363^60361^60362^60364^60362^60361^60363^60366^60363^60361^60362^60364"},{"$nulls":12},"最终",{"$f":"_xlfn.TEXTJOIN(\"^\",,AR3:AR13)","v":"60365^60362^60363^60362^60361^60361^60363^60363^60362^60361^60362^60363^60363^60363^60361^60362^60361^60362^60363^60361^60362^60363"},{"$nulls":12},"最终",{"$f":"_xlfn.TEXTJOIN(\"^\",,BF3:BF13)","v":"60363^60363^60362^60362^60362^60364^60364^60361^60361^60361^60361^60365^60365^60365^60365^60364^60362^60363^60363^60362^60364^60362^60362^60361^60364^60361^60362^60362^60362^60362^60361^60361^60361^60361^60362^60362"}]
[null,null,8,{"$nulls":14},8,{"$nulls":5},"木精灵",null,"木精灵",{"$nulls":5},8,{"$nulls":13},8,{"$nulls":7},"毒蜘蛛"]
[null,null,6,{"$nulls":14},6,null,null,"树精",null,"毒蜘蛛","毒蜘蛛","毒蜘蛛","毒蜘蛛",{"$nulls":5},6,{"$nulls":13},6,null,null,null,"树精",null,"木精灵","毒蜘蛛","毒蜘蛛"]
[null,null,4,{"$nulls":14},4,"木精灵","哥布林","树精","森林蜘蛛","树精","树精","树精","树精",{"$nulls":5},4,{"$nulls":13},4,null,"毒蜘蛛",null,"树精","森林蜘蛛","毒蜘蛛","毒蜘蛛","树精"]
[null,null,2,{"$nulls":14},2,"毒蜘蛛",null,null,"森林蜘蛛","哥布林",null,"哥布林","哥布林",{"$nulls":5},2,{"$nulls":13},2,"哥布林",null,"木精灵",null,"森林蜘蛛","哥布林","树精","树精"]
[null,null,1,"树精","树精","哥布林","树精","森林蜘蛛","哥布林","木精灵","哥布林","毒蜘蛛","森林蜘蛛",{"$nulls":4},1,null,"哥布林",null,null,null,"哥布林","木精灵","黑暗法师",{"$nulls":5},1,"森林蜘蛛","毒蜘蛛","树精","哥布林","树精","木精灵","树精","哥布林",{"$nulls":5},1,null,"毒蜘蛛",{"$nulls":4},"木精灵"]
[null,null,3,null,"毒蜘蛛","木精灵","毒蜘蛛","树精","树精","树精","树精","树精","毒蜘蛛",{"$nulls":4},3,"毒蜘蛛",null,null,"森林蜘蛛","哥布林",null,"哥布林","哥布林",{"$nulls":5},3,"毒蜘蛛","树精","木精灵","毒蜘蛛","毒蜘蛛","哥布林","毒蜘蛛","树精",{"$nulls":5},3,"哥布林",null,"木精灵",null,"森林蜘蛛","哥布林","树精","树精"]
[null,null,5,null,null,"毒蜘蛛","木精灵",null,"毒蜘蛛","毒蜘蛛","毒蜘蛛",null,"黑暗法师",{"$nulls":4},5,"木精灵","哥布林","树精","森林蜘蛛","树精","树精","树精","树精",{"$nulls":5},5,"哥布林",null,null,null,"木精灵","树精",null,"毒蜘蛛",{"$nulls":5},5,null,"毒蜘蛛",null,"树精","森林蜘蛛","毒蜘蛛","毒蜘蛛","树精"]
[null,null,7,{"$nulls":7},"木精灵",{"$nulls":6},7,null,null,"树精",null,"毒蜘蛛","毒蜘蛛","毒蜘蛛","毒蜘蛛",{"$nulls":5},7,{"$nulls":5},"毒蜘蛛",null,"木精灵",{"$nulls":5},7,null,null,null,"树精",null,"木精灵","毒蜘蛛","毒蜘蛛"]
[null,null,9,{"$nulls":14},9,{"$nulls":5},"木精灵",null,"木精灵",{"$nulls":5},9,{"$nulls":13},9,{"$nulls":7},"毒蜘蛛"]
[]
[null,null,"位置",5,15,30,46,50,66,83,100,115,120,{"$nulls":4},"位置",5,10,15,20,27,35,45,55,{"$nulls":5},"位置",4,6,10,15,25,40,57,75,null,null,null,{"$f":"_xlfn.TEXTJOIN(\"^\",,AG26:AG40)","v":"100^0^0"},null,"位置",2,4,6,8,10,15,25,35,null,null,null,{"$f":"_xlfn.TEXTJOIN(\"^\",,AU26:AU40)","v":"2^3"}]
[null,null,8,{"$nulls":12},{"$f":"_xlfn.TEXTJOIN(\"^\",,D26:D40)","v":"0"},null,8,{"$nulls":5},{"$f":"$C26","v":8},null,{"$f":"$C26","v":8},{"$nulls":5},8,{"$nulls":11},{"$f":"_xlfn.TEXTJOIN(\"^\",,AH26:AH40)","v":"0^0"},null,8,{"$nulls":7},{"$f":"$C26","v":8},null,null,null,{"$f":"_xlfn.TEXTJOIN(\"^\",,AV26:AV40)","v":"4^1^5"}]
[null,null,6,{"$nulls":12},{"$f":"_xlfn.TEXTJOIN(\"^\",,E26:E40)","v":"0^0"},null,6,null,null,{"$f":"$C27","v":6},null,{"$f":"$C27","v":6},6,6,6,null,null,null,{"$f":"_xlfn.TEXTJOIN(\"^\",,S26:S40)","v":"4^2^3^5"},null,6,{"$nulls":11},{"$f":"_xlfn.TEXTJOIN(\"^\",,AI26:AI40)","v":"0^0"},null,6,null,null,null,{"$f":"$C27","v":6},null,{"$f":"$C27","v":6},6,6,null,null,null,{"$f":"_xlfn.TEXTJOIN(\"^\",,AW26:AW40)","v":"2^3"}]
[null,null,4,{"$nulls":12},{"$f":"_xlfn.TEXTJOIN(\"^\",,F26:F40)","v":"0^0^0"},null,4,{"$f":"$C28","v":4},{"$f":"$C28","v":4},4,null,4,4,4,4,null,null,null,{"$f":"_xlfn.TEXTJOIN(\"^\",,T26:T40)","v":"4^1^5"},null,4,{"$nulls":11},{"$f":"_xlfn.TEXTJOIN(\"^\",,AJ26:AJ40)","v":"0^0"},null,4,null,{"$f":"$C28","v":4},null,4,null,4,4,4,null,null,null,{"$f":"_xlfn.TEXTJOIN(\"^\",,AX26:AX40)","v":"6^4^5^7"}]
[null,null,2,{"$nulls":12},{"$f":"_xlfn.TEXTJOIN(\"^\",,G26:G40)","v":"0^0^0"},null,2,2,null,null,null,2,null,2,2,null,null,null,{"$f":"_xlfn.TEXTJOIN(\"^\",,U26:U40)","v":"6^4^5^7"},null,2,{"$nulls":11},{"$f":"_xlfn.TEXTJOIN(\"^\",,AK26:AK40)","v":"0^0^0"},null,2,{"$f":"$C29","v":2},null,{"$f":"$C29","v":2},null,null,2,2,2,null,null,null,{"$f":"_xlfn.TEXTJOIN(\"^\",,AY26:AY40)","v":"101^102^104^105"}]
[null,null,1,0,0,0,0,100,0,0,0,0,100,null,null,{"$f":"_xlfn.TEXTJOIN(\"^\",,H26:H40)","v":"100^0"},null,1,null,{"$f":"$C30","v":1},null,null,null,{"$f":"$C30","v":1},1,1,null,null,null,{"$f":"_xlfn.TEXTJOIN(\"^\",,V26:V40)","v":"101^102^104^105"},null,1,100,0,0,0,0,0,0,0,null,null,null,{"$f":"_xlfn.TEXTJOIN(\"^\",,AL26:AL40)","v":"0^0^0^0"},null,1,null,{"$f":"$C30","v":1},{"$nulls":4},1,{"$nulls":4},{"$f":"_xlfn.TEXTJOIN(\"^\",,AZ26:AZ40)","v":"6^4^2^3^5^7"}]
[null,null,3,null,0,0,0,0,0,0,0,0,0,null,null,{"$f":"_xlfn.TEXTJOIN(\"^\",,I26:I40)","v":"0^0^0"},null,3,{"$f":"$C31","v":3},null,null,null,{"$f":"$C31","v":3},null,3,3,null,null,null,{"$f":"_xlfn.TEXTJOIN(\"^\",,W26:W40)","v":"6^4^2^3^5^7"},null,3,0,0,0,0,0,0,0,0,null,null,null,{"$f":"_xlfn.TEXTJOIN(\"^\",,AM26:AM40)","v":"0^0"},null,3,{"$f":"$C31","v":3},null,{"$f":"$C31","v":3},null,null,{"$f":"$C31","v":3},3,3,null,null,null,{"$f":"_xlfn.TEXTJOIN(\"^\",,BA26:BA40)","v":"6^4^2^1^3^5^7"}]
[null,null,5,null,null,0,0,null,0,0,0,null,0,null,null,{"$f":"_xlfn.TEXTJOIN(\"^\",,J26:J40)","v":"0^0^0"},null,5,5,{"$f":"$C32","v":5},{"$f":"$C32","v":5},null,5,5,5,5,null,null,null,{"$f":"_xlfn.TEXTJOIN(\"^\",,X26:X40)","v":"8^6^4^1^5^7^9"},null,5,0,null,null,null,0,0,null,0,null,null,null,{"$f":"_xlfn.TEXTJOIN(\"^\",,AN26:AN40)","v":"0^0^0^0"},null,5,null,{"$f":"$C32","v":5},null,{"$f":"$C32","v":5},null,5,5,5,null,null,null,{"$f":"_xlfn.TEXTJOIN(\"^\",,BB26:BB40)","v":"8^6^4^2^3^5^7^9"}]
[null,null,7,{"$nulls":7},0,{"$nulls":4},{"$f":"_xlfn.TEXTJOIN(\"^\",,K26:K40)","v":"0^0^0^0"},null,7,null,null,7,null,7,7,7,7,null,null,null,{"$f":"_xlfn.TEXTJOIN(\"^\",,Y26:Y40)","v":"6^4^2^1^3^5^7"},null,7,{"$nulls":5},0,null,0,null,null,null,{"$f":"_xlfn.TEXTJOIN(\"^\",,AO26:AO40)","v":""},null,7,null,null,null,7,null,7,7,7,null,null,null,{"$f":"_xlfn.TEXTJOIN(\"^\",,BC26:BC40)","v":""}]
[null,null,9,{"$nulls":12},{"$f":"_xlfn.TEXTJOIN(\"^\",,L26:L40)","v":"0^0"},null,9,{"$nulls":5},9,null,9,{"$nulls":5},9,{"$nulls":11},{"$f":"_xlfn.TEXTJOIN(\"^\",,AP26:AP40)","v":""},null,9,{"$nulls":7},9,null,null,null,{"$f":"_xlfn.TEXTJOIN(\"^\",,BD26:BD40)","v":""}]
[null,null,"空降",{"$nulls":12},{"$f":"_xlfn.TEXTJOIN(\"^\",,M26:M40)","v":"100^0^0"},null,"空降",{"$nulls":13},"空降",{"$nulls":11},{"$f":"_xlfn.TEXTJOIN(\"^\",,AQ26:AQ34)","v":""},null,"空降",{"$nulls":11},{"$f":"_xlfn.TEXTJOIN(\"^\",,BE26:BE34)","v":""}]
[null,null,101,{"$nulls":12},{"$f":"_xlfn.TEXTJOIN(\"^\",,N26:N40)","v":""},null,101,null,null,null,{"$f":"$C36","v":101},{"$nulls":7},{"$f":"_xlfn.TEXTJOIN(\"^\",,Z26:Z40)","v":"8^6^4^2^1^3^5^7^9"},null,101,{"$nulls":13},101,{"$nulls":4},{"$f":"$C36","v":101}]
[null,null,102,{"$nulls":14},102,null,null,null,102,{"$nulls":7},{"$f":"_xlfn.TEXTJOIN(\"^\",,AA26:AA40)","v":""},null,102,{"$nulls":13},102,{"$nulls":4},102]
[null,null,103,{"$nulls":14},103,{"$nulls":11},{"$f":"_xlfn.TEXTJOIN(\"^\",,AB26:AB40)","v":""},null,103,{"$nulls":13},103]
[null,null,104,{"$nulls":14},104,null,null,null,{"$f":"$C39","v":104},{"$nulls":9},104,{"$nulls":13},104,{"$nulls":4},{"$f":"$C39","v":104}]
[null,null,105,{"$nulls":14},105,null,null,null,105,{"$nulls":9},105,{"$nulls":13},105,{"$nulls":4},105]
[{"$nulls":14},"最终",{"$f":"_xlfn.TEXTJOIN(\"^\",,P26:P40)","v":"0^0^0^0^0^0^0^0^0^100^0^0^0^0^0^0^0^0^0^0^0^0^0^100^0^0"},{"$nulls":12},"最终",{"$f":"_xlfn.TEXTJOIN(\"^\",,AD26:AD40)","v":"4^2^3^5^4^1^5^6^4^5^7^101^102^104^105^6^4^2^3^5^7^8^6^4^1^5^7^9^6^4^2^1^3^5^7^8^6^4^2^1^3^5^7^9"},{"$nulls":12},"最终",{"$f":"_xlfn.TEXTJOIN(\"^\",,AR25:AR40)","v":"100^0^0^0^0^0^0^0^0^0^0^0^0^0^0^0^0^0^0^0^0^0"},{"$nulls":12},"最终",{"$f":"_xlfn.TEXTJOIN(\"^\",,BF25:BF40)","v":"2^3^4^1^5^2^3^6^4^5^7^101^102^104^105^6^4^2^3^5^7^6^4^2^1^3^5^7^8^6^4^2^3^5^7^9"}]
[]
[null,null,"时间",5,15,30,46,50,66,83,100,115,120,{"$nulls":4},"时间",5,10,15,20,27,35,45,55,null,null,null,{"$f":"_xlfn.TEXTJOIN(\"^\",,S44:S52)","v":"5^5^5^5"},null,"时间",4,6,10,15,25,40,57,75,null,null,null,{"$f":"_xlfn.TEXTJOIN(\"^\",,AG44:AG52)","v":"10^6^3"},null,"时间",2,4,6,8,10,15,25,35,null,null,null,{"$f":"_xlfn.TEXTJOIN(\"^\",,AU44:AU52)","v":"2^2"}]
[null,null,8,{"$nulls":12},{"$f":"_xlfn.TEXTJOIN(\"^\",,D44:D53)","v":"8"},null,8,{"$nulls":5},{"$f":"X$43","v":35},null,{"$f":"Z$43","v":55},null,null,null,{"$f":"_xlfn.TEXTJOIN(\"^\",,T44:T52)","v":"10^10^10"},null,8,{"$nulls":11},{"$f":"_xlfn.TEXTJOIN(\"^\",,AH44:AH52)","v":"4^7"},null,8,{"$nulls":7},{"$f":"BB$43","v":35},null,null,null,{"$f":"_xlfn.TEXTJOIN(\"^\",,AV44:AV52)","v":"4^4^4"}]
[null,null,6,{"$nulls":12},{"$f":"_xlfn.TEXTJOIN(\"^\",,E44:E53)","v":"7^4"},null,6,null,null,{"$f":"U$43","v":15},null,{"$f":"W$43","v":27},35,45,55,null,null,null,{"$f":"_xlfn.TEXTJOIN(\"^\",,U44:U52)","v":"15^15^15^15"},null,6,{"$nulls":11},{"$f":"_xlfn.TEXTJOIN(\"^\",,AI44:AI52)","v":"8^2"},null,6,null,null,null,{"$f":"AX$43","v":8},null,{"$f":"AZ$43","v":15},25,35,null,null,null,{"$f":"_xlfn.TEXTJOIN(\"^\",,AW44:AW52)","v":"6^6"}]
[null,null,4,{"$nulls":12},{"$f":"_xlfn.TEXTJOIN(\"^\",,F44:F53)","v":"3^2^4"},null,4,{"$f":"S$43","v":5},10,15,20,27,35,45,55,null,null,null,{"$f":"_xlfn.TEXTJOIN(\"^\",,V44:V52)","v":"20^20^20^20"},null,4,{"$nulls":11},{"$f":"_xlfn.TEXTJOIN(\"^\",,AJ44:AJ52)","v":"3^6"},null,4,null,{"$f":"AV$43","v":4},null,8,10,15,25,35,null,null,null,{"$f":"_xlfn.TEXTJOIN(\"^\",,AX44:AX52)","v":"8^8^8^8"}]
[null,null,2,{"$nulls":12},{"$f":"_xlfn.TEXTJOIN(\"^\",,G44:G53)","v":"8^3^2"},null,2,5,null,null,20,27,null,45,55,null,null,null,{"$f":"_xlfn.TEXTJOIN(\"^\",,W44:W52)","v":"27^27^27^27^27^27"},null,2,{"$nulls":11},{"$f":"_xlfn.TEXTJOIN(\"^\",,AK44:AK52)","v":"7^3^2"},null,2,{"$f":"AU$43","v":2},null,{"$f":"AW$43","v":6},null,10,15,25,35,null,null,null,{"$f":"_xlfn.TEXTJOIN(\"^\",,AY44:AY52)","v":"10^10^10^10"}]
[null,null,1,8,7,3,8,6,2,2,2,4,8,null,null,{"$f":"_xlfn.TEXTJOIN(\"^\",,H44:H53)","v":"6^7"},null,1,null,{"$f":"T$43","v":10},null,null,null,{"$f":"X$43","v":35},45,55,null,null,null,{"$f":"_xlfn.TEXTJOIN(\"^\",,X44:X52)","v":"35^35^35^35^35^35^35"},null,1,10,4,8,3,7,2,8,2,null,null,null,{"$f":"_xlfn.TEXTJOIN(\"^\",,AL44:AL52)","v":"2^2^6^3"},null,1,null,{"$f":"AV$43","v":4},{"$nulls":4},25,{"$nulls":4},{"$f":"_xlfn.TEXTJOIN(\"^\",,AZ44:AZ52)","v":"15^15^15^15^15^15"}]
[null,null,3,null,4,2,3,7,8,8,7,9,4,null,null,{"$f":"_xlfn.TEXTJOIN(\"^\",,I44:I53)","v":"2^8^4"},null,3,{"$f":"S$43","v":5},null,null,{"$f":"V$43","v":20},27,null,45,55,null,null,null,{"$f":"_xlfn.TEXTJOIN(\"^\",,Y44:Y52)","v":"45^45^45^45^45^45^45"},null,3,6,7,2,6,3,2,3,7,null,null,null,{"$f":"_xlfn.TEXTJOIN(\"^\",,AM44:AM52)","v":"8^3"},null,3,{"$f":"AU$43","v":2},null,{"$f":"AW$43","v":6},null,{"$f":"AY$43","v":10},15,25,35,null,null,null,{"$f":"_xlfn.TEXTJOIN(\"^\",,BA44:BA52)","v":"25^25^25^25^25^25^25"}]
[null,null,5,null,null,4,2,null,4,4,3,null,1,null,null,{"$f":"_xlfn.TEXTJOIN(\"^\",,J44:J53)","v":"2^8^4"},null,5,5,10,15,20,27,35,45,55,null,null,null,{"$f":"_xlfn.TEXTJOIN(\"^\",,Z44:Z52)","v":"55^55^55^55^55^55^55^55^55"},null,5,3,null,null,null,2,6,null,3,null,null,null,{"$f":"_xlfn.TEXTJOIN(\"^\",,AN44:AN52)","v":"2^7^3^2"},null,5,null,{"$f":"AV$43","v":4},null,{"$f":"AX$43","v":8},10,15,25,35,null,null,null,{"$f":"_xlfn.TEXTJOIN(\"^\",,BB44:BB52)","v":"35^35^35^35^35^35^35^35"}]
[null,null,7,{"$nulls":7},2,{"$nulls":4},{"$f":"_xlfn.TEXTJOIN(\"^\",,K44:K53)","v":"2^7^3^2"},null,7,null,null,15,null,27,35,45,55,null,null,null,{"$f":"_xlfn.TEXTJOIN(\"^\",,AA44:AA52)","v":""},null,7,{"$nulls":5},3,null,2,null,null,null,{"$f":"_xlfn.TEXTJOIN(\"^\",,AO44:AO52)","v":""},null,7,null,null,null,8,null,15,25,35,null,null,null,{"$f":"_xlfn.TEXTJOIN(\"^\",,BC44:BC52)","v":""}]
[null,null,9,{"$nulls":12},{"$f":"_xlfn.TEXTJOIN(\"^\",,L44:L53)","v":"4^9"},null,9,{"$nulls":5},35,null,55,null,null,null,{"$f":"_xlfn.TEXTJOIN(\"^\",,AB44:AB52)","v":""},null,9,{"$nulls":11},{"$f":"_xlfn.TEXTJOIN(\"^\",,AP44:AP52)","v":""},null,9,{"$nulls":7},35,null,null,null,{"$f":"_xlfn.TEXTJOIN(\"^\",,BD44:BD52)","v":""}]
[{"$nulls":15},{"$f":"_xlfn.TEXTJOIN(\"^\",,M44:M53)","v":"8^4^1"},{"$nulls":13},{"$f":"_xlfn.TEXTJOIN(\"^\",,AC44:AC52)","v":""},{"$nulls":13},{"$f":"_xlfn.TEXTJOIN(\"^\",,AQ44:AQ52)","v":""},{"$nulls":13},{"$f":"_xlfn.TEXTJOIN(\"^\",,BE44:BE52)","v":""}]
[{"$nulls":15},{"$f":"_xlfn.TEXTJOIN(\"^\",,N44:N53)","v":""},{"$nulls":12},"最终",{"$f":"_xlfn.TEXTJOIN(\"^\",,AD43:AD53)","v":"5^5^5^5^10^10^10^15^15^15^15^20^20^20^20^27^27^27^27^27^27^35^35^35^35^35^35^35^45^45^45^45^45^45^45^55^55^55^55^55^55^55^55^55"},{"$nulls":12},"最终",{"$f":"_xlfn.TEXTJOIN(\"^\",,AR43:AR53)","v":"10^6^3^4^7^8^2^3^6^7^3^2^2^2^6^3^8^3^2^7^3^2"},{"$nulls":12},"最终",{"$f":"_xlfn.TEXTJOIN(\"^\",,BF43:BF53)","v":"2^2^4^4^4^6^6^8^8^8^8^10^10^10^10^15^15^15^15^15^15^25^25^25^25^25^25^25^35^35^35^35^35^35^35^35"}]
[{"$nulls":14},"最终",{"$f":"_xlfn.TEXTJOIN(\"^\",,P44:P54)","v":"8^7^4^3^2^4^8^3^2^6^7^2^8^4^2^8^4^2^7^3^2^4^9^8^4^1"}]
[{"$nulls":15},{"$f":"SUM(D44:M52)","v":122},{"$nulls":13},{"$f":"COUNT(S44:AA52)","v":44},{"$nulls":13},{"$f":"SUM(AG44:AO52)","v":99},{"$nulls":13},{"$f":"COUNT(AU44:BC52)","v":36}]
[{"$nulls":57},{"$f":"SUM(L56:BF56)","v":301}]
[]
[{"$nulls":4},{"$f":"E60-D60","v":5},{"$f":"F60-E60","v":6},6,8,10,10,5,10,10,{"$nulls":6},{"$f":"T60-S60","v":5},5,5,7,8,10,5,{"$nulls":7},{"$f":"AH60-AG60","v":2},4,5,7,8,10,10,{"$nulls":7},{"$f":"AV60-AU60","v":2},2,2,2,5,10,10]
[1,"绿洲-2","波1·怪物",5,10,16,22,30,40,50,55,65,75,null,null,null,1,"波2·怪物",5,10,15,20,27,35,45,50,{"$nulls":4},1,"波3·怪物",4,6,10,15,22,30,40,50,{"$nulls":4},1,"波4·怪物",2,4,6,8,10,15,25,35]
[null,"5m",8,{"$nulls":5},60374,null,null,null,60374,null,null,{"$f":"_xlfn.TEXTJOIN(\"^\",,D61:D70)","v":"60374^60372^60372^60374"},null,8,{"$nulls":5},60374,{"$nulls":5},{"$f":"_xlfn.TEXTJOIN(\"^\",,S61:S70)","v":"60375^60375^60375^60375"},null,8,null,60374,{"$nulls":5},60374,null,null,null,{"$f":"_xlfn.TEXTJOIN(\"^\",,AG61:AG70)","v":"60373^60372^60373^60372^60373"},null,8,{"$nulls":7},60372,null,null,null,{"$f":"_xlfn.TEXTJOIN(\"^\",,AU61:AU70)","v":"60371^60371^60371^60371"}]
[null,null,6,null,60371,60374,null,60372,60372,60372,null,60372,60372,null,null,{"$f":"_xlfn.TEXTJOIN(\"^\",,E61:E70)","v":"60371^60371^60371^60371^60371"},null,6,null,null,60373,null,60372,60372,60372,{"$nulls":4},{"$f":"_xlfn.TEXTJOIN(\"^\",,T61:T70)","v":"60372^60372^60372"},null,6,null,60372,60371,null,60374,60373,60372,60372,null,null,null,{"$f":"_xlfn.TEXTJOIN(\"^\",,AH61:AH70)","v":"60374^60372^60371^60371^60371^60372^60374"},null,6,{"$nulls":5},60374,60372,60372,null,null,null,{"$f":"_xlfn.TEXTJOIN(\"^\",,AV61:AV70)","v":"60372^60372^60372"}]
[null,null,4,60374,60371,60372,60375,60371,60371,60372,60375,60371,60371,null,null,{"$f":"_xlfn.TEXTJOIN(\"^\",,F61:F70)","v":"60374^60372^60373^60372^60373^60372^60374"},null,4,60375,60372,null,60374,60371,60371,60371,60375,null,null,null,{"$f":"_xlfn.TEXTJOIN(\"^\",,U61:U70)","v":"60373^60373^60373"},null,4,60373,null,60371,60375,60372,60371,60372,60371,null,null,null,{"$f":"_xlfn.TEXTJOIN(\"^\",,AI61:AI70)","v":"60371^60371^60372^60372^60372^60371^60371"},null,4,60371,60372,null,60375,60373,60371,60372,60371,null,null,null,{"$f":"_xlfn.TEXTJOIN(\"^\",,AW61:AW70)","v":"60374^60374"}]
[null,null,2,60372,null,60373,60375,60371,60373,60371,60375,60371,60373,null,null,{"$f":"_xlfn.TEXTJOIN(\"^\",,G61:G70)","v":"60375^60375^60375^60375^60375"},null,2,60375,null,null,60371,60371,60373,60372,60375,null,null,null,{"$f":"_xlfn.TEXTJOIN(\"^\",,V61:V70)","v":"60374^60371^60371^60374"},null,2,60372,60371,60372,60375,60371,60373,60371,60373,null,null,null,{"$f":"_xlfn.TEXTJOIN(\"^\",,AJ61:AJ70)","v":"60375^60375^60375^60375^60375"},null,2,60371,null,60374,60375,null,60371,null,60373,null,null,null,{"$f":"_xlfn.TEXTJOIN(\"^\",,AX61:AX70)","v":"60375^60375^60375^60375"}]
[null,null,1,null,60371,60372,60375,60372,null,60371,60375,60374,60376,null,null,{"$f":"_xlfn.TEXTJOIN(\"^\",,H61:H70)","v":"60372^60371^60371^60372^60371^60371^60372"},null,1,null,60372,60373,null,null,null,60376,60375,null,null,null,{"$f":"_xlfn.TEXTJOIN(\"^\",,W61:W70)","v":"60372^60371^60371^60371^60371^60372"},null,1,60373,60371,60372,60375,60372,60376,60371,{"$nulls":4},{"$f":"_xlfn.TEXTJOIN(\"^\",,AK61:AK70)","v":"60374^60372^60371^60372^60371^60372^60374"},null,1,null,60372,null,null,60373,null,60372,{"$nulls":4},{"$f":"_xlfn.TEXTJOIN(\"^\",,AY61:AY70)","v":"60373^60373^60373"}]
[null,null,3,60372,null,60373,60375,60371,60373,60371,60375,60371,60373,null,null,{"$f":"_xlfn.TEXTJOIN(\"^\",,I61:I70)","v":"60374^60372^60371^60373^60373^60371^60372^60374"},null,3,60375,null,null,60371,60371,60373,60372,60375,null,null,null,{"$f":"_xlfn.TEXTJOIN(\"^\",,X61:X70)","v":"60374^60372^60371^60373^60373^60371^60372^60374"},null,3,60372,60371,60372,60375,60371,60373,60371,60373,null,null,null,{"$f":"_xlfn.TEXTJOIN(\"^\",,AL61:AL70)","v":"60373^60371^60373^60376^60373^60371^60373"},null,3,60371,null,60374,60375,null,60371,null,60373,null,null,null,{"$f":"_xlfn.TEXTJOIN(\"^\",,AZ61:AZ70)","v":"60374^60371^60371^60371^60371^60374"}]
[null,null,5,60374,60371,60372,60375,60371,60371,60372,60375,60371,60371,null,null,{"$f":"_xlfn.TEXTJOIN(\"^\",,J61:J70)","v":"60372^60372^60371^60371^60371^60372^60372"},null,5,60375,60372,null,60374,60371,60371,60371,60375,null,null,null,{"$f":"_xlfn.TEXTJOIN(\"^\",,Y61:Y70)","v":"60372^60371^60372^60376^60372^60371^60372"},null,5,60373,null,60371,60375,60372,60371,60372,60371,null,null,null,{"$f":"_xlfn.TEXTJOIN(\"^\",,AM61:AM70)","v":"60372^60372^60371^60371^60371^60372^60372"},null,5,60371,60372,null,60375,60373,60371,60372,60371,null,null,null,{"$f":"_xlfn.TEXTJOIN(\"^\",,BA61:BA70)","v":"60372^60372^60372^60372^60372"}]
[null,null,7,null,60371,60374,null,60372,60372,60372,null,60372,60372,null,null,{"$f":"_xlfn.TEXTJOIN(\"^\",,K61:K70)","v":"60375^60375^60375^60375^60375"},null,7,null,null,60373,null,60372,60372,60372,{"$nulls":4},{"$f":"_xlfn.TEXTJOIN(\"^\",,Z61:Z70)","v":"60375^60375^60375^60375^60375"},null,7,null,60372,60371,null,60374,60373,60372,60372,null,null,null,{"$f":"_xlfn.TEXTJOIN(\"^\",,AN61:AN70)","v":"60374^60372^60371^60373^60373^60371^60372^60374"},null,7,{"$nulls":5},60374,60372,60372,null,null,null,{"$f":"_xlfn.TEXTJOIN(\"^\",,BB61:BB70)","v":"60372^60372^60371^60373^60373^60371^60372^60372"}]
[null,null,9,{"$nulls":5},60374,null,null,null,60374,null,null,{"$f":"_xlfn.TEXTJOIN(\"^\",,L61:L70)","v":"60372^60371^60371^60374^60371^60371^60372"},null,9,{"$nulls":5},60374,{"$nulls":5},{"$f":"_xlfn.TEXTJOIN(\"^\",,AA61:AA70)","v":""},null,9,null,60374,{"$nulls":5},60374,null,null,null,{"$f":"_xlfn.TEXTJOIN(\"^\",,AO61:AO70)","v":""},null,9,{"$nulls":7},60372,null,null,null,{"$f":"_xlfn.TEXTJOIN(\"^\",,BC61:BC70)","v":""}]
[{"$nulls":15},{"$f":"_xlfn.TEXTJOIN(\"^\",,M61:M70)","v":"60374^60372^60371^60373^60376^60373^60371^60372^60374"},{"$nulls":13},{"$f":"_xlfn.TEXTJOIN(\"^\",,AB61:AB70)","v":""},{"$nulls":13},{"$f":"_xlfn.TEXTJOIN(\"^\",,AP61:AP70)","v":""},{"$nulls":13},{"$f":"_xlfn.TEXTJOIN(\"^\",,BD61:BD70)","v":""}]
[{"$nulls":15},{"$f":"_xlfn.TEXTJOIN(\"^\",,N61:N70)","v":""},{"$nulls":13},{"$f":"_xlfn.TEXTJOIN(\"^\",,AC61:AC70)","v":""},{"$nulls":13},{"$f":"_xlfn.TEXTJOIN(\"^\",,AQ61:AQ70)","v":""},{"$nulls":13},{"$f":"_xlfn.TEXTJOIN(\"^\",,BE61:BE70)","v":""}]
[{"$nulls":14},"最终",{"$f":"_xlfn.TEXTJOIN(\"^\",,P61:P71)","v":"60374^60372^60372^60374^60371^60371^60371^60371^60371^60374^60372^60373^60372^60373^60372^60374^60375^60375^60375^60375^60375^60372^60371^60371^60372^60371^60371^60372^60374^60372^60371^60373^60373^60371^60372^60374^60372^60372^60371^60371^60371^60372^60372^60375^60375^60375^60375^60375^60372^60371^60371^60374^60371^60371^60372^60374^60372^60371^60373^60376^60373^60371^60372^60374"},{"$nulls":12},"最终",{"$f":"_xlfn.TEXTJOIN(\"^\",,AD61:AD71)","v":"60375^60375^60375^60375^60372^60372^60372^60373^60373^60373^60374^60371^60371^60374^60372^60371^60371^60371^60371^60372^60374^60372^60371^60373^60373^60371^60372^60374^60372^60371^60372^60376^60372^60371^60372^60375^60375^60375^60375^60375"},{"$nulls":12},"最终",{"$f":"_xlfn.TEXTJOIN(\"^\",,AR61:AR71)","v":"60373^60372^60373^60372^60373^60374^60372^60371^60371^60371^60372^60374^60371^60371^60372^60372^60372^60371^60371^60375^60375^60375^60375^60375^60374^60372^60371^60372^60371^60372^60374^60373^60371^60373^60376^60373^60371^60373^60372^60372^60371^60371^60371^60372^60372^60374^60372^60371^60373^60373^60371^60372^60374"},{"$nulls":12},"最终",{"$f":"_xlfn.TEXTJOIN(\"^\",,BF61:BF71)","v":"60371^60371^60371^60371^60372^60372^60372^60374^60374^60375^60375^60375^60375^60373^60373^60373^60374^60371^60371^60371^60371^60374^60372^60372^60372^60372^60372^60372^60372^60371^60373^60373^60371^60372^60372"}]
[null,null,8,{"$nulls":5},"木精灵",null,null,null,"木精灵",{"$nulls":4},8,{"$nulls":5},"木精灵",{"$nulls":7},8,null,"木精灵",{"$nulls":5},"木精灵",{"$nulls":5},8,{"$nulls":7},"毒蜘蛛"]
[null,null,6,null,"树精","木精灵",null,"毒蜘蛛","毒蜘蛛","毒蜘蛛",null,"毒蜘蛛","毒蜘蛛",{"$nulls":4},6,null,null,"哥布林",null,"毒蜘蛛","毒蜘蛛","毒蜘蛛",{"$nulls":6},6,null,"毒蜘蛛","树精",null,"木精灵","哥布林","毒蜘蛛","毒蜘蛛",{"$nulls":5},6,{"$nulls":5},"木精灵","毒蜘蛛","毒蜘蛛"]
[null,null,4,"木精灵","树精","毒蜘蛛","森林蜘蛛","树精","树精","毒蜘蛛","森林蜘蛛","树精","树精",{"$nulls":4},4,"森林蜘蛛","毒蜘蛛",null,"木精灵","树精","树精","树精","森林蜘蛛",{"$nulls":5},4,"哥布林",null,"树精","森林蜘蛛","毒蜘蛛","树精","毒蜘蛛","树精",{"$nulls":5},4,"树精","毒蜘蛛",null,"森林蜘蛛","哥布林","树精","毒蜘蛛","树精"]
[null,null,2,"毒蜘蛛",null,"哥布林","森林蜘蛛","树精","哥布林","树精","森林蜘蛛","树精","哥布林",{"$nulls":4},2,"森林蜘蛛",null,null,"树精","树精","哥布林","毒蜘蛛","森林蜘蛛",{"$nulls":5},2,"毒蜘蛛","树精","毒蜘蛛","森林蜘蛛","树精","哥布林","树精","哥布林",{"$nulls":5},2,"树精",null,"木精灵","森林蜘蛛",null,"树精",null,"哥布林"]
[null,null,1,null,"树精","毒蜘蛛","森林蜘蛛","毒蜘蛛",null,"树精","森林蜘蛛","木精灵","森林祭祀",{"$nulls":4},1,null,"毒蜘蛛","哥布林",null,null,null,"森林祭祀","森林蜘蛛",{"$nulls":5},1,"哥布林","树精","毒蜘蛛","森林蜘蛛","毒蜘蛛","森林祭祀","树精",{"$nulls":6},1,null,"毒蜘蛛",null,null,"哥布林",null,"毒蜘蛛"]
[null,null,3,"毒蜘蛛",null,"哥布林","森林蜘蛛","树精","哥布林","树精","森林蜘蛛","树精","哥布林",{"$nulls":4},3,"森林蜘蛛",null,null,"树精","树精","哥布林","毒蜘蛛","森林蜘蛛",{"$nulls":5},3,"毒蜘蛛","树精","毒蜘蛛","森林蜘蛛","树精","哥布林","树精","哥布林",{"$nulls":5},3,"树精",null,"木精灵","森林蜘蛛",null,"树精",null,"哥布林"]
[null,null,5,"木精灵","树精","毒蜘蛛","森林蜘蛛","树精","树精","毒蜘蛛","森林蜘蛛","树精","树精",{"$nulls":4},5,"森林蜘蛛","毒蜘蛛",null,"木精灵","树精","树精","树精","森林蜘蛛",{"$nulls":5},5,"哥布林",null,"树精","森林蜘蛛","毒蜘蛛","树精","毒蜘蛛","树精",{"$nulls":5},5,"树精","毒蜘蛛",null,"森林蜘蛛","哥布林","树精","毒蜘蛛","树精"]
[null,null,7,null,"树精","木精灵",null,"毒蜘蛛","毒蜘蛛","毒蜘蛛",null,"毒蜘蛛","毒蜘蛛",{"$nulls":4},7,null,null,"哥布林",null,"毒蜘蛛","毒蜘蛛","毒蜘蛛",{"$nulls":6},7,null,"毒蜘蛛","树精",null,"木精灵","哥布林","毒蜘蛛","毒蜘蛛",{"$nulls":5},7,{"$nulls":5},"木精灵","毒蜘蛛","毒蜘蛛"]
[null,null,9,{"$nulls":5},"木精灵",null,null,null,"木精灵",{"$nulls":4},9,{"$nulls":5},"木精灵",{"$nulls":7},9,null,"木精灵",{"$nulls":5},"木精灵",{"$nulls":5},9,{"$nulls":7},"毒蜘蛛"]
[]
[null,null,"位置",5,10,16,22,30,40,50,55,65,75,{"$nulls":4},"位置",5,10,15,20,27,35,45,50,{"$nulls":5},"位置",4,6,10,15,22,30,40,50,null,null,null,{"$f":"_xlfn.TEXTJOIN(\"^\",,AG84:AG98)","v":"4^2^1^3^5"},null,"位置",2,4,6,8,10,15,25,35,null,null,null,{"$f":"_xlfn.TEXTJOIN(\"^\",,AU84:AU98)","v":"4^2^3^5"}]
[null,null,8,{"$nulls":5},{"$f":"$C84","v":8},null,null,null,{"$f":"$C84","v":8},null,null,{"$f":"_xlfn.TEXTJOIN(\"^\",,D84:D98)","v":"4^2^3^5"},null,8,{"$nulls":5},{"$f":"$C84","v":8},{"$nulls":7},8,null,{"$f":"$C84","v":8},{"$nulls":5},{"$f":"$C84","v":8},null,null,null,{"$f":"_xlfn.TEXTJOIN(\"^\",,AH84:AH98)","v":"8^6^2^1^3^7^9"},null,8,{"$nulls":7},{"$f":"$C84","v":8},null,null,null,{"$f":"_xlfn.TEXTJOIN(\"^\",,AV84:AV98)","v":"4^1^5"}]
[null,null,6,null,{"$f":"$C85","v":6},6,null,{"$f":"$C85","v":6},6,6,null,{"$f":"$C85","v":6},6,null,null,{"$f":"_xlfn.TEXTJOIN(\"^\",,E84:E98)","v":"6^4^1^5^7"},null,6,null,null,{"$f":"$C85","v":6},null,{"$f":"$C85","v":6},6,6,{"$nulls":4},{"$f":"_xlfn.TEXTJOIN(\"^\",,S84:S98)","v":"101^102^104^105"},null,6,null,6,6,null,{"$f":"$C85","v":6},{"$f":"$C85","v":6},{"$f":"$C85","v":6},6,null,null,null,{"$f":"_xlfn.TEXTJOIN(\"^\",,AI84:AI98)","v":"6^4^2^1^3^5^7"},null,6,{"$nulls":5},{"$f":"$C85","v":6},6,6,null,null,null,{"$f":"_xlfn.TEXTJOIN(\"^\",,AW84:AW98)","v":"2^3"}]
[null,null,4,{"$f":"$C86","v":4},4,4,null,4,4,4,null,4,4,null,null,{"$f":"_xlfn.TEXTJOIN(\"^\",,F84:F98)","v":"6^4^2^1^3^5^7"},null,4,null,{"$f":"$C86","v":4},null,{"$f":"$C86","v":4},4,4,4,{"$nulls":4},{"$f":"_xlfn.TEXTJOIN(\"^\",,T84:T98)","v":"4^1^5"},null,4,{"$f":"$C86","v":4},null,4,null,4,4,4,4,null,null,null,{"$f":"_xlfn.TEXTJOIN(\"^\",,AJ84:AJ98)","v":"101^102^103^104^105"},null,4,{"$f":"$C86","v":4},{"$f":"$C86","v":4},null,null,{"$f":"$C86","v":4},4,4,4,null,null,null,{"$f":"_xlfn.TEXTJOIN(\"^\",,AX84:AX98)","v":"101^102^104^105"}]
[null,null,2,{"$f":"$C87","v":2},null,2,null,2,2,2,null,2,2,null,null,{"$f":"_xlfn.TEXTJOIN(\"^\",,G84:G98)","v":"101^102^103^104^105"},null,2,null,null,null,2,2,2,2,{"$nulls":4},{"$f":"_xlfn.TEXTJOIN(\"^\",,U84:U98)","v":"6^1^7"},null,2,{"$f":"$C87","v":2},{"$f":"$C87","v":2},2,null,2,2,2,2,null,null,null,{"$f":"_xlfn.TEXTJOIN(\"^\",,AK84:AK98)","v":"6^4^2^1^3^5^7"},null,2,2,null,{"$f":"$C87","v":2},null,null,2,null,2,null,null,null,{"$f":"_xlfn.TEXTJOIN(\"^\",,AY84:AY98)","v":"4^1^5"}]
[null,null,1,null,{"$f":"$C88","v":1},1,null,1,null,1,null,1,1,null,null,{"$f":"_xlfn.TEXTJOIN(\"^\",,H84:H98)","v":"6^4^2^1^3^5^7"},null,1,null,{"$f":"$C88","v":1},{"$f":"$C88","v":1},null,null,null,1,{"$nulls":4},{"$f":"_xlfn.TEXTJOIN(\"^\",,V84:V98)","v":"4^2^3^5"},null,1,{"$f":"$C88","v":1},1,1,null,1,1,1,{"$nulls":4},{"$f":"_xlfn.TEXTJOIN(\"^\",,AL84:AL98)","v":"6^4^2^1^3^5^7"},null,1,null,{"$f":"$C88","v":1},null,null,{"$f":"$C88","v":1},null,{"$f":"$C88","v":1},{"$nulls":4},{"$f":"_xlfn.TEXTJOIN(\"^\",,AZ84:AZ98)","v":"6^4^2^3^5^7"}]
[null,null,3,{"$f":"$C89","v":3},null,3,null,3,3,3,null,3,3,null,null,{"$f":"_xlfn.TEXTJOIN(\"^\",,I84:I98)","v":"8^6^4^2^3^5^7^9"},null,3,null,null,null,{"$f":"$C89","v":3},3,3,3,{"$nulls":4},{"$f":"_xlfn.TEXTJOIN(\"^\",,W84:W98)","v":"6^4^2^3^5^7"},null,3,{"$f":"$C89","v":3},3,3,null,3,3,3,3,null,null,null,{"$f":"_xlfn.TEXTJOIN(\"^\",,AM84:AM98)","v":"6^4^2^1^3^5^7"},null,3,{"$f":"$C89","v":3},null,{"$f":"$C89","v":3},null,null,{"$f":"$C89","v":3},null,{"$f":"$C89","v":3},null,null,null,{"$f":"_xlfn.TEXTJOIN(\"^\",,BA84:BA98)","v":"6^4^1^5^7"}]
[null,null,5,5,5,5,null,5,5,5,null,5,5,null,null,{"$f":"_xlfn.TEXTJOIN(\"^\",,J84:J98)","v":"6^4^2^1^3^5^7"},null,5,null,{"$f":"$C90","v":5},null,5,5,5,5,{"$nulls":4},{"$f":"_xlfn.TEXTJOIN(\"^\",,X84:X98)","v":"8^6^4^2^3^5^7^9"},null,5,{"$f":"$C90","v":5},null,5,null,5,5,5,5,null,null,null,{"$f":"_xlfn.TEXTJOIN(\"^\",,AN84:AN98)","v":"8^6^4^2^3^5^7^9"},null,5,5,{"$f":"$C90","v":5},null,null,{"$f":"$C90","v":5},5,5,5,null,null,null,{"$f":"_xlfn.TEXTJOIN(\"^\",,BB84:BB98)","v":"8^6^4^2^3^5^7^9"}]
[null,null,7,null,7,7,null,7,7,7,null,7,7,null,null,{"$f":"_xlfn.TEXTJOIN(\"^\",,K84:K98)","v":"101^102^103^104^105"},null,7,null,null,{"$f":"$C91","v":7},null,7,7,7,{"$nulls":4},{"$f":"_xlfn.TEXTJOIN(\"^\",,Y84:Y98)","v":"6^4^2^1^3^5^7"},null,7,null,{"$f":"$C91","v":7},7,null,7,{"$f":"$C91","v":7},7,7,null,null,null,{"$f":"_xlfn.TEXTJOIN(\"^\",,AO84:AO98)","v":""},null,7,{"$nulls":5},7,7,7,null,null,null,{"$f":"_xlfn.TEXTJOIN(\"^\",,BC84:BC98)","v":""}]
[null,null,9,{"$nulls":5},9,null,null,null,9,null,null,{"$f":"_xlfn.TEXTJOIN(\"^\",,L84:L98)","v":"6^4^2^1^3^5^7"},null,9,{"$nulls":5},9,{"$nulls":7},9,null,9,{"$nulls":5},9,null,null,null,{"$f":"_xlfn.TEXTJOIN(\"^\",,AP84:AP98)","v":""},null,9,{"$nulls":7},9,null,null,null,{"$f":"_xlfn.TEXTJOIN(\"^\",,BD84:BD98)","v":""}]
[null,null,"空降",{"$nulls":12},{"$f":"_xlfn.TEXTJOIN(\"^\",,M84:M98)","v":"8^6^4^2^1^3^5^7^9"},null,"空降",{"$nulls":13},"空降",{"$nulls":11},{"$f":"_xlfn.TEXTJOIN(\"^\",,AQ84:AQ92)","v":""},null,"空降",{"$nulls":11},{"$f":"_xlfn.TEXTJOIN(\"^\",,BE84:BE92)","v":""}]
[null,null,101,null,null,null,{"$f":"$C94","v":101},null,null,null,{"$f":"$C94","v":101},{"$nulls":4},{"$f":"_xlfn.TEXTJOIN(\"^\",,N84:N98)","v":""},null,101,{"$f":"$C94","v":101},{"$nulls":6},{"$f":"$C94","v":101},null,null,null,{"$f":"_xlfn.TEXTJOIN(\"^\",,Z84:Z98)","v":"101^102^103^104^105"},null,101,null,null,null,{"$f":"$C94","v":101},{"$nulls":9},101,null,null,null,{"$f":"$C94","v":101}]
[null,null,102,null,null,null,102,null,null,null,102,{"$nulls":6},102,102,{"$nulls":6},102,null,null,null,{"$f":"_xlfn.TEXTJOIN(\"^\",,AA84:AA98)","v":""},null,102,null,null,null,102,{"$nulls":9},102,null,null,null,102]
[null,null,103,null,null,null,103,null,null,null,103,{"$nulls":6},103,{"$nulls":7},103,null,null,null,{"$f":"_xlfn.TEXTJOIN(\"^\",,AB84:AB98)","v":""},null,103,null,null,null,103,{"$nulls":9},103]
[null,null,104,null,null,null,104,null,null,null,104,{"$nulls":6},104,{"$f":"$C97","v":104},{"$nulls":6},104,{"$nulls":5},104,null,null,null,104,{"$nulls":9},104,null,null,null,{"$f":"$C97","v":104}]
[null,null,105,null,null,null,105,null,null,null,105,{"$nulls":6},105,105,{"$nulls":6},105,{"$nulls":5},105,null,null,null,105,{"$nulls":9},105,null,null,null,105]
[{"$nulls":14},"最终",{"$f":"_xlfn.TEXTJOIN(\"^\",,P84:P98)","v":"4^2^3^5^6^4^1^5^7^6^4^2^1^3^5^7^101^102^103^104^105^6^4^2^1^3^5^7^8^6^4^2^3^5^7^9^6^4^2^1^3^5^7^101^102^103^104^105^6^4^2^1^3^5^7^8^6^4^2^1^3^5^7^9"},{"$nulls":12},"最终",{"$f":"_xlfn.TEXTJOIN(\"^\",,AD84:AD98)","v":"101^102^104^105^4^1^5^6^1^7^4^2^3^5^6^4^2^3^5^7^8^6^4^2^3^5^7^9^6^4^2^1^3^5^7^101^102^103^104^105"},{"$nulls":12},"最终",{"$f":"_xlfn.TEXTJOIN(\"^\",,AR83:AR98)","v":"4^2^1^3^5^8^6^2^1^3^7^9^6^4^2^1^3^5^7^101^102^103^104^105^6^4^2^1^3^5^7^6^4^2^1^3^5^7^6^4^2^1^3^5^7^8^6^4^2^3^5^7^9"},{"$nulls":12},"最终",{"$f":"_xlfn.TEXTJOIN(\"^\",,BF83:BF98)","v":"4^2^3^5^4^1^5^2^3^101^102^104^105^4^1^5^6^4^2^3^5^7^6^4^1^5^7^8^6^4^2^3^5^7^9"}]
[]
[null,null,"时间",5,10,16,22,30,40,50,55,65,75,{"$nulls":4},"时间",5,10,15,20,27,35,45,50,null,null,null,{"$f":"_xlfn.TEXTJOIN(\"^\",,S102:S110)","v":"5^5^5^5"},null,"时间",4,6,10,15,22,30,40,50,null,null,null,{"$f":"_xlfn.TEXTJOIN(\"^\",,AG102:AG110)","v":"4^4^4^4^4"},null,"时间",2,4,6,8,10,15,25,35,null,null,null,{"$f":"_xlfn.TEXTJOIN(\"^\",,AU102:AU110)","v":"2^2^2^2"}]
[null,null,8,{"$nulls":5},{"$f":"I$101","v":40},null,null,null,{"$f":"M$101","v":75},null,null,{"$f":"_xlfn.TEXTJOIN(\"^\",,D102:D111)","v":"5^5^5^5"},null,8,{"$nulls":5},{"$f":"X$101","v":35},{"$nulls":5},{"$f":"_xlfn.TEXTJOIN(\"^\",,T102:T110)","v":"10^10^10"},null,8,null,{"$f":"AH$101","v":6},{"$nulls":5},{"$f":"AN$101","v":50},null,null,null,{"$f":"_xlfn.TEXTJOIN(\"^\",,AH102:AH110)","v":"6^6^6^6^6^6^6"},null,8,{"$nulls":7},{"$f":"BB$101","v":35},null,null,null,{"$f":"_xlfn.TEXTJOIN(\"^\",,AV102:AV110)","v":"4^4^4"}]
[null,null,6,null,{"$f":"E$101","v":10},16,null,{"$f":"H$101","v":30},40,50,null,{"$f":"L$101","v":65},75,null,null,{"$f":"_xlfn.TEXTJOIN(\"^\",,E102:E111)","v":"10^10^10^10^10"},null,6,null,null,{"$f":"U$101","v":15},null,{"$f":"W$101","v":27},35,45,{"$nulls":4},{"$f":"_xlfn.TEXTJOIN(\"^\",,U102:U110)","v":"15^15^15"},null,6,null,6,10,null,22,{"$f":"AL$101","v":30},{"$f":"AM$101","v":40},50,null,null,null,{"$f":"_xlfn.TEXTJOIN(\"^\",,AI102:AI110)","v":"10^10^10^10^10^10^10"},null,6,{"$nulls":5},{"$f":"AZ$101","v":15},25,35,null,null,null,{"$f":"_xlfn.TEXTJOIN(\"^\",,AW102:AW110)","v":"6^6"}]
[null,null,4,{"$f":"D$101","v":5},10,16,22,30,40,50,55,65,75,null,null,{"$f":"_xlfn.TEXTJOIN(\"^\",,F102:F111)","v":"16^16^16^16^16^16^16"},null,4,{"$f":"S$101","v":5},10,null,{"$f":"V$101","v":20},27,35,45,50,null,null,null,{"$f":"_xlfn.TEXTJOIN(\"^\",,V102:V110)","v":"20^20^20^20"},null,4,4,null,10,15,22,30,40,50,null,null,null,{"$f":"_xlfn.TEXTJOIN(\"^\",,AJ102:AJ110)","v":"15^15^15^15^15"},null,4,{"$f":"AU$101","v":2},{"$f":"AV$101","v":4},null,{"$f":"AX$101","v":8},{"$f":"AY$101","v":10},15,25,35,null,null,null,{"$f":"_xlfn.TEXTJOIN(\"^\",,AX102:AX110)","v":"8^8^8^8"}]
[null,null,2,5,null,16,22,30,40,50,55,65,75,null,null,{"$f":"_xlfn.TEXTJOIN(\"^\",,G102:G111)","v":"22^22^22^22^22"},null,2,5,null,null,20,27,35,45,50,null,null,null,{"$f":"_xlfn.TEXTJOIN(\"^\",,W102:W110)","v":"27^27^27^27^27^27"},null,2,4,6,10,15,22,30,40,50,null,null,null,{"$f":"_xlfn.TEXTJOIN(\"^\",,AK102:AK110)","v":"22^22^22^22^22^22^22"},null,2,2,null,{"$f":"AW$101","v":6},8,null,15,null,35,null,null,null,{"$f":"_xlfn.TEXTJOIN(\"^\",,AY102:AY110)","v":"10^10^10"}]
[null,null,1,null,{"$f":"E$101","v":10},16,22,30,null,50,55,65,75,null,null,{"$f":"_xlfn.TEXTJOIN(\"^\",,H102:H111)","v":"30^30^30^30^30^30^30"},null,1,null,{"$f":"T$101","v":10},15,null,null,null,45,50,null,null,null,{"$f":"_xlfn.TEXTJOIN(\"^\",,X102:X110)","v":"35^35^35^35^35^35^35^35"},null,1,4,6,10,15,22,30,40,{"$nulls":4},{"$f":"_xlfn.TEXTJOIN(\"^\",,AL102:AL110)","v":"30^30^30^30^30^30^30"},null,1,null,{"$f":"AV$101","v":4},null,null,{"$f":"AY$101","v":10},null,{"$f":"BA$101","v":25},{"$nulls":4},{"$f":"_xlfn.TEXTJOIN(\"^\",,AZ102:AZ110)","v":"15^15^15^15^15^15"}]
[null,null,3,{"$f":"D$101","v":5},null,16,22,30,40,50,55,65,75,null,null,{"$f":"_xlfn.TEXTJOIN(\"^\",,I102:I111)","v":"40^40^40^40^40^40^40^40"},null,3,{"$f":"S$101","v":5},null,null,{"$f":"V$101","v":20},27,35,45,50,null,null,null,{"$f":"_xlfn.TEXTJOIN(\"^\",,Y102:Y110)","v":"45^45^45^45^45^45^45"},null,3,4,6,10,15,22,30,40,50,null,null,null,{"$f":"_xlfn.TEXTJOIN(\"^\",,AM102:AM110)","v":"40^40^40^40^40^40^40"},null,3,{"$f":"AU$101","v":2},null,{"$f":"AW$101","v":6},{"$f":"AX$101","v":8},null,{"$f":"AZ$101","v":15},null,{"$f":"BB$101","v":35},null,null,null,{"$f":"_xlfn.TEXTJOIN(\"^\",,BA102:BA110)","v":"25^25^25^25^25"}]
[null,null,5,5,10,16,22,30,40,50,55,65,75,null,null,{"$f":"_xlfn.TEXTJOIN(\"^\",,J102:J111)","v":"50^50^50^50^50^50^50"},null,5,5,10,null,20,27,35,45,50,null,null,null,{"$f":"_xlfn.TEXTJOIN(\"^\",,Z102:Z110)","v":"50^50^50^50^50"},null,5,4,null,10,15,22,30,40,50,null,null,null,{"$f":"_xlfn.TEXTJOIN(\"^\",,AN102:AN110)","v":"50^50^50^50^50^50^50^50"},null,5,2,{"$f":"AV$101","v":4},null,8,{"$f":"AY$101","v":10},15,25,35,null,null,null,{"$f":"_xlfn.TEXTJOIN(\"^\",,BB102:BB110)","v":"35^35^35^35^35^35^35^35"}]
[null,null,7,null,10,16,null,30,40,50,null,65,75,null,null,{"$f":"_xlfn.TEXTJOIN(\"^\",,K102:K111)","v":"55^55^55^55^55"},null,7,null,null,{"$f":"U$101","v":15},null,27,35,45,{"$nulls":4},{"$f":"_xlfn.TEXTJOIN(\"^\",,AA102:AA110)","v":""},null,7,null,6,10,null,22,{"$f":"AL$101","v":30},40,50,null,null,null,{"$f":"_xlfn.TEXTJOIN(\"^\",,AO102:AO110)","v":""},null,7,{"$nulls":5},15,25,35,null,null,null,{"$f":"_xlfn.TEXTJOIN(\"^\",,BC102:BC110)","v":""}]
[null,null,9,{"$nulls":5},40,null,null,null,75,null,null,{"$f":"_xlfn.TEXTJOIN(\"^\",,L102:L111)","v":"65^65^65^65^65^65^65"},null,9,{"$nulls":5},35,{"$nulls":5},{"$f":"_xlfn.TEXTJOIN(\"^\",,AB102:AB110)","v":""},null,9,null,6,{"$nulls":5},50,null,null,null,{"$f":"_xlfn.TEXTJOIN(\"^\",,AP102:AP110)","v":""},null,9,{"$nulls":7},35,null,null,null,{"$f":"_xlfn.TEXTJOIN(\"^\",,BD102:BD110)","v":""}]
[{"$nulls":15},{"$f":"_xlfn.TEXTJOIN(\"^\",,M102:M111)","v":"75^75^75^75^75^75^75^75^75"},{"$nulls":13},{"$f":"_xlfn.TEXTJOIN(\"^\",,AC102:AC110)","v":""},{"$nulls":13},{"$f":"_xlfn.TEXTJOIN(\"^\",,AQ102:AQ110)","v":""},{"$nulls":13},{"$f":"_xlfn.TEXTJOIN(\"^\",,BE102:BE110)","v":""}]
[{"$nulls":15},{"$f":"_xlfn.TEXTJOIN(\"^\",,N102:N111)","v":""},{"$nulls":12},"最终",{"$f":"_xlfn.TEXTJOIN(\"^\",,AD101:AD111)","v":"5^5^5^5^10^10^10^15^15^15^20^20^20^20^27^27^27^27^27^27^35^35^35^35^35^35^35^35^45^45^45^45^45^45^45^50^50^50^50^50"},{"$nulls":12},"最终",{"$f":"_xlfn.TEXTJOIN(\"^\",,AR101:AR111)","v":"4^4^4^4^4^6^6^6^6^6^6^6^10^10^10^10^10^10^10^15^15^15^15^15^22^22^22^22^22^22^22^30^30^30^30^30^30^30^40^40^40^40^40^40^40^50^50^50^50^50^50^50^50"},{"$nulls":12},"最终",{"$f":"_xlfn.TEXTJOIN(\"^\",,BF101:BF111)","v":"2^2^2^2^4^4^4^6^6^8^8^8^8^10^10^10^15^15^15^15^15^15^25^25^25^25^25^35^35^35^35^35^35^35^35"}]
[{"$nulls":14},"最终",{"$f":"_xlfn.TEXTJOIN(\"^\",,P102:P112)","v":"5^5^5^5^10^10^10^10^10^16^16^16^16^16^16^16^22^22^22^22^22^30^30^30^30^30^30^30^40^40^40^40^40^40^40^40^50^50^50^50^50^50^50^55^55^55^55^55^65^65^65^65^65^65^65^75^75^75^75^75^75^75^75^75"}]
[{"$nulls":15},{"$f":"COUNT(D102:M110)","v":64},{"$nulls":13},{"$f":"COUNT(S102:AA110)","v":40},{"$nulls":13},{"$f":"COUNT(AG102:AO110)","v":53},{"$nulls":13},{"$f":"COUNT(AU102:BC110)","v":35}]
[{"$nulls":57},{"$f":"SUM(L114:BF114)","v":192}]
[]
[{"$nulls":4},{"$f":"E118-D118","v":5},{"$f":"F118-E118","v":7},8,10,5,10,10,10,5,{"$nulls":6},{"$f":"T118-S118","v":5},5,10,15,16,17,7,{"$nulls":7},{"$f":"AH118-AG118","v":6},5,7,8,10,10,5,{"$nulls":7},{"$f":"AV118-AU118","v":2},3,4,6,7,10,10]
[1,"绿洲-3","波1·怪物",5,10,17,25,35,40,50,60,70,75,null,null,null,3,"波2·怪物",5,10,15,25,40,56,73,80,{"$nulls":4},1,"波3·怪物",4,10,15,22,30,40,50,55,{"$nulls":4},1,"波4·怪物",3,5,8,12,18,25,35,45]
[null,"5m",8,null,null,60382,null,60384,null,60381,60384,{"$nulls":4},{"$f":"_xlfn.TEXTJOIN(\"^\",,D119:D128)","v":"60381^60381^60382^60381^60381"},null,8,{"$nulls":11},{"$f":"_xlfn.TEXTJOIN(\"^\",,S119:S128)","v":"60382^60381^60384^60387"},null,8,{"$nulls":4},60384,60381,{"$nulls":5},{"$f":"_xlfn.TEXTJOIN(\"^\",,AG119:AG128)","v":"60383^60383^60383"},null,8,{"$nulls":5},60384,null,60382,null,null,null,{"$f":"_xlfn.TEXTJOIN(\"^\",,AU119:AU128)","v":"60385^60385^60385"}]
[null,null,6,null,60384,null,60382,60382,null,60381,60382,60382,null,null,null,{"$f":"_xlfn.TEXTJOIN(\"^\",,E119:E128)","v":"60384^60382^60382^60382^60384"},null,6,{"$nulls":11},{"$f":"_xlfn.TEXTJOIN(\"^\",,T119:T128)","v":"60382^60381"},null,6,null,60384,null,60382,60382,60381,60382,{"$nulls":4},{"$f":"_xlfn.TEXTJOIN(\"^\",,AH119:AH128)","v":"60384^60382^60382^60384"},null,6,null,null,60384,null,60382,null,60382,{"$nulls":4},{"$f":"_xlfn.TEXTJOIN(\"^\",,AV119:AV128)","v":"60382^60382^60382"}]
[null,null,4,60381,null,60381,60381,null,60385,60382,60381,60381,60385,null,null,{"$f":"_xlfn.TEXTJOIN(\"^\",,F119:F128)","v":"60382^60381^60383^60382^60383^60381^60382"},null,4,{"$nulls":11},{"$f":"_xlfn.TEXTJOIN(\"^\",,U119:U128)","v":"60383^60381"},null,4,60383,null,60385,60381,null,60382,60381,60385,null,null,null,{"$f":"_xlfn.TEXTJOIN(\"^\",,AI119:AI128)","v":"60385^60385^60385^60385"},null,4,60385,null,null,60381,60381,60381,60381,60382,null,null,null,{"$f":"_xlfn.TEXTJOIN(\"^\",,AW119:AW128)","v":"60384^60383^60384"}]
[null,null,2,60381,60382,60383,60381,60383,60385,null,60383,60381,60385,null,null,{"$f":"_xlfn.TEXTJOIN(\"^\",,G119:G128)","v":"60382^60381^60381^60384^60381^60381^60382"},null,2,{"$nulls":11},{"$f":"_xlfn.TEXTJOIN(\"^\",,V119:V128)","v":"60385^60384"},null,2,null,60382,60385,60383,60381,null,60383,60385,null,null,null,{"$f":"_xlfn.TEXTJOIN(\"^\",,AJ119:AJ128)","v":"60382^60381^60383^60387^60383^60381^60382"},null,2,null,60382,null,60381,60383,60382,60383,60381,null,null,null,{"$f":"_xlfn.TEXTJOIN(\"^\",,AX119:AX128)","v":"60381^60381^60381^60381"}]
[null,null,1,60382,60382,60382,60384,60382,60385,60382,null,60383,60385,null,null,{"$f":"_xlfn.TEXTJOIN(\"^\",,H119:H128)","v":"60384^60382^60383^60382^60383^60382^60384"},null,1,60382,60382,60383,60385,60381,60384,60382,60385,null,null,null,{"$f":"_xlfn.TEXTJOIN(\"^\",,W119:W128)","v":"60381^60382^60384"},null,1,60383,null,null,60387,60381,60382,60384,{"$nulls":4},{"$f":"_xlfn.TEXTJOIN(\"^\",,AK119:AK128)","v":"60384^60382^60381^60381^60381^60382^60384"},null,1,60385,60382,60383,null,null,60382,60384,60383,null,null,null,{"$f":"_xlfn.TEXTJOIN(\"^\",,AY119:AY128)","v":"60382^60381^60383^60383^60381^60382"}]
[null,null,3,60381,60382,60383,60381,60383,60385,null,60383,60381,60385,null,null,{"$f":"_xlfn.TEXTJOIN(\"^\",,I119:I128)","v":"60385^60385^60385^60385^60385"},null,3,60381,60381,60381,60384,60382,60383,60381,60383,null,null,null,{"$f":"_xlfn.TEXTJOIN(\"^\",,X119:X128)","v":"60384^60383^60381^60382"},null,3,null,60382,60385,60383,60381,null,60383,60385,null,null,null,{"$f":"_xlfn.TEXTJOIN(\"^\",,AL119:AL128)","v":"60381^60381^60382^60382^60382^60381^60381"},null,3,null,60382,null,60381,60383,60382,60383,60381,null,null,null,{"$f":"_xlfn.TEXTJOIN(\"^\",,AZ119:AZ128)","v":"60384^60381^60382^60382^60382^60381^60384"}]
[null,null,5,60381,null,60381,60381,null,60385,60382,60381,60381,60385,null,null,{"$f":"_xlfn.TEXTJOIN(\"^\",,J119:J128)","v":"60381^60381^60382^60382^60382^60381^60381"},null,5,60384,null,null,null,60384,60381,60384,{"$nulls":4},{"$f":"_xlfn.TEXTJOIN(\"^\",,Y119:Y128)","v":"60382^60381^60384"},null,5,60383,null,60385,60381,null,60382,60381,60385,null,null,null,{"$f":"_xlfn.TEXTJOIN(\"^\",,AM119:AM128)","v":"60382^60381^60383^60384^60383^60381^60382"},null,5,60385,null,null,60381,60381,60381,60381,60382,null,null,null,{"$f":"_xlfn.TEXTJOIN(\"^\",,BA119:BA128)","v":"60382^60381^60383^60384^60383^60381^60382"}]
[null,null,7,null,60384,null,60382,60382,null,60381,60382,60382,null,null,null,{"$f":"_xlfn.TEXTJOIN(\"^\",,K119:K128)","v":"60384^60382^60381^60383^60383^60381^60382^60384"},null,7,60387,{"$nulls":4},60382,{"$nulls":5},{"$f":"_xlfn.TEXTJOIN(\"^\",,Z119:Z128)","v":"60385^60383"},null,7,null,60384,null,60382,60382,60381,60382,{"$nulls":4},{"$f":"_xlfn.TEXTJOIN(\"^\",,AN119:AN128)","v":"60385^60385^60385^60385"},null,7,null,null,60384,null,60382,null,60382,{"$nulls":4},{"$f":"_xlfn.TEXTJOIN(\"^\",,BB119:BB128)","v":"60382^60382^60381^60383^60381^60382^60382"}]
[null,null,9,null,null,60382,null,60384,null,60381,60384,{"$nulls":4},{"$f":"_xlfn.TEXTJOIN(\"^\",,L119:L128)","v":"60382^60381^60381^60383^60381^60381^60382"},null,9,{"$nulls":11},{"$f":"_xlfn.TEXTJOIN(\"^\",,AA119:AA128)","v":""},null,9,{"$nulls":4},60384,60381,{"$nulls":5},{"$f":"_xlfn.TEXTJOIN(\"^\",,AO119:AO128)","v":""},null,9,{"$nulls":5},60384,null,60382,null,null,null,{"$f":"_xlfn.TEXTJOIN(\"^\",,BC119:BC128)","v":""}]
[{"$nulls":15},{"$f":"_xlfn.TEXTJOIN(\"^\",,M119:M128)","v":"60385^60385^60385^60385^60385"},{"$nulls":13},{"$f":"_xlfn.TEXTJOIN(\"^\",,AB119:AB128)","v":""},{"$nulls":13},{"$f":"_xlfn.TEXTJOIN(\"^\",,AP119:AP128)","v":""},{"$nulls":13},{"$f":"_xlfn.TEXTJOIN(\"^\",,BD119:BD128)","v":""}]
[{"$nulls":15},{"$f":"_xlfn.TEXTJOIN(\"^\",,N119:N128)","v":""},{"$nulls":13},{"$f":"_xlfn.TEXTJOIN(\"^\",,AC119:AC128)","v":""},{"$nulls":13},{"$f":"_xlfn.TEXTJOIN(\"^\",,AQ119:AQ128)","v":""},{"$nulls":13},{"$f":"_xlfn.TEXTJOIN(\"^\",,BE119:BE128)","v":""}]
[{"$nulls":14},"最终",{"$f":"_xlfn.TEXTJOIN(\"^\",,P119:P129)","v":"60381^60381^60382^60381^60381^60384^60382^60382^60382^60384^60382^60381^60383^60382^60383^60381^60382^60382^60381^60381^60384^60381^60381^60382^60384^60382^60383^60382^60383^60382^60384^60385^60385^60385^60385^60385^60381^60381^60382^60382^60382^60381^60381^60384^60382^60381^60383^60383^60381^60382^60384^60382^60381^60381^60383^60381^60381^60382^60385^60385^60385^60385^60385"},{"$nulls":12},"最终",{"$f":"_xlfn.TEXTJOIN(\"^\",,AD119:AD129)","v":"60382^60381^60384^60387^60382^60381^60383^60381^60385^60384^60381^60382^60384^60384^60383^60381^60382^60382^60381^60384^60385^60383"},{"$nulls":12},"最终",{"$f":"_xlfn.TEXTJOIN(\"^\",,AR119:AR129)","v":"60383^60383^60383^60384^60382^60382^60384^60385^60385^60385^60385^60382^60381^60383^60387^60383^60381^60382^60384^60382^60381^60381^60381^60382^60384^60381^60381^60382^60382^60382^60381^60381^60382^60381^60383^60384^60383^60381^60382^60385^60385^60385^60385"},{"$nulls":12},"最终",{"$f":"_xlfn.TEXTJOIN(\"^\",,BF119:BF129)","v":"60385^60385^60385^60382^60382^60382^60384^60383^60384^60381^60381^60381^60381^60382^60381^60383^60383^60381^60382^60384^60381^60382^60382^60382^60381^60384^60382^60381^60383^60384^60383^60381^60382^60382^60382^60381^60383^60381^60382^60382"}]
[null,null,8,null,null,"孢子人",null,"木精灵",null,"树精","木精灵",{"$nulls":6},8,{"$nulls":13},8,{"$nulls":4},"木精灵","树精",{"$nulls":7},8,{"$nulls":5},"木精灵",null,"孢子人"]
[null,null,6,null,"木精灵",null,"孢子人","孢子人",null,"树精","孢子人","孢子人",{"$nulls":5},6,{"$nulls":13},6,null,"木精灵",null,"孢子人","孢子人","树精","孢子人",{"$nulls":6},6,null,null,"木精灵",null,"孢子人",null,"孢子人"]
[null,null,4,"树精",null,"树精","树精",null,"森林蜘蛛","孢子人","树精","树精","森林蜘蛛",{"$nulls":4},4,{"$nulls":13},4,"哥布林",null,"森林蜘蛛","树精",null,"孢子人","树精","森林蜘蛛",{"$nulls":5},4,"森林蜘蛛",null,null,"树精","树精","树精","树精","孢子人"]
[null,null,2,"树精","孢子人","哥布林","树精","哥布林","森林蜘蛛",null,"哥布林","树精","森林蜘蛛",{"$nulls":4},2,{"$nulls":13},2,null,"孢子人","森林蜘蛛","哥布林","树精",null,"哥布林","森林蜘蛛",{"$nulls":5},2,null,"孢子人",null,"树精","哥布林","孢子人","哥布林","树精"]
[null,null,1,"孢子人","孢子人","孢子人","木精灵","孢子人","森林蜘蛛","孢子人",null,"哥布林","森林蜘蛛",{"$nulls":4},1,"孢子人","孢子人","哥布林","森林蜘蛛","树精","木精灵","孢子人","森林蜘蛛",{"$nulls":5},1,"哥布林",null,null,"森林祭祀","树精","孢子人","木精灵",{"$nulls":6},1,"森林蜘蛛","孢子人","哥布林",null,null,"孢子人","木精灵","哥布林"]
[null,null,3,"树精","孢子人","哥布林","树精","哥布林","森林蜘蛛",null,"哥布林","树精","森林蜘蛛",{"$nulls":4},3,"树精","树精","树精","木精灵","孢子人","哥布林","树精","哥布林",{"$nulls":5},3,null,"孢子人","森林蜘蛛","哥布林","树精",null,"哥布林","森林蜘蛛",{"$nulls":5},3,null,"孢子人",null,"树精","哥布林","孢子人","哥布林","树精"]
[null,null,5,"树精",null,"树精","树精",null,"森林蜘蛛","孢子人","树精","树精","森林蜘蛛",{"$nulls":4},5,"木精灵",null,null,null,"木精灵","树精","木精灵",{"$nulls":6},5,"哥布林",null,"森林蜘蛛","树精",null,"孢子人","树精","森林蜘蛛",{"$nulls":5},5,"森林蜘蛛",null,null,"树精","树精","树精","树精","孢子人"]
[null,null,7,null,"木精灵",null,"孢子人","孢子人",null,"树精","孢子人","孢子人",{"$nulls":5},7,"森林祭祀",{"$nulls":4},"孢子人",{"$nulls":7},7,null,"木精灵",null,"孢子人","孢子人","树精","孢子人",{"$nulls":6},7,null,null,"木精灵",null,"孢子人",null,"孢子人"]
[null,null,9,null,null,"孢子人",null,"木精灵",null,"树精","木精灵",{"$nulls":6},9,{"$nulls":13},9,{"$nulls":4},"木精灵","树精",{"$nulls":7},9,{"$nulls":5},"木精灵",null,"孢子人"]
[]
[null,null,"位置",5,10,17,25,35,40,50,60,70,75,{"$nulls":4},"位置",5,10,15,25,40,56,73,80,{"$nulls":5},"位置",4,10,15,22,30,40,50,55,null,null,null,{"$f":"_xlfn.TEXTJOIN(\"^\",,AG142:AG156)","v":"4^1^5"},null,"位置",3,5,8,12,18,25,35,45,null,null,null,{"$f":"_xlfn.TEXTJOIN(\"^\",,AU142:AU156)","v":"101^103^105"}]
[null,null,8,null,null,{"$f":"$C142","v":8},null,{"$f":"$C142","v":8},null,{"$f":"$C142","v":8},8,{"$nulls":4},{"$f":"_xlfn.TEXTJOIN(\"^\",,D142:D156)","v":"4^2^1^3^5"},null,8,{"$nulls":13},8,{"$nulls":4},{"$f":"$C142","v":8},8,{"$nulls":5},{"$f":"_xlfn.TEXTJOIN(\"^\",,AH142:AH156)","v":"6^2^3^7"},null,8,{"$nulls":5},{"$f":"$C142","v":8},null,{"$f":"$C142","v":8},null,null,null,{"$f":"_xlfn.TEXTJOIN(\"^\",,AV142:AV156)","v":"2^1^3"}]
[null,null,6,null,{"$f":"$C143","v":6},null,{"$f":"$C143","v":6},6,null,6,6,6,null,null,null,{"$f":"_xlfn.TEXTJOIN(\"^\",,E142:E156)","v":"6^2^1^3^7"},null,6,{"$nulls":11},{"$f":"_xlfn.TEXTJOIN(\"^\",,S142:S156)","v":"0^0^0^0"},null,6,null,{"$f":"$C143","v":6},null,{"$f":"$C143","v":6},6,6,6,{"$nulls":4},{"$f":"_xlfn.TEXTJOIN(\"^\",,AI142:AI156)","v":"101^102^104^105"},null,6,null,null,{"$f":"$C143","v":6},null,{"$f":"$C143","v":6},null,{"$f":"$C143","v":6},{"$nulls":4},{"$f":"_xlfn.TEXTJOIN(\"^\",,AW142:AW156)","v":"6^1^7"}]
[null,null,4,{"$f":"$C144","v":4},null,{"$f":"$C144","v":4},4,null,null,4,4,4,null,null,null,{"$f":"_xlfn.TEXTJOIN(\"^\",,F142:F156)","v":"8^4^2^1^3^5^9"},null,4,{"$nulls":11},{"$f":"_xlfn.TEXTJOIN(\"^\",,T142:T156)","v":"0^0"},null,4,{"$f":"$C144","v":4},null,null,4,null,4,4,{"$nulls":4},{"$f":"_xlfn.TEXTJOIN(\"^\",,AJ142:AJ156)","v":"6^4^2^1^3^5^7"},null,4,null,null,null,{"$f":"$C144","v":4},4,4,4,4,null,null,null,{"$f":"_xlfn.TEXTJOIN(\"^\",,AX142:AX156)","v":"4^2^3^5"}]
[null,null,2,{"$f":"$C145","v":2},{"$f":"$C145","v":2},2,2,{"$f":"$C145","v":2},null,null,2,2,null,null,null,{"$f":"_xlfn.TEXTJOIN(\"^\",,G142:G156)","v":"6^4^2^1^3^5^7"},null,2,{"$nulls":11},{"$f":"_xlfn.TEXTJOIN(\"^\",,U142:U156)","v":"0^0"},null,2,null,{"$f":"$C145","v":2},null,2,2,null,2,{"$nulls":4},{"$f":"_xlfn.TEXTJOIN(\"^\",,AK142:AK156)","v":"8^6^2^1^3^7^9"},null,2,null,{"$f":"$C145","v":2},null,2,2,2,2,2,null,null,null,{"$f":"_xlfn.TEXTJOIN(\"^\",,AY142:AY156)","v":"6^4^2^3^5^7"}]
[null,null,1,1,1,1,1,1,null,{"$f":"$C146","v":1},null,{"$f":"$C146","v":1},null,null,null,{"$f":"_xlfn.TEXTJOIN(\"^\",,H142:H156)","v":"8^6^2^1^3^7^9"},null,1,0,0,0,100,0,0,0,100,null,null,null,{"$f":"_xlfn.TEXTJOIN(\"^\",,V142:V156)","v":"100^0"},null,1,{"$f":"$C146","v":1},null,null,1,1,{"$f":"$C146","v":1},1,{"$nulls":4},{"$f":"_xlfn.TEXTJOIN(\"^\",,AL142:AL156)","v":"8^6^4^1^5^7^9"},null,1,null,1,{"$f":"$C146","v":1},null,null,1,1,1,null,null,null,{"$f":"_xlfn.TEXTJOIN(\"^\",,AZ142:AZ156)","v":"8^4^2^1^3^5^9"}]
[null,null,3,3,3,3,3,{"$f":"$C147","v":3},null,null,{"$f":"$C147","v":3},3,null,null,null,{"$f":"_xlfn.TEXTJOIN(\"^\",,I142:I156)","v":"101^102^103^104^105"},null,3,0,0,0,0,0,0,0,0,null,null,null,{"$f":"_xlfn.TEXTJOIN(\"^\",,W142:W156)","v":"0^0^0"},null,3,null,{"$f":"$C147","v":3},null,{"$f":"$C147","v":3},3,null,3,{"$nulls":4},{"$f":"_xlfn.TEXTJOIN(\"^\",,AM142:AM156)","v":"6^4^2^1^3^5^7"},null,3,null,3,null,{"$f":"$C147","v":3},3,3,3,3,null,null,null,{"$f":"_xlfn.TEXTJOIN(\"^\",,BA142:BA156)","v":"6^4^2^1^3^5^7"}]
[null,null,5,5,null,5,5,null,null,{"$f":"$C148","v":5},5,5,null,null,null,{"$f":"_xlfn.TEXTJOIN(\"^\",,J142:J156)","v":"8^6^4^1^5^7^9"},null,5,0,null,null,null,0,0,0,{"$nulls":4},{"$f":"_xlfn.TEXTJOIN(\"^\",,X142:X156)","v":"0^0^0^0"},null,5,{"$f":"$C148","v":5},null,null,5,null,{"$f":"$C148","v":5},5,{"$nulls":4},{"$f":"_xlfn.TEXTJOIN(\"^\",,AN142:AN156)","v":"101^102^104^105"},null,5,null,null,null,5,5,5,5,5,null,null,null,{"$f":"_xlfn.TEXTJOIN(\"^\",,BB142:BB156)","v":"8^4^2^1^3^5^9"}]
[null,null,7,null,{"$f":"$C149","v":7},null,7,7,null,7,7,7,null,null,null,{"$f":"_xlfn.TEXTJOIN(\"^\",,K142:K156)","v":"8^6^4^2^3^5^7^9"},null,7,0,{"$nulls":4},0,{"$nulls":5},{"$f":"_xlfn.TEXTJOIN(\"^\",,Y142:Y156)","v":"0^0^0"},null,7,null,{"$f":"$C149","v":7},null,7,7,7,7,{"$nulls":4},{"$f":"_xlfn.TEXTJOIN(\"^\",,AO142:AO156)","v":""},null,7,null,null,{"$f":"$C149","v":7},null,7,null,7,{"$nulls":4},{"$f":"_xlfn.TEXTJOIN(\"^\",,BC142:BC156)","v":""}]
[null,null,9,null,null,{"$f":"$C150","v":9},null,9,null,9,9,{"$nulls":4},{"$f":"_xlfn.TEXTJOIN(\"^\",,L142:L156)","v":"6^4^2^1^3^5^7"},null,9,{"$nulls":13},9,{"$nulls":4},9,9,{"$nulls":5},{"$f":"_xlfn.TEXTJOIN(\"^\",,AP142:AP156)","v":""},null,9,{"$nulls":5},{"$f":"$C150","v":9},null,{"$f":"$C150","v":9},null,null,null,{"$f":"_xlfn.TEXTJOIN(\"^\",,BD142:BD156)","v":""}]
[null,null,"空降",{"$nulls":12},{"$f":"_xlfn.TEXTJOIN(\"^\",,M142:M156)","v":"101^102^103^104^105"},null,"空降",{"$nulls":13},"空降",{"$nulls":11},{"$f":"_xlfn.TEXTJOIN(\"^\",,AQ142:AQ150)","v":""},null,"空降",{"$nulls":11},{"$f":"_xlfn.TEXTJOIN(\"^\",,BE142:BE150)","v":""}]
[null,null,101,{"$nulls":5},{"$f":"$C152","v":101},null,null,null,{"$f":"$C152","v":101},null,null,{"$f":"_xlfn.TEXTJOIN(\"^\",,N142:N156)","v":""},null,101,{"$nulls":11},{"$f":"_xlfn.TEXTJOIN(\"^\",,Z142:Z156)","v":"100^0"},null,101,null,null,{"$f":"$C152","v":101},{"$nulls":4},{"$f":"$C152","v":101},{"$nulls":5},101,{"$f":"$C152","v":101}]
[null,null,102,{"$nulls":5},102,null,null,null,102,{"$nulls":4},102,{"$nulls":11},{"$f":"_xlfn.TEXTJOIN(\"^\",,AA142:AA156)","v":""},null,102,null,null,102,{"$nulls":4},102,{"$nulls":5},102]
[null,null,103,{"$nulls":5},103,null,null,null,103,{"$nulls":4},103,{"$nulls":11},{"$f":"_xlfn.TEXTJOIN(\"^\",,AB142:AB156)","v":""},null,103,{"$nulls":13},103,{"$f":"$C154","v":103}]
[null,null,104,{"$nulls":5},104,null,null,null,104,{"$nulls":4},104,{"$nulls":13},104,null,null,{"$f":"$C155","v":104},{"$nulls":4},{"$f":"$C155","v":104},{"$nulls":5},104]
[null,null,105,{"$nulls":5},105,null,null,null,105,{"$nulls":4},105,{"$nulls":13},105,null,null,105,{"$nulls":4},105,{"$nulls":5},105,{"$f":"$C156","v":105}]
[{"$nulls":14},"最终",{"$f":"_xlfn.TEXTJOIN(\"^\",,P142:P156)","v":"4^2^1^3^5^6^2^1^3^7^8^4^2^1^3^5^9^6^4^2^1^3^5^7^8^6^2^1^3^7^9^101^102^103^104^105^8^6^4^1^5^7^9^8^6^4^2^3^5^7^9^6^4^2^1^3^5^7^101^102^103^104^105"},{"$nulls":12},"最终",{"$f":"_xlfn.TEXTJOIN(\"^\",,AD142:AD156)","v":"0^0^0^0^0^0^0^0^100^0^0^0^0^0^0^0^0^0^0^0^100^0"},{"$nulls":12},"最终",{"$f":"_xlfn.TEXTJOIN(\"^\",,AR141:AR156)","v":"4^1^5^6^2^3^7^101^102^104^105^6^4^2^1^3^5^7^8^6^2^1^3^7^9^8^6^4^1^5^7^9^6^4^2^1^3^5^7^101^102^104^105"},{"$nulls":12},"最终",{"$f":"_xlfn.TEXTJOIN(\"^\",,BF141:BF156)","v":"101^103^105^2^1^3^6^1^7^4^2^3^5^6^4^2^3^5^7^8^4^2^1^3^5^9^6^4^2^1^3^5^7^8^4^2^1^3^5^9"}]
[]
[null,null,"时间",5,10,17,25,35,40,50,60,70,75,{"$nulls":4},"时间",5,10,15,25,40,56,73,80,null,null,null,{"$f":"_xlfn.TEXTJOIN(\"^\",,S160:S168)","v":"6^14^4^1"},null,"时间",4,10,15,22,30,40,50,55,null,null,null,{"$f":"_xlfn.TEXTJOIN(\"^\",,AG160:AG168)","v":"4^4^4"},null,"时间",3,5,8,12,18,25,35,45,null,null,null,{"$f":"_xlfn.TEXTJOIN(\"^\",,AU160:AU168)","v":"3^3^3"}]
[null,null,8,null,null,{"$f":"F$159","v":17},null,{"$f":"H$159","v":35},null,{"$f":"J$159","v":50},60,{"$nulls":4},{"$f":"_xlfn.TEXTJOIN(\"^\",,D160:D169)","v":"5^5^5^5^5"},null,8,{"$nulls":11},{"$f":"_xlfn.TEXTJOIN(\"^\",,T160:T168)","v":"4^8"},null,8,{"$nulls":4},{"$f":"AK$159","v":30},40,{"$nulls":5},{"$f":"_xlfn.TEXTJOIN(\"^\",,AH160:AH168)","v":"10^10^10^10"},null,8,{"$nulls":5},{"$f":"AZ$159","v":25},null,{"$f":"BB$159","v":45},null,null,null,{"$f":"_xlfn.TEXTJOIN(\"^\",,AV160:AV168)","v":"5^5^5"}]
[null,null,6,null,{"$f":"E$159","v":10},null,{"$f":"G$159","v":25},35,null,50,60,70,null,null,null,{"$f":"_xlfn.TEXTJOIN(\"^\",,E160:E169)","v":"10^10^10^10^10"},null,6,{"$nulls":11},{"$f":"_xlfn.TEXTJOIN(\"^\",,U160:U168)","v":"2^9"},null,6,null,{"$f":"AH$159","v":10},null,{"$f":"AJ$159","v":22},30,40,50,{"$nulls":4},{"$f":"_xlfn.TEXTJOIN(\"^\",,AI160:AI168)","v":"15^15^15^15"},null,6,null,null,{"$f":"AW$159","v":8},null,{"$f":"AY$159","v":18},null,{"$f":"BA$159","v":35},{"$nulls":4},{"$f":"_xlfn.TEXTJOIN(\"^\",,AW160:AW168)","v":"8^8^8"}]
[null,null,4,{"$f":"D$159","v":5},null,{"$f":"F$159","v":17},25,null,{"$f":"I$159","v":40},50,60,70,75,null,null,{"$f":"_xlfn.TEXTJOIN(\"^\",,F160:F169)","v":"17^17^17^17^17^17^17"},null,4,{"$nulls":11},{"$f":"_xlfn.TEXTJOIN(\"^\",,V160:V168)","v":"8^2"},null,4,{"$f":"AG$159","v":4},null,{"$f":"AI$159","v":15},22,null,40,50,55,null,null,null,{"$f":"_xlfn.TEXTJOIN(\"^\",,AJ160:AJ168)","v":"22^22^22^22^22^22^22"},null,4,{"$f":"AU$159","v":3},null,null,{"$f":"AX$159","v":12},18,25,35,{"$f":"BB$159","v":45},null,null,null,{"$f":"_xlfn.TEXTJOIN(\"^\",,AX160:AX168)","v":"12^12^12^12"}]
[null,null,2,5,10,17,25,{"$f":"H$159","v":35},40,null,{"$f":"K$159","v":60},70,75,null,null,{"$f":"_xlfn.TEXTJOIN(\"^\",,G160:G169)","v":"25^25^25^25^25^25^25"},null,2,{"$nulls":11},{"$f":"_xlfn.TEXTJOIN(\"^\",,W160:W168)","v":"7^3^2"},null,2,null,{"$f":"AH$159","v":10},15,22,30,null,50,55,null,null,null,{"$f":"_xlfn.TEXTJOIN(\"^\",,AK160:AK168)","v":"30^30^30^30^30^30^30"},null,2,null,{"$f":"AV$159","v":5},null,12,18,25,35,45,null,null,null,{"$f":"_xlfn.TEXTJOIN(\"^\",,AY160:AY168)","v":"18^18^18^18^18^18"}]
[null,null,1,{"$f":"D$159","v":5},10,17,25,{"$f":"H$159","v":35},40,{"$f":"J$159","v":50},null,{"$f":"L$159","v":70},75,null,null,{"$f":"_xlfn.TEXTJOIN(\"^\",,H160:H169)","v":"35^35^35^35^35^35^35"},null,1,6,4,2,8,7,2,4,8,null,null,null,{"$f":"_xlfn.TEXTJOIN(\"^\",,X160:X168)","v":"2^2^6^3"},null,1,{"$f":"AG$159","v":4},null,null,22,30,{"$f":"AL$159","v":40},50,{"$nulls":4},{"$f":"_xlfn.TEXTJOIN(\"^\",,AL160:AL168)","v":"40^40^40^40^40^40^40"},null,1,{"$f":"AU$159","v":3},5,{"$f":"AW$159","v":8},null,null,25,35,45,null,null,null,{"$f":"_xlfn.TEXTJOIN(\"^\",,AZ160:AZ168)","v":"25^25^25^25^25^25^25"}]
[null,null,3,{"$f":"D$159","v":5},10,17,25,{"$f":"H$159","v":35},40,null,{"$f":"K$159","v":60},70,75,null,null,{"$f":"_xlfn.TEXTJOIN(\"^\",,I160:I169)","v":"40^40^40^40^40"},null,3,14,8,9,2,3,2,5,3,null,null,null,{"$f":"_xlfn.TEXTJOIN(\"^\",,Y160:Y168)","v":"4^5^2"},null,3,null,{"$f":"AH$159","v":10},{"$f":"AI$159","v":15},22,30,null,50,55,null,null,null,{"$f":"_xlfn.TEXTJOIN(\"^\",,AM160:AM168)","v":"50^50^50^50^50^50^50"},null,3,null,5,null,{"$f":"AX$159","v":12},18,25,35,45,null,null,null,{"$f":"_xlfn.TEXTJOIN(\"^\",,BA160:BA168)","v":"35^35^35^35^35^35^35"}]
[null,null,5,5,null,17,25,null,40,50,60,70,75,null,null,{"$f":"_xlfn.TEXTJOIN(\"^\",,J160:J169)","v":"50^50^50^50^50^50^50"},null,5,4,null,null,null,2,6,2,{"$nulls":4},{"$f":"_xlfn.TEXTJOIN(\"^\",,Z160:Z168)","v":"8^3"},null,5,{"$f":"AG$159","v":4},null,15,22,null,{"$f":"AL$159","v":40},50,55,null,null,null,{"$f":"_xlfn.TEXTJOIN(\"^\",,AN160:AN168)","v":"55^55^55^55"},null,5,{"$f":"AU$159","v":3},null,null,12,18,25,35,45,null,null,null,{"$f":"_xlfn.TEXTJOIN(\"^\",,BB160:BB168)","v":"45^45^45^45^45^45^45"}]
[null,null,7,null,{"$f":"E$159","v":10},null,25,35,null,50,60,70,null,null,null,{"$f":"_xlfn.TEXTJOIN(\"^\",,K160:K169)","v":"60^60^60^60^60^60^60^60"},null,7,1,{"$nulls":4},3,{"$nulls":5},{"$f":"_xlfn.TEXTJOIN(\"^\",,AA160:AA168)","v":""},null,7,null,{"$f":"AH$159","v":10},null,22,30,40,50,{"$nulls":4},{"$f":"_xlfn.TEXTJOIN(\"^\",,AO160:AO168)","v":""},null,7,null,null,{"$f":"AW$159","v":8},null,18,null,35,{"$nulls":4},{"$f":"_xlfn.TEXTJOIN(\"^\",,BC160:BC168)","v":""}]
[null,null,9,null,null,{"$f":"F$159","v":17},null,35,null,50,60,{"$nulls":4},{"$f":"_xlfn.TEXTJOIN(\"^\",,L160:L169)","v":"70^70^70^70^70^70^70"},null,9,{"$nulls":11},{"$f":"_xlfn.TEXTJOIN(\"^\",,AB160:AB168)","v":""},null,9,{"$nulls":4},30,40,{"$nulls":5},{"$f":"_xlfn.TEXTJOIN(\"^\",,AP160:AP168)","v":""},null,9,{"$nulls":5},{"$f":"AZ$159","v":25},null,{"$f":"BB$159","v":45},null,null,null,{"$f":"_xlfn.TEXTJOIN(\"^\",,BD160:BD168)","v":""}]
[{"$nulls":15},{"$f":"_xlfn.TEXTJOIN(\"^\",,M160:M169)","v":"75^75^75^75^75"},{"$nulls":13},{"$f":"_xlfn.TEXTJOIN(\"^\",,AC160:AC168)","v":""},{"$nulls":13},{"$f":"_xlfn.TEXTJOIN(\"^\",,AQ160:AQ168)","v":""},{"$nulls":13},{"$f":"_xlfn.TEXTJOIN(\"^\",,BE160:BE168)","v":""}]
[{"$nulls":15},{"$f":"_xlfn.TEXTJOIN(\"^\",,N160:N169)","v":""},{"$nulls":12},"最终",{"$f":"_xlfn.TEXTJOIN(\"^\",,AD159:AD169)","v":"6^14^4^1^4^8^2^9^8^2^7^3^2^2^2^6^3^4^5^2^8^3"},{"$nulls":12},"最终",{"$f":"_xlfn.TEXTJOIN(\"^\",,AR159:AR169)","v":"4^4^4^10^10^10^10^15^15^15^15^22^22^22^22^22^22^22^30^30^30^30^30^30^30^40^40^40^40^40^40^40^50^50^50^50^50^50^50^55^55^55^55"},{"$nulls":12},"最终",{"$f":"_xlfn.TEXTJOIN(\"^\",,BF159:BF169)","v":"3^3^3^5^5^5^8^8^8^12^12^12^12^18^18^18^18^18^18^25^25^25^25^25^25^25^35^35^35^35^35^35^35^45^45^45^45^45^45^45"}]
[{"$nulls":14},"最终",{"$f":"_xlfn.TEXTJOIN(\"^\",,P160:P170)","v":"5^5^5^5^5^10^10^10^10^10^17^17^17^17^17^17^17^25^25^25^25^25^25^25^35^35^35^35^35^35^35^40^40^40^40^40^50^50^50^50^50^50^50^60^60^60^60^60^60^60^60^70^70^70^70^70^70^70^75^75^75^75^75"}]
[{"$nulls":15},{"$f":"COUNT(D160:M168)","v":63},{"$nulls":13},{"$f":"SUM(S160:AA168)","v":105},{"$nulls":13},{"$f":"COUNT(AG160:AO168)","v":43},{"$nulls":13},{"$f":"COUNT(AU160:BC168)","v":40}]
[{"$nulls":57},{"$f":"SUM(L172:BF172)","v":251}]
[]
[{"$nulls":4},{"$f":"E176-D176","v":10},{"$f":"F176-E176","v":15},15,5,15,16,17,7,15,{"$nulls":6},{"$f":"T176-S176","v":5},5,7,8,10,10,5,{"$nulls":7},{"$f":"AH176-AG176","v":6},5,15,16,17,7,15,{"$nulls":7},{"$f":"AV176-AU176","v":2},3,4,6,7,10,10]
[3,"绿洲-4","波1·怪物",5,15,30,45,50,65,81,98,105,120,null,null,null,1,"波2·怪物",5,10,15,22,30,40,50,55,{"$nulls":4},3,"波3·怪物",4,10,15,30,46,63,70,85,{"$nulls":4},1,"波4·怪物",3,5,8,12,18,25,35,45]
[null,"5m",8,{"$nulls":12},{"$f":"_xlfn.TEXTJOIN(\"^\",,D177:D186)","v":"60392^60391^60394"},null,8,{"$nulls":4},60394,60392,60394,{"$nulls":4},{"$f":"_xlfn.TEXTJOIN(\"^\",,S177:S186)","v":"60394^60391^60391^60394"},null,8,{"$nulls":11},{"$f":"_xlfn.TEXTJOIN(\"^\",,AG177:AG186)","v":"60395^60394^60393"},null,8,{"$nulls":5},60394,null,60392,null,null,null,{"$f":"_xlfn.TEXTJOIN(\"^\",,AU177:AU186)","v":"60393^60393^60393"}]
[null,null,6,{"$nulls":12},{"$f":"_xlfn.TEXTJOIN(\"^\",,E177:E186)","v":"60391^60392"},null,6,null,60392,{"$nulls":4},60392,{"$nulls":4},{"$f":"_xlfn.TEXTJOIN(\"^\",,T177:T186)","v":"60392^60392^60392"},null,6,{"$nulls":11},{"$f":"_xlfn.TEXTJOIN(\"^\",,AH177:AH186)","v":"60394^60392^60391"},null,6,null,60392,null,null,null,60392,60392,60394,null,null,null,{"$f":"_xlfn.TEXTJOIN(\"^\",,AV177:AV186)","v":"60392^60392^60392"}]
[null,null,4,{"$nulls":12},{"$f":"_xlfn.TEXTJOIN(\"^\",,F177:F186)","v":"60393^60392^60394"},null,4,60394,null,60395,60393,60392,60391,60391,60395,null,null,null,{"$f":"_xlfn.TEXTJOIN(\"^\",,U177:U186)","v":"60395^60395^60395^60395"},null,4,{"$nulls":11},{"$f":"_xlfn.TEXTJOIN(\"^\",,AI177:AI186)","v":"60391^60393"},null,4,60393,null,null,60391,60395,null,60391,60392,null,null,null,{"$f":"_xlfn.TEXTJOIN(\"^\",,AW177:AW186)","v":"60394^60394"}]
[null,null,2,{"$nulls":12},{"$f":"_xlfn.TEXTJOIN(\"^\",,G177:G186)","v":"60392^60391"},null,2,60391,null,60395,null,60391,60393,60391,60395,null,null,null,{"$f":"_xlfn.TEXTJOIN(\"^\",,V177:V186)","v":"60393^60393^60393"},null,2,{"$nulls":11},{"$f":"_xlfn.TEXTJOIN(\"^\",,AJ177:AJ186)","v":"60393^60391^60392"},null,2,null,null,60394,60391,60395,60393,60391,60393,null,null,null,{"$f":"_xlfn.TEXTJOIN(\"^\",,AX177:AX186)","v":"60391^60391^60391^60391"}]
[null,null,1,60392,60391,60393,60392,60395,60392,60393,60392,60395,60394,null,null,{"$f":"_xlfn.TEXTJOIN(\"^\",,H177:H186)","v":"60395^60391"},null,1,null,60392,null,60393,null,60397,{"$nulls":5},{"$f":"_xlfn.TEXTJOIN(\"^\",,W177:W186)","v":"60394^60392^60391^60391^60392^60394"},null,1,60395,60394,60391,60393,60392,60393,60395,60393,null,null,null,{"$f":"_xlfn.TEXTJOIN(\"^\",,AK177:AK186)","v":"60392^60391^60394"},null,1,60393,60392,{"$nulls":4},60394,{"$nulls":4},{"$f":"_xlfn.TEXTJOIN(\"^\",,AY177:AY186)","v":"60395^60395^60395^60395"}]
[null,null,3,60391,60392,60392,60391,60391,60391,60392,60391,60393,60393,null,null,{"$f":"_xlfn.TEXTJOIN(\"^\",,I177:I186)","v":"60392^60391^60394"},null,3,60391,null,60395,null,60391,60393,60391,60395,null,null,null,{"$f":"_xlfn.TEXTJOIN(\"^\",,X177:X186)","v":"60392^60391^60393^60397^60393^60391^60392"},null,3,60394,60392,60393,60391,60391,60391,60392,60391,null,null,null,{"$f":"_xlfn.TEXTJOIN(\"^\",,AL177:AL186)","v":"60393^60391^60392"},null,3,null,null,60394,60391,60395,60393,60391,60393,null,null,null,{"$f":"_xlfn.TEXTJOIN(\"^\",,AZ177:AZ186)","v":"60394^60392^60393^60393^60392^60394"}]
[null,null,5,60394,null,60394,null,null,60394,60391,60394,60397,60391,null,null,{"$f":"_xlfn.TEXTJOIN(\"^\",,J177:J186)","v":"60393^60392^60391"},null,5,60394,null,60395,60393,60392,60391,60391,60395,null,null,null,{"$f":"_xlfn.TEXTJOIN(\"^\",,Y177:Y186)","v":"60394^60392^60391^60391^60391^60391^60392^60394"},null,5,60393,60391,null,60392,60394,60392,60397,60392,null,null,null,{"$f":"_xlfn.TEXTJOIN(\"^\",,AM177:AM186)","v":"60395^60392^60397"},null,5,60393,null,null,60391,60395,null,60391,60392,null,null,null,{"$f":"_xlfn.TEXTJOIN(\"^\",,BA177:BA186)","v":"60392^60391^60391^60394^60391^60391^60392"}]
[null,null,7,{"$nulls":9},60392,null,null,{"$f":"_xlfn.TEXTJOIN(\"^\",,K177:K186)","v":"60392^60391^60394"},null,7,null,60392,{"$nulls":4},60392,{"$nulls":4},{"$f":"_xlfn.TEXTJOIN(\"^\",,Z177:Z186)","v":"60395^60395^60395^60395"},null,7,{"$nulls":7},60394,null,null,null,{"$f":"_xlfn.TEXTJOIN(\"^\",,AN177:AN186)","v":"60393^60391^60392^60394"},null,7,null,60392,null,null,null,60392,60392,60394,null,null,null,{"$f":"_xlfn.TEXTJOIN(\"^\",,BB177:BB186)","v":"60392^60394^60392^60393^60393^60392^60394^60392"}]
[null,null,9,{"$nulls":12},{"$f":"_xlfn.TEXTJOIN(\"^\",,L177:L186)","v":"60395^60393^60397"},null,9,{"$nulls":4},60394,60392,60394,{"$nulls":4},{"$f":"_xlfn.TEXTJOIN(\"^\",,AA177:AA186)","v":""},null,9,{"$nulls":11},{"$f":"_xlfn.TEXTJOIN(\"^\",,AO177:AO186)","v":""},null,9,{"$nulls":5},60394,null,60392,null,null,null,{"$f":"_xlfn.TEXTJOIN(\"^\",,BC177:BC186)","v":""}]
[{"$nulls":15},{"$f":"_xlfn.TEXTJOIN(\"^\",,M177:M186)","v":"60394^60393^60391^60392"},{"$nulls":13},{"$f":"_xlfn.TEXTJOIN(\"^\",,AB177:AB186)","v":""},{"$nulls":13},{"$f":"_xlfn.TEXTJOIN(\"^\",,AP177:AP186)","v":""},{"$nulls":13},{"$f":"_xlfn.TEXTJOIN(\"^\",,BD177:BD186)","v":""}]
[{"$nulls":15},{"$f":"_xlfn.TEXTJOIN(\"^\",,N177:N186)","v":""},{"$nulls":13},{"$f":"_xlfn.TEXTJOIN(\"^\",,AC177:AC186)","v":""},{"$nulls":13},{"$f":"_xlfn.TEXTJOIN(\"^\",,AQ177:AQ186)","v":""},{"$nulls":13},{"$f":"_xlfn.TEXTJOIN(\"^\",,BE177:BE186)","v":""}]
[{"$nulls":14},"最终",{"$f":"_xlfn.TEXTJOIN(\"^\",,P177:P187)","v":"60392^60391^60394^60391^60392^60393^60392^60394^60392^60391^60395^60391^60392^60391^60394^60393^60392^60391^60392^60391^60394^60395^60393^60397^60394^60393^60391^60392"},{"$nulls":12},"最终",{"$f":"_xlfn.TEXTJOIN(\"^\",,AD177:AD187)","v":"60394^60391^60391^60394^60392^60392^60392^60395^60395^60395^60395^60393^60393^60393^60394^60392^60391^60391^60392^60394^60392^60391^60393^60397^60393^60391^60392^60394^60392^60391^60391^60391^60391^60392^60394^60395^60395^60395^60395"},{"$nulls":12},"最终",{"$f":"_xlfn.TEXTJOIN(\"^\",,AR177:AR187)","v":"60395^60394^60393^60394^60392^60391^60391^60393^60393^60391^60392^60392^60391^60394^60393^60391^60392^60395^60392^60397^60393^60391^60392^60394"},{"$nulls":12},"最终",{"$f":"_xlfn.TEXTJOIN(\"^\",,BF177:BF187)","v":"60393^60393^60393^60392^60392^60392^60394^60394^60391^60391^60391^60391^60395^60395^60395^60395^60394^60392^60393^60393^60392^60394^60392^60391^60391^60394^60391^60391^60392^60392^60394^60392^60393^60393^60392^60394^60392"}]
[null,null,8,{"$nulls":14},8,{"$nulls":4},"木精灵","孢子人","木精灵",{"$nulls":6},8,{"$nulls":13},8,{"$nulls":5},"木精灵",null,"孢子人"]
[null,null,6,{"$nulls":14},6,null,"孢子人",{"$nulls":4},"孢子人",{"$nulls":6},6,{"$nulls":13},6,null,"孢子人",null,null,null,"孢子人","孢子人","木精灵"]
[null,null,4,{"$nulls":14},4,"木精灵",null,"森林蜘蛛","哥布林","孢子人","树精","树精","森林蜘蛛",{"$nulls":5},4,{"$nulls":13},4,"哥布林",null,null,"树精","森林蜘蛛",null,"树精","孢子人"]
[null,null,2,{"$nulls":14},2,"树精",null,"森林蜘蛛",null,"树精","哥布林","树精","森林蜘蛛",{"$nulls":5},2,{"$nulls":13},2,null,null,"木精灵","树精","森林蜘蛛","哥布林","树精","哥布林"]
[null,null,1,"孢子人","树精","哥布林","孢子人","森林蜘蛛","孢子人","哥布林","孢子人","森林蜘蛛","木精灵",{"$nulls":4},1,null,"孢子人",null,"哥布林",null,"森林祭祀",{"$nulls":7},1,"森林蜘蛛","木精灵","树精","哥布林","孢子人","哥布林","森林蜘蛛","哥布林",{"$nulls":5},1,"哥布林","孢子人",{"$nulls":4},"木精灵"]
[null,null,3,"树精","孢子人","孢子人","树精","树精","树精","孢子人","树精","哥布林","哥布林",{"$nulls":4},3,"树精",null,"森林蜘蛛",null,"树精","哥布林","树精","森林蜘蛛",{"$nulls":5},3,"木精灵","孢子人","哥布林","树精","树精","树精","孢子人","树精",{"$nulls":5},3,null,null,"木精灵","树精","森林蜘蛛","哥布林","树精","哥布林"]
[null,null,5,"木精灵",null,"木精灵",null,null,"木精灵","树精","木精灵","森林祭祀","树精",{"$nulls":4},5,"木精灵",null,"森林蜘蛛","哥布林","孢子人","树精","树精","森林蜘蛛",{"$nulls":5},5,"哥布林","树精",null,"孢子人","木精灵","孢子人","森林祭祀","孢子人",{"$nulls":5},5,"哥布林",null,null,"树精","森林蜘蛛",null,"树精","孢子人"]
[null,null,7,{"$nulls":9},"孢子人",{"$nulls":4},7,null,"孢子人",{"$nulls":4},"孢子人",{"$nulls":6},7,{"$nulls":7},"木精灵",{"$nulls":5},7,null,"孢子人",null,null,null,"孢子人","孢子人","木精灵"]
[null,null,9,{"$nulls":14},9,{"$nulls":4},"木精灵","孢子人","木精灵",{"$nulls":6},9,{"$nulls":13},9,{"$nulls":5},"木精灵",null,"孢子人"]
[]
[null,null,"位置",5,15,30,45,50,65,81,98,105,120,{"$nulls":4},"位置",5,10,15,22,30,40,50,55,{"$nulls":5},"位置",4,10,15,30,46,63,70,85,null,null,null,{"$f":"_xlfn.TEXTJOIN(\"^\",,AG200:AG214)","v":"100^0^0"},null,"位置",3,5,8,12,18,25,35,45,null,null,null,{"$f":"_xlfn.TEXTJOIN(\"^\",,AU200:AU214)","v":"4^1^5"}]
[null,null,8,{"$nulls":12},{"$f":"_xlfn.TEXTJOIN(\"^\",,D200:D214)","v":"0^0^0"},null,8,{"$nulls":4},{"$f":"$C200","v":8},{"$f":"$C200","v":8},{"$f":"$C200","v":8},{"$nulls":6},8,{"$nulls":11},{"$f":"_xlfn.TEXTJOIN(\"^\",,AH200:AH214)","v":"0^0^0"},null,8,{"$nulls":5},{"$f":"$C200","v":8},null,{"$f":"$C200","v":8},null,null,null,{"$f":"_xlfn.TEXTJOIN(\"^\",,AV200:AV214)","v":"6^1^7"}]
[null,null,6,{"$nulls":12},{"$f":"_xlfn.TEXTJOIN(\"^\",,E200:E214)","v":"0^0"},null,6,null,{"$f":"$C201","v":6},{"$nulls":4},6,{"$nulls":4},{"$f":"_xlfn.TEXTJOIN(\"^\",,S200:S214)","v":"4^2^3^5"},null,6,{"$nulls":11},{"$f":"_xlfn.TEXTJOIN(\"^\",,AI200:AI214)","v":"0^0"},null,6,null,{"$f":"$C201","v":6},null,null,null,6,6,6,null,null,null,{"$f":"_xlfn.TEXTJOIN(\"^\",,AW200:AW214)","v":"2^3"}]
[null,null,4,{"$nulls":12},{"$f":"_xlfn.TEXTJOIN(\"^\",,F200:F214)","v":"0^0^0"},null,4,{"$f":"$C202","v":4},null,null,{"$f":"$C202","v":4},{"$f":"$C202","v":4},4,4,{"$nulls":4},{"$f":"_xlfn.TEXTJOIN(\"^\",,T200:T214)","v":"6^1^7"},null,4,{"$nulls":11},{"$f":"_xlfn.TEXTJOIN(\"^\",,AJ200:AJ214)","v":"0^0^0"},null,4,{"$f":"$C202","v":4},null,null,{"$f":"$C202","v":4},null,null,4,4,null,null,null,{"$f":"_xlfn.TEXTJOIN(\"^\",,AX200:AX214)","v":"4^2^3^5"}]
[null,null,2,{"$nulls":12},{"$f":"_xlfn.TEXTJOIN(\"^\",,G200:G214)","v":"0^0"},null,2,2,null,null,null,2,2,2,{"$nulls":4},{"$f":"_xlfn.TEXTJOIN(\"^\",,U200:U214)","v":"101^102^104^105"},null,2,{"$nulls":11},{"$f":"_xlfn.TEXTJOIN(\"^\",,AK200:AK214)","v":"0^0^0"},null,2,null,null,{"$f":"$C203","v":2},2,null,{"$f":"$C203","v":2},2,2,null,null,null,{"$f":"_xlfn.TEXTJOIN(\"^\",,AY200:AY214)","v":"101^102^104^105"}]
[null,null,1,0,0,0,0,100,0,0,0,100,0,null,null,{"$f":"_xlfn.TEXTJOIN(\"^\",,H200:H214)","v":"100^0"},null,1,null,{"$f":"$C204","v":1},null,{"$f":"$C204","v":1},null,1,{"$nulls":5},{"$f":"_xlfn.TEXTJOIN(\"^\",,V200:V214)","v":"4^1^5"},null,1,100,0,0,0,0,0,100,0,null,null,null,{"$f":"_xlfn.TEXTJOIN(\"^\",,AL200:AL214)","v":"0^0^0"},null,1,{"$f":"$C204","v":1},1,{"$nulls":4},1,{"$nulls":4},{"$f":"_xlfn.TEXTJOIN(\"^\",,AZ200:AZ214)","v":"8^6^2^3^7^9"}]
[null,null,3,0,0,0,0,0,0,0,0,0,0,null,null,{"$f":"_xlfn.TEXTJOIN(\"^\",,I200:I214)","v":"0^0^0"},null,3,{"$f":"$C205","v":3},null,null,null,{"$f":"$C205","v":3},3,3,{"$nulls":4},{"$f":"_xlfn.TEXTJOIN(\"^\",,W200:W214)","v":"8^4^2^3^5^9"},null,3,0,0,0,0,0,0,0,0,null,null,null,{"$f":"_xlfn.TEXTJOIN(\"^\",,AM200:AM214)","v":"100^0^0"},null,3,null,null,{"$f":"$C205","v":3},3,null,{"$f":"$C205","v":3},3,3,null,null,null,{"$f":"_xlfn.TEXTJOIN(\"^\",,BA200:BA214)","v":"6^4^2^1^3^5^7"}]
[null,null,5,0,null,0,null,null,0,0,0,0,0,null,null,{"$f":"_xlfn.TEXTJOIN(\"^\",,J200:J214)","v":"0^0^0"},null,5,5,null,null,{"$f":"$C206","v":5},5,5,5,{"$nulls":4},{"$f":"_xlfn.TEXTJOIN(\"^\",,X200:X214)","v":"8^4^2^1^3^5^9"},null,5,0,0,null,0,0,0,0,0,null,null,null,{"$f":"_xlfn.TEXTJOIN(\"^\",,AN200:AN214)","v":"0^0^0^0"},null,5,{"$f":"$C206","v":5},null,null,5,null,null,5,5,null,null,null,{"$f":"_xlfn.TEXTJOIN(\"^\",,BB200:BB214)","v":"8^6^4^2^3^5^7^9"}]
[null,null,7,{"$nulls":9},0,null,null,{"$f":"_xlfn.TEXTJOIN(\"^\",,K200:K214)","v":"0^0^0"},null,7,null,{"$f":"$C207","v":7},{"$nulls":4},7,{"$nulls":4},{"$f":"_xlfn.TEXTJOIN(\"^\",,Y200:Y214)","v":"8^6^4^2^3^5^7^9"},null,7,{"$nulls":7},0,null,null,null,{"$f":"_xlfn.TEXTJOIN(\"^\",,AO200:AO214)","v":""},null,7,null,{"$f":"$C207","v":7},null,null,null,{"$f":"$C207","v":7},7,7,null,null,null,{"$f":"_xlfn.TEXTJOIN(\"^\",,BC200:BC214)","v":""}]
[null,null,9,{"$nulls":12},{"$f":"_xlfn.TEXTJOIN(\"^\",,L200:L214)","v":"100^0^0"},null,9,{"$nulls":4},{"$f":"$C208","v":9},{"$f":"$C208","v":9},9,{"$nulls":6},9,{"$nulls":11},{"$f":"_xlfn.TEXTJOIN(\"^\",,AP200:AP214)","v":""},null,9,{"$nulls":5},9,null,9,null,null,null,{"$f":"_xlfn.TEXTJOIN(\"^\",,BD200:BD214)","v":""}]
[null,null,"空降",{"$nulls":12},{"$f":"_xlfn.TEXTJOIN(\"^\",,M200:M214)","v":"0^0^0^0"},null,"空降",{"$nulls":13},"空降",{"$nulls":11},{"$f":"_xlfn.TEXTJOIN(\"^\",,AQ200:AQ208)","v":""},null,"空降",{"$nulls":11},{"$f":"_xlfn.TEXTJOIN(\"^\",,BE200:BE208)","v":""}]
[null,null,101,{"$nulls":12},{"$f":"_xlfn.TEXTJOIN(\"^\",,N200:N214)","v":""},null,101,null,null,{"$f":"$C210","v":101},{"$nulls":4},{"$f":"$C210","v":101},null,null,null,{"$f":"_xlfn.TEXTJOIN(\"^\",,Z200:Z214)","v":"101^102^104^105"},null,101,{"$nulls":13},101,{"$nulls":4},{"$f":"$C210","v":101}]
[null,null,102,{"$nulls":14},102,null,null,102,{"$nulls":4},102,null,null,null,{"$f":"_xlfn.TEXTJOIN(\"^\",,AA200:AA214)","v":""},null,102,{"$nulls":13},102,{"$nulls":4},102]
[null,null,103,{"$nulls":14},103,{"$nulls":11},{"$f":"_xlfn.TEXTJOIN(\"^\",,AB200:AB214)","v":""},null,103,{"$nulls":13},103]
[null,null,104,{"$nulls":14},104,null,null,{"$f":"$C213","v":104},{"$nulls":4},{"$f":"$C213","v":104},{"$nulls":5},104,{"$nulls":13},104,{"$nulls":4},{"$f":"$C213","v":104}]
[null,null,105,{"$nulls":14},105,null,null,105,{"$nulls":4},105,{"$nulls":5},105,{"$nulls":13},105,{"$nulls":4},105]
[{"$nulls":14},"最终",{"$f":"_xlfn.TEXTJOIN(\"^\",,P200:P214)","v":"0^0^0^0^0^0^0^0^0^0^100^0^0^0^0^0^0^0^0^0^0^100^0^0^0^0^0^0"},{"$nulls":12},"最终",{"$f":"_xlfn.TEXTJOIN(\"^\",,AD200:AD214)","v":"4^2^3^5^6^1^7^101^102^104^105^4^1^5^8^4^2^3^5^9^8^4^2^1^3^5^9^8^6^4^2^3^5^7^9^101^102^104^105"},{"$nulls":12},"最终",{"$f":"_xlfn.TEXTJOIN(\"^\",,AR199:AR214)","v":"100^0^0^0^0^0^0^0^0^0^0^0^0^0^0^0^0^100^0^0^0^0^0^0"},{"$nulls":12},"最终",{"$f":"_xlfn.TEXTJOIN(\"^\",,BF199:BF214)","v":"4^1^5^6^1^7^2^3^4^2^3^5^101^102^104^105^8^6^2^3^7^9^6^4^2^1^3^5^7^8^6^4^2^3^5^7^9"}]
[]
[null,null,"时间",5,15,30,45,50,65,81,98,105,120,{"$nulls":4},"时间",5,10,15,22,30,40,50,55,null,null,null,{"$f":"_xlfn.TEXTJOIN(\"^\",,S218:S226)","v":"5^5^5^5"},null,"时间",4,10,15,30,46,63,70,85,null,null,null,{"$f":"_xlfn.TEXTJOIN(\"^\",,AG218:AG226)","v":"12^6^4"},null,"时间",3,5,8,12,18,25,35,45,null,null,null,{"$f":"_xlfn.TEXTJOIN(\"^\",,AU218:AU226)","v":"3^3^3"}]
[null,null,8,{"$nulls":12},{"$f":"_xlfn.TEXTJOIN(\"^\",,D218:D227)","v":"2^5^2"},null,8,{"$nulls":4},{"$f":"W$217","v":30},{"$f":"X$217","v":40},{"$f":"Y$217","v":50},{"$nulls":4},{"$f":"_xlfn.TEXTJOIN(\"^\",,T218:T226)","v":"10^10^10"},null,8,{"$nulls":11},{"$f":"_xlfn.TEXTJOIN(\"^\",,AH218:AH226)","v":"2^4^5"},null,8,{"$nulls":5},{"$f":"AZ$217","v":25},null,{"$f":"BB$217","v":45},null,null,null,{"$f":"_xlfn.TEXTJOIN(\"^\",,AV218:AV226)","v":"5^5^5"}]
[null,null,6,{"$nulls":12},{"$f":"_xlfn.TEXTJOIN(\"^\",,E218:E227)","v":"8^3"},null,6,null,{"$f":"T$217","v":10},{"$nulls":4},50,{"$nulls":4},{"$f":"_xlfn.TEXTJOIN(\"^\",,U218:U226)","v":"15^15^15^15"},null,6,{"$nulls":11},{"$f":"_xlfn.TEXTJOIN(\"^\",,AI218:AI226)","v":"9^2"},null,6,null,{"$f":"AV$217","v":5},null,null,null,25,35,45,null,null,null,{"$f":"_xlfn.TEXTJOIN(\"^\",,AW218:AW226)","v":"8^8"}]
[null,null,4,{"$nulls":12},{"$f":"_xlfn.TEXTJOIN(\"^\",,F218:F227)","v":"3^4^2"},null,4,{"$f":"S$217","v":5},null,{"$f":"U$217","v":15},{"$f":"V$217","v":22},{"$f":"W$217","v":30},40,50,55,null,null,null,{"$f":"_xlfn.TEXTJOIN(\"^\",,V218:V226)","v":"22^22^22"},null,4,{"$nulls":11},{"$f":"_xlfn.TEXTJOIN(\"^\",,AJ218:AJ226)","v":"2^8^3"},null,4,{"$f":"AU$217","v":3},null,null,{"$f":"AX$217","v":12},18,null,35,45,null,null,null,{"$f":"_xlfn.TEXTJOIN(\"^\",,AX218:AX226)","v":"12^12^12^12"}]
[null,null,2,{"$nulls":12},{"$f":"_xlfn.TEXTJOIN(\"^\",,G218:G227)","v":"3^9"},null,2,5,null,15,null,30,40,{"$f":"Y$217","v":50},55,null,null,null,{"$f":"_xlfn.TEXTJOIN(\"^\",,W218:W226)","v":"30^30^30^30^30^30"},null,2,{"$nulls":11},{"$f":"_xlfn.TEXTJOIN(\"^\",,AK218:AK226)","v":"3^9^2"},null,2,null,null,{"$f":"AW$217","v":8},12,18,{"$f":"AZ$217","v":25},35,45,null,null,null,{"$f":"_xlfn.TEXTJOIN(\"^\",,AY218:AY226)","v":"18^18^18^18"}]
[null,null,1,2,8,3,3,6,3,2,4,8,2,null,null,{"$f":"_xlfn.TEXTJOIN(\"^\",,H218:H227)","v":"6^6"},null,1,null,{"$f":"T$217","v":10},null,{"$f":"V$217","v":22},null,40,{"$nulls":5},{"$f":"_xlfn.TEXTJOIN(\"^\",,X218:X226)","v":"40^40^40^40^40^40^40"},null,1,12,2,9,2,3,2,8,2,null,null,null,{"$f":"_xlfn.TEXTJOIN(\"^\",,AL218:AL226)","v":"2^9^3"},null,1,{"$f":"AU$217","v":3},{"$f":"AV$217","v":5},{"$nulls":4},35,{"$nulls":4},{"$f":"_xlfn.TEXTJOIN(\"^\",,AZ218:AZ226)","v":"25^25^25^25^25^25"}]
[null,null,3,5,3,4,9,6,7,3,7,2,2,null,null,{"$f":"_xlfn.TEXTJOIN(\"^\",,I218:I227)","v":"3^7^2"},null,3,{"$f":"S$217","v":5},null,{"$f":"U$217","v":15},null,{"$f":"W$217","v":30},40,50,55,null,null,null,{"$f":"_xlfn.TEXTJOIN(\"^\",,Y218:Y226)","v":"50^50^50^50^50^50^50^50"},null,3,6,4,2,8,9,9,2,7,null,null,null,{"$f":"_xlfn.TEXTJOIN(\"^\",,AM218:AM226)","v":"8^2^1"},null,3,null,null,{"$f":"AW$217","v":8},{"$f":"AX$217","v":12},18,{"$f":"AZ$217","v":25},35,45,null,null,null,{"$f":"_xlfn.TEXTJOIN(\"^\",,BA218:BA226)","v":"35^35^35^35^35^35^35"}]
[null,null,5,2,null,2,null,null,2,8,2,1,6,null,null,{"$f":"_xlfn.TEXTJOIN(\"^\",,J218:J227)","v":"2^3^8"},null,5,5,null,15,{"$f":"V$217","v":22},30,40,50,55,null,null,null,{"$f":"_xlfn.TEXTJOIN(\"^\",,Z218:Z226)","v":"55^55^55^55"},null,5,4,5,null,3,2,3,1,3,null,null,null,{"$f":"_xlfn.TEXTJOIN(\"^\",,AN218:AN226)","v":"2^7^3^2"},null,5,{"$f":"AU$217","v":3},null,null,12,18,null,35,45,null,null,null,{"$f":"_xlfn.TEXTJOIN(\"^\",,BB218:BB226)","v":"45^45^45^45^45^45^45^45"}]
[null,null,7,{"$nulls":9},3,null,null,{"$f":"_xlfn.TEXTJOIN(\"^\",,K218:K227)","v":"4^7^2"},null,7,null,{"$f":"T$217","v":10},{"$nulls":4},50,{"$nulls":4},{"$f":"_xlfn.TEXTJOIN(\"^\",,AA218:AA226)","v":""},null,7,{"$nulls":7},2,null,null,null,{"$f":"_xlfn.TEXTJOIN(\"^\",,AO218:AO226)","v":""},null,7,null,{"$f":"AV$217","v":5},null,null,null,{"$f":"AZ$217","v":25},35,45,null,null,null,{"$f":"_xlfn.TEXTJOIN(\"^\",,BC218:BC226)","v":""}]
[null,null,9,{"$nulls":12},{"$f":"_xlfn.TEXTJOIN(\"^\",,L218:L227)","v":"8^2^1"},null,9,{"$nulls":4},{"$f":"W$217","v":30},{"$f":"X$217","v":40},50,{"$nulls":4},{"$f":"_xlfn.TEXTJOIN(\"^\",,AB218:AB226)","v":""},null,9,{"$nulls":11},{"$f":"_xlfn.TEXTJOIN(\"^\",,AP218:AP226)","v":""},null,9,{"$nulls":5},25,null,45,null,null,null,{"$f":"_xlfn.TEXTJOIN(\"^\",,BD218:BD226)","v":""}]
[{"$nulls":15},{"$f":"_xlfn.TEXTJOIN(\"^\",,M218:M227)","v":"2^2^6^3"},{"$nulls":13},{"$f":"_xlfn.TEXTJOIN(\"^\",,AC218:AC226)","v":""},{"$nulls":13},{"$f":"_xlfn.TEXTJOIN(\"^\",,AQ218:AQ226)","v":""},{"$nulls":13},{"$f":"_xlfn.TEXTJOIN(\"^\",,BE218:BE226)","v":""}]
[{"$nulls":15},{"$f":"_xlfn.TEXTJOIN(\"^\",,N218:N227)","v":""},{"$nulls":12},"最终",{"$f":"_xlfn.TEXTJOIN(\"^\",,AD217:AD227)","v":"5^5^5^5^10^10^10^15^15^15^15^22^22^22^30^30^30^30^30^30^40^40^40^40^40^40^40^50^50^50^50^50^50^50^50^55^55^55^55"},{"$nulls":12},"最终",{"$f":"_xlfn.TEXTJOIN(\"^\",,AR217:AR227)","v":"12^6^4^2^4^5^9^2^2^8^3^3^9^2^2^9^3^8^2^1^2^7^3^2"},{"$nulls":12},"最终",{"$f":"_xlfn.TEXTJOIN(\"^\",,BF217:BF227)","v":"3^3^3^5^5^5^8^8^12^12^12^12^18^18^18^18^25^25^25^25^25^25^35^35^35^35^35^35^35^45^45^45^45^45^45^45^45"}]
[{"$nulls":14},"最终",{"$f":"_xlfn.TEXTJOIN(\"^\",,P218:P228)","v":"2^5^2^8^3^3^4^2^3^9^6^6^3^7^2^2^3^8^4^7^2^8^2^1^2^2^6^3"}]
[{"$nulls":15},{"$f":"SUM(D218:M226)","v":115},{"$nulls":13},{"$f":"COUNT(S218:AA226)","v":39},{"$nulls":13},{"$f":"SUM(AG218:AO226)","v":110},{"$nulls":13},{"$f":"COUNT(AU218:BC226)","v":37}]
[{"$nulls":57},{"$f":"SUM(L230:BF230)","v":301}]
[]
[{"$nulls":4},{"$f":"E234-D234","v":5},{"$f":"F234-E234","v":6},4,7,8,10,10,5,10,{"$nulls":6},{"$f":"T234-S234","v":5},5,6,7,7,5,10,{"$nulls":7},{"$f":"AH234-AG234","v":6},5,15,16,4,15,15,{"$nulls":7},{"$f":"AV234-AU234","v":2},3,4,6,7,10,10]
[1,"绿洲-5","波1·怪物",5,10,16,20,27,35,45,55,60,70,null,null,null,1,"波2·怪物",5,10,15,21,28,35,40,50,{"$nulls":4},3,"波3·怪物",4,10,15,30,46,50,65,80,{"$nulls":4},1,"波4·怪物",3,5,8,12,18,25,35,45]
[null,"5m",8,null,null,60402,null,60404,60404,60402,null,null,60402,null,null,{"$f":"_xlfn.TEXTJOIN(\"^\",,D235:D244)","v":"60404^60401^60401^60401^60404"},null,8,null,null,null,60404,null,60402,{"$nulls":5},{"$f":"_xlfn.TEXTJOIN(\"^\",,S235:S244)","v":"60405^60405^60405^60405"},null,8,{"$nulls":11},{"$f":"_xlfn.TEXTJOIN(\"^\",,AG235:AG244)","v":"60402^60404^60401"},null,8,{"$nulls":5},60402,null,60404,null,null,null,{"$f":"_xlfn.TEXTJOIN(\"^\",,AU235:AU244)","v":"60404^60403^60403^60404"}]
[null,null,6,60404,60401,60401,null,60402,null,60401,60404,null,60402,null,null,{"$f":"_xlfn.TEXTJOIN(\"^\",,E235:E244)","v":"60401^60402^60402^60402^60402^60401"},null,6,null,60402,60404,null,60402,null,null,60404,null,null,null,{"$f":"_xlfn.TEXTJOIN(\"^\",,T235:T244)","v":"60402^60402^60402"},null,6,{"$nulls":11},{"$f":"_xlfn.TEXTJOIN(\"^\",,AH235:AH244)","v":"60403^60401"},null,6,null,60402,null,60401,60404,null,60402,60402,null,null,null,{"$f":"_xlfn.TEXTJOIN(\"^\",,AV235:AV244)","v":"60402^60402^60402"}]
[null,null,4,null,60402,null,60405,null,60402,60401,60402,60405,null,null,null,{"$f":"_xlfn.TEXTJOIN(\"^\",,F235:F244)","v":"60402^60401^60403^60402^60403^60401^60402"},null,4,60405,null,null,60402,60402,60401,60405,60402,null,null,null,{"$f":"_xlfn.TEXTJOIN(\"^\",,U235:U244)","v":"60404^60403^60403^60404"},null,4,{"$nulls":11},{"$f":"_xlfn.TEXTJOIN(\"^\",,AI235:AI244)","v":"60405^60402"},null,4,60404,null,60405,60401,60402,60401,60401,60401,null,null,null,{"$f":"_xlfn.TEXTJOIN(\"^\",,AW235:AW244)","v":"60405^60405^60405^60405"}]
[null,null,2,60401,60402,60403,60405,60401,60403,60401,60403,60405,60403,null,null,{"$f":"_xlfn.TEXTJOIN(\"^\",,G235:G244)","v":"60405^60405^60405^60405^60405"},null,2,60405,null,60403,60401,60403,60403,60405,{"$nulls":4},{"$f":"_xlfn.TEXTJOIN(\"^\",,V235:V244)","v":"60404^60402^60401^60401^60402^60404"},null,2,{"$nulls":11},{"$f":"_xlfn.TEXTJOIN(\"^\",,AJ235:AJ244)","v":"60403^60402^60404"},null,2,60403,null,60405,null,60403,60401,60401,60403,null,null,null,{"$f":"_xlfn.TEXTJOIN(\"^\",,AX235:AX244)","v":"60401^60401^60401^60401^60401"}]
[null,null,1,60401,null,60402,60405,60401,60402,60402,60402,60405,60409,null,null,{"$f":"_xlfn.TEXTJOIN(\"^\",,H235:H244)","v":"60404^60402^60401^60401^60401^60402^60404"},null,1,null,60402,null,null,60404,60402,60405,60406,null,null,null,{"$f":"_xlfn.TEXTJOIN(\"^\",,W235:W244)","v":"60402^60402^60403^60404^60403^60402^60402"},null,1,60402,60403,60405,60403,60402,60405,60404,60403,null,null,null,{"$f":"_xlfn.TEXTJOIN(\"^\",,AK235:AK244)","v":"60402^60401"},null,1,null,60402,null,60401,null,60404,60404,{"$nulls":4},{"$f":"_xlfn.TEXTJOIN(\"^\",,AY235:AY244)","v":"60404^60402^60403^60403^60402^60404"}]
[null,null,3,60401,60402,60403,60405,60401,60403,60401,60403,60405,60403,null,null,{"$f":"_xlfn.TEXTJOIN(\"^\",,I235:I244)","v":"60404^60402^60403^60402^60403^60402^60404"},null,3,60405,null,60403,60401,60403,60403,60405,{"$nulls":4},{"$f":"_xlfn.TEXTJOIN(\"^\",,X235:X244)","v":"60402^60401^60403^60402^60403^60401^60402"},null,3,60404,60401,60402,60402,60401,60404,60403,60401,null,null,null,{"$f":"_xlfn.TEXTJOIN(\"^\",,AL235:AL244)","v":"60405^60404^60409"},null,3,60403,null,60405,null,60403,60401,60401,60403,null,null,null,{"$f":"_xlfn.TEXTJOIN(\"^\",,AZ235:AZ244)","v":"60402^60401^60401^60404^60401^60401^60402"}]
[null,null,5,null,60402,null,60405,null,60402,60401,60402,60405,null,null,null,{"$f":"_xlfn.TEXTJOIN(\"^\",,J235:J244)","v":"60402^60401^60401^60401^60402^60401^60401^60401^60402"},null,5,60405,null,null,60402,60402,60401,60405,60409,null,null,null,{"$f":"_xlfn.TEXTJOIN(\"^\",,Y235:Y244)","v":"60405^60405^60405^60405^60405"},null,5,60401,null,null,60404,null,60409,60402,60402,null,null,null,{"$f":"_xlfn.TEXTJOIN(\"^\",,AM235:AM244)","v":"60404^60403^60402"},null,5,60404,null,60405,60401,60402,60401,60401,60401,null,null,null,{"$f":"_xlfn.TEXTJOIN(\"^\",,BA235:BA244)","v":"60402^60401^60401^60404^60401^60401^60402"}]
[null,null,7,60404,60401,60401,null,60402,null,60401,60404,null,60402,null,null,{"$f":"_xlfn.TEXTJOIN(\"^\",,K235:K244)","v":"60404^60402^60403^60402^60403^60402^60404"},null,7,null,60402,60404,null,60402,null,null,60404,null,null,null,{"$f":"_xlfn.TEXTJOIN(\"^\",,Z235:Z244)","v":"60404^60402^60406^60409^60404"},null,7,{"$nulls":11},{"$f":"_xlfn.TEXTJOIN(\"^\",,AN235:AN244)","v":"60403^60401^60402"},null,7,null,60402,null,60401,60404,null,60402,60402,null,null,null,{"$f":"_xlfn.TEXTJOIN(\"^\",,BB235:BB244)","v":"60404^60402^60401^60403^60403^60401^60402^60404"}]
[null,null,9,null,null,60402,null,60404,60404,60402,null,null,60402,null,null,{"$f":"_xlfn.TEXTJOIN(\"^\",,L235:L244)","v":"60405^60405^60405^60405^60405"},null,9,null,null,null,60404,null,60402,{"$nulls":5},{"$f":"_xlfn.TEXTJOIN(\"^\",,AA235:AA244)","v":""},null,9,{"$nulls":11},{"$f":"_xlfn.TEXTJOIN(\"^\",,AO235:AO244)","v":""},null,9,{"$nulls":5},60402,null,60404,null,null,null,{"$f":"_xlfn.TEXTJOIN(\"^\",,BC235:BC244)","v":""}]
[{"$nulls":15},{"$f":"_xlfn.TEXTJOIN(\"^\",,M235:M244)","v":"60402^60402^60403^60409^60403^60402^60402"},{"$nulls":13},{"$f":"_xlfn.TEXTJOIN(\"^\",,AB235:AB244)","v":""},{"$nulls":13},{"$f":"_xlfn.TEXTJOIN(\"^\",,AP235:AP244)","v":""},{"$nulls":13},{"$f":"_xlfn.TEXTJOIN(\"^\",,BD235:BD244)","v":""}]
[{"$nulls":15},{"$f":"_xlfn.TEXTJOIN(\"^\",,N235:N244)","v":""},{"$nulls":13},{"$f":"_xlfn.TEXTJOIN(\"^\",,AC235:AC244)","v":""},{"$nulls":13},{"$f":"_xlfn.TEXTJOIN(\"^\",,AQ235:AQ244)","v":""},{"$nulls":13},{"$f":"_xlfn.TEXTJOIN(\"^\",,BE235:BE244)","v":""}]
[{"$nulls":14},"最终",{"$f":"_xlfn.TEXTJOIN(\"^\",,P235:P245)","v":"60404^60401^60401^60401^60404^60401^60402^60402^60402^60402^60401^60402^60401^60403^60402^60403^60401^60402^60405^60405^60405^60405^60405^60404^60402^60401^60401^60401^60402^60404^60404^60402^60403^60402^60403^60402^60404^60402^60401^60401^60401^60402^60401^60401^60401^60402^60404^60402^60403^60402^60403^60402^60404^60405^60405^60405^60405^60405^60402^60402^60403^60409^60403^60402^60402"},{"$nulls":12},"最终",{"$f":"_xlfn.TEXTJOIN(\"^\",,AD235:AD245)","v":"60405^60405^60405^60405^60402^60402^60402^60404^60403^60403^60404^60404^60402^60401^60401^60402^60404^60402^60402^60403^60404^60403^60402^60402^60402^60401^60403^60402^60403^60401^60402^60405^60405^60405^60405^60405^60404^60402^60406^60409^60404"},{"$nulls":12},"最终",{"$f":"_xlfn.TEXTJOIN(\"^\",,AR235:AR245)","v":"60402^60404^60401^60403^60401^60405^60402^60403^60402^60404^60402^60401^60405^60404^60409^60404^60403^60402^60403^60401^60402"},{"$nulls":12},"最终",{"$f":"_xlfn.TEXTJOIN(\"^\",,BF235:BF245)","v":"60404^60403^60403^60404^60402^60402^60402^60405^60405^60405^60405^60401^60401^60401^60401^60401^60404^60402^60403^60403^60402^60404^60402^60401^60401^60404^60401^60401^60402^60402^60401^60401^60404^60401^60401^60402^60404^60402^60401^60403^60403^60401^60402^60404"}]
[null,null,8,null,null,"孢子人",null,"木精灵","木精灵","孢子人",null,null,"孢子人",{"$nulls":4},8,null,null,null,"木精灵",null,"孢子人",{"$nulls":7},8,{"$nulls":13},8,{"$nulls":5},"孢子人",null,"木精灵"]
[null,null,6,"木精灵","树精","树精",null,"孢子人",null,"树精","木精灵",null,"孢子人",{"$nulls":4},6,null,"孢子人","木精灵",null,"孢子人",null,null,"木精灵",{"$nulls":5},6,{"$nulls":13},6,null,"孢子人",null,"树精","木精灵",null,"孢子人","孢子人"]
[null,null,4,null,"孢子人",null,"森林蜘蛛",null,"孢子人","树精","孢子人","森林蜘蛛",{"$nulls":5},4,"森林蜘蛛",null,null,"孢子人","孢子人","树精","森林蜘蛛","孢子人",{"$nulls":5},4,{"$nulls":13},4,"木精灵",null,"森林蜘蛛","树精","孢子人","树精","树精","树精"]
[null,null,2,"树精","孢子人","哥布林","森林蜘蛛","树精","哥布林","树精","哥布林","森林蜘蛛","哥布林",{"$nulls":4},2,"森林蜘蛛",null,"哥布林","树精","哥布林","哥布林","森林蜘蛛",{"$nulls":6},2,{"$nulls":13},2,"哥布林",null,"森林蜘蛛",null,"哥布林","树精","树精","哥布林"]
[null,null,1,"树精",null,"孢子人","森林蜘蛛","树精","孢子人","孢子人","孢子人","森林蜘蛛","黑暗法师",{"$nulls":4},1,null,"孢子人",null,null,"木精灵","孢子人","森林蜘蛛","森林巨兽",{"$nulls":5},1,"孢子人","哥布林","森林蜘蛛","哥布林","孢子人","森林蜘蛛","木精灵","哥布林",{"$nulls":5},1,null,"孢子人",null,"树精",null,"木精灵","哥布林"]
[null,null,3,"树精","孢子人","哥布林","森林蜘蛛","树精","哥布林","树精","哥布林","森林蜘蛛","哥布林",{"$nulls":4},3,"森林蜘蛛",null,"哥布林","树精","哥布林","哥布林","森林蜘蛛",{"$nulls":6},3,"木精灵","树精","孢子人","孢子人","树精","木精灵","哥布林","树精",{"$nulls":5},3,"哥布林",null,"森林蜘蛛",null,"哥布林","树精","树精","哥布林"]
[null,null,5,null,"孢子人",null,"森林蜘蛛",null,"孢子人","树精","孢子人","森林蜘蛛",{"$nulls":5},5,"森林蜘蛛",null,null,"孢子人","孢子人","树精","森林蜘蛛","黑暗法师",{"$nulls":5},5,"树精",null,null,"木精灵",null,"黑暗法师","孢子人","孢子人",{"$nulls":5},5,"木精灵",null,"森林蜘蛛","树精","孢子人","树精","树精","树精"]
[null,null,7,"木精灵","树精","树精",null,"孢子人",null,"树精","木精灵",null,"孢子人",{"$nulls":4},7,null,"孢子人","木精灵",null,"孢子人",null,null,"木精灵",{"$nulls":5},7,{"$nulls":13},7,null,"孢子人",null,"树精","木精灵",null,"孢子人","孢子人"]
[null,null,9,null,null,"孢子人",null,"木精灵","木精灵","孢子人",null,null,"孢子人",{"$nulls":4},9,null,null,null,"木精灵",null,"孢子人",{"$nulls":7},9,{"$nulls":13},9,{"$nulls":5},"孢子人",null,"木精灵"]
[]
[null,null,"位置",5,10,16,20,27,35,45,55,60,70,{"$nulls":4},"位置",5,10,15,21,28,35,40,50,{"$nulls":5},"位置",4,10,15,30,46,50,65,80,null,null,null,{"$f":"_xlfn.TEXTJOIN(\"^\",,AG258:AG272)","v":"0^0^0"},null,"位置",3,5,8,12,18,25,35,45,null,null,null,{"$f":"_xlfn.TEXTJOIN(\"^\",,AU258:AU272)","v":"4^2^3^5"}]
[null,null,8,null,null,{"$f":"$C258","v":8},null,{"$f":"$C258","v":8},{"$f":"$C258","v":8},{"$f":"$C258","v":8},null,null,{"$f":"$C258","v":8},null,null,{"$f":"_xlfn.TEXTJOIN(\"^\",,D258:D272)","v":"6^2^1^3^7"},null,8,null,null,null,{"$f":"$C258","v":8},null,{"$f":"$C258","v":8},{"$nulls":7},8,{"$nulls":11},{"$f":"_xlfn.TEXTJOIN(\"^\",,AH258:AH272)","v":"0^0"},null,8,{"$nulls":5},{"$f":"$C258","v":8},null,{"$f":"$C258","v":8},null,null,null,{"$f":"_xlfn.TEXTJOIN(\"^\",,AV258:AV272)","v":"6^1^7"}]
[null,null,6,{"$f":"$C259","v":6},6,6,null,6,null,6,6,null,6,null,null,{"$f":"_xlfn.TEXTJOIN(\"^\",,E258:E272)","v":"6^4^2^3^5^7"},null,6,null,{"$f":"$C259","v":6},{"$f":"$C259","v":6},null,{"$f":"$C259","v":6},null,null,{"$f":"$C259","v":6},null,null,null,{"$f":"_xlfn.TEXTJOIN(\"^\",,S258:S272)","v":"101^102^104^105"},null,6,{"$nulls":11},{"$f":"_xlfn.TEXTJOIN(\"^\",,AI258:AI272)","v":"100^0"},null,6,null,{"$f":"$C259","v":6},null,{"$f":"$C259","v":6},6,null,{"$f":"$C259","v":6},6,null,null,null,{"$f":"_xlfn.TEXTJOIN(\"^\",,AW258:AW272)","v":"101^102^104^105"}]
[null,null,4,null,4,null,null,null,{"$f":"$C260","v":4},4,4,{"$nulls":4},{"$f":"_xlfn.TEXTJOIN(\"^\",,F258:F272)","v":"8^6^2^1^3^7^9"},null,4,null,null,null,{"$f":"$C260","v":4},4,4,null,4,null,null,null,{"$f":"_xlfn.TEXTJOIN(\"^\",,T258:T272)","v":"6^1^7"},null,4,{"$nulls":11},{"$f":"_xlfn.TEXTJOIN(\"^\",,AJ258:AJ272)","v":"0^0^0"},null,4,{"$f":"$C260","v":4},null,null,4,4,4,4,4,null,null,null,{"$f":"_xlfn.TEXTJOIN(\"^\",,AX258:AX272)","v":"6^4^1^5^7"}]
[null,null,2,{"$f":"$C261","v":2},2,{"$f":"$C261","v":2},null,{"$f":"$C261","v":2},2,2,2,null,{"$f":"$C261","v":2},null,null,{"$f":"_xlfn.TEXTJOIN(\"^\",,G258:G272)","v":"101^102^103^104^105"},null,2,null,null,{"$f":"$C261","v":2},2,2,2,{"$nulls":5},{"$f":"_xlfn.TEXTJOIN(\"^\",,U258:U272)","v":"6^2^3^7"},null,2,{"$nulls":11},{"$f":"_xlfn.TEXTJOIN(\"^\",,AK258:AK272)","v":"0^0"},null,2,2,null,null,null,{"$f":"$C261","v":2},2,2,2,null,null,null,{"$f":"_xlfn.TEXTJOIN(\"^\",,AY258:AY272)","v":"6^4^2^3^5^7"}]
[null,null,1,1,null,{"$f":"$C262","v":1},null,1,1,1,1,null,1,null,null,{"$f":"_xlfn.TEXTJOIN(\"^\",,H258:H272)","v":"8^6^2^1^3^7^9"},null,1,null,{"$f":"$C262","v":1},null,null,1,1,null,{"$f":"$C262","v":1},null,null,null,{"$f":"_xlfn.TEXTJOIN(\"^\",,V258:V272)","v":"8^4^2^3^5^9"},null,1,0,0,100,0,0,100,0,0,null,null,null,{"$f":"_xlfn.TEXTJOIN(\"^\",,AL258:AL272)","v":"100^0^0"},null,1,null,{"$f":"$C262","v":1},null,{"$f":"$C262","v":1},null,1,1,{"$nulls":4},{"$f":"_xlfn.TEXTJOIN(\"^\",,AZ258:AZ272)","v":"8^4^2^1^3^5^9"}]
[null,null,3,3,3,{"$f":"$C263","v":3},null,3,3,3,3,null,3,null,null,{"$f":"_xlfn.TEXTJOIN(\"^\",,I258:I272)","v":"8^4^2^1^3^5^9"},null,3,null,null,{"$f":"$C263","v":3},{"$f":"$C263","v":3},3,3,{"$nulls":5},{"$f":"_xlfn.TEXTJOIN(\"^\",,W258:W272)","v":"6^4^2^1^3^5^7"},null,3,0,0,0,0,0,0,0,0,null,null,null,{"$f":"_xlfn.TEXTJOIN(\"^\",,AM258:AM272)","v":"0^0^0"},null,3,{"$f":"$C263","v":3},null,null,null,{"$f":"$C263","v":3},3,3,3,null,null,null,{"$f":"_xlfn.TEXTJOIN(\"^\",,BA258:BA272)","v":"6^4^2^1^3^5^7"}]
[null,null,5,null,5,null,null,null,5,5,5,{"$nulls":4},{"$f":"_xlfn.TEXTJOIN(\"^\",,J258:J272)","v":"8^6^4^2^1^3^5^7^9"},null,5,null,null,null,5,5,5,null,{"$f":"$C264","v":5},null,null,null,{"$f":"_xlfn.TEXTJOIN(\"^\",,X258:X272)","v":"8^4^2^1^3^5^9"},null,5,0,null,null,0,null,0,0,0,null,null,null,{"$f":"_xlfn.TEXTJOIN(\"^\",,AN258:AN272)","v":"0^0^0"},null,5,5,null,null,{"$f":"$C264","v":5},5,5,5,5,null,null,null,{"$f":"_xlfn.TEXTJOIN(\"^\",,BB258:BB272)","v":"8^6^4^2^3^5^7^9"}]
[null,null,7,{"$f":"$C265","v":7},7,7,null,{"$f":"$C265","v":7},null,7,7,null,{"$f":"$C265","v":7},null,null,{"$f":"_xlfn.TEXTJOIN(\"^\",,K258:K272)","v":"6^4^2^1^3^5^7"},null,7,null,{"$f":"$C265","v":7},{"$f":"$C265","v":7},null,7,null,null,7,null,null,null,{"$f":"_xlfn.TEXTJOIN(\"^\",,Y258:Y272)","v":"101^102^103^104^105"},null,7,{"$nulls":11},{"$f":"_xlfn.TEXTJOIN(\"^\",,AO258:AO272)","v":""},null,7,null,{"$f":"$C265","v":7},null,7,7,null,7,7,null,null,null,{"$f":"_xlfn.TEXTJOIN(\"^\",,BC258:BC272)","v":""}]
[null,null,9,null,null,9,null,9,{"$f":"$C266","v":9},9,null,null,9,null,null,{"$f":"_xlfn.TEXTJOIN(\"^\",,L258:L272)","v":"101^102^103^104^105"},null,9,null,null,null,{"$f":"$C266","v":9},null,{"$f":"$C266","v":9},{"$nulls":7},9,{"$nulls":11},{"$f":"_xlfn.TEXTJOIN(\"^\",,AP258:AP272)","v":""},null,9,{"$nulls":5},{"$f":"$C266","v":9},null,9,null,null,null,{"$f":"_xlfn.TEXTJOIN(\"^\",,BD258:BD272)","v":""}]
[null,null,"空降",{"$nulls":12},{"$f":"_xlfn.TEXTJOIN(\"^\",,M258:M272)","v":"8^6^2^1^3^7^9"},null,"空降",{"$nulls":13},"空降",{"$nulls":11},{"$f":"_xlfn.TEXTJOIN(\"^\",,AQ258:AQ266)","v":""},null,"空降",{"$nulls":11},{"$f":"_xlfn.TEXTJOIN(\"^\",,BE258:BE266)","v":""}]
[null,null,101,null,null,null,{"$f":"$C268","v":101},{"$nulls":4},{"$f":"$C268","v":101},null,null,null,{"$f":"_xlfn.TEXTJOIN(\"^\",,N258:N272)","v":""},null,101,{"$f":"$C268","v":101},{"$nulls":5},{"$f":"$C268","v":101},{"$nulls":4},{"$f":"_xlfn.TEXTJOIN(\"^\",,Z258:Z272)","v":"6^4^1^5^7"},null,101,{"$nulls":13},101,null,null,{"$f":"$C268","v":101}]
[null,null,102,null,null,null,102,{"$nulls":4},{"$f":"$C269","v":102},{"$nulls":5},102,102,{"$nulls":5},102,{"$nulls":4},{"$f":"_xlfn.TEXTJOIN(\"^\",,AA258:AA272)","v":""},null,102,{"$nulls":13},102,null,null,102]
[null,null,103,null,null,null,103,{"$nulls":4},{"$f":"$C270","v":103},{"$nulls":5},103,{"$nulls":6},103,{"$nulls":4},{"$f":"_xlfn.TEXTJOIN(\"^\",,AB258:AB272)","v":""},null,103,{"$nulls":13},103]
[null,null,104,null,null,null,104,{"$nulls":4},{"$f":"$C271","v":104},{"$nulls":5},104,{"$f":"$C271","v":104},{"$nulls":5},104,{"$nulls":6},104,{"$nulls":13},104,null,null,{"$f":"$C271","v":104}]
[null,null,105,null,null,null,105,{"$nulls":4},105,{"$nulls":5},105,105,{"$nulls":5},105,{"$nulls":6},105,{"$nulls":13},105,null,null,105]
[{"$nulls":14},"最终",{"$f":"_xlfn.TEXTJOIN(\"^\",,P258:P272)","v":"6^2^1^3^7^6^4^2^3^5^7^8^6^2^1^3^7^9^101^102^103^104^105^8^6^2^1^3^7^9^8^4^2^1^3^5^9^8^6^4^2^1^3^5^7^9^6^4^2^1^3^5^7^101^102^103^104^105^8^6^2^1^3^7^9"},{"$nulls":12},"最终",{"$f":"_xlfn.TEXTJOIN(\"^\",,AD258:AD272)","v":"101^102^104^105^6^1^7^6^2^3^7^8^4^2^3^5^9^6^4^2^1^3^5^7^8^4^2^1^3^5^9^101^102^103^104^105^6^4^1^5^7"},{"$nulls":12},"最终",{"$f":"_xlfn.TEXTJOIN(\"^\",,AR257:AR272)","v":"0^0^0^0^0^100^0^0^0^0^0^0^100^0^0^0^0^0^0^0^0"},{"$nulls":12},"最终",{"$f":"_xlfn.TEXTJOIN(\"^\",,BF257:BF272)","v":"4^2^3^5^6^1^7^101^102^104^105^6^4^1^5^7^6^4^2^3^5^7^8^4^2^1^3^5^9^6^4^2^1^3^5^7^8^6^4^2^3^5^7^9"}]
[]
[null,null,"时间",5,10,16,20,27,35,45,55,60,70,{"$nulls":4},"时间",5,10,15,21,28,35,40,50,null,null,null,{"$f":"_xlfn.TEXTJOIN(\"^\",,S276:S284)","v":"5^5^5^5"},null,"时间",4,10,15,30,46,50,65,80,null,null,null,{"$f":"_xlfn.TEXTJOIN(\"^\",,AG276:AG284)","v":"6^3^14"},null,"时间",3,5,8,12,18,25,35,45,null,null,null,{"$f":"_xlfn.TEXTJOIN(\"^\",,AU276:AU284)","v":"3^3^3^3"}]
[null,null,8,null,null,{"$f":"F$275","v":16},null,{"$f":"H$275","v":27},{"$f":"I$275","v":35},{"$f":"J$275","v":45},null,null,{"$f":"M$275","v":70},null,null,{"$f":"_xlfn.TEXTJOIN(\"^\",,D276:D285)","v":"5^5^5^5^5"},null,8,null,null,null,{"$f":"V$275","v":21},null,{"$f":"X$275","v":35},{"$nulls":5},{"$f":"_xlfn.TEXTJOIN(\"^\",,T276:T284)","v":"10^10^10"},null,8,{"$nulls":11},{"$f":"_xlfn.TEXTJOIN(\"^\",,AH276:AH284)","v":"3^8"},null,8,{"$nulls":5},{"$f":"AZ$275","v":25},null,{"$f":"BB$275","v":45},null,null,null,{"$f":"_xlfn.TEXTJOIN(\"^\",,AV276:AV284)","v":"5^5^5"}]
[null,null,6,{"$f":"D$275","v":5},10,16,null,27,null,45,55,null,70,null,null,{"$f":"_xlfn.TEXTJOIN(\"^\",,E276:E285)","v":"10^10^10^10^10^10"},null,6,null,{"$f":"T$275","v":10},{"$f":"U$275","v":15},null,{"$f":"W$275","v":28},null,null,{"$f":"Z$275","v":50},null,null,null,{"$f":"_xlfn.TEXTJOIN(\"^\",,U276:U284)","v":"15^15^15^15"},null,6,{"$nulls":11},{"$f":"_xlfn.TEXTJOIN(\"^\",,AI276:AI284)","v":"8^3"},null,6,null,{"$f":"AV$275","v":5},null,{"$f":"AX$275","v":12},18,null,{"$f":"BA$275","v":35},45,null,null,null,{"$f":"_xlfn.TEXTJOIN(\"^\",,AW276:AW284)","v":"8^8^8^8"}]
[null,null,4,null,10,null,{"$f":"G$275","v":20},null,{"$f":"I$275","v":35},45,55,60,null,null,null,{"$f":"_xlfn.TEXTJOIN(\"^\",,F276:F285)","v":"16^16^16^16^16^16^16"},null,4,{"$f":"S$275","v":5},null,null,{"$f":"V$275","v":21},28,35,40,50,null,null,null,{"$f":"_xlfn.TEXTJOIN(\"^\",,V276:V284)","v":"21^21^21^21^21^21"},null,4,{"$nulls":11},{"$f":"_xlfn.TEXTJOIN(\"^\",,AJ276:AJ284)","v":"3^4^2"},null,4,{"$f":"AU$275","v":3},null,{"$f":"AW$275","v":8},12,18,25,35,45,null,null,null,{"$f":"_xlfn.TEXTJOIN(\"^\",,AX276:AX284)","v":"12^12^12^12^12"}]
[null,null,2,{"$f":"D$275","v":5},10,{"$f":"F$275","v":16},20,27,35,45,55,60,70,null,null,{"$f":"_xlfn.TEXTJOIN(\"^\",,G276:G285)","v":"20^20^20^20^20"},null,2,5,null,{"$f":"U$275","v":15},21,28,35,40,{"$nulls":4},{"$f":"_xlfn.TEXTJOIN(\"^\",,W276:W284)","v":"28^28^28^28^28^28^28"},null,2,{"$nulls":11},{"$f":"_xlfn.TEXTJOIN(\"^\",,AK276:AK284)","v":"4^7"},null,2,3,null,8,null,18,25,35,45,null,null,null,{"$f":"_xlfn.TEXTJOIN(\"^\",,AY276:AY284)","v":"18^18^18^18^18^18"}]
[null,null,1,5,null,{"$f":"F$275","v":16},20,27,35,45,55,60,70,null,null,{"$f":"_xlfn.TEXTJOIN(\"^\",,H276:H285)","v":"27^27^27^27^27^27^27"},null,1,null,{"$f":"T$275","v":10},null,null,28,35,40,{"$f":"Z$275","v":50},null,null,null,{"$f":"_xlfn.TEXTJOIN(\"^\",,X276:X284)","v":"35^35^35^35^35^35^35"},null,1,6,3,8,3,4,8,2,2,null,null,null,{"$f":"_xlfn.TEXTJOIN(\"^\",,AL276:AL284)","v":"8^2^2"},null,1,null,{"$f":"AV$275","v":5},null,{"$f":"AX$275","v":12},null,25,35,{"$nulls":4},{"$f":"_xlfn.TEXTJOIN(\"^\",,AZ276:AZ284)","v":"25^25^25^25^25^25^25"}]
[null,null,3,5,10,{"$f":"F$275","v":16},20,27,35,45,55,60,70,null,null,{"$f":"_xlfn.TEXTJOIN(\"^\",,I276:I285)","v":"35^35^35^35^35^35^35"},null,3,{"$f":"S$275","v":5},null,{"$f":"U$275","v":15},{"$f":"V$275","v":21},28,35,40,{"$nulls":4},{"$f":"_xlfn.TEXTJOIN(\"^\",,Y276:Y284)","v":"40^40^40^40^40"},null,3,3,8,3,4,7,2,3,8,null,null,null,{"$f":"_xlfn.TEXTJOIN(\"^\",,AM276:AM284)","v":"2^3^4"},null,3,{"$f":"AU$275","v":3},null,{"$f":"AW$275","v":8},null,{"$f":"AY$275","v":18},25,35,45,null,null,null,{"$f":"_xlfn.TEXTJOIN(\"^\",,BA276:BA284)","v":"35^35^35^35^35^35^35"}]
[null,null,5,null,10,null,20,null,35,45,55,60,null,null,null,{"$f":"_xlfn.TEXTJOIN(\"^\",,J276:J285)","v":"45^45^45^45^45^45^45^45^45"},null,5,5,null,null,21,28,35,40,50,null,null,null,{"$f":"_xlfn.TEXTJOIN(\"^\",,Z276:Z284)","v":"50^50^50^50^50"},null,5,14,null,null,2,null,2,4,3,null,null,null,{"$f":"_xlfn.TEXTJOIN(\"^\",,AN276:AN284)","v":"2^8^3"},null,5,3,null,8,12,18,25,35,45,null,null,null,{"$f":"_xlfn.TEXTJOIN(\"^\",,BB276:BB284)","v":"45^45^45^45^45^45^45^45"}]
[null,null,7,{"$f":"D$275","v":5},{"$f":"E$275","v":10},{"$f":"F$275","v":16},null,{"$f":"H$275","v":27},null,45,55,null,{"$f":"M$275","v":70},null,null,{"$f":"_xlfn.TEXTJOIN(\"^\",,K276:K285)","v":"55^55^55^55^55^55^55"},null,7,null,{"$f":"T$275","v":10},{"$f":"U$275","v":15},null,28,null,null,50,null,null,null,{"$f":"_xlfn.TEXTJOIN(\"^\",,AA276:AA284)","v":""},null,7,{"$nulls":11},{"$f":"_xlfn.TEXTJOIN(\"^\",,AO276:AO284)","v":""},null,7,null,{"$f":"AV$275","v":5},null,12,18,null,35,45,null,null,null,{"$f":"_xlfn.TEXTJOIN(\"^\",,BC276:BC284)","v":""}]
[null,null,9,null,null,16,null,27,{"$f":"I$275","v":35},45,null,null,70,null,null,{"$f":"_xlfn.TEXTJOIN(\"^\",,L276:L285)","v":"60^60^60^60^60"},null,9,null,null,null,{"$f":"V$275","v":21},null,{"$f":"X$275","v":35},{"$nulls":5},{"$f":"_xlfn.TEXTJOIN(\"^\",,AB276:AB284)","v":""},null,9,{"$nulls":11},{"$f":"_xlfn.TEXTJOIN(\"^\",,AP276:AP284)","v":""},null,9,{"$nulls":5},{"$f":"AZ$275","v":25},null,45,null,null,null,{"$f":"_xlfn.TEXTJOIN(\"^\",,BD276:BD284)","v":""}]
[{"$nulls":15},{"$f":"_xlfn.TEXTJOIN(\"^\",,M276:M285)","v":"70^70^70^70^70^70^70"},{"$nulls":13},{"$f":"_xlfn.TEXTJOIN(\"^\",,AC276:AC284)","v":""},{"$nulls":13},{"$f":"_xlfn.TEXTJOIN(\"^\",,AQ276:AQ284)","v":""},{"$nulls":13},{"$f":"_xlfn.TEXTJOIN(\"^\",,BE276:BE284)","v":""}]
[{"$nulls":15},{"$f":"_xlfn.TEXTJOIN(\"^\",,N276:N285)","v":""},{"$nulls":12},"最终",{"$f":"_xlfn.TEXTJOIN(\"^\",,AD275:AD285)","v":"5^5^5^5^10^10^10^15^15^15^15^21^21^21^21^21^21^28^28^28^28^28^28^28^35^35^35^35^35^35^35^40^40^40^40^40^50^50^50^50^50"},{"$nulls":12},"最终",{"$f":"_xlfn.TEXTJOIN(\"^\",,AR275:AR285)","v":"6^3^14^3^8^8^3^3^4^2^4^7^8^2^2^2^3^4^2^8^3"},{"$nulls":12},"最终",{"$f":"_xlfn.TEXTJOIN(\"^\",,BF275:BF285)","v":"3^3^3^3^5^5^5^8^8^8^8^12^12^12^12^12^18^18^18^18^18^18^25^25^25^25^25^25^25^35^35^35^35^35^35^35^45^45^45^45^45^45^45^45"}]
[{"$nulls":14},"最终",{"$f":"_xlfn.TEXTJOIN(\"^\",,P276:P286)","v":"5^5^5^5^5^10^10^10^10^10^10^16^16^16^16^16^16^16^20^20^20^20^20^27^27^27^27^27^27^27^35^35^35^35^35^35^35^45^45^45^45^45^45^45^45^45^55^55^55^55^55^55^55^60^60^60^60^60^70^70^70^70^70^70^70"}]
[{"$nulls":15},{"$f":"COUNT(D276:M284)","v":65},{"$nulls":13},{"$f":"COUNT(S276:AA284)","v":41},{"$nulls":13},{"$f":"SUM(AG276:AO284)","v":99},{"$nulls":13},{"$f":"COUNT(AU276:BC284)","v":44}]
[{"$nulls":57},{"$f":"SUM(L288:BF288)","v":249}]

{"sheet":"9","index":9,"n_rows":289,"n_cols":58,"rows_kept":289,"cut":false,"hidden":false,"merged":[]}
[{"$nulls":4},{"$f":"E2-D2","v":10},{"$f":"F2-E2","v":15},16,4,16,17,17,15,5,{"$nulls":6},{"$f":"T2-S2","v":5},5,5,7,8,10,10,{"$nulls":7},{"$f":"AH2-AG2","v":2},3,4,8,10,10,10,{"$nulls":7},{"$f":"AV2-AU2","v":2},2,2,2,7,8,10]
[3,"荒林-1","波1·怪物",5,15,30,46,50,66,83,100,115,120,null,null,null,1,"波2·怪物",5,10,15,20,27,35,45,55,{"$nulls":4},1,"波3·怪物",3,5,8,12,20,30,40,50,{"$nulls":4},1,"波4·怪物",2,4,6,8,10,17,25,35]
[null,"5m",8,{"$nulls":12},{"$f":"_xlfn.TEXTJOIN(\"^\",,D3:D12)","v":"60411^60412"},null,8,{"$nulls":5},60414,null,60414,null,null,null,{"$f":"_xlfn.TEXTJOIN(\"^\",,S3:S12)","v":"60414^60412^60412^60414"},null,8,{"$nulls":4},60414,null,null,60414,null,null,null,{"$f":"_xlfn.TEXTJOIN(\"^\",,AG3:AG12)","v":"60415^60415^60415^60415^60415"},null,8,{"$nulls":7},60412,null,null,null,{"$f":"_xlfn.TEXTJOIN(\"^\",,AU3:AU12)","v":"60413^60413"}]
[null,null,6,{"$nulls":12},{"$f":"_xlfn.TEXTJOIN(\"^\",,E3:E12)","v":"60412^60411"},null,6,null,null,60411,null,60412,60412,60412,60412,null,null,null,{"$f":"_xlfn.TEXTJOIN(\"^\",,T3:T12)","v":"60413^60413^60413"},null,6,null,60412,null,60412,60412,60412,60412,60412,null,null,null,{"$f":"_xlfn.TEXTJOIN(\"^\",,AH3:AH12)","v":"60412^60411^60412^60411^60412"},null,6,null,null,null,60411,null,60414,60412,60412,null,null,null,{"$f":"_xlfn.TEXTJOIN(\"^\",,AV3:AV12)","v":"60412^60412^60412"}]
[null,null,4,{"$nulls":12},{"$f":"_xlfn.TEXTJOIN(\"^\",,F3:F12)","v":"60413^60414^60412"},null,4,60414,60413,60411,60415,60411,60411,60411,60411,null,null,null,{"$f":"_xlfn.TEXTJOIN(\"^\",,U3:U12)","v":"60411^60411^60411^60411"},null,4,60415,null,60414,60413,60411,60411,60412,60411,null,null,null,{"$f":"_xlfn.TEXTJOIN(\"^\",,AI3:AI12)","v":"60414^60411^60411^60411^60414"},null,4,null,60412,null,60411,60415,60412,60412,60411,null,null,null,{"$f":"_xlfn.TEXTJOIN(\"^\",,AW3:AW12)","v":"60414^60414"}]
[null,null,2,{"$nulls":12},{"$f":"_xlfn.TEXTJOIN(\"^\",,G3:G12)","v":"60411^60412^60414"},null,2,60412,null,null,60415,60413,null,60413,60413,null,null,null,{"$f":"_xlfn.TEXTJOIN(\"^\",,V3:V12)","v":"60415^60415^60415^60415"},null,2,60415,60411,60411,null,null,60413,60411,60413,null,null,null,{"$f":"_xlfn.TEXTJOIN(\"^\",,AJ3:AJ12)","v":"60412^60413^60413^60413^60412"},null,2,60413,null,60414,null,60415,60413,60411,60411,null,null,null,{"$f":"_xlfn.TEXTJOIN(\"^\",,AX3:AX12)","v":"60411^60411^60411^60411"}]
[null,null,1,60411,60412,60413,60411,60415,60413,60414,60413,60412,60415,null,null,{"$f":"_xlfn.TEXTJOIN(\"^\",,H3:H12)","v":"60415^60411"},null,1,null,60413,null,null,60411,60413,60416,{"$nulls":4},{"$f":"_xlfn.TEXTJOIN(\"^\",,W3:W12)","v":"60412^60411^60413^60411^60413^60411^60412"},null,1,60415,60412,60411,60413,60412,60414,60411,{"$nulls":4},{"$f":"_xlfn.TEXTJOIN(\"^\",,AK3:AK12)","v":"60414^60412^60411^60412^60411^60412^60414"},null,1,null,60412,{"$nulls":4},60414,{"$nulls":4},{"$f":"_xlfn.TEXTJOIN(\"^\",,AY3:AY12)","v":"60415^60415^60415^60415"}]
[null,null,3,60412,60411,60414,60412,60411,60411,60411,60411,60411,60414,null,null,{"$f":"_xlfn.TEXTJOIN(\"^\",,I3:I12)","v":"60413^60411^60412"},null,3,60412,null,null,60415,60413,null,60413,60413,null,null,null,{"$f":"_xlfn.TEXTJOIN(\"^\",,X3:X12)","v":"60414^60412^60411^60413^60411^60412^60414"},null,3,60415,60411,60411,null,null,60413,60411,60413,null,null,null,{"$f":"_xlfn.TEXTJOIN(\"^\",,AL3:AL12)","v":"60412^60411^60413^60414^60413^60411^60412"},null,3,60413,null,60414,null,60415,60413,60411,60411,null,null,null,{"$f":"_xlfn.TEXTJOIN(\"^\",,AZ3:AZ12)","v":"60414^60412^60413^60413^60412^60414"}]
[null,null,5,null,null,60412,60414,null,60412,60412,60412,null,60416,null,null,{"$f":"_xlfn.TEXTJOIN(\"^\",,J3:J12)","v":"60414^60411^60412"},null,5,60414,60413,60411,60415,60411,60411,60411,60411,null,null,null,{"$f":"_xlfn.TEXTJOIN(\"^\",,Y3:Y12)","v":"60412^60411^60413^60416^60413^60411^60412"},null,5,60415,null,60414,60413,60411,60411,60412,60411,null,null,null,{"$f":"_xlfn.TEXTJOIN(\"^\",,AM3:AM12)","v":"60412^60412^60411^60411^60411^60412^60412"},null,5,null,60412,null,60411,60415,60412,60412,60411,null,null,null,{"$f":"_xlfn.TEXTJOIN(\"^\",,BA3:BA12)","v":"60412^60412^60411^60414^60411^60412^60412"}]
[null,null,7,{"$nulls":7},60414,{"$nulls":4},{"$f":"_xlfn.TEXTJOIN(\"^\",,K3:K12)","v":"60413^60411^60412^60414"},null,7,null,null,60411,null,60412,60412,60412,60412,null,null,null,{"$f":"_xlfn.TEXTJOIN(\"^\",,Z3:Z12)","v":"60414^60412^60411^60413^60413^60411^60412^60414"},null,7,null,60412,null,60412,60412,60412,60412,60412,null,null,null,{"$f":"_xlfn.TEXTJOIN(\"^\",,AN3:AN12)","v":"60414^60412^60411^60413^60413^60411^60412^60414"},null,7,null,null,null,60411,null,60414,60412,60412,null,null,null,{"$f":"_xlfn.TEXTJOIN(\"^\",,BB3:BB12)","v":"60412^60412^60411^60411^60411^60411^60412^60412"}]
[null,null,9,{"$nulls":12},{"$f":"_xlfn.TEXTJOIN(\"^\",,L3:L12)","v":"60412^60411"},null,9,{"$nulls":5},60414,null,60414,null,null,null,{"$f":"_xlfn.TEXTJOIN(\"^\",,AA3:AA12)","v":""},null,9,{"$nulls":4},60414,null,null,60414,null,null,null,{"$f":"_xlfn.TEXTJOIN(\"^\",,AO3:AO12)","v":""},null,9,{"$nulls":7},60412,null,null,null,{"$f":"_xlfn.TEXTJOIN(\"^\",,BC3:BC12)","v":""}]
[{"$nulls":15},{"$f":"_xlfn.TEXTJOIN(\"^\",,M3:M12)","v":"60415^60414^60416"},{"$nulls":13},{"$f":"_xlfn.TEXTJOIN(\"^\",,AB3:AB12)","v":""},{"$nulls":13},{"$f":"_xlfn.TEXTJOIN(\"^\",,AP3:AP12)","v":""},{"$nulls":13},{"$f":"_xlfn.TEXTJOIN(\"^\",,BD3:BD12)","v":""}]
[{"$nulls":15},{"$f":"_xlfn.TEXTJOIN(\"^\",,N3:N12)","v":""},{"$nulls":13},{"$f":"_xlfn.TEXTJOIN(\"^\",,AC3:AC12)","v":""},{"$nulls":13},{"$f":"_xlfn.TEXTJOIN(\"^\",,AQ3:AQ12)","v":""},{"$nulls":13},{"$f":"_xlfn.TEXTJOIN(\"^\",,BE3:BE12)","v":""}]
[{"$nulls":14},"最终",{"$f":"_xlfn.TEXTJOIN(\"^\",,P3:P13)","v":"60411^60412^60412^60411^60413^60414^60412^60411^60412^60414^60415^60411^60413^60411^60412^60414^60411^60412^60413^60411^60412^60414^60412^60411^60415^60414^60416"},{"$nulls":12},"最终",{"$f":"_xlfn.TEXTJOIN(\"^\",,AD3:AD13)","v":"60414^60412^60412^60414^60413^60413^60413^60411^60411^60411^60411^60415^60415^60415^60415^60412^60411^60413^60411^60413^60411^60412^60414^60412^60411^60413^60411^60412^60414^60412^60411^60413^60416^60413^60411^60412^60414^60412^60411^60413^60413^60411^60412^60414"},{"$nulls":12},"最终",{"$f":"_xlfn.TEXTJOIN(\"^\",,AR3:AR13)","v":"60415^60415^60415^60415^60415^60412^60411^60412^60411^60412^60414^60411^60411^60411^60414^60412^60413^60413^60413^60412^60414^60412^60411^60412^60411^60412^60414^60412^60411^60413^60414^60413^60411^60412^60412^60412^60411^60411^60411^60412^60412^60414^60412^60411^60413^60413^60411^60412^60414"},{"$nulls":12},"最终",{"$f":"_xlfn.TEXTJOIN(\"^\",,BF3:BF13)","v":"60413^60413^60412^60412^60412^60414^60414^60411^60411^60411^60411^60415^60415^60415^60415^60414^60412^60413^60413^60412^60414^60412^60412^60411^60414^60411^60412^60412^60412^60412^60411^60411^60411^60411^60412^60412"}]
[null,null,8,{"$nulls":14},8,{"$nulls":5},"木精灵",null,"木精灵",{"$nulls":5},8,{"$nulls":4},"木精灵",null,null,"木精灵",{"$nulls":5},8,{"$nulls":7},"毒蜘蛛"]
[null,null,6,{"$nulls":14},6,null,null,"树精",null,"毒蜘蛛","毒蜘蛛","毒蜘蛛","毒蜘蛛",{"$nulls":5},6,null,"毒蜘蛛",null,"毒蜘蛛","毒蜘蛛","毒蜘蛛","毒蜘蛛","毒蜘蛛",{"$nulls":5},6,null,null,null,"树精",null,"木精灵","毒蜘蛛","毒蜘蛛"]
[null,null,4,{"$nulls":14},4,"木精灵","哥布林","树精","森林蜘蛛","树精","树精","树精","树精",{"$nulls":5},4,"森林蜘蛛",null,"木精灵","哥布林","树精","树精","毒蜘蛛","树精",{"$nulls":5},4,null,"毒蜘蛛",null,"树精","森林蜘蛛","毒蜘蛛","毒蜘蛛","树精"]
[null,null,2,{"$nulls":14},2,"毒蜘蛛",null,null,"森林蜘蛛","哥布林",null,"哥布林","哥布林",{"$nulls":5},2,"森林蜘蛛","树精","树精",null,null,"哥布林","树精","哥布林",{"$nulls":5},2,"哥布林",null,"木精灵",null,"森林蜘蛛","哥布林","树精","树精"]
[null,null,1,"树精","毒蜘蛛","哥布林","树精","森林蜘蛛","哥布林","木精灵","哥布林","毒蜘蛛","森林蜘蛛",{"$nulls":4},1,null,"哥布林",null,null,"树精","哥布林","黑暗法师",{"$nulls":6},1,"森林蜘蛛","毒蜘蛛","树精","哥布林","毒蜘蛛","木精灵","树精",{"$nulls":6},1,null,"毒蜘蛛",{"$nulls":4},"木精灵"]
[null,null,3,"毒蜘蛛","树精","木精灵","毒蜘蛛","树精","树精","树精","树精","树精","木精灵",{"$nulls":4},3,"毒蜘蛛",null,null,"森林蜘蛛","哥布林",null,"哥布林","哥布林",{"$nulls":5},3,"森林蜘蛛","树精","树精",null,null,"哥布林","树精","哥布林",{"$nulls":5},3,"哥布林",null,"木精灵",null,"森林蜘蛛","哥布林","树精","树精"]
[null,null,5,null,null,"毒蜘蛛","木精灵",null,"毒蜘蛛","毒蜘蛛","毒蜘蛛",null,"黑暗法师",{"$nulls":4},5,"木精灵","哥布林","树精","森林蜘蛛","树精","树精","树精","树精",{"$nulls":5},5,"森林蜘蛛",null,"木精灵","哥布林","树精","树精","毒蜘蛛","树精",{"$nulls":5},5,null,"毒蜘蛛",null,"树精","森林蜘蛛","毒蜘蛛","毒蜘蛛","树精"]
[null,null,7,{"$nulls":7},"木精灵",{"$nulls":6},7,null,null,"树精",null,"毒蜘蛛","毒蜘蛛","毒蜘蛛","毒蜘蛛",{"$nulls":5},7,null,"毒蜘蛛",null,"毒蜘蛛","毒蜘蛛","毒蜘蛛","毒蜘蛛","毒蜘蛛",{"$nulls":5},7,null,null,null,"树精",null,"木精灵","毒蜘蛛","毒蜘蛛"]
[null,null,9,{"$nulls":14},9,{"$nulls":5},"木精灵",null,"木精灵",{"$nulls":5},9,{"$nulls":4},"木精灵",null,null,"木精灵",{"$nulls":5},9,{"$nulls":7},"毒蜘蛛"]
[]
[null,null,"位置",5,15,30,46,50,66,83,100,115,120,{"$nulls":4},"位置",5,10,15,20,27,35,45,55,{"$nulls":5},"位置",3,5,8,12,20,30,40,50,null,null,null,{"$f":"_xlfn.TEXTJOIN(\"^\",,AG26:AG40)","v":"101^102^103^104^105"},null,"位置",2,4,6,8,10,17,25,35,null,null,null,{"$f":"_xlfn.TEXTJOIN(\"^\",,AU26:AU40)","v":"2^3"}]
[null,null,8,{"$nulls":12},{"$f":"_xlfn.TEXTJOIN(\"^\",,D26:D40)","v":"0^0"},null,8,{"$nulls":5},{"$f":"$C26","v":8},null,{"$f":"$C26","v":8},{"$nulls":5},8,{"$nulls":4},{"$f":"$C26","v":8},null,null,{"$f":"$C26","v":8},null,null,null,{"$f":"_xlfn.TEXTJOIN(\"^\",,AH26:AH40)","v":"6^2^1^3^7"},null,8,{"$nulls":7},{"$f":"$C26","v":8},null,null,null,{"$f":"_xlfn.TEXTJOIN(\"^\",,AV26:AV40)","v":"4^1^5"}]
[null,null,6,{"$nulls":12},{"$f":"_xlfn.TEXTJOIN(\"^\",,E26:E40)","v":"0^0"},null,6,null,null,{"$f":"$C27","v":6},null,{"$f":"$C27","v":6},6,6,6,null,null,null,{"$f":"_xlfn.TEXTJOIN(\"^\",,S26:S40)","v":"4^2^3^5"},null,6,null,{"$f":"$C27","v":6},null,{"$f":"$C27","v":6},6,6,6,6,null,null,null,{"$f":"_xlfn.TEXTJOIN(\"^\",,AI26:AI40)","v":"4^2^1^3^5"},null,6,null,null,null,{"$f":"$C27","v":6},null,{"$f":"$C27","v":6},6,6,null,null,null,{"$f":"_xlfn.TEXTJOIN(\"^\",,AW26:AW40)","v":"2^3"}]
[null,null,4,{"$nulls":12},{"$f":"_xlfn.TEXTJOIN(\"^\",,F26:F40)","v":"0^0^0"},null,4,{"$f":"$C28","v":4},{"$f":"$C28","v":4},4,null,4,4,4,4,null,null,null,{"$f":"_xlfn.TEXTJOIN(\"^\",,T26:T40)","v":"4^1^5"},null,4,null,null,{"$f":"$C28","v":4},{"$f":"$C28","v":4},4,4,4,4,null,null,null,{"$f":"_xlfn.TEXTJOIN(\"^\",,AJ26:AJ40)","v":"6^4^1^5^7"},null,4,null,{"$f":"$C28","v":4},null,4,null,4,4,4,null,null,null,{"$f":"_xlfn.TEXTJOIN(\"^\",,AX26:AX40)","v":"6^4^5^7"}]
[null,null,2,{"$nulls":12},{"$f":"_xlfn.TEXTJOIN(\"^\",,G26:G40)","v":"0^0^0"},null,2,2,null,null,null,2,null,2,2,null,null,null,{"$f":"_xlfn.TEXTJOIN(\"^\",,U26:U40)","v":"6^4^5^7"},null,2,null,2,2,null,null,2,2,2,null,null,null,{"$f":"_xlfn.TEXTJOIN(\"^\",,AK26:AK40)","v":"8^6^4^1^5^7^9"},null,2,{"$f":"$C29","v":2},null,{"$f":"$C29","v":2},null,null,2,2,2,null,null,null,{"$f":"_xlfn.TEXTJOIN(\"^\",,AY26:AY40)","v":"101^102^104^105"}]
[null,null,1,0,0,0,0,100,0,0,0,0,100,null,null,{"$f":"_xlfn.TEXTJOIN(\"^\",,H26:H40)","v":"100^0"},null,1,null,{"$f":"$C30","v":1},null,null,1,{"$f":"$C30","v":1},1,{"$nulls":4},{"$f":"_xlfn.TEXTJOIN(\"^\",,V26:V40)","v":"101^102^104^105"},null,1,null,{"$f":"$C30","v":1},1,{"$f":"$C30","v":1},1,1,1,{"$nulls":4},{"$f":"_xlfn.TEXTJOIN(\"^\",,AL26:AL40)","v":"6^4^2^1^3^5^7"},null,1,null,{"$f":"$C30","v":1},{"$nulls":4},1,{"$nulls":4},{"$f":"_xlfn.TEXTJOIN(\"^\",,AZ26:AZ40)","v":"6^4^2^3^5^7"}]
[null,null,3,0,0,0,0,0,0,0,0,0,0,null,null,{"$f":"_xlfn.TEXTJOIN(\"^\",,I26:I40)","v":"0^0^0"},null,3,{"$f":"$C31","v":3},null,null,null,3,null,3,3,null,null,null,{"$f":"_xlfn.TEXTJOIN(\"^\",,W26:W40)","v":"6^4^2^1^3^5^7"},null,3,null,3,3,null,null,3,3,3,null,null,null,{"$f":"_xlfn.TEXTJOIN(\"^\",,AM26:AM40)","v":"6^4^2^1^3^5^7"},null,3,{"$f":"$C31","v":3},null,{"$f":"$C31","v":3},null,null,{"$f":"$C31","v":3},3,3,null,null,null,{"$f":"_xlfn.TEXTJOIN(\"^\",,BA26:BA40)","v":"6^4^2^1^3^5^7"}]
[null,null,5,null,null,0,0,null,0,0,0,null,0,null,null,{"$f":"_xlfn.TEXTJOIN(\"^\",,J26:J40)","v":"0^0^0"},null,5,5,{"$f":"$C32","v":5},{"$f":"$C32","v":5},null,5,5,5,5,null,null,null,{"$f":"_xlfn.TEXTJOIN(\"^\",,X26:X40)","v":"8^6^4^1^5^7^9"},null,5,null,null,5,{"$f":"$C32","v":5},{"$f":"$C32","v":5},5,5,5,null,null,null,{"$f":"_xlfn.TEXTJOIN(\"^\",,AN26:AN40)","v":"8^6^4^2^3^5^7^9"},null,5,null,{"$f":"$C32","v":5},null,{"$f":"$C32","v":5},null,5,5,5,null,null,null,{"$f":"_xlfn.TEXTJOIN(\"^\",,BB26:BB40)","v":"8^6^4^2^3^5^7^9"}]
[null,null,7,{"$nulls":7},0,{"$nulls":4},{"$f":"_xlfn.TEXTJOIN(\"^\",,K26:K40)","v":"0^0^0^0"},null,7,null,null,7,null,7,7,7,7,null,null,null,{"$f":"_xlfn.TEXTJOIN(\"^\",,Y26:Y40)","v":"6^4^2^1^3^5^7"},null,7,null,{"$f":"$C33","v":7},null,{"$f":"$C33","v":7},7,7,7,7,null,null,null,{"$f":"_xlfn.TEXTJOIN(\"^\",,AO26:AO40)","v":""},null,7,null,null,null,7,null,7,7,7,null,null,null,{"$f":"_xlfn.TEXTJOIN(\"^\",,BC26:BC40)","v":""}]
[null,null,9,{"$nulls":12},{"$f":"_xlfn.TEXTJOIN(\"^\",,L26:L40)","v":"0^0"},null,9,{"$nulls":5},9,null,9,{"$nulls":5},9,{"$nulls":4},9,null,null,9,null,null,null,{"$f":"_xlfn.TEXTJOIN(\"^\",,AP26:AP40)","v":""},null,9,{"$nulls":7},9,null,null,null,{"$f":"_xlfn.TEXTJOIN(\"^\",,BD26:BD40)","v":""}]
[null,null,"空降",{"$nulls":12},{"$f":"_xlfn.TEXTJOIN(\"^\",,M26:M40)","v":"100^0^0"},null,"空降",{"$nulls":13},"空降",{"$nulls":11},{"$f":"_xlfn.TEXTJOIN(\"^\",,AQ26:AQ34)","v":""},null,"空降",{"$nulls":11},{"$f":"_xlfn.TEXTJOIN(\"^\",,BE26:BE34)","v":""}]
[null,null,101,{"$nulls":12},{"$f":"_xlfn.TEXTJOIN(\"^\",,N26:N40)","v":""},null,101,null,null,null,{"$f":"$C36","v":101},{"$nulls":7},{"$f":"_xlfn.TEXTJOIN(\"^\",,Z26:Z40)","v":"8^6^4^2^3^5^7^9"},null,101,{"$f":"$C36","v":101},{"$nulls":12},101,{"$nulls":4},{"$f":"$C36","v":101}]
[null,null,102,{"$nulls":14},102,null,null,null,102,{"$nulls":7},{"$f":"_xlfn.TEXTJOIN(\"^\",,AA26:AA40)","v":""},null,102,102,{"$nulls":12},102,{"$nulls":4},102]
[null,null,103,{"$nulls":14},103,{"$nulls":11},{"$f":"_xlfn.TEXTJOIN(\"^\",,AB26:AB40)","v":""},null,103,103,{"$nulls":12},103]
[null,null,104,{"$nulls":14},104,null,null,null,{"$f":"$C39","v":104},{"$nulls":9},104,104,{"$nulls":12},104,{"$nulls":4},{"$f":"$C39","v":104}]
[null,null,105,{"$nulls":14},105,null,null,null,105,{"$nulls":9},105,105,{"$nulls":12},105,{"$nulls":4},105]
[{"$nulls":14},"最终",{"$f":"_xlfn.TEXTJOIN(\"^\",,P26:P40)","v":"0^0^0^0^0^0^0^0^0^0^100^0^0^0^0^0^0^0^0^0^0^0^0^0^100^0^0"},{"$nulls":12},"最终",{"$f":"_xlfn.TEXTJOIN(\"^\",,AD26:AD40)","v":"4^2^3^5^4^1^5^6^4^5^7^101^102^104^105^6^4^2^1^3^5^7^8^6^4^1^5^7^9^6^4^2^1^3^5^7^8^6^4^2^3^5^7^9"},{"$nulls":12},"最终",{"$f":"_xlfn.TEXTJOIN(\"^\",,AR25:AR40)","v":"101^102^103^104^105^6^2^1^3^7^4^2^1^3^5^6^4^1^5^7^8^6^4^1^5^7^9^6^4^2^1^3^5^7^6^4^2^1^3^5^7^8^6^4^2^3^5^7^9"},{"$nulls":12},"最终",{"$f":"_xlfn.TEXTJOIN(\"^\",,BF25:BF40)","v":"2^3^4^1^5^2^3^6^4^5^7^101^102^104^105^6^4^2^3^5^7^6^4^2^1^3^5^7^8^6^4^2^3^5^7^9"}]
[]
[null,null,"时间",5,15,30,46,50,66,83,100,115,120,{"$nulls":4},"时间",5,10,15,20,27,35,45,55,null,null,null,{"$f":"_xlfn.TEXTJOIN(\"^\",,S44:S52)","v":"5^5^5^5"},null,"时间",3,5,8,12,20,30,40,50,null,null,null,{"$f":"_xlfn.TEXTJOIN(\"^\",,AG44:AG52)","v":"3^3^3^3^3"},null,"时间",2,4,6,8,10,17,25,35,null,null,null,{"$f":"_xlfn.TEXTJOIN(\"^\",,AU44:AU52)","v":"2^2"}]
[null,null,8,{"$nulls":12},{"$f":"_xlfn.TEXTJOIN(\"^\",,D44:D53)","v":"7^2"},null,8,{"$nulls":5},{"$f":"X$43","v":35},null,{"$f":"Z$43","v":55},null,null,null,{"$f":"_xlfn.TEXTJOIN(\"^\",,T44:T52)","v":"10^10^10"},null,8,{"$nulls":4},{"$f":"AK$43","v":20},null,null,{"$f":"AN$43","v":50},null,null,null,{"$f":"_xlfn.TEXTJOIN(\"^\",,AH44:AH52)","v":"5^5^5^5^5"},null,8,{"$nulls":7},{"$f":"BB$43","v":35},null,null,null,{"$f":"_xlfn.TEXTJOIN(\"^\",,AV44:AV52)","v":"4^4^4"}]
[null,null,6,{"$nulls":12},{"$f":"_xlfn.TEXTJOIN(\"^\",,E44:E53)","v":"4^8"},null,6,null,null,{"$f":"U$43","v":15},null,{"$f":"W$43","v":27},35,45,55,null,null,null,{"$f":"_xlfn.TEXTJOIN(\"^\",,U44:U52)","v":"15^15^15^15"},null,6,null,5,null,12,20,30,40,50,null,null,null,{"$f":"_xlfn.TEXTJOIN(\"^\",,AI44:AI52)","v":"8^8^8^8^8"},null,6,null,null,null,{"$f":"AX$43","v":8},null,{"$f":"AZ$43","v":17},25,35,null,null,null,{"$f":"_xlfn.TEXTJOIN(\"^\",,AW44:AW52)","v":"6^6"}]
[null,null,4,{"$nulls":12},{"$f":"_xlfn.TEXTJOIN(\"^\",,F44:F53)","v":"3^2^5"},null,4,{"$f":"S$43","v":5},10,15,20,27,35,45,55,null,null,null,{"$f":"_xlfn.TEXTJOIN(\"^\",,V44:V52)","v":"20^20^20^20"},null,4,3,null,8,12,20,30,40,50,null,null,null,{"$f":"_xlfn.TEXTJOIN(\"^\",,AJ44:AJ52)","v":"12^12^12^12^12"},null,4,null,{"$f":"AV$43","v":4},null,8,10,17,25,35,null,null,null,{"$f":"_xlfn.TEXTJOIN(\"^\",,AX44:AX52)","v":"8^8^8^8"}]
[null,null,2,{"$nulls":12},{"$f":"_xlfn.TEXTJOIN(\"^\",,G44:G53)","v":"9^2^2"},null,2,5,null,null,20,27,null,45,55,null,null,null,{"$f":"_xlfn.TEXTJOIN(\"^\",,W44:W52)","v":"27^27^27^27^27^27^27"},null,2,3,5,8,null,null,30,40,50,null,null,null,{"$f":"_xlfn.TEXTJOIN(\"^\",,AK44:AK52)","v":"20^20^20^20^20^20^20"},null,2,{"$f":"AU$43","v":2},null,{"$f":"AW$43","v":6},null,10,17,25,35,null,null,null,{"$f":"_xlfn.TEXTJOIN(\"^\",,AY44:AY52)","v":"10^10^10^10"}]
[null,null,1,7,4,3,9,7,2,2,2,3,8,null,null,{"$f":"_xlfn.TEXTJOIN(\"^\",,H44:H53)","v":"7^7"},null,1,null,{"$f":"T$43","v":10},null,null,27,35,45,{"$nulls":4},{"$f":"_xlfn.TEXTJOIN(\"^\",,X44:X52)","v":"35^35^35^35^35^35^35"},null,1,3,5,8,12,20,30,40,{"$nulls":4},{"$f":"_xlfn.TEXTJOIN(\"^\",,AL44:AL52)","v":"30^30^30^30^30^30^30"},null,1,null,{"$f":"AV$43","v":4},{"$nulls":4},25,{"$nulls":4},{"$f":"_xlfn.TEXTJOIN(\"^\",,AZ44:AZ52)","v":"17^17^17^17^17^17"}]
[null,null,3,2,8,2,2,7,9,10,8,10,2,null,null,{"$f":"_xlfn.TEXTJOIN(\"^\",,I44:I53)","v":"2^9^3"},null,3,{"$f":"S$43","v":5},null,null,{"$f":"V$43","v":20},27,null,45,55,null,null,null,{"$f":"_xlfn.TEXTJOIN(\"^\",,Y44:Y52)","v":"45^45^45^45^45^45^45"},null,3,3,5,8,null,null,30,40,50,null,null,null,{"$f":"_xlfn.TEXTJOIN(\"^\",,AM44:AM52)","v":"40^40^40^40^40^40^40"},null,3,{"$f":"AU$43","v":2},null,{"$f":"AW$43","v":6},null,{"$f":"AY$43","v":10},17,25,35,null,null,null,{"$f":"_xlfn.TEXTJOIN(\"^\",,BA44:BA52)","v":"25^25^25^25^25^25^25"}]
[null,null,5,null,null,5,2,null,3,3,2,null,1,null,null,{"$f":"_xlfn.TEXTJOIN(\"^\",,J44:J53)","v":"2^10^3"},null,5,5,10,15,20,27,35,45,55,null,null,null,{"$f":"_xlfn.TEXTJOIN(\"^\",,Z44:Z52)","v":"55^55^55^55^55^55^55^55"},null,5,3,null,8,12,20,30,40,50,null,null,null,{"$f":"_xlfn.TEXTJOIN(\"^\",,AN44:AN52)","v":"50^50^50^50^50^50^50^50"},null,5,null,{"$f":"AV$43","v":4},null,{"$f":"AX$43","v":8},10,17,25,35,null,null,null,{"$f":"_xlfn.TEXTJOIN(\"^\",,BB44:BB52)","v":"35^35^35^35^35^35^35^35"}]
[null,null,7,{"$nulls":7},2,{"$nulls":4},{"$f":"_xlfn.TEXTJOIN(\"^\",,K44:K53)","v":"2^8^2^2"},null,7,null,null,15,null,27,35,45,55,null,null,null,{"$f":"_xlfn.TEXTJOIN(\"^\",,AA44:AA52)","v":""},null,7,null,5,null,12,20,30,40,50,null,null,null,{"$f":"_xlfn.TEXTJOIN(\"^\",,AO44:AO52)","v":""},null,7,null,null,null,8,null,17,25,35,null,null,null,{"$f":"_xlfn.TEXTJOIN(\"^\",,BC44:BC52)","v":""}]
[null,null,9,{"$nulls":12},{"$f":"_xlfn.TEXTJOIN(\"^\",,L44:L53)","v":"3^10"},null,9,{"$nulls":5},35,null,55,null,null,null,{"$f":"_xlfn.TEXTJOIN(\"^\",,AB44:AB52)","v":""},null,9,{"$nulls":4},20,null,null,50,null,null,null,{"$f":"_xlfn.TEXTJOIN(\"^\",,AP44:AP52)","v":""},null,9,{"$nulls":7},35,null,null,null,{"$f":"_xlfn.TEXTJOIN(\"^\",,BD44:BD52)","v":""}]
[{"$nulls":15},{"$f":"_xlfn.TEXTJOIN(\"^\",,M44:M53)","v":"8^2^1"},{"$nulls":13},{"$f":"_xlfn.TEXTJOIN(\"^\",,AC44:AC52)","v":""},{"$nulls":13},{"$f":"_xlfn.TEXTJOIN(\"^\",,AQ44:AQ52)","v":""},{"$nulls":13},{"$f":"_xlfn.TEXTJOIN(\"^\",,BE44:BE52)","v":""}]
[{"$nulls":15},{"$f":"_xlfn.TEXTJOIN(\"^\",,N44:N53)","v":""},{"$nulls":12},"最终",{"$f":"_xlfn.TEXTJOIN(\"^\",,AD43:AD53)","v":"5^5^5^5^10^10^10^15^15^15^15^20^20^20^20^27^27^27^27^27^27^27^35^35^35^35^35^35^35^45^45^45^45^45^45^45^55^55^55^55^55^55^55^55"},{"$nulls":12},"最终",{"$f":"_xlfn.TEXTJOIN(\"^\",,AR43:AR53)","v":"3^3^3^3^3^5^5^5^5^5^8^8^8^8^8^12^12^12^12^12^20^20^20^20^20^20^20^30^30^30^30^30^30^30^40^40^40^40^40^40^40^50^50^50^50^50^50^50^50"},{"$nulls":12},"最终",{"$f":"_xlfn.TEXTJOIN(\"^\",,BF43:BF53)","v":"2^2^4^4^4^6^6^8^8^8^8^10^10^10^10^17^17^17^17^17^17^25^25^25^25^25^25^25^35^35^35^35^35^35^35^35"}]
[{"$nulls":14},"最终",{"$f":"_xlfn.TEXTJOIN(\"^\",,P44:P54)","v":"7^2^4^8^3^2^5^9^2^2^7^7^2^9^3^2^10^3^2^8^2^2^3^10^8^2^1"}]
[{"$nulls":15},{"$f":"SUM(D44:M52)","v":125},{"$nulls":13},{"$f":"COUNT(S44:Z52)","v":44},{"$nulls":13},{"$f":"COUNT(AG44:AN52)","v":49},{"$nulls":13},{"$f":"COUNT(AU44:BB52)","v":36}]
[{"$nulls":57},{"$f":"SUM(P56:BF56)","v":254}]
[]
[{"$nulls":4},{"$f":"E60-D60","v":5},{"$f":"F60-E60","v":6},4,10,10,10,5,10,10,{"$nulls":6},{"$f":"T60-S60","v":5},5,5,10,15,15,10,{"$nulls":7},{"$f":"AH60-AG60","v":2},4,5,10,15,17,18,{"$nulls":7},{"$f":"AV60-AU60","v":2},2,2,2,7,8,10]
[1,"荒林-2","波1·怪物",5,10,16,20,30,40,50,55,65,75,null,null,null,3,"波2·怪物",5,10,15,20,30,45,60,70,{"$nulls":4},3,"波3·怪物",4,6,10,15,25,40,57,75,{"$nulls":4},1,"波4·怪物",2,4,6,8,10,17,25,35]
[null,"5m",8,{"$nulls":5},60424,null,null,null,60424,null,null,{"$f":"_xlfn.TEXTJOIN(\"^\",,D61:D70)","v":"60424^60422^60422^60424"},null,8,{"$nulls":11},{"$f":"_xlfn.TEXTJOIN(\"^\",,S61:S70)","v":"60425^60424^60422"},null,8,{"$nulls":11},{"$f":"_xlfn.TEXTJOIN(\"^\",,AG61:AG70)","v":"60423^60421"},null,8,{"$nulls":7},60422,null,null,null,{"$f":"_xlfn.TEXTJOIN(\"^\",,AU61:AU70)","v":"60421^60421^60421^60421"}]
[null,null,6,null,60421,60424,null,60422,60422,60422,null,60422,60422,null,null,{"$f":"_xlfn.TEXTJOIN(\"^\",,E61:E70)","v":"60421^60421^60421^60421^60421^60421^60421"},null,6,{"$nulls":11},{"$f":"_xlfn.TEXTJOIN(\"^\",,T61:T70)","v":"60422^60421"},null,6,{"$nulls":11},{"$f":"_xlfn.TEXTJOIN(\"^\",,AH61:AH70)","v":"60421^60422^60424"},null,6,{"$nulls":5},60424,60422,60422,null,null,null,{"$f":"_xlfn.TEXTJOIN(\"^\",,AV61:AV70)","v":"60422^60422^60422"}]
[null,null,4,60424,60421,60422,60425,60421,60421,60422,60425,60421,60421,null,null,{"$f":"_xlfn.TEXTJOIN(\"^\",,F61:F70)","v":"60424^60422^60423^60422^60423^60422^60424"},null,4,{"$nulls":11},{"$f":"_xlfn.TEXTJOIN(\"^\",,U61:U70)","v":"60423^60421^60422"},null,4,{"$nulls":11},{"$f":"_xlfn.TEXTJOIN(\"^\",,AI61:AI70)","v":"60421^60422"},null,4,60421,60422,null,60425,60423,60421,60422,60421,null,null,null,{"$f":"_xlfn.TEXTJOIN(\"^\",,AW61:AW70)","v":"60424^60424"}]
[null,null,2,60422,60421,60423,60425,60421,60423,60421,60425,60421,60423,null,null,{"$f":"_xlfn.TEXTJOIN(\"^\",,G61:G70)","v":"60425^60425^60425^60425^60425"},null,2,{"$nulls":11},{"$f":"_xlfn.TEXTJOIN(\"^\",,V61:V70)","v":"60421^60424"},null,2,{"$nulls":11},{"$f":"_xlfn.TEXTJOIN(\"^\",,AJ61:AJ70)","v":"60425^60423"},null,2,60421,null,60424,60425,null,60421,null,60423,null,null,null,{"$f":"_xlfn.TEXTJOIN(\"^\",,AX61:AX70)","v":"60425^60425^60425^60425"}]
[null,null,1,null,60421,60422,60425,60422,null,60421,60425,60426,null,null,null,{"$f":"_xlfn.TEXTJOIN(\"^\",,H61:H70)","v":"60422^60421^60421^60422^60421^60421^60422"},null,1,60425,60422,60423,60421,60421,60423,60424,60425,null,null,null,{"$f":"_xlfn.TEXTJOIN(\"^\",,W61:W70)","v":"60421^60422"},null,1,60423,60421,60421,60425,60421,60424,60421,60423,null,null,null,{"$f":"_xlfn.TEXTJOIN(\"^\",,AK61:AK70)","v":"60421^60422^60424"},null,1,null,60422,null,null,60423,null,60422,{"$nulls":4},{"$f":"_xlfn.TEXTJOIN(\"^\",,AY61:AY70)","v":"60423^60423^60423"}]
[null,null,3,60422,60421,60423,60425,60421,60423,60421,60425,60421,60423,null,null,{"$f":"_xlfn.TEXTJOIN(\"^\",,I61:I70)","v":"60424^60422^60421^60423^60423^60421^60422^60424"},null,3,60424,60421,60421,60424,60422,60421,60422,60422,null,null,null,{"$f":"_xlfn.TEXTJOIN(\"^\",,X61:X70)","v":"60423^60421^60422^60424"},null,3,60421,60422,60422,60423,60422,60423,60422,60421,null,null,null,{"$f":"_xlfn.TEXTJOIN(\"^\",,AL61:AL70)","v":"60424^60423^60421"},null,3,60421,null,60424,60425,null,60421,null,60423,null,null,null,{"$f":"_xlfn.TEXTJOIN(\"^\",,AZ61:AZ70)","v":"60424^60421^60421^60421^60421^60424"}]
[null,null,5,60424,60421,60422,60425,60421,60421,60422,60425,60421,60421,null,null,{"$f":"_xlfn.TEXTJOIN(\"^\",,J61:J70)","v":"60422^60422^60421^60421^60421^60422^60422"},null,5,60422,null,60422,null,null,60422,60421,60426,null,null,null,{"$f":"_xlfn.TEXTJOIN(\"^\",,Y61:Y70)","v":"60424^60422^60421"},null,5,null,60424,null,null,60424,60421,null,60422,null,null,null,{"$f":"_xlfn.TEXTJOIN(\"^\",,AM61:AM70)","v":"60421^60422"},null,5,60421,60422,null,60425,60423,60421,60422,60421,null,null,null,{"$f":"_xlfn.TEXTJOIN(\"^\",,BA61:BA70)","v":"60422^60422^60422^60422^60422"}]
[null,null,7,null,60421,60424,null,60422,60422,60422,null,60422,60422,null,null,{"$f":"_xlfn.TEXTJOIN(\"^\",,K61:K70)","v":"60425^60425^60425^60425^60425"},null,7,{"$nulls":5},60424,{"$nulls":5},{"$f":"_xlfn.TEXTJOIN(\"^\",,Z61:Z70)","v":"60425^60422^60426"},null,7,{"$nulls":7},60424,null,null,null,{"$f":"_xlfn.TEXTJOIN(\"^\",,AN61:AN70)","v":"60423^60421^60422^60424"},null,7,{"$nulls":5},60424,60422,60422,null,null,null,{"$f":"_xlfn.TEXTJOIN(\"^\",,BB61:BB70)","v":"60422^60422^60421^60423^60423^60421^60422^60422"}]
[null,null,9,{"$nulls":5},60424,null,null,null,60424,null,null,{"$f":"_xlfn.TEXTJOIN(\"^\",,L61:L70)","v":"60422^60421^60421^60426^60421^60421^60422"},null,9,{"$nulls":11},{"$f":"_xlfn.TEXTJOIN(\"^\",,AA61:AA70)","v":""},null,9,{"$nulls":11},{"$f":"_xlfn.TEXTJOIN(\"^\",,AO61:AO70)","v":""},null,9,{"$nulls":7},60422,null,null,null,{"$f":"_xlfn.TEXTJOIN(\"^\",,BC61:BC70)","v":""}]
[{"$nulls":15},{"$f":"_xlfn.TEXTJOIN(\"^\",,M61:M70)","v":"60424^60422^60421^60423^60423^60421^60422^60424"},{"$nulls":13},{"$f":"_xlfn.TEXTJOIN(\"^\",,AB61:AB70)","v":""},{"$nulls":13},{"$f":"_xlfn.TEXTJOIN(\"^\",,AP61:AP70)","v":""},{"$nulls":13},{"$f":"_xlfn.TEXTJOIN(\"^\",,BD61:BD70)","v":""}]
[{"$nulls":15},{"$f":"_xlfn.TEXTJOIN(\"^\",,N61:N70)","v":""},{"$nulls":13},{"$f":"_xlfn.TEXTJOIN(\"^\",,AC61:AC70)","v":""},{"$nulls":13},{"$f":"_xlfn.TEXTJOIN(\"^\",,AQ61:AQ70)","v":""},{"$nulls":13},{"$f":"_xlfn.TEXTJOIN(\"^\",,BE61:BE70)","v":""}]
[{"$nulls":14},"最终",{"$f":"_xlfn.TEXTJOIN(\"^\",,P61:P71)","v":"60424^60422^60422^60424^60421^60421^60421^60421^60421^60421^60421^60424^60422^60423^60422^60423^60422^60424^60425^60425^60425^60425^60425^60422^60421^60421^60422^60421^60421^60422^60424^60422^60421^60423^60423^60421^60422^60424^60422^60422^60421^60421^60421^60422^60422^60425^60425^60425^60425^60425^60422^60421^60421^60426^60421^60421^60422^60424^60422^60421^60423^60423^60421^60422^60424"},{"$nulls":12},"最终",{"$f":"_xlfn.TEXTJOIN(\"^\",,AD61:AD71)","v":"60425^60424^60422^60422^60421^60423^60421^60422^60421^60424^60421^60422^60423^60421^60422^60424^60424^60422^60421^60425^60422^60426"},{"$nulls":12},"最终",{"$f":"_xlfn.TEXTJOIN(\"^\",,AR61:AR71)","v":"60423^60421^60421^60422^60424^60421^60422^60425^60423^60421^60422^60424^60424^60423^60421^60421^60422^60423^60421^60422^60424"},{"$nulls":12},"最终",{"$f":"_xlfn.TEXTJOIN(\"^\",,BF61:BF71)","v":"60421^60421^60421^60421^60422^60422^60422^60424^60424^60425^60425^60425^60425^60423^60423^60423^60424^60421^60421^60421^60421^60424^60422^60422^60422^60422^60422^60422^60422^60421^60423^60423^60421^60422^60422"}]
[null,null,8,{"$nulls":5},"木精灵",null,null,null,"木精灵",{"$nulls":4},8,{"$nulls":13},8,{"$nulls":13},8,{"$nulls":7},"毒蜘蛛"]
[null,null,6,null,"树精","木精灵",null,"毒蜘蛛","毒蜘蛛","毒蜘蛛",null,"毒蜘蛛","毒蜘蛛",{"$nulls":4},6,{"$nulls":13},6,{"$nulls":13},6,{"$nulls":5},"木精灵","毒蜘蛛","毒蜘蛛"]
[null,null,4,"木精灵","树精","毒蜘蛛","森林蜘蛛","树精","树精","毒蜘蛛","森林蜘蛛","树精","树精",{"$nulls":4},4,{"$nulls":13},4,{"$nulls":13},4,"树精","毒蜘蛛",null,"森林蜘蛛","哥布林","树精","毒蜘蛛","树精"]
[null,null,2,"毒蜘蛛","树精","哥布林","森林蜘蛛","树精","哥布林","树精","森林蜘蛛","树精","哥布林",{"$nulls":4},2,{"$nulls":13},2,{"$nulls":13},2,"树精",null,"木精灵","森林蜘蛛",null,"树精",null,"哥布林"]
[null,null,1,null,"树精","毒蜘蛛","森林蜘蛛","毒蜘蛛",null,"树精","森林蜘蛛","森林祭祀",{"$nulls":5},1,"森林蜘蛛","毒蜘蛛","哥布林","树精","树精","哥布林","木精灵","森林蜘蛛",{"$nulls":5},1,"哥布林","树精","树精","森林蜘蛛","树精","木精灵","树精","哥布林",{"$nulls":5},1,null,"毒蜘蛛",null,null,"哥布林",null,"毒蜘蛛"]
[null,null,3,"毒蜘蛛","树精","哥布林","森林蜘蛛","树精","哥布林","树精","森林蜘蛛","树精","哥布林",{"$nulls":4},3,"木精灵","树精","树精","木精灵","毒蜘蛛","树精","毒蜘蛛","毒蜘蛛",{"$nulls":5},3,"树精","毒蜘蛛","毒蜘蛛","哥布林","毒蜘蛛","哥布林","毒蜘蛛","树精",{"$nulls":5},3,"树精",null,"木精灵","森林蜘蛛",null,"树精",null,"哥布林"]
[null,null,5,"木精灵","树精","毒蜘蛛","森林蜘蛛","树精","树精","毒蜘蛛","森林蜘蛛","树精","树精",{"$nulls":4},5,"毒蜘蛛",null,"毒蜘蛛",null,null,"毒蜘蛛","树精","森林祭祀",{"$nulls":5},5,null,"木精灵",null,null,"木精灵","树精",null,"毒蜘蛛",{"$nulls":5},5,"树精","毒蜘蛛",null,"森林蜘蛛","哥布林","树精","毒蜘蛛","树精"]
[null,null,7,null,"树精","木精灵",null,"毒蜘蛛","毒蜘蛛","毒蜘蛛",null,"毒蜘蛛","毒蜘蛛",{"$nulls":4},7,{"$nulls":5},"木精灵",{"$nulls":7},7,{"$nulls":7},"木精灵",{"$nulls":5},7,{"$nulls":5},"木精灵","毒蜘蛛","毒蜘蛛"]
[null,null,9,{"$nulls":5},"木精灵",null,null,null,"木精灵",{"$nulls":4},9,{"$nulls":13},9,{"$nulls":13},9,{"$nulls":7},"毒蜘蛛"]
[]
[null,null,"位置",5,10,16,20,30,40,50,55,65,75,{"$nulls":4},"位置",5,10,15,20,30,45,60,70,{"$nulls":5},"位置",4,6,10,15,25,40,57,75,null,null,null,{"$f":"_xlfn.TEXTJOIN(\"^\",,AG84:AG98)","v":"0^0"},null,"位置",2,4,6,8,10,17,25,35,null,null,null,{"$f":"_xlfn.TEXTJOIN(\"^\",,AU84:AU98)","v":"4^2^3^5"}]
[null,null,8,{"$nulls":5},{"$f":"$C84","v":8},null,null,null,{"$f":"$C84","v":8},null,null,{"$f":"_xlfn.TEXTJOIN(\"^\",,D84:D98)","v":"4^2^3^5"},null,8,{"$nulls":13},8,{"$nulls":11},{"$f":"_xlfn.TEXTJOIN(\"^\",,AH84:AH98)","v":"0^0^0"},null,8,{"$nulls":7},{"$f":"$C84","v":8},null,null,null,{"$f":"_xlfn.TEXTJOIN(\"^\",,AV84:AV98)","v":"4^1^5"}]
[null,null,6,null,{"$f":"$C85","v":6},6,null,{"$f":"$C85","v":6},6,6,null,{"$f":"$C85","v":6},6,null,null,{"$f":"_xlfn.TEXTJOIN(\"^\",,E84:E98)","v":"6^4^2^1^3^5^7"},null,6,{"$nulls":11},{"$f":"_xlfn.TEXTJOIN(\"^\",,S84:S98)","v":"100^0^0"},null,6,{"$nulls":11},{"$f":"_xlfn.TEXTJOIN(\"^\",,AI84:AI98)","v":"0^0"},null,6,{"$nulls":5},{"$f":"$C85","v":6},6,6,null,null,null,{"$f":"_xlfn.TEXTJOIN(\"^\",,AW84:AW98)","v":"2^3"}]
[null,null,4,{"$f":"$C86","v":4},4,4,null,4,4,4,null,4,4,null,null,{"$f":"_xlfn.TEXTJOIN(\"^\",,F84:F98)","v":"6^4^2^1^3^5^7"},null,4,{"$nulls":11},{"$f":"_xlfn.TEXTJOIN(\"^\",,T84:T98)","v":"0^0"},null,4,{"$nulls":11},{"$f":"_xlfn.TEXTJOIN(\"^\",,AJ84:AJ98)","v":"100^0"},null,4,{"$f":"$C86","v":4},{"$f":"$C86","v":4},null,null,{"$f":"$C86","v":4},4,4,4,null,null,null,{"$f":"_xlfn.TEXTJOIN(\"^\",,AX84:AX98)","v":"101^102^104^105"}]
[null,null,2,{"$f":"$C87","v":2},2,2,null,2,2,2,null,2,2,null,null,{"$f":"_xlfn.TEXTJOIN(\"^\",,G84:G98)","v":"101^102^103^104^105"},null,2,{"$nulls":11},{"$f":"_xlfn.TEXTJOIN(\"^\",,U84:U98)","v":"0^0^0"},null,2,{"$nulls":11},{"$f":"_xlfn.TEXTJOIN(\"^\",,AK84:AK98)","v":"0^0^0"},null,2,2,null,{"$f":"$C87","v":2},null,null,2,null,2,null,null,null,{"$f":"_xlfn.TEXTJOIN(\"^\",,AY84:AY98)","v":"4^1^5"}]
[null,null,1,null,{"$f":"$C88","v":1},1,null,1,null,1,null,1,null,null,null,{"$f":"_xlfn.TEXTJOIN(\"^\",,H84:H98)","v":"6^4^2^1^3^5^7"},null,1,100,0,0,0,0,0,0,100,null,null,null,{"$f":"_xlfn.TEXTJOIN(\"^\",,V84:V98)","v":"0^0"},null,1,0,0,0,100,0,0,0,0,null,null,null,{"$f":"_xlfn.TEXTJOIN(\"^\",,AL84:AL98)","v":"0^0^0"},null,1,null,{"$f":"$C88","v":1},null,null,{"$f":"$C88","v":1},null,{"$f":"$C88","v":1},{"$nulls":4},{"$f":"_xlfn.TEXTJOIN(\"^\",,AZ84:AZ98)","v":"6^4^2^3^5^7"}]
[null,null,3,{"$f":"$C89","v":3},3,3,null,3,3,3,null,3,3,null,null,{"$f":"_xlfn.TEXTJOIN(\"^\",,I84:I98)","v":"8^6^4^2^3^5^7^9"},null,3,0,0,0,0,0,0,0,0,null,null,null,{"$f":"_xlfn.TEXTJOIN(\"^\",,W84:W98)","v":"0^0"},null,3,0,0,0,0,0,0,0,0,null,null,null,{"$f":"_xlfn.TEXTJOIN(\"^\",,AM84:AM98)","v":"0^0"},null,3,{"$f":"$C89","v":3},null,{"$f":"$C89","v":3},null,null,{"$f":"$C89","v":3},null,{"$f":"$C89","v":3},null,null,null,{"$f":"_xlfn.TEXTJOIN(\"^\",,BA84:BA98)","v":"6^4^1^5^7"}]
[null,null,5,5,5,5,null,5,5,5,null,5,5,null,null,{"$f":"_xlfn.TEXTJOIN(\"^\",,J84:J98)","v":"6^4^2^1^3^5^7"},null,5,0,null,0,null,null,0,0,0,null,null,null,{"$f":"_xlfn.TEXTJOIN(\"^\",,X84:X98)","v":"0^0^0^0"},null,5,null,0,null,null,0,0,null,0,null,null,null,{"$f":"_xlfn.TEXTJOIN(\"^\",,AN84:AN98)","v":"0^0^0^0"},null,5,5,{"$f":"$C90","v":5},null,null,{"$f":"$C90","v":5},5,5,5,null,null,null,{"$f":"_xlfn.TEXTJOIN(\"^\",,BB84:BB98)","v":"8^6^4^2^3^5^7^9"}]
[null,null,7,null,7,7,null,7,7,7,null,7,7,null,null,{"$f":"_xlfn.TEXTJOIN(\"^\",,K84:K98)","v":"101^102^103^104^105"},null,7,{"$nulls":5},0,{"$nulls":5},{"$f":"_xlfn.TEXTJOIN(\"^\",,Y84:Y98)","v":"0^0^0"},null,7,{"$nulls":7},0,null,null,null,{"$f":"_xlfn.TEXTJOIN(\"^\",,AO84:AO98)","v":""},null,7,{"$nulls":5},7,7,7,null,null,null,{"$f":"_xlfn.TEXTJOIN(\"^\",,BC84:BC98)","v":""}]
[null,null,9,{"$nulls":5},9,null,null,null,9,null,null,{"$f":"_xlfn.TEXTJOIN(\"^\",,L84:L98)","v":"6^4^2^1^3^5^7"},null,9,{"$nulls":13},9,{"$nulls":11},{"$f":"_xlfn.TEXTJOIN(\"^\",,AP84:AP98)","v":""},null,9,{"$nulls":7},9,null,null,null,{"$f":"_xlfn.TEXTJOIN(\"^\",,BD84:BD98)","v":""}]
[null,null,"空降",{"$nulls":12},{"$f":"_xlfn.TEXTJOIN(\"^\",,M84:M98)","v":"8^6^4^2^3^5^7^9"},null,"空降",{"$nulls":13},"空降",{"$nulls":11},{"$f":"_xlfn.TEXTJOIN(\"^\",,AQ84:AQ92)","v":""},null,"空降",{"$nulls":11},{"$f":"_xlfn.TEXTJOIN(\"^\",,BE84:BE92)","v":""}]
[null,null,101,null,null,null,{"$f":"$C94","v":101},null,null,null,{"$f":"$C94","v":101},{"$nulls":4},{"$f":"_xlfn.TEXTJOIN(\"^\",,N84:N98)","v":""},null,101,{"$nulls":11},{"$f":"_xlfn.TEXTJOIN(\"^\",,Z84:Z98)","v":"100^0^0"},null,101,{"$nulls":13},101,null,null,null,{"$f":"$C94","v":101}]
[null,null,102,null,null,null,102,null,null,null,102,{"$nulls":6},102,{"$nulls":11},{"$f":"_xlfn.TEXTJOIN(\"^\",,AA84:AA98)","v":""},null,102,{"$nulls":13},102,null,null,null,102]
[null,null,103,null,null,null,103,null,null,null,103,{"$nulls":6},103,{"$nulls":11},{"$f":"_xlfn.TEXTJOIN(\"^\",,AB84:AB98)","v":""},null,103,{"$nulls":13},103]
[null,null,104,null,null,null,104,null,null,null,104,{"$nulls":6},104,{"$nulls":13},104,{"$nulls":13},104,null,null,null,{"$f":"$C97","v":104}]
[null,null,105,null,null,null,105,null,null,null,105,{"$nulls":6},105,{"$nulls":13},105,{"$nulls":13},105,null,null,null,105]
[{"$nulls":14},"最终",{"$f":"_xlfn.TEXTJOIN(\"^\",,P84:P98)","v":"4^2^3^5^6^4^2^1^3^5^7^6^4^2^1^3^5^7^101^102^103^104^105^6^4^2^1^3^5^7^8^6^4^2^3^5^7^9^6^4^2^1^3^5^7^101^102^103^104^105^6^4^2^1^3^5^7^8^6^4^2^3^5^7^9"},{"$nulls":12},"最终",{"$f":"_xlfn.TEXTJOIN(\"^\",,AD84:AD98)","v":"100^0^0^0^0^0^0^0^0^0^0^0^0^0^0^0^0^0^0^100^0^0"},{"$nulls":12},"最终",{"$f":"_xlfn.TEXTJOIN(\"^\",,AR83:AR98)","v":"0^0^0^0^0^0^0^100^0^0^0^0^0^0^0^0^0^0^0^0^0"},{"$nulls":12},"最终",{"$f":"_xlfn.TEXTJOIN(\"^\",,BF83:BF98)","v":"4^2^3^5^4^1^5^2^3^101^102^104^105^4^1^5^6^4^2^3^5^7^6^4^1^5^7^8^6^4^2^3^5^7^9"}]
[]
[null,null,"时间",5,10,16,20,30,40,50,55,65,75,{"$nulls":4},"时间",5,10,15,20,30,45,60,70,null,null,null,{"$f":"_xlfn.TEXTJOIN(\"^\",,S102:S110)","v":"10^3^4"},null,"时间",4,6,10,15,25,40,57,75,null,null,null,{"$f":"_xlfn.TEXTJOIN(\"^\",,AG102:AG110)","v":"4^17"},null,"时间",2,4,6,8,10,17,25,35,null,null,null,{"$f":"_xlfn.TEXTJOIN(\"^\",,AU102:AU110)","v":"2^2^2^2"}]
[null,null,8,{"$nulls":5},{"$f":"I$101","v":40},null,null,null,{"$f":"M$101","v":75},null,null,{"$f":"_xlfn.TEXTJOIN(\"^\",,D102:D111)","v":"5^5^5^5"},null,8,{"$nulls":11},{"$f":"_xlfn.TEXTJOIN(\"^\",,T102:T110)","v":"4^8"},null,8,{"$nulls":11},{"$f":"_xlfn.TEXTJOIN(\"^\",,AH102:AH110)","v":"6^3^2"},null,8,{"$nulls":7},{"$f":"BB$101","v":35},null,null,null,{"$f":"_xlfn.TEXTJOIN(\"^\",,AV102:AV110)","v":"4^4^4"}]
[null,null,6,null,{"$f":"E$101","v":10},16,null,{"$f":"H$101","v":30},40,50,null,{"$f":"L$101","v":65},75,null,null,{"$f":"_xlfn.TEXTJOIN(\"^\",,E102:E111)","v":"10^10^10^10^10^10^10"},null,6,{"$nulls":11},{"$f":"_xlfn.TEXTJOIN(\"^\",,U102:U110)","v":"2^8^3"},null,6,{"$nulls":11},{"$f":"_xlfn.TEXTJOIN(\"^\",,AI102:AI110)","v":"9^3"},null,6,{"$nulls":5},{"$f":"AZ$101","v":17},25,35,null,null,null,{"$f":"_xlfn.TEXTJOIN(\"^\",,AW102:AW110)","v":"6^6"}]
[null,null,4,{"$f":"D$101","v":5},10,16,20,30,40,50,55,65,75,null,null,{"$f":"_xlfn.TEXTJOIN(\"^\",,F102:F111)","v":"16^16^16^16^16^16^16"},null,4,{"$nulls":11},{"$f":"_xlfn.TEXTJOIN(\"^\",,V102:V110)","v":"10^2"},null,4,{"$nulls":11},{"$f":"_xlfn.TEXTJOIN(\"^\",,AJ102:AJ110)","v":"8^2"},null,4,{"$f":"AU$101","v":2},{"$f":"AV$101","v":4},null,{"$f":"AX$101","v":8},{"$f":"AY$101","v":10},17,25,35,null,null,null,{"$f":"_xlfn.TEXTJOIN(\"^\",,AX102:AX110)","v":"8^8^8^8"}]
[null,null,2,5,10,16,20,30,40,50,55,65,75,null,null,{"$f":"_xlfn.TEXTJOIN(\"^\",,G102:G111)","v":"20^20^20^20^20"},null,2,{"$nulls":11},{"$f":"_xlfn.TEXTJOIN(\"^\",,W102:W110)","v":"10^3"},null,2,{"$nulls":11},{"$f":"_xlfn.TEXTJOIN(\"^\",,AK102:AK110)","v":"10^3^2"},null,2,2,null,{"$f":"AW$101","v":6},8,null,17,null,35,null,null,null,{"$f":"_xlfn.TEXTJOIN(\"^\",,AY102:AY110)","v":"10^10^10"}]
[null,null,1,null,10,16,20,30,null,50,55,65,null,null,null,{"$f":"_xlfn.TEXTJOIN(\"^\",,H102:H111)","v":"30^30^30^30^30^30^30"},null,1,10,4,2,10,10,2,2,8,null,null,null,{"$f":"_xlfn.TEXTJOIN(\"^\",,X102:X110)","v":"2^7^3^2"},null,1,4,6,9,8,10,2,12,2,null,null,null,{"$f":"_xlfn.TEXTJOIN(\"^\",,AL102:AL110)","v":"2^2^11"},null,1,null,{"$f":"AV$101","v":4},null,null,{"$f":"AY$101","v":10},null,{"$f":"BA$101","v":25},{"$nulls":4},{"$f":"_xlfn.TEXTJOIN(\"^\",,AZ102:AZ110)","v":"17^17^17^17^17^17"}]
[null,null,3,{"$f":"D$101","v":5},10,16,20,30,40,50,55,65,75,null,null,{"$f":"_xlfn.TEXTJOIN(\"^\",,I102:I111)","v":"40^40^40^40^40^40^40^40"},null,3,3,8,8,2,3,7,3,3,null,null,null,{"$f":"_xlfn.TEXTJOIN(\"^\",,Y102:Y110)","v":"2^3^9"},null,3,17,3,3,2,3,2,3,9,null,null,null,{"$f":"_xlfn.TEXTJOIN(\"^\",,AM102:AM110)","v":"12^3"},null,3,{"$f":"AU$101","v":2},null,{"$f":"AW$101","v":6},{"$f":"AX$101","v":8},null,{"$f":"AZ$101","v":17},null,{"$f":"BB$101","v":35},null,null,null,{"$f":"_xlfn.TEXTJOIN(\"^\",,BA102:BA110)","v":"25^25^25^25^25"}]
[null,null,5,5,10,16,20,30,40,50,55,65,75,null,null,{"$f":"_xlfn.TEXTJOIN(\"^\",,J102:J111)","v":"50^50^50^50^50^50^50"},null,5,4,null,3,null,null,3,9,2,null,null,null,{"$f":"_xlfn.TEXTJOIN(\"^\",,Z102:Z110)","v":"8^3^2"},null,5,null,2,null,null,2,11,null,3,null,null,null,{"$f":"_xlfn.TEXTJOIN(\"^\",,AN102:AN110)","v":"2^9^3^2"},null,5,2,{"$f":"AV$101","v":4},null,8,{"$f":"AY$101","v":10},17,25,35,null,null,null,{"$f":"_xlfn.TEXTJOIN(\"^\",,BB102:BB110)","v":"35^35^35^35^35^35^35^35"}]
[null,null,7,null,10,16,null,30,40,50,null,65,75,null,null,{"$f":"_xlfn.TEXTJOIN(\"^\",,K102:K111)","v":"55^55^55^55^55"},null,7,{"$nulls":5},2,{"$nulls":5},{"$f":"_xlfn.TEXTJOIN(\"^\",,AA102:AA110)","v":""},null,7,{"$nulls":7},2,null,null,null,{"$f":"_xlfn.TEXTJOIN(\"^\",,AO102:AO110)","v":""},null,7,{"$nulls":5},17,25,35,null,null,null,{"$f":"_xlfn.TEXTJOIN(\"^\",,BC102:BC110)","v":""}]
[null,null,9,{"$nulls":5},40,null,null,null,75,null,null,{"$f":"_xlfn.TEXTJOIN(\"^\",,L102:L111)","v":"65^65^65^65^65^65^65"},null,9,{"$nulls":11},{"$f":"_xlfn.TEXTJOIN(\"^\",,AB102:AB110)","v":""},null,9,{"$nulls":11},{"$f":"_xlfn.TEXTJOIN(\"^\",,AP102:AP110)","v":""},null,9,{"$nulls":7},35,null,null,null,{"$f":"_xlfn.TEXTJOIN(\"^\",,BD102:BD110)","v":""}]
[{"$nulls":15},{"$f":"_xlfn.TEXTJOIN(\"^\",,M102:M111)","v":"75^75^75^75^75^75^75^75"},{"$nulls":13},{"$f":"_xlfn.TEXTJOIN(\"^\",,AC102:AC110)","v":""},{"$nulls":13},{"$f":"_xlfn.TEXTJOIN(\"^\",,AQ102:AQ110)","v":""},{"$nulls":13},{"$f":"_xlfn.TEXTJOIN(\"^\",,BE102:BE110)","v":""}]
[{"$nulls":15},{"$f":"_xlfn.TEXTJOIN(\"^\",,N102:N111)","v":""},{"$nulls":12},"最终",{"$f":"_xlfn.TEXTJOIN(\"^\",,AD101:AD111)","v":"10^3^4^4^8^2^8^3^10^2^10^3^2^7^3^2^2^3^9^8^3^2"},{"$nulls":12},"最终",{"$f":"_xlfn.TEXTJOIN(\"^\",,AR101:AR111)","v":"4^17^6^3^2^9^3^8^2^10^3^2^2^2^11^12^3^2^9^3^2"},{"$nulls":12},"最终",{"$f":"_xlfn.TEXTJOIN(\"^\",,BF101:BF111)","v":"2^2^2^2^4^4^4^6^6^8^8^8^8^10^10^10^17^17^17^17^17^17^25^25^25^25^25^35^35^35^35^35^35^35^35"}]
[{"$nulls":14},"最终",{"$f":"_xlfn.TEXTJOIN(\"^\",,P102:P112)","v":"5^5^5^5^10^10^10^10^10^10^10^16^16^16^16^16^16^16^20^20^20^20^20^30^30^30^30^30^30^30^40^40^40^40^40^40^40^40^50^50^50^50^50^50^50^55^55^55^55^55^65^65^65^65^65^65^65^75^75^75^75^75^75^75^75"}]
[{"$nulls":15},{"$f":"COUNT(D102:M110)","v":65},{"$nulls":13},{"$f":"SUM(S102:Z110)","v":108},{"$nulls":13},{"$f":"SUM(AG102:AN110)","v":115},{"$nulls":13},{"$f":"COUNT(AU102:BB110)","v":35}]
[{"$nulls":57},{"$f":"SUM(P114:BF114)","v":323}]
[]
[{"$nulls":4},{"$f":"E118-D118","v":5},{"$f":"F118-E118","v":7},8,10,5,10,10,10,5,{"$nulls":6},{"$f":"T118-S118","v":5},5,10,15,16,17,7,{"$nulls":7},{"$f":"AH118-AG118","v":2},5,7,8,10,10,5,{"$nulls":7},{"$f":"AV118-AU118","v":2},3,4,5,8,10,10]
[1,"荒林-3","波1·怪物",5,10,17,25,35,40,50,60,70,75,null,null,null,3,"波2·怪物",5,10,15,25,40,56,73,80,{"$nulls":4},1,"波3·怪物",3,5,10,17,25,35,45,50,{"$nulls":4},1,"波4·怪物",3,5,8,12,17,25,35,45]
[null,"5m",8,null,null,60432,null,60434,null,60431,60434,{"$nulls":4},{"$f":"_xlfn.TEXTJOIN(\"^\",,D119:D128)","v":"60431^60431^60431^60431"},null,8,{"$nulls":11},{"$f":"_xlfn.TEXTJOIN(\"^\",,S119:S128)","v":"60432^60434^60431"},null,8,{"$nulls":4},60434,60431,{"$nulls":5},{"$f":"_xlfn.TEXTJOIN(\"^\",,AG119:AG128)","v":"60433^60431^60433^60431^60433"},null,8,{"$nulls":5},60434,null,60432,null,null,null,{"$f":"_xlfn.TEXTJOIN(\"^\",,AU119:AU128)","v":"60435^60435^60435"}]
[null,null,6,null,60434,null,60432,60432,null,60431,60432,60432,null,null,null,{"$f":"_xlfn.TEXTJOIN(\"^\",,E119:E128)","v":"60434^60432^60432^60432^60434"},null,6,{"$nulls":11},{"$f":"_xlfn.TEXTJOIN(\"^\",,T119:T128)","v":"60431^60432"},null,6,null,60434,null,60432,60432,60431,60432,{"$nulls":4},{"$f":"_xlfn.TEXTJOIN(\"^\",,AH119:AH128)","v":"60434^60432^60432^60432^60434"},null,6,null,null,60434,null,60432,null,60432,{"$nulls":4},{"$f":"_xlfn.TEXTJOIN(\"^\",,AV119:AV128)","v":"60432^60432^60432"}]
[null,null,4,60431,null,60431,60431,null,60435,60432,60431,60431,60435,null,null,{"$f":"_xlfn.TEXTJOIN(\"^\",,F119:F128)","v":"60432^60431^60433^60432^60433^60431^60432"},null,4,{"$nulls":11},{"$f":"_xlfn.TEXTJOIN(\"^\",,U119:U128)","v":"60433^60431"},null,4,60433,null,60435,60431,null,60432,60438,60435,null,null,null,{"$f":"_xlfn.TEXTJOIN(\"^\",,AI119:AI128)","v":"60435^60435^60435^60435^60435"},null,4,60435,null,null,60431,60431,60431,60431,60432,null,null,null,{"$f":"_xlfn.TEXTJOIN(\"^\",,AW119:AW128)","v":"60434^60433^60434"}]
[null,null,2,60431,60432,60433,60431,60433,60435,null,60433,60431,60435,null,null,{"$f":"_xlfn.TEXTJOIN(\"^\",,G119:G128)","v":"60432^60431^60431^60434^60431^60431^60432"},null,2,{"$nulls":11},{"$f":"_xlfn.TEXTJOIN(\"^\",,V119:V128)","v":"60435^60434^60437"},null,2,60431,60432,60435,60433,60431,null,60433,60435,null,null,null,{"$f":"_xlfn.TEXTJOIN(\"^\",,AJ119:AJ128)","v":"60432^60431^60433^60432^60433^60431^60432"},null,2,null,60432,null,60431,60433,60432,60433,60431,null,null,null,{"$f":"_xlfn.TEXTJOIN(\"^\",,AX119:AX128)","v":"60431^60431^60431^60431"}]
[null,null,1,null,60432,60432,60434,60433,60435,60432,null,60438,60435,null,null,{"$f":"_xlfn.TEXTJOIN(\"^\",,H119:H128)","v":"60434^60432^60433^60433^60433^60432^60434"},null,1,60432,60431,60433,60435,60431,60434,60432,60435,null,null,null,{"$f":"_xlfn.TEXTJOIN(\"^\",,W119:W128)","v":"60431^60432^60434"},null,1,60433,60432,60435,60432,60431,60432,60434,60435,null,null,null,{"$f":"_xlfn.TEXTJOIN(\"^\",,AK119:AK128)","v":"60434^60432^60431^60431^60431^60432^60434"},null,1,60435,60432,60433,null,null,60432,60434,60433,null,null,null,{"$f":"_xlfn.TEXTJOIN(\"^\",,AY119:AY128)","v":"60432^60431^60433^60433^60431^60432"}]
[null,null,3,60431,60432,60433,60431,60433,60435,null,60433,60431,60435,null,null,{"$f":"_xlfn.TEXTJOIN(\"^\",,I119:I128)","v":"60435^60435^60435^60435^60435"},null,3,60434,60432,60431,60434,60432,60433,60431,60432,null,null,null,{"$f":"_xlfn.TEXTJOIN(\"^\",,X119:X128)","v":"60434^60433^60431^60432"},null,3,60431,60432,60435,60433,60431,null,60433,60435,null,null,null,{"$f":"_xlfn.TEXTJOIN(\"^\",,AL119:AL128)","v":"60431^60431^60432^60432^60432^60431^60431"},null,3,null,60432,null,60431,60433,60432,60433,60431,null,null,null,{"$f":"_xlfn.TEXTJOIN(\"^\",,AZ119:AZ128)","v":"60434^60431^60432^60432^60432^60431^60434"}]
[null,null,5,60431,null,60431,60431,null,60435,60432,60431,60431,60435,null,null,{"$f":"_xlfn.TEXTJOIN(\"^\",,J119:J128)","v":"60431^60431^60432^60432^60432^60431^60431"},null,5,60431,null,null,60437,60434,60431,60434,{"$nulls":4},{"$f":"_xlfn.TEXTJOIN(\"^\",,Y119:Y128)","v":"60432^60431^60434"},null,5,60433,null,60435,60431,null,60432,60437,60435,null,null,null,{"$f":"_xlfn.TEXTJOIN(\"^\",,AM119:AM128)","v":"60432^60438^60433^60434^60433^60437^60432"},null,5,60435,null,null,60431,60431,60431,60431,60432,null,null,null,{"$f":"_xlfn.TEXTJOIN(\"^\",,BA119:BA128)","v":"60432^60431^60433^60434^60433^60431^60432"}]
[null,null,7,null,60434,null,60432,60432,null,60431,60432,60432,null,null,null,{"$f":"_xlfn.TEXTJOIN(\"^\",,K119:K128)","v":"60434^60432^60431^60433^60433^60431^60432^60434"},null,7,{"$nulls":5},60432,{"$nulls":5},{"$f":"_xlfn.TEXTJOIN(\"^\",,Z119:Z128)","v":"60435^60432"},null,7,null,60434,null,60432,60432,60431,60432,{"$nulls":4},{"$f":"_xlfn.TEXTJOIN(\"^\",,AN119:AN128)","v":"60435^60435^60435^60435^60435"},null,7,null,null,60434,null,60432,null,60432,{"$nulls":4},{"$f":"_xlfn.TEXTJOIN(\"^\",,BB119:BB128)","v":"60432^60432^60431^60433^60431^60432^60432"}]
[null,null,9,null,null,60432,null,60434,null,60431,60434,{"$nulls":4},{"$f":"_xlfn.TEXTJOIN(\"^\",,L119:L128)","v":"60432^60431^60431^60438^60431^60431^60432"},null,9,{"$nulls":11},{"$f":"_xlfn.TEXTJOIN(\"^\",,AA119:AA128)","v":""},null,9,{"$nulls":4},60434,60431,{"$nulls":5},{"$f":"_xlfn.TEXTJOIN(\"^\",,AO119:AO128)","v":""},null,9,{"$nulls":5},60434,null,60432,null,null,null,{"$f":"_xlfn.TEXTJOIN(\"^\",,BC119:BC128)","v":""}]
[{"$nulls":15},{"$f":"_xlfn.TEXTJOIN(\"^\",,M119:M128)","v":"60435^60435^60435^60435^60435"},{"$nulls":13},{"$f":"_xlfn.TEXTJOIN(\"^\",,AB119:AB128)","v":""},{"$nulls":13},{"$f":"_xlfn.TEXTJOIN(\"^\",,AP119:AP128)","v":""},{"$nulls":13},{"$f":"_xlfn.TEXTJOIN(\"^\",,BD119:BD128)","v":""}]
[{"$nulls":15},{"$f":"_xlfn.TEXTJOIN(\"^\",,N119:N128)","v":""},{"$nulls":13},{"$f":"_xlfn.TEXTJOIN(\"^\",,AC119:AC128)","v":""},{"$nulls":13},{"$f":"_xlfn.TEXTJOIN(\"^\",,AQ119:AQ128)","v":""},{"$nulls":13},{"$f":"_xlfn.TEXTJOIN(\"^\",,BE119:BE128)","v":""}]
[{"$nulls":14},"最终",{"$f":"_xlfn.TEXTJOIN(\"^\",,P119:P129)","v":"60431^60431^60431^60431^60434^60432^60432^60432^60434^60432^60431^60433^60432^60433^60431^60432^60432^60431^60431^60434^60431^60431^60432^60434^60432^60433^60433^60433^60432^60434^60435^60435^60435^60435^60435^60431^60431^60432^60432^60432^60431^60431^60434^60432^60431^60433^60433^60431^60432^60434^60432^60431^60431^60438^60431^60431^60432^60435^60435^60435^60435^60435"},{"$nulls":12},"最终",{"$f":"_xlfn.TEXTJOIN(\"^\",,AD119:AD129)","v":"60432^60434^60431^60431^60432^60433^60431^60435^60434^60437^60431^60432^60434^60434^60433^60431^60432^60432^60431^60434^60435^60432"},{"$nulls":12},"最终",{"$f":"_xlfn.TEXTJOIN(\"^\",,AR119:AR129)","v":"60433^60431^60433^60431^60433^60434^60432^60432^60432^60434^60435^60435^60435^60435^60435^60432^60431^60433^60432^60433^60431^60432^60434^60432^60431^60431^60431^60432^60434^60431^60431^60432^60432^60432^60431^60431^60432^60438^60433^60434^60433^60437^60432^60435^60435^60435^60435^60435"},{"$nulls":12},"最终",{"$f":"_xlfn.TEXTJOIN(\"^\",,BF119:BF129)","v":"60435^60435^60435^60432^60432^60432^60434^60433^60434^60431^60431^60431^60431^60432^60431^60433^60433^60431^60432^60434^60431^60432^60432^60432^60431^60434^60432^60431^60433^60434^60433^60431^60432^60432^60432^60431^60433^60431^60432^60432"}]
[null,null,8,null,null,"孢子人",null,"木精灵",null,"树精","木精灵",{"$nulls":6},8,{"$nulls":13},8,{"$nulls":4},"木精灵","树精",{"$nulls":7},8,{"$nulls":5},"木精灵",null,"孢子人"]
[null,null,6,null,"木精灵",null,"孢子人","孢子人",null,"树精","孢子人","孢子人",{"$nulls":5},6,{"$nulls":13},6,null,"木精灵",null,"孢子人","孢子人","树精","孢子人",{"$nulls":6},6,null,null,"木精灵",null,"孢子人",null,"孢子人"]
[null,null,4,"树精",null,"树精","树精",null,"森林蜘蛛","孢子人","树精","树精","森林蜘蛛",{"$nulls":4},4,{"$nulls":13},4,"哥布林",null,"森林蜘蛛","树精",null,"孢子人","黑暗法师","森林蜘蛛",{"$nulls":5},4,"森林蜘蛛",null,null,"树精","树精","树精","树精","孢子人"]
[null,null,2,"树精","孢子人","哥布林","树精","哥布林","森林蜘蛛",null,"哥布林","树精","森林蜘蛛",{"$nulls":4},2,{"$nulls":13},2,"树精","孢子人","森林蜘蛛","哥布林","树精",null,"哥布林","森林蜘蛛",{"$nulls":5},2,null,"孢子人",null,"树精","哥布林","孢子人","哥布林","树精"]
[null,null,1,null,"孢子人","孢子人","木精灵","哥布林","森林蜘蛛","孢子人",null,"黑暗法师","森林蜘蛛",{"$nulls":4},1,"孢子人","树精","哥布林","森林蜘蛛","树精","木精灵","孢子人","森林蜘蛛",{"$nulls":5},1,"哥布林","孢子人","森林蜘蛛","孢子人","树精","孢子人","木精灵","森林蜘蛛",{"$nulls":5},1,"森林蜘蛛","孢子人","哥布林",null,null,"孢子人","木精灵","哥布林"]
[null,null,3,"树精","孢子人","哥布林","树精","哥布林","森林蜘蛛",null,"哥布林","树精","森林蜘蛛",{"$nulls":4},3,"木精灵","孢子人","树精","木精灵","孢子人","哥布林","树精","孢子人",{"$nulls":5},3,"树精","孢子人","森林蜘蛛","哥布林","树精",null,"哥布林","森林蜘蛛",{"$nulls":5},3,null,"孢子人",null,"树精","哥布林","孢子人","哥布林","树精"]
[null,null,5,"树精",null,"树精","树精",null,"森林蜘蛛","孢子人","树精","树精","森林蜘蛛",{"$nulls":4},5,"树精",null,null,"森林祭祀","木精灵","树精","木精灵",{"$nulls":6},5,"哥布林",null,"森林蜘蛛","树精",null,"孢子人","森林祭祀","森林蜘蛛",{"$nulls":5},5,"森林蜘蛛",null,null,"树精","树精","树精","树精","孢子人"]
[null,null,7,null,"木精灵",null,"孢子人","孢子人",null,"树精","孢子人","孢子人",{"$nulls":5},7,{"$nulls":5},"孢子人",{"$nulls":7},7,null,"木精灵",null,"孢子人","孢子人","树精","孢子人",{"$nulls":6},7,null,null,"木精灵",null,"孢子人",null,"孢子人"]
[null,null,9,null,null,"孢子人",null,"木精灵",null,"树精","木精灵",{"$nulls":6},9,{"$nulls":13},9,{"$nulls":4},"木精灵","树精",{"$nulls":7},9,{"$nulls":5},"木精灵",null,"孢子人"]
[]
[null,null,"位置",5,10,17,25,35,40,50,60,70,75,{"$nulls":4},"位置",5,10,15,25,40,56,73,80,{"$nulls":5},"位置",3,5,10,17,25,35,45,50,null,null,null,{"$f":"_xlfn.TEXTJOIN(\"^\",,AG142:AG156)","v":"4^2^1^3^5"},null,"位置",3,5,8,12,17,25,35,45,null,null,null,{"$f":"_xlfn.TEXTJOIN(\"^\",,AU142:AU156)","v":"101^103^105"}]
[null,null,8,null,null,{"$f":"$C142","v":8},null,{"$f":"$C142","v":8},null,{"$f":"$C142","v":8},8,{"$nulls":4},{"$f":"_xlfn.TEXTJOIN(\"^\",,D142:D156)","v":"4^2^3^5"},null,8,{"$nulls":13},8,{"$nulls":4},{"$f":"$C142","v":8},8,{"$nulls":5},{"$f":"_xlfn.TEXTJOIN(\"^\",,AH142:AH156)","v":"6^2^1^3^7"},null,8,{"$nulls":5},{"$f":"$C142","v":8},null,{"$f":"$C142","v":8},null,null,null,{"$f":"_xlfn.TEXTJOIN(\"^\",,AV142:AV156)","v":"2^1^3"}]
[null,null,6,null,{"$f":"$C143","v":6},null,{"$f":"$C143","v":6},6,null,6,6,6,null,null,null,{"$f":"_xlfn.TEXTJOIN(\"^\",,E142:E156)","v":"6^2^1^3^7"},null,6,{"$nulls":11},{"$f":"_xlfn.TEXTJOIN(\"^\",,S142:S156)","v":"0^0^0"},null,6,null,{"$f":"$C143","v":6},null,{"$f":"$C143","v":6},6,6,6,{"$nulls":4},{"$f":"_xlfn.TEXTJOIN(\"^\",,AI142:AI156)","v":"101^102^103^104^105"},null,6,null,null,{"$f":"$C143","v":6},null,{"$f":"$C143","v":6},null,{"$f":"$C143","v":6},{"$nulls":4},{"$f":"_xlfn.TEXTJOIN(\"^\",,AW142:AW156)","v":"6^1^7"}]
[null,null,4,{"$f":"$C144","v":4},null,{"$f":"$C144","v":4},4,null,null,4,4,4,null,null,null,{"$f":"_xlfn.TEXTJOIN(\"^\",,F142:F156)","v":"8^4^2^1^3^5^9"},null,4,{"$nulls":11},{"$f":"_xlfn.TEXTJOIN(\"^\",,T142:T156)","v":"0^0"},null,4,{"$f":"$C144","v":4},null,null,4,null,4,4,{"$nulls":4},{"$f":"_xlfn.TEXTJOIN(\"^\",,AJ142:AJ156)","v":"6^4^2^1^3^5^7"},null,4,null,null,null,{"$f":"$C144","v":4},4,4,4,4,null,null,null,{"$f":"_xlfn.TEXTJOIN(\"^\",,AX142:AX156)","v":"4^2^3^5"}]
[null,null,2,{"$f":"$C145","v":2},{"$f":"$C145","v":2},2,2,{"$f":"$C145","v":2},null,null,2,2,null,null,null,{"$f":"_xlfn.TEXTJOIN(\"^\",,G142:G156)","v":"6^4^2^1^3^5^7"},null,2,{"$nulls":11},{"$f":"_xlfn.TEXTJOIN(\"^\",,U142:U156)","v":"0^0"},null,2,{"$f":"$C145","v":2},{"$f":"$C145","v":2},null,2,2,null,2,{"$nulls":4},{"$f":"_xlfn.TEXTJOIN(\"^\",,AK142:AK156)","v":"8^6^2^1^3^7^9"},null,2,null,{"$f":"$C145","v":2},null,2,2,2,2,2,null,null,null,{"$f":"_xlfn.TEXTJOIN(\"^\",,AY142:AY156)","v":"6^4^2^3^5^7"}]
[null,null,1,null,1,1,1,{"$f":"$C146","v":1},null,{"$f":"$C146","v":1},null,{"$f":"$C146","v":1},null,null,null,{"$f":"_xlfn.TEXTJOIN(\"^\",,H142:H156)","v":"8^6^2^1^3^7^9"},null,1,0,0,0,100,0,0,0,100,null,null,null,{"$f":"_xlfn.TEXTJOIN(\"^\",,V142:V156)","v":"100^0^0"},null,1,{"$f":"$C146","v":1},{"$f":"$C146","v":1},null,1,1,{"$f":"$C146","v":1},1,{"$nulls":4},{"$f":"_xlfn.TEXTJOIN(\"^\",,AL142:AL156)","v":"8^6^4^1^5^7^9"},null,1,null,1,{"$f":"$C146","v":1},null,null,1,1,1,null,null,null,{"$f":"_xlfn.TEXTJOIN(\"^\",,AZ142:AZ156)","v":"8^4^2^1^3^5^9"}]
[null,null,3,{"$f":"$C147","v":3},3,3,3,{"$f":"$C147","v":3},null,null,{"$f":"$C147","v":3},3,null,null,null,{"$f":"_xlfn.TEXTJOIN(\"^\",,I142:I156)","v":"101^102^103^104^105"},null,3,0,0,0,0,0,0,0,0,null,null,null,{"$f":"_xlfn.TEXTJOIN(\"^\",,W142:W156)","v":"0^0^0"},null,3,{"$f":"$C147","v":3},{"$f":"$C147","v":3},null,3,3,null,3,{"$nulls":4},{"$f":"_xlfn.TEXTJOIN(\"^\",,AM142:AM156)","v":"6^4^2^1^3^5^7"},null,3,null,3,null,{"$f":"$C147","v":3},3,3,3,3,null,null,null,{"$f":"_xlfn.TEXTJOIN(\"^\",,BA142:BA156)","v":"6^4^2^1^3^5^7"}]
[null,null,5,5,null,5,5,null,null,{"$f":"$C148","v":5},5,5,null,null,null,{"$f":"_xlfn.TEXTJOIN(\"^\",,J142:J156)","v":"8^6^4^1^5^7^9"},null,5,0,null,null,0,0,0,0,{"$nulls":4},{"$f":"_xlfn.TEXTJOIN(\"^\",,X142:X156)","v":"0^0^0^0"},null,5,{"$f":"$C148","v":5},null,null,5,null,{"$f":"$C148","v":5},5,{"$nulls":4},{"$f":"_xlfn.TEXTJOIN(\"^\",,AN142:AN156)","v":"101^102^103^104^105"},null,5,null,null,null,5,5,5,5,5,null,null,null,{"$f":"_xlfn.TEXTJOIN(\"^\",,BB142:BB156)","v":"8^4^2^1^3^5^9"}]
[null,null,7,null,{"$f":"$C149","v":7},null,7,7,null,7,7,7,null,null,null,{"$f":"_xlfn.TEXTJOIN(\"^\",,K142:K156)","v":"8^6^4^2^3^5^7^9"},null,7,{"$nulls":5},0,{"$nulls":5},{"$f":"_xlfn.TEXTJOIN(\"^\",,Y142:Y156)","v":"0^0^0"},null,7,null,{"$f":"$C149","v":7},null,7,7,7,7,{"$nulls":4},{"$f":"_xlfn.TEXTJOIN(\"^\",,AO142:AO156)","v":""},null,7,null,null,{"$f":"$C149","v":7},null,7,null,7,{"$nulls":4},{"$f":"_xlfn.TEXTJOIN(\"^\",,BC142:BC156)","v":""}]
[null,null,9,null,null,{"$f":"$C150","v":9},null,9,null,9,9,{"$nulls":4},{"$f":"_xlfn.TEXTJOIN(\"^\",,L142:L156)","v":"6^4^2^1^3^5^7"},null,9,{"$nulls":13},9,{"$nulls":4},9,9,{"$nulls":5},{"$f":"_xlfn.TEXTJOIN(\"^\",,AP142:AP156)","v":""},null,9,{"$nulls":5},{"$f":"$C150","v":9},null,{"$f":"$C150","v":9},null,null,null,{"$f":"_xlfn.TEXTJOIN(\"^\",,BD142:BD156)","v":""}]
[null,null,"空降",{"$nulls":12},{"$f":"_xlfn.TEXTJOIN(\"^\",,M142:M156)","v":"101^102^103^104^105"},null,"空降",{"$nulls":13},"空降",{"$nulls":11},{"$f":"_xlfn.TEXTJOIN(\"^\",,AQ142:AQ150)","v":""},null,"空降",{"$nulls":11},{"$f":"_xlfn.TEXTJOIN(\"^\",,BE142:BE150)","v":""}]
[null,null,101,{"$nulls":5},{"$f":"$C152","v":101},null,null,null,{"$f":"$C152","v":101},null,null,{"$f":"_xlfn.TEXTJOIN(\"^\",,N142:N156)","v":""},null,101,{"$nulls":11},{"$f":"_xlfn.TEXTJOIN(\"^\",,Z142:Z156)","v":"100^0"},null,101,null,null,{"$f":"$C152","v":101},{"$nulls":4},{"$f":"$C152","v":101},{"$nulls":5},101,{"$f":"$C152","v":101}]
[null,null,102,{"$nulls":5},102,null,null,null,102,{"$nulls":4},102,{"$nulls":11},{"$f":"_xlfn.TEXTJOIN(\"^\",,AA142:AA156)","v":""},null,102,null,null,102,{"$nulls":4},102,{"$nulls":5},102]
[null,null,103,{"$nulls":5},103,null,null,null,103,{"$nulls":4},103,{"$nulls":11},{"$f":"_xlfn.TEXTJOIN(\"^\",,AB142:AB156)","v":""},null,103,null,null,103,{"$nulls":4},103,{"$nulls":5},103,{"$f":"$C154","v":103}]
[null,null,104,{"$nulls":5},104,null,null,null,104,{"$nulls":4},104,{"$nulls":13},104,null,null,104,{"$nulls":4},104,{"$nulls":5},104]
[null,null,105,{"$nulls":5},105,null,null,null,105,{"$nulls":4},105,{"$nulls":13},105,null,null,105,{"$nulls":4},105,{"$nulls":5},105,{"$f":"$C156","v":105}]
[{"$nulls":14},"最终",{"$f":"_xlfn.TEXTJOIN(\"^\",,P142:P156)","v":"4^2^3^5^6^2^1^3^7^8^4^2^1^3^5^9^6^4^2^1^3^5^7^8^6^2^1^3^7^9^101^102^103^104^105^8^6^4^1^5^7^9^8^6^4^2^3^5^7^9^6^4^2^1^3^5^7^101^102^103^104^105"},{"$nulls":12},"最终",{"$f":"_xlfn.TEXTJOIN(\"^\",,AD142:AD156)","v":"0^0^0^0^0^0^0^100^0^0^0^0^0^0^0^0^0^0^0^0^100^0"},{"$nulls":12},"最终",{"$f":"_xlfn.TEXTJOIN(\"^\",,AR141:AR156)","v":"4^2^1^3^5^6^2^1^3^7^101^102^103^104^105^6^4^2^1^3^5^7^8^6^2^1^3^7^9^8^6^4^1^5^7^9^6^4^2^1^3^5^7^101^102^103^104^105"},{"$nulls":12},"最终",{"$f":"_xlfn.TEXTJOIN(\"^\",,BF141:BF156)","v":"101^103^105^2^1^3^6^1^7^4^2^3^5^6^4^2^3^5^7^8^4^2^1^3^5^9^6^4^2^1^3^5^7^8^4^2^1^3^5^9"}]
[]
[null,null,"时间",5,10,17,25,35,40,50,60,70,75,{"$nulls":4},"时间",5,10,15,25,40,56,73,80,null,null,null,{"$f":"_xlfn.TEXTJOIN(\"^\",,S160:S168)","v":"4^3^15"},null,"时间",3,5,10,17,25,35,45,50,null,null,null,{"$f":"_xlfn.TEXTJOIN(\"^\",,AG160:AG168)","v":"3^2^1^3^3"},null,"时间",3,5,8,12,17,25,35,45,null,null,null,{"$f":"_xlfn.TEXTJOIN(\"^\",,AU160:AU168)","v":"3^3^3"}]
[null,null,8,null,null,{"$f":"F$159","v":17},null,{"$f":"H$159","v":35},null,{"$f":"J$159","v":50},60,{"$nulls":4},{"$f":"_xlfn.TEXTJOIN(\"^\",,D160:D169)","v":"5^5^5^5"},null,8,{"$nulls":11},{"$f":"_xlfn.TEXTJOIN(\"^\",,T160:T168)","v":"8^4"},null,8,{"$nulls":4},{"$f":"AK$159","v":25},35,{"$nulls":5},{"$f":"_xlfn.TEXTJOIN(\"^\",,AH160:AH168)","v":"5^5^5^5^5"},null,8,{"$nulls":5},{"$f":"AZ$159","v":25},null,{"$f":"BB$159","v":45},null,null,null,{"$f":"_xlfn.TEXTJOIN(\"^\",,AV160:AV168)","v":"5^5^5"}]
[null,null,6,null,{"$f":"E$159","v":10},null,{"$f":"G$159","v":25},35,null,50,60,70,null,null,null,{"$f":"_xlfn.TEXTJOIN(\"^\",,E160:E169)","v":"10^10^10^10^10"},null,6,{"$nulls":11},{"$f":"_xlfn.TEXTJOIN(\"^\",,U160:U168)","v":"2^10"},null,6,null,{"$f":"AH$159","v":5},null,{"$f":"AJ$159","v":17},25,35,45,{"$nulls":4},{"$f":"_xlfn.TEXTJOIN(\"^\",,AI160:AI168)","v":"10^10^10^10^10"},null,6,null,null,{"$f":"AW$159","v":8},null,{"$f":"AY$159","v":17},null,{"$f":"BA$159","v":35},{"$nulls":4},{"$f":"_xlfn.TEXTJOIN(\"^\",,AW160:AW168)","v":"8^8^8"}]
[null,null,4,{"$f":"D$159","v":5},null,{"$f":"F$159","v":17},25,null,{"$f":"I$159","v":40},50,60,70,75,null,null,{"$f":"_xlfn.TEXTJOIN(\"^\",,F160:F169)","v":"17^17^17^17^17^17^17"},null,4,{"$nulls":11},{"$f":"_xlfn.TEXTJOIN(\"^\",,V160:V168)","v":"8^2^1"},null,4,{"$f":"AG$159","v":3},null,{"$f":"AI$159","v":10},17,null,35,45,50,null,null,null,{"$f":"_xlfn.TEXTJOIN(\"^\",,AJ160:AJ168)","v":"17^17^17^17^17^17^17"},null,4,{"$f":"AU$159","v":3},null,null,{"$f":"AX$159","v":12},17,25,35,{"$f":"BB$159","v":45},null,null,null,{"$f":"_xlfn.TEXTJOIN(\"^\",,AX160:AX168)","v":"12^12^12^12"}]
[null,null,2,5,10,17,25,{"$f":"H$159","v":35},40,null,{"$f":"K$159","v":60},70,75,null,null,{"$f":"_xlfn.TEXTJOIN(\"^\",,G160:G169)","v":"25^25^25^25^25^25^25"},null,2,{"$nulls":11},{"$f":"_xlfn.TEXTJOIN(\"^\",,W160:W168)","v":"8^3^2"},null,2,{"$f":"$C163","v":2},{"$f":"AH$159","v":5},10,17,25,null,45,50,null,null,null,{"$f":"_xlfn.TEXTJOIN(\"^\",,AK160:AK168)","v":"25^25^25^25^25^25^25"},null,2,null,{"$f":"AV$159","v":5},null,12,17,25,35,45,null,null,null,{"$f":"_xlfn.TEXTJOIN(\"^\",,AY160:AY168)","v":"17^17^17^17^17^17"}]
[null,null,1,null,10,17,25,{"$f":"H$159","v":35},40,{"$f":"J$159","v":50},null,{"$f":"L$159","v":70},75,null,null,{"$f":"_xlfn.TEXTJOIN(\"^\",,H160:H169)","v":"35^35^35^35^35^35^35"},null,1,4,8,2,8,8,2,3,8,null,null,null,{"$f":"_xlfn.TEXTJOIN(\"^\",,X160:X168)","v":"2^2^8^3"},null,1,1,{"$f":"AH$159","v":5},10,17,25,{"$f":"AL$159","v":35},45,50,null,null,null,{"$f":"_xlfn.TEXTJOIN(\"^\",,AL160:AL168)","v":"35^35^35^35^35^35^35"},null,1,{"$f":"AU$159","v":3},5,{"$f":"AW$159","v":8},null,null,25,35,45,null,null,null,{"$f":"_xlfn.TEXTJOIN(\"^\",,AZ160:AZ168)","v":"25^25^25^25^25^25^25"}]
[null,null,3,{"$f":"D$159","v":5},10,17,25,{"$f":"H$159","v":35},40,null,{"$f":"K$159","v":60},70,75,null,null,{"$f":"_xlfn.TEXTJOIN(\"^\",,I160:I169)","v":"40^40^40^40^40"},null,3,3,4,10,2,3,2,10,3,null,null,null,{"$f":"_xlfn.TEXTJOIN(\"^\",,Y160:Y168)","v":"3^10^2"},null,3,3,{"$f":"AH$159","v":5},10,17,25,null,45,50,null,null,null,{"$f":"_xlfn.TEXTJOIN(\"^\",,AM160:AM168)","v":"45^45^45^45^45^45^45"},null,3,null,5,null,{"$f":"AX$159","v":12},17,25,35,45,null,null,null,{"$f":"_xlfn.TEXTJOIN(\"^\",,BA160:BA168)","v":"35^35^35^35^35^35^35"}]
[null,null,5,5,null,17,25,null,40,50,60,70,75,null,null,{"$f":"_xlfn.TEXTJOIN(\"^\",,J160:J169)","v":"50^50^50^50^50^50^50"},null,5,15,null,null,1,2,8,2,{"$nulls":4},{"$f":"_xlfn.TEXTJOIN(\"^\",,Z160:Z168)","v":"8^3"},null,5,{"$f":"AG$159","v":3},null,10,17,null,{"$f":"AL$159","v":35},45,50,null,null,null,{"$f":"_xlfn.TEXTJOIN(\"^\",,AN160:AN168)","v":"50^50^50^50^50"},null,5,{"$f":"AU$159","v":3},null,null,12,17,25,35,45,null,null,null,{"$f":"_xlfn.TEXTJOIN(\"^\",,BB160:BB168)","v":"45^45^45^45^45^45^45"}]
[null,null,7,null,{"$f":"E$159","v":10},null,25,35,null,50,60,70,null,null,null,{"$f":"_xlfn.TEXTJOIN(\"^\",,K160:K169)","v":"60^60^60^60^60^60^60^60"},null,7,{"$nulls":5},3,{"$nulls":5},{"$f":"_xlfn.TEXTJOIN(\"^\",,AA160:AA168)","v":""},null,7,null,{"$f":"AH$159","v":5},null,17,25,35,45,{"$nulls":4},{"$f":"_xlfn.TEXTJOIN(\"^\",,AO160:AO168)","v":""},null,7,null,null,{"$f":"AW$159","v":8},null,17,null,35,{"$nulls":4},{"$f":"_xlfn.TEXTJOIN(\"^\",,BC160:BC168)","v":""}]
[null,null,9,null,null,{"$f":"F$159","v":17},null,35,null,50,60,{"$nulls":4},{"$f":"_xlfn.TEXTJOIN(\"^\",,L160:L169)","v":"70^70^70^70^70^70^70"},null,9,{"$nulls":11},{"$f":"_xlfn.TEXTJOIN(\"^\",,AB160:AB168)","v":""},null,9,{"$nulls":4},25,35,{"$nulls":5},{"$f":"_xlfn.TEXTJOIN(\"^\",,AP160:AP168)","v":""},null,9,{"$nulls":5},{"$f":"AZ$159","v":25},null,{"$f":"BB$159","v":45},null,null,null,{"$f":"_xlfn.TEXTJOIN(\"^\",,BD160:BD168)","v":""}]
[{"$nulls":15},{"$f":"_xlfn.TEXTJOIN(\"^\",,M160:M169)","v":"75^75^75^75^75"},{"$nulls":13},{"$f":"_xlfn.TEXTJOIN(\"^\",,AC160:AC168)","v":""},{"$nulls":13},{"$f":"_xlfn.TEXTJOIN(\"^\",,AQ160:AQ168)","v":""},{"$nulls":13},{"$f":"_xlfn.TEXTJOIN(\"^\",,BE160:BE168)","v":""}]
[{"$nulls":15},{"$f":"_xlfn.TEXTJOIN(\"^\",,N160:N169)","v":""},{"$nulls":12},"最终",{"$f":"_xlfn.TEXTJOIN(\"^\",,AD159:AD169)","v":"4^3^15^8^4^2^10^8^2^1^8^3^2^2^2^8^3^3^10^2^8^3"},{"$nulls":12},"最终",{"$f":"_xlfn.TEXTJOIN(\"^\",,AR159:AR169)","v":"3^2^1^3^3^5^5^5^5^5^10^10^10^10^10^17^17^17^17^17^17^17^25^25^25^25^25^25^25^35^35^35^35^35^35^35^45^45^45^45^45^45^45^50^50^50^50^50"},{"$nulls":12},"最终",{"$f":"_xlfn.TEXTJOIN(\"^\",,BF159:BF169)","v":"3^3^3^5^5^5^8^8^8^12^12^12^12^17^17^17^17^17^17^25^25^25^25^25^25^25^35^35^35^35^35^35^35^45^45^45^45^45^45^45"}]
[{"$nulls":14},"最终",{"$f":"_xlfn.TEXTJOIN(\"^\",,P160:P170)","v":"5^5^5^5^10^10^10^10^10^17^17^17^17^17^17^17^25^25^25^25^25^25^25^35^35^35^35^35^35^35^40^40^40^40^40^50^50^50^50^50^50^50^60^60^60^60^60^60^60^60^70^70^70^70^70^70^70^75^75^75^75^75"}]
[{"$nulls":15},{"$f":"COUNT(D160:M168)","v":62},{"$nulls":13},{"$f":"SUM(S160:Z168)","v":111},{"$nulls":13},{"$f":"COUNT(AG160:AN168)","v":48},{"$nulls":13},{"$f":"COUNT(AU160:BB168)","v":40}]
[{"$nulls":57},{"$f":"SUM(P172:BF172)","v":261}]
[]
[{"$nulls":4},{"$f":"E176-D176","v":10},{"$f":"F176-E176","v":15},15,5,15,16,17,7,15,{"$nulls":6},{"$f":"T176-S176","v":5},5,7,8,10,10,5,{"$nulls":7},{"$f":"AH176-AG176","v":6},6,7,7,10,5,10,{"$nulls":7},{"$f":"AV176-AU176","v":2},3,4,6,7,10,10]
[3,"荒林-4","波1·怪物",5,15,30,45,50,65,81,98,105,120,null,null,null,1,"波2·怪物",5,10,15,22,30,40,50,55,{"$nulls":4},1,"波3·怪物",4,10,16,23,30,40,45,55,{"$nulls":4},1,"波4·怪物",3,5,8,12,18,25,35,45]
[null,"5m",8,{"$nulls":12},{"$f":"_xlfn.TEXTJOIN(\"^\",,D177:D186)","v":"60442^60444^60441"},null,8,{"$nulls":4},60444,60442,60444,{"$nulls":4},{"$f":"_xlfn.TEXTJOIN(\"^\",,S177:S186)","v":"60444^60441^60441^60444"},null,8,null,null,null,60442,60444,null,null,60444,null,null,null,{"$f":"_xlfn.TEXTJOIN(\"^\",,AG177:AG186)","v":"60445^60445^60445^60445^60445"},null,8,{"$nulls":5},60444,null,60442,null,null,null,{"$f":"_xlfn.TEXTJOIN(\"^\",,AU177:AU186)","v":"60443^60443^60443"}]
[null,null,6,{"$nulls":12},{"$f":"_xlfn.TEXTJOIN(\"^\",,E177:E186)","v":"60441^60442"},null,6,null,60442,{"$nulls":4},60442,{"$nulls":4},{"$f":"_xlfn.TEXTJOIN(\"^\",,T177:T186)","v":"60442^60442^60442"},null,6,null,60444,null,null,60441,60442,null,60442,null,null,null,{"$f":"_xlfn.TEXTJOIN(\"^\",,AH177:AH186)","v":"60444^60442^60442^60442^60444"},null,6,null,60442,null,null,null,60442,60442,60444,null,null,null,{"$f":"_xlfn.TEXTJOIN(\"^\",,AV177:AV186)","v":"60442^60442^60442"}]
[null,null,4,{"$nulls":12},{"$f":"_xlfn.TEXTJOIN(\"^\",,F177:F186)","v":"60443^60442^60444^60441"},null,4,60444,null,60445,60443,60442,60441,60441,60445,null,null,null,{"$f":"_xlfn.TEXTJOIN(\"^\",,U177:U186)","v":"60445^60445^60445^60445^60445"},null,4,60445,null,60441,60441,60442,60441,60445,{"$nulls":4},{"$f":"_xlfn.TEXTJOIN(\"^\",,AI177:AI186)","v":"60441^60441^60441^60441^60441"},null,4,60443,null,null,60441,60445,null,60441,60442,null,null,null,{"$f":"_xlfn.TEXTJOIN(\"^\",,AW177:AW186)","v":"60444^60444"}]
[null,null,2,{"$nulls":12},{"$f":"_xlfn.TEXTJOIN(\"^\",,G177:G186)","v":"60442^60441"},null,2,60441,null,60445,null,60441,60443,60441,60445,null,null,null,{"$f":"_xlfn.TEXTJOIN(\"^\",,V177:V186)","v":"60443^60443^60443"},null,2,60445,60442,60441,60443,null,60447,60445,60441,null,null,null,{"$f":"_xlfn.TEXTJOIN(\"^\",,AJ177:AJ186)","v":"60442^60441^60443^60443^60443^60441^60442"},null,2,null,null,60444,60441,60445,60443,60441,60443,null,null,null,{"$f":"_xlfn.TEXTJOIN(\"^\",,AX177:AX186)","v":"60441^60441^60441^60441"}]
[null,null,1,60442,60441,60443,60442,60445,60442,60443,60442,60445,60444,null,null,{"$f":"_xlfn.TEXTJOIN(\"^\",,H177:H186)","v":"60445^60443"},null,1,null,60442,60445,60443,null,60448,{"$nulls":5},{"$f":"_xlfn.TEXTJOIN(\"^\",,W177:W186)","v":"60444^60442^60441^60441^60442^60444"},null,1,60445,60442,60441,60443,60442,60441,60445,60443,null,null,null,{"$f":"_xlfn.TEXTJOIN(\"^\",,AK177:AK186)","v":"60444^60441^60442^60442^60442^60441^60444"},null,1,60443,60442,{"$nulls":4},60444,{"$nulls":4},{"$f":"_xlfn.TEXTJOIN(\"^\",,AY177:AY186)","v":"60445^60445^60445^60445"}]
[null,null,3,60444,60442,60442,60441,60443,60441,60442,60441,60442,60443,null,null,{"$f":"_xlfn.TEXTJOIN(\"^\",,I177:I186)","v":"60442^60441^60444"},null,3,60441,null,60445,null,60441,60443,60441,60445,null,null,null,{"$f":"_xlfn.TEXTJOIN(\"^\",,X177:X186)","v":"60442^60441^60443^60448^60443^60441^60442"},null,3,60445,60442,60441,60443,null,60448,60445,60441,null,null,null,{"$f":"_xlfn.TEXTJOIN(\"^\",,AL177:AL186)","v":"60442^60441^60447^60441^60448^60441^60442"},null,3,null,null,60444,60441,60445,60443,60441,60443,null,null,null,{"$f":"_xlfn.TEXTJOIN(\"^\",,AZ177:AZ186)","v":"60444^60442^60443^60443^60442^60444"}]
[null,null,5,60441,null,60444,null,null,60444,60441,60444,60447,60441,null,null,{"$f":"_xlfn.TEXTJOIN(\"^\",,J177:J186)","v":"60443^60442^60441"},null,5,60444,null,60445,60443,60442,60441,60441,60445,null,null,null,{"$f":"_xlfn.TEXTJOIN(\"^\",,Y177:Y186)","v":"60444^60442^60441^60441^60441^60441^60442^60444"},null,5,60445,null,60441,60441,60442,60441,60445,{"$nulls":4},{"$f":"_xlfn.TEXTJOIN(\"^\",,AM177:AM186)","v":"60445^60445^60445^60445^60445"},null,5,60443,null,null,60441,60445,null,60441,60442,null,null,null,{"$f":"_xlfn.TEXTJOIN(\"^\",,BA177:BA186)","v":"60442^60441^60441^60444^60441^60441^60442"}]
[null,null,7,null,null,60441,{"$nulls":6},60442,null,null,{"$f":"_xlfn.TEXTJOIN(\"^\",,K177:K186)","v":"60442^60441^60444"},null,7,null,60442,{"$nulls":4},60442,{"$nulls":4},{"$f":"_xlfn.TEXTJOIN(\"^\",,Z177:Z186)","v":"60445^60445^60445^60445"},null,7,null,60444,null,null,60441,60442,null,60442,null,null,null,{"$f":"_xlfn.TEXTJOIN(\"^\",,AN177:AN186)","v":"60444^60442^60441^60443^60441^60442^60444"},null,7,null,60442,null,null,null,60442,60442,60444,null,null,null,{"$f":"_xlfn.TEXTJOIN(\"^\",,BB177:BB186)","v":"60442^60444^60442^60443^60443^60442^60444^60442"}]
[null,null,9,{"$nulls":12},{"$f":"_xlfn.TEXTJOIN(\"^\",,L177:L186)","v":"60445^60442^60447"},null,9,{"$nulls":4},60444,60442,60444,{"$nulls":4},{"$f":"_xlfn.TEXTJOIN(\"^\",,AA177:AA186)","v":""},null,9,null,null,null,60442,60444,null,null,60444,null,null,null,{"$f":"_xlfn.TEXTJOIN(\"^\",,AO177:AO186)","v":""},null,9,{"$nulls":5},60444,null,60442,null,null,null,{"$f":"_xlfn.TEXTJOIN(\"^\",,BC177:BC186)","v":""}]
[{"$nulls":15},{"$f":"_xlfn.TEXTJOIN(\"^\",,M177:M186)","v":"60444^60443^60441^60442"},{"$nulls":13},{"$f":"_xlfn.TEXTJOIN(\"^\",,AB177:AB186)","v":""},{"$nulls":13},{"$f":"_xlfn.TEXTJOIN(\"^\",,AP177:AP186)","v":""},{"$nulls":13},{"$f":"_xlfn.TEXTJOIN(\"^\",,BD177:BD186)","v":""}]
[{"$nulls":15},{"$f":"_xlfn.TEXTJOIN(\"^\",,N177:N186)","v":""},{"$nulls":13},{"$f":"_xlfn.TEXTJOIN(\"^\",,AC177:AC186)","v":""},{"$nulls":13},{"$f":"_xlfn.TEXTJOIN(\"^\",,AQ177:AQ186)","v":""},{"$nulls":13},{"$f":"_xlfn.TEXTJOIN(\"^\",,BE177:BE186)","v":""}]
[{"$nulls":14},"最终",{"$f":"_xlfn.TEXTJOIN(\"^\",,P177:P187)","v":"60442^60444^60441^60441^60442^60443^60442^60444^60441^60442^60441^60445^60443^60442^60441^60444^60443^60442^60441^60442^60441^60444^60445^60442^60447^60444^60443^60441^60442"},{"$nulls":12},"最终",{"$f":"_xlfn.TEXTJOIN(\"^\",,AD177:AD187)","v":"60444^60441^60441^60444^60442^60442^60442^60445^60445^60445^60445^60445^60443^60443^60443^60444^60442^60441^60441^60442^60444^60442^60441^60443^60448^60443^60441^60442^60444^60442^60441^60441^60441^60441^60442^60444^60445^60445^60445^60445"},{"$nulls":12},"最终",{"$f":"_xlfn.TEXTJOIN(\"^\",,AR177:AR187)","v":"60445^60445^60445^60445^60445^60444^60442^60442^60442^60444^60441^60441^60441^60441^60441^60442^60441^60443^60443^60443^60441^60442^60444^60441^60442^60442^60442^60441^60444^60442^60441^60447^60441^60448^60441^60442^60445^60445^60445^60445^60445^60444^60442^60441^60443^60441^60442^60444"},{"$nulls":12},"最终",{"$f":"_xlfn.TEXTJOIN(\"^\",,BF177:BF187)","v":"60443^60443^60443^60442^60442^60442^60444^60444^60441^60441^60441^60441^60445^60445^60445^60445^60444^60442^60443^60443^60442^60444^60442^60441^60441^60444^60441^60441^60442^60442^60444^60442^60443^60443^60442^60444^60442"}]
[null,null,8,{"$nulls":14},8,{"$nulls":4},"木精灵","孢子人","木精灵",{"$nulls":6},8,null,null,null,"孢子人","木精灵",null,null,"木精灵",{"$nulls":5},8,{"$nulls":5},"木精灵",null,"孢子人"]
[null,null,6,{"$nulls":14},6,null,"孢子人",{"$nulls":4},"孢子人",{"$nulls":6},6,null,"木精灵",null,null,"树精","孢子人",null,"孢子人",{"$nulls":5},6,null,"孢子人",null,null,null,"孢子人","孢子人","木精灵"]
[null,null,4,{"$nulls":14},4,"木精灵",null,"森林蜘蛛","哥布林","孢子人","树精","树精","森林蜘蛛",{"$nulls":5},4,"森林蜘蛛",null,"树精","树精","孢子人","树精","森林蜘蛛",{"$nulls":6},4,"哥布林",null,null,"树精","森林蜘蛛",null,"树精","孢子人"]
[null,null,2,{"$nulls":14},2,"树精",null,"森林蜘蛛",null,"树精","哥布林","树精","森林蜘蛛",{"$nulls":5},2,"森林蜘蛛","孢子人","树精","哥布林",null,"森林祭祀","森林蜘蛛","树精",{"$nulls":5},2,null,null,"木精灵","树精","森林蜘蛛","哥布林","树精","哥布林"]
[null,null,1,"孢子人","树精","哥布林","孢子人","森林蜘蛛","孢子人","哥布林","孢子人","森林蜘蛛","木精灵",{"$nulls":4},1,null,"孢子人","森林蜘蛛","哥布林",null,"黑暗法师",{"$nulls":7},1,"森林蜘蛛","孢子人","树精","哥布林","孢子人","树精","森林蜘蛛","哥布林",{"$nulls":5},1,"哥布林","孢子人",{"$nulls":4},"木精灵"]
[null,null,3,"木精灵","孢子人","孢子人","树精","哥布林","树精","孢子人","树精","孢子人","哥布林",{"$nulls":4},3,"树精",null,"森林蜘蛛",null,"树精","哥布林","树精","森林蜘蛛",{"$nulls":5},3,"森林蜘蛛","孢子人","树精","哥布林",null,"黑暗法师","森林蜘蛛","树精",{"$nulls":5},3,null,null,"木精灵","树精","森林蜘蛛","哥布林","树精","哥布林"]
[null,null,5,"树精",null,"木精灵",null,null,"木精灵","树精","木精灵","森林祭祀","树精",{"$nulls":4},5,"木精灵",null,"森林蜘蛛","哥布林","孢子人","树精","树精","森林蜘蛛",{"$nulls":5},5,"森林蜘蛛",null,"树精","树精","孢子人","树精","森林蜘蛛",{"$nulls":6},5,"哥布林",null,null,"树精","森林蜘蛛",null,"树精","孢子人"]
[null,null,7,null,null,"树精",{"$nulls":6},"孢子人",{"$nulls":4},7,null,"孢子人",{"$nulls":4},"孢子人",{"$nulls":6},7,null,"木精灵",null,null,"树精","孢子人",null,"孢子人",{"$nulls":5},7,null,"孢子人",null,null,null,"孢子人","孢子人","木精灵"]
[null,null,9,{"$nulls":14},9,{"$nulls":4},"木精灵","孢子人","木精灵",{"$nulls":6},9,null,null,null,"孢子人","木精灵",null,null,"木精灵",{"$nulls":5},9,{"$nulls":5},"木精灵",null,"孢子人"]
[]
[null,null,"位置",5,15,30,45,50,65,81,98,105,120,{"$nulls":4},"位置",5,10,15,22,30,40,50,55,{"$nulls":5},"位置",4,10,16,23,30,40,45,55,null,null,null,{"$f":"_xlfn.TEXTJOIN(\"^\",,AG200:AG214)","v":"101^102^103^104^105"},null,"位置",3,5,8,12,18,25,35,45,null,null,null,{"$f":"_xlfn.TEXTJOIN(\"^\",,AU200:AU214)","v":"4^1^5"}]
[null,null,8,{"$nulls":12},{"$f":"_xlfn.TEXTJOIN(\"^\",,D200:D214)","v":"0^0^0"},null,8,{"$nulls":4},{"$f":"$C200","v":8},{"$f":"$C200","v":8},{"$f":"$C200","v":8},{"$nulls":6},8,null,null,null,{"$f":"$C200","v":8},{"$f":"$C200","v":8},null,null,{"$f":"$C200","v":8},null,null,null,{"$f":"_xlfn.TEXTJOIN(\"^\",,AH200:AH214)","v":"6^2^1^3^7"},null,8,{"$nulls":5},{"$f":"$C200","v":8},null,{"$f":"$C200","v":8},null,null,null,{"$f":"_xlfn.TEXTJOIN(\"^\",,AV200:AV214)","v":"6^1^7"}]
[null,null,6,{"$nulls":12},{"$f":"_xlfn.TEXTJOIN(\"^\",,E200:E214)","v":"0^0"},null,6,null,{"$f":"$C201","v":6},{"$nulls":4},6,{"$nulls":4},{"$f":"_xlfn.TEXTJOIN(\"^\",,S200:S214)","v":"4^2^3^5"},null,6,null,{"$f":"$C201","v":6},null,null,6,6,null,6,null,null,null,{"$f":"_xlfn.TEXTJOIN(\"^\",,AI200:AI214)","v":"4^2^1^3^5"},null,6,null,{"$f":"$C201","v":6},null,null,null,6,6,6,null,null,null,{"$f":"_xlfn.TEXTJOIN(\"^\",,AW200:AW214)","v":"2^3"}]
[null,null,4,{"$nulls":12},{"$f":"_xlfn.TEXTJOIN(\"^\",,F200:F214)","v":"0^0^0^0"},null,4,{"$f":"$C202","v":4},null,null,{"$f":"$C202","v":4},{"$f":"$C202","v":4},4,4,{"$nulls":4},{"$f":"_xlfn.TEXTJOIN(\"^\",,T200:T214)","v":"6^1^7"},null,4,null,null,{"$f":"$C202","v":4},4,{"$f":"$C202","v":4},4,{"$nulls":5},{"$f":"_xlfn.TEXTJOIN(\"^\",,AJ200:AJ214)","v":"8^4^2^1^3^5^9"},null,4,{"$f":"$C202","v":4},null,null,{"$f":"$C202","v":4},null,null,4,4,null,null,null,{"$f":"_xlfn.TEXTJOIN(\"^\",,AX200:AX214)","v":"4^2^3^5"}]
[null,null,2,{"$nulls":12},{"$f":"_xlfn.TEXTJOIN(\"^\",,G200:G214)","v":"0^0"},null,2,2,null,null,null,2,2,2,{"$nulls":4},{"$f":"_xlfn.TEXTJOIN(\"^\",,U200:U214)","v":"101^102^103^104^105"},null,2,null,{"$f":"$C203","v":2},2,2,null,2,null,{"$f":"$C203","v":2},null,null,null,{"$f":"_xlfn.TEXTJOIN(\"^\",,AK200:AK214)","v":"8^6^4^1^5^7^9"},null,2,null,null,{"$f":"$C203","v":2},2,null,{"$f":"$C203","v":2},2,2,null,null,null,{"$f":"_xlfn.TEXTJOIN(\"^\",,AY200:AY214)","v":"101^102^104^105"}]
[null,null,1,0,0,0,0,100,0,0,0,100,0,null,null,{"$f":"_xlfn.TEXTJOIN(\"^\",,H200:H214)","v":"100^0"},null,1,null,{"$f":"$C204","v":1},null,{"$f":"$C204","v":1},null,1,{"$nulls":5},{"$f":"_xlfn.TEXTJOIN(\"^\",,V200:V214)","v":"4^1^5"},null,1,null,{"$f":"$C204","v":1},1,1,{"$f":"$C204","v":1},1,null,1,null,null,null,{"$f":"_xlfn.TEXTJOIN(\"^\",,AL200:AL214)","v":"6^4^2^1^3^5^7"},null,1,{"$f":"$C204","v":1},1,{"$nulls":4},1,{"$nulls":4},{"$f":"_xlfn.TEXTJOIN(\"^\",,AZ200:AZ214)","v":"8^6^2^3^7^9"}]
[null,null,3,0,0,0,0,0,0,0,0,0,0,null,null,{"$f":"_xlfn.TEXTJOIN(\"^\",,I200:I214)","v":"0^0^0"},null,3,{"$f":"$C205","v":3},null,null,null,{"$f":"$C205","v":3},3,3,{"$nulls":4},{"$f":"_xlfn.TEXTJOIN(\"^\",,W200:W214)","v":"8^4^2^3^5^9"},null,3,null,{"$f":"$C205","v":3},3,3,null,3,null,3,null,null,null,{"$f":"_xlfn.TEXTJOIN(\"^\",,AM200:AM214)","v":"101^102^103^104^105"},null,3,null,null,{"$f":"$C205","v":3},3,null,{"$f":"$C205","v":3},3,3,null,null,null,{"$f":"_xlfn.TEXTJOIN(\"^\",,BA200:BA214)","v":"6^4^2^1^3^5^7"}]
[null,null,5,0,null,0,null,null,0,0,0,0,0,null,null,{"$f":"_xlfn.TEXTJOIN(\"^\",,J200:J214)","v":"0^0^0"},null,5,5,null,null,{"$f":"$C206","v":5},5,5,5,{"$nulls":4},{"$f":"_xlfn.TEXTJOIN(\"^\",,X200:X214)","v":"8^4^2^1^3^5^9"},null,5,null,null,5,5,5,5,{"$nulls":5},{"$f":"_xlfn.TEXTJOIN(\"^\",,AN200:AN214)","v":"8^6^2^1^3^7^9"},null,5,{"$f":"$C206","v":5},null,null,5,null,null,5,5,null,null,null,{"$f":"_xlfn.TEXTJOIN(\"^\",,BB200:BB214)","v":"8^6^4^2^3^5^7^9"}]
[null,null,7,null,null,0,{"$nulls":6},0,null,null,{"$f":"_xlfn.TEXTJOIN(\"^\",,K200:K214)","v":"0^0^0"},null,7,null,{"$f":"$C207","v":7},{"$nulls":4},7,{"$nulls":4},{"$f":"_xlfn.TEXTJOIN(\"^\",,Y200:Y214)","v":"8^6^4^2^3^5^7^9"},null,7,null,{"$f":"$C207","v":7},null,null,7,7,null,{"$f":"$C207","v":7},null,null,null,{"$f":"_xlfn.TEXTJOIN(\"^\",,AO200:AO214)","v":""},null,7,null,{"$f":"$C207","v":7},null,null,null,{"$f":"$C207","v":7},7,7,null,null,null,{"$f":"_xlfn.TEXTJOIN(\"^\",,BC200:BC214)","v":""}]
[null,null,9,{"$nulls":12},{"$f":"_xlfn.TEXTJOIN(\"^\",,L200:L214)","v":"100^0^0"},null,9,{"$nulls":4},{"$f":"$C208","v":9},{"$f":"$C208","v":9},9,{"$nulls":6},9,null,null,null,{"$f":"$C208","v":9},9,null,null,9,null,null,null,{"$f":"_xlfn.TEXTJOIN(\"^\",,AP200:AP214)","v":""},null,9,{"$nulls":5},9,null,9,null,null,null,{"$f":"_xlfn.TEXTJOIN(\"^\",,BD200:BD214)","v":""}]
[null,null,"空降",{"$nulls":12},{"$f":"_xlfn.TEXTJOIN(\"^\",,M200:M214)","v":"0^0^0^0"},null,"空降",{"$nulls":13},"空降",{"$nulls":11},{"$f":"_xlfn.TEXTJOIN(\"^\",,AQ200:AQ208)","v":""},null,"空降",{"$nulls":11},{"$f":"_xlfn.TEXTJOIN(\"^\",,BE200:BE208)","v":""}]
[null,null,101,{"$nulls":12},{"$f":"_xlfn.TEXTJOIN(\"^\",,N200:N214)","v":""},null,101,null,null,{"$f":"$C210","v":101},{"$nulls":4},{"$f":"$C210","v":101},null,null,null,{"$f":"_xlfn.TEXTJOIN(\"^\",,Z200:Z214)","v":"101^102^104^105"},null,101,{"$f":"$C210","v":101},{"$nulls":5},{"$f":"$C210","v":101},{"$nulls":6},101,{"$nulls":4},{"$f":"$C210","v":101}]
[null,null,102,{"$nulls":14},102,null,null,102,{"$nulls":4},102,null,null,null,{"$f":"_xlfn.TEXTJOIN(\"^\",,AA200:AA214)","v":""},null,102,102,{"$nulls":5},102,{"$nulls":6},102,{"$nulls":4},102]
[null,null,103,{"$nulls":14},103,null,null,103,{"$nulls":8},{"$f":"_xlfn.TEXTJOIN(\"^\",,AB200:AB214)","v":""},null,103,103,{"$nulls":5},103,{"$nulls":6},103]
[null,null,104,{"$nulls":14},104,null,null,104,{"$nulls":4},{"$f":"$C213","v":104},{"$nulls":5},104,104,{"$nulls":5},104,{"$nulls":6},104,{"$nulls":4},{"$f":"$C213","v":104}]
[null,null,105,{"$nulls":14},105,null,null,105,{"$nulls":4},105,{"$nulls":5},105,105,{"$nulls":5},105,{"$nulls":6},105,{"$nulls":4},105]
[{"$nulls":14},"最终",{"$f":"_xlfn.TEXTJOIN(\"^\",,P200:P214)","v":"0^0^0^0^0^0^0^0^0^0^0^100^0^0^0^0^0^0^0^0^0^0^100^0^0^0^0^0^0"},{"$nulls":12},"最终",{"$f":"_xlfn.TEXTJOIN(\"^\",,AD200:AD214)","v":"4^2^3^5^6^1^7^101^102^103^104^105^4^1^5^8^4^2^3^5^9^8^4^2^1^3^5^9^8^6^4^2^3^5^7^9^101^102^104^105"},{"$nulls":12},"最终",{"$f":"_xlfn.TEXTJOIN(\"^\",,AR199:AR214)","v":"101^102^103^104^105^6^2^1^3^7^4^2^1^3^5^8^4^2^1^3^5^9^8^6^4^1^5^7^9^6^4^2^1^3^5^7^101^102^103^104^105^8^6^2^1^3^7^9"},{"$nulls":12},"最终",{"$f":"_xlfn.TEXTJOIN(\"^\",,BF199:BF214)","v":"4^1^5^6^1^7^2^3^4^2^3^5^101^102^104^105^8^6^2^3^7^9^6^4^2^1^3^5^7^8^6^4^2^3^5^7^9"}]
[]
[null,null,"时间",5,15,30,45,50,65,81,98,105,120,{"$nulls":4},"时间",5,10,15,22,30,40,50,55,null,null,null,{"$f":"_xlfn.TEXTJOIN(\"^\",,S218:S226)","v":"5^5^5^5"},null,"时间",4,10,16,23,30,40,45,55,null,null,null,{"$f":"_xlfn.TEXTJOIN(\"^\",,AG218:AG226)","v":"4^4^4^4^4"},null,"时间",3,5,8,12,18,25,35,45,null,null,null,{"$f":"_xlfn.TEXTJOIN(\"^\",,AU218:AU226)","v":"3^3^3"}]
[null,null,8,{"$nulls":12},{"$f":"_xlfn.TEXTJOIN(\"^\",,D218:D227)","v":"2^2^5"},null,8,{"$nulls":4},{"$f":"W$217","v":30},{"$f":"X$217","v":40},{"$f":"Y$217","v":50},{"$nulls":4},{"$f":"_xlfn.TEXTJOIN(\"^\",,T218:T226)","v":"10^10^10"},null,8,null,null,null,{"$f":"AJ$217","v":23},{"$f":"AK$217","v":30},null,null,{"$f":"AN$217","v":55},null,null,null,{"$f":"_xlfn.TEXTJOIN(\"^\",,AH218:AH226)","v":"10^10^10^10^10"},null,8,{"$nulls":5},{"$f":"AZ$217","v":25},null,{"$f":"BB$217","v":45},null,null,null,{"$f":"_xlfn.TEXTJOIN(\"^\",,AV218:AV226)","v":"5^5^5"}]
[null,null,6,{"$nulls":12},{"$f":"_xlfn.TEXTJOIN(\"^\",,E218:E227)","v":"8^4"},null,6,null,{"$f":"T$217","v":10},{"$nulls":4},50,{"$nulls":4},{"$f":"_xlfn.TEXTJOIN(\"^\",,U218:U226)","v":"15^15^15^15^15"},null,6,null,{"$f":"AH$217","v":10},null,null,30,40,null,{"$f":"AN$217","v":55},null,null,null,{"$f":"_xlfn.TEXTJOIN(\"^\",,AI218:AI226)","v":"16^16^16^16^16"},null,6,null,{"$f":"AV$217","v":5},null,null,null,25,35,45,null,null,null,{"$f":"_xlfn.TEXTJOIN(\"^\",,AW218:AW226)","v":"8^8"}]
[null,null,4,{"$nulls":12},{"$f":"_xlfn.TEXTJOIN(\"^\",,F218:F227)","v":"2^3^2^6"},null,4,{"$f":"S$217","v":5},null,{"$f":"U$217","v":15},{"$f":"V$217","v":22},{"$f":"W$217","v":30},40,50,55,null,null,null,{"$f":"_xlfn.TEXTJOIN(\"^\",,V218:V226)","v":"22^22^22"},null,4,{"$f":"AG$217","v":4},null,{"$f":"AI$217","v":16},23,30,40,45,{"$nulls":4},{"$f":"_xlfn.TEXTJOIN(\"^\",,AJ218:AJ226)","v":"23^23^23^23^23^23^23"},null,4,{"$f":"AU$217","v":3},null,null,{"$f":"AX$217","v":12},18,null,35,45,null,null,null,{"$f":"_xlfn.TEXTJOIN(\"^\",,AX218:AX226)","v":"12^12^12^12"}]
[null,null,2,{"$nulls":12},{"$f":"_xlfn.TEXTJOIN(\"^\",,G218:G227)","v":"3^10"},null,2,5,null,15,null,30,40,{"$f":"Y$217","v":50},55,null,null,null,{"$f":"_xlfn.TEXTJOIN(\"^\",,W218:W226)","v":"30^30^30^30^30^30"},null,2,4,{"$f":"AH$217","v":10},16,23,null,40,45,55,null,null,null,{"$f":"_xlfn.TEXTJOIN(\"^\",,AK218:AK226)","v":"30^30^30^30^30^30^30"},null,2,null,null,{"$f":"AW$217","v":8},12,18,{"$f":"AZ$217","v":25},35,45,null,null,null,{"$f":"_xlfn.TEXTJOIN(\"^\",,AY218:AY226)","v":"18^18^18^18"}]
[null,null,1,2,8,2,3,8,3,2,3,8,2,null,null,{"$f":"_xlfn.TEXTJOIN(\"^\",,H218:H227)","v":"8^3"},null,1,null,{"$f":"T$217","v":10},15,{"$f":"V$217","v":22},null,40,{"$nulls":5},{"$f":"_xlfn.TEXTJOIN(\"^\",,X218:X226)","v":"40^40^40^40^40^40^40"},null,1,4,{"$f":"AH$217","v":10},16,23,{"$f":"AK$217","v":30},40,45,55,null,null,null,{"$f":"_xlfn.TEXTJOIN(\"^\",,AL218:AL226)","v":"40^40^40^40^40^40^40"},null,1,{"$f":"AU$217","v":3},{"$f":"AV$217","v":5},{"$nulls":4},35,{"$nulls":4},{"$f":"_xlfn.TEXTJOIN(\"^\",,AZ218:AZ226)","v":"25^25^25^25^25^25"}]
[null,null,3,2,4,3,10,3,9,3,11,3,2,null,null,{"$f":"_xlfn.TEXTJOIN(\"^\",,I218:I227)","v":"3^9^2"},null,3,{"$f":"S$217","v":5},null,15,null,{"$f":"W$217","v":30},40,50,55,null,null,null,{"$f":"_xlfn.TEXTJOIN(\"^\",,Y218:Y226)","v":"50^50^50^50^50^50^50^50"},null,3,4,{"$f":"AH$217","v":10},16,23,null,40,45,55,null,null,null,{"$f":"_xlfn.TEXTJOIN(\"^\",,AM218:AM226)","v":"45^45^45^45^45"},null,3,null,null,{"$f":"AW$217","v":8},{"$f":"AX$217","v":12},18,{"$f":"AZ$217","v":25},35,45,null,null,null,{"$f":"_xlfn.TEXTJOIN(\"^\",,BA218:BA226)","v":"35^35^35^35^35^35^35"}]
[null,null,5,5,null,2,null,null,2,11,2,1,9,null,null,{"$f":"_xlfn.TEXTJOIN(\"^\",,J218:J227)","v":"2^3^11"},null,5,5,null,15,{"$f":"V$217","v":22},30,40,50,55,null,null,null,{"$f":"_xlfn.TEXTJOIN(\"^\",,Z218:Z226)","v":"55^55^55^55"},null,5,4,null,16,23,30,40,45,{"$nulls":4},{"$f":"_xlfn.TEXTJOIN(\"^\",,AN218:AN226)","v":"55^55^55^55^55^55^55"},null,5,{"$f":"AU$217","v":3},null,null,12,18,null,35,45,null,null,null,{"$f":"_xlfn.TEXTJOIN(\"^\",,BB218:BB226)","v":"45^45^45^45^45^45^45^45"}]
[null,null,7,null,null,6,{"$nulls":6},3,null,null,{"$f":"_xlfn.TEXTJOIN(\"^\",,K218:K227)","v":"3^11^2"},null,7,null,{"$f":"T$217","v":10},{"$nulls":4},50,{"$nulls":4},{"$f":"_xlfn.TEXTJOIN(\"^\",,AA218:AA226)","v":""},null,7,null,{"$f":"AH$217","v":10},null,null,30,40,null,{"$f":"AN$217","v":55},null,null,null,{"$f":"_xlfn.TEXTJOIN(\"^\",,AO218:AO226)","v":""},null,7,null,{"$f":"AV$217","v":5},null,null,null,{"$f":"AZ$217","v":25},35,45,null,null,null,{"$f":"_xlfn.TEXTJOIN(\"^\",,BC218:BC226)","v":""}]
[null,null,9,{"$nulls":12},{"$f":"_xlfn.TEXTJOIN(\"^\",,L218:L227)","v":"8^3^1"},null,9,{"$nulls":4},{"$f":"W$217","v":30},{"$f":"X$217","v":40},50,{"$nulls":4},{"$f":"_xlfn.TEXTJOIN(\"^\",,AB218:AB226)","v":""},null,9,null,null,null,{"$f":"AJ$217","v":23},30,null,null,55,null,null,null,{"$f":"_xlfn.TEXTJOIN(\"^\",,AP218:AP226)","v":""},null,9,{"$nulls":5},25,null,45,null,null,null,{"$f":"_xlfn.TEXTJOIN(\"^\",,BD218:BD226)","v":""}]
[{"$nulls":15},{"$f":"_xlfn.TEXTJOIN(\"^\",,M218:M227)","v":"2^2^9^3"},{"$nulls":13},{"$f":"_xlfn.TEXTJOIN(\"^\",,AC218:AC226)","v":""},{"$nulls":13},{"$f":"_xlfn.TEXTJOIN(\"^\",,AQ218:AQ226)","v":""},{"$nulls":13},{"$f":"_xlfn.TEXTJOIN(\"^\",,BE218:BE226)","v":""}]
[{"$nulls":15},{"$f":"_xlfn.TEXTJOIN(\"^\",,N218:N227)","v":""},{"$nulls":12},"最终",{"$f":"_xlfn.TEXTJOIN(\"^\",,AD217:AD227)","v":"5^5^5^5^10^10^10^15^15^15^15^15^22^22^22^30^30^30^30^30^30^40^40^40^40^40^40^40^50^50^50^50^50^50^50^50^55^55^55^55"},{"$nulls":12},"最终",{"$f":"_xlfn.TEXTJOIN(\"^\",,AR217:AR227)","v":"4^4^4^4^4^10^10^10^10^10^16^16^16^16^16^23^23^23^23^23^23^23^30^30^30^30^30^30^30^40^40^40^40^40^40^40^45^45^45^45^45^55^55^55^55^55^55^55"},{"$nulls":12},"最终",{"$f":"_xlfn.TEXTJOIN(\"^\",,BF217:BF227)","v":"3^3^3^5^5^5^8^8^12^12^12^12^18^18^18^18^25^25^25^25^25^25^35^35^35^35^35^35^35^45^45^45^45^45^45^45^45"}]
[{"$nulls":14},"最终",{"$f":"_xlfn.TEXTJOIN(\"^\",,P218:P228)","v":"2^2^5^8^4^2^3^2^6^3^10^8^3^3^9^2^2^3^11^3^11^2^8^3^1^2^2^9^3"}]
[{"$nulls":15},{"$f":"SUM(D218:M226)","v":132},{"$nulls":13},{"$f":"COUNT(S218:Z226)","v":40},{"$nulls":13},{"$f":"COUNT(AG218:AN226)","v":48},{"$nulls":13},{"$f":"COUNT(AU218:BB226)","v":37}]
[{"$nulls":57},{"$f":"SUM(P230:BF230)","v":257}]
[]
[{"$nulls":4},{"$f":"E234-D234","v":10},{"$f":"F234-E234","v":15},5,15,16,17,17,5,15,{"$nulls":6},{"$f":"T234-S234","v":5},5,7,8,10,5,10,{"$nulls":7},{"$f":"AH234-AG234","v":6},5,15,16,4,15,15,{"$nulls":7},{"$f":"AV234-AU234","v":2},3,4,8,10,10,5]
[3,"荒林-5","波1·怪物",5,15,30,35,50,66,83,100,105,120,null,null,null,1,"波2·怪物",5,10,15,22,30,40,45,55,{"$nulls":4},3,"波3·怪物",4,10,15,30,46,50,65,80,{"$nulls":4},1,"波4·怪物",3,5,8,12,20,30,40,45]
[null,"5m",8,{"$nulls":12},{"$f":"_xlfn.TEXTJOIN(\"^\",,D235:D244)","v":"60451^60454"},null,8,null,null,null,60454,null,60452,{"$nulls":5},{"$f":"_xlfn.TEXTJOIN(\"^\",,S235:S244)","v":"60455^60455^60455^60455"},null,8,{"$nulls":11},{"$f":"_xlfn.TEXTJOIN(\"^\",,AG235:AG244)","v":"60452^60454^60451"},null,8,{"$nulls":5},60452,null,60454,null,null,null,{"$f":"_xlfn.TEXTJOIN(\"^\",,AU235:AU244)","v":"60454^60453^60453^60454"}]
[null,null,6,{"$nulls":12},{"$f":"_xlfn.TEXTJOIN(\"^\",,E235:E244)","v":"60452^60451"},null,6,null,60452,60454,null,60452,null,null,60454,null,null,null,{"$f":"_xlfn.TEXTJOIN(\"^\",,T235:T244)","v":"60452^60452^60452"},null,6,{"$nulls":11},{"$f":"_xlfn.TEXTJOIN(\"^\",,AH235:AH244)","v":"60453^60451"},null,6,null,60452,null,60451,60454,null,60452,60452,null,null,null,{"$f":"_xlfn.TEXTJOIN(\"^\",,AV235:AV244)","v":"60452^60452^60452"}]
[null,null,4,{"$nulls":12},{"$f":"_xlfn.TEXTJOIN(\"^\",,F235:F244)","v":"60453^60451^60452"},null,4,60455,null,null,60452,60452,60451,60455,60459,null,null,null,{"$f":"_xlfn.TEXTJOIN(\"^\",,U235:U244)","v":"60454^60453^60453^60454"},null,4,{"$nulls":11},{"$f":"_xlfn.TEXTJOIN(\"^\",,AI235:AI244)","v":"60455^60452"},null,4,60454,null,60455,60451,60452,60451,60451,60451,null,null,null,{"$f":"_xlfn.TEXTJOIN(\"^\",,AW235:AW244)","v":"60455^60455^60455^60455"}]
[null,null,2,{"$nulls":12},{"$f":"_xlfn.TEXTJOIN(\"^\",,G235:G244)","v":"60455^60451"},null,2,60455,null,60453,60451,60453,60453,60455,{"$nulls":4},{"$f":"_xlfn.TEXTJOIN(\"^\",,V235:V244)","v":"60454^60452^60451^60451^60451^60452^60454"},null,2,{"$nulls":11},{"$f":"_xlfn.TEXTJOIN(\"^\",,AJ235:AJ244)","v":"60453^60452^60454^60451"},null,2,60453,null,60455,null,60453,60451,60451,60453,null,null,null,{"$f":"_xlfn.TEXTJOIN(\"^\",,AX235:AX244)","v":"60451^60451^60451^60451^60451"}]
[null,null,1,60451,60452,60453,60455,60451,60452,60451,60452,60455,60454,null,null,{"$f":"_xlfn.TEXTJOIN(\"^\",,H235:H244)","v":"60451^60452^60454"},null,1,null,60452,null,60451,60454,60451,60455,60456,null,null,null,{"$f":"_xlfn.TEXTJOIN(\"^\",,W235:W244)","v":"60452^60452^60453^60454^60453^60452^60452"},null,1,60452,60453,60455,60453,60452,60455,60453,60453,null,null,null,{"$f":"_xlfn.TEXTJOIN(\"^\",,AK235:AK244)","v":"60452^60451"},null,1,null,60452,null,60451,null,60454,60453,{"$nulls":4},{"$f":"_xlfn.TEXTJOIN(\"^\",,AY235:AY244)","v":"60454^60452^60453^60453^60452^60454"}]
[null,null,3,60454,60451,60451,60451,60452,60453,60452,60453,60452,60453,null,null,{"$f":"_xlfn.TEXTJOIN(\"^\",,I235:I244)","v":"60452^60453^60454"},null,3,60455,null,60453,60451,60453,60453,60455,{"$nulls":4},{"$f":"_xlfn.TEXTJOIN(\"^\",,X235:X244)","v":"60452^60451^60453^60451^60453^60451^60452"},null,3,60454,60451,60452,60452,60451,60454,60452,60451,null,null,null,{"$f":"_xlfn.TEXTJOIN(\"^\",,AL235:AL244)","v":"60455^60454^60459"},null,3,60453,null,60455,null,60453,60451,60451,60453,null,null,null,{"$f":"_xlfn.TEXTJOIN(\"^\",,AZ235:AZ244)","v":"60452^60451^60451^60454^60451^60451^60452"}]
[null,null,5,null,null,60452,null,60454,60454,null,60454,60459,60452,null,null,{"$f":"_xlfn.TEXTJOIN(\"^\",,J235:J244)","v":"60451^60452"},null,5,60455,null,null,60452,60452,60451,60455,60452,null,null,null,{"$f":"_xlfn.TEXTJOIN(\"^\",,Y235:Y244)","v":"60455^60455^60455^60455^60455"},null,5,60451,null,null,60454,null,60459,60451,60452,null,null,null,{"$f":"_xlfn.TEXTJOIN(\"^\",,AM235:AM244)","v":"60453^60452^60451"},null,5,60454,null,60455,60451,60452,60451,60451,60451,null,null,null,{"$f":"_xlfn.TEXTJOIN(\"^\",,BA235:BA244)","v":"60452^60451^60451^60453^60451^60451^60452"}]
[null,null,7,{"$nulls":7},60451,null,60451,null,null,{"$f":"_xlfn.TEXTJOIN(\"^\",,K235:K244)","v":"60452^60453^60454^60451"},null,7,null,60452,60454,null,60452,null,null,60454,null,null,null,{"$f":"_xlfn.TEXTJOIN(\"^\",,Z235:Z244)","v":"60454^60459^60456^60452^60454"},null,7,null,null,null,60451,null,null,null,60454,null,null,null,{"$f":"_xlfn.TEXTJOIN(\"^\",,AN235:AN244)","v":"60453^60451^60452^60454"},null,7,null,60452,null,60451,60454,null,60452,60452,null,null,null,{"$f":"_xlfn.TEXTJOIN(\"^\",,BB235:BB244)","v":"60454^60452^60451^60453^60453^60451^60452^60454"}]
[null,null,9,{"$nulls":12},{"$f":"_xlfn.TEXTJOIN(\"^\",,L235:L244)","v":"60455^60452^60459"},null,9,null,null,null,60454,null,60452,{"$nulls":5},{"$f":"_xlfn.TEXTJOIN(\"^\",,AA235:AA244)","v":""},null,9,{"$nulls":11},{"$f":"_xlfn.TEXTJOIN(\"^\",,AO235:AO244)","v":""},null,9,{"$nulls":5},60452,null,60454,null,null,null,{"$f":"_xlfn.TEXTJOIN(\"^\",,BC235:BC244)","v":""}]
[{"$nulls":15},{"$f":"_xlfn.TEXTJOIN(\"^\",,M235:M244)","v":"60454^60453^60452^60451"},{"$nulls":13},{"$f":"_xlfn.TEXTJOIN(\"^\",,AB235:AB244)","v":""},{"$nulls":13},{"$f":"_xlfn.TEXTJOIN(\"^\",,AP235:AP244)","v":""},{"$nulls":13},{"$f":"_xlfn.TEXTJOIN(\"^\",,BD235:BD244)","v":""}]
[{"$nulls":15},{"$f":"_xlfn.TEXTJOIN(\"^\",,N235:N244)","v":""},{"$nulls":13},{"$f":"_xlfn.TEXTJOIN(\"^\",,AC235:AC244)","v":""},{"$nulls":13},{"$f":"_xlfn.TEXTJOIN(\"^\",,AQ235:AQ244)","v":""},{"$nulls":13},{"$f":"_xlfn.TEXTJOIN(\"^\",,BE235:BE244)","v":""}]
[{"$nulls":14},"最终",{"$f":"_xlfn.TEXTJOIN(\"^\",,P235:P245)","v":"60451^60454^60452^60451^60453^60451^60452^60455^60451^60451^60452^60454^60452^60453^60454^60451^60452^60452^60453^60454^60451^60455^60452^60459^60454^60453^60452^60451"},{"$nulls":12},"最终",{"$f":"_xlfn.TEXTJOIN(\"^\",,AD235:AD245)","v":"60455^60455^60455^60455^60452^60452^60452^60454^60453^60453^60454^60454^60452^60451^60451^60451^60452^60454^60452^60452^60453^60454^60453^60452^60452^60452^60451^60453^60451^60453^60451^60452^60455^60455^60455^60455^60455^60454^60459^60456^60452^60454"},{"$nulls":12},"最终",{"$f":"_xlfn.TEXTJOIN(\"^\",,AR235:AR245)","v":"60452^60454^60451^60453^60451^60455^60452^60453^60452^60454^60451^60452^60451^60455^60454^60459^60453^60452^60451^60453^60451^60452^60454"},{"$nulls":12},"最终",{"$f":"_xlfn.TEXTJOIN(\"^\",,BF235:BF245)","v":"60454^60453^60453^60454^60452^60452^60452^60455^60455^60455^60455^60451^60451^60451^60451^60451^60454^60452^60453^60453^60452^60454^60452^60451^60451^60454^60451^60451^60452^60452^60451^60451^60453^60451^60451^60452^60454^60452^60451^60453^60453^60451^60452^60454"}]
[null,null,8,{"$nulls":14},8,null,null,null,"木精灵",null,"孢子人",{"$nulls":7},8,{"$nulls":13},8,{"$nulls":5},"孢子人",null,"木精灵"]
[null,null,6,{"$nulls":14},6,null,"孢子人","木精灵",null,"孢子人",null,null,"木精灵",{"$nulls":5},6,{"$nulls":13},6,null,"孢子人",null,"树精","木精灵",null,"孢子人","孢子人"]
[null,null,4,{"$nulls":14},4,"森林蜘蛛",null,null,"孢子人","孢子人","树精","森林蜘蛛","黑暗法师",{"$nulls":5},4,{"$nulls":13},4,"木精灵",null,"森林蜘蛛","树精","孢子人","树精","树精","树精"]
[null,null,2,{"$nulls":14},2,"森林蜘蛛",null,"哥布林","树精","哥布林","哥布林","森林蜘蛛",{"$nulls":6},2,{"$nulls":13},2,"哥布林",null,"森林蜘蛛",null,"哥布林","树精","树精","哥布林"]
[null,null,1,"树精","孢子人","哥布林","森林蜘蛛","树精","孢子人","树精","孢子人","森林蜘蛛","木精灵",{"$nulls":4},1,null,"孢子人",null,"树精","木精灵","树精","森林蜘蛛","森林巨兽",{"$nulls":5},1,"孢子人","哥布林","森林蜘蛛","哥布林","孢子人","森林蜘蛛","哥布林","哥布林",{"$nulls":5},1,null,"孢子人",null,"树精",null,"木精灵","哥布林"]
[null,null,3,"木精灵","树精","树精","树精","孢子人","哥布林","孢子人","哥布林","孢子人","哥布林",{"$nulls":4},3,"森林蜘蛛",null,"哥布林","树精","哥布林","哥布林","森林蜘蛛",{"$nulls":6},3,"木精灵","树精","孢子人","孢子人","树精","木精灵","孢子人","树精",{"$nulls":5},3,"哥布林",null,"森林蜘蛛",null,"哥布林","树精","树精","哥布林"]
[null,null,5,null,null,"孢子人",null,"木精灵","木精灵",null,"木精灵","黑暗法师","孢子人",{"$nulls":4},5,"森林蜘蛛",null,null,"孢子人","孢子人","树精","森林蜘蛛","孢子人",{"$nulls":5},5,"树精",null,null,"木精灵",null,"黑暗法师","树精","孢子人",{"$nulls":5},5,"木精灵",null,"森林蜘蛛","树精","孢子人","树精","树精","树精"]
[null,null,7,{"$nulls":7},"树精",null,"树精",{"$nulls":4},7,null,"孢子人","木精灵",null,"孢子人",null,null,"木精灵",{"$nulls":5},7,null,null,null,"树精",null,null,null,"木精灵",{"$nulls":5},7,null,"孢子人",null,"树精","木精灵",null,"孢子人","孢子人"]
[null,null,9,{"$nulls":14},9,null,null,null,"木精灵",null,"孢子人",{"$nulls":7},9,{"$nulls":13},9,{"$nulls":5},"孢子人",null,"木精灵"]
[]
[null,null,"位置",5,15,30,35,50,66,83,100,105,120,{"$nulls":4},"位置",5,10,15,22,30,40,45,55,{"$nulls":5},"位置",4,10,15,30,46,50,65,80,null,null,null,{"$f":"_xlfn.TEXTJOIN(\"^\",,AG258:AG272)","v":"0^0^0"},null,"位置",3,5,8,12,20,30,40,45,null,null,null,{"$f":"_xlfn.TEXTJOIN(\"^\",,AU258:AU272)","v":"4^2^3^5"}]
[null,null,8,{"$nulls":12},{"$f":"_xlfn.TEXTJOIN(\"^\",,D258:D272)","v":"0^0"},null,8,null,null,null,{"$f":"$C258","v":8},null,{"$f":"$C258","v":8},{"$nulls":7},8,{"$nulls":11},{"$f":"_xlfn.TEXTJOIN(\"^\",,AH258:AH272)","v":"0^0"},null,8,{"$nulls":5},{"$f":"$C258","v":8},null,{"$f":"$C258","v":8},null,null,null,{"$f":"_xlfn.TEXTJOIN(\"^\",,AV258:AV272)","v":"6^1^7"}]
[null,null,6,{"$nulls":12},{"$f":"_xlfn.TEXTJOIN(\"^\",,E258:E272)","v":"0^0"},null,6,null,{"$f":"$C259","v":6},{"$f":"$C259","v":6},null,{"$f":"$C259","v":6},null,null,{"$f":"$C259","v":6},null,null,null,{"$f":"_xlfn.TEXTJOIN(\"^\",,S258:S272)","v":"101^102^104^105"},null,6,{"$nulls":11},{"$f":"_xlfn.TEXTJOIN(\"^\",,AI258:AI272)","v":"100^0"},null,6,null,{"$f":"$C259","v":6},null,{"$f":"$C259","v":6},6,null,{"$f":"$C259","v":6},6,null,null,null,{"$f":"_xlfn.TEXTJOIN(\"^\",,AW258:AW272)","v":"101^102^104^105"}]
[null,null,4,{"$nulls":12},{"$f":"_xlfn.TEXTJOIN(\"^\",,F258:F272)","v":"0^0^0"},null,4,null,null,null,{"$f":"$C260","v":4},4,4,null,4,null,null,null,{"$f":"_xlfn.TEXTJOIN(\"^\",,T258:T272)","v":"6^1^7"},null,4,{"$nulls":11},{"$f":"_xlfn.TEXTJOIN(\"^\",,AJ258:AJ272)","v":"0^0^0^0"},null,4,{"$f":"$C260","v":4},null,null,4,4,4,4,4,null,null,null,{"$f":"_xlfn.TEXTJOIN(\"^\",,AX258:AX272)","v":"6^4^1^5^7"}]
[null,null,2,{"$nulls":12},{"$f":"_xlfn.TEXTJOIN(\"^\",,G258:G272)","v":"100^0"},null,2,null,null,{"$f":"$C261","v":2},2,2,2,{"$nulls":5},{"$f":"_xlfn.TEXTJOIN(\"^\",,U258:U272)","v":"6^2^3^7"},null,2,{"$nulls":11},{"$f":"_xlfn.TEXTJOIN(\"^\",,AK258:AK272)","v":"0^0"},null,2,2,null,null,null,{"$f":"$C261","v":2},2,2,2,null,null,null,{"$f":"_xlfn.TEXTJOIN(\"^\",,AY258:AY272)","v":"6^4^2^3^5^7"}]
[null,null,1,0,0,0,100,0,0,0,0,100,0,null,null,{"$f":"_xlfn.TEXTJOIN(\"^\",,H258:H272)","v":"0^0^0"},null,1,null,{"$f":"$C262","v":1},null,1,1,1,null,{"$f":"$C262","v":1},null,null,null,{"$f":"_xlfn.TEXTJOIN(\"^\",,V258:V272)","v":"8^4^2^1^3^5^9"},null,1,0,0,100,0,0,100,0,0,null,null,null,{"$f":"_xlfn.TEXTJOIN(\"^\",,AL258:AL272)","v":"100^0^0"},null,1,null,{"$f":"$C262","v":1},null,{"$f":"$C262","v":1},null,1,1,{"$nulls":4},{"$f":"_xlfn.TEXTJOIN(\"^\",,AZ258:AZ272)","v":"8^4^2^1^3^5^9"}]
[null,null,3,0,0,0,0,0,0,0,0,0,0,null,null,{"$f":"_xlfn.TEXTJOIN(\"^\",,I258:I272)","v":"0^0^0"},null,3,null,null,{"$f":"$C263","v":3},3,3,3,{"$nulls":5},{"$f":"_xlfn.TEXTJOIN(\"^\",,W258:W272)","v":"6^4^2^1^3^5^7"},null,3,0,0,0,0,0,0,0,0,null,null,null,{"$f":"_xlfn.TEXTJOIN(\"^\",,AM258:AM272)","v":"0^0^0"},null,3,{"$f":"$C263","v":3},null,null,null,{"$f":"$C263","v":3},3,3,3,null,null,null,{"$f":"_xlfn.TEXTJOIN(\"^\",,BA258:BA272)","v":"6^4^2^1^3^5^7"}]
[null,null,5,null,null,0,null,0,0,null,0,0,0,null,null,{"$f":"_xlfn.TEXTJOIN(\"^\",,J258:J272)","v":"0^0"},null,5,null,null,null,5,5,5,null,{"$f":"$C264","v":5},null,null,null,{"$f":"_xlfn.TEXTJOIN(\"^\",,X258:X272)","v":"8^4^2^1^3^5^9"},null,5,0,null,null,0,null,0,0,0,null,null,null,{"$f":"_xlfn.TEXTJOIN(\"^\",,AN258:AN272)","v":"0^0^0^0"},null,5,5,null,null,{"$f":"$C264","v":5},5,5,5,5,null,null,null,{"$f":"_xlfn.TEXTJOIN(\"^\",,BB258:BB272)","v":"8^6^4^2^3^5^7^9"}]
[null,null,7,{"$nulls":7},0,null,0,null,null,{"$f":"_xlfn.TEXTJOIN(\"^\",,K258:K272)","v":"0^0^0^0"},null,7,null,{"$f":"$C265","v":7},{"$f":"$C265","v":7},null,7,null,null,7,null,null,null,{"$f":"_xlfn.TEXTJOIN(\"^\",,Y258:Y272)","v":"101^102^103^104^105"},null,7,null,null,null,0,null,null,null,0,null,null,null,{"$f":"_xlfn.TEXTJOIN(\"^\",,AO258:AO272)","v":""},null,7,null,{"$f":"$C265","v":7},null,7,7,null,7,7,null,null,null,{"$f":"_xlfn.TEXTJOIN(\"^\",,BC258:BC272)","v":""}]
[null,null,9,{"$nulls":12},{"$f":"_xlfn.TEXTJOIN(\"^\",,L258:L272)","v":"100^0^0"},null,9,null,null,null,{"$f":"$C266","v":9},null,{"$f":"$C266","v":9},{"$nulls":7},9,{"$nulls":11},{"$f":"_xlfn.TEXTJOIN(\"^\",,AP258:AP272)","v":""},null,9,{"$nulls":5},{"$f":"$C266","v":9},null,9,null,null,null,{"$f":"_xlfn.TEXTJOIN(\"^\",,BD258:BD272)","v":""}]
[null,null,"空降",{"$nulls":12},{"$f":"_xlfn.TEXTJOIN(\"^\",,M258:M272)","v":"0^0^0^0"},null,"空降",{"$nulls":13},"空降",{"$nulls":11},{"$f":"_xlfn.TEXTJOIN(\"^\",,AQ258:AQ266)","v":""},null,"空降",{"$nulls":11},{"$f":"_xlfn.TEXTJOIN(\"^\",,BE258:BE266)","v":""}]
[null,null,101,{"$nulls":12},{"$f":"_xlfn.TEXTJOIN(\"^\",,N258:N272)","v":""},null,101,{"$f":"$C268","v":101},{"$nulls":5},{"$f":"$C268","v":101},{"$nulls":4},{"$f":"_xlfn.TEXTJOIN(\"^\",,Z258:Z272)","v":"6^4^1^5^7"},null,101,{"$nulls":13},101,null,null,{"$f":"$C268","v":101}]
[null,null,102,{"$nulls":14},102,102,{"$nulls":5},102,{"$nulls":4},{"$f":"_xlfn.TEXTJOIN(\"^\",,AA258:AA272)","v":""},null,102,{"$nulls":13},102,null,null,102]
[null,null,103,{"$nulls":14},103,{"$nulls":6},103,{"$nulls":4},{"$f":"_xlfn.TEXTJOIN(\"^\",,AB258:AB272)","v":""},null,103,{"$nulls":13},103]
[null,null,104,{"$nulls":14},104,{"$f":"$C271","v":104},{"$nulls":5},104,{"$nulls":6},104,{"$nulls":13},104,null,null,{"$f":"$C271","v":104}]
[null,null,105,{"$nulls":14},105,105,{"$nulls":5},105,{"$nulls":6},105,{"$nulls":13},105,null,null,105]
[{"$nulls":14},"最终",{"$f":"_xlfn.TEXTJOIN(\"^\",,P258:P272)","v":"0^0^0^0^0^0^0^100^0^0^0^0^0^0^0^0^0^0^0^0^0^100^0^0^0^0^0^0"},{"$nulls":12},"最终",{"$f":"_xlfn.TEXTJOIN(\"^\",,AD258:AD272)","v":"101^102^104^105^6^1^7^6^2^3^7^8^4^2^1^3^5^9^6^4^2^1^3^5^7^8^4^2^1^3^5^9^101^102^103^104^105^6^4^1^5^7"},{"$nulls":12},"最终",{"$f":"_xlfn.TEXTJOIN(\"^\",,AR257:AR272)","v":"0^0^0^0^0^100^0^0^0^0^0^0^0^100^0^0^0^0^0^0^0^0^0"},{"$nulls":12},"最终",{"$f":"_xlfn.TEXTJOIN(\"^\",,BF257:BF272)","v":"4^2^3^5^6^1^7^101^102^104^105^6^4^1^5^7^6^4^2^3^5^7^8^4^2^1^3^5^9^6^4^2^1^3^5^7^8^6^4^2^3^5^7^9"}]
[]
[null,null,"时间",5,15,30,35,50,66,83,100,105,120,{"$nulls":4},"时间",5,10,15,22,30,40,45,55,null,null,null,{"$f":"_xlfn.TEXTJOIN(\"^\",,S276:S284)","v":"5^5^5^5"},null,"时间",4,10,15,30,46,50,65,80,null,null,null,{"$f":"_xlfn.TEXTJOIN(\"^\",,AG276:AG284)","v":"5^5^16"},null,"时间",3,5,8,12,20,30,40,45,null,null,null,{"$f":"_xlfn.TEXTJOIN(\"^\",,AU276:AU284)","v":"3^3^3^3"}]
[null,null,8,{"$nulls":12},{"$f":"_xlfn.TEXTJOIN(\"^\",,D276:D285)","v":"9^2"},null,8,null,null,null,{"$f":"V$275","v":22},null,{"$f":"X$275","v":40},{"$nulls":5},{"$f":"_xlfn.TEXTJOIN(\"^\",,T276:T284)","v":"10^10^10"},null,8,{"$nulls":11},{"$f":"_xlfn.TEXTJOIN(\"^\",,AH276:AH284)","v":"3^10"},null,8,{"$nulls":5},{"$f":"AZ$275","v":30},null,{"$f":"BB$275","v":45},null,null,null,{"$f":"_xlfn.TEXTJOIN(\"^\",,AV276:AV284)","v":"5^5^5"}]
[null,null,6,{"$nulls":12},{"$f":"_xlfn.TEXTJOIN(\"^\",,E276:E285)","v":"3^10"},null,6,null,{"$f":"T$275","v":10},{"$f":"U$275","v":15},null,{"$f":"W$275","v":30},null,null,{"$f":"Z$275","v":55},null,null,null,{"$f":"_xlfn.TEXTJOIN(\"^\",,U276:U284)","v":"15^15^15^15"},null,6,{"$nulls":11},{"$f":"_xlfn.TEXTJOIN(\"^\",,AI276:AI284)","v":"8^3"},null,6,null,{"$f":"AV$275","v":5},null,{"$f":"AX$275","v":12},20,null,{"$f":"BA$275","v":40},45,null,null,null,{"$f":"_xlfn.TEXTJOIN(\"^\",,AW276:AW284)","v":"8^8^8^8"}]
[null,null,4,{"$nulls":12},{"$f":"_xlfn.TEXTJOIN(\"^\",,F276:F285)","v":"2^9^3"},null,4,{"$f":"S$275","v":5},null,null,{"$f":"V$275","v":22},30,40,45,55,null,null,null,{"$f":"_xlfn.TEXTJOIN(\"^\",,V276:V284)","v":"22^22^22^22^22^22^22"},null,4,{"$nulls":11},{"$f":"_xlfn.TEXTJOIN(\"^\",,AJ276:AJ284)","v":"2^3^2^7"},null,4,{"$f":"AU$275","v":3},null,{"$f":"AW$275","v":8},12,20,30,40,45,null,null,null,{"$f":"_xlfn.TEXTJOIN(\"^\",,AX276:AX284)","v":"12^12^12^12^12"}]
[null,null,2,{"$nulls":12},{"$f":"_xlfn.TEXTJOIN(\"^\",,G276:G285)","v":"7^8"},null,2,5,null,{"$f":"U$275","v":15},22,30,40,45,{"$nulls":4},{"$f":"_xlfn.TEXTJOIN(\"^\",,W276:W284)","v":"30^30^30^30^30^30^30"},null,2,{"$nulls":11},{"$f":"_xlfn.TEXTJOIN(\"^\",,AK276:AK284)","v":"3^11"},null,2,3,null,8,null,20,30,40,45,null,null,null,{"$f":"_xlfn.TEXTJOIN(\"^\",,AY276:AY284)","v":"20^20^20^20^20^20"}]
[null,null,1,9,3,2,7,10,5,12,3,8,2,null,null,{"$f":"_xlfn.TEXTJOIN(\"^\",,H276:H285)","v":"10^3^2"},null,1,null,{"$f":"T$275","v":10},null,22,30,40,45,{"$f":"Z$275","v":55},null,null,null,{"$f":"_xlfn.TEXTJOIN(\"^\",,X276:X284)","v":"40^40^40^40^40^40^40"},null,1,5,3,8,2,3,9,2,2,null,null,null,{"$f":"_xlfn.TEXTJOIN(\"^\",,AL276:AL284)","v":"9^2^2"},null,1,null,{"$f":"AV$275","v":5},null,{"$f":"AX$275","v":12},null,30,40,{"$nulls":4},{"$f":"_xlfn.TEXTJOIN(\"^\",,AZ276:AZ284)","v":"30^30^30^30^30^30^30"}]
[null,null,3,2,10,9,8,3,3,2,2,4,2,null,null,{"$f":"_xlfn.TEXTJOIN(\"^\",,I276:I285)","v":"5^3^3"},null,3,{"$f":"S$275","v":5},null,{"$f":"U$275","v":15},22,30,40,45,{"$nulls":4},{"$f":"_xlfn.TEXTJOIN(\"^\",,Y276:Y284)","v":"45^45^45^45^45"},null,3,5,10,3,3,11,2,3,10,null,null,null,{"$f":"_xlfn.TEXTJOIN(\"^\",,AM276:AM284)","v":"2^3^10"},null,3,{"$f":"AU$275","v":3},null,{"$f":"AW$275","v":8},null,{"$f":"AY$275","v":20},30,40,45,null,null,null,{"$f":"_xlfn.TEXTJOIN(\"^\",,BA276:BA284)","v":"40^40^40^40^40^40^40"}]
[null,null,5,null,null,3,null,2,3,null,2,1,3,null,null,{"$f":"_xlfn.TEXTJOIN(\"^\",,J276:J285)","v":"12^2"},null,5,5,null,null,22,30,40,45,55,null,null,null,{"$f":"_xlfn.TEXTJOIN(\"^\",,Z276:Z284)","v":"55^55^55^55^55"},null,5,16,null,null,2,null,2,10,2,null,null,null,{"$f":"_xlfn.TEXTJOIN(\"^\",,AN276:AN284)","v":"2^10^2^2"},null,5,3,null,8,12,20,30,40,45,null,null,null,{"$f":"_xlfn.TEXTJOIN(\"^\",,BB276:BB284)","v":"45^45^45^45^45^45^45^45"}]
[null,null,7,{"$nulls":7},9,null,10,null,null,{"$f":"_xlfn.TEXTJOIN(\"^\",,K276:K285)","v":"3^2^2^9"},null,7,null,{"$f":"T$275","v":10},{"$f":"U$275","v":15},null,30,null,null,55,null,null,null,{"$f":"_xlfn.TEXTJOIN(\"^\",,AA276:AA284)","v":""},null,7,null,null,null,7,null,null,null,2,null,null,null,{"$f":"_xlfn.TEXTJOIN(\"^\",,AO276:AO284)","v":""},null,7,null,{"$f":"AV$275","v":5},null,12,20,null,40,45,null,null,null,{"$f":"_xlfn.TEXTJOIN(\"^\",,BC276:BC284)","v":""}]
[null,null,9,{"$nulls":12},{"$f":"_xlfn.TEXTJOIN(\"^\",,L276:L285)","v":"8^4^1"},null,9,null,null,null,{"$f":"V$275","v":22},null,{"$f":"X$275","v":40},{"$nulls":5},{"$f":"_xlfn.TEXTJOIN(\"^\",,AB276:AB284)","v":""},null,9,{"$nulls":11},{"$f":"_xlfn.TEXTJOIN(\"^\",,AP276:AP284)","v":""},null,9,{"$nulls":5},{"$f":"AZ$275","v":30},null,45,null,null,null,{"$f":"_xlfn.TEXTJOIN(\"^\",,BD276:BD284)","v":""}]
[{"$nulls":15},{"$f":"_xlfn.TEXTJOIN(\"^\",,M276:M285)","v":"2^2^3^10"},{"$nulls":13},{"$f":"_xlfn.TEXTJOIN(\"^\",,AC276:AC284)","v":""},{"$nulls":13},{"$f":"_xlfn.TEXTJOIN(\"^\",,AQ276:AQ284)","v":""},{"$nulls":13},{"$f":"_xlfn.TEXTJOIN(\"^\",,BE276:BE284)","v":""}]
[{"$nulls":15},{"$f":"_xlfn.TEXTJOIN(\"^\",,N276:N285)","v":""},{"$nulls":12},"最终",{"$f":"_xlfn.TEXTJOIN(\"^\",,AD275:AD285)","v":"5^5^5^5^10^10^10^15^15^15^15^22^22^22^22^22^22^22^30^30^30^30^30^30^30^40^40^40^40^40^40^40^45^45^45^45^45^55^55^55^55^55"},{"$nulls":12},"最终",{"$f":"_xlfn.TEXTJOIN(\"^\",,AR275:AR285)","v":"5^5^16^3^10^8^3^2^3^2^7^3^11^9^2^2^2^3^10^2^10^2^2"},{"$nulls":12},"最终",{"$f":"_xlfn.TEXTJOIN(\"^\",,BF275:BF285)","v":"3^3^3^3^5^5^5^8^8^8^8^12^12^12^12^12^20^20^20^20^20^20^30^30^30^30^30^30^30^40^40^40^40^40^40^40^45^45^45^45^45^45^45^45"}]
[{"$nulls":14},"最终",{"$f":"_xlfn.TEXTJOIN(\"^\",,P276:P286)","v":"9^2^3^10^2^9^3^7^8^10^3^2^5^3^3^12^2^3^2^2^9^8^4^1^2^2^3^10"}]
[{"$nulls":15},{"$f":"SUM(D276:M284)","v":139},{"$nulls":13},{"$f":"COUNT(S276:Z284)","v":42},{"$nulls":13},{"$f":"SUM(AG276:AN284)","v":122},{"$nulls":13},{"$f":"COUNT(AU276:BB284)","v":44}]
[{"$nulls":57},{"$f":"SUM(P288:BF288)","v":347}]

{"sheet":"10","index":10,"n_rows":289,"n_cols":58,"rows_kept":289,"cut":false,"hidden":false,"merged":[]}
[{"$nulls":4},{"$f":"E2-D2","v":10},{"$f":"F2-E2","v":15},16,4,16,17,17,15,5,{"$nulls":6},{"$f":"T2-S2","v":3},4,5,10,10,10,10,{"$nulls":7},{"$f":"AH2-AG2","v":2},4,5,10,15,17,18,{"$nulls":7},{"$f":"AV2-AU2","v":2},2,2,2,7,8,10]
[3,"高原-1","波1·怪物",5,15,30,46,50,66,83,100,115,120,null,null,null,1,"波2·怪物",3,6,10,15,25,35,45,55,{"$nulls":4},3,"波3·怪物",4,6,10,15,25,40,57,75,{"$nulls":4},1,"波4·怪物",2,4,6,8,10,17,25,35]
[null,"5m",8,{"$nulls":12},{"$f":"_xlfn.TEXTJOIN(\"^\",,D3:D12)","v":"60461^60464"},null,8,{"$nulls":5},60464,null,60464,null,null,null,{"$f":"_xlfn.TEXTJOIN(\"^\",,S3:S12)","v":"60464^60462^60462^60464"},null,8,{"$nulls":11},{"$f":"_xlfn.TEXTJOIN(\"^\",,AG3:AG12)","v":"60465^60464^60463"},null,8,{"$nulls":7},60462,null,null,null,{"$f":"_xlfn.TEXTJOIN(\"^\",,AU3:AU12)","v":"60463^60463"}]
[null,null,6,{"$nulls":12},{"$f":"_xlfn.TEXTJOIN(\"^\",,E3:E12)","v":"60461^60462"},null,6,null,null,60461,null,60462,60462,60462,60462,null,null,null,{"$f":"_xlfn.TEXTJOIN(\"^\",,T3:T12)","v":"60463^60463^60463"},null,6,{"$nulls":11},{"$f":"_xlfn.TEXTJOIN(\"^\",,AH3:AH12)","v":"60462^60461"},null,6,null,null,null,60461,null,60464,60462,60462,null,null,null,{"$f":"_xlfn.TEXTJOIN(\"^\",,AV3:AV12)","v":"60462^60462^60462"}]
[null,null,4,{"$nulls":12},{"$f":"_xlfn.TEXTJOIN(\"^\",,F3:F12)","v":"60463^60464^60462"},null,4,60464,60463,60461,60465,60461,60461,60461,60461,null,null,null,{"$f":"_xlfn.TEXTJOIN(\"^\",,U3:U12)","v":"60461^60461^60461^60461^60461"},null,4,{"$nulls":11},{"$f":"_xlfn.TEXTJOIN(\"^\",,AI3:AI12)","v":"60461^60464"},null,4,null,60462,null,60461,60465,60462,60462,60461,null,null,null,{"$f":"_xlfn.TEXTJOIN(\"^\",,AW3:AW12)","v":"60464^60464"}]
[null,null,2,{"$nulls":12},{"$f":"_xlfn.TEXTJOIN(\"^\",,G3:G12)","v":"60461^60462^60464"},null,2,60462,null,null,60465,60463,null,60463,60463,null,null,null,{"$f":"_xlfn.TEXTJOIN(\"^\",,V3:V12)","v":"60465^60465^60465^60465^60465"},null,2,{"$nulls":11},{"$f":"_xlfn.TEXTJOIN(\"^\",,AJ3:AJ12)","v":"60463^60462^60461"},null,2,60463,null,60464,null,60465,60463,60461,60461,null,null,null,{"$f":"_xlfn.TEXTJOIN(\"^\",,AX3:AX12)","v":"60461^60461^60461^60461"}]
[null,null,1,60461,60461,60463,60461,60465,60463,60464,60463,60461,60465,null,null,{"$f":"_xlfn.TEXTJOIN(\"^\",,H3:H12)","v":"60465^60461"},null,1,null,60463,60461,60465,60462,60463,60464,{"$nulls":4},{"$f":"_xlfn.TEXTJOIN(\"^\",,W3:W12)","v":"60462^60461^60463^60462^60463^60461^60462"},null,1,60465,60462,60461,60463,60461,60464,60461,60463,null,null,null,{"$f":"_xlfn.TEXTJOIN(\"^\",,AK3:AK12)","v":"60461^60462^60464"},null,1,null,60462,{"$nulls":4},60464,{"$nulls":4},{"$f":"_xlfn.TEXTJOIN(\"^\",,AY3:AY12)","v":"60465^60465^60465^60465"}]
[null,null,3,60464,60462,60464,60462,60461,60461,60461,60461,60462,60462,null,null,{"$f":"_xlfn.TEXTJOIN(\"^\",,I3:I12)","v":"60463^60461^60462"},null,3,60462,null,null,60465,60463,null,60463,60463,null,null,null,{"$f":"_xlfn.TEXTJOIN(\"^\",,X3:X12)","v":"60464^60462^60461^60463^60461^60462^60464"},null,3,60464,60461,60464,60462,60462,60463,60462,60461,null,null,null,{"$f":"_xlfn.TEXTJOIN(\"^\",,AL3:AL12)","v":"60464^60463^60461^60462"},null,3,60463,null,60464,null,60465,60463,60461,60461,null,null,null,{"$f":"_xlfn.TEXTJOIN(\"^\",,AZ3:AZ12)","v":"60464^60462^60463^60463^60462^60464"}]
[null,null,5,null,null,60462,60464,null,60462,60462,60462,{"$nulls":4},{"$f":"_xlfn.TEXTJOIN(\"^\",,J3:J12)","v":"60464^60461^60462"},null,5,60464,60463,60461,60465,60461,60461,60461,60461,null,null,null,{"$f":"_xlfn.TEXTJOIN(\"^\",,Y3:Y12)","v":"60462^60461^60463^60464^60463^60461^60462"},null,5,60463,null,null,60461,60464,60461,null,60462,null,null,null,{"$f":"_xlfn.TEXTJOIN(\"^\",,AM3:AM12)","v":"60461^60462"},null,5,null,60462,null,60461,60465,60462,60462,60461,null,null,null,{"$f":"_xlfn.TEXTJOIN(\"^\",,BA3:BA12)","v":"60462^60462^60461^60464^60461^60462^60462"}]
[null,null,7,{"$nulls":7},60464,{"$nulls":4},{"$f":"_xlfn.TEXTJOIN(\"^\",,K3:K12)","v":"60463^60461^60462^60464"},null,7,null,null,60461,null,60462,60462,60462,60462,null,null,null,{"$f":"_xlfn.TEXTJOIN(\"^\",,Z3:Z12)","v":"60464^60462^60461^60463^60463^60461^60462^60464"},null,7,{"$nulls":5},60462,null,60464,null,null,null,{"$f":"_xlfn.TEXTJOIN(\"^\",,AN3:AN12)","v":"60463^60461^60462^60464"},null,7,null,null,null,60461,null,60464,60462,60462,null,null,null,{"$f":"_xlfn.TEXTJOIN(\"^\",,BB3:BB12)","v":"60462^60462^60461^60461^60461^60461^60462^60462"}]
[null,null,9,{"$nulls":12},{"$f":"_xlfn.TEXTJOIN(\"^\",,L3:L12)","v":"60461^60462"},null,9,{"$nulls":5},60464,null,60464,null,null,null,{"$f":"_xlfn.TEXTJOIN(\"^\",,AA3:AA12)","v":""},null,9,{"$nulls":11},{"$f":"_xlfn.TEXTJOIN(\"^\",,AO3:AO12)","v":""},null,9,{"$nulls":7},60462,null,null,null,{"$f":"_xlfn.TEXTJOIN(\"^\",,BC3:BC12)","v":""}]
[{"$nulls":15},{"$f":"_xlfn.TEXTJOIN(\"^\",,M3:M12)","v":"60465^60462"},{"$nulls":13},{"$f":"_xlfn.TEXTJOIN(\"^\",,AB3:AB12)","v":""},{"$nulls":13},{"$f":"_xlfn.TEXTJOIN(\"^\",,AP3:AP12)","v":""},{"$nulls":13},{"$f":"_xlfn.TEXTJOIN(\"^\",,BD3:BD12)","v":""}]
[{"$nulls":15},{"$f":"_xlfn.TEXTJOIN(\"^\",,N3:N12)","v":""},{"$nulls":13},{"$f":"_xlfn.TEXTJOIN(\"^\",,AC3:AC12)","v":""},{"$nulls":13},{"$f":"_xlfn.TEXTJOIN(\"^\",,AQ3:AQ12)","v":""},{"$nulls":13},{"$f":"_xlfn.TEXTJOIN(\"^\",,BE3:BE12)","v":""}]
[{"$nulls":14},"最终",{"$f":"_xlfn.TEXTJOIN(\"^\",,P3:P13)","v":"60461^60464^60461^60462^60463^60464^60462^60461^60462^60464^60465^60461^60463^60461^60462^60464^60461^60462^60463^60461^60462^60464^60461^60462^60465^60462"},{"$nulls":12},"最终",{"$f":"_xlfn.TEXTJOIN(\"^\",,AD3:AD13)","v":"60464^60462^60462^60464^60463^60463^60463^60461^60461^60461^60461^60461^60465^60465^60465^60465^60465^60462^60461^60463^60462^60463^60461^60462^60464^60462^60461^60463^60461^60462^60464^60462^60461^60463^60464^60463^60461^60462^60464^60462^60461^60463^60463^60461^60462^60464"},{"$nulls":12},"最终",{"$f":"_xlfn.TEXTJOIN(\"^\",,AR3:AR13)","v":"60465^60464^60463^60462^60461^60461^60464^60463^60462^60461^60461^60462^60464^60464^60463^60461^60462^60461^60462^60463^60461^60462^60464"},{"$nulls":12},"最终",{"$f":"_xlfn.TEXTJOIN(\"^\",,BF3:BF13)","v":"60463^60463^60462^60462^60462^60464^60464^60461^60461^60461^60461^60465^60465^60465^60465^60464^60462^60463^60463^60462^60464^60462^60462^60461^60464^60461^60462^60462^60462^60462^60461^60461^60461^60461^60462^60462"}]
[null,null,8,{"$nulls":14},8,{"$nulls":5},"木精灵",null,"木精灵",{"$nulls":5},8,{"$nulls":13},8,{"$nulls":7},"独角兽"]
[null,null,6,{"$nulls":14},6,null,null,"雪怪",null,"独角兽","独角兽","独角兽","独角兽",{"$nulls":5},6,{"$nulls":13},6,null,null,null,"雪怪",null,"木精灵","独角兽","独角兽"]
[null,null,4,{"$nulls":14},4,"木精灵","雪原兽","雪怪","雪山蜘蛛","雪怪","雪怪","雪怪","雪怪",{"$nulls":5},4,{"$nulls":13},4,null,"独角兽",null,"雪怪","雪山蜘蛛","独角兽","独角兽","雪怪"]
[null,null,2,{"$nulls":14},2,"独角兽",null,null,"雪山蜘蛛","雪原兽",null,"雪原兽","雪原兽",{"$nulls":5},2,{"$nulls":13},2,"雪原兽",null,"木精灵",null,"雪山蜘蛛","雪原兽","雪怪","雪怪"]
[null,null,1,"雪怪","雪怪","雪原兽","雪怪","雪山蜘蛛","雪原兽","木精灵","雪原兽","雪怪","雪山蜘蛛",{"$nulls":4},1,null,"雪原兽","雪怪","雪山蜘蛛","独角兽","雪原兽","木精灵",{"$nulls":6},1,"雪山蜘蛛","独角兽","雪怪","雪原兽","雪怪","木精灵","雪怪","雪原兽",{"$nulls":5},1,null,"独角兽",{"$nulls":4},"木精灵"]
[null,null,3,"木精灵","独角兽","木精灵","独角兽","雪怪","雪怪","雪怪","雪怪","独角兽","独角兽",{"$nulls":4},3,"独角兽",null,null,"雪山蜘蛛","雪原兽",null,"雪原兽","雪原兽",{"$nulls":5},3,"木精灵","雪怪","木精灵","独角兽","独角兽","雪原兽","独角兽","雪怪",{"$nulls":5},3,"雪原兽",null,"木精灵",null,"雪山蜘蛛","雪原兽","雪怪","雪怪"]
[null,null,5,null,null,"独角兽","木精灵",null,"独角兽","独角兽","独角兽",{"$nulls":6},5,"木精灵","雪原兽","雪怪","雪山蜘蛛","雪怪","雪怪","雪怪","雪怪",{"$nulls":5},5,"雪原兽",null,null,"雪怪","木精灵","雪怪",null,"独角兽",{"$nulls":5},5,null,"独角兽",null,"雪怪","雪山蜘蛛","独角兽","独角兽","雪怪"]
[null,null,7,{"$nulls":7},"木精灵",{"$nulls":6},7,null,null,"雪怪",null,"独角兽","独角兽","独角兽","独角兽",{"$nulls":5},7,{"$nulls":5},"独角兽",null,"木精灵",{"$nulls":5},7,null,null,null,"雪怪",null,"木精灵","独角兽","独角兽"]
[null,null,9,{"$nulls":14},9,{"$nulls":5},"木精灵",null,"木精灵",{"$nulls":5},9,{"$nulls":13},9,{"$nulls":7},"独角兽"]
[]
[null,null,"位置",5,15,30,46,50,66,83,100,115,120,{"$nulls":4},"位置",3,6,10,15,25,35,45,55,{"$nulls":5},"位置",4,6,10,15,25,40,57,75,null,null,null,{"$f":"_xlfn.TEXTJOIN(\"^\",,AG26:AG40)","v":"100^0^0"},null,"位置",2,4,6,8,10,17,25,35,null,null,null,{"$f":"_xlfn.TEXTJOIN(\"^\",,AU26:AU40)","v":"2^3"}]
[null,null,8,{"$nulls":12},{"$f":"_xlfn.TEXTJOIN(\"^\",,D26:D40)","v":"0^0"},null,8,{"$nulls":5},{"$f":"$C26","v":8},null,{"$f":"$C26","v":8},{"$nulls":5},8,{"$nulls":11},{"$f":"_xlfn.TEXTJOIN(\"^\",,AH26:AH40)","v":"0^0"},null,8,{"$nulls":7},{"$f":"$C26","v":8},null,null,null,{"$f":"_xlfn.TEXTJOIN(\"^\",,AV26:AV40)","v":"4^1^5"}]
[null,null,6,{"$nulls":12},{"$f":"_xlfn.TEXTJOIN(\"^\",,E26:E40)","v":"0^0"},null,6,null,null,{"$f":"$C27","v":6},null,{"$f":"$C27","v":6},6,6,6,null,null,null,{"$f":"_xlfn.TEXTJOIN(\"^\",,S26:S40)","v":"4^2^3^5"},null,6,{"$nulls":11},{"$f":"_xlfn.TEXTJOIN(\"^\",,AI26:AI40)","v":"0^0"},null,6,null,null,null,{"$f":"$C27","v":6},null,{"$f":"$C27","v":6},6,6,null,null,null,{"$f":"_xlfn.TEXTJOIN(\"^\",,AW26:AW40)","v":"2^3"}]
[null,null,4,{"$nulls":12},{"$f":"_xlfn.TEXTJOIN(\"^\",,F26:F40)","v":"0^0^0"},null,4,{"$f":"$C28","v":4},{"$f":"$C28","v":4},4,null,4,4,4,4,null,null,null,{"$f":"_xlfn.TEXTJOIN(\"^\",,T26:T40)","v":"4^1^5"},null,4,{"$nulls":11},{"$f":"_xlfn.TEXTJOIN(\"^\",,AJ26:AJ40)","v":"0^0^0"},null,4,null,{"$f":"$C28","v":4},null,4,null,4,4,4,null,null,null,{"$f":"_xlfn.TEXTJOIN(\"^\",,AX26:AX40)","v":"6^4^5^7"}]
[null,null,2,{"$nulls":12},{"$f":"_xlfn.TEXTJOIN(\"^\",,G26:G40)","v":"0^0^0"},null,2,2,null,null,null,2,null,2,2,null,null,null,{"$f":"_xlfn.TEXTJOIN(\"^\",,U26:U40)","v":"6^4^1^5^7"},null,2,{"$nulls":11},{"$f":"_xlfn.TEXTJOIN(\"^\",,AK26:AK40)","v":"0^0^0"},null,2,{"$f":"$C29","v":2},null,{"$f":"$C29","v":2},null,null,2,2,2,null,null,null,{"$f":"_xlfn.TEXTJOIN(\"^\",,AY26:AY40)","v":"101^102^104^105"}]
[null,null,1,0,0,0,0,100,0,0,0,0,100,null,null,{"$f":"_xlfn.TEXTJOIN(\"^\",,H26:H40)","v":"100^0"},null,1,null,{"$f":"$C30","v":1},1,null,1,{"$f":"$C30","v":1},1,{"$nulls":4},{"$f":"_xlfn.TEXTJOIN(\"^\",,V26:V40)","v":"101^102^103^104^105"},null,1,100,0,0,0,0,0,0,0,null,null,null,{"$f":"_xlfn.TEXTJOIN(\"^\",,AL26:AL40)","v":"0^0^0^0"},null,1,null,{"$f":"$C30","v":1},{"$nulls":4},1,{"$nulls":4},{"$f":"_xlfn.TEXTJOIN(\"^\",,AZ26:AZ40)","v":"6^4^2^3^5^7"}]
[null,null,3,0,0,0,0,0,0,0,0,0,0,null,null,{"$f":"_xlfn.TEXTJOIN(\"^\",,I26:I40)","v":"0^0^0"},null,3,{"$f":"$C31","v":3},null,null,null,3,null,3,3,null,null,null,{"$f":"_xlfn.TEXTJOIN(\"^\",,W26:W40)","v":"6^4^2^1^3^5^7"},null,3,0,0,0,0,0,0,0,0,null,null,null,{"$f":"_xlfn.TEXTJOIN(\"^\",,AM26:AM40)","v":"0^0"},null,3,{"$f":"$C31","v":3},null,{"$f":"$C31","v":3},null,null,{"$f":"$C31","v":3},3,3,null,null,null,{"$f":"_xlfn.TEXTJOIN(\"^\",,BA26:BA40)","v":"6^4^2^1^3^5^7"}]
[null,null,5,null,null,0,0,null,0,0,0,{"$nulls":4},{"$f":"_xlfn.TEXTJOIN(\"^\",,J26:J40)","v":"0^0^0"},null,5,5,{"$f":"$C32","v":5},{"$f":"$C32","v":5},null,5,5,5,5,null,null,null,{"$f":"_xlfn.TEXTJOIN(\"^\",,X26:X40)","v":"8^6^4^1^5^7^9"},null,5,0,null,null,0,0,0,null,0,null,null,null,{"$f":"_xlfn.TEXTJOIN(\"^\",,AN26:AN40)","v":"0^0^0^0"},null,5,null,{"$f":"$C32","v":5},null,{"$f":"$C32","v":5},null,5,5,5,null,null,null,{"$f":"_xlfn.TEXTJOIN(\"^\",,BB26:BB40)","v":"8^6^4^2^3^5^7^9"}]
[null,null,7,{"$nulls":7},0,{"$nulls":4},{"$f":"_xlfn.TEXTJOIN(\"^\",,K26:K40)","v":"0^0^0^0"},null,7,null,null,7,null,7,7,7,7,null,null,null,{"$f":"_xlfn.TEXTJOIN(\"^\",,Y26:Y40)","v":"6^4^2^1^3^5^7"},null,7,{"$nulls":5},0,null,0,null,null,null,{"$f":"_xlfn.TEXTJOIN(\"^\",,AO26:AO40)","v":""},null,7,null,null,null,7,null,7,7,7,null,null,null,{"$f":"_xlfn.TEXTJOIN(\"^\",,BC26:BC40)","v":""}]
[null,null,9,{"$nulls":12},{"$f":"_xlfn.TEXTJOIN(\"^\",,L26:L40)","v":"0^0"},null,9,{"$nulls":5},9,null,9,{"$nulls":5},9,{"$nulls":11},{"$f":"_xlfn.TEXTJOIN(\"^\",,AP26:AP40)","v":""},null,9,{"$nulls":7},9,null,null,null,{"$f":"_xlfn.TEXTJOIN(\"^\",,BD26:BD40)","v":""}]
[null,null,"空降",{"$nulls":12},{"$f":"_xlfn.TEXTJOIN(\"^\",,M26:M40)","v":"100^0"},null,"空降",{"$nulls":13},"空降",{"$nulls":11},{"$f":"_xlfn.TEXTJOIN(\"^\",,AQ26:AQ34)","v":""},null,"空降",{"$nulls":11},{"$f":"_xlfn.TEXTJOIN(\"^\",,BE26:BE34)","v":""}]
[null,null,101,{"$nulls":12},{"$f":"_xlfn.TEXTJOIN(\"^\",,N26:N40)","v":""},null,101,null,null,null,{"$f":"$C36","v":101},{"$nulls":7},{"$f":"_xlfn.TEXTJOIN(\"^\",,Z26:Z40)","v":"8^6^4^2^3^5^7^9"},null,101,{"$nulls":13},101,{"$nulls":4},{"$f":"$C36","v":101}]
[null,null,102,{"$nulls":14},102,null,null,null,102,{"$nulls":7},{"$f":"_xlfn.TEXTJOIN(\"^\",,AA26:AA40)","v":""},null,102,{"$nulls":13},102,{"$nulls":4},102]
[null,null,103,{"$nulls":14},103,null,null,null,103,{"$nulls":7},{"$f":"_xlfn.TEXTJOIN(\"^\",,AB26:AB40)","v":""},null,103,{"$nulls":13},103]
[null,null,104,{"$nulls":14},104,null,null,null,{"$f":"$C39","v":104},{"$nulls":9},104,{"$nulls":13},104,{"$nulls":4},{"$f":"$C39","v":104}]
[null,null,105,{"$nulls":14},105,null,null,null,105,{"$nulls":9},105,{"$nulls":13},105,{"$nulls":4},105]
[{"$nulls":14},"最终",{"$f":"_xlfn.TEXTJOIN(\"^\",,P26:P40)","v":"0^0^0^0^0^0^0^0^0^0^100^0^0^0^0^0^0^0^0^0^0^0^0^0^100^0"},{"$nulls":12},"最终",{"$f":"_xlfn.TEXTJOIN(\"^\",,AD26:AD40)","v":"4^2^3^5^4^1^5^6^4^1^5^7^101^102^103^104^105^6^4^2^1^3^5^7^8^6^4^1^5^7^9^6^4^2^1^3^5^7^8^6^4^2^3^5^7^9"},{"$nulls":12},"最终",{"$f":"_xlfn.TEXTJOIN(\"^\",,AR25:AR40)","v":"100^0^0^0^0^0^0^0^0^0^0^0^0^0^0^0^0^0^0^0^0^0^0"},{"$nulls":12},"最终",{"$f":"_xlfn.TEXTJOIN(\"^\",,BF25:BF40)","v":"2^3^4^1^5^2^3^6^4^5^7^101^102^104^105^6^4^2^3^5^7^6^4^2^1^3^5^7^8^6^4^2^3^5^7^9"}]
[]
[null,null,"时间",5,15,30,46,50,66,83,100,115,120,{"$nulls":4},"时间",3,6,10,15,25,35,45,55,null,null,null,{"$f":"_xlfn.TEXTJOIN(\"^\",,S44:S52)","v":"3^3^3^3"},null,"时间",4,6,10,15,25,40,57,75,null,null,null,{"$f":"_xlfn.TEXTJOIN(\"^\",,AG44:AG52)","v":"10^4^4"},null,"时间",2,4,6,8,10,17,25,35,null,null,null,{"$f":"_xlfn.TEXTJOIN(\"^\",,AU44:AU52)","v":"2^2"}]
[null,null,8,{"$nulls":12},{"$f":"_xlfn.TEXTJOIN(\"^\",,D44:D53)","v":"8^2"},null,8,{"$nulls":5},{"$f":"X$43","v":35},null,{"$f":"Z$43","v":55},null,null,null,{"$f":"_xlfn.TEXTJOIN(\"^\",,T44:T52)","v":"6^6^6"},null,8,{"$nulls":11},{"$f":"_xlfn.TEXTJOIN(\"^\",,AH44:AH52)","v":"4^8"},null,8,{"$nulls":7},{"$f":"BB$43","v":35},null,null,null,{"$f":"_xlfn.TEXTJOIN(\"^\",,AV44:AV52)","v":"4^4^4"}]
[null,null,6,{"$nulls":12},{"$f":"_xlfn.TEXTJOIN(\"^\",,E44:E53)","v":"9^3"},null,6,null,null,{"$f":"U$43","v":10},null,{"$f":"W$43","v":25},35,45,55,null,null,null,{"$f":"_xlfn.TEXTJOIN(\"^\",,U44:U52)","v":"10^10^10^10^10"},null,6,{"$nulls":11},{"$f":"_xlfn.TEXTJOIN(\"^\",,AI44:AI52)","v":"10^3"},null,6,null,null,null,{"$f":"AX$43","v":8},null,{"$f":"AZ$43","v":17},25,35,null,null,null,{"$f":"_xlfn.TEXTJOIN(\"^\",,AW44:AW52)","v":"6^6"}]
[null,null,4,{"$nulls":12},{"$f":"_xlfn.TEXTJOIN(\"^\",,F44:F53)","v":"4^2^5"},null,4,{"$f":"S$43","v":3},6,10,15,25,35,45,55,null,null,null,{"$f":"_xlfn.TEXTJOIN(\"^\",,V44:V52)","v":"15^15^15^15^15"},null,4,{"$nulls":11},{"$f":"_xlfn.TEXTJOIN(\"^\",,AJ44:AJ52)","v":"2^3^9"},null,4,null,{"$f":"AV$43","v":4},null,8,10,17,25,35,null,null,null,{"$f":"_xlfn.TEXTJOIN(\"^\",,AX44:AX52)","v":"8^8^8^8"}]
[null,null,2,{"$nulls":12},{"$f":"_xlfn.TEXTJOIN(\"^\",,G44:G53)","v":"8^3^2"},null,2,3,null,null,15,25,null,45,55,null,null,null,{"$f":"_xlfn.TEXTJOIN(\"^\",,W44:W52)","v":"25^25^25^25^25^25^25"},null,2,{"$nulls":11},{"$f":"_xlfn.TEXTJOIN(\"^\",,AK44:AK52)","v":"11^3^2"},null,2,{"$f":"AU$43","v":2},null,{"$f":"AW$43","v":6},null,10,17,25,35,null,null,null,{"$f":"_xlfn.TEXTJOIN(\"^\",,AY44:AY52)","v":"10^10^10^10"}]
[null,null,1,8,9,4,8,7,2,2,3,12,8,null,null,{"$f":"_xlfn.TEXTJOIN(\"^\",,H44:H53)","v":"7^7"},null,1,null,{"$f":"T$43","v":6},10,15,25,35,45,{"$nulls":4},{"$f":"_xlfn.TEXTJOIN(\"^\",,X44:X52)","v":"35^35^35^35^35^35^35"},null,1,10,4,10,2,11,2,12,2,null,null,null,{"$f":"_xlfn.TEXTJOIN(\"^\",,AL44:AL52)","v":"2^2^9^3"},null,1,null,{"$f":"AV$43","v":4},{"$nulls":4},25,{"$nulls":4},{"$f":"_xlfn.TEXTJOIN(\"^\",,AZ44:AZ52)","v":"17^17^17^17^17^17"}]
[null,null,3,2,3,2,3,7,10,11,8,3,4,null,null,{"$f":"_xlfn.TEXTJOIN(\"^\",,I44:I53)","v":"2^10^3"},null,3,{"$f":"S$43","v":3},null,null,{"$f":"V$43","v":15},25,null,45,55,null,null,null,{"$f":"_xlfn.TEXTJOIN(\"^\",,Y44:Y52)","v":"45^45^45^45^45^45^45"},null,3,4,8,3,3,3,2,3,10,null,null,null,{"$f":"_xlfn.TEXTJOIN(\"^\",,AM44:AM52)","v":"12^3"},null,3,{"$f":"AU$43","v":2},null,{"$f":"AW$43","v":6},null,{"$f":"AY$43","v":10},17,25,35,null,null,null,{"$f":"_xlfn.TEXTJOIN(\"^\",,BA44:BA52)","v":"25^25^25^25^25^25^25"}]
[null,null,5,null,null,5,2,null,3,3,3,{"$nulls":4},{"$f":"_xlfn.TEXTJOIN(\"^\",,J44:J53)","v":"2^11^3"},null,5,3,6,10,15,25,35,45,55,null,null,null,{"$f":"_xlfn.TEXTJOIN(\"^\",,Z44:Z52)","v":"55^55^55^55^55^55^55^55"},null,5,4,null,null,9,2,9,null,3,null,null,null,{"$f":"_xlfn.TEXTJOIN(\"^\",,AN44:AN52)","v":"2^10^3^2"},null,5,null,{"$f":"AV$43","v":4},null,{"$f":"AX$43","v":8},10,17,25,35,null,null,null,{"$f":"_xlfn.TEXTJOIN(\"^\",,BB44:BB52)","v":"35^35^35^35^35^35^35^35"}]
[null,null,7,{"$nulls":7},2,{"$nulls":4},{"$f":"_xlfn.TEXTJOIN(\"^\",,K44:K53)","v":"3^8^3^2"},null,7,null,null,10,null,25,35,45,55,null,null,null,{"$f":"_xlfn.TEXTJOIN(\"^\",,AA44:AA52)","v":""},null,7,{"$nulls":5},3,null,2,null,null,null,{"$f":"_xlfn.TEXTJOIN(\"^\",,AO44:AO52)","v":""},null,7,null,null,null,8,null,17,25,35,null,null,null,{"$f":"_xlfn.TEXTJOIN(\"^\",,BC44:BC52)","v":""}]
[null,null,9,{"$nulls":12},{"$f":"_xlfn.TEXTJOIN(\"^\",,L44:L53)","v":"12^3"},null,9,{"$nulls":5},35,null,55,null,null,null,{"$f":"_xlfn.TEXTJOIN(\"^\",,AB44:AB52)","v":""},null,9,{"$nulls":11},{"$f":"_xlfn.TEXTJOIN(\"^\",,AP44:AP52)","v":""},null,9,{"$nulls":7},35,null,null,null,{"$f":"_xlfn.TEXTJOIN(\"^\",,BD44:BD52)","v":""}]
[{"$nulls":15},{"$f":"_xlfn.TEXTJOIN(\"^\",,M44:M53)","v":"8^4"},{"$nulls":13},{"$f":"_xlfn.TEXTJOIN(\"^\",,AC44:AC52)","v":""},{"$nulls":13},{"$f":"_xlfn.TEXTJOIN(\"^\",,AQ44:AQ52)","v":""},{"$nulls":13},{"$f":"_xlfn.TEXTJOIN(\"^\",,BE44:BE52)","v":""}]
[{"$nulls":15},{"$f":"_xlfn.TEXTJOIN(\"^\",,N44:N53)","v":""},{"$nulls":12},"最终",{"$f":"_xlfn.TEXTJOIN(\"^\",,AD43:AD53)","v":"3^3^3^3^6^6^6^10^10^10^10^10^15^15^15^15^15^25^25^25^25^25^25^25^35^35^35^35^35^35^35^45^45^45^45^45^45^45^55^55^55^55^55^55^55^55"},{"$nulls":12},"最终",{"$f":"_xlfn.TEXTJOIN(\"^\",,AR43:AR53)","v":"10^4^4^4^8^10^3^2^3^9^11^3^2^2^2^9^3^12^3^2^10^3^2"},{"$nulls":12},"最终",{"$f":"_xlfn.TEXTJOIN(\"^\",,BF43:BF53)","v":"2^2^4^4^4^6^6^8^8^8^8^10^10^10^10^17^17^17^17^17^17^25^25^25^25^25^25^25^35^35^35^35^35^35^35^35"}]
[{"$nulls":14},"最终",{"$f":"_xlfn.TEXTJOIN(\"^\",,P44:P54)","v":"8^2^9^3^4^2^5^8^3^2^7^7^2^10^3^2^11^3^3^8^3^2^12^3^8^4"}]
[{"$nulls":15},{"$f":"SUM(D44:M52)","v":134},{"$nulls":13},{"$f":"COUNT(S44:Z52)","v":46},{"$nulls":13},{"$f":"SUM(AG44:AN52)","v":121},{"$nulls":13},{"$f":"COUNT(AU44:BB52)","v":36}]
[{"$nulls":57},{"$f":"SUM(P56:BF56)","v":337}]
[]
[{"$nulls":4},{"$f":"E60-D60","v":5},{"$f":"F60-E60","v":6},4,10,10,10,5,10,10,{"$nulls":6},{"$f":"T60-S60","v":5},5,5,10,15,15,10,{"$nulls":7},{"$f":"AH60-AG60","v":2},4,5,7,8,10,10,{"$nulls":7},{"$f":"AV60-AU60","v":2},2,2,2,7,8,10]
[1,"高原-2","波1·怪物",5,10,16,20,30,40,50,55,65,75,null,null,null,3,"波2·怪物",5,10,15,20,30,45,60,70,{"$nulls":4},1,"波3·怪物",4,6,10,15,22,30,40,50,{"$nulls":4},1,"波4·怪物",2,4,6,8,10,17,25,35]
[null,"5m",8,{"$nulls":5},60474,null,null,null,60474,null,null,{"$f":"_xlfn.TEXTJOIN(\"^\",,D61:D70)","v":"60474^60472^60472^60472^60474"},null,8,{"$nulls":11},{"$f":"_xlfn.TEXTJOIN(\"^\",,S61:S70)","v":"60475^60474^60471"},null,8,null,60474,{"$nulls":5},60474,null,null,null,{"$f":"_xlfn.TEXTJOIN(\"^\",,AG61:AG70)","v":"60473^60473^60473"},null,8,{"$nulls":7},60472,null,null,null,{"$f":"_xlfn.TEXTJOIN(\"^\",,AU61:AU70)","v":"60471^60471^60471^60471"}]
[null,null,6,null,60471,60474,null,60472,60472,60472,null,60472,60472,null,null,{"$f":"_xlfn.TEXTJOIN(\"^\",,E61:E70)","v":"60471^60471^60471^60471^60471"},null,6,{"$nulls":11},{"$f":"_xlfn.TEXTJOIN(\"^\",,T61:T70)","v":"60472^60471"},null,6,null,60472,60471,null,60474,60473,60472,60472,null,null,null,{"$f":"_xlfn.TEXTJOIN(\"^\",,AH61:AH70)","v":"60474^60472^60472^60474"},null,6,{"$nulls":5},60474,60472,60472,null,null,null,{"$f":"_xlfn.TEXTJOIN(\"^\",,AV61:AV70)","v":"60472^60472^60472"}]
[null,null,4,60474,60471,60472,60475,60471,60471,60472,60475,60471,60471,null,null,{"$f":"_xlfn.TEXTJOIN(\"^\",,F61:F70)","v":"60474^60472^60473^60472^60473^60472^60474"},null,4,{"$nulls":11},{"$f":"_xlfn.TEXTJOIN(\"^\",,U61:U70)","v":"60473^60471"},null,4,60473,null,60471,60475,60472,60471,60472,60471,null,null,null,{"$f":"_xlfn.TEXTJOIN(\"^\",,AI61:AI70)","v":"60471^60471^60471^60471"},null,4,60471,60472,null,60475,60473,60471,60472,60471,null,null,null,{"$f":"_xlfn.TEXTJOIN(\"^\",,AW61:AW70)","v":"60474^60474"}]
[null,null,2,60472,null,60473,60475,60471,60473,60471,60475,60471,60473,null,null,{"$f":"_xlfn.TEXTJOIN(\"^\",,G61:G70)","v":"60475^60475^60475^60475^60475"},null,2,{"$nulls":11},{"$f":"_xlfn.TEXTJOIN(\"^\",,V61:V70)","v":"60471^60474^60472"},null,2,null,null,null,60475,60471,60473,60471,60473,null,null,null,{"$f":"_xlfn.TEXTJOIN(\"^\",,AJ61:AJ70)","v":"60475^60475^60475^60475"},null,2,60471,null,60474,60475,null,60471,null,60473,null,null,null,{"$f":"_xlfn.TEXTJOIN(\"^\",,AX61:AX70)","v":"60475^60475^60475^60475"}]
[null,null,1,60472,60471,60472,60475,60472,null,60471,60475,60474,null,null,null,{"$f":"_xlfn.TEXTJOIN(\"^\",,H61:H70)","v":"60472^60471^60471^60472^60471^60471^60472"},null,1,60475,60472,60473,60471,60471,60473,60474,60475,null,null,null,{"$f":"_xlfn.TEXTJOIN(\"^\",,W61:W70)","v":"60471^60472"},null,1,60473,null,null,null,60472,60474,60471,{"$nulls":4},{"$f":"_xlfn.TEXTJOIN(\"^\",,AK61:AK70)","v":"60474^60472^60471^60472^60471^60472^60474"},null,1,null,60472,null,null,60473,null,60472,{"$nulls":4},{"$f":"_xlfn.TEXTJOIN(\"^\",,AY61:AY70)","v":"60473^60473^60473"}]
[null,null,3,60472,null,60473,60475,60471,60473,60471,60475,60471,60473,null,null,{"$f":"_xlfn.TEXTJOIN(\"^\",,I61:I70)","v":"60474^60472^60471^60473^60473^60471^60472^60474"},null,3,60474,60471,60471,60474,60472,60471,60472,60472,null,null,null,{"$f":"_xlfn.TEXTJOIN(\"^\",,X61:X70)","v":"60473^60471^60472^60474"},null,3,null,null,null,60475,60471,60473,60471,60473,null,null,null,{"$f":"_xlfn.TEXTJOIN(\"^\",,AL61:AL70)","v":"60473^60471^60473^60474^60473^60471^60473"},null,3,60471,null,60474,60475,null,60471,null,60473,null,null,null,{"$f":"_xlfn.TEXTJOIN(\"^\",,AZ61:AZ70)","v":"60474^60471^60471^60471^60471^60474"}]
[null,null,5,60474,60471,60472,60475,60471,60471,60472,60475,60471,60471,null,null,{"$f":"_xlfn.TEXTJOIN(\"^\",,J61:J70)","v":"60472^60472^60471^60471^60471^60472^60472"},null,5,60471,null,null,60472,null,60472,60471,60473,null,null,null,{"$f":"_xlfn.TEXTJOIN(\"^\",,Y61:Y70)","v":"60474^60472^60471"},null,5,60473,null,60471,60475,60472,60471,60472,60471,null,null,null,{"$f":"_xlfn.TEXTJOIN(\"^\",,AM61:AM70)","v":"60472^60472^60471^60471^60471^60472^60472"},null,5,60471,60472,null,60475,60473,60471,60472,60471,null,null,null,{"$f":"_xlfn.TEXTJOIN(\"^\",,BA61:BA70)","v":"60472^60472^60472^60472^60472"}]
[null,null,7,null,60471,60474,null,60472,60472,60472,null,60472,60472,null,null,{"$f":"_xlfn.TEXTJOIN(\"^\",,K61:K70)","v":"60475^60475^60475^60475^60475"},null,7,{"$nulls":5},60474,{"$nulls":5},{"$f":"_xlfn.TEXTJOIN(\"^\",,Z61:Z70)","v":"60475^60472^60473"},null,7,null,60472,60471,null,60474,60473,60472,60472,null,null,null,{"$f":"_xlfn.TEXTJOIN(\"^\",,AN61:AN70)","v":"60474^60472^60471^60473^60473^60471^60472^60474"},null,7,{"$nulls":5},60474,60472,60472,null,null,null,{"$f":"_xlfn.TEXTJOIN(\"^\",,BB61:BB70)","v":"60472^60472^60471^60473^60473^60471^60472^60472"}]
[null,null,9,{"$nulls":5},60474,null,null,null,60474,null,null,{"$f":"_xlfn.TEXTJOIN(\"^\",,L61:L70)","v":"60472^60471^60471^60474^60471^60471^60472"},null,9,{"$nulls":11},{"$f":"_xlfn.TEXTJOIN(\"^\",,AA61:AA70)","v":""},null,9,null,60474,{"$nulls":5},60474,null,null,null,{"$f":"_xlfn.TEXTJOIN(\"^\",,AO61:AO70)","v":""},null,9,{"$nulls":7},60472,null,null,null,{"$f":"_xlfn.TEXTJOIN(\"^\",,BC61:BC70)","v":""}]
[{"$nulls":15},{"$f":"_xlfn.TEXTJOIN(\"^\",,M61:M70)","v":"60474^60472^60471^60473^60473^60471^60472^60474"},{"$nulls":13},{"$f":"_xlfn.TEXTJOIN(\"^\",,AB61:AB70)","v":""},{"$nulls":13},{"$f":"_xlfn.TEXTJOIN(\"^\",,AP61:AP70)","v":""},{"$nulls":13},{"$f":"_xlfn.TEXTJOIN(\"^\",,BD61:BD70)","v":""}]
[{"$nulls":15},{"$f":"_xlfn.TEXTJOIN(\"^\",,N61:N70)","v":""},{"$nulls":13},{"$f":"_xlfn.TEXTJOIN(\"^\",,AC61:AC70)","v":""},{"$nulls":13},{"$f":"_xlfn.TEXTJOIN(\"^\",,AQ61:AQ70)","v":""},{"$nulls":13},{"$f":"_xlfn.TEXTJOIN(\"^\",,BE61:BE70)","v":""}]
[{"$nulls":14},"最终",{"$f":"_xlfn.TEXTJOIN(\"^\",,P61:P71)","v":"60474^60472^60472^60472^60474^60471^60471^60471^60471^60471^60474^60472^60473^60472^60473^60472^60474^60475^60475^60475^60475^60475^60472^60471^60471^60472^60471^60471^60472^60474^60472^60471^60473^60473^60471^60472^60474^60472^60472^60471^60471^60471^60472^60472^60475^60475^60475^60475^60475^60472^60471^60471^60474^60471^60471^60472^60474^60472^60471^60473^60473^60471^60472^60474"},{"$nulls":12},"最终",{"$f":"_xlfn.TEXTJOIN(\"^\",,AD61:AD71)","v":"60475^60474^60471^60472^60471^60473^60471^60471^60474^60472^60471^60472^60473^60471^60472^60474^60474^60472^60471^60475^60472^60473"},{"$nulls":12},"最终",{"$f":"_xlfn.TEXTJOIN(\"^\",,AR61:AR71)","v":"60473^60473^60473^60474^60472^60472^60474^60471^60471^60471^60471^60475^60475^60475^60475^60474^60472^60471^60472^60471^60472^60474^60473^60471^60473^60474^60473^60471^60473^60472^60472^60471^60471^60471^60472^60472^60474^60472^60471^60473^60473^60471^60472^60474"},{"$nulls":12},"最终",{"$f":"_xlfn.TEXTJOIN(\"^\",,BF61:BF71)","v":"60471^60471^60471^60471^60472^60472^60472^60474^60474^60475^60475^60475^60475^60473^60473^60473^60474^60471^60471^60471^60471^60474^60472^60472^60472^60472^60472^60472^60472^60471^60473^60473^60471^60472^60472"}]
[null,null,8,{"$nulls":5},"木精灵",null,null,null,"木精灵",{"$nulls":4},8,{"$nulls":13},8,null,"木精灵",{"$nulls":5},"木精灵",{"$nulls":5},8,{"$nulls":7},"独角兽"]
[null,null,6,null,"雪怪","木精灵",null,"独角兽","独角兽","独角兽",null,"独角兽","独角兽",{"$nulls":4},6,{"$nulls":13},6,null,"独角兽","雪怪",null,"木精灵","雪原兽","独角兽","独角兽",{"$nulls":5},6,{"$nulls":5},"木精灵","独角兽","独角兽"]
[null,null,4,"木精灵","雪怪","独角兽","雪山蜘蛛","雪怪","雪怪","独角兽","雪山蜘蛛","雪怪","雪怪",{"$nulls":4},4,{"$nulls":13},4,"雪原兽",null,"雪怪","雪山蜘蛛","独角兽","雪怪","独角兽","雪怪",{"$nulls":5},4,"雪怪","独角兽",null,"雪山蜘蛛","雪原兽","雪怪","独角兽","雪怪"]
[null,null,2,"独角兽",null,"雪原兽","雪山蜘蛛","雪怪","雪原兽","雪怪","雪山蜘蛛","雪怪","雪原兽",{"$nulls":4},2,{"$nulls":13},2,null,null,null,"雪山蜘蛛","雪怪","雪原兽","雪怪","雪原兽",{"$nulls":5},2,"雪怪",null,"木精灵","雪山蜘蛛",null,"雪怪",null,"雪原兽"]
[null,null,1,"独角兽","雪怪","独角兽","雪山蜘蛛","独角兽",null,"雪怪","雪山蜘蛛","木精灵",{"$nulls":5},1,"雪山蜘蛛","独角兽","雪原兽","雪怪","雪怪","雪原兽","木精灵","雪山蜘蛛",{"$nulls":5},1,"雪原兽",null,null,null,"独角兽","木精灵","雪怪",{"$nulls":6},1,null,"独角兽",null,null,"雪原兽",null,"独角兽"]
[null,null,3,"独角兽",null,"雪原兽","雪山蜘蛛","雪怪","雪原兽","雪怪","雪山蜘蛛","雪怪","雪原兽",{"$nulls":4},3,"木精灵","雪怪","雪怪","木精灵","独角兽","雪怪","独角兽","独角兽",{"$nulls":5},3,null,null,null,"雪山蜘蛛","雪怪","雪原兽","雪怪","雪原兽",{"$nulls":5},3,"雪怪",null,"木精灵","雪山蜘蛛",null,"雪怪",null,"雪原兽"]
[null,null,5,"木精灵","雪怪","独角兽","雪山蜘蛛","雪怪","雪怪","独角兽","雪山蜘蛛","雪怪","雪怪",{"$nulls":4},5,"雪怪",null,null,"独角兽",null,"独角兽","雪怪","雪原兽",{"$nulls":5},5,"雪原兽",null,"雪怪","雪山蜘蛛","独角兽","雪怪","独角兽","雪怪",{"$nulls":5},5,"雪怪","独角兽",null,"雪山蜘蛛","雪原兽","雪怪","独角兽","雪怪"]
[null,null,7,null,"雪怪","木精灵",null,"独角兽","独角兽","独角兽",null,"独角兽","独角兽",{"$nulls":4},7,{"$nulls":5},"木精灵",{"$nulls":7},7,null,"独角兽","雪怪",null,"木精灵","雪原兽","独角兽","独角兽",{"$nulls":5},7,{"$nulls":5},"木精灵","独角兽","独角兽"]
[null,null,9,{"$nulls":5},"木精灵",null,null,null,"木精灵",{"$nulls":4},9,{"$nulls":13},9,null,"木精灵",{"$nulls":5},"木精灵",{"$nulls":5},9,{"$nulls":7},"独角兽"]
[]
[null,null,"位置",5,10,16,20,30,40,50,55,65,75,{"$nulls":4},"位置",5,10,15,20,30,45,60,70,{"$nulls":5},"位置",4,6,10,15,22,30,40,50,null,null,null,{"$f":"_xlfn.TEXTJOIN(\"^\",,AG84:AG98)","v":"4^1^5"},null,"位置",2,4,6,8,10,17,25,35,null,null,null,{"$f":"_xlfn.TEXTJOIN(\"^\",,AU84:AU98)","v":"4^2^3^5"}]
[null,null,8,{"$nulls":5},{"$f":"$C84","v":8},null,null,null,{"$f":"$C84","v":8},null,null,{"$f":"_xlfn.TEXTJOIN(\"^\",,D84:D98)","v":"4^2^1^3^5"},null,8,{"$nulls":13},8,null,{"$f":"$C84","v":8},{"$nulls":5},{"$f":"$C84","v":8},null,null,null,{"$f":"_xlfn.TEXTJOIN(\"^\",,AH84:AH98)","v":"8^6^7^9"},null,8,{"$nulls":7},{"$f":"$C84","v":8},null,null,null,{"$f":"_xlfn.TEXTJOIN(\"^\",,AV84:AV98)","v":"4^1^5"}]
[null,null,6,null,{"$f":"$C85","v":6},6,null,{"$f":"$C85","v":6},6,6,null,{"$f":"$C85","v":6},6,null,null,{"$f":"_xlfn.TEXTJOIN(\"^\",,E84:E98)","v":"6^4^1^5^7"},null,6,{"$nulls":11},{"$f":"_xlfn.TEXTJOIN(\"^\",,S84:S98)","v":"100^0^0"},null,6,null,6,6,null,{"$f":"$C85","v":6},{"$f":"$C85","v":6},{"$f":"$C85","v":6},6,null,null,null,{"$f":"_xlfn.TEXTJOIN(\"^\",,AI84:AI98)","v":"6^4^5^7"},null,6,{"$nulls":5},{"$f":"$C85","v":6},6,6,null,null,null,{"$f":"_xlfn.TEXTJOIN(\"^\",,AW84:AW98)","v":"2^3"}]
[null,null,4,{"$f":"$C86","v":4},4,4,null,4,4,4,null,4,4,null,null,{"$f":"_xlfn.TEXTJOIN(\"^\",,F84:F98)","v":"6^4^2^1^3^5^7"},null,4,{"$nulls":11},{"$f":"_xlfn.TEXTJOIN(\"^\",,T84:T98)","v":"0^0"},null,4,{"$f":"$C86","v":4},null,4,null,4,4,4,4,null,null,null,{"$f":"_xlfn.TEXTJOIN(\"^\",,AJ84:AJ98)","v":"101^102^104^105"},null,4,{"$f":"$C86","v":4},{"$f":"$C86","v":4},null,null,{"$f":"$C86","v":4},4,4,4,null,null,null,{"$f":"_xlfn.TEXTJOIN(\"^\",,AX84:AX98)","v":"101^102^104^105"}]
[null,null,2,{"$f":"$C87","v":2},null,2,null,2,2,2,null,2,2,null,null,{"$f":"_xlfn.TEXTJOIN(\"^\",,G84:G98)","v":"101^102^103^104^105"},null,2,{"$nulls":11},{"$f":"_xlfn.TEXTJOIN(\"^\",,U84:U98)","v":"0^0"},null,2,{"$nulls":4},2,2,2,2,null,null,null,{"$f":"_xlfn.TEXTJOIN(\"^\",,AK84:AK98)","v":"6^4^2^1^3^5^7"},null,2,2,null,{"$f":"$C87","v":2},null,null,2,null,2,null,null,null,{"$f":"_xlfn.TEXTJOIN(\"^\",,AY84:AY98)","v":"4^1^5"}]
[null,null,1,{"$f":"$C88","v":1},{"$f":"$C88","v":1},1,null,1,null,1,null,1,null,null,null,{"$f":"_xlfn.TEXTJOIN(\"^\",,H84:H98)","v":"6^4^2^1^3^5^7"},null,1,100,0,0,0,0,0,0,100,null,null,null,{"$f":"_xlfn.TEXTJOIN(\"^\",,V84:V98)","v":"0^0^0"},null,1,{"$f":"$C88","v":1},null,null,null,1,1,1,{"$nulls":4},{"$f":"_xlfn.TEXTJOIN(\"^\",,AL84:AL98)","v":"6^4^2^1^3^5^7"},null,1,null,{"$f":"$C88","v":1},null,null,{"$f":"$C88","v":1},null,{"$f":"$C88","v":1},{"$nulls":4},{"$f":"_xlfn.TEXTJOIN(\"^\",,AZ84:AZ98)","v":"6^4^2^3^5^7"}]
[null,null,3,{"$f":"$C89","v":3},null,3,null,3,3,3,null,3,3,null,null,{"$f":"_xlfn.TEXTJOIN(\"^\",,I84:I98)","v":"8^6^4^2^3^5^7^9"},null,3,0,0,0,0,0,0,0,0,null,null,null,{"$f":"_xlfn.TEXTJOIN(\"^\",,W84:W98)","v":"0^0"},null,3,{"$nulls":4},3,3,3,3,null,null,null,{"$f":"_xlfn.TEXTJOIN(\"^\",,AM84:AM98)","v":"6^4^2^1^3^5^7"},null,3,{"$f":"$C89","v":3},null,{"$f":"$C89","v":3},null,null,{"$f":"$C89","v":3},null,{"$f":"$C89","v":3},null,null,null,{"$f":"_xlfn.TEXTJOIN(\"^\",,BA84:BA98)","v":"6^4^1^5^7"}]
[null,null,5,5,5,5,null,5,5,5,null,5,5,null,null,{"$f":"_xlfn.TEXTJOIN(\"^\",,J84:J98)","v":"6^4^2^1^3^5^7"},null,5,0,null,null,0,null,0,0,0,null,null,null,{"$f":"_xlfn.TEXTJOIN(\"^\",,X84:X98)","v":"0^0^0^0"},null,5,{"$f":"$C90","v":5},null,{"$f":"$C90","v":5},null,5,5,5,5,null,null,null,{"$f":"_xlfn.TEXTJOIN(\"^\",,AN84:AN98)","v":"8^6^4^2^3^5^7^9"},null,5,5,{"$f":"$C90","v":5},null,null,{"$f":"$C90","v":5},5,5,5,null,null,null,{"$f":"_xlfn.TEXTJOIN(\"^\",,BB84:BB98)","v":"8^6^4^2^3^5^7^9"}]
[null,null,7,null,7,7,null,7,7,7,null,7,7,null,null,{"$f":"_xlfn.TEXTJOIN(\"^\",,K84:K98)","v":"101^102^103^104^105"},null,7,{"$nulls":5},0,{"$nulls":5},{"$f":"_xlfn.TEXTJOIN(\"^\",,Y84:Y98)","v":"0^0^0"},null,7,null,{"$f":"$C91","v":7},7,null,7,{"$f":"$C91","v":7},7,7,null,null,null,{"$f":"_xlfn.TEXTJOIN(\"^\",,AO84:AO98)","v":""},null,7,{"$nulls":5},7,7,7,null,null,null,{"$f":"_xlfn.TEXTJOIN(\"^\",,BC84:BC98)","v":""}]
[null,null,9,{"$nulls":5},9,null,null,null,9,null,null,{"$f":"_xlfn.TEXTJOIN(\"^\",,L84:L98)","v":"6^4^2^1^3^5^7"},null,9,{"$nulls":13},9,null,9,{"$nulls":5},9,null,null,null,{"$f":"_xlfn.TEXTJOIN(\"^\",,AP84:AP98)","v":""},null,9,{"$nulls":7},9,null,null,null,{"$f":"_xlfn.TEXTJOIN(\"^\",,BD84:BD98)","v":""}]
[null,null,"空降",{"$nulls":12},{"$f":"_xlfn.TEXTJOIN(\"^\",,M84:M98)","v":"8^6^4^2^3^5^7^9"},null,"空降",{"$nulls":13},"空降",{"$nulls":11},{"$f":"_xlfn.TEXTJOIN(\"^\",,AQ84:AQ92)","v":""},null,"空降",{"$nulls":11},{"$f":"_xlfn.TEXTJOIN(\"^\",,BE84:BE92)","v":""}]
[null,null,101,null,null,null,{"$f":"$C94","v":101},null,null,null,{"$f":"$C94","v":101},{"$nulls":4},{"$f":"_xlfn.TEXTJOIN(\"^\",,N84:N98)","v":""},null,101,{"$nulls":11},{"$f":"_xlfn.TEXTJOIN(\"^\",,Z84:Z98)","v":"100^0^0"},null,101,null,null,null,{"$f":"$C94","v":101},{"$nulls":9},101,null,null,null,{"$f":"$C94","v":101}]
[null,null,102,null,null,null,102,null,null,null,102,{"$nulls":6},102,{"$nulls":11},{"$f":"_xlfn.TEXTJOIN(\"^\",,AA84:AA98)","v":""},null,102,null,null,null,102,{"$nulls":9},102,null,null,null,102]
[null,null,103,null,null,null,103,null,null,null,103,{"$nulls":6},103,{"$nulls":11},{"$f":"_xlfn.TEXTJOIN(\"^\",,AB84:AB98)","v":""},null,103,{"$nulls":13},103]
[null,null,104,null,null,null,104,null,null,null,104,{"$nulls":6},104,{"$nulls":13},104,null,null,null,{"$f":"$C97","v":104},{"$nulls":9},104,null,null,null,{"$f":"$C97","v":104}]
[null,null,105,null,null,null,105,null,null,null,105,{"$nulls":6},105,{"$nulls":13},105,null,null,null,105,{"$nulls":9},105,null,null,null,105]
[{"$nulls":14},"最终",{"$f":"_xlfn.TEXTJOIN(\"^\",,P84:P98)","v":"4^2^1^3^5^6^4^1^5^7^6^4^2^1^3^5^7^101^102^103^104^105^6^4^2^1^3^5^7^8^6^4^2^3^5^7^9^6^4^2^1^3^5^7^101^102^103^104^105^6^4^2^1^3^5^7^8^6^4^2^3^5^7^9"},{"$nulls":12},"最终",{"$f":"_xlfn.TEXTJOIN(\"^\",,AD84:AD98)","v":"100^0^0^0^0^0^0^0^0^0^0^0^0^0^0^0^0^0^0^100^0^0"},{"$nulls":12},"最终",{"$f":"_xlfn.TEXTJOIN(\"^\",,AR83:AR98)","v":"4^1^5^8^6^7^9^6^4^5^7^101^102^104^105^6^4^2^1^3^5^7^6^4^2^1^3^5^7^6^4^2^1^3^5^7^8^6^4^2^3^5^7^9"},{"$nulls":12},"最终",{"$f":"_xlfn.TEXTJOIN(\"^\",,BF83:BF98)","v":"4^2^3^5^4^1^5^2^3^101^102^104^105^4^1^5^6^4^2^3^5^7^6^4^1^5^7^8^6^4^2^3^5^7^9"}]
[]
[null,null,"时间",5,10,16,20,30,40,50,55,65,75,{"$nulls":4},"时间",5,10,15,20,30,45,60,70,null,null,null,{"$f":"_xlfn.TEXTJOIN(\"^\",,S102:S110)","v":"10^4^10"},null,"时间",4,6,10,15,22,30,40,50,null,null,null,{"$f":"_xlfn.TEXTJOIN(\"^\",,AG102:AG110)","v":"4^4^4"},null,"时间",2,4,6,8,10,17,25,35,null,null,null,{"$f":"_xlfn.TEXTJOIN(\"^\",,AU102:AU110)","v":"2^2^2^2"}]
[null,null,8,{"$nulls":5},{"$f":"I$101","v":40},null,null,null,{"$f":"M$101","v":75},null,null,{"$f":"_xlfn.TEXTJOIN(\"^\",,D102:D111)","v":"5^5^5^5^5"},null,8,{"$nulls":11},{"$f":"_xlfn.TEXTJOIN(\"^\",,T102:T110)","v":"3^9"},null,8,null,{"$f":"AH$101","v":6},{"$nulls":5},{"$f":"AN$101","v":50},null,null,null,{"$f":"_xlfn.TEXTJOIN(\"^\",,AH102:AH110)","v":"6^6^6^6"},null,8,{"$nulls":7},{"$f":"BB$101","v":35},null,null,null,{"$f":"_xlfn.TEXTJOIN(\"^\",,AV102:AV110)","v":"4^4^4"}]
[null,null,6,null,{"$f":"E$101","v":10},16,null,{"$f":"H$101","v":30},40,50,null,{"$f":"L$101","v":65},75,null,null,{"$f":"_xlfn.TEXTJOIN(\"^\",,E102:E111)","v":"10^10^10^10^10"},null,6,{"$nulls":11},{"$f":"_xlfn.TEXTJOIN(\"^\",,U102:U110)","v":"3^10"},null,6,null,6,10,null,22,{"$f":"AL$101","v":30},{"$f":"AM$101","v":40},50,null,null,null,{"$f":"_xlfn.TEXTJOIN(\"^\",,AI102:AI110)","v":"10^10^10^10"},null,6,{"$nulls":5},{"$f":"AZ$101","v":17},25,35,null,null,null,{"$f":"_xlfn.TEXTJOIN(\"^\",,AW102:AW110)","v":"6^6"}]
[null,null,4,{"$f":"D$101","v":5},10,16,20,30,40,50,55,65,75,null,null,{"$f":"_xlfn.TEXTJOIN(\"^\",,F102:F111)","v":"16^16^16^16^16^16^16"},null,4,{"$nulls":11},{"$f":"_xlfn.TEXTJOIN(\"^\",,V102:V110)","v":"9^2^3"},null,4,4,null,10,15,22,{"$f":"AL$101","v":30},40,50,null,null,null,{"$f":"_xlfn.TEXTJOIN(\"^\",,AJ102:AJ110)","v":"15^15^15^15"},null,4,{"$f":"AU$101","v":2},{"$f":"AV$101","v":4},null,{"$f":"AX$101","v":8},{"$f":"AY$101","v":10},17,25,35,null,null,null,{"$f":"_xlfn.TEXTJOIN(\"^\",,AX102:AX110)","v":"8^8^8^8"}]
[null,null,2,5,null,16,20,30,40,50,55,65,75,null,null,{"$f":"_xlfn.TEXTJOIN(\"^\",,G102:G111)","v":"20^20^20^20^20"},null,2,{"$nulls":11},{"$f":"_xlfn.TEXTJOIN(\"^\",,W102:W110)","v":"10^4"},null,2,null,null,null,15,22,30,40,50,null,null,null,{"$f":"_xlfn.TEXTJOIN(\"^\",,AK102:AK110)","v":"22^22^22^22^22^22^22"},null,2,2,null,{"$f":"AW$101","v":6},8,null,17,null,35,null,null,null,{"$f":"_xlfn.TEXTJOIN(\"^\",,AY102:AY110)","v":"10^10^10"}]
[null,null,1,5,{"$f":"E$101","v":10},16,20,30,null,50,55,65,null,null,null,{"$f":"_xlfn.TEXTJOIN(\"^\",,H102:H111)","v":"30^30^30^30^30^30^30"},null,1,10,3,3,9,10,2,2,8,null,null,null,{"$f":"_xlfn.TEXTJOIN(\"^\",,X102:X110)","v":"2^8^3^2"},null,1,4,null,null,null,22,30,40,{"$nulls":4},{"$f":"_xlfn.TEXTJOIN(\"^\",,AL102:AL110)","v":"30^30^30^30^30^30^30"},null,1,null,{"$f":"AV$101","v":4},null,null,{"$f":"AY$101","v":10},null,{"$f":"BA$101","v":25},{"$nulls":4},{"$f":"_xlfn.TEXTJOIN(\"^\",,AZ102:AZ110)","v":"17^17^17^17^17^17"}]
[null,null,3,{"$f":"D$101","v":5},null,16,20,30,40,50,55,65,75,null,null,{"$f":"_xlfn.TEXTJOIN(\"^\",,I102:I111)","v":"40^40^40^40^40^40^40^40"},null,3,4,9,10,2,4,8,3,3,null,null,null,{"$f":"_xlfn.TEXTJOIN(\"^\",,Y102:Y110)","v":"2^3^11"},null,3,null,null,null,15,22,30,40,50,null,null,null,{"$f":"_xlfn.TEXTJOIN(\"^\",,AM102:AM110)","v":"40^40^40^40^40^40^40"},null,3,{"$f":"AU$101","v":2},null,{"$f":"AW$101","v":6},{"$f":"AX$101","v":8},null,{"$f":"AZ$101","v":17},null,{"$f":"BB$101","v":35},null,null,null,{"$f":"_xlfn.TEXTJOIN(\"^\",,BA102:BA110)","v":"25^25^25^25^25"}]
[null,null,5,5,10,16,20,30,40,50,55,65,75,null,null,{"$f":"_xlfn.TEXTJOIN(\"^\",,J102:J111)","v":"50^50^50^50^50^50^50"},null,5,10,null,null,3,null,3,11,3,null,null,null,{"$f":"_xlfn.TEXTJOIN(\"^\",,Z102:Z110)","v":"8^3^3"},null,5,4,null,10,15,22,{"$f":"AL$101","v":30},40,50,null,null,null,{"$f":"_xlfn.TEXTJOIN(\"^\",,AN102:AN110)","v":"50^50^50^50^50^50^50^50"},null,5,2,{"$f":"AV$101","v":4},null,8,{"$f":"AY$101","v":10},17,25,35,null,null,null,{"$f":"_xlfn.TEXTJOIN(\"^\",,BB102:BB110)","v":"35^35^35^35^35^35^35^35"}]
[null,null,7,null,10,16,null,30,40,50,null,65,75,null,null,{"$f":"_xlfn.TEXTJOIN(\"^\",,K102:K111)","v":"55^55^55^55^55"},null,7,{"$nulls":5},2,{"$nulls":5},{"$f":"_xlfn.TEXTJOIN(\"^\",,AA102:AA110)","v":""},null,7,null,6,10,null,22,{"$f":"AL$101","v":30},40,50,null,null,null,{"$f":"_xlfn.TEXTJOIN(\"^\",,AO102:AO110)","v":""},null,7,{"$nulls":5},17,25,35,null,null,null,{"$f":"_xlfn.TEXTJOIN(\"^\",,BC102:BC110)","v":""}]
[null,null,9,{"$nulls":5},40,null,null,null,75,null,null,{"$f":"_xlfn.TEXTJOIN(\"^\",,L102:L111)","v":"65^65^65^65^65^65^65"},null,9,{"$nulls":11},{"$f":"_xlfn.TEXTJOIN(\"^\",,AB102:AB110)","v":""},null,9,null,6,{"$nulls":5},50,null,null,null,{"$f":"_xlfn.TEXTJOIN(\"^\",,AP102:AP110)","v":""},null,9,{"$nulls":7},35,null,null,null,{"$f":"_xlfn.TEXTJOIN(\"^\",,BD102:BD110)","v":""}]
[{"$nulls":15},{"$f":"_xlfn.TEXTJOIN(\"^\",,M102:M111)","v":"75^75^75^75^75^75^75^75"},{"$nulls":13},{"$f":"_xlfn.TEXTJOIN(\"^\",,AC102:AC110)","v":""},{"$nulls":13},{"$f":"_xlfn.TEXTJOIN(\"^\",,AQ102:AQ110)","v":""},{"$nulls":13},{"$f":"_xlfn.TEXTJOIN(\"^\",,BE102:BE110)","v":""}]
[{"$nulls":15},{"$f":"_xlfn.TEXTJOIN(\"^\",,N102:N111)","v":""},{"$nulls":12},"最终",{"$f":"_xlfn.TEXTJOIN(\"^\",,AD101:AD111)","v":"10^4^10^3^9^3^10^9^2^3^10^4^2^8^3^2^2^3^11^8^3^3"},{"$nulls":12},"最终",{"$f":"_xlfn.TEXTJOIN(\"^\",,AR101:AR111)","v":"4^4^4^6^6^6^6^10^10^10^10^15^15^15^15^22^22^22^22^22^22^22^30^30^30^30^30^30^30^40^40^40^40^40^40^40^50^50^50^50^50^50^50^50"},{"$nulls":12},"最终",{"$f":"_xlfn.TEXTJOIN(\"^\",,BF101:BF111)","v":"2^2^2^2^4^4^4^6^6^8^8^8^8^10^10^10^17^17^17^17^17^17^25^25^25^25^25^35^35^35^35^35^35^35^35"}]
[{"$nulls":14},"最终",{"$f":"_xlfn.TEXTJOIN(\"^\",,P102:P112)","v":"5^5^5^5^5^10^10^10^10^10^16^16^16^16^16^16^16^20^20^20^20^20^30^30^30^30^30^30^30^40^40^40^40^40^40^40^40^50^50^50^50^50^50^50^55^55^55^55^55^65^65^65^65^65^65^65^75^75^75^75^75^75^75^75"}]
[{"$nulls":15},{"$f":"COUNT(D102:M110)","v":64},{"$nulls":13},{"$f":"SUM(S102:Z110)","v":122},{"$nulls":13},{"$f":"COUNT(AG102:AN110)","v":44},{"$nulls":13},{"$f":"COUNT(AU102:BB110)","v":35}]
[{"$nulls":57},{"$f":"SUM(P114:BF114)","v":265}]
[]
[{"$nulls":4},{"$f":"E118-D118","v":10},{"$f":"F118-E118","v":15},15,15,5,15,15,15,10,{"$nulls":6},{"$f":"T118-S118","v":5},5,7,8,10,10,5,{"$nulls":7},{"$f":"AH118-AG118","v":2},5,7,8,10,10,5,{"$nulls":7},{"$f":"AV118-AU118","v":2},3,4,6,7,10,10]
[3,"高原-3","波1·怪物",5,15,30,45,60,65,80,95,110,120,null,null,null,1,"波2·怪物",5,10,15,22,30,40,50,55,{"$nulls":4},1,"波3·怪物",3,5,10,17,25,35,45,50,{"$nulls":4},1,"波4·怪物",3,5,8,12,18,25,35,45]
[null,"5m",8,{"$nulls":12},{"$f":"_xlfn.TEXTJOIN(\"^\",,D119:D128)","v":"60481^60482"},null,8,{"$nulls":6},60484,{"$nulls":4},{"$f":"_xlfn.TEXTJOIN(\"^\",,S119:S128)","v":"60484^60482^60482^60482^60484"},null,8,{"$nulls":4},60484,60481,{"$nulls":5},{"$f":"_xlfn.TEXTJOIN(\"^\",,AG119:AG128)","v":"60483^60483^60483"},null,8,{"$nulls":5},60484,null,60482,null,null,null,{"$f":"_xlfn.TEXTJOIN(\"^\",,AU119:AU128)","v":"60485^60485^60485"}]
[null,null,6,{"$nulls":12},{"$f":"_xlfn.TEXTJOIN(\"^\",,E119:E128)","v":"60482^60484^60481"},null,6,60484,null,null,null,60484,60482,60481,{"$nulls":4},{"$f":"_xlfn.TEXTJOIN(\"^\",,T119:T128)","v":"60481^60481^60481^60481^60481"},null,6,null,60484,null,60482,60482,60481,60482,{"$nulls":4},{"$f":"_xlfn.TEXTJOIN(\"^\",,AH119:AH128)","v":"60484^60482^60482^60484"},null,6,null,null,60484,null,60482,null,60482,{"$nulls":4},{"$f":"_xlfn.TEXTJOIN(\"^\",,AV119:AV128)","v":"60482^60482^60482"}]
[null,null,4,{"$nulls":12},{"$f":"_xlfn.TEXTJOIN(\"^\",,F119:F128)","v":"60483^60481^60482"},null,4,null,60481,60483,60485,60482,60481,null,60485,null,null,null,{"$f":"_xlfn.TEXTJOIN(\"^\",,U119:U128)","v":"60483^60482^60483^60482^60483"},null,4,60483,null,60485,60481,null,60482,60481,60485,null,null,null,{"$f":"_xlfn.TEXTJOIN(\"^\",,AI119:AI128)","v":"60485^60485^60485^60485"},null,4,60485,null,null,60481,60481,60481,60481,60482,null,null,null,{"$f":"_xlfn.TEXTJOIN(\"^\",,AW119:AW128)","v":"60484^60483^60484"}]
[null,null,2,{"$nulls":12},{"$f":"_xlfn.TEXTJOIN(\"^\",,G119:G128)","v":"60484^60481^60482"},null,2,60482,60481,60482,60485,60481,60483,60482,60485,null,null,null,{"$f":"_xlfn.TEXTJOIN(\"^\",,V119:V128)","v":"60485^60485^60485^60485^60485"},null,2,null,60482,60485,60483,60481,null,60483,60485,null,null,null,{"$f":"_xlfn.TEXTJOIN(\"^\",,AJ119:AJ128)","v":"60482^60481^60483^60483^60481^60482"},null,2,null,60482,null,60481,60483,60482,60483,60481,null,null,null,{"$f":"_xlfn.TEXTJOIN(\"^\",,AX119:AX128)","v":"60481^60481^60481^60481"}]
[null,null,1,60481,60482,60483,60484,60483,60485,60482,60483,60483,60485,null,null,{"$f":"_xlfn.TEXTJOIN(\"^\",,H119:H128)","v":"60483^60482^60484"},null,1,60482,60481,60483,60485,60482,60484,60482,60485,null,null,null,{"$f":"_xlfn.TEXTJOIN(\"^\",,W119:W128)","v":"60484^60482^60481^60482^60481^60482^60484"},null,1,60483,null,null,null,60481,60482,60484,{"$nulls":4},{"$f":"_xlfn.TEXTJOIN(\"^\",,AK119:AK128)","v":"60484^60482^60481^60481^60481^60482^60484"},null,1,60485,60482,60483,null,null,60482,60484,60483,null,null,null,{"$f":"_xlfn.TEXTJOIN(\"^\",,AY119:AY128)","v":"60482^60481^60483^60483^60481^60482"}]
[null,null,3,60482,60484,60481,60481,60482,60481,60481,60481,60481,60482,null,null,{"$f":"_xlfn.TEXTJOIN(\"^\",,I119:I128)","v":"60485^60481"},null,3,60482,60481,60482,60485,60481,60483,60482,60485,null,null,null,{"$f":"_xlfn.TEXTJOIN(\"^\",,X119:X128)","v":"60482^60481^60483^60484^60483^60481^60482"},null,3,null,60482,60485,60483,60481,null,60483,60485,null,null,null,{"$f":"_xlfn.TEXTJOIN(\"^\",,AL119:AL128)","v":"60481^60481^60482^60482^60482^60481^60481"},null,3,null,60482,null,60481,60483,60482,60483,60481,null,null,null,{"$f":"_xlfn.TEXTJOIN(\"^\",,AZ119:AZ128)","v":"60484^60481^60482^60482^60482^60481^60484"}]
[null,null,5,null,60481,60482,60482,60484,null,null,60482,60482,null,null,null,{"$f":"_xlfn.TEXTJOIN(\"^\",,J119:J128)","v":"60482^60481"},null,5,null,60481,60483,60485,60482,60481,null,60485,null,null,null,{"$f":"_xlfn.TEXTJOIN(\"^\",,Y119:Y128)","v":"60484^60481^60482^60482^60482^60481^60484"},null,5,60483,null,60485,60481,null,60482,60481,60485,null,null,null,{"$f":"_xlfn.TEXTJOIN(\"^\",,AM119:AM128)","v":"60482^60481^60483^60484^60483^60481^60482"},null,5,60485,null,null,60481,60481,60481,60481,60482,null,null,null,{"$f":"_xlfn.TEXTJOIN(\"^\",,BA119:BA128)","v":"60482^60481^60483^60484^60483^60481^60482"}]
[null,null,7,{"$nulls":7},60484,{"$nulls":4},{"$f":"_xlfn.TEXTJOIN(\"^\",,K119:K128)","v":"60483^60481^60482^60484"},null,7,60484,null,null,null,60484,60482,60481,{"$nulls":4},{"$f":"_xlfn.TEXTJOIN(\"^\",,Z119:Z128)","v":"60485^60485^60485^60485^60485"},null,7,null,60484,null,60482,60482,60481,60482,{"$nulls":4},{"$f":"_xlfn.TEXTJOIN(\"^\",,AN119:AN128)","v":"60485^60485^60485^60485"},null,7,null,null,60484,null,60482,null,60482,{"$nulls":4},{"$f":"_xlfn.TEXTJOIN(\"^\",,BB119:BB128)","v":"60482^60482^60481^60483^60481^60482^60482"}]
[null,null,9,{"$nulls":12},{"$f":"_xlfn.TEXTJOIN(\"^\",,L119:L128)","v":"60483^60481^60482"},null,9,{"$nulls":6},60484,{"$nulls":4},{"$f":"_xlfn.TEXTJOIN(\"^\",,AA119:AA128)","v":""},null,9,{"$nulls":4},60484,60481,{"$nulls":5},{"$f":"_xlfn.TEXTJOIN(\"^\",,AO119:AO128)","v":""},null,9,{"$nulls":5},60484,null,60482,null,null,null,{"$f":"_xlfn.TEXTJOIN(\"^\",,BC119:BC128)","v":""}]
[{"$nulls":15},{"$f":"_xlfn.TEXTJOIN(\"^\",,M119:M128)","v":"60485^60482"},{"$nulls":13},{"$f":"_xlfn.TEXTJOIN(\"^\",,AB119:AB128)","v":""},{"$nulls":13},{"$f":"_xlfn.TEXTJOIN(\"^\",,AP119:AP128)","v":""},{"$nulls":13},{"$f":"_xlfn.TEXTJOIN(\"^\",,BD119:BD128)","v":""}]
[{"$nulls":15},{"$f":"_xlfn.TEXTJOIN(\"^\",,N119:N128)","v":""},{"$nulls":13},{"$f":"_xlfn.TEXTJOIN(\"^\",,AC119:AC128)","v":""},{"$nulls":13},{"$f":"_xlfn.TEXTJOIN(\"^\",,AQ119:AQ128)","v":""},{"$nulls":13},{"$f":"_xlfn.TEXTJOIN(\"^\",,BE119:BE128)","v":""}]
[{"$nulls":14},"最终",{"$f":"_xlfn.TEXTJOIN(\"^\",,P119:P129)","v":"60481^60482^60482^60484^60481^60483^60481^60482^60484^60481^60482^60483^60482^60484^60485^60481^60482^60481^60483^60481^60482^60484^60483^60481^60482^60485^60482"},{"$nulls":12},"最终",{"$f":"_xlfn.TEXTJOIN(\"^\",,AD119:AD129)","v":"60484^60482^60482^60482^60484^60481^60481^60481^60481^60481^60483^60482^60483^60482^60483^60485^60485^60485^60485^60485^60484^60482^60481^60482^60481^60482^60484^60482^60481^60483^60484^60483^60481^60482^60484^60481^60482^60482^60482^60481^60484^60485^60485^60485^60485^60485"},{"$nulls":12},"最终",{"$f":"_xlfn.TEXTJOIN(\"^\",,AR119:AR129)","v":"60483^60483^60483^60484^60482^60482^60484^60485^60485^60485^60485^60482^60481^60483^60483^60481^60482^60484^60482^60481^60481^60481^60482^60484^60481^60481^60482^60482^60482^60481^60481^60482^60481^60483^60484^60483^60481^60482^60485^60485^60485^60485"},{"$nulls":12},"最终",{"$f":"_xlfn.TEXTJOIN(\"^\",,BF119:BF129)","v":"60485^60485^60485^60482^60482^60482^60484^60483^60484^60481^60481^60481^60481^60482^60481^60483^60483^60481^60482^60484^60481^60482^60482^60482^60481^60484^60482^60481^60483^60484^60483^60481^60482^60482^60482^60481^60483^60481^60482^60482"}]
[null,null,8,{"$nulls":14},8,{"$nulls":6},"木精灵",{"$nulls":6},8,{"$nulls":4},"木精灵","雪怪",{"$nulls":7},8,{"$nulls":5},"木精灵",null,"巨魔矛手"]
[null,null,6,{"$nulls":14},6,"木精灵",null,null,null,"木精灵","巨魔矛手","雪怪",{"$nulls":6},6,null,"木精灵",null,"巨魔矛手","巨魔矛手","雪怪","巨魔矛手",{"$nulls":6},6,null,null,"木精灵",null,"巨魔矛手",null,"巨魔矛手"]
[null,null,4,{"$nulls":14},4,null,"雪怪","雪原兽","雪山蜘蛛","巨魔矛手","雪怪",null,"雪山蜘蛛",{"$nulls":5},4,"雪原兽",null,"雪山蜘蛛","雪怪",null,"巨魔矛手","雪怪","雪山蜘蛛",{"$nulls":5},4,"雪山蜘蛛",null,null,"雪怪","雪怪","雪怪","雪怪","巨魔矛手"]
[null,null,2,{"$nulls":14},2,"巨魔矛手","雪怪","巨魔矛手","雪山蜘蛛","雪怪","雪原兽","巨魔矛手","雪山蜘蛛",{"$nulls":5},2,null,"巨魔矛手","雪山蜘蛛","雪原兽","雪怪",null,"雪原兽","雪山蜘蛛",{"$nulls":5},2,null,"巨魔矛手",null,"雪怪","雪原兽","巨魔矛手","雪原兽","雪怪"]
[null,null,1,"雪怪","巨魔矛手","雪原兽","木精灵","雪原兽","雪山蜘蛛","巨魔矛手","雪原兽","雪原兽","雪山蜘蛛",{"$nulls":4},1,"巨魔矛手","雪怪","雪原兽","雪山蜘蛛","巨魔矛手","木精灵","巨魔矛手","雪山蜘蛛",{"$nulls":5},1,"雪原兽",null,null,null,"雪怪","巨魔矛手","木精灵",{"$nulls":6},1,"雪山蜘蛛","巨魔矛手","雪原兽",null,null,"巨魔矛手","木精灵","雪原兽"]
[null,null,3,"巨魔矛手","木精灵","雪怪","雪怪","巨魔矛手","雪怪","雪怪","雪怪","雪怪","巨魔矛手",{"$nulls":4},3,"巨魔矛手","雪怪","巨魔矛手","雪山蜘蛛","雪怪","雪原兽","巨魔矛手","雪山蜘蛛",{"$nulls":5},3,null,"巨魔矛手","雪山蜘蛛","雪原兽","雪怪",null,"雪原兽","雪山蜘蛛",{"$nulls":5},3,null,"巨魔矛手",null,"雪怪","雪原兽","巨魔矛手","雪原兽","雪怪"]
[null,null,5,null,"雪怪","巨魔矛手","巨魔矛手","木精灵",null,null,"巨魔矛手","巨魔矛手",{"$nulls":5},5,null,"雪怪","雪原兽","雪山蜘蛛","巨魔矛手","雪怪",null,"雪山蜘蛛",{"$nulls":5},5,"雪原兽",null,"雪山蜘蛛","雪怪",null,"巨魔矛手","雪怪","雪山蜘蛛",{"$nulls":5},5,"雪山蜘蛛",null,null,"雪怪","雪怪","雪怪","雪怪","巨魔矛手"]
[null,null,7,{"$nulls":7},"木精灵",{"$nulls":6},7,"木精灵",null,null,null,"木精灵","巨魔矛手","雪怪",{"$nulls":6},7,null,"木精灵",null,"巨魔矛手","巨魔矛手","雪怪","巨魔矛手",{"$nulls":6},7,null,null,"木精灵",null,"巨魔矛手",null,"巨魔矛手"]
[null,null,9,{"$nulls":14},9,{"$nulls":6},"木精灵",{"$nulls":6},9,{"$nulls":4},"木精灵","雪怪",{"$nulls":7},9,{"$nulls":5},"木精灵",null,"巨魔矛手"]
[]
[null,null,"位置",5,15,30,45,60,65,80,95,110,120,{"$nulls":4},"位置",5,10,15,22,30,40,50,55,{"$nulls":5},"位置",3,5,10,17,25,35,45,50,null,null,null,{"$f":"_xlfn.TEXTJOIN(\"^\",,AG142:AG156)","v":"4^1^5"},null,"位置",3,5,8,12,18,25,35,45,null,null,null,{"$f":"_xlfn.TEXTJOIN(\"^\",,AU142:AU156)","v":"101^103^105"}]
[null,null,8,{"$nulls":12},{"$f":"_xlfn.TEXTJOIN(\"^\",,D142:D156)","v":"0^0"},null,8,{"$nulls":6},{"$f":"$C142","v":8},{"$nulls":6},8,{"$nulls":4},{"$f":"$C142","v":8},8,{"$nulls":5},{"$f":"_xlfn.TEXTJOIN(\"^\",,AH142:AH156)","v":"6^2^3^7"},null,8,{"$nulls":5},{"$f":"$C142","v":8},null,{"$f":"$C142","v":8},null,null,null,{"$f":"_xlfn.TEXTJOIN(\"^\",,AV142:AV156)","v":"2^1^3"}]
[null,null,6,{"$nulls":12},{"$f":"_xlfn.TEXTJOIN(\"^\",,E142:E156)","v":"0^0^0"},null,6,{"$f":"$C143","v":6},null,null,null,{"$f":"$C143","v":6},6,6,{"$nulls":4},{"$f":"_xlfn.TEXTJOIN(\"^\",,S142:S156)","v":"6^2^1^3^7"},null,6,null,{"$f":"$C143","v":6},null,{"$f":"$C143","v":6},6,6,6,{"$nulls":4},{"$f":"_xlfn.TEXTJOIN(\"^\",,AI142:AI156)","v":"101^102^104^105"},null,6,null,null,{"$f":"$C143","v":6},null,{"$f":"$C143","v":6},null,{"$f":"$C143","v":6},{"$nulls":4},{"$f":"_xlfn.TEXTJOIN(\"^\",,AW142:AW156)","v":"6^1^7"}]
[null,null,4,{"$nulls":12},{"$f":"_xlfn.TEXTJOIN(\"^\",,F142:F156)","v":"0^0^0"},null,4,null,{"$f":"$C144","v":4},{"$f":"$C144","v":4},null,4,4,{"$nulls":5},{"$f":"_xlfn.TEXTJOIN(\"^\",,T142:T156)","v":"4^2^1^3^5"},null,4,{"$f":"$C144","v":4},null,null,4,null,4,4,{"$nulls":4},{"$f":"_xlfn.TEXTJOIN(\"^\",,AJ142:AJ156)","v":"6^4^2^3^5^7"},null,4,null,null,null,{"$f":"$C144","v":4},4,4,4,4,null,null,null,{"$f":"_xlfn.TEXTJOIN(\"^\",,AX142:AX156)","v":"4^2^3^5"}]
[null,null,2,{"$nulls":12},{"$f":"_xlfn.TEXTJOIN(\"^\",,G142:G156)","v":"0^0^0"},null,2,{"$f":"$C145","v":2},2,2,null,2,2,2,{"$nulls":4},{"$f":"_xlfn.TEXTJOIN(\"^\",,U142:U156)","v":"4^2^1^3^5"},null,2,null,{"$f":"$C145","v":2},null,2,2,null,2,{"$nulls":4},{"$f":"_xlfn.TEXTJOIN(\"^\",,AK142:AK156)","v":"8^6^2^1^3^7^9"},null,2,null,{"$f":"$C145","v":2},null,2,2,2,2,2,null,null,null,{"$f":"_xlfn.TEXTJOIN(\"^\",,AY142:AY156)","v":"6^4^2^3^5^7"}]
[null,null,1,0,0,0,0,0,100,0,0,0,100,null,null,{"$f":"_xlfn.TEXTJOIN(\"^\",,H142:H156)","v":"0^0^0"},null,1,{"$f":"$C146","v":1},1,1,null,1,1,1,{"$nulls":4},{"$f":"_xlfn.TEXTJOIN(\"^\",,V142:V156)","v":"101^102^103^104^105"},null,1,{"$f":"$C146","v":1},null,null,null,1,{"$f":"$C146","v":1},1,{"$nulls":4},{"$f":"_xlfn.TEXTJOIN(\"^\",,AL142:AL156)","v":"8^6^4^1^5^7^9"},null,1,null,1,{"$f":"$C146","v":1},null,null,1,1,1,null,null,null,{"$f":"_xlfn.TEXTJOIN(\"^\",,AZ142:AZ156)","v":"8^4^2^1^3^5^9"}]
[null,null,3,0,0,0,0,0,0,0,0,0,0,null,null,{"$f":"_xlfn.TEXTJOIN(\"^\",,I142:I156)","v":"100^0"},null,3,{"$f":"$C147","v":3},3,3,null,3,3,3,{"$nulls":4},{"$f":"_xlfn.TEXTJOIN(\"^\",,W142:W156)","v":"6^4^2^1^3^5^7"},null,3,null,{"$f":"$C147","v":3},null,{"$f":"$C147","v":3},3,null,3,{"$nulls":4},{"$f":"_xlfn.TEXTJOIN(\"^\",,AM142:AM156)","v":"6^4^2^1^3^5^7"},null,3,null,3,null,{"$f":"$C147","v":3},3,3,3,3,null,null,null,{"$f":"_xlfn.TEXTJOIN(\"^\",,BA142:BA156)","v":"6^4^2^1^3^5^7"}]
[null,null,5,null,0,0,0,0,null,null,0,0,null,null,null,{"$f":"_xlfn.TEXTJOIN(\"^\",,J142:J156)","v":"0^0"},null,5,null,5,{"$f":"$C148","v":5},null,5,5,{"$nulls":5},{"$f":"_xlfn.TEXTJOIN(\"^\",,X142:X156)","v":"6^4^2^1^3^5^7"},null,5,{"$f":"$C148","v":5},null,null,5,null,{"$f":"$C148","v":5},5,{"$nulls":4},{"$f":"_xlfn.TEXTJOIN(\"^\",,AN142:AN156)","v":"101^102^104^105"},null,5,null,null,null,5,5,5,5,5,null,null,null,{"$f":"_xlfn.TEXTJOIN(\"^\",,BB142:BB156)","v":"8^4^2^1^3^5^9"}]
[null,null,7,{"$nulls":7},0,{"$nulls":4},{"$f":"_xlfn.TEXTJOIN(\"^\",,K142:K156)","v":"0^0^0^0"},null,7,{"$f":"$C149","v":7},null,null,null,7,7,7,{"$nulls":4},{"$f":"_xlfn.TEXTJOIN(\"^\",,Y142:Y156)","v":"8^6^2^1^3^7^9"},null,7,null,{"$f":"$C149","v":7},null,7,7,7,7,{"$nulls":4},{"$f":"_xlfn.TEXTJOIN(\"^\",,AO142:AO156)","v":""},null,7,null,null,{"$f":"$C149","v":7},null,7,null,7,{"$nulls":4},{"$f":"_xlfn.TEXTJOIN(\"^\",,BC142:BC156)","v":""}]
[null,null,9,{"$nulls":12},{"$f":"_xlfn.TEXTJOIN(\"^\",,L142:L156)","v":"0^0^0"},null,9,{"$nulls":6},9,{"$nulls":6},9,{"$nulls":4},9,9,{"$nulls":5},{"$f":"_xlfn.TEXTJOIN(\"^\",,AP142:AP156)","v":""},null,9,{"$nulls":5},{"$f":"$C150","v":9},null,{"$f":"$C150","v":9},null,null,null,{"$f":"_xlfn.TEXTJOIN(\"^\",,BD142:BD156)","v":""}]
[null,null,"空降",{"$nulls":12},{"$f":"_xlfn.TEXTJOIN(\"^\",,M142:M156)","v":"100^0"},null,"空降",{"$nulls":13},"空降",{"$nulls":11},{"$f":"_xlfn.TEXTJOIN(\"^\",,AQ142:AQ150)","v":""},null,"空降",{"$nulls":11},{"$f":"_xlfn.TEXTJOIN(\"^\",,BE142:BE150)","v":""}]
[null,null,101,{"$nulls":12},{"$f":"_xlfn.TEXTJOIN(\"^\",,N142:N156)","v":""},null,101,null,null,null,{"$f":"$C152","v":101},null,null,null,{"$f":"$C152","v":101},null,null,null,{"$f":"_xlfn.TEXTJOIN(\"^\",,Z142:Z156)","v":"101^102^103^104^105"},null,101,null,null,{"$f":"$C152","v":101},{"$nulls":4},{"$f":"$C152","v":101},{"$nulls":5},101,{"$f":"$C152","v":101}]
[null,null,102,{"$nulls":14},102,null,null,null,102,null,null,null,102,null,null,null,{"$f":"_xlfn.TEXTJOIN(\"^\",,AA142:AA156)","v":""},null,102,null,null,102,{"$nulls":4},102,{"$nulls":5},102]
[null,null,103,{"$nulls":14},103,null,null,null,103,null,null,null,103,null,null,null,{"$f":"_xlfn.TEXTJOIN(\"^\",,AB142:AB156)","v":""},null,103,{"$nulls":13},103,{"$f":"$C154","v":103}]
[null,null,104,{"$nulls":14},104,null,null,null,104,null,null,null,104,{"$nulls":5},104,null,null,{"$f":"$C155","v":104},{"$nulls":4},{"$f":"$C155","v":104},{"$nulls":5},104]
[null,null,105,{"$nulls":14},105,null,null,null,105,null,null,null,105,{"$nulls":5},105,null,null,105,{"$nulls":4},105,{"$nulls":5},105,{"$f":"$C156","v":105}]
[{"$nulls":14},"最终",{"$f":"_xlfn.TEXTJOIN(\"^\",,P142:P156)","v":"0^0^0^0^0^0^0^0^0^0^0^0^0^0^100^0^0^0^0^0^0^0^0^0^0^100^0"},{"$nulls":12},"最终",{"$f":"_xlfn.TEXTJOIN(\"^\",,AD142:AD156)","v":"6^2^1^3^7^4^2^1^3^5^4^2^1^3^5^101^102^103^104^105^6^4^2^1^3^5^7^6^4^2^1^3^5^7^8^6^2^1^3^7^9^101^102^103^104^105"},{"$nulls":12},"最终",{"$f":"_xlfn.TEXTJOIN(\"^\",,AR141:AR156)","v":"4^1^5^6^2^3^7^101^102^104^105^6^4^2^3^5^7^8^6^2^1^3^7^9^8^6^4^1^5^7^9^6^4^2^1^3^5^7^101^102^104^105"},{"$nulls":12},"最终",{"$f":"_xlfn.TEXTJOIN(\"^\",,BF141:BF156)","v":"101^103^105^2^1^3^6^1^7^4^2^3^5^6^4^2^3^5^7^8^4^2^1^3^5^9^6^4^2^1^3^5^7^8^4^2^1^3^5^9"}]
[]
[null,null,"时间",5,15,30,45,60,65,80,95,110,120,{"$nulls":4},"时间",5,10,15,22,30,40,50,55,null,null,null,{"$f":"_xlfn.TEXTJOIN(\"^\",,S160:S168)","v":"5^5^5^5^5"},null,"时间",3,5,10,17,25,35,45,50,null,null,null,{"$f":"_xlfn.TEXTJOIN(\"^\",,AG160:AG168)","v":"3^3^3"},null,"时间",3,5,8,12,18,25,35,45,null,null,null,{"$f":"_xlfn.TEXTJOIN(\"^\",,AU160:AU168)","v":"3^3^3"}]
[null,null,8,{"$nulls":12},{"$f":"_xlfn.TEXTJOIN(\"^\",,D160:D169)","v":"9^2"},null,8,{"$nulls":6},{"$f":"Y$159","v":50},{"$nulls":4},{"$f":"_xlfn.TEXTJOIN(\"^\",,T160:T168)","v":"10^10^10^10^10"},null,8,{"$nulls":4},{"$f":"AK$159","v":25},35,{"$nulls":5},{"$f":"_xlfn.TEXTJOIN(\"^\",,AH160:AH168)","v":"5^5^5^5"},null,8,{"$nulls":5},{"$f":"AZ$159","v":25},null,{"$f":"BB$159","v":45},null,null,null,{"$f":"_xlfn.TEXTJOIN(\"^\",,AV160:AV168)","v":"5^5^5"}]
[null,null,6,{"$nulls":12},{"$f":"_xlfn.TEXTJOIN(\"^\",,E160:E169)","v":"3^2^7"},null,6,{"$f":"S$159","v":5},null,null,null,{"$f":"W$159","v":30},40,50,{"$nulls":4},{"$f":"_xlfn.TEXTJOIN(\"^\",,U160:U168)","v":"15^15^15^15^15"},null,6,null,{"$f":"AH$159","v":5},null,{"$f":"AJ$159","v":17},25,35,45,{"$nulls":4},{"$f":"_xlfn.TEXTJOIN(\"^\",,AI160:AI168)","v":"10^10^10^10"},null,6,null,null,{"$f":"AW$159","v":8},null,{"$f":"AY$159","v":18},null,{"$f":"BA$159","v":35},{"$nulls":4},{"$f":"_xlfn.TEXTJOIN(\"^\",,AW160:AW168)","v":"8^8^8"}]
[null,null,4,{"$nulls":12},{"$f":"_xlfn.TEXTJOIN(\"^\",,F160:F169)","v":"2^8^3"},null,4,null,{"$f":"T$159","v":10},{"$f":"U$159","v":15},{"$f":"V$159","v":22},30,40,null,{"$f":"Z$159","v":55},null,null,null,{"$f":"_xlfn.TEXTJOIN(\"^\",,V160:V168)","v":"22^22^22^22^22"},null,4,{"$f":"AG$159","v":3},null,{"$f":"AI$159","v":10},17,null,35,45,50,null,null,null,{"$f":"_xlfn.TEXTJOIN(\"^\",,AJ160:AJ168)","v":"17^17^17^17^17^17"},null,4,{"$f":"AU$159","v":3},null,null,{"$f":"AX$159","v":12},18,25,35,{"$f":"BB$159","v":45},null,null,null,{"$f":"_xlfn.TEXTJOIN(\"^\",,AX160:AX168)","v":"12^12^12^12"}]
[null,null,2,{"$nulls":12},{"$f":"_xlfn.TEXTJOIN(\"^\",,G160:G169)","v":"2^10^3"},null,2,{"$f":"S$159","v":5},10,15,22,30,40,50,55,null,null,null,{"$f":"_xlfn.TEXTJOIN(\"^\",,W160:W168)","v":"30^30^30^30^30^30^30"},null,2,null,{"$f":"AH$159","v":5},10,17,25,null,45,50,null,null,null,{"$f":"_xlfn.TEXTJOIN(\"^\",,AK160:AK168)","v":"25^25^25^25^25^25^25"},null,2,null,{"$f":"AV$159","v":5},null,12,18,25,35,45,null,null,null,{"$f":"_xlfn.TEXTJOIN(\"^\",,AY160:AY168)","v":"18^18^18^18^18^18"}]
[null,null,1,9,3,2,2,3,7,3,2,3,8,null,null,{"$f":"_xlfn.TEXTJOIN(\"^\",,H160:H169)","v":"3^5^2"},null,1,{"$f":"S$159","v":5},10,15,22,30,40,50,55,null,null,null,{"$f":"_xlfn.TEXTJOIN(\"^\",,X160:X168)","v":"40^40^40^40^40^40^40"},null,1,{"$f":"AG$159","v":3},null,null,null,25,{"$f":"AL$159","v":35},45,{"$nulls":4},{"$f":"_xlfn.TEXTJOIN(\"^\",,AL160:AL168)","v":"35^35^35^35^35^35^35"},null,1,{"$f":"AU$159","v":3},5,{"$f":"AW$159","v":8},null,null,25,35,45,null,null,null,{"$f":"_xlfn.TEXTJOIN(\"^\",,AZ160:AZ168)","v":"25^25^25^25^25^25^25"}]
[null,null,3,2,2,8,10,5,8,11,9,10,4,null,null,{"$f":"_xlfn.TEXTJOIN(\"^\",,I160:I169)","v":"7^8"},null,3,{"$f":"S$159","v":5},10,15,22,30,40,50,55,null,null,null,{"$f":"_xlfn.TEXTJOIN(\"^\",,Y160:Y168)","v":"50^50^50^50^50^50^50"},null,3,null,{"$f":"AH$159","v":5},{"$f":"AI$159","v":10},17,25,null,45,50,null,null,null,{"$f":"_xlfn.TEXTJOIN(\"^\",,AM160:AM168)","v":"45^45^45^45^45^45^45"},null,3,null,5,null,{"$f":"AX$159","v":12},18,25,35,45,null,null,null,{"$f":"_xlfn.TEXTJOIN(\"^\",,BA160:BA168)","v":"35^35^35^35^35^35^35"}]
[null,null,5,null,7,3,3,2,null,null,3,3,null,null,null,{"$f":"_xlfn.TEXTJOIN(\"^\",,J160:J169)","v":"3^11"},null,5,null,10,{"$f":"U$159","v":15},22,30,40,null,55,null,null,null,{"$f":"_xlfn.TEXTJOIN(\"^\",,Z160:Z168)","v":"55^55^55^55^55"},null,5,{"$f":"AG$159","v":3},null,10,17,null,{"$f":"AL$159","v":35},45,50,null,null,null,{"$f":"_xlfn.TEXTJOIN(\"^\",,AN160:AN168)","v":"50^50^50^50"},null,5,{"$f":"AU$159","v":3},null,null,12,18,25,35,45,null,null,null,{"$f":"_xlfn.TEXTJOIN(\"^\",,BB160:BB168)","v":"45^45^45^45^45^45^45"}]
[null,null,7,{"$nulls":7},2,{"$nulls":4},{"$f":"_xlfn.TEXTJOIN(\"^\",,K160:K169)","v":"2^9^3^2"},null,7,{"$f":"S$159","v":5},null,null,null,30,40,50,{"$nulls":4},{"$f":"_xlfn.TEXTJOIN(\"^\",,AA160:AA168)","v":""},null,7,null,{"$f":"AH$159","v":5},null,17,25,35,45,{"$nulls":4},{"$f":"_xlfn.TEXTJOIN(\"^\",,AO160:AO168)","v":""},null,7,null,null,{"$f":"AW$159","v":8},null,18,null,35,{"$nulls":4},{"$f":"_xlfn.TEXTJOIN(\"^\",,BC160:BC168)","v":""}]
[null,null,9,{"$nulls":12},{"$f":"_xlfn.TEXTJOIN(\"^\",,L160:L169)","v":"3^10^3"},null,9,{"$nulls":6},50,{"$nulls":4},{"$f":"_xlfn.TEXTJOIN(\"^\",,AB160:AB168)","v":""},null,9,{"$nulls":4},25,35,{"$nulls":5},{"$f":"_xlfn.TEXTJOIN(\"^\",,AP160:AP168)","v":""},null,9,{"$nulls":5},{"$f":"AZ$159","v":25},null,{"$f":"BB$159","v":45},null,null,null,{"$f":"_xlfn.TEXTJOIN(\"^\",,BD160:BD168)","v":""}]
[{"$nulls":15},{"$f":"_xlfn.TEXTJOIN(\"^\",,M160:M169)","v":"8^4"},{"$nulls":13},{"$f":"_xlfn.TEXTJOIN(\"^\",,AC160:AC168)","v":""},{"$nulls":13},{"$f":"_xlfn.TEXTJOIN(\"^\",,AQ160:AQ168)","v":""},{"$nulls":13},{"$f":"_xlfn.TEXTJOIN(\"^\",,BE160:BE168)","v":""}]
[{"$nulls":15},{"$f":"_xlfn.TEXTJOIN(\"^\",,N160:N169)","v":""},{"$nulls":12},"最终",{"$f":"_xlfn.TEXTJOIN(\"^\",,AD159:AD169)","v":"5^5^5^5^5^10^10^10^10^10^15^15^15^15^15^22^22^22^22^22^30^30^30^30^30^30^30^40^40^40^40^40^40^40^50^50^50^50^50^50^50^55^55^55^55^55"},{"$nulls":12},"最终",{"$f":"_xlfn.TEXTJOIN(\"^\",,AR159:AR169)","v":"3^3^3^5^5^5^5^10^10^10^10^17^17^17^17^17^17^25^25^25^25^25^25^25^35^35^35^35^35^35^35^45^45^45^45^45^45^45^50^50^50^50"},{"$nulls":12},"最终",{"$f":"_xlfn.TEXTJOIN(\"^\",,BF159:BF169)","v":"3^3^3^5^5^5^8^8^8^12^12^12^12^18^18^18^18^18^18^25^25^25^25^25^25^25^35^35^35^35^35^35^35^45^45^45^45^45^45^45"}]
[{"$nulls":14},"最终",{"$f":"_xlfn.TEXTJOIN(\"^\",,P160:P170)","v":"9^2^3^2^7^2^8^3^2^10^3^3^5^2^7^8^3^11^2^9^3^2^3^10^3^8^4"}]
[{"$nulls":15},{"$f":"SUM(D160:M168)","v":134},{"$nulls":13},{"$f":"COUNT(S160:Z168)","v":46},{"$nulls":13},{"$f":"COUNT(AG160:AN168)","v":42},{"$nulls":13},{"$f":"COUNT(AU160:BB168)","v":40}]
[{"$nulls":57},{"$f":"SUM(P172:BF172)","v":262}]
[]
[{"$nulls":4},{"$f":"E176-D176","v":5},{"$f":"F176-E176","v":7},8,5,10,10,10,5,10,{"$nulls":6},{"$f":"T176-S176","v":5},5,10,15,16,17,7,{"$nulls":7},{"$f":"AH176-AG176","v":3},4,5,10,10,5,10,{"$nulls":7},{"$f":"AV176-AU176","v":2},3,4,6,7,10,10]
[1,"高原-4","波1·怪物",5,10,17,25,30,40,50,60,65,75,null,null,null,3,"波2·怪物",5,10,15,25,40,56,73,80,{"$nulls":4},1,"波3·怪物",3,6,10,15,25,35,40,50,{"$nulls":4},1,"波4·怪物",3,5,8,12,18,25,35,45]
[null,"5m",8,null,null,null,60492,null,60494,60491,60494,{"$nulls":4},{"$f":"_xlfn.TEXTJOIN(\"^\",,D177:D186)","v":"60494^60492^60492^60492^60494"},null,8,{"$nulls":11},{"$f":"_xlfn.TEXTJOIN(\"^\",,S177:S186)","v":"60491^60494^60492"},null,8,null,null,null,60492,60494,null,null,60494,null,null,null,{"$f":"_xlfn.TEXTJOIN(\"^\",,AG177:AG186)","v":"60495^60495^60495^60495^60495"},null,8,{"$nulls":5},60494,null,60492,null,null,null,{"$f":"_xlfn.TEXTJOIN(\"^\",,AU177:AU186)","v":"60493^60493^60493"}]
[null,null,6,60494,60491,60494,null,null,60491,60491,60492,null,60492,null,null,{"$f":"_xlfn.TEXTJOIN(\"^\",,E177:E186)","v":"60491^60491^60491^60491^60491"},null,6,{"$nulls":11},{"$f":"_xlfn.TEXTJOIN(\"^\",,T177:T186)","v":"60492^60491"},null,6,null,60494,null,null,60491,60492,null,60492,null,null,null,{"$f":"_xlfn.TEXTJOIN(\"^\",,AH177:AH186)","v":"60494^60492^60492^60492^60494"},null,6,null,60492,null,null,null,60492,60492,60494,null,null,null,{"$f":"_xlfn.TEXTJOIN(\"^\",,AV177:AV186)","v":"60492^60492^60492"}]
[null,null,4,null,null,60492,60491,60495,null,60492,60491,60495,60491,null,null,{"$f":"_xlfn.TEXTJOIN(\"^\",,F177:F186)","v":"60494^60492^60493^60493^60492^60494"},null,4,{"$nulls":11},{"$f":"_xlfn.TEXTJOIN(\"^\",,U177:U186)","v":"60495^60494"},null,4,60495,null,60491,60491,60492,60491,60495,{"$nulls":4},{"$f":"_xlfn.TEXTJOIN(\"^\",,AI177:AI186)","v":"60491^60491^60491^60491^60491"},null,4,60493,null,null,60491,60495,null,60491,60492,null,null,null,{"$f":"_xlfn.TEXTJOIN(\"^\",,AW177:AW186)","v":"60494^60494"}]
[null,null,2,60492,60491,60493,60491,60495,60492,60493,null,60495,60493,null,null,{"$f":"_xlfn.TEXTJOIN(\"^\",,G177:G186)","v":"60492^60491^60491^60492^60491^60491^60492"},null,2,{"$nulls":11},{"$f":"_xlfn.TEXTJOIN(\"^\",,V177:V186)","v":"60493^60492^60491"},null,2,60495,60492,60491,60493,null,60493,60495,60491,null,null,null,{"$f":"_xlfn.TEXTJOIN(\"^\",,AJ177:AJ186)","v":"60492^60491^60493^60491^60493^60491^60492"},null,2,null,null,60494,60491,60495,60493,60491,60493,null,null,null,{"$f":"_xlfn.TEXTJOIN(\"^\",,AX177:AX186)","v":"60491^60491^60491^60491"}]
[null,null,1,60492,60491,null,60492,60495,60492,null,60492,60495,60494,null,null,{"$f":"_xlfn.TEXTJOIN(\"^\",,H177:H186)","v":"60495^60495^60495^60495^60495"},null,1,60491,60492,60495,60493,60491,60492,60491,60495,null,null,null,{"$f":"_xlfn.TEXTJOIN(\"^\",,W177:W186)","v":"60491^60492^60494"},null,1,60495,60492,60491,60491,60492,60493,60495,60493,null,null,null,{"$f":"_xlfn.TEXTJOIN(\"^\",,AK177:AK186)","v":"60494^60491^60492^60492^60492^60491^60494"},null,1,60493,60492,{"$nulls":4},60494,{"$nulls":4},{"$f":"_xlfn.TEXTJOIN(\"^\",,AY177:AY186)","v":"60495^60495^60495^60495"}]
[null,null,3,60492,60491,60493,60491,60495,60492,60493,null,60495,60493,null,null,{"$f":"_xlfn.TEXTJOIN(\"^\",,I177:I186)","v":"60494^60491^60492^60492^60492^60491^60494"},null,3,60494,60491,60494,60492,60492,60493,60492,60492,null,null,null,{"$f":"_xlfn.TEXTJOIN(\"^\",,X177:X186)","v":"60492^60493^60491"},null,3,60495,60492,60491,60493,null,60493,60495,60491,null,null,null,{"$f":"_xlfn.TEXTJOIN(\"^\",,AL177:AL186)","v":"60492^60491^60493^60493^60493^60491^60492"},null,3,null,null,60494,60491,60495,60493,60491,60493,null,null,null,{"$f":"_xlfn.TEXTJOIN(\"^\",,AZ177:AZ186)","v":"60494^60492^60493^60493^60492^60494"}]
[null,null,5,null,null,60492,60491,60495,null,60492,60491,60495,60491,null,null,{"$f":"_xlfn.TEXTJOIN(\"^\",,J177:J186)","v":"60491^60491^60492^60493^60493^60492^60491^60491"},null,5,60492,null,null,60491,60494,60491,60494,{"$nulls":4},{"$f":"_xlfn.TEXTJOIN(\"^\",,Y177:Y186)","v":"60491^60492^60494"},null,5,60495,null,60491,60491,60492,60491,60495,{"$nulls":4},{"$f":"_xlfn.TEXTJOIN(\"^\",,AM177:AM186)","v":"60495^60495^60495^60495^60495"},null,5,60493,null,null,60491,60495,null,60491,60492,null,null,null,{"$f":"_xlfn.TEXTJOIN(\"^\",,BA177:BA186)","v":"60492^60491^60491^60494^60491^60491^60492"}]
[null,null,7,60494,60491,60494,null,null,60491,60491,60492,null,60492,null,null,{"$f":"_xlfn.TEXTJOIN(\"^\",,K177:K186)","v":"60494^60492^60491^60492^60491^60492^60494"},null,7,{"$nulls":11},{"$f":"_xlfn.TEXTJOIN(\"^\",,Z177:Z186)","v":"60495^60492"},null,7,null,60494,null,null,60491,60492,null,60492,null,null,null,{"$f":"_xlfn.TEXTJOIN(\"^\",,AN177:AN186)","v":"60494^60492^60491^60493^60491^60492^60494"},null,7,null,60492,null,null,null,60492,60492,60494,null,null,null,{"$f":"_xlfn.TEXTJOIN(\"^\",,BB177:BB186)","v":"60492^60494^60492^60493^60493^60492^60494^60492"}]
[null,null,9,null,null,null,60492,null,60494,60491,60494,{"$nulls":4},{"$f":"_xlfn.TEXTJOIN(\"^\",,L177:L186)","v":"60495^60495^60495^60495^60495"},null,9,{"$nulls":11},{"$f":"_xlfn.TEXTJOIN(\"^\",,AA177:AA186)","v":""},null,9,null,null,null,60492,60494,null,null,60494,null,null,null,{"$f":"_xlfn.TEXTJOIN(\"^\",,AO177:AO186)","v":""},null,9,{"$nulls":5},60494,null,60492,null,null,null,{"$f":"_xlfn.TEXTJOIN(\"^\",,BC177:BC186)","v":""}]
[{"$nulls":15},{"$f":"_xlfn.TEXTJOIN(\"^\",,M177:M186)","v":"60492^60491^60493^60494^60493^60491^60492"},{"$nulls":13},{"$f":"_xlfn.TEXTJOIN(\"^\",,AB177:AB186)","v":""},{"$nulls":13},{"$f":"_xlfn.TEXTJOIN(\"^\",,AP177:AP186)","v":""},{"$nulls":13},{"$f":"_xlfn.TEXTJOIN(\"^\",,BD177:BD186)","v":""}]
[{"$nulls":15},{"$f":"_xlfn.TEXTJOIN(\"^\",,N177:N186)","v":""},{"$nulls":13},{"$f":"_xlfn.TEXTJOIN(\"^\",,AC177:AC186)","v":""},{"$nulls":13},{"$f":"_xlfn.TEXTJOIN(\"^\",,AQ177:AQ186)","v":""},{"$nulls":13},{"$f":"_xlfn.TEXTJOIN(\"^\",,BE177:BE186)","v":""}]
[{"$nulls":14},"最终",{"$f":"_xlfn.TEXTJOIN(\"^\",,P177:P187)","v":"60494^60492^60492^60492^60494^60491^60491^60491^60491^60491^60494^60492^60493^60493^60492^60494^60492^60491^60491^60492^60491^60491^60492^60495^60495^60495^60495^60495^60494^60491^60492^60492^60492^60491^60494^60491^60491^60492^60493^60493^60492^60491^60491^60494^60492^60491^60492^60491^60492^60494^60495^60495^60495^60495^60495^60492^60491^60493^60494^60493^60491^60492"},{"$nulls":12},"最终",{"$f":"_xlfn.TEXTJOIN(\"^\",,AD177:AD187)","v":"60491^60494^60492^60492^60491^60495^60494^60493^60492^60491^60491^60492^60494^60492^60493^60491^60491^60492^60494^60495^60492"},{"$nulls":12},"最终",{"$f":"_xlfn.TEXTJOIN(\"^\",,AR177:AR187)","v":"60495^60495^60495^60495^60495^60494^60492^60492^60492^60494^60491^60491^60491^60491^60491^60492^60491^60493^60491^60493^60491^60492^60494^60491^60492^60492^60492^60491^60494^60492^60491^60493^60493^60493^60491^60492^60495^60495^60495^60495^60495^60494^60492^60491^60493^60491^60492^60494"},{"$nulls":12},"最终",{"$f":"_xlfn.TEXTJOIN(\"^\",,BF177:BF187)","v":"60493^60493^60493^60492^60492^60492^60494^60494^60491^60491^60491^60491^60495^60495^60495^60495^60494^60492^60493^60493^60492^60494^60492^60491^60491^60494^60491^60491^60492^60492^60494^60492^60493^60493^60492^60494^60492"}]
[null,null,8,null,null,null,"巨魔矛手",null,"木精灵","雪怪","木精灵",{"$nulls":6},8,{"$nulls":13},8,null,null,null,"巨魔矛手","木精灵",null,null,"木精灵",{"$nulls":5},8,{"$nulls":5},"木精灵",null,"巨魔矛手"]
[null,null,6,"木精灵","雪怪","木精灵",null,null,"雪怪","雪怪","巨魔矛手",null,"巨魔矛手",{"$nulls":4},6,{"$nulls":13},6,null,"木精灵",null,null,"雪怪","巨魔矛手",null,"巨魔矛手",{"$nulls":5},6,null,"巨魔矛手",null,null,null,"巨魔矛手","巨魔矛手","木精灵"]
[null,null,4,null,null,"巨魔矛手","雪怪","雪山蜘蛛",null,"巨魔矛手","雪怪","雪山蜘蛛","雪怪",{"$nulls":4},4,{"$nulls":13},4,"雪山蜘蛛",null,"雪怪","雪怪","巨魔矛手","雪怪","雪山蜘蛛",{"$nulls":6},4,"雪原兽",null,null,"雪怪","雪山蜘蛛",null,"雪怪","巨魔矛手"]
[null,null,2,"巨魔矛手","雪怪","雪原兽","雪怪","雪山蜘蛛","巨魔矛手","雪原兽",null,"雪山蜘蛛","雪原兽",{"$nulls":4},2,{"$nulls":13},2,"雪山蜘蛛","巨魔矛手","雪怪","雪原兽",null,"雪原兽","雪山蜘蛛","雪怪",{"$nulls":5},2,null,null,"木精灵","雪怪","雪山蜘蛛","雪原兽","雪怪","雪原兽"]
[null,null,1,"巨魔矛手","雪怪",null,"巨魔矛手","雪山蜘蛛","巨魔矛手",null,"巨魔矛手","雪山蜘蛛","木精灵",{"$nulls":4},1,"雪怪","巨魔矛手","雪山蜘蛛","雪原兽","雪怪","巨魔矛手","雪怪","雪山蜘蛛",{"$nulls":5},1,null,"巨魔矛手","雪怪","雪怪","巨魔矛手","雪原兽","雪山蜘蛛","雪原兽",{"$nulls":5},1,"雪原兽","巨魔矛手",{"$nulls":4},"木精灵"]
[null,null,3,"巨魔矛手","雪怪","雪原兽","雪怪","雪山蜘蛛","巨魔矛手","雪原兽",null,"雪山蜘蛛","雪原兽",{"$nulls":4},3,"木精灵","雪怪","木精灵","巨魔矛手","巨魔矛手","雪原兽","巨魔矛手","巨魔矛手",{"$nulls":5},3,"雪山蜘蛛","巨魔矛手","雪怪","雪原兽",null,"雪原兽","雪山蜘蛛","雪怪",{"$nulls":5},3,null,null,"木精灵","雪怪","雪山蜘蛛","雪原兽","雪怪","雪原兽"]
[null,null,5,null,null,"巨魔矛手","雪怪","雪山蜘蛛",null,"巨魔矛手","雪怪","雪山蜘蛛","雪怪",{"$nulls":4},5,"巨魔矛手",null,null,"雪怪","木精灵","雪怪","木精灵",{"$nulls":6},5,"雪山蜘蛛",null,"雪怪","雪怪","巨魔矛手","雪怪","雪山蜘蛛",{"$nulls":6},5,"雪原兽",null,null,"雪怪","雪山蜘蛛",null,"雪怪","巨魔矛手"]
[null,null,7,"木精灵","雪怪","木精灵",null,null,"雪怪","雪怪","巨魔矛手",null,"巨魔矛手",{"$nulls":4},7,{"$nulls":13},7,null,"木精灵",null,null,"雪怪","巨魔矛手",null,"巨魔矛手",{"$nulls":5},7,null,"巨魔矛手",null,null,null,"巨魔矛手","巨魔矛手","木精灵"]
[null,null,9,null,null,null,"巨魔矛手",null,"木精灵","雪怪","木精灵",{"$nulls":6},9,{"$nulls":13},9,null,null,null,"巨魔矛手","木精灵",null,null,"木精灵",{"$nulls":5},9,{"$nulls":5},"木精灵",null,"巨魔矛手"]
[]
[null,null,"位置",5,15,30,45,50,65,81,98,105,120,{"$nulls":4},"位置",5,10,15,25,40,56,73,80,{"$nulls":5},"位置",3,6,10,15,25,35,40,50,null,null,null,{"$f":"_xlfn.TEXTJOIN(\"^\",,AG200:AG214)","v":"101^102^103^104^105"},null,"位置",3,5,8,12,18,25,35,45,null,null,null,{"$f":"_xlfn.TEXTJOIN(\"^\",,AU200:AU214)","v":"4^1^5"}]
[null,null,8,null,null,null,{"$f":"$C200","v":8},null,{"$f":"$C200","v":8},8,8,{"$nulls":4},{"$f":"_xlfn.TEXTJOIN(\"^\",,D200:D214)","v":"6^2^1^3^7"},null,8,{"$nulls":13},8,null,null,null,{"$f":"$C200","v":8},{"$f":"$C200","v":8},null,null,{"$f":"$C200","v":8},null,null,null,{"$f":"_xlfn.TEXTJOIN(\"^\",,AH200:AH214)","v":"6^2^1^3^7"},null,8,{"$nulls":5},{"$f":"$C200","v":8},null,{"$f":"$C200","v":8},null,null,null,{"$f":"_xlfn.TEXTJOIN(\"^\",,AV200:AV214)","v":"6^1^7"}]
[null,null,6,{"$f":"$C201","v":6},{"$f":"$C201","v":6},{"$f":"$C201","v":6},null,null,6,6,6,null,{"$f":"$C201","v":6},null,null,{"$f":"_xlfn.TEXTJOIN(\"^\",,E200:E214)","v":"6^2^1^3^7"},null,6,{"$nulls":11},{"$f":"_xlfn.TEXTJOIN(\"^\",,S200:S214)","v":"0^0^0"},null,6,null,{"$f":"$C201","v":6},null,null,6,6,null,6,null,null,null,{"$f":"_xlfn.TEXTJOIN(\"^\",,AI200:AI214)","v":"4^2^1^3^5"},null,6,null,{"$f":"$C201","v":6},null,null,null,6,6,6,null,null,null,{"$f":"_xlfn.TEXTJOIN(\"^\",,AW200:AW214)","v":"2^3"}]
[null,null,4,null,null,4,4,null,null,4,4,null,4,null,null,{"$f":"_xlfn.TEXTJOIN(\"^\",,F200:F214)","v":"6^4^2^3^5^7"},null,4,{"$nulls":11},{"$f":"_xlfn.TEXTJOIN(\"^\",,T200:T214)","v":"0^0"},null,4,null,null,{"$f":"$C202","v":4},4,{"$f":"$C202","v":4},4,{"$nulls":5},{"$f":"_xlfn.TEXTJOIN(\"^\",,AJ200:AJ214)","v":"8^4^2^1^3^5^9"},null,4,{"$f":"$C202","v":4},null,null,{"$f":"$C202","v":4},null,null,4,4,null,null,null,{"$f":"_xlfn.TEXTJOIN(\"^\",,AX200:AX214)","v":"4^2^3^5"}]
[null,null,2,{"$f":"$C203","v":2},{"$f":"$C203","v":2},{"$f":"$C203","v":2},2,null,{"$f":"$C203","v":2},2,null,null,2,null,null,{"$f":"_xlfn.TEXTJOIN(\"^\",,G200:G214)","v":"8^4^2^1^3^5^9"},null,2,{"$nulls":11},{"$f":"_xlfn.TEXTJOIN(\"^\",,U200:U214)","v":"100^0"},null,2,null,{"$f":"$C203","v":2},2,2,null,2,null,{"$f":"$C203","v":2},null,null,null,{"$f":"_xlfn.TEXTJOIN(\"^\",,AK200:AK214)","v":"8^6^4^1^5^7^9"},null,2,null,null,{"$f":"$C203","v":2},2,null,{"$f":"$C203","v":2},2,2,null,null,null,{"$f":"_xlfn.TEXTJOIN(\"^\",,AY200:AY214)","v":"101^102^104^105"}]
[null,null,1,{"$f":"$C204","v":1},1,null,1,null,1,null,{"$f":"$C204","v":1},null,1,null,null,{"$f":"_xlfn.TEXTJOIN(\"^\",,H200:H214)","v":"101^102^103^104^105"},null,1,0,0,100,0,0,0,0,100,null,null,null,{"$f":"_xlfn.TEXTJOIN(\"^\",,V200:V214)","v":"0^0^0"},null,1,null,{"$f":"$C204","v":1},1,1,{"$f":"$C204","v":1},1,null,1,null,null,null,{"$f":"_xlfn.TEXTJOIN(\"^\",,AL200:AL214)","v":"6^4^2^1^3^5^7"},null,1,{"$f":"$C204","v":1},1,{"$nulls":4},1,{"$nulls":4},{"$f":"_xlfn.TEXTJOIN(\"^\",,AZ200:AZ214)","v":"8^6^2^3^7^9"}]
[null,null,3,{"$f":"$C205","v":3},3,3,3,null,3,3,null,null,3,null,null,{"$f":"_xlfn.TEXTJOIN(\"^\",,I200:I214)","v":"8^6^2^1^3^7^9"},null,3,0,0,0,0,0,0,0,0,null,null,null,{"$f":"_xlfn.TEXTJOIN(\"^\",,W200:W214)","v":"0^0^0"},null,3,null,{"$f":"$C205","v":3},3,3,null,3,null,3,null,null,null,{"$f":"_xlfn.TEXTJOIN(\"^\",,AM200:AM214)","v":"101^102^103^104^105"},null,3,null,null,{"$f":"$C205","v":3},3,null,{"$f":"$C205","v":3},3,3,null,null,null,{"$f":"_xlfn.TEXTJOIN(\"^\",,BA200:BA214)","v":"6^4^2^1^3^5^7"}]
[null,null,5,null,null,5,5,null,null,5,5,null,5,null,null,{"$f":"_xlfn.TEXTJOIN(\"^\",,J200:J214)","v":"8^6^4^2^3^5^7^9"},null,5,0,null,null,0,0,0,0,{"$nulls":4},{"$f":"_xlfn.TEXTJOIN(\"^\",,X200:X214)","v":"0^0^0"},null,5,null,null,5,5,5,5,{"$nulls":5},{"$f":"_xlfn.TEXTJOIN(\"^\",,AN200:AN214)","v":"8^6^2^1^3^7^9"},null,5,{"$f":"$C206","v":5},null,null,5,null,null,5,5,null,null,null,{"$f":"_xlfn.TEXTJOIN(\"^\",,BB200:BB214)","v":"8^6^4^2^3^5^7^9"}]
[null,null,7,{"$f":"$C207","v":7},{"$f":"$C207","v":7},7,null,null,{"$f":"$C207","v":7},7,7,null,7,null,null,{"$f":"_xlfn.TEXTJOIN(\"^\",,K200:K214)","v":"8^6^4^1^5^7^9"},null,7,{"$nulls":11},{"$f":"_xlfn.TEXTJOIN(\"^\",,Y200:Y214)","v":"0^0^0"},null,7,null,{"$f":"$C207","v":7},null,null,7,7,null,{"$f":"$C207","v":7},null,null,null,{"$f":"_xlfn.TEXTJOIN(\"^\",,AO200:AO214)","v":""},null,7,null,{"$f":"$C207","v":7},null,null,null,{"$f":"$C207","v":7},7,7,null,null,null,{"$f":"_xlfn.TEXTJOIN(\"^\",,BC200:BC214)","v":""}]
[null,null,9,null,null,null,{"$f":"$C208","v":9},null,9,9,9,{"$nulls":4},{"$f":"_xlfn.TEXTJOIN(\"^\",,L200:L214)","v":"101^102^103^104^105"},null,9,{"$nulls":13},9,null,null,null,{"$f":"$C208","v":9},9,null,null,9,null,null,null,{"$f":"_xlfn.TEXTJOIN(\"^\",,AP200:AP214)","v":""},null,9,{"$nulls":5},9,null,9,null,null,null,{"$f":"_xlfn.TEXTJOIN(\"^\",,BD200:BD214)","v":""}]
[null,null,"空降",{"$nulls":12},{"$f":"_xlfn.TEXTJOIN(\"^\",,M200:M214)","v":"6^4^2^1^3^5^7"},null,"空降",{"$nulls":13},"空降",{"$nulls":11},{"$f":"_xlfn.TEXTJOIN(\"^\",,AQ200:AQ208)","v":""},null,"空降",{"$nulls":11},{"$f":"_xlfn.TEXTJOIN(\"^\",,BE200:BE208)","v":""}]
[null,null,101,{"$nulls":4},{"$f":"$C210","v":101},null,null,null,{"$f":"$C210","v":101},null,null,null,{"$f":"_xlfn.TEXTJOIN(\"^\",,N200:N214)","v":""},null,101,{"$nulls":11},{"$f":"_xlfn.TEXTJOIN(\"^\",,Z200:Z214)","v":"100^0"},null,101,{"$f":"$C210","v":101},{"$nulls":5},{"$f":"$C210","v":101},{"$nulls":6},101,{"$nulls":4},{"$f":"$C210","v":101}]
[null,null,102,{"$nulls":4},102,null,null,null,102,{"$nulls":5},102,{"$nulls":11},{"$f":"_xlfn.TEXTJOIN(\"^\",,AA200:AA214)","v":""},null,102,102,{"$nulls":5},102,{"$nulls":6},102,{"$nulls":4},102]
[null,null,103,{"$nulls":4},103,null,null,null,103,{"$nulls":5},103,{"$nulls":11},{"$f":"_xlfn.TEXTJOIN(\"^\",,AB200:AB214)","v":""},null,103,103,{"$nulls":5},103,{"$nulls":6},103]
[null,null,104,{"$nulls":4},{"$f":"$C213","v":104},null,null,null,104,{"$nulls":5},104,{"$nulls":13},104,104,{"$nulls":5},104,{"$nulls":6},104,{"$nulls":4},{"$f":"$C213","v":104}]
[null,null,105,{"$nulls":4},105,null,null,null,105,{"$nulls":5},105,{"$nulls":13},105,105,{"$nulls":5},105,{"$nulls":6},105,{"$nulls":4},105]
[{"$nulls":14},"最终",{"$f":"_xlfn.TEXTJOIN(\"^\",,P200:P214)","v":"6^2^1^3^7^6^2^1^3^7^6^4^2^3^5^7^8^4^2^1^3^5^9^101^102^103^104^105^8^6^2^1^3^7^9^8^6^4^2^3^5^7^9^8^6^4^1^5^7^9^101^102^103^104^105^6^4^2^1^3^5^7"},{"$nulls":12},"最终",{"$f":"_xlfn.TEXTJOIN(\"^\",,AD200:AD214)","v":"0^0^0^0^0^100^0^0^0^0^0^0^0^0^0^0^0^0^0^100^0"},{"$nulls":12},"最终",{"$f":"_xlfn.TEXTJOIN(\"^\",,AR199:AR214)","v":"101^102^103^104^105^6^2^1^3^7^4^2^1^3^5^8^4^2^1^3^5^9^8^6^4^1^5^7^9^6^4^2^1^3^5^7^101^102^103^104^105^8^6^2^1^3^7^9"},{"$nulls":12},"最终",{"$f":"_xlfn.TEXTJOIN(\"^\",,BF199:BF214)","v":"4^1^5^6^1^7^2^3^4^2^3^5^101^102^104^105^8^6^2^3^7^9^6^4^2^1^3^5^7^8^6^4^2^3^5^7^9"}]
[]
[null,null,"时间",5,15,30,45,50,65,81,98,105,120,{"$nulls":4},"时间",5,10,15,25,40,56,73,80,null,null,null,{"$f":"_xlfn.TEXTJOIN(\"^\",,S218:S226)","v":"18^3^4"},null,"时间",3,6,10,15,25,35,40,50,null,null,null,{"$f":"_xlfn.TEXTJOIN(\"^\",,AG218:AG226)","v":"3^3^3^3^3"},null,"时间",3,5,8,12,18,25,35,45,null,null,null,{"$f":"_xlfn.TEXTJOIN(\"^\",,AU218:AU226)","v":"3^3^3"}]
[null,null,8,null,null,null,{"$f":"G$217","v":45},null,{"$f":"I$217","v":65},81,98,{"$nulls":4},{"$f":"_xlfn.TEXTJOIN(\"^\",,D218:D227)","v":"5^5^5^5^5"},null,8,{"$nulls":11},{"$f":"_xlfn.TEXTJOIN(\"^\",,T218:T226)","v":"3^9"},null,8,null,null,null,{"$f":"AJ$217","v":15},{"$f":"AK$217","v":25},null,null,{"$f":"AN$217","v":50},null,null,null,{"$f":"_xlfn.TEXTJOIN(\"^\",,AH218:AH226)","v":"6^6^6^6^6"},null,8,{"$nulls":5},{"$f":"AZ$217","v":25},null,{"$f":"BB$217","v":45},null,null,null,{"$f":"_xlfn.TEXTJOIN(\"^\",,AV218:AV226)","v":"5^5^5"}]
[null,null,6,{"$f":"D$217","v":5},{"$f":"E$217","v":15},{"$f":"F$217","v":30},null,null,65,81,98,null,{"$f":"M$217","v":120},null,null,{"$f":"_xlfn.TEXTJOIN(\"^\",,E218:E227)","v":"15^15^15^15^15"},null,6,{"$nulls":11},{"$f":"_xlfn.TEXTJOIN(\"^\",,U218:U226)","v":"8^2"},null,6,null,{"$f":"AH$217","v":6},null,null,25,35,null,{"$f":"AN$217","v":50},null,null,null,{"$f":"_xlfn.TEXTJOIN(\"^\",,AI218:AI226)","v":"10^10^10^10^10"},null,6,null,{"$f":"AV$217","v":5},null,null,null,25,35,45,null,null,null,{"$f":"_xlfn.TEXTJOIN(\"^\",,AW218:AW226)","v":"8^8"}]
[null,null,4,null,null,30,45,50,null,81,98,105,120,null,null,{"$f":"_xlfn.TEXTJOIN(\"^\",,F218:F227)","v":"30^30^30^30^30^30"},null,4,{"$nulls":11},{"$f":"_xlfn.TEXTJOIN(\"^\",,V218:V226)","v":"3^3^8"},null,4,{"$f":"AG$217","v":3},null,{"$f":"AI$217","v":10},15,25,35,40,{"$nulls":4},{"$f":"_xlfn.TEXTJOIN(\"^\",,AJ218:AJ226)","v":"15^15^15^15^15^15^15"},null,4,{"$f":"AU$217","v":3},null,null,{"$f":"AX$217","v":12},18,null,35,45,null,null,null,{"$f":"_xlfn.TEXTJOIN(\"^\",,AX218:AX226)","v":"12^12^12^12"}]
[null,null,2,{"$f":"D$217","v":5},{"$f":"E$217","v":15},30,45,50,65,81,null,105,120,null,null,{"$f":"_xlfn.TEXTJOIN(\"^\",,G218:G227)","v":"45^45^45^45^45^45^45"},null,2,{"$nulls":11},{"$f":"_xlfn.TEXTJOIN(\"^\",,W218:W226)","v":"10^3^2"},null,2,3,{"$f":"AH$217","v":6},10,15,null,35,40,50,null,null,null,{"$f":"_xlfn.TEXTJOIN(\"^\",,AK218:AK226)","v":"25^25^25^25^25^25^25"},null,2,null,null,{"$f":"AW$217","v":8},12,18,{"$f":"AZ$217","v":25},35,45,null,null,null,{"$f":"_xlfn.TEXTJOIN(\"^\",,AY218:AY226)","v":"18^18^18^18"}]
[null,null,1,{"$f":"D$217","v":5},15,null,45,50,65,null,{"$f":"K$217","v":98},105,120,null,null,{"$f":"_xlfn.TEXTJOIN(\"^\",,H218:H227)","v":"50^50^50^50^50"},null,1,18,3,8,3,10,3,10,8,null,null,null,{"$f":"_xlfn.TEXTJOIN(\"^\",,X218:X226)","v":"3^3^11"},null,1,3,{"$f":"AH$217","v":6},10,15,{"$f":"AK$217","v":25},35,40,50,null,null,null,{"$f":"_xlfn.TEXTJOIN(\"^\",,AL218:AL226)","v":"35^35^35^35^35^35^35"},null,1,{"$f":"AU$217","v":3},{"$f":"AV$217","v":5},{"$nulls":4},35,{"$nulls":4},{"$f":"_xlfn.TEXTJOIN(\"^\",,AZ218:AZ226)","v":"25^25^25^25^25^25"}]
[null,null,3,{"$f":"D$217","v":5},15,30,45,50,65,81,null,105,120,null,null,{"$f":"_xlfn.TEXTJOIN(\"^\",,I218:I227)","v":"65^65^65^65^65^65^65"},null,3,3,9,2,3,3,3,4,4,null,null,null,{"$f":"_xlfn.TEXTJOIN(\"^\",,Y218:Y226)","v":"10^4^2"},null,3,3,{"$f":"AH$217","v":6},10,15,null,35,40,50,null,null,null,{"$f":"_xlfn.TEXTJOIN(\"^\",,AM218:AM226)","v":"40^40^40^40^40"},null,3,null,null,{"$f":"AW$217","v":8},{"$f":"AX$217","v":12},18,{"$f":"AZ$217","v":25},35,45,null,null,null,{"$f":"_xlfn.TEXTJOIN(\"^\",,BA218:BA226)","v":"35^35^35^35^35^35^35"}]
[null,null,5,null,null,30,45,50,null,81,98,105,120,null,null,{"$f":"_xlfn.TEXTJOIN(\"^\",,J218:J227)","v":"81^81^81^81^81^81^81^81"},null,5,4,null,null,8,2,11,2,{"$nulls":4},{"$f":"_xlfn.TEXTJOIN(\"^\",,Z218:Z226)","v":"8^4"},null,5,3,null,10,15,25,35,40,{"$nulls":4},{"$f":"_xlfn.TEXTJOIN(\"^\",,AN218:AN226)","v":"50^50^50^50^50^50^50"},null,5,{"$f":"AU$217","v":3},null,null,12,18,null,35,45,null,null,null,{"$f":"_xlfn.TEXTJOIN(\"^\",,BB218:BB226)","v":"45^45^45^45^45^45^45^45"}]
[null,null,7,{"$f":"D$217","v":5},{"$f":"E$217","v":15},30,null,null,{"$f":"I$217","v":65},81,98,null,120,null,null,{"$f":"_xlfn.TEXTJOIN(\"^\",,K218:K227)","v":"98^98^98^98^98^98^98"},null,7,{"$nulls":11},{"$f":"_xlfn.TEXTJOIN(\"^\",,AA218:AA226)","v":""},null,7,null,{"$f":"AH$217","v":6},null,null,25,35,null,{"$f":"AN$217","v":50},null,null,null,{"$f":"_xlfn.TEXTJOIN(\"^\",,AO218:AO226)","v":""},null,7,null,{"$f":"AV$217","v":5},null,null,null,{"$f":"AZ$217","v":25},35,45,null,null,null,{"$f":"_xlfn.TEXTJOIN(\"^\",,BC218:BC226)","v":""}]
[null,null,9,null,null,null,{"$f":"G$217","v":45},null,65,81,98,{"$nulls":4},{"$f":"_xlfn.TEXTJOIN(\"^\",,L218:L227)","v":"105^105^105^105^105"},null,9,{"$nulls":11},{"$f":"_xlfn.TEXTJOIN(\"^\",,AB218:AB226)","v":""},null,9,null,null,null,{"$f":"AJ$217","v":15},25,null,null,50,null,null,null,{"$f":"_xlfn.TEXTJOIN(\"^\",,AP218:AP226)","v":""},null,9,{"$nulls":5},25,null,45,null,null,null,{"$f":"_xlfn.TEXTJOIN(\"^\",,BD218:BD226)","v":""}]
[{"$nulls":15},{"$f":"_xlfn.TEXTJOIN(\"^\",,M218:M227)","v":"120^120^120^120^120^120^120"},{"$nulls":13},{"$f":"_xlfn.TEXTJOIN(\"^\",,AC218:AC226)","v":""},{"$nulls":13},{"$f":"_xlfn.TEXTJOIN(\"^\",,AQ218:AQ226)","v":""},{"$nulls":13},{"$f":"_xlfn.TEXTJOIN(\"^\",,BE218:BE226)","v":""}]
[{"$nulls":15},{"$f":"_xlfn.TEXTJOIN(\"^\",,N218:N227)","v":""},{"$nulls":12},"最终",{"$f":"_xlfn.TEXTJOIN(\"^\",,AD217:AD227)","v":"18^3^4^3^9^8^2^3^3^8^10^3^2^3^3^11^10^4^2^8^4"},{"$nulls":12},"最终",{"$f":"_xlfn.TEXTJOIN(\"^\",,AR217:AR227)","v":"3^3^3^3^3^6^6^6^6^6^10^10^10^10^10^15^15^15^15^15^15^15^25^25^25^25^25^25^25^35^35^35^35^35^35^35^40^40^40^40^40^50^50^50^50^50^50^50"},{"$nulls":12},"最终",{"$f":"_xlfn.TEXTJOIN(\"^\",,BF217:BF227)","v":"3^3^3^5^5^5^8^8^12^12^12^12^18^18^18^18^25^25^25^25^25^25^35^35^35^35^35^35^35^45^45^45^45^45^45^45^45"}]
[{"$nulls":14},"最终",{"$f":"_xlfn.TEXTJOIN(\"^\",,P218:P228)","v":"5^5^5^5^5^15^15^15^15^15^30^30^30^30^30^30^45^45^45^45^45^45^45^50^50^50^50^50^65^65^65^65^65^65^65^81^81^81^81^81^81^81^81^98^98^98^98^98^98^98^105^105^105^105^105^120^120^120^120^120^120^120"}]
[{"$nulls":15},{"$f":"COUNT(D218:M226)","v":62},{"$nulls":13},{"$f":"SUM(S218:Z226)","v":121},{"$nulls":13},{"$f":"COUNT(AG218:AN226)","v":48},{"$nulls":13},{"$f":"COUNT(AU218:BB226)","v":37}]
[{"$nulls":57},{"$f":"SUM(P230:BF230)","v":268}]
[]
[{"$nulls":4},{"$f":"E234-D234","v":5},{"$f":"F234-E234","v":6},4,10,10,10,10,5,10,{"$nulls":6},{"$f":"T234-S234","v":3},4,5,10,10,5,10,{"$nulls":7},{"$f":"AH234-AG234","v":6},5,15,16,4,15,15,{"$nulls":7},{"$f":"AV234-AU234","v":2},3,4,5,8,10,10]
[1,"高原-5","波1·怪物",5,10,16,20,30,40,50,60,65,75,null,null,null,1,"波2·怪物",3,6,10,15,25,35,40,50,{"$nulls":4},3,"波3·怪物",4,10,15,30,46,50,65,80,{"$nulls":4},1,"波4·怪物",3,5,8,12,17,25,35,45]
[null,"5m",8,null,null,60502,null,60504,60504,60502,null,null,60502,null,null,{"$f":"_xlfn.TEXTJOIN(\"^\",,D235:D244)","v":"60504^60501^60501^60501^60504"},null,8,null,null,null,60504,null,60502,{"$nulls":5},{"$f":"_xlfn.TEXTJOIN(\"^\",,S235:S244)","v":"60505^60505^60505^60505"},null,8,{"$nulls":11},{"$f":"_xlfn.TEXTJOIN(\"^\",,AG235:AG244)","v":"60501^60502^60504"},null,8,{"$nulls":5},60502,null,60504,null,null,null,{"$f":"_xlfn.TEXTJOIN(\"^\",,AU235:AU244)","v":"60504^60503^60503^60504"}]
[null,null,6,60504,null,60501,null,60502,null,60501,60504,null,60502,null,null,{"$f":"_xlfn.TEXTJOIN(\"^\",,E235:E244)","v":"60502^60502^60502^60502"},null,6,null,60502,60504,null,60502,null,null,60504,null,null,null,{"$f":"_xlfn.TEXTJOIN(\"^\",,T235:T244)","v":"60502^60502^60502^60502"},null,6,{"$nulls":11},{"$f":"_xlfn.TEXTJOIN(\"^\",,AH235:AH244)","v":"60503^60501"},null,6,null,60502,null,60501,60504,null,60502,60502,null,null,null,{"$f":"_xlfn.TEXTJOIN(\"^\",,AV235:AV244)","v":"60502^60502^60502"}]
[null,null,4,null,60502,null,60505,null,60502,60501,60502,60505,null,null,null,{"$f":"_xlfn.TEXTJOIN(\"^\",,F235:F244)","v":"60502^60501^60503^60503^60501^60502"},null,4,60505,null,null,60502,60502,60501,60505,60502,null,null,null,{"$f":"_xlfn.TEXTJOIN(\"^\",,U235:U244)","v":"60504^60503^60503^60504"},null,4,{"$nulls":11},{"$f":"_xlfn.TEXTJOIN(\"^\",,AI235:AI244)","v":"60505^60502"},null,4,60504,null,60505,60501,60502,60501,60501,60501,null,null,null,{"$f":"_xlfn.TEXTJOIN(\"^\",,AW235:AW244)","v":"60505^60505^60505^60505"}]
[null,null,2,60501,60502,60503,60505,60501,60503,60501,60503,60505,60503,null,null,{"$f":"_xlfn.TEXTJOIN(\"^\",,G235:G244)","v":"60505^60505^60505^60505"},null,2,60505,null,60503,60501,60503,60503,60505,{"$nulls":4},{"$f":"_xlfn.TEXTJOIN(\"^\",,V235:V244)","v":"60504^60502^60501^60501^60502^60504"},null,2,{"$nulls":11},{"$f":"_xlfn.TEXTJOIN(\"^\",,AJ235:AJ244)","v":"60503^60502^60504"},null,2,60503,null,60505,null,60503,60501,60501,60503,null,null,null,{"$f":"_xlfn.TEXTJOIN(\"^\",,AX235:AX244)","v":"60501^60501^60501^60501^60501"}]
[null,null,1,60501,null,null,null,60501,60502,null,60502,60505,60504,null,null,{"$f":"_xlfn.TEXTJOIN(\"^\",,H235:H244)","v":"60504^60502^60501^60501^60501^60502^60504"},null,1,null,60502,null,null,60504,null,60505,60506,null,null,null,{"$f":"_xlfn.TEXTJOIN(\"^\",,W235:W244)","v":"60502^60502^60503^60504^60503^60502^60502"},null,1,60501,60503,60505,60503,60502,60505,60503,60503,null,null,null,{"$f":"_xlfn.TEXTJOIN(\"^\",,AK235:AK244)","v":"60502^60501"},null,1,null,60502,null,60501,null,60504,60503,{"$nulls":4},{"$f":"_xlfn.TEXTJOIN(\"^\",,AY235:AY244)","v":"60504^60502^60503^60503^60502^60504"}]
[null,null,3,60501,60502,60503,60505,60501,60503,60501,60503,60505,60503,null,null,{"$f":"_xlfn.TEXTJOIN(\"^\",,I235:I244)","v":"60504^60502^60503^60502^60503^60502^60504"},null,3,60505,60502,60503,60501,60503,60503,60505,{"$nulls":4},{"$f":"_xlfn.TEXTJOIN(\"^\",,X235:X244)","v":"60502^60501^60503^60503^60501^60502"},null,3,60502,60501,60502,60502,60501,60503,60502,60501,null,null,null,{"$f":"_xlfn.TEXTJOIN(\"^\",,AL235:AL244)","v":"60505^60503"},null,3,60503,null,60505,null,60503,60501,60501,60503,null,null,null,{"$f":"_xlfn.TEXTJOIN(\"^\",,AZ235:AZ244)","v":"60502^60501^60501^60504^60501^60501^60502"}]
[null,null,5,null,60502,null,60505,null,60502,60501,60502,60505,null,null,null,{"$f":"_xlfn.TEXTJOIN(\"^\",,J235:J244)","v":"60502^60501^60501^60501^60501^60501^60501^60502"},null,5,60505,null,null,60502,60502,60501,60505,60502,null,null,null,{"$f":"_xlfn.TEXTJOIN(\"^\",,Y235:Y244)","v":"60505^60505^60505^60505^60505"},null,5,60504,null,null,60504,null,null,60504,60502,null,null,null,{"$f":"_xlfn.TEXTJOIN(\"^\",,AM235:AM244)","v":"60503^60502^60504"},null,5,60504,null,60505,60501,60502,60501,60501,60501,null,null,null,{"$f":"_xlfn.TEXTJOIN(\"^\",,BA235:BA244)","v":"60502^60501^60501^60503^60501^60501^60502"}]
[null,null,7,60504,null,60501,null,60502,null,60501,60504,null,60502,null,null,{"$f":"_xlfn.TEXTJOIN(\"^\",,K235:K244)","v":"60504^60502^60503^60502^60503^60502^60504"},null,7,null,60502,60504,null,60502,null,null,60504,null,null,null,{"$f":"_xlfn.TEXTJOIN(\"^\",,Z235:Z244)","v":"60504^60502^60506^60502^60504"},null,7,{"$nulls":11},{"$f":"_xlfn.TEXTJOIN(\"^\",,AN235:AN244)","v":"60503^60501^60502"},null,7,null,60502,null,60501,60504,null,60502,60502,null,null,null,{"$f":"_xlfn.TEXTJOIN(\"^\",,BB235:BB244)","v":"60504^60502^60501^60503^60503^60501^60502^60504"}]
[null,null,9,null,null,60502,null,60504,60504,60502,null,null,60502,null,null,{"$f":"_xlfn.TEXTJOIN(\"^\",,L235:L244)","v":"60505^60505^60505^60505^60505"},null,9,null,null,null,60504,null,60502,{"$nulls":5},{"$f":"_xlfn.TEXTJOIN(\"^\",,AA235:AA244)","v":""},null,9,{"$nulls":11},{"$f":"_xlfn.TEXTJOIN(\"^\",,AO235:AO244)","v":""},null,9,{"$nulls":5},60502,null,60504,null,null,null,{"$f":"_xlfn.TEXTJOIN(\"^\",,BC235:BC244)","v":""}]
[{"$nulls":15},{"$f":"_xlfn.TEXTJOIN(\"^\",,M235:M244)","v":"60502^60502^60503^60504^60503^60502^60502"},{"$nulls":13},{"$f":"_xlfn.TEXTJOIN(\"^\",,AB235:AB244)","v":""},{"$nulls":13},{"$f":"_xlfn.TEXTJOIN(\"^\",,AP235:AP244)","v":""},{"$nulls":13},{"$f":"_xlfn.TEXTJOIN(\"^\",,BD235:BD244)","v":""}]
[{"$nulls":15},{"$f":"_xlfn.TEXTJOIN(\"^\",,N235:N244)","v":""},{"$nulls":13},{"$f":"_xlfn.TEXTJOIN(\"^\",,AC235:AC244)","v":""},{"$nulls":13},{"$f":"_xlfn.TEXTJOIN(\"^\",,AQ235:AQ244)","v":""},{"$nulls":13},{"$f":"_xlfn.TEXTJOIN(\"^\",,BE235:BE244)","v":""}]
[{"$nulls":14},"最终",{"$f":"_xlfn.TEXTJOIN(\"^\",,P235:P245)","v":"60504^60501^60501^60501^60504^60502^60502^60502^60502^60502^60501^60503^60503^60501^60502^60505^60505^60505^60505^60504^60502^60501^60501^60501^60502^60504^60504^60502^60503^60502^60503^60502^60504^60502^60501^60501^60501^60501^60501^60501^60502^60504^60502^60503^60502^60503^60502^60504^60505^60505^60505^60505^60505^60502^60502^60503^60504^60503^60502^60502"},{"$nulls":12},"最终",{"$f":"_xlfn.TEXTJOIN(\"^\",,AD235:AD245)","v":"60505^60505^60505^60505^60502^60502^60502^60502^60504^60503^60503^60504^60504^60502^60501^60501^60502^60504^60502^60502^60503^60504^60503^60502^60502^60502^60501^60503^60503^60501^60502^60505^60505^60505^60505^60505^60504^60502^60506^60502^60504"},{"$nulls":12},"最终",{"$f":"_xlfn.TEXTJOIN(\"^\",,AR235:AR245)","v":"60501^60502^60504^60503^60501^60505^60502^60503^60502^60504^60502^60501^60505^60503^60503^60502^60504^60503^60501^60502"},{"$nulls":12},"最终",{"$f":"_xlfn.TEXTJOIN(\"^\",,BF235:BF245)","v":"60504^60503^60503^60504^60502^60502^60502^60505^60505^60505^60505^60501^60501^60501^60501^60501^60504^60502^60503^60503^60502^60504^60502^60501^60501^60504^60501^60501^60502^60502^60501^60501^60503^60501^60501^60502^60504^60502^60501^60503^60503^60501^60502^60504"}]
[null,null,8,null,null,"巨魔矛手",null,"木精灵","木精灵","巨魔矛手",null,null,"巨魔矛手",{"$nulls":4},8,null,null,null,"木精灵",null,"巨魔矛手",{"$nulls":7},8,{"$nulls":13},8,{"$nulls":5},"巨魔矛手",null,"木精灵"]
[null,null,6,"木精灵",null,"雪怪",null,"巨魔矛手",null,"雪怪","木精灵",null,"巨魔矛手",{"$nulls":4},6,null,"巨魔矛手","木精灵",null,"巨魔矛手",null,null,"木精灵",{"$nulls":5},6,{"$nulls":13},6,null,"巨魔矛手",null,"雪怪","木精灵",null,"巨魔矛手","巨魔矛手"]
[null,null,4,null,"巨魔矛手",null,"雪山蜘蛛",null,"巨魔矛手","雪怪","巨魔矛手","雪山蜘蛛",{"$nulls":5},4,"雪山蜘蛛",null,null,"巨魔矛手","巨魔矛手","雪怪","雪山蜘蛛","巨魔矛手",{"$nulls":5},4,{"$nulls":13},4,"木精灵",null,"雪山蜘蛛","雪怪","巨魔矛手","雪怪","雪怪","雪怪"]
[null,null,2,"雪怪","巨魔矛手","雪原兽","雪山蜘蛛","雪怪","雪原兽","雪怪","雪原兽","雪山蜘蛛","雪原兽",{"$nulls":4},2,"雪山蜘蛛",null,"雪原兽","雪怪","雪原兽","雪原兽","雪山蜘蛛",{"$nulls":6},2,{"$nulls":13},2,"雪原兽",null,"雪山蜘蛛",null,"雪原兽","雪怪","雪怪","雪原兽"]
[null,null,1,"雪怪",null,null,null,"雪怪","巨魔矛手",null,"巨魔矛手","雪山蜘蛛","木精灵",{"$nulls":4},1,null,"巨魔矛手",null,null,"木精灵",null,"雪山蜘蛛","冰霜巨人",{"$nulls":5},1,"雪怪","雪原兽","雪山蜘蛛","雪原兽","巨魔矛手","雪山蜘蛛","雪原兽","雪原兽",{"$nulls":5},1,null,"巨魔矛手",null,"雪怪",null,"木精灵","雪原兽"]
[null,null,3,"雪怪","巨魔矛手","雪原兽","雪山蜘蛛","雪怪","雪原兽","雪怪","雪原兽","雪山蜘蛛","雪原兽",{"$nulls":4},3,"雪山蜘蛛","巨魔矛手","雪原兽","雪怪","雪原兽","雪原兽","雪山蜘蛛",{"$nulls":6},3,"巨魔矛手","雪怪","巨魔矛手","巨魔矛手","雪怪","雪原兽","巨魔矛手","雪怪",{"$nulls":5},3,"雪原兽",null,"雪山蜘蛛",null,"雪原兽","雪怪","雪怪","雪原兽"]
[null,null,5,null,"巨魔矛手",null,"雪山蜘蛛",null,"巨魔矛手","雪怪","巨魔矛手","雪山蜘蛛",{"$nulls":5},5,"雪山蜘蛛",null,null,"巨魔矛手","巨魔矛手","雪怪","雪山蜘蛛","巨魔矛手",{"$nulls":5},5,"木精灵",null,null,"木精灵",null,null,"木精灵","巨魔矛手",{"$nulls":5},5,"木精灵",null,"雪山蜘蛛","雪怪","巨魔矛手","雪怪","雪怪","雪怪"]
[null,null,7,"木精灵",null,"雪怪",null,"巨魔矛手",null,"雪怪","木精灵",null,"巨魔矛手",{"$nulls":4},7,null,"巨魔矛手","木精灵",null,"巨魔矛手",null,null,"木精灵",{"$nulls":5},7,{"$nulls":13},7,null,"巨魔矛手",null,"雪怪","木精灵",null,"巨魔矛手","巨魔矛手"]
[null,null,9,null,null,"巨魔矛手",null,"木精灵","木精灵","巨魔矛手",null,null,"巨魔矛手",{"$nulls":4},9,null,null,null,"木精灵",null,"巨魔矛手",{"$nulls":7},9,{"$nulls":13},9,{"$nulls":5},"巨魔矛手",null,"木精灵"]
[]
[null,null,"位置",5,10,16,20,30,40,50,60,65,75,{"$nulls":4},"位置",3,6,10,15,25,35,40,50,{"$nulls":5},"位置",4,10,15,30,46,50,65,80,null,null,null,{"$f":"_xlfn.TEXTJOIN(\"^\",,AG258:AG272)","v":"0^0^0"},null,"位置",3,5,8,12,17,25,35,45,null,null,null,{"$f":"_xlfn.TEXTJOIN(\"^\",,AU258:AU272)","v":"4^2^3^5"}]
[null,null,8,null,null,{"$f":"$C258","v":8},null,{"$f":"$C258","v":8},{"$f":"$C258","v":8},{"$f":"$C258","v":8},null,null,{"$f":"$C258","v":8},null,null,{"$f":"_xlfn.TEXTJOIN(\"^\",,D258:D272)","v":"6^2^1^3^7"},null,8,null,null,null,{"$f":"$C258","v":8},null,{"$f":"$C258","v":8},{"$nulls":7},8,{"$nulls":11},{"$f":"_xlfn.TEXTJOIN(\"^\",,AH258:AH272)","v":"0^0"},null,8,{"$nulls":5},{"$f":"$C258","v":8},null,{"$f":"$C258","v":8},null,null,null,{"$f":"_xlfn.TEXTJOIN(\"^\",,AV258:AV272)","v":"6^1^7"}]
[null,null,6,{"$f":"$C259","v":6},null,6,null,6,null,6,6,null,6,null,null,{"$f":"_xlfn.TEXTJOIN(\"^\",,E258:E272)","v":"4^2^3^5"},null,6,null,{"$f":"$C259","v":6},{"$f":"$C259","v":6},null,{"$f":"$C259","v":6},null,null,{"$f":"$C259","v":6},null,null,null,{"$f":"_xlfn.TEXTJOIN(\"^\",,S258:S272)","v":"101^102^104^105"},null,6,{"$nulls":11},{"$f":"_xlfn.TEXTJOIN(\"^\",,AI258:AI272)","v":"100^0"},null,6,null,{"$f":"$C259","v":6},null,{"$f":"$C259","v":6},6,null,{"$f":"$C259","v":6},6,null,null,null,{"$f":"_xlfn.TEXTJOIN(\"^\",,AW258:AW272)","v":"101^102^104^105"}]
[null,null,4,null,{"$f":"$C260","v":4},null,null,null,{"$f":"$C260","v":4},4,4,{"$nulls":4},{"$f":"_xlfn.TEXTJOIN(\"^\",,F258:F272)","v":"8^6^2^3^7^9"},null,4,null,null,null,{"$f":"$C260","v":4},4,4,null,4,null,null,null,{"$f":"_xlfn.TEXTJOIN(\"^\",,T258:T272)","v":"6^1^3^7"},null,4,{"$nulls":11},{"$f":"_xlfn.TEXTJOIN(\"^\",,AJ258:AJ272)","v":"0^0^0"},null,4,{"$f":"$C260","v":4},null,null,4,4,4,4,4,null,null,null,{"$f":"_xlfn.TEXTJOIN(\"^\",,AX258:AX272)","v":"6^4^1^5^7"}]
[null,null,2,{"$f":"$C261","v":2},2,{"$f":"$C261","v":2},null,{"$f":"$C261","v":2},2,2,2,null,{"$f":"$C261","v":2},null,null,{"$f":"_xlfn.TEXTJOIN(\"^\",,G258:G272)","v":"101^102^104^105"},null,2,null,null,{"$f":"$C261","v":2},2,2,2,{"$nulls":5},{"$f":"_xlfn.TEXTJOIN(\"^\",,U258:U272)","v":"6^2^3^7"},null,2,{"$nulls":11},{"$f":"_xlfn.TEXTJOIN(\"^\",,AK258:AK272)","v":"0^0"},null,2,2,null,null,null,{"$f":"$C261","v":2},2,2,2,null,null,null,{"$f":"_xlfn.TEXTJOIN(\"^\",,AY258:AY272)","v":"6^4^2^3^5^7"}]
[null,null,1,1,null,null,null,1,1,null,1,null,1,null,null,{"$f":"_xlfn.TEXTJOIN(\"^\",,H258:H272)","v":"8^6^2^1^3^7^9"},null,1,null,{"$f":"$C262","v":1},null,null,1,null,null,{"$f":"$C262","v":1},null,null,null,{"$f":"_xlfn.TEXTJOIN(\"^\",,V258:V272)","v":"8^4^2^3^5^9"},null,1,0,0,100,0,0,100,0,0,null,null,null,{"$f":"_xlfn.TEXTJOIN(\"^\",,AL258:AL272)","v":"100^0"},null,1,null,{"$f":"$C262","v":1},null,{"$f":"$C262","v":1},null,1,1,{"$nulls":4},{"$f":"_xlfn.TEXTJOIN(\"^\",,AZ258:AZ272)","v":"8^4^2^1^3^5^9"}]
[null,null,3,3,3,{"$f":"$C263","v":3},null,3,3,3,3,null,3,null,null,{"$f":"_xlfn.TEXTJOIN(\"^\",,I258:I272)","v":"8^4^2^1^3^5^9"},null,3,null,{"$f":"$C263","v":3},{"$f":"$C263","v":3},{"$f":"$C263","v":3},3,3,{"$nulls":5},{"$f":"_xlfn.TEXTJOIN(\"^\",,W258:W272)","v":"6^4^2^1^3^5^7"},null,3,0,0,0,0,0,0,0,0,null,null,null,{"$f":"_xlfn.TEXTJOIN(\"^\",,AM258:AM272)","v":"0^0^0"},null,3,{"$f":"$C263","v":3},null,null,null,{"$f":"$C263","v":3},3,3,3,null,null,null,{"$f":"_xlfn.TEXTJOIN(\"^\",,BA258:BA272)","v":"6^4^2^1^3^5^7"}]
[null,null,5,null,5,null,null,null,5,5,5,{"$nulls":4},{"$f":"_xlfn.TEXTJOIN(\"^\",,J258:J272)","v":"8^6^4^2^3^5^7^9"},null,5,null,null,null,5,5,5,null,{"$f":"$C264","v":5},null,null,null,{"$f":"_xlfn.TEXTJOIN(\"^\",,X258:X272)","v":"8^4^2^3^5^9"},null,5,0,null,null,0,null,null,0,0,null,null,null,{"$f":"_xlfn.TEXTJOIN(\"^\",,AN258:AN272)","v":"0^0^0"},null,5,5,null,null,{"$f":"$C264","v":5},5,5,5,5,null,null,null,{"$f":"_xlfn.TEXTJOIN(\"^\",,BB258:BB272)","v":"8^6^4^2^3^5^7^9"}]
[null,null,7,{"$f":"$C265","v":7},null,{"$f":"$C265","v":7},null,{"$f":"$C265","v":7},null,7,7,null,{"$f":"$C265","v":7},null,null,{"$f":"_xlfn.TEXTJOIN(\"^\",,K258:K272)","v":"6^4^2^1^3^5^7"},null,7,null,{"$f":"$C265","v":7},{"$f":"$C265","v":7},null,7,null,null,7,null,null,null,{"$f":"_xlfn.TEXTJOIN(\"^\",,Y258:Y272)","v":"101^102^103^104^105"},null,7,{"$nulls":11},{"$f":"_xlfn.TEXTJOIN(\"^\",,AO258:AO272)","v":""},null,7,null,{"$f":"$C265","v":7},null,7,7,null,7,7,null,null,null,{"$f":"_xlfn.TEXTJOIN(\"^\",,BC258:BC272)","v":""}]
[null,null,9,null,null,9,null,9,{"$f":"$C266","v":9},9,null,null,9,null,null,{"$f":"_xlfn.TEXTJOIN(\"^\",,L258:L272)","v":"101^102^103^104^105"},null,9,null,null,null,{"$f":"$C266","v":9},null,{"$f":"$C266","v":9},{"$nulls":7},9,{"$nulls":11},{"$f":"_xlfn.TEXTJOIN(\"^\",,AP258:AP272)","v":""},null,9,{"$nulls":5},{"$f":"$C266","v":9},null,9,null,null,null,{"$f":"_xlfn.TEXTJOIN(\"^\",,BD258:BD272)","v":""}]
[null,null,"空降",{"$nulls":12},{"$f":"_xlfn.TEXTJOIN(\"^\",,M258:M272)","v":"8^6^2^1^3^7^9"},null,"空降",{"$nulls":13},"空降",{"$nulls":11},{"$f":"_xlfn.TEXTJOIN(\"^\",,AQ258:AQ266)","v":""},null,"空降",{"$nulls":11},{"$f":"_xlfn.TEXTJOIN(\"^\",,BE258:BE266)","v":""}]
[null,null,101,null,null,null,{"$f":"$C268","v":101},{"$nulls":4},{"$f":"$C268","v":101},null,null,null,{"$f":"_xlfn.TEXTJOIN(\"^\",,N258:N272)","v":""},null,101,{"$f":"$C268","v":101},{"$nulls":5},{"$f":"$C268","v":101},{"$nulls":4},{"$f":"_xlfn.TEXTJOIN(\"^\",,Z258:Z272)","v":"6^4^1^5^7"},null,101,{"$nulls":13},101,null,null,{"$f":"$C268","v":101}]
[null,null,102,null,null,null,102,{"$nulls":4},{"$f":"$C269","v":102},{"$nulls":5},102,102,{"$nulls":5},102,{"$nulls":4},{"$f":"_xlfn.TEXTJOIN(\"^\",,AA258:AA272)","v":""},null,102,{"$nulls":13},102,null,null,102]
[null,null,103,{"$nulls":8},{"$f":"$C270","v":103},{"$nulls":5},103,{"$nulls":6},103,{"$nulls":4},{"$f":"_xlfn.TEXTJOIN(\"^\",,AB258:AB272)","v":""},null,103,{"$nulls":13},103]
[null,null,104,null,null,null,{"$f":"$C271","v":104},{"$nulls":4},{"$f":"$C271","v":104},{"$nulls":5},104,{"$f":"$C271","v":104},{"$nulls":5},104,{"$nulls":6},104,{"$nulls":13},104,null,null,{"$f":"$C271","v":104}]
[null,null,105,null,null,null,105,{"$nulls":4},105,{"$nulls":5},105,105,{"$nulls":5},105,{"$nulls":6},105,{"$nulls":13},105,null,null,105]
[{"$nulls":14},"最终",{"$f":"_xlfn.TEXTJOIN(\"^\",,P258:P272)","v":"6^2^1^3^7^4^2^3^5^8^6^2^3^7^9^101^102^104^105^8^6^2^1^3^7^9^8^4^2^1^3^5^9^8^6^4^2^3^5^7^9^6^4^2^1^3^5^7^101^102^103^104^105^8^6^2^1^3^7^9"},{"$nulls":12},"最终",{"$f":"_xlfn.TEXTJOIN(\"^\",,AD258:AD272)","v":"101^102^104^105^6^1^3^7^6^2^3^7^8^4^2^3^5^9^6^4^2^1^3^5^7^8^4^2^3^5^9^101^102^103^104^105^6^4^1^5^7"},{"$nulls":12},"最终",{"$f":"_xlfn.TEXTJOIN(\"^\",,AR257:AR272)","v":"0^0^0^0^0^100^0^0^0^0^0^0^100^0^0^0^0^0^0^0"},{"$nulls":12},"最终",{"$f":"_xlfn.TEXTJOIN(\"^\",,BF257:BF272)","v":"4^2^3^5^6^1^7^101^102^104^105^6^4^1^5^7^6^4^2^3^5^7^8^4^2^1^3^5^9^6^4^2^1^3^5^7^8^6^4^2^3^5^7^9"}]
[]
[null,null,"时间",5,10,16,20,30,40,50,60,65,75,{"$nulls":4},"时间",3,6,10,15,25,35,40,50,null,null,null,{"$f":"_xlfn.TEXTJOIN(\"^\",,S276:S284)","v":"3^3^3^3"},null,"时间",4,10,15,30,46,50,65,80,null,null,null,{"$f":"_xlfn.TEXTJOIN(\"^\",,AG276:AG284)","v":"17^5^3"},null,"时间",3,5,8,12,17,25,35,45,null,null,null,{"$f":"_xlfn.TEXTJOIN(\"^\",,AU276:AU284)","v":"3^3^3^3"}]
[null,null,8,null,null,{"$f":"F$275","v":16},null,{"$f":"H$275","v":30},{"$f":"I$275","v":40},{"$f":"J$275","v":50},null,null,{"$f":"M$275","v":75},null,null,{"$f":"_xlfn.TEXTJOIN(\"^\",,D276:D285)","v":"5^5^5^5^5"},null,8,null,null,null,{"$f":"V$275","v":15},null,{"$f":"X$275","v":35},{"$nulls":5},{"$f":"_xlfn.TEXTJOIN(\"^\",,T276:T284)","v":"6^6^6^6"},null,8,{"$nulls":11},{"$f":"_xlfn.TEXTJOIN(\"^\",,AH276:AH284)","v":"4^9"},null,8,{"$nulls":5},{"$f":"AZ$275","v":25},null,{"$f":"BB$275","v":45},null,null,null,{"$f":"_xlfn.TEXTJOIN(\"^\",,AV276:AV284)","v":"5^5^5"}]
[null,null,6,{"$f":"D$275","v":5},null,16,null,30,null,50,60,null,75,null,null,{"$f":"_xlfn.TEXTJOIN(\"^\",,E276:E285)","v":"10^10^10^10"},null,6,null,{"$f":"T$275","v":6},{"$f":"U$275","v":10},null,{"$f":"W$275","v":25},null,null,{"$f":"Z$275","v":50},null,null,null,{"$f":"_xlfn.TEXTJOIN(\"^\",,U276:U284)","v":"10^10^10^10"},null,6,{"$nulls":11},{"$f":"_xlfn.TEXTJOIN(\"^\",,AI276:AI284)","v":"8^4"},null,6,null,{"$f":"AV$275","v":5},null,{"$f":"AX$275","v":12},17,null,{"$f":"BA$275","v":35},45,null,null,null,{"$f":"_xlfn.TEXTJOIN(\"^\",,AW276:AW284)","v":"8^8^8^8"}]
[null,null,4,null,{"$f":"E$275","v":10},null,{"$f":"G$275","v":20},null,{"$f":"I$275","v":40},50,60,65,null,null,null,{"$f":"_xlfn.TEXTJOIN(\"^\",,F276:F285)","v":"16^16^16^16^16^16"},null,4,{"$f":"S$275","v":3},null,null,{"$f":"V$275","v":15},25,35,40,50,null,null,null,{"$f":"_xlfn.TEXTJOIN(\"^\",,V276:V284)","v":"15^15^15^15^15^15"},null,4,{"$nulls":11},{"$f":"_xlfn.TEXTJOIN(\"^\",,AJ276:AJ284)","v":"4^5^2"},null,4,{"$f":"AU$275","v":3},null,{"$f":"AW$275","v":8},12,17,25,35,45,null,null,null,{"$f":"_xlfn.TEXTJOIN(\"^\",,AX276:AX284)","v":"12^12^12^12^12"}]
[null,null,2,{"$f":"D$275","v":5},10,{"$f":"F$275","v":16},20,30,40,50,60,65,75,null,null,{"$f":"_xlfn.TEXTJOIN(\"^\",,G276:G285)","v":"20^20^20^20"},null,2,3,null,{"$f":"U$275","v":10},15,25,35,40,{"$nulls":4},{"$f":"_xlfn.TEXTJOIN(\"^\",,W276:W284)","v":"25^25^25^25^25^25^25"},null,2,{"$nulls":11},{"$f":"_xlfn.TEXTJOIN(\"^\",,AK276:AK284)","v":"2^12"},null,2,3,null,8,null,17,25,35,45,null,null,null,{"$f":"_xlfn.TEXTJOIN(\"^\",,AY276:AY284)","v":"17^17^17^17^17^17"}]
[null,null,1,5,null,null,null,30,40,null,60,65,75,null,null,{"$f":"_xlfn.TEXTJOIN(\"^\",,H276:H285)","v":"30^30^30^30^30^30^30"},null,1,null,{"$f":"T$275","v":6},null,null,25,null,40,{"$f":"Z$275","v":50},null,null,null,{"$f":"_xlfn.TEXTJOIN(\"^\",,X276:X284)","v":"35^35^35^35^35^35"},null,1,17,4,8,4,2,8,3,2,null,null,null,{"$f":"_xlfn.TEXTJOIN(\"^\",,AL276:AL284)","v":"8^3"},null,1,null,{"$f":"AV$275","v":5},null,{"$f":"AX$275","v":12},null,25,35,{"$nulls":4},{"$f":"_xlfn.TEXTJOIN(\"^\",,AZ276:AZ284)","v":"25^25^25^25^25^25^25"}]
[null,null,3,5,10,{"$f":"F$275","v":16},{"$f":"G$275","v":20},30,40,50,60,65,75,null,null,{"$f":"_xlfn.TEXTJOIN(\"^\",,I276:I285)","v":"40^40^40^40^40^40^40"},null,3,{"$f":"S$275","v":3},{"$f":"T$275","v":6},{"$f":"U$275","v":10},{"$f":"V$275","v":15},25,35,40,{"$nulls":4},{"$f":"_xlfn.TEXTJOIN(\"^\",,Y276:Y284)","v":"40^40^40^40^40"},null,3,5,9,4,5,12,3,6,12,null,null,null,{"$f":"_xlfn.TEXTJOIN(\"^\",,AM276:AM284)","v":"3^6^2"},null,3,{"$f":"AU$275","v":3},null,{"$f":"AW$275","v":8},null,{"$f":"AY$275","v":17},25,35,45,null,null,null,{"$f":"_xlfn.TEXTJOIN(\"^\",,BA276:BA284)","v":"35^35^35^35^35^35^35"}]
[null,null,5,null,10,null,20,null,40,50,60,65,null,null,null,{"$f":"_xlfn.TEXTJOIN(\"^\",,J276:J285)","v":"50^50^50^50^50^50^50^50"},null,5,3,null,null,15,25,35,40,50,null,null,null,{"$f":"_xlfn.TEXTJOIN(\"^\",,Z276:Z284)","v":"50^50^50^50^50"},null,5,3,null,null,2,null,null,2,2,null,null,null,{"$f":"_xlfn.TEXTJOIN(\"^\",,AN276:AN284)","v":"2^12^2"},null,5,3,null,8,12,17,25,35,45,null,null,null,{"$f":"_xlfn.TEXTJOIN(\"^\",,BB276:BB284)","v":"45^45^45^45^45^45^45^45"}]
[null,null,7,{"$f":"D$275","v":5},null,{"$f":"F$275","v":16},null,{"$f":"H$275","v":30},null,50,60,null,{"$f":"M$275","v":75},null,null,{"$f":"_xlfn.TEXTJOIN(\"^\",,K276:K285)","v":"60^60^60^60^60^60^60"},null,7,null,{"$f":"T$275","v":6},{"$f":"U$275","v":10},null,25,null,null,50,null,null,null,{"$f":"_xlfn.TEXTJOIN(\"^\",,AA276:AA284)","v":""},null,7,{"$nulls":11},{"$f":"_xlfn.TEXTJOIN(\"^\",,AO276:AO284)","v":""},null,7,null,{"$f":"AV$275","v":5},null,12,17,null,35,45,null,null,null,{"$f":"_xlfn.TEXTJOIN(\"^\",,BC276:BC284)","v":""}]
[null,null,9,null,null,16,null,30,{"$f":"I$275","v":40},50,null,null,75,null,null,{"$f":"_xlfn.TEXTJOIN(\"^\",,L276:L285)","v":"65^65^65^65^65"},null,9,null,null,null,{"$f":"V$275","v":15},null,{"$f":"X$275","v":35},{"$nulls":5},{"$f":"_xlfn.TEXTJOIN(\"^\",,AB276:AB284)","v":""},null,9,{"$nulls":11},{"$f":"_xlfn.TEXTJOIN(\"^\",,AP276:AP284)","v":""},null,9,{"$nulls":5},{"$f":"AZ$275","v":25},null,45,null,null,null,{"$f":"_xlfn.TEXTJOIN(\"^\",,BD276:BD284)","v":""}]
[{"$nulls":15},{"$f":"_xlfn.TEXTJOIN(\"^\",,M276:M285)","v":"75^75^75^75^75^75^75"},{"$nulls":13},{"$f":"_xlfn.TEXTJOIN(\"^\",,AC276:AC284)","v":""},{"$nulls":13},{"$f":"_xlfn.TEXTJOIN(\"^\",,AQ276:AQ284)","v":""},{"$nulls":13},{"$f":"_xlfn.TEXTJOIN(\"^\",,BE276:BE284)","v":""}]
[{"$nulls":15},{"$f":"_xlfn.TEXTJOIN(\"^\",,N276:N285)","v":""},{"$nulls":12},"最终",{"$f":"_xlfn.TEXTJOIN(\"^\",,AD275:AD285)","v":"3^3^3^3^6^6^6^6^10^10^10^10^15^15^15^15^15^15^25^25^25^25^25^25^25^35^35^35^35^35^35^40^40^40^40^40^50^50^50^50^50"},{"$nulls":12},"最终",{"$f":"_xlfn.TEXTJOIN(\"^\",,AR275:AR285)","v":"17^5^3^4^9^8^4^4^5^2^2^12^8^3^3^6^2^2^12^2"},{"$nulls":12},"最终",{"$f":"_xlfn.TEXTJOIN(\"^\",,BF275:BF285)","v":"3^3^3^3^5^5^5^8^8^8^8^12^12^12^12^12^17^17^17^17^17^17^25^25^25^25^25^25^25^35^35^35^35^35^35^35^45^45^45^45^45^45^45^45"}]
[{"$nulls":14},"最终",{"$f":"_xlfn.TEXTJOIN(\"^\",,P276:P286)","v":"5^5^5^5^5^10^10^10^10^16^16^16^16^16^16^20^20^20^20^30^30^30^30^30^30^30^40^40^40^40^40^40^40^50^50^50^50^50^50^50^50^60^60^60^60^60^60^60^65^65^65^65^65^75^75^75^75^75^75^75"}]
[{"$nulls":15},{"$f":"COUNT(D276:M284)","v":60},{"$nulls":13},{"$f":"COUNT(S276:Z284)","v":41},{"$nulls":13},{"$f":"SUM(AG276:AN284)","v":113},{"$nulls":13},{"$f":"COUNT(AU276:BB284)","v":44}]
[{"$nulls":57},{"$f":"SUM(P288:BF288)","v":258}]

{"sheet":"11","index":11,"n_rows":289,"n_cols":58,"rows_kept":289,"cut":false,"hidden":false,"merged":[]}
[{"$nulls":4},{"$f":"E2-D2","v":10},{"$f":"F2-E2","v":15},16,4,16,17,17,15,5,{"$nulls":6},{"$f":"T2-S2","v":3},4,5,10,10,10,10,{"$nulls":7},{"$f":"AH2-AG2","v":2},4,5,10,15,17,18,{"$nulls":7},{"$f":"AV2-AU2","v":2},2,2,2,5,10,10]
[3,"雪谷-1","波1·怪物",5,15,30,46,50,66,83,100,115,120,null,null,null,1,"波2·怪物",3,6,10,15,25,35,45,55,{"$nulls":4},3,"波3·怪物",4,6,10,15,25,40,57,75,{"$nulls":4},1,"波4·怪物",2,4,6,8,10,15,25,35]
[null,"5m",8,{"$nulls":12},{"$f":"_xlfn.TEXTJOIN(\"^\",,D3:D12)","v":"60511^60512"},null,8,{"$nulls":5},60514,null,60514,null,null,null,{"$f":"_xlfn.TEXTJOIN(\"^\",,S3:S12)","v":"60514^60512^60512^60514"},null,8,{"$nulls":11},{"$f":"_xlfn.TEXTJOIN(\"^\",,AG3:AG12)","v":"60515^60511"},null,8,{"$nulls":7},60512,null,null,null,{"$f":"_xlfn.TEXTJOIN(\"^\",,AU3:AU12)","v":"60513^60513"}]
[null,null,6,{"$nulls":12},{"$f":"_xlfn.TEXTJOIN(\"^\",,E3:E12)","v":"60512^60511"},null,6,null,null,60511,null,60512,60512,60512,60512,null,null,null,{"$f":"_xlfn.TEXTJOIN(\"^\",,T3:T12)","v":"60513^60513^60513"},null,6,{"$nulls":11},{"$f":"_xlfn.TEXTJOIN(\"^\",,AH3:AH12)","v":"60512^60511"},null,6,null,null,null,60511,null,60514,60512,60512,null,null,null,{"$f":"_xlfn.TEXTJOIN(\"^\",,AV3:AV12)","v":"60512^60512^60512"}]
[null,null,4,{"$nulls":12},{"$f":"_xlfn.TEXTJOIN(\"^\",,F3:F12)","v":"60513^60514^60512"},null,4,60514,60513,60511,60515,60511,60511,60511,60511,null,null,null,{"$f":"_xlfn.TEXTJOIN(\"^\",,U3:U12)","v":"60511^60511^60511^60511^60511"},null,4,{"$nulls":11},{"$f":"_xlfn.TEXTJOIN(\"^\",,AI3:AI12)","v":"60511^60514"},null,4,null,60512,null,60511,60515,60512,60512,60511,null,null,null,{"$f":"_xlfn.TEXTJOIN(\"^\",,AW3:AW12)","v":"60514^60514"}]
[null,null,2,{"$nulls":12},{"$f":"_xlfn.TEXTJOIN(\"^\",,G3:G12)","v":"60511^60512^60514"},null,2,60512,null,null,60515,60513,null,60513,60513,null,null,null,{"$f":"_xlfn.TEXTJOIN(\"^\",,V3:V12)","v":"60515^60515^60515^60515"},null,2,{"$nulls":11},{"$f":"_xlfn.TEXTJOIN(\"^\",,AJ3:AJ12)","v":"60513^60512^60511"},null,2,60513,null,60514,null,60515,60513,60511,60511,null,null,null,{"$f":"_xlfn.TEXTJOIN(\"^\",,AX3:AX12)","v":"60511^60511^60511^60511"}]
[null,null,1,60511,60512,60513,60511,60515,60513,60514,60513,60512,60515,null,null,{"$f":"_xlfn.TEXTJOIN(\"^\",,H3:H12)","v":"60515^60513"},null,1,null,60513,60511,null,null,60513,60514,{"$nulls":4},{"$f":"_xlfn.TEXTJOIN(\"^\",,W3:W12)","v":"60512^60511^60513^60513^60511^60512"},null,1,60515,60512,60511,60513,60511,60514,60511,60513,null,null,null,{"$f":"_xlfn.TEXTJOIN(\"^\",,AK3:AK12)","v":"60511^60512^60514"},null,1,null,60512,{"$nulls":4},60514,{"$nulls":4},{"$f":"_xlfn.TEXTJOIN(\"^\",,AY3:AY12)","v":"60515^60515^60515^60515"}]
[null,null,3,60512,60511,60514,60512,60513,60511,60511,60511,60511,60512,null,null,{"$f":"_xlfn.TEXTJOIN(\"^\",,I3:I12)","v":"60513^60511^60512"},null,3,60512,null,null,60515,60513,null,60513,60513,null,null,null,{"$f":"_xlfn.TEXTJOIN(\"^\",,X3:X12)","v":"60514^60512^60511^60513^60511^60512^60514"},null,3,60511,60511,60514,60512,60512,60513,60512,60511,null,null,null,{"$f":"_xlfn.TEXTJOIN(\"^\",,AL3:AL12)","v":"60514^60513^60511^60512"},null,3,60513,null,60514,null,60515,60513,60511,60511,null,null,null,{"$f":"_xlfn.TEXTJOIN(\"^\",,AZ3:AZ12)","v":"60514^60512^60513^60513^60512^60514"}]
[null,null,5,null,null,60512,60514,null,60512,60512,60512,{"$nulls":4},{"$f":"_xlfn.TEXTJOIN(\"^\",,J3:J12)","v":"60514^60511^60512"},null,5,60514,60513,60511,60515,60511,60511,60511,60511,null,null,null,{"$f":"_xlfn.TEXTJOIN(\"^\",,Y3:Y12)","v":"60512^60511^60513^60514^60513^60511^60512"},null,5,null,null,null,60511,60514,60511,null,60512,null,null,null,{"$f":"_xlfn.TEXTJOIN(\"^\",,AM3:AM12)","v":"60511^60512"},null,5,null,60512,null,60511,60515,60512,60512,60511,null,null,null,{"$f":"_xlfn.TEXTJOIN(\"^\",,BA3:BA12)","v":"60512^60512^60511^60514^60511^60512^60512"}]
[null,null,7,{"$nulls":7},60514,{"$nulls":4},{"$f":"_xlfn.TEXTJOIN(\"^\",,K3:K12)","v":"60513^60511^60512^60514"},null,7,null,null,60511,null,60512,60512,60512,60512,null,null,null,{"$f":"_xlfn.TEXTJOIN(\"^\",,Z3:Z12)","v":"60514^60512^60511^60513^60513^60511^60512^60514"},null,7,{"$nulls":5},60512,null,60514,null,null,null,{"$f":"_xlfn.TEXTJOIN(\"^\",,AN3:AN12)","v":"60513^60511^60512^60514"},null,7,null,null,null,60511,null,60514,60512,60512,null,null,null,{"$f":"_xlfn.TEXTJOIN(\"^\",,BB3:BB12)","v":"60512^60512^60511^60511^60511^60511^60512^60512"}]
[null,null,9,{"$nulls":12},{"$f":"_xlfn.TEXTJOIN(\"^\",,L3:L12)","v":"60512^60511"},null,9,{"$nulls":5},60514,null,60514,null,null,null,{"$f":"_xlfn.TEXTJOIN(\"^\",,AA3:AA12)","v":""},null,9,{"$nulls":11},{"$f":"_xlfn.TEXTJOIN(\"^\",,AO3:AO12)","v":""},null,9,{"$nulls":7},60512,null,null,null,{"$f":"_xlfn.TEXTJOIN(\"^\",,BC3:BC12)","v":""}]
[{"$nulls":15},{"$f":"_xlfn.TEXTJOIN(\"^\",,M3:M12)","v":"60515^60512"},{"$nulls":13},{"$f":"_xlfn.TEXTJOIN(\"^\",,AB3:AB12)","v":""},{"$nulls":13},{"$f":"_xlfn.TEXTJOIN(\"^\",,AP3:AP12)","v":""},{"$nulls":13},{"$f":"_xlfn.TEXTJOIN(\"^\",,BD3:BD12)","v":""}]
[{"$nulls":15},{"$f":"_xlfn.TEXTJOIN(\"^\",,N3:N12)","v":""},{"$nulls":13},{"$f":"_xlfn.TEXTJOIN(\"^\",,AC3:AC12)","v":""},{"$nulls":13},{"$f":"_xlfn.TEXTJOIN(\"^\",,AQ3:AQ12)","v":""},{"$nulls":13},{"$f":"_xlfn.TEXTJOIN(\"^\",,BE3:BE12)","v":""}]
[{"$nulls":14},"最终",{"$f":"_xlfn.TEXTJOIN(\"^\",,P3:P13)","v":"60511^60512^60512^60511^60513^60514^60512^60511^60512^60514^60515^60513^60513^60511^60512^60514^60511^60512^60513^60511^60512^60514^60512^60511^60515^60512"},{"$nulls":12},"最终",{"$f":"_xlfn.TEXTJOIN(\"^\",,AD3:AD13)","v":"60514^60512^60512^60514^60513^60513^60513^60511^60511^60511^60511^60511^60515^60515^60515^60515^60512^60511^60513^60513^60511^60512^60514^60512^60511^60513^60511^60512^60514^60512^60511^60513^60514^60513^60511^60512^60514^60512^60511^60513^60513^60511^60512^60514"},{"$nulls":12},"最终",{"$f":"_xlfn.TEXTJOIN(\"^\",,AR3:AR13)","v":"60515^60511^60512^60511^60511^60514^60513^60512^60511^60511^60512^60514^60514^60513^60511^60512^60511^60512^60513^60511^60512^60514"},{"$nulls":12},"最终",{"$f":"_xlfn.TEXTJOIN(\"^\",,BF3:BF13)","v":"60513^60513^60512^60512^60512^60514^60514^60511^60511^60511^60511^60515^60515^60515^60515^60514^60512^60513^60513^60512^60514^60512^60512^60511^60514^60511^60512^60512^60512^60512^60511^60511^60511^60511^60512^60512"}]
[null,null,8,{"$nulls":14},8,{"$nulls":5},"木精灵",null,"木精灵",{"$nulls":5},8,{"$nulls":13},8,{"$nulls":7},"独角兽"]
[null,null,6,{"$nulls":14},6,null,null,"雪怪",null,"独角兽","独角兽","独角兽","独角兽",{"$nulls":5},6,{"$nulls":13},6,null,null,null,"雪怪",null,"木精灵","独角兽","独角兽"]
[null,null,4,{"$nulls":14},4,"木精灵","雪原熊","雪怪","雪山蜘蛛","雪怪","雪怪","雪怪","雪怪",{"$nulls":5},4,{"$nulls":13},4,null,"独角兽",null,"雪怪","雪山蜘蛛","独角兽","独角兽","雪怪"]
[null,null,2,{"$nulls":14},2,"独角兽",null,null,"雪山蜘蛛","雪原熊",null,"雪原熊","雪原熊",{"$nulls":5},2,{"$nulls":13},2,"雪原熊",null,"木精灵",null,"雪山蜘蛛","雪原熊","雪怪","雪怪"]
[null,null,1,"雪怪","独角兽","雪原熊","雪怪","雪山蜘蛛","雪原熊","木精灵","雪原熊","独角兽","雪山蜘蛛",{"$nulls":4},1,null,"雪原熊","雪怪",null,null,"雪原熊","木精灵",{"$nulls":6},1,"雪山蜘蛛","独角兽","雪怪","雪原熊","雪怪","木精灵","雪怪","雪原熊",{"$nulls":5},1,null,"独角兽",{"$nulls":4},"木精灵"]
[null,null,3,"独角兽","雪怪","木精灵","独角兽","雪原熊","雪怪","雪怪","雪怪","雪怪","独角兽",{"$nulls":4},3,"独角兽",null,null,"雪山蜘蛛","雪原熊",null,"雪原熊","雪原熊",{"$nulls":5},3,"雪怪","雪怪","木精灵","独角兽","独角兽","雪原熊","独角兽","雪怪",{"$nulls":5},3,"雪原熊",null,"木精灵",null,"雪山蜘蛛","雪原熊","雪怪","雪怪"]
[null,null,5,null,null,"独角兽","木精灵",null,"独角兽","独角兽","独角兽",{"$nulls":6},5,"木精灵","雪原熊","雪怪","雪山蜘蛛","雪怪","雪怪","雪怪","雪怪",{"$nulls":5},5,null,null,null,"雪怪","木精灵","雪怪",null,"独角兽",{"$nulls":5},5,null,"独角兽",null,"雪怪","雪山蜘蛛","独角兽","独角兽","雪怪"]
[null,null,7,{"$nulls":7},"木精灵",{"$nulls":6},7,null,null,"雪怪",null,"独角兽","独角兽","独角兽","独角兽",{"$nulls":5},7,{"$nulls":5},"独角兽",null,"木精灵",{"$nulls":5},7,null,null,null,"雪怪",null,"木精灵","独角兽","独角兽"]
[null,null,9,{"$nulls":14},9,{"$nulls":5},"木精灵",null,"木精灵",{"$nulls":5},9,{"$nulls":13},9,{"$nulls":7},"独角兽"]
[]
[null,null,"位置",5,15,30,46,50,66,83,100,115,120,{"$nulls":4},"位置",3,6,10,15,25,35,45,55,{"$nulls":5},"位置",4,6,10,15,25,40,57,75,null,null,null,{"$f":"_xlfn.TEXTJOIN(\"^\",,AG26:AG40)","v":"100^0"},null,"位置",2,4,6,8,10,15,25,35,null,null,null,{"$f":"_xlfn.TEXTJOIN(\"^\",,AU26:AU40)","v":"2^3"}]
[null,null,8,{"$nulls":12},{"$f":"_xlfn.TEXTJOIN(\"^\",,D26:D40)","v":"0^0"},null,8,{"$nulls":5},{"$f":"$C26","v":8},null,{"$f":"$C26","v":8},{"$nulls":5},8,{"$nulls":11},{"$f":"_xlfn.TEXTJOIN(\"^\",,AH26:AH40)","v":"0^0"},null,8,{"$nulls":7},{"$f":"$C26","v":8},null,null,null,{"$f":"_xlfn.TEXTJOIN(\"^\",,AV26:AV40)","v":"4^1^5"}]
[null,null,6,{"$nulls":12},{"$f":"_xlfn.TEXTJOIN(\"^\",,E26:E40)","v":"0^0"},null,6,null,null,{"$f":"$C27","v":6},null,{"$f":"$C27","v":6},6,6,6,null,null,null,{"$f":"_xlfn.TEXTJOIN(\"^\",,S26:S40)","v":"4^2^3^5"},null,6,{"$nulls":11},{"$f":"_xlfn.TEXTJOIN(\"^\",,AI26:AI40)","v":"0^0"},null,6,null,null,null,{"$f":"$C27","v":6},null,{"$f":"$C27","v":6},6,6,null,null,null,{"$f":"_xlfn.TEXTJOIN(\"^\",,AW26:AW40)","v":"2^3"}]
[null,null,4,{"$nulls":12},{"$f":"_xlfn.TEXTJOIN(\"^\",,F26:F40)","v":"0^0^0"},null,4,{"$f":"$C28","v":4},{"$f":"$C28","v":4},4,null,4,4,4,4,null,null,null,{"$f":"_xlfn.TEXTJOIN(\"^\",,T26:T40)","v":"4^1^5"},null,4,{"$nulls":11},{"$f":"_xlfn.TEXTJOIN(\"^\",,AJ26:AJ40)","v":"0^0^0"},null,4,null,{"$f":"$C28","v":4},null,4,null,4,4,4,null,null,null,{"$f":"_xlfn.TEXTJOIN(\"^\",,AX26:AX40)","v":"6^4^5^7"}]
[null,null,2,{"$nulls":12},{"$f":"_xlfn.TEXTJOIN(\"^\",,G26:G40)","v":"0^0^0"},null,2,2,null,null,null,2,null,2,2,null,null,null,{"$f":"_xlfn.TEXTJOIN(\"^\",,U26:U40)","v":"6^4^1^5^7"},null,2,{"$nulls":11},{"$f":"_xlfn.TEXTJOIN(\"^\",,AK26:AK40)","v":"0^0^0"},null,2,{"$f":"$C29","v":2},null,{"$f":"$C29","v":2},null,null,2,2,2,null,null,null,{"$f":"_xlfn.TEXTJOIN(\"^\",,AY26:AY40)","v":"101^102^104^105"}]
[null,null,1,0,0,0,0,100,0,0,0,0,100,null,null,{"$f":"_xlfn.TEXTJOIN(\"^\",,H26:H40)","v":"100^0"},null,1,null,{"$f":"$C30","v":1},1,null,null,{"$f":"$C30","v":1},1,{"$nulls":4},{"$f":"_xlfn.TEXTJOIN(\"^\",,V26:V40)","v":"101^102^104^105"},null,1,100,0,0,0,0,0,0,0,null,null,null,{"$f":"_xlfn.TEXTJOIN(\"^\",,AL26:AL40)","v":"0^0^0^0"},null,1,null,{"$f":"$C30","v":1},{"$nulls":4},1,{"$nulls":4},{"$f":"_xlfn.TEXTJOIN(\"^\",,AZ26:AZ40)","v":"6^4^2^3^5^7"}]
[null,null,3,0,0,0,0,0,0,0,0,0,0,null,null,{"$f":"_xlfn.TEXTJOIN(\"^\",,I26:I40)","v":"0^0^0"},null,3,{"$f":"$C31","v":3},null,null,null,{"$f":"$C31","v":3},null,3,3,null,null,null,{"$f":"_xlfn.TEXTJOIN(\"^\",,W26:W40)","v":"6^4^2^3^5^7"},null,3,0,0,0,0,0,0,0,0,null,null,null,{"$f":"_xlfn.TEXTJOIN(\"^\",,AM26:AM40)","v":"0^0"},null,3,{"$f":"$C31","v":3},null,{"$f":"$C31","v":3},null,null,{"$f":"$C31","v":3},3,3,null,null,null,{"$f":"_xlfn.TEXTJOIN(\"^\",,BA26:BA40)","v":"6^4^2^1^3^5^7"}]
[null,null,5,null,null,0,0,null,0,0,0,{"$nulls":4},{"$f":"_xlfn.TEXTJOIN(\"^\",,J26:J40)","v":"0^0^0"},null,5,5,{"$f":"$C32","v":5},{"$f":"$C32","v":5},null,5,5,5,5,null,null,null,{"$f":"_xlfn.TEXTJOIN(\"^\",,X26:X40)","v":"8^6^4^1^5^7^9"},null,5,null,null,null,0,0,0,null,0,null,null,null,{"$f":"_xlfn.TEXTJOIN(\"^\",,AN26:AN40)","v":"0^0^0^0"},null,5,null,{"$f":"$C32","v":5},null,{"$f":"$C32","v":5},null,5,5,5,null,null,null,{"$f":"_xlfn.TEXTJOIN(\"^\",,BB26:BB40)","v":"8^6^4^2^3^5^7^9"}]
[null,null,7,{"$nulls":7},0,{"$nulls":4},{"$f":"_xlfn.TEXTJOIN(\"^\",,K26:K40)","v":"0^0^0^0"},null,7,null,null,7,null,7,7,7,7,null,null,null,{"$f":"_xlfn.TEXTJOIN(\"^\",,Y26:Y40)","v":"6^4^2^1^3^5^7"},null,7,{"$nulls":5},0,null,0,null,null,null,{"$f":"_xlfn.TEXTJOIN(\"^\",,AO26:AO40)","v":""},null,7,null,null,null,7,null,7,7,7,null,null,null,{"$f":"_xlfn.TEXTJOIN(\"^\",,BC26:BC40)","v":""}]
[null,null,9,{"$nulls":12},{"$f":"_xlfn.TEXTJOIN(\"^\",,L26:L40)","v":"0^0"},null,9,{"$nulls":5},9,null,9,{"$nulls":5},9,{"$nulls":11},{"$f":"_xlfn.TEXTJOIN(\"^\",,AP26:AP40)","v":""},null,9,{"$nulls":7},9,null,null,null,{"$f":"_xlfn.TEXTJOIN(\"^\",,BD26:BD40)","v":""}]
[null,null,"空降",{"$nulls":12},{"$f":"_xlfn.TEXTJOIN(\"^\",,M26:M40)","v":"100^0"},null,"空降",{"$nulls":13},"空降",{"$nulls":11},{"$f":"_xlfn.TEXTJOIN(\"^\",,AQ26:AQ34)","v":""},null,"空降",{"$nulls":11},{"$f":"_xlfn.TEXTJOIN(\"^\",,BE26:BE34)","v":""}]
[null,null,101,{"$nulls":12},{"$f":"_xlfn.TEXTJOIN(\"^\",,N26:N40)","v":""},null,101,null,null,null,{"$f":"$C36","v":101},{"$nulls":7},{"$f":"_xlfn.TEXTJOIN(\"^\",,Z26:Z40)","v":"8^6^4^2^3^5^7^9"},null,101,{"$nulls":13},101,{"$nulls":4},{"$f":"$C36","v":101}]
[null,null,102,{"$nulls":14},102,null,null,null,102,{"$nulls":7},{"$f":"_xlfn.TEXTJOIN(\"^\",,AA26:AA40)","v":""},null,102,{"$nulls":13},102,{"$nulls":4},102]
[null,null,103,{"$nulls":14},103,{"$nulls":11},{"$f":"_xlfn.TEXTJOIN(\"^\",,AB26:AB40)","v":""},null,103,{"$nulls":13},103]
[null,null,104,{"$nulls":14},104,null,null,null,{"$f":"$C39","v":104},{"$nulls":9},104,{"$nulls":13},104,{"$nulls":4},{"$f":"$C39","v":104}]
[null,null,105,{"$nulls":14},105,null,null,null,105,{"$nulls":9},105,{"$nulls":13},105,{"$nulls":4},105]
[{"$nulls":14},"最终",{"$f":"_xlfn.TEXTJOIN(\"^\",,P26:P40)","v":"0^0^0^0^0^0^0^0^0^0^100^0^0^0^0^0^0^0^0^0^0^0^0^0^100^0"},{"$nulls":12},"最终",{"$f":"_xlfn.TEXTJOIN(\"^\",,AD26:AD40)","v":"4^2^3^5^4^1^5^6^4^1^5^7^101^102^104^105^6^4^2^3^5^7^8^6^4^1^5^7^9^6^4^2^1^3^5^7^8^6^4^2^3^5^7^9"},{"$nulls":12},"最终",{"$f":"_xlfn.TEXTJOIN(\"^\",,AR25:AR40)","v":"100^0^0^0^0^0^0^0^0^0^0^0^0^0^0^0^0^0^0^0^0^0"},{"$nulls":12},"最终",{"$f":"_xlfn.TEXTJOIN(\"^\",,BF25:BF40)","v":"2^3^4^1^5^2^3^6^4^5^7^101^102^104^105^6^4^2^3^5^7^6^4^2^1^3^5^7^8^6^4^2^3^5^7^9"}]
[]
[null,null,"时间",5,15,30,46,50,66,83,100,115,120,{"$nulls":4},"时间",3,6,10,15,25,35,45,55,null,null,null,{"$f":"_xlfn.TEXTJOIN(\"^\",,S44:S52)","v":"3^3^3^3"},null,"时间",4,6,10,15,25,40,57,75,null,null,null,{"$f":"_xlfn.TEXTJOIN(\"^\",,AG44:AG52)","v":"12^12"},null,"时间",2,4,6,8,10,15,25,35,null,null,null,{"$f":"_xlfn.TEXTJOIN(\"^\",,AU44:AU52)","v":"2^2"}]
[null,null,8,{"$nulls":12},{"$f":"_xlfn.TEXTJOIN(\"^\",,D44:D53)","v":"9^2"},null,8,{"$nulls":5},{"$f":"X$43","v":35},null,{"$f":"Z$43","v":55},null,null,null,{"$f":"_xlfn.TEXTJOIN(\"^\",,T44:T52)","v":"6^6^6"},null,8,{"$nulls":11},{"$f":"_xlfn.TEXTJOIN(\"^\",,AH44:AH52)","v":"4^10"},null,8,{"$nulls":7},{"$f":"BB$43","v":35},null,null,null,{"$f":"_xlfn.TEXTJOIN(\"^\",,AV44:AV52)","v":"4^4^4"}]
[null,null,6,{"$nulls":12},{"$f":"_xlfn.TEXTJOIN(\"^\",,E44:E53)","v":"3^9"},null,6,null,null,{"$f":"U$43","v":10},null,{"$f":"W$43","v":25},35,45,55,null,null,null,{"$f":"_xlfn.TEXTJOIN(\"^\",,U44:U52)","v":"10^10^10^10^10"},null,6,{"$nulls":11},{"$f":"_xlfn.TEXTJOIN(\"^\",,AI44:AI52)","v":"12^3"},null,6,null,null,null,{"$f":"AX$43","v":8},null,{"$f":"AZ$43","v":15},25,35,null,null,null,{"$f":"_xlfn.TEXTJOIN(\"^\",,AW44:AW52)","v":"6^6"}]
[null,null,4,{"$nulls":12},{"$f":"_xlfn.TEXTJOIN(\"^\",,F44:F53)","v":"3^2^5"},null,4,{"$f":"S$43","v":3},6,10,15,25,35,45,55,null,null,null,{"$f":"_xlfn.TEXTJOIN(\"^\",,V44:V52)","v":"15^15^15^15"},null,4,{"$nulls":11},{"$f":"_xlfn.TEXTJOIN(\"^\",,AJ44:AJ52)","v":"2^3^9"},null,4,null,{"$f":"AV$43","v":4},null,8,10,15,25,35,null,null,null,{"$f":"_xlfn.TEXTJOIN(\"^\",,AX44:AX52)","v":"8^8^8^8"}]
[null,null,2,{"$nulls":12},{"$f":"_xlfn.TEXTJOIN(\"^\",,G44:G53)","v":"8^3^2"},null,2,3,null,null,15,25,null,45,55,null,null,null,{"$f":"_xlfn.TEXTJOIN(\"^\",,W44:W52)","v":"25^25^25^25^25^25"},null,2,{"$nulls":11},{"$f":"_xlfn.TEXTJOIN(\"^\",,AK44:AK52)","v":"10^3^2"},null,2,{"$f":"AU$43","v":2},null,{"$f":"AW$43","v":6},null,10,15,25,35,null,null,null,{"$f":"_xlfn.TEXTJOIN(\"^\",,AY44:AY52)","v":"10^10^10^10"}]
[null,null,1,9,3,3,8,8,2,2,2,3,8,null,null,{"$f":"_xlfn.TEXTJOIN(\"^\",,H44:H53)","v":"8^3"},null,1,null,{"$f":"T$43","v":6},10,null,null,{"$f":"X$43","v":35},45,{"$nulls":4},{"$f":"_xlfn.TEXTJOIN(\"^\",,X44:X52)","v":"35^35^35^35^35^35^35"},null,1,12,4,12,2,10,2,10,2,null,null,null,{"$f":"_xlfn.TEXTJOIN(\"^\",,AL44:AL52)","v":"2^2^8^3"},null,1,null,{"$f":"AV$43","v":4},{"$nulls":4},25,{"$nulls":4},{"$f":"_xlfn.TEXTJOIN(\"^\",,AZ44:AZ52)","v":"15^15^15^15^15^15"}]
[null,null,3,2,9,2,3,3,8,9,8,12,4,null,null,{"$f":"_xlfn.TEXTJOIN(\"^\",,I44:I53)","v":"2^8^3"},null,3,{"$f":"S$43","v":3},null,null,{"$f":"V$43","v":15},25,null,45,55,null,null,null,{"$f":"_xlfn.TEXTJOIN(\"^\",,Y44:Y52)","v":"45^45^45^45^45^45^45"},null,3,12,10,3,3,3,2,4,8,null,null,null,{"$f":"_xlfn.TEXTJOIN(\"^\",,AM44:AM52)","v":"10^4"},null,3,{"$f":"AU$43","v":2},null,{"$f":"AW$43","v":6},null,{"$f":"AY$43","v":10},15,25,35,null,null,null,{"$f":"_xlfn.TEXTJOIN(\"^\",,BA44:BA52)","v":"25^25^25^25^25^25^25"}]
[null,null,5,null,null,5,2,null,3,3,2,{"$nulls":4},{"$f":"_xlfn.TEXTJOIN(\"^\",,J44:J53)","v":"2^9^3"},null,5,3,6,10,15,25,35,45,55,null,null,null,{"$f":"_xlfn.TEXTJOIN(\"^\",,Z44:Z52)","v":"55^55^55^55^55^55^55^55"},null,5,null,null,null,9,2,8,null,4,null,null,null,{"$f":"_xlfn.TEXTJOIN(\"^\",,AN44:AN52)","v":"2^8^4^2"},null,5,null,{"$f":"AV$43","v":4},null,{"$f":"AX$43","v":8},10,15,25,35,null,null,null,{"$f":"_xlfn.TEXTJOIN(\"^\",,BB44:BB52)","v":"35^35^35^35^35^35^35^35"}]
[null,null,7,{"$nulls":7},2,{"$nulls":4},{"$f":"_xlfn.TEXTJOIN(\"^\",,K44:K53)","v":"2^8^2^2"},null,7,null,null,10,null,25,35,45,55,null,null,null,{"$f":"_xlfn.TEXTJOIN(\"^\",,AA44:AA52)","v":""},null,7,{"$nulls":5},3,null,2,null,null,null,{"$f":"_xlfn.TEXTJOIN(\"^\",,AO44:AO52)","v":""},null,7,null,null,null,8,null,15,25,35,null,null,null,{"$f":"_xlfn.TEXTJOIN(\"^\",,BC44:BC52)","v":""}]
[null,null,9,{"$nulls":12},{"$f":"_xlfn.TEXTJOIN(\"^\",,L44:L53)","v":"3^12"},null,9,{"$nulls":5},35,null,55,null,null,null,{"$f":"_xlfn.TEXTJOIN(\"^\",,AB44:AB52)","v":""},null,9,{"$nulls":11},{"$f":"_xlfn.TEXTJOIN(\"^\",,AP44:AP52)","v":""},null,9,{"$nulls":7},35,null,null,null,{"$f":"_xlfn.TEXTJOIN(\"^\",,BD44:BD52)","v":""}]
[{"$nulls":15},{"$f":"_xlfn.TEXTJOIN(\"^\",,M44:M53)","v":"8^4"},{"$nulls":13},{"$f":"_xlfn.TEXTJOIN(\"^\",,AC44:AC52)","v":""},{"$nulls":13},{"$f":"_xlfn.TEXTJOIN(\"^\",,AQ44:AQ52)","v":""},{"$nulls":13},{"$f":"_xlfn.TEXTJOIN(\"^\",,BE44:BE52)","v":""}]
[{"$nulls":15},{"$f":"_xlfn.TEXTJOIN(\"^\",,N44:N53)","v":""},{"$nulls":12},"最终",{"$f":"_xlfn.TEXTJOIN(\"^\",,AD43:AD53)","v":"3^3^3^3^6^6^6^10^10^10^10^10^15^15^15^15^25^25^25^25^25^25^35^35^35^35^35^35^35^45^45^45^45^45^45^45^55^55^55^55^55^55^55^55"},{"$nulls":12},"最终",{"$f":"_xlfn.TEXTJOIN(\"^\",,AR43:AR53)","v":"12^12^4^10^12^3^2^3^9^10^3^2^2^2^8^3^10^4^2^8^4^2"},{"$nulls":12},"最终",{"$f":"_xlfn.TEXTJOIN(\"^\",,BF43:BF53)","v":"2^2^4^4^4^6^6^8^8^8^8^10^10^10^10^15^15^15^15^15^15^25^25^25^25^25^25^25^35^35^35^35^35^35^35^35"}]
[{"$nulls":14},"最终",{"$f":"_xlfn.TEXTJOIN(\"^\",,P44:P54)","v":"9^2^3^9^3^2^5^8^3^2^8^3^2^8^3^2^9^3^2^8^2^2^3^12^8^4"}]
[{"$nulls":15},{"$f":"SUM(D44:M52)","v":125},{"$nulls":13},{"$f":"COUNT(S44:Z52)","v":44},{"$nulls":13},{"$f":"SUM(AG44:AN52)","v":127},{"$nulls":13},{"$f":"COUNT(AU44:BB52)","v":36}]
[{"$nulls":57},{"$f":"SUM(P56:BF56)","v":332}]
[]
[{"$nulls":4},{"$f":"E60-D60","v":5},{"$f":"F60-E60","v":7},3,10,10,10,5,10,10,{"$nulls":6},{"$f":"T60-S60","v":5},5,5,10,15,15,10,{"$nulls":7},{"$f":"AH60-AG60","v":2},4,5,7,8,10,10,{"$nulls":7},{"$f":"AV60-AU60","v":2},2,2,2,6,9,10]
[1,"雪谷-2","波1·怪物",5,10,17,20,30,40,50,55,65,75,null,null,null,3,"波2·怪物",5,10,15,20,30,45,60,70,{"$nulls":4},1,"波3·怪物",4,6,10,15,22,30,40,50,{"$nulls":4},1,"波4·怪物",2,4,6,8,10,16,25,35]
[null,"5m",8,{"$nulls":5},60524,null,null,null,60524,null,null,{"$f":"_xlfn.TEXTJOIN(\"^\",,D61:D70)","v":"60524^60522^60522^60522^60524"},null,8,{"$nulls":11},{"$f":"_xlfn.TEXTJOIN(\"^\",,S61:S70)","v":"60525^60522^60523"},null,8,null,60524,{"$nulls":5},60524,null,null,null,{"$f":"_xlfn.TEXTJOIN(\"^\",,AG61:AG70)","v":"60523^60523^60523"},null,8,{"$nulls":7},60522,null,null,null,{"$f":"_xlfn.TEXTJOIN(\"^\",,AU61:AU70)","v":"60521^60521^60521^60521"}]
[null,null,6,null,60521,60524,null,60522,60522,60522,null,60522,60522,null,null,{"$f":"_xlfn.TEXTJOIN(\"^\",,E61:E70)","v":"60521^60521^60521^60521^60521"},null,6,{"$nulls":11},{"$f":"_xlfn.TEXTJOIN(\"^\",,T61:T70)","v":"60522^60521"},null,6,null,60522,60521,null,60524,60523,60522,60522,null,null,null,{"$f":"_xlfn.TEXTJOIN(\"^\",,AH61:AH70)","v":"60524^60522^60522^60524"},null,6,{"$nulls":5},60524,60522,60522,null,null,null,{"$f":"_xlfn.TEXTJOIN(\"^\",,AV61:AV70)","v":"60522^60522^60522"}]
[null,null,4,60524,60521,60522,60525,60521,60521,60522,60525,60521,60521,null,null,{"$f":"_xlfn.TEXTJOIN(\"^\",,F61:F70)","v":"60524^60522^60523^60523^60522^60524"},null,4,{"$nulls":11},{"$f":"_xlfn.TEXTJOIN(\"^\",,U61:U70)","v":"60523^60521"},null,4,60523,null,60521,60525,60522,null,60522,60521,null,null,null,{"$f":"_xlfn.TEXTJOIN(\"^\",,AI61:AI70)","v":"60521^60521^60521^60521"},null,4,60521,60522,null,60525,60523,60521,60522,60521,null,null,null,{"$f":"_xlfn.TEXTJOIN(\"^\",,AW61:AW70)","v":"60524^60524"}]
[null,null,2,60522,null,60523,60525,60521,60523,60521,60525,60521,60523,null,null,{"$f":"_xlfn.TEXTJOIN(\"^\",,G61:G70)","v":"60525^60525^60525^60525^60525"},null,2,{"$nulls":11},{"$f":"_xlfn.TEXTJOIN(\"^\",,V61:V70)","v":"60522^60521^60524"},null,2,null,null,null,60525,60521,60523,60521,60523,null,null,null,{"$f":"_xlfn.TEXTJOIN(\"^\",,AJ61:AJ70)","v":"60525^60525^60525^60525"},null,2,60521,null,60524,60525,null,60521,null,60523,null,null,null,{"$f":"_xlfn.TEXTJOIN(\"^\",,AX61:AX70)","v":"60525^60525^60525^60525"}]
[null,null,1,60522,60521,null,60525,60522,null,60521,60525,60524,null,null,null,{"$f":"_xlfn.TEXTJOIN(\"^\",,H61:H70)","v":"60522^60521^60521^60522^60521^60521^60522"},null,1,60525,60522,60523,60522,60521,60523,60524,60525,null,null,null,{"$f":"_xlfn.TEXTJOIN(\"^\",,W61:W70)","v":"60521^60522"},null,1,60523,null,null,null,60522,60524,60521,{"$nulls":4},{"$f":"_xlfn.TEXTJOIN(\"^\",,AK61:AK70)","v":"60524^60522^60521^60522^60521^60522^60524"},null,1,null,60522,null,null,60523,null,60522,{"$nulls":4},{"$f":"_xlfn.TEXTJOIN(\"^\",,AY61:AY70)","v":"60523^60523^60523"}]
[null,null,3,60522,null,60523,60525,60521,60523,60521,60525,60521,60523,null,null,{"$f":"_xlfn.TEXTJOIN(\"^\",,I61:I70)","v":"60524^60522^60521^60523^60523^60521^60522^60524"},null,3,60522,60521,60521,60521,60522,60521,60522,60522,null,null,null,{"$f":"_xlfn.TEXTJOIN(\"^\",,X61:X70)","v":"60523^60521^60522^60524"},null,3,null,null,null,60525,60521,60523,60521,60523,null,null,null,{"$f":"_xlfn.TEXTJOIN(\"^\",,AL61:AL70)","v":"60523^60523^60524^60523^60523"},null,3,60521,null,60524,60525,null,60521,null,60523,null,null,null,{"$f":"_xlfn.TEXTJOIN(\"^\",,AZ61:AZ70)","v":"60524^60521^60521^60521^60521^60524"}]
[null,null,5,60524,60521,60522,60525,60521,60521,60522,60525,60521,60521,null,null,{"$f":"_xlfn.TEXTJOIN(\"^\",,J61:J70)","v":"60522^60522^60521^60521^60521^60522^60522"},null,5,60523,null,null,60524,null,60522,60521,{"$nulls":4},{"$f":"_xlfn.TEXTJOIN(\"^\",,Y61:Y70)","v":"60524^60522^60521"},null,5,60523,null,60521,60525,60522,null,60522,60521,null,null,null,{"$f":"_xlfn.TEXTJOIN(\"^\",,AM61:AM70)","v":"60522^60522^60521^60521^60521^60522^60522"},null,5,60521,60522,null,60525,60523,60521,60522,60521,null,null,null,{"$f":"_xlfn.TEXTJOIN(\"^\",,BA61:BA70)","v":"60522^60522^60522^60522^60522"}]
[null,null,7,null,60521,60524,null,60522,60522,60522,null,60522,60522,null,null,{"$f":"_xlfn.TEXTJOIN(\"^\",,K61:K70)","v":"60525^60525^60525^60525^60525"},null,7,{"$nulls":5},60524,{"$nulls":5},{"$f":"_xlfn.TEXTJOIN(\"^\",,Z61:Z70)","v":"60525^60522"},null,7,null,60522,60521,null,60524,60523,60522,60522,null,null,null,{"$f":"_xlfn.TEXTJOIN(\"^\",,AN61:AN70)","v":"60524^60522^60521^60523^60523^60521^60522^60524"},null,7,{"$nulls":5},60524,60522,60522,null,null,null,{"$f":"_xlfn.TEXTJOIN(\"^\",,BB61:BB70)","v":"60522^60522^60521^60523^60523^60521^60522^60522"}]
[null,null,9,{"$nulls":5},60524,null,null,null,60524,null,null,{"$f":"_xlfn.TEXTJOIN(\"^\",,L61:L70)","v":"60522^60521^60521^60524^60521^60521^60522"},null,9,{"$nulls":11},{"$f":"_xlfn.TEXTJOIN(\"^\",,AA61:AA70)","v":""},null,9,null,60524,{"$nulls":5},60524,null,null,null,{"$f":"_xlfn.TEXTJOIN(\"^\",,AO61:AO70)","v":""},null,9,{"$nulls":7},60522,null,null,null,{"$f":"_xlfn.TEXTJOIN(\"^\",,BC61:BC70)","v":""}]
[{"$nulls":15},{"$f":"_xlfn.TEXTJOIN(\"^\",,M61:M70)","v":"60524^60522^60521^60523^60523^60521^60522^60524"},{"$nulls":13},{"$f":"_xlfn.TEXTJOIN(\"^\",,AB61:AB70)","v":""},{"$nulls":13},{"$f":"_xlfn.TEXTJOIN(\"^\",,AP61:AP70)","v":""},{"$nulls":13},{"$f":"_xlfn.TEXTJOIN(\"^\",,BD61:BD70)","v":""}]
[{"$nulls":15},{"$f":"_xlfn.TEXTJOIN(\"^\",,N61:N70)","v":""},{"$nulls":13},{"$f":"_xlfn.TEXTJOIN(\"^\",,AC61:AC70)","v":""},{"$nulls":13},{"$f":"_xlfn.TEXTJOIN(\"^\",,AQ61:AQ70)","v":""},{"$nulls":13},{"$f":"_xlfn.TEXTJOIN(\"^\",,BE61:BE70)","v":""}]
[{"$nulls":14},"最终",{"$f":"_xlfn.TEXTJOIN(\"^\",,P61:P71)","v":"60524^60522^60522^60522^60524^60521^60521^60521^60521^60521^60524^60522^60523^60523^60522^60524^60525^60525^60525^60525^60525^60522^60521^60521^60522^60521^60521^60522^60524^60522^60521^60523^60523^60521^60522^60524^60522^60522^60521^60521^60521^60522^60522^60525^60525^60525^60525^60525^60522^60521^60521^60524^60521^60521^60522^60524^60522^60521^60523^60523^60521^60522^60524"},{"$nulls":12},"最终",{"$f":"_xlfn.TEXTJOIN(\"^\",,AD61:AD71)","v":"60525^60522^60523^60522^60521^60523^60521^60522^60521^60524^60521^60522^60523^60521^60522^60524^60524^60522^60521^60525^60522"},{"$nulls":12},"最终",{"$f":"_xlfn.TEXTJOIN(\"^\",,AR61:AR71)","v":"60523^60523^60523^60524^60522^60522^60524^60521^60521^60521^60521^60525^60525^60525^60525^60524^60522^60521^60522^60521^60522^60524^60523^60523^60524^60523^60523^60522^60522^60521^60521^60521^60522^60522^60524^60522^60521^60523^60523^60521^60522^60524"},{"$nulls":12},"最终",{"$f":"_xlfn.TEXTJOIN(\"^\",,BF61:BF71)","v":"60521^60521^60521^60521^60522^60522^60522^60524^60524^60525^60525^60525^60525^60523^60523^60523^60524^60521^60521^60521^60521^60524^60522^60522^60522^60522^60522^60522^60522^60521^60523^60523^60521^60522^60522"}]
[null,null,8,{"$nulls":5},"木精灵",null,null,null,"木精灵",{"$nulls":4},8,{"$nulls":13},8,null,"木精灵",{"$nulls":5},"木精灵",{"$nulls":5},8,{"$nulls":7},"独角兽"]
[null,null,6,null,"雪怪","木精灵",null,"独角兽","独角兽","独角兽",null,"独角兽","独角兽",{"$nulls":4},6,{"$nulls":13},6,null,"独角兽","雪怪",null,"木精灵","雪原熊","独角兽","独角兽",{"$nulls":5},6,{"$nulls":5},"木精灵","独角兽","独角兽"]
[null,null,4,"木精灵","雪怪","独角兽","雪山蜘蛛","雪怪","雪怪","独角兽","雪山蜘蛛","雪怪","雪怪",{"$nulls":4},4,{"$nulls":13},4,"雪原熊",null,"雪怪","雪山蜘蛛","独角兽",null,"独角兽","雪怪",{"$nulls":5},4,"雪怪","独角兽",null,"雪山蜘蛛","雪原熊","雪怪","独角兽","雪怪"]
[null,null,2,"独角兽",null,"雪原熊","雪山蜘蛛","雪怪","雪原熊","雪怪","雪山蜘蛛","雪怪","雪原熊",{"$nulls":4},2,{"$nulls":13},2,null,null,null,"雪山蜘蛛","雪怪","雪原熊","雪怪","雪原熊",{"$nulls":5},2,"雪怪",null,"木精灵","雪山蜘蛛",null,"雪怪",null,"雪原熊"]
[null,null,1,"独角兽","雪怪",null,"雪山蜘蛛","独角兽",null,"雪怪","雪山蜘蛛","木精灵",{"$nulls":5},1,"雪山蜘蛛","独角兽","雪原熊","独角兽","雪怪","雪原熊","木精灵","雪山蜘蛛",{"$nulls":5},1,"雪原熊",null,null,null,"独角兽","木精灵","雪怪",{"$nulls":6},1,null,"独角兽",null,null,"雪原熊",null,"独角兽"]
[null,null,3,"独角兽",null,"雪原熊","雪山蜘蛛","雪怪","雪原熊","雪怪","雪山蜘蛛","雪怪","雪原熊",{"$nulls":4},3,"独角兽","雪怪","雪怪","雪怪","独角兽","雪怪","独角兽","独角兽",{"$nulls":5},3,null,null,null,"雪山蜘蛛","雪怪","雪原熊","雪怪","雪原熊",{"$nulls":5},3,"雪怪",null,"木精灵","雪山蜘蛛",null,"雪怪",null,"雪原熊"]
[null,null,5,"木精灵","雪怪","独角兽","雪山蜘蛛","雪怪","雪怪","独角兽","雪山蜘蛛","雪怪","雪怪",{"$nulls":4},5,"雪原熊",null,null,"木精灵",null,"独角兽","雪怪",{"$nulls":6},5,"雪原熊",null,"雪怪","雪山蜘蛛","独角兽",null,"独角兽","雪怪",{"$nulls":5},5,"雪怪","独角兽",null,"雪山蜘蛛","雪原熊","雪怪","独角兽","雪怪"]
[null,null,7,null,"雪怪","木精灵",null,"独角兽","独角兽","独角兽",null,"独角兽","独角兽",{"$nulls":4},7,{"$nulls":5},"木精灵",{"$nulls":7},7,null,"独角兽","雪怪",null,"木精灵","雪原熊","独角兽","独角兽",{"$nulls":5},7,{"$nulls":5},"木精灵","独角兽","独角兽"]
[null,null,9,{"$nulls":5},"木精灵",null,null,null,"木精灵",{"$nulls":4},9,{"$nulls":13},9,null,"木精灵",{"$nulls":5},"木精灵",{"$nulls":5},9,{"$nulls":7},"独角兽"]
[]
[null,null,"位置",5,10,17,20,30,40,50,55,65,75,{"$nulls":4},"位置",5,10,15,20,30,45,60,70,{"$nulls":5},"位置",4,6,10,15,22,30,40,50,null,null,null,{"$f":"_xlfn.TEXTJOIN(\"^\",,AG84:AG98)","v":"4^1^5"},null,"位置",2,4,6,8,10,16,25,35,null,null,null,{"$f":"_xlfn.TEXTJOIN(\"^\",,AU84:AU98)","v":"4^2^3^5"}]
[null,null,8,{"$nulls":5},{"$f":"$C84","v":8},null,null,null,{"$f":"$C84","v":8},null,null,{"$f":"_xlfn.TEXTJOIN(\"^\",,D84:D98)","v":"4^2^1^3^5"},null,8,{"$nulls":13},8,null,{"$f":"$C84","v":8},{"$nulls":5},{"$f":"$C84","v":8},null,null,null,{"$f":"_xlfn.TEXTJOIN(\"^\",,AH84:AH98)","v":"8^6^7^9"},null,8,{"$nulls":7},{"$f":"$C84","v":8},null,null,null,{"$f":"_xlfn.TEXTJOIN(\"^\",,AV84:AV98)","v":"4^1^5"}]
[null,null,6,null,{"$f":"$C85","v":6},6,null,{"$f":"$C85","v":6},6,6,null,{"$f":"$C85","v":6},6,null,null,{"$f":"_xlfn.TEXTJOIN(\"^\",,E84:E98)","v":"6^4^1^5^7"},null,6,{"$nulls":11},{"$f":"_xlfn.TEXTJOIN(\"^\",,S84:S98)","v":"100^0^0"},null,6,null,6,6,null,{"$f":"$C85","v":6},{"$f":"$C85","v":6},{"$f":"$C85","v":6},6,null,null,null,{"$f":"_xlfn.TEXTJOIN(\"^\",,AI84:AI98)","v":"6^4^5^7"},null,6,{"$nulls":5},{"$f":"$C85","v":6},6,6,null,null,null,{"$f":"_xlfn.TEXTJOIN(\"^\",,AW84:AW98)","v":"2^3"}]
[null,null,4,{"$f":"$C86","v":4},4,4,null,4,4,4,null,4,4,null,null,{"$f":"_xlfn.TEXTJOIN(\"^\",,F84:F98)","v":"6^4^2^3^5^7"},null,4,{"$nulls":11},{"$f":"_xlfn.TEXTJOIN(\"^\",,T84:T98)","v":"0^0"},null,4,{"$f":"$C86","v":4},null,4,null,4,null,4,4,null,null,null,{"$f":"_xlfn.TEXTJOIN(\"^\",,AJ84:AJ98)","v":"101^102^104^105"},null,4,{"$f":"$C86","v":4},{"$f":"$C86","v":4},null,null,{"$f":"$C86","v":4},4,4,4,null,null,null,{"$f":"_xlfn.TEXTJOIN(\"^\",,AX84:AX98)","v":"101^102^104^105"}]
[null,null,2,{"$f":"$C87","v":2},null,2,null,2,2,2,null,2,2,null,null,{"$f":"_xlfn.TEXTJOIN(\"^\",,G84:G98)","v":"101^102^103^104^105"},null,2,{"$nulls":11},{"$f":"_xlfn.TEXTJOIN(\"^\",,U84:U98)","v":"0^0"},null,2,{"$nulls":4},2,2,2,2,null,null,null,{"$f":"_xlfn.TEXTJOIN(\"^\",,AK84:AK98)","v":"6^4^2^1^3^5^7"},null,2,2,null,{"$f":"$C87","v":2},null,null,2,null,2,null,null,null,{"$f":"_xlfn.TEXTJOIN(\"^\",,AY84:AY98)","v":"4^1^5"}]
[null,null,1,{"$f":"$C88","v":1},{"$f":"$C88","v":1},null,null,1,null,1,null,1,null,null,null,{"$f":"_xlfn.TEXTJOIN(\"^\",,H84:H98)","v":"6^4^2^1^3^5^7"},null,1,100,0,0,0,0,0,0,100,null,null,null,{"$f":"_xlfn.TEXTJOIN(\"^\",,V84:V98)","v":"0^0^0"},null,1,{"$f":"$C88","v":1},null,null,null,1,1,1,{"$nulls":4},{"$f":"_xlfn.TEXTJOIN(\"^\",,AL84:AL98)","v":"6^2^1^3^7"},null,1,null,{"$f":"$C88","v":1},null,null,{"$f":"$C88","v":1},null,{"$f":"$C88","v":1},{"$nulls":4},{"$f":"_xlfn.TEXTJOIN(\"^\",,AZ84:AZ98)","v":"6^4^2^3^5^7"}]
[null,null,3,{"$f":"$C89","v":3},null,{"$f":"$C89","v":3},null,3,3,3,null,3,3,null,null,{"$f":"_xlfn.TEXTJOIN(\"^\",,I84:I98)","v":"8^6^4^2^3^5^7^9"},null,3,0,0,0,0,0,0,0,0,null,null,null,{"$f":"_xlfn.TEXTJOIN(\"^\",,W84:W98)","v":"0^0"},null,3,{"$nulls":4},3,3,3,3,null,null,null,{"$f":"_xlfn.TEXTJOIN(\"^\",,AM84:AM98)","v":"6^4^2^1^3^5^7"},null,3,{"$f":"$C89","v":3},null,{"$f":"$C89","v":3},null,null,{"$f":"$C89","v":3},null,{"$f":"$C89","v":3},null,null,null,{"$f":"_xlfn.TEXTJOIN(\"^\",,BA84:BA98)","v":"6^4^1^5^7"}]
[null,null,5,5,5,5,null,5,5,5,null,5,5,null,null,{"$f":"_xlfn.TEXTJOIN(\"^\",,J84:J98)","v":"6^4^2^1^3^5^7"},null,5,0,null,null,0,null,0,0,{"$nulls":4},{"$f":"_xlfn.TEXTJOIN(\"^\",,X84:X98)","v":"0^0^0^0"},null,5,{"$f":"$C90","v":5},null,{"$f":"$C90","v":5},null,5,null,5,5,null,null,null,{"$f":"_xlfn.TEXTJOIN(\"^\",,AN84:AN98)","v":"8^6^4^2^3^5^7^9"},null,5,5,{"$f":"$C90","v":5},null,null,{"$f":"$C90","v":5},5,5,5,null,null,null,{"$f":"_xlfn.TEXTJOIN(\"^\",,BB84:BB98)","v":"8^6^4^2^3^5^7^9"}]
[null,null,7,null,7,7,null,7,7,7,null,7,7,null,null,{"$f":"_xlfn.TEXTJOIN(\"^\",,K84:K98)","v":"101^102^103^104^105"},null,7,{"$nulls":5},0,{"$nulls":5},{"$f":"_xlfn.TEXTJOIN(\"^\",,Y84:Y98)","v":"0^0^0"},null,7,null,{"$f":"$C91","v":7},7,null,7,{"$f":"$C91","v":7},7,7,null,null,null,{"$f":"_xlfn.TEXTJOIN(\"^\",,AO84:AO98)","v":""},null,7,{"$nulls":5},7,7,7,null,null,null,{"$f":"_xlfn.TEXTJOIN(\"^\",,BC84:BC98)","v":""}]
[null,null,9,{"$nulls":5},9,null,null,null,9,null,null,{"$f":"_xlfn.TEXTJOIN(\"^\",,L84:L98)","v":"6^4^2^1^3^5^7"},null,9,{"$nulls":13},9,null,9,{"$nulls":5},9,null,null,null,{"$f":"_xlfn.TEXTJOIN(\"^\",,AP84:AP98)","v":""},null,9,{"$nulls":7},9,null,null,null,{"$f":"_xlfn.TEXTJOIN(\"^\",,BD84:BD98)","v":""}]
[null,null,"空降",{"$nulls":12},{"$f":"_xlfn.TEXTJOIN(\"^\",,M84:M98)","v":"8^6^4^2^3^5^7^9"},null,"空降",{"$nulls":13},"空降",{"$nulls":11},{"$f":"_xlfn.TEXTJOIN(\"^\",,AQ84:AQ92)","v":""},null,"空降",{"$nulls":11},{"$f":"_xlfn.TEXTJOIN(\"^\",,BE84:BE92)","v":""}]
[null,null,101,null,null,null,{"$f":"$C94","v":101},null,null,null,{"$f":"$C94","v":101},{"$nulls":4},{"$f":"_xlfn.TEXTJOIN(\"^\",,N84:N98)","v":""},null,101,{"$nulls":11},{"$f":"_xlfn.TEXTJOIN(\"^\",,Z84:Z98)","v":"100^0"},null,101,null,null,null,{"$f":"$C94","v":101},{"$nulls":9},101,null,null,null,{"$f":"$C94","v":101}]
[null,null,102,null,null,null,102,null,null,null,102,{"$nulls":6},102,{"$nulls":11},{"$f":"_xlfn.TEXTJOIN(\"^\",,AA84:AA98)","v":""},null,102,null,null,null,102,{"$nulls":9},102,null,null,null,102]
[null,null,103,null,null,null,103,null,null,null,103,{"$nulls":6},103,{"$nulls":11},{"$f":"_xlfn.TEXTJOIN(\"^\",,AB84:AB98)","v":""},null,103,{"$nulls":13},103]
[null,null,104,null,null,null,{"$f":"$C97","v":104},null,null,null,104,{"$nulls":6},104,{"$nulls":13},104,null,null,null,{"$f":"$C97","v":104},{"$nulls":9},104,null,null,null,{"$f":"$C97","v":104}]
[null,null,105,null,null,null,105,null,null,null,105,{"$nulls":6},105,{"$nulls":13},105,null,null,null,105,{"$nulls":9},105,null,null,null,105]
[{"$nulls":14},"最终",{"$f":"_xlfn.TEXTJOIN(\"^\",,P84:P98)","v":"4^2^1^3^5^6^4^1^5^7^6^4^2^3^5^7^101^102^103^104^105^6^4^2^1^3^5^7^8^6^4^2^3^5^7^9^6^4^2^1^3^5^7^101^102^103^104^105^6^4^2^1^3^5^7^8^6^4^2^3^5^7^9"},{"$nulls":12},"最终",{"$f":"_xlfn.TEXTJOIN(\"^\",,AD84:AD98)","v":"100^0^0^0^0^0^0^0^0^0^0^0^0^0^0^0^0^0^0^100^0"},{"$nulls":12},"最终",{"$f":"_xlfn.TEXTJOIN(\"^\",,AR83:AR98)","v":"4^1^5^8^6^7^9^6^4^5^7^101^102^104^105^6^4^2^1^3^5^7^6^2^1^3^7^6^4^2^1^3^5^7^8^6^4^2^3^5^7^9"},{"$nulls":12},"最终",{"$f":"_xlfn.TEXTJOIN(\"^\",,BF83:BF98)","v":"4^2^3^5^4^1^5^2^3^101^102^104^105^4^1^5^6^4^2^3^5^7^6^4^1^5^7^8^6^4^2^3^5^7^9"}]
[]
[null,null,"时间",5,10,17,20,30,40,50,55,65,75,{"$nulls":4},"时间",5,10,15,20,30,45,60,70,null,null,null,{"$f":"_xlfn.TEXTJOIN(\"^\",,S102:S110)","v":"14^6^4"},null,"时间",4,6,10,15,22,30,40,50,null,null,null,{"$f":"_xlfn.TEXTJOIN(\"^\",,AG102:AG110)","v":"4^4^4"},null,"时间",2,4,6,8,10,16,25,35,null,null,null,{"$f":"_xlfn.TEXTJOIN(\"^\",,AU102:AU110)","v":"2^2^2^2"}]
[null,null,8,{"$nulls":5},{"$f":"I$101","v":40},null,null,null,{"$f":"M$101","v":75},null,null,{"$f":"_xlfn.TEXTJOIN(\"^\",,D102:D111)","v":"5^5^5^5^5"},null,8,{"$nulls":11},{"$f":"_xlfn.TEXTJOIN(\"^\",,T102:T110)","v":"4^10"},null,8,null,{"$f":"AH$101","v":6},{"$nulls":5},{"$f":"AN$101","v":50},null,null,null,{"$f":"_xlfn.TEXTJOIN(\"^\",,AH102:AH110)","v":"6^6^6^6"},null,8,{"$nulls":7},{"$f":"BB$101","v":35},null,null,null,{"$f":"_xlfn.TEXTJOIN(\"^\",,AV102:AV110)","v":"4^4^4"}]
[null,null,6,null,{"$f":"E$101","v":10},17,null,{"$f":"H$101","v":30},40,50,null,{"$f":"L$101","v":65},75,null,null,{"$f":"_xlfn.TEXTJOIN(\"^\",,E102:E111)","v":"10^10^10^10^10"},null,6,{"$nulls":11},{"$f":"_xlfn.TEXTJOIN(\"^\",,U102:U110)","v":"3^12"},null,6,null,6,10,null,22,{"$f":"AL$101","v":30},{"$f":"AM$101","v":40},50,null,null,null,{"$f":"_xlfn.TEXTJOIN(\"^\",,AI102:AI110)","v":"10^10^10^10"},null,6,{"$nulls":5},{"$f":"AZ$101","v":16},25,35,null,null,null,{"$f":"_xlfn.TEXTJOIN(\"^\",,AW102:AW110)","v":"6^6"}]
[null,null,4,{"$f":"D$101","v":5},10,17,20,30,40,50,55,65,75,null,null,{"$f":"_xlfn.TEXTJOIN(\"^\",,F102:F111)","v":"17^17^17^17^17^17"},null,4,{"$nulls":11},{"$f":"_xlfn.TEXTJOIN(\"^\",,V102:V110)","v":"3^10^2"},null,4,4,null,10,15,22,null,40,50,null,null,null,{"$f":"_xlfn.TEXTJOIN(\"^\",,AJ102:AJ110)","v":"15^15^15^15"},null,4,{"$f":"AU$101","v":2},{"$f":"AV$101","v":4},null,{"$f":"AX$101","v":8},{"$f":"AY$101","v":10},16,25,35,null,null,null,{"$f":"_xlfn.TEXTJOIN(\"^\",,AX102:AX110)","v":"8^8^8^8"}]
[null,null,2,5,null,17,20,30,40,50,55,65,75,null,null,{"$f":"_xlfn.TEXTJOIN(\"^\",,G102:G111)","v":"20^20^20^20^20"},null,2,{"$nulls":11},{"$f":"_xlfn.TEXTJOIN(\"^\",,W102:W110)","v":"12^3"},null,2,null,null,null,15,22,30,40,50,null,null,null,{"$f":"_xlfn.TEXTJOIN(\"^\",,AK102:AK110)","v":"22^22^22^22^22^22^22"},null,2,2,null,{"$f":"AW$101","v":6},8,null,16,null,35,null,null,null,{"$f":"_xlfn.TEXTJOIN(\"^\",,AY102:AY110)","v":"10^10^10"}]
[null,null,1,5,{"$f":"E$101","v":10},null,20,30,null,50,55,65,null,null,null,{"$f":"_xlfn.TEXTJOIN(\"^\",,H102:H111)","v":"30^30^30^30^30^30^30"},null,1,14,4,3,3,12,2,2,8,null,null,null,{"$f":"_xlfn.TEXTJOIN(\"^\",,X102:X110)","v":"2^9^3^2"},null,1,4,null,null,null,22,30,40,{"$nulls":4},{"$f":"_xlfn.TEXTJOIN(\"^\",,AL102:AL110)","v":"30^30^30^30^30"},null,1,null,{"$f":"AV$101","v":4},null,null,{"$f":"AY$101","v":10},null,{"$f":"BA$101","v":25},{"$nulls":4},{"$f":"_xlfn.TEXTJOIN(\"^\",,AZ102:AZ110)","v":"16^16^16^16^16^16"}]
[null,null,3,{"$f":"D$101","v":5},null,{"$f":"F$101","v":17},20,30,40,50,55,65,75,null,null,{"$f":"_xlfn.TEXTJOIN(\"^\",,I102:I111)","v":"40^40^40^40^40^40^40^40"},null,3,6,10,12,10,3,9,3,4,null,null,null,{"$f":"_xlfn.TEXTJOIN(\"^\",,Y102:Y110)","v":"2^3^10"},null,3,null,null,null,15,22,30,40,50,null,null,null,{"$f":"_xlfn.TEXTJOIN(\"^\",,AM102:AM110)","v":"40^40^40^40^40^40^40"},null,3,{"$f":"AU$101","v":2},null,{"$f":"AW$101","v":6},{"$f":"AX$101","v":8},null,{"$f":"AZ$101","v":16},null,{"$f":"BB$101","v":35},null,null,null,{"$f":"_xlfn.TEXTJOIN(\"^\",,BA102:BA110)","v":"25^25^25^25^25"}]
[null,null,5,5,10,17,20,30,40,50,55,65,75,null,null,{"$f":"_xlfn.TEXTJOIN(\"^\",,J102:J111)","v":"50^50^50^50^50^50^50"},null,5,4,null,null,2,null,3,10,{"$nulls":4},{"$f":"_xlfn.TEXTJOIN(\"^\",,Z102:Z110)","v":"8^4"},null,5,4,null,10,15,22,null,40,50,null,null,null,{"$f":"_xlfn.TEXTJOIN(\"^\",,AN102:AN110)","v":"50^50^50^50^50^50^50^50"},null,5,2,{"$f":"AV$101","v":4},null,8,{"$f":"AY$101","v":10},16,25,35,null,null,null,{"$f":"_xlfn.TEXTJOIN(\"^\",,BB102:BB110)","v":"35^35^35^35^35^35^35^35"}]
[null,null,7,null,10,17,null,30,40,50,null,65,75,null,null,{"$f":"_xlfn.TEXTJOIN(\"^\",,K102:K111)","v":"55^55^55^55^55"},null,7,{"$nulls":5},2,{"$nulls":5},{"$f":"_xlfn.TEXTJOIN(\"^\",,AA102:AA110)","v":""},null,7,null,6,10,null,22,{"$f":"AL$101","v":30},40,50,null,null,null,{"$f":"_xlfn.TEXTJOIN(\"^\",,AO102:AO110)","v":""},null,7,{"$nulls":5},16,25,35,null,null,null,{"$f":"_xlfn.TEXTJOIN(\"^\",,BC102:BC110)","v":""}]
[null,null,9,{"$nulls":5},40,null,null,null,75,null,null,{"$f":"_xlfn.TEXTJOIN(\"^\",,L102:L111)","v":"65^65^65^65^65^65^65"},null,9,{"$nulls":11},{"$f":"_xlfn.TEXTJOIN(\"^\",,AB102:AB110)","v":""},null,9,null,6,{"$nulls":5},50,null,null,null,{"$f":"_xlfn.TEXTJOIN(\"^\",,AP102:AP110)","v":""},null,9,{"$nulls":7},35,null,null,null,{"$f":"_xlfn.TEXTJOIN(\"^\",,BD102:BD110)","v":""}]
[{"$nulls":15},{"$f":"_xlfn.TEXTJOIN(\"^\",,M102:M111)","v":"75^75^75^75^75^75^75^75"},{"$nulls":13},{"$f":"_xlfn.TEXTJOIN(\"^\",,AC102:AC110)","v":""},{"$nulls":13},{"$f":"_xlfn.TEXTJOIN(\"^\",,AQ102:AQ110)","v":""},{"$nulls":13},{"$f":"_xlfn.TEXTJOIN(\"^\",,BE102:BE110)","v":""}]
[{"$nulls":15},{"$f":"_xlfn.TEXTJOIN(\"^\",,N102:N111)","v":""},{"$nulls":12},"最终",{"$f":"_xlfn.TEXTJOIN(\"^\",,AD101:AD111)","v":"14^6^4^4^10^3^12^3^10^2^12^3^2^9^3^2^2^3^10^8^4"},{"$nulls":12},"最终",{"$f":"_xlfn.TEXTJOIN(\"^\",,AR101:AR111)","v":"4^4^4^6^6^6^6^10^10^10^10^15^15^15^15^22^22^22^22^22^22^22^30^30^30^30^30^40^40^40^40^40^40^40^50^50^50^50^50^50^50^50"},{"$nulls":12},"最终",{"$f":"_xlfn.TEXTJOIN(\"^\",,BF101:BF111)","v":"2^2^2^2^4^4^4^6^6^8^8^8^8^10^10^10^16^16^16^16^16^16^25^25^25^25^25^35^35^35^35^35^35^35^35"}]
[{"$nulls":14},"最终",{"$f":"_xlfn.TEXTJOIN(\"^\",,P102:P112)","v":"5^5^5^5^5^10^10^10^10^10^17^17^17^17^17^17^20^20^20^20^20^30^30^30^30^30^30^30^40^40^40^40^40^40^40^40^50^50^50^50^50^50^50^55^55^55^55^55^65^65^65^65^65^65^65^75^75^75^75^75^75^75^75"}]
[{"$nulls":15},{"$f":"COUNT(D102:M110)","v":63},{"$nulls":13},{"$f":"SUM(S102:Z110)","v":126},{"$nulls":13},{"$f":"COUNT(AG102:AN110)","v":42},{"$nulls":13},{"$f":"COUNT(AU102:BB110)","v":35}]
[{"$nulls":57},{"$f":"SUM(P114:BF114)","v":266}]
[]
[{"$nulls":4},{"$f":"E118-D118","v":10},{"$f":"F118-E118","v":15},15,15,5,15,15,15,10,{"$nulls":6},{"$f":"T118-S118","v":5},5,7,8,10,10,5,{"$nulls":7},{"$f":"AH118-AG118","v":6},5,15,16,17,17,5,{"$nulls":7},{"$f":"AV118-AU118","v":2},3,4,8,10,10,10]
[3,"雪谷-3","波1·怪物",5,15,30,45,60,65,80,95,110,120,null,null,null,1,"波2·怪物",5,10,15,22,30,40,50,55,{"$nulls":4},3,"波3·怪物",4,10,15,30,46,63,80,85,{"$nulls":4},1,"波4·怪物",3,5,8,12,20,30,40,50]
[null,"5m",8,{"$nulls":12},{"$f":"_xlfn.TEXTJOIN(\"^\",,D119:D128)","v":"60531^60532"},null,8,{"$nulls":6},60534,{"$nulls":4},{"$f":"_xlfn.TEXTJOIN(\"^\",,S119:S128)","v":"60534^60532^60532^60532^60534"},null,8,{"$nulls":11},{"$f":"_xlfn.TEXTJOIN(\"^\",,AG119:AG128)","v":"60533^60531"},null,8,{"$nulls":5},60534,null,60532,null,null,null,{"$f":"_xlfn.TEXTJOIN(\"^\",,AU119:AU128)","v":"60535^60535^60535"}]
[null,null,6,{"$nulls":12},{"$f":"_xlfn.TEXTJOIN(\"^\",,E119:E128)","v":"60532^60534^60531"},null,6,60534,null,null,null,60534,60532,60531,{"$nulls":4},{"$f":"_xlfn.TEXTJOIN(\"^\",,T119:T128)","v":"60531^60531^60531^60531^60531"},null,6,{"$nulls":11},{"$f":"_xlfn.TEXTJOIN(\"^\",,AH119:AH128)","v":"60531^60532^60534"},null,6,null,null,60534,null,60532,null,60532,{"$nulls":4},{"$f":"_xlfn.TEXTJOIN(\"^\",,AV119:AV128)","v":"60532^60532^60532"}]
[null,null,4,{"$nulls":12},{"$f":"_xlfn.TEXTJOIN(\"^\",,F119:F128)","v":"60533^60531^60532"},null,4,null,60531,60533,60535,60532,60531,null,60535,null,null,null,{"$f":"_xlfn.TEXTJOIN(\"^\",,U119:U128)","v":"60533^60532^60533^60532^60533"},null,4,{"$nulls":11},{"$f":"_xlfn.TEXTJOIN(\"^\",,AI119:AI128)","v":"60535^60534"},null,4,60535,null,null,60531,60531,60531,60531,60532,null,null,null,{"$f":"_xlfn.TEXTJOIN(\"^\",,AW119:AW128)","v":"60534^60533^60534"}]
[null,null,2,{"$nulls":12},{"$f":"_xlfn.TEXTJOIN(\"^\",,G119:G128)","v":"60534^60531^60532"},null,2,60532,60531,60532,60535,60531,60533,60532,60535,null,null,null,{"$f":"_xlfn.TEXTJOIN(\"^\",,V119:V128)","v":"60535^60535^60535^60535^60535"},null,2,{"$nulls":11},{"$f":"_xlfn.TEXTJOIN(\"^\",,AJ119:AJ128)","v":"60533^60531^60532"},null,2,null,60532,null,60531,60533,60532,60533,60531,null,null,null,{"$f":"_xlfn.TEXTJOIN(\"^\",,AX119:AX128)","v":"60531^60531^60531^60531"}]
[null,null,1,60531,60532,60533,60534,60533,60535,60532,60533,60533,60535,null,null,{"$f":"_xlfn.TEXTJOIN(\"^\",,H119:H128)","v":"60533^60532^60534"},null,1,60532,60531,60533,60535,60532,60534,60532,60535,null,null,null,{"$f":"_xlfn.TEXTJOIN(\"^\",,W119:W128)","v":"60534^60532^60531^60532^60531^60532^60534"},null,1,60533,60531,60535,60533,60531,60532,60534,60535,null,null,null,{"$f":"_xlfn.TEXTJOIN(\"^\",,AK119:AK128)","v":"60531^60532^60534"},null,1,60535,60532,60533,null,null,60532,60534,60533,null,null,null,{"$f":"_xlfn.TEXTJOIN(\"^\",,AY119:AY128)","v":"60532^60531^60533^60533^60531^60532"}]
[null,null,3,60532,60534,60531,60531,60532,60531,60531,60531,60531,60532,null,null,{"$f":"_xlfn.TEXTJOIN(\"^\",,I119:I128)","v":"60535^60531"},null,3,60532,60531,60532,60535,60531,60533,60532,60535,null,null,null,{"$f":"_xlfn.TEXTJOIN(\"^\",,X119:X128)","v":"60532^60531^60533^60534^60533^60531^60532"},null,3,60531,60532,60534,60531,60532,60531,60533,60532,null,null,null,{"$f":"_xlfn.TEXTJOIN(\"^\",,AL119:AL128)","v":"60532^60531"},null,3,null,60532,null,60531,60533,60532,60533,60531,null,null,null,{"$f":"_xlfn.TEXTJOIN(\"^\",,AZ119:AZ128)","v":"60534^60531^60532^60532^60532^60531^60534"}]
[null,null,5,null,60531,60532,60532,60534,null,null,60532,60532,null,null,null,{"$f":"_xlfn.TEXTJOIN(\"^\",,J119:J128)","v":"60532^60531"},null,5,null,60531,60533,60535,60532,60531,null,60535,null,null,null,{"$f":"_xlfn.TEXTJOIN(\"^\",,Y119:Y128)","v":"60534^60531^60532^60532^60532^60531^60534"},null,5,null,60534,null,60532,60534,null,60531,{"$nulls":4},{"$f":"_xlfn.TEXTJOIN(\"^\",,AM119:AM128)","v":"60534^60533^60531^60532"},null,5,60535,null,null,60531,60531,60531,60531,60532,null,null,null,{"$f":"_xlfn.TEXTJOIN(\"^\",,BA119:BA128)","v":"60532^60531^60533^60534^60533^60531^60532"}]
[null,null,7,{"$nulls":7},60534,{"$nulls":4},{"$f":"_xlfn.TEXTJOIN(\"^\",,K119:K128)","v":"60533^60531^60532^60534"},null,7,60534,null,null,null,60534,60532,60531,{"$nulls":4},{"$f":"_xlfn.TEXTJOIN(\"^\",,Z119:Z128)","v":"60535^60535^60535^60535^60535"},null,7,{"$nulls":6},60532,{"$nulls":4},{"$f":"_xlfn.TEXTJOIN(\"^\",,AN119:AN128)","v":"60535^60532"},null,7,null,null,60534,null,60532,null,60532,{"$nulls":4},{"$f":"_xlfn.TEXTJOIN(\"^\",,BB119:BB128)","v":"60532^60532^60531^60533^60531^60532^60532"}]
[null,null,9,{"$nulls":12},{"$f":"_xlfn.TEXTJOIN(\"^\",,L119:L128)","v":"60533^60531^60532"},null,9,{"$nulls":6},60534,{"$nulls":4},{"$f":"_xlfn.TEXTJOIN(\"^\",,AA119:AA128)","v":""},null,9,{"$nulls":11},{"$f":"_xlfn.TEXTJOIN(\"^\",,AO119:AO128)","v":""},null,9,{"$nulls":5},60534,null,60532,null,null,null,{"$f":"_xlfn.TEXTJOIN(\"^\",,BC119:BC128)","v":""}]
[{"$nulls":15},{"$f":"_xlfn.TEXTJOIN(\"^\",,M119:M128)","v":"60535^60532"},{"$nulls":13},{"$f":"_xlfn.TEXTJOIN(\"^\",,AB119:AB128)","v":""},{"$nulls":13},{"$f":"_xlfn.TEXTJOIN(\"^\",,AP119:AP128)","v":""},{"$nulls":13},{"$f":"_xlfn.TEXTJOIN(\"^\",,BD119:BD128)","v":""}]
[{"$nulls":15},{"$f":"_xlfn.TEXTJOIN(\"^\",,N119:N128)","v":""},{"$nulls":13},{"$f":"_xlfn.TEXTJOIN(\"^\",,AC119:AC128)","v":""},{"$nulls":13},{"$f":"_xlfn.TEXTJOIN(\"^\",,AQ119:AQ128)","v":""},{"$nulls":13},{"$f":"_xlfn.TEXTJOIN(\"^\",,BE119:BE128)","v":""}]
[{"$nulls":14},"最终",{"$f":"_xlfn.TEXTJOIN(\"^\",,P119:P129)","v":"60531^60532^60532^60534^60531^60533^60531^60532^60534^60531^60532^60533^60532^60534^60535^60531^60532^60531^60533^60531^60532^60534^60533^60531^60532^60535^60532"},{"$nulls":12},"最终",{"$f":"_xlfn.TEXTJOIN(\"^\",,AD119:AD129)","v":"60534^60532^60532^60532^60534^60531^60531^60531^60531^60531^60533^60532^60533^60532^60533^60535^60535^60535^60535^60535^60534^60532^60531^60532^60531^60532^60534^60532^60531^60533^60534^60533^60531^60532^60534^60531^60532^60532^60532^60531^60534^60535^60535^60535^60535^60535"},{"$nulls":12},"最终",{"$f":"_xlfn.TEXTJOIN(\"^\",,AR119:AR129)","v":"60533^60531^60531^60532^60534^60535^60534^60533^60531^60532^60531^60532^60534^60532^60531^60534^60533^60531^60532^60535^60532"},{"$nulls":12},"最终",{"$f":"_xlfn.TEXTJOIN(\"^\",,BF119:BF129)","v":"60535^60535^60535^60532^60532^60532^60534^60533^60534^60531^60531^60531^60531^60532^60531^60533^60533^60531^60532^60534^60531^60532^60532^60532^60531^60534^60532^60531^60533^60534^60533^60531^60532^60532^60532^60531^60533^60531^60532^60532"}]
[null,null,8,{"$nulls":14},8,{"$nulls":6},"木精灵",{"$nulls":6},8,{"$nulls":13},8,{"$nulls":5},"木精灵",null,"巨魔矛手"]
[null,null,6,{"$nulls":14},6,"木精灵",null,null,null,"木精灵","巨魔矛手","雪怪",{"$nulls":6},6,{"$nulls":13},6,null,null,"木精灵",null,"巨魔矛手",null,"巨魔矛手"]
[null,null,4,{"$nulls":14},4,null,"雪怪","雪原熊","雪山蜘蛛","巨魔矛手","雪怪",null,"雪山蜘蛛",{"$nulls":5},4,{"$nulls":13},4,"雪山蜘蛛",null,null,"雪怪","雪怪","雪怪","雪怪","巨魔矛手"]
[null,null,2,{"$nulls":14},2,"巨魔矛手","雪怪","巨魔矛手","雪山蜘蛛","雪怪","雪原熊","巨魔矛手","雪山蜘蛛",{"$nulls":5},2,{"$nulls":13},2,null,"巨魔矛手",null,"雪怪","雪原熊","巨魔矛手","雪原熊","雪怪"]
[null,null,1,"雪怪","巨魔矛手","雪原熊","木精灵","雪原熊","雪山蜘蛛","巨魔矛手","雪原熊","雪原熊","雪山蜘蛛",{"$nulls":4},1,"巨魔矛手","雪怪","雪原熊","雪山蜘蛛","巨魔矛手","木精灵","巨魔矛手","雪山蜘蛛",{"$nulls":5},1,"雪原熊","雪怪","雪山蜘蛛","雪原熊","雪怪","巨魔矛手","木精灵","雪山蜘蛛",{"$nulls":5},1,"雪山蜘蛛","巨魔矛手","雪原熊",null,null,"巨魔矛手","木精灵","雪原熊"]
[null,null,3,"巨魔矛手","木精灵","雪怪","雪怪","巨魔矛手","雪怪","雪怪","雪怪","雪怪","巨魔矛手",{"$nulls":4},3,"巨魔矛手","雪怪","巨魔矛手","雪山蜘蛛","雪怪","雪原熊","巨魔矛手","雪山蜘蛛",{"$nulls":5},3,"雪怪","巨魔矛手","木精灵","雪怪","巨魔矛手","雪怪","雪原熊","巨魔矛手",{"$nulls":5},3,null,"巨魔矛手",null,"雪怪","雪原熊","巨魔矛手","雪原熊","雪怪"]
[null,null,5,null,"雪怪","巨魔矛手","巨魔矛手","木精灵",null,null,"巨魔矛手","巨魔矛手",{"$nulls":5},5,null,"雪怪","雪原熊","雪山蜘蛛","巨魔矛手","雪怪",null,"雪山蜘蛛",{"$nulls":5},5,null,"木精灵",null,"巨魔矛手","木精灵",null,"雪怪",{"$nulls":6},5,"雪山蜘蛛",null,null,"雪怪","雪怪","雪怪","雪怪","巨魔矛手"]
[null,null,7,{"$nulls":7},"木精灵",{"$nulls":6},7,"木精灵",null,null,null,"木精灵","巨魔矛手","雪怪",{"$nulls":6},7,{"$nulls":6},"巨魔矛手",{"$nulls":6},7,null,null,"木精灵",null,"巨魔矛手",null,"巨魔矛手"]
[null,null,9,{"$nulls":14},9,{"$nulls":6},"木精灵",{"$nulls":6},9,{"$nulls":13},9,{"$nulls":5},"木精灵",null,"巨魔矛手"]
[]
[null,null,"位置",5,15,30,45,60,65,80,95,110,120,{"$nulls":4},"位置",5,10,15,22,30,40,50,55,{"$nulls":5},"位置",4,6,10,15,25,40,57,75,null,null,null,{"$f":"_xlfn.TEXTJOIN(\"^\",,AG142:AG156)","v":"0^0"},null,"位置",3,5,8,12,20,30,40,50,null,null,null,{"$f":"_xlfn.TEXTJOIN(\"^\",,AU142:AU156)","v":"101^103^105"}]
[null,null,8,{"$nulls":12},{"$f":"_xlfn.TEXTJOIN(\"^\",,D142:D156)","v":"0^0"},null,8,{"$nulls":6},{"$f":"$C142","v":8},{"$nulls":6},8,{"$nulls":11},{"$f":"_xlfn.TEXTJOIN(\"^\",,AH142:AH156)","v":"0^0^0"},null,8,{"$nulls":5},{"$f":"$C142","v":8},null,{"$f":"$C142","v":8},null,null,null,{"$f":"_xlfn.TEXTJOIN(\"^\",,AV142:AV156)","v":"2^1^3"}]
[null,null,6,{"$nulls":12},{"$f":"_xlfn.TEXTJOIN(\"^\",,E142:E156)","v":"0^0^0"},null,6,{"$f":"$C143","v":6},null,null,null,{"$f":"$C143","v":6},6,6,{"$nulls":4},{"$f":"_xlfn.TEXTJOIN(\"^\",,S142:S156)","v":"6^2^1^3^7"},null,6,{"$nulls":11},{"$f":"_xlfn.TEXTJOIN(\"^\",,AI142:AI156)","v":"100^0"},null,6,null,null,{"$f":"$C143","v":6},null,{"$f":"$C143","v":6},null,{"$f":"$C143","v":6},{"$nulls":4},{"$f":"_xlfn.TEXTJOIN(\"^\",,AW142:AW156)","v":"6^1^7"}]
[null,null,4,{"$nulls":12},{"$f":"_xlfn.TEXTJOIN(\"^\",,F142:F156)","v":"0^0^0"},null,4,null,{"$f":"$C144","v":4},{"$f":"$C144","v":4},null,4,4,{"$nulls":5},{"$f":"_xlfn.TEXTJOIN(\"^\",,T142:T156)","v":"4^2^1^3^5"},null,4,{"$nulls":11},{"$f":"_xlfn.TEXTJOIN(\"^\",,AJ142:AJ156)","v":"0^0^0"},null,4,null,null,null,{"$f":"$C144","v":4},4,4,4,4,null,null,null,{"$f":"_xlfn.TEXTJOIN(\"^\",,AX142:AX156)","v":"4^2^3^5"}]
[null,null,2,{"$nulls":12},{"$f":"_xlfn.TEXTJOIN(\"^\",,G142:G156)","v":"0^0^0"},null,2,{"$f":"$C145","v":2},2,{"$f":"$C145","v":2},null,2,2,2,{"$nulls":4},{"$f":"_xlfn.TEXTJOIN(\"^\",,U142:U156)","v":"4^2^1^3^5"},null,2,{"$nulls":11},{"$f":"_xlfn.TEXTJOIN(\"^\",,AK142:AK156)","v":"0^0^0"},null,2,null,{"$f":"$C145","v":2},null,2,2,2,2,2,null,null,null,{"$f":"_xlfn.TEXTJOIN(\"^\",,AY142:AY156)","v":"6^4^2^3^5^7"}]
[null,null,1,0,0,0,0,0,100,0,0,0,100,null,null,{"$f":"_xlfn.TEXTJOIN(\"^\",,H142:H156)","v":"0^0^0"},null,1,{"$f":"$C146","v":1},1,{"$f":"$C146","v":1},null,1,1,1,{"$nulls":4},{"$f":"_xlfn.TEXTJOIN(\"^\",,V142:V156)","v":"101^102^103^104^105"},null,1,0,0,100,0,0,0,0,100,null,null,null,{"$f":"_xlfn.TEXTJOIN(\"^\",,AL142:AL156)","v":"0^0"},null,1,null,1,{"$f":"$C146","v":1},null,null,1,1,1,null,null,null,{"$f":"_xlfn.TEXTJOIN(\"^\",,AZ142:AZ156)","v":"8^4^2^1^3^5^9"}]
[null,null,3,0,0,0,0,0,0,0,0,0,0,null,null,{"$f":"_xlfn.TEXTJOIN(\"^\",,I142:I156)","v":"100^0"},null,3,{"$f":"$C147","v":3},3,{"$f":"$C147","v":3},null,3,3,3,{"$nulls":4},{"$f":"_xlfn.TEXTJOIN(\"^\",,W142:W156)","v":"6^4^2^1^3^5^7"},null,3,0,0,0,0,0,0,0,0,null,null,null,{"$f":"_xlfn.TEXTJOIN(\"^\",,AM142:AM156)","v":"0^0^0^0"},null,3,null,3,null,{"$f":"$C147","v":3},3,3,3,3,null,null,null,{"$f":"_xlfn.TEXTJOIN(\"^\",,BA142:BA156)","v":"6^4^2^1^3^5^7"}]
[null,null,5,null,0,0,0,0,null,null,0,0,null,null,null,{"$f":"_xlfn.TEXTJOIN(\"^\",,J142:J156)","v":"0^0"},null,5,null,5,{"$f":"$C148","v":5},null,5,5,{"$nulls":5},{"$f":"_xlfn.TEXTJOIN(\"^\",,X142:X156)","v":"6^4^2^1^3^5^7"},null,5,null,0,null,0,0,null,0,{"$nulls":4},{"$f":"_xlfn.TEXTJOIN(\"^\",,AN142:AN156)","v":"100^0"},null,5,null,null,null,5,5,5,5,5,null,null,null,{"$f":"_xlfn.TEXTJOIN(\"^\",,BB142:BB156)","v":"8^4^2^1^3^5^9"}]
[null,null,7,{"$nulls":7},0,{"$nulls":4},{"$f":"_xlfn.TEXTJOIN(\"^\",,K142:K156)","v":"0^0^0^0"},null,7,{"$f":"$C149","v":7},null,null,null,7,7,7,{"$nulls":4},{"$f":"_xlfn.TEXTJOIN(\"^\",,Y142:Y156)","v":"8^6^2^1^3^7^9"},null,7,{"$nulls":6},0,{"$nulls":4},{"$f":"_xlfn.TEXTJOIN(\"^\",,AO142:AO156)","v":""},null,7,null,null,{"$f":"$C149","v":7},null,7,null,7,{"$nulls":4},{"$f":"_xlfn.TEXTJOIN(\"^\",,BC142:BC156)","v":""}]
[null,null,9,{"$nulls":12},{"$f":"_xlfn.TEXTJOIN(\"^\",,L142:L156)","v":"0^0^0"},null,9,{"$nulls":6},9,{"$nulls":6},9,{"$nulls":11},{"$f":"_xlfn.TEXTJOIN(\"^\",,AP142:AP156)","v":""},null,9,{"$nulls":5},{"$f":"$C150","v":9},null,{"$f":"$C150","v":9},null,null,null,{"$f":"_xlfn.TEXTJOIN(\"^\",,BD142:BD156)","v":""}]
[null,null,"空降",{"$nulls":12},{"$f":"_xlfn.TEXTJOIN(\"^\",,M142:M156)","v":"100^0"},null,"空降",{"$nulls":13},"空降",{"$nulls":11},{"$f":"_xlfn.TEXTJOIN(\"^\",,AQ142:AQ150)","v":""},null,"空降",{"$nulls":11},{"$f":"_xlfn.TEXTJOIN(\"^\",,BE142:BE150)","v":""}]
[null,null,101,{"$nulls":12},{"$f":"_xlfn.TEXTJOIN(\"^\",,N142:N156)","v":""},null,101,null,null,null,{"$f":"$C152","v":101},null,null,null,{"$f":"$C152","v":101},null,null,null,{"$f":"_xlfn.TEXTJOIN(\"^\",,Z142:Z156)","v":"101^102^103^104^105"},null,101,{"$nulls":13},101,{"$f":"$C152","v":101}]
[null,null,102,{"$nulls":14},102,null,null,null,102,null,null,null,102,null,null,null,{"$f":"_xlfn.TEXTJOIN(\"^\",,AA142:AA156)","v":""},null,102,{"$nulls":13},102]
[null,null,103,{"$nulls":14},103,null,null,null,103,null,null,null,103,null,null,null,{"$f":"_xlfn.TEXTJOIN(\"^\",,AB142:AB156)","v":""},null,103,{"$nulls":13},103,{"$f":"$C154","v":103}]
[null,null,104,{"$nulls":14},104,null,null,null,104,null,null,null,104,{"$nulls":5},104,{"$nulls":13},104]
[null,null,105,{"$nulls":14},105,null,null,null,105,null,null,null,105,{"$nulls":5},105,{"$nulls":13},105,{"$f":"$C156","v":105}]
[{"$nulls":14},"最终",{"$f":"_xlfn.TEXTJOIN(\"^\",,P142:P156)","v":"0^0^0^0^0^0^0^0^0^0^0^0^0^0^100^0^0^0^0^0^0^0^0^0^0^100^0"},{"$nulls":12},"最终",{"$f":"_xlfn.TEXTJOIN(\"^\",,AD142:AD156)","v":"6^2^1^3^7^4^2^1^3^5^4^2^1^3^5^101^102^103^104^105^6^4^2^1^3^5^7^6^4^2^1^3^5^7^8^6^2^1^3^7^9^101^102^103^104^105"},{"$nulls":12},"最终",{"$f":"_xlfn.TEXTJOIN(\"^\",,AR141:AR156)","v":"0^0^0^0^0^100^0^0^0^0^0^0^0^0^0^0^0^0^0^100^0"},{"$nulls":12},"最终",{"$f":"_xlfn.TEXTJOIN(\"^\",,BF141:BF156)","v":"101^103^105^2^1^3^6^1^7^4^2^3^5^6^4^2^3^5^7^8^4^2^1^3^5^9^6^4^2^1^3^5^7^8^4^2^1^3^5^9"}]
[]
[null,null,"时间",5,15,30,45,60,65,80,95,110,120,{"$nulls":4},"时间",5,10,15,22,30,40,50,55,null,null,null,{"$f":"_xlfn.TEXTJOIN(\"^\",,S160:S168)","v":"5^5^5^5^5"},null,"时间",4,6,10,15,25,40,57,75,null,null,null,{"$f":"_xlfn.TEXTJOIN(\"^\",,AG160:AG168)","v":"6^19"},null,"时间",3,5,8,12,20,30,40,50,null,null,null,{"$f":"_xlfn.TEXTJOIN(\"^\",,AU160:AU168)","v":"3^3^3"}]
[null,null,8,{"$nulls":12},{"$f":"_xlfn.TEXTJOIN(\"^\",,D160:D169)","v":"8^4"},null,8,{"$nulls":6},{"$f":"Y$159","v":50},{"$nulls":4},{"$f":"_xlfn.TEXTJOIN(\"^\",,T160:T168)","v":"10^10^10^10^10"},null,8,{"$nulls":11},{"$f":"_xlfn.TEXTJOIN(\"^\",,AH160:AH168)","v":"8^3^2"},null,8,{"$nulls":5},{"$f":"AZ$159","v":30},null,{"$f":"BB$159","v":50},null,null,null,{"$f":"_xlfn.TEXTJOIN(\"^\",,AV160:AV168)","v":"5^5^5"}]
[null,null,6,{"$nulls":12},{"$f":"_xlfn.TEXTJOIN(\"^\",,E160:E169)","v":"3^2^8"},null,6,{"$f":"S$159","v":5},null,null,null,{"$f":"W$159","v":30},40,50,{"$nulls":4},{"$f":"_xlfn.TEXTJOIN(\"^\",,U160:U168)","v":"15^15^15^15^15"},null,6,{"$nulls":11},{"$f":"_xlfn.TEXTJOIN(\"^\",,AI160:AI168)","v":"8^2"},null,6,null,null,{"$f":"AW$159","v":8},null,{"$f":"AY$159","v":20},null,{"$f":"BA$159","v":40},{"$nulls":4},{"$f":"_xlfn.TEXTJOIN(\"^\",,AW160:AW168)","v":"8^8^8"}]
[null,null,4,{"$nulls":12},{"$f":"_xlfn.TEXTJOIN(\"^\",,F160:F169)","v":"2^9^3"},null,4,null,{"$f":"T$159","v":10},{"$f":"U$159","v":15},{"$f":"V$159","v":22},30,40,null,{"$f":"Z$159","v":55},null,null,null,{"$f":"_xlfn.TEXTJOIN(\"^\",,V160:V168)","v":"22^22^22^22^22"},null,4,{"$nulls":11},{"$f":"_xlfn.TEXTJOIN(\"^\",,AJ160:AJ168)","v":"2^9^3"},null,4,{"$f":"AU$159","v":3},null,null,{"$f":"AX$159","v":12},20,30,40,{"$f":"BB$159","v":50},null,null,null,{"$f":"_xlfn.TEXTJOIN(\"^\",,AX160:AX168)","v":"12^12^12^12"}]
[null,null,2,{"$nulls":12},{"$f":"_xlfn.TEXTJOIN(\"^\",,G160:G169)","v":"2^10^3"},null,2,{"$f":"S$159","v":5},10,15,22,30,40,50,55,null,null,null,{"$f":"_xlfn.TEXTJOIN(\"^\",,W160:W168)","v":"30^30^30^30^30^30^30"},null,2,{"$nulls":11},{"$f":"_xlfn.TEXTJOIN(\"^\",,AK160:AK168)","v":"10^3^2"},null,2,null,{"$f":"AV$159","v":5},null,12,20,30,40,50,null,null,null,{"$f":"_xlfn.TEXTJOIN(\"^\",,AY160:AY168)","v":"20^20^20^20^20^20"}]
[null,null,1,8,3,2,2,3,7,4,2,2,8,null,null,{"$f":"_xlfn.TEXTJOIN(\"^\",,H160:H169)","v":"3^5^2"},null,1,{"$f":"S$159","v":5},10,{"$f":"U$159","v":15},22,30,40,50,55,null,null,null,{"$f":"_xlfn.TEXTJOIN(\"^\",,X160:X168)","v":"40^40^40^40^40^40^40"},null,1,6,8,8,2,10,4,2,8,null,null,null,{"$f":"_xlfn.TEXTJOIN(\"^\",,AL160:AL168)","v":"4^9"},null,1,{"$f":"AU$159","v":3},5,{"$f":"AW$159","v":8},null,null,30,40,50,null,null,null,{"$f":"_xlfn.TEXTJOIN(\"^\",,AZ160:AZ168)","v":"30^30^30^30^30^30^30"}]
[null,null,3,4,2,9,10,5,8,12,9,11,3,null,null,{"$f":"_xlfn.TEXTJOIN(\"^\",,I160:I169)","v":"7^8"},null,3,{"$f":"S$159","v":5},10,15,22,30,40,50,55,null,null,null,{"$f":"_xlfn.TEXTJOIN(\"^\",,Y160:Y168)","v":"50^50^50^50^50^50^50"},null,3,19,3,2,9,3,9,2,4,null,null,null,{"$f":"_xlfn.TEXTJOIN(\"^\",,AM160:AM168)","v":"2^2^8^3"},null,3,null,5,null,{"$f":"AX$159","v":12},20,30,40,50,null,null,null,{"$f":"_xlfn.TEXTJOIN(\"^\",,BA160:BA168)","v":"40^40^40^40^40^40^40"}]
[null,null,5,null,8,3,3,2,null,null,3,3,null,null,null,{"$f":"_xlfn.TEXTJOIN(\"^\",,J160:J169)","v":"4^12"},null,5,null,10,{"$f":"U$159","v":15},22,30,40,null,55,null,null,null,{"$f":"_xlfn.TEXTJOIN(\"^\",,Z160:Z168)","v":"55^55^55^55^55"},null,5,null,2,null,3,2,null,8,{"$nulls":4},{"$f":"_xlfn.TEXTJOIN(\"^\",,AN160:AN168)","v":"8^4"},null,5,{"$f":"AU$159","v":3},null,null,12,20,30,40,50,null,null,null,{"$f":"_xlfn.TEXTJOIN(\"^\",,BB160:BB168)","v":"50^50^50^50^50^50^50"}]
[null,null,7,{"$nulls":7},2,{"$nulls":4},{"$f":"_xlfn.TEXTJOIN(\"^\",,K160:K169)","v":"2^9^3^2"},null,7,{"$f":"S$159","v":5},null,null,null,30,40,50,{"$nulls":4},{"$f":"_xlfn.TEXTJOIN(\"^\",,AA160:AA168)","v":""},null,7,{"$nulls":6},3,{"$nulls":4},{"$f":"_xlfn.TEXTJOIN(\"^\",,AO160:AO168)","v":""},null,7,null,null,{"$f":"AW$159","v":8},null,20,null,40,{"$nulls":4},{"$f":"_xlfn.TEXTJOIN(\"^\",,BC160:BC168)","v":""}]
[null,null,9,{"$nulls":12},{"$f":"_xlfn.TEXTJOIN(\"^\",,L160:L169)","v":"2^11^3"},null,9,{"$nulls":6},50,{"$nulls":4},{"$f":"_xlfn.TEXTJOIN(\"^\",,AB160:AB168)","v":""},null,9,{"$nulls":11},{"$f":"_xlfn.TEXTJOIN(\"^\",,AP160:AP168)","v":""},null,9,{"$nulls":5},{"$f":"AZ$159","v":30},null,{"$f":"BB$159","v":50},null,null,null,{"$f":"_xlfn.TEXTJOIN(\"^\",,BD160:BD168)","v":""}]
[{"$nulls":15},{"$f":"_xlfn.TEXTJOIN(\"^\",,M160:M169)","v":"8^3"},{"$nulls":13},{"$f":"_xlfn.TEXTJOIN(\"^\",,AC160:AC168)","v":""},{"$nulls":13},{"$f":"_xlfn.TEXTJOIN(\"^\",,AQ160:AQ168)","v":""},{"$nulls":13},{"$f":"_xlfn.TEXTJOIN(\"^\",,BE160:BE168)","v":""}]
[{"$nulls":15},{"$f":"_xlfn.TEXTJOIN(\"^\",,N160:N169)","v":""},{"$nulls":12},"最终",{"$f":"_xlfn.TEXTJOIN(\"^\",,AD159:AD169)","v":"5^5^5^5^5^10^10^10^10^10^15^15^15^15^15^22^22^22^22^22^30^30^30^30^30^30^30^40^40^40^40^40^40^40^50^50^50^50^50^50^50^55^55^55^55^55"},{"$nulls":12},"最终",{"$f":"_xlfn.TEXTJOIN(\"^\",,AR159:AR169)","v":"6^19^8^3^2^8^2^2^9^3^10^3^2^4^9^2^2^8^3^8^4"},{"$nulls":12},"最终",{"$f":"_xlfn.TEXTJOIN(\"^\",,BF159:BF169)","v":"3^3^3^5^5^5^8^8^8^12^12^12^12^20^20^20^20^20^20^30^30^30^30^30^30^30^40^40^40^40^40^40^40^50^50^50^50^50^50^50"}]
[{"$nulls":14},"最终",{"$f":"_xlfn.TEXTJOIN(\"^\",,P160:P170)","v":"8^4^3^2^8^2^9^3^2^10^3^3^5^2^7^8^4^12^2^9^3^2^2^11^3^8^3"}]
[{"$nulls":15},{"$f":"SUM(D160:M168)","v":138},{"$nulls":13},{"$f":"COUNT(S160:Z168)","v":46},{"$nulls":13},{"$f":"SUM(AG160:AN168)","v":117},{"$nulls":13},{"$f":"COUNT(AU160:BB168)","v":40}]
[{"$nulls":57},{"$f":"SUM(P172:BF172)","v":341}]
[]
[{"$nulls":4},{"$f":"E176-D176","v":5},{"$f":"F176-E176","v":7},8,5,10,10,10,5,10,{"$nulls":6},{"$f":"T176-S176","v":5},5,10,15,16,17,7,{"$nulls":7},{"$f":"AH176-AG176","v":2},5,7,8,10,5,10,{"$nulls":7},{"$f":"AV176-AU176","v":2},3,4,6,7,10,10]
[1,"雪谷-4","波1·怪物",5,10,17,25,30,40,50,60,65,75,null,null,null,3,"波2·怪物",5,10,15,25,40,56,73,80,{"$nulls":4},1,"波3·怪物",3,5,10,17,25,35,40,50,{"$nulls":4},1,"波4·怪物",3,5,8,12,18,25,35,45]
[null,"5m",8,null,null,null,60542,null,60544,60541,60544,{"$nulls":4},{"$f":"_xlfn.TEXTJOIN(\"^\",,D177:D186)","v":"60544^60542^60542^60542^60544"},null,8,{"$nulls":11},{"$f":"_xlfn.TEXTJOIN(\"^\",,S177:S186)","v":"60541^60544"},null,8,null,null,null,60542,60544,null,null,60544,null,null,null,{"$f":"_xlfn.TEXTJOIN(\"^\",,AG177:AG186)","v":"60545^60545^60545^60545"},null,8,{"$nulls":5},60544,null,60542,null,null,null,{"$f":"_xlfn.TEXTJOIN(\"^\",,AU177:AU186)","v":"60543^60543^60543"}]
[null,null,6,60544,60541,60544,null,null,60541,60541,60542,null,60542,null,null,{"$f":"_xlfn.TEXTJOIN(\"^\",,E177:E186)","v":"60541^60541^60541^60541^60541"},null,6,{"$nulls":11},{"$f":"_xlfn.TEXTJOIN(\"^\",,T177:T186)","v":"60542^60541"},null,6,null,60544,null,null,60541,60542,null,60542,null,null,null,{"$f":"_xlfn.TEXTJOIN(\"^\",,AH177:AH186)","v":"60544^60542^60542^60544"},null,6,null,60542,null,null,null,60542,60542,60544,null,null,null,{"$f":"_xlfn.TEXTJOIN(\"^\",,AV177:AV186)","v":"60542^60542^60542"}]
[null,null,4,null,null,60542,60541,60545,null,60542,60541,60545,60541,null,null,{"$f":"_xlfn.TEXTJOIN(\"^\",,F177:F186)","v":"60544^60542^60543^60543^60542^60544"},null,4,{"$nulls":11},{"$f":"_xlfn.TEXTJOIN(\"^\",,U177:U186)","v":"60545^60542"},null,4,60545,null,60541,60541,60542,60541,60545,{"$nulls":4},{"$f":"_xlfn.TEXTJOIN(\"^\",,AI177:AI186)","v":"60541^60541^60541^60541^60541"},null,4,60543,null,null,60541,60545,null,60541,60542,null,null,null,{"$f":"_xlfn.TEXTJOIN(\"^\",,AW177:AW186)","v":"60544^60544"}]
[null,null,2,60542,60541,60543,60541,60545,60542,60543,60541,60545,60543,null,null,{"$f":"_xlfn.TEXTJOIN(\"^\",,G177:G186)","v":"60542^60541^60541^60542^60541^60541^60542"},null,2,{"$nulls":11},{"$f":"_xlfn.TEXTJOIN(\"^\",,V177:V186)","v":"60543^60541^60544"},null,2,60545,60542,60541,60543,null,60543,60545,60541,null,null,null,{"$f":"_xlfn.TEXTJOIN(\"^\",,AJ177:AJ186)","v":"60542^60541^60543^60543^60541^60542"},null,2,null,null,60544,60541,60545,60543,60541,60543,null,null,null,{"$f":"_xlfn.TEXTJOIN(\"^\",,AX177:AX186)","v":"60541^60541^60541^60541"}]
[null,null,1,60542,60541,null,60542,60545,60542,null,60542,60545,60544,null,null,{"$f":"_xlfn.TEXTJOIN(\"^\",,H177:H186)","v":"60545^60545^60545^60545^60545"},null,1,60541,60542,60545,60543,60541,60542,60541,60545,null,null,null,{"$f":"_xlfn.TEXTJOIN(\"^\",,W177:W186)","v":"60541^60542^60544"},null,1,null,null,60541,null,60542,null,60545,60543,null,null,null,{"$f":"_xlfn.TEXTJOIN(\"^\",,AK177:AK186)","v":"60544^60541^60542^60542^60542^60541^60544"},null,1,60543,60542,{"$nulls":4},60544,{"$nulls":4},{"$f":"_xlfn.TEXTJOIN(\"^\",,AY177:AY186)","v":"60545^60545^60545^60545"}]
[null,null,3,60542,60541,60543,60541,60545,60542,60543,60541,60545,60543,null,null,{"$f":"_xlfn.TEXTJOIN(\"^\",,I177:I186)","v":"60544^60541^60542^60542^60542^60541^60544"},null,3,60544,60541,60542,60541,60542,60543,60542,60542,null,null,null,{"$f":"_xlfn.TEXTJOIN(\"^\",,X177:X186)","v":"60542^60543^60541"},null,3,60545,60542,60541,60543,null,60543,60545,60541,null,null,null,{"$f":"_xlfn.TEXTJOIN(\"^\",,AL177:AL186)","v":"60542^60541^60543^60543^60541^60542"},null,3,null,null,60544,60541,60545,60543,60541,60543,null,null,null,{"$f":"_xlfn.TEXTJOIN(\"^\",,AZ177:AZ186)","v":"60544^60542^60543^60543^60542^60544"}]
[null,null,5,null,null,60542,60541,60545,null,60542,60541,60545,60541,null,null,{"$f":"_xlfn.TEXTJOIN(\"^\",,J177:J186)","v":"60541^60541^60542^60543^60543^60542^60541^60541"},null,5,null,null,null,60544,60544,60541,60544,{"$nulls":4},{"$f":"_xlfn.TEXTJOIN(\"^\",,Y177:Y186)","v":"60541^60542^60544"},null,5,60545,null,60541,60541,60542,60541,60545,{"$nulls":4},{"$f":"_xlfn.TEXTJOIN(\"^\",,AM177:AM186)","v":"60545^60545^60545^60545^60545"},null,5,60543,null,null,60541,60545,null,60541,60542,null,null,null,{"$f":"_xlfn.TEXTJOIN(\"^\",,BA177:BA186)","v":"60542^60541^60541^60544^60541^60541^60542"}]
[null,null,7,60544,60541,60544,null,null,60541,60541,60542,null,60542,null,null,{"$f":"_xlfn.TEXTJOIN(\"^\",,K177:K186)","v":"60544^60542^60541^60541^60542^60541^60541^60542^60544"},null,7,{"$nulls":11},{"$f":"_xlfn.TEXTJOIN(\"^\",,Z177:Z186)","v":"60545^60542"},null,7,null,60544,null,null,60541,60542,null,60542,null,null,null,{"$f":"_xlfn.TEXTJOIN(\"^\",,AN177:AN186)","v":"60544^60542^60541^60543^60541^60542^60544"},null,7,null,60542,null,null,null,60542,60542,60544,null,null,null,{"$f":"_xlfn.TEXTJOIN(\"^\",,BB177:BB186)","v":"60542^60544^60542^60543^60543^60542^60544^60542"}]
[null,null,9,null,null,null,60542,null,60544,60541,60544,{"$nulls":4},{"$f":"_xlfn.TEXTJOIN(\"^\",,L177:L186)","v":"60545^60545^60545^60545^60545"},null,9,{"$nulls":11},{"$f":"_xlfn.TEXTJOIN(\"^\",,AA177:AA186)","v":""},null,9,null,null,null,60542,60544,null,null,60544,null,null,null,{"$f":"_xlfn.TEXTJOIN(\"^\",,AO177:AO186)","v":""},null,9,{"$nulls":5},60544,null,60542,null,null,null,{"$f":"_xlfn.TEXTJOIN(\"^\",,BC177:BC186)","v":""}]
[{"$nulls":15},{"$f":"_xlfn.TEXTJOIN(\"^\",,M177:M186)","v":"60542^60541^60543^60544^60543^60541^60542"},{"$nulls":13},{"$f":"_xlfn.TEXTJOIN(\"^\",,AB177:AB186)","v":""},{"$nulls":13},{"$f":"_xlfn.TEXTJOIN(\"^\",,AP177:AP186)","v":""},{"$nulls":13},{"$f":"_xlfn.TEXTJOIN(\"^\",,BD177:BD186)","v":""}]
[{"$nulls":15},{"$f":"_xlfn.TEXTJOIN(\"^\",,N177:N186)","v":""},{"$nulls":13},{"$f":"_xlfn.TEXTJOIN(\"^\",,AC177:AC186)","v":""},{"$nulls":13},{"$f":"_xlfn.TEXTJOIN(\"^\",,AQ177:AQ186)","v":""},{"$nulls":13},{"$f":"_xlfn.TEXTJOIN(\"^\",,BE177:BE186)","v":""}]
[{"$nulls":14},"最终",{"$f":"_xlfn.TEXTJOIN(\"^\",,P177:P187)","v":"60544^60542^60542^60542^60544^60541^60541^60541^60541^60541^60544^60542^60543^60543^60542^60544^60542^60541^60541^60542^60541^60541^60542^60545^60545^60545^60545^60545^60544^60541^60542^60542^60542^60541^60544^60541^60541^60542^60543^60543^60542^60541^60541^60544^60542^60541^60541^60542^60541^60541^60542^60544^60545^60545^60545^60545^60545^60542^60541^60543^60544^60543^60541^60542"},{"$nulls":12},"最终",{"$f":"_xlfn.TEXTJOIN(\"^\",,AD177:AD187)","v":"60541^60544^60542^60541^60545^60542^60543^60541^60544^60541^60542^60544^60542^60543^60541^60541^60542^60544^60545^60542"},{"$nulls":12},"最终",{"$f":"_xlfn.TEXTJOIN(\"^\",,AR177:AR187)","v":"60545^60545^60545^60545^60544^60542^60542^60544^60541^60541^60541^60541^60541^60542^60541^60543^60543^60541^60542^60544^60541^60542^60542^60542^60541^60544^60542^60541^60543^60543^60541^60542^60545^60545^60545^60545^60545^60544^60542^60541^60543^60541^60542^60544"},{"$nulls":12},"最终",{"$f":"_xlfn.TEXTJOIN(\"^\",,BF177:BF187)","v":"60543^60543^60543^60542^60542^60542^60544^60544^60541^60541^60541^60541^60545^60545^60545^60545^60544^60542^60543^60543^60542^60544^60542^60541^60541^60544^60541^60541^60542^60542^60544^60542^60543^60543^60542^60544^60542"}]
[null,null,8,null,null,null,"巨魔矛手",null,"木精灵","雪怪","木精灵",{"$nulls":6},8,{"$nulls":13},8,null,null,null,"巨魔矛手","木精灵",null,null,"木精灵",{"$nulls":5},8,{"$nulls":5},"木精灵",null,"巨魔矛手"]
[null,null,6,"木精灵","雪怪","木精灵",null,null,"雪怪","雪怪","巨魔矛手",null,"巨魔矛手",{"$nulls":4},6,{"$nulls":13},6,null,"木精灵",null,null,"雪怪","巨魔矛手",null,"巨魔矛手",{"$nulls":5},6,null,"巨魔矛手",null,null,null,"巨魔矛手","巨魔矛手","木精灵"]
[null,null,4,null,null,"巨魔矛手","雪怪","雪山蜘蛛",null,"巨魔矛手","雪怪","雪山蜘蛛","雪怪",{"$nulls":4},4,{"$nulls":13},4,"雪山蜘蛛",null,"雪怪","雪怪","巨魔矛手","雪怪","雪山蜘蛛",{"$nulls":6},4,"雪原熊",null,null,"雪怪","雪山蜘蛛",null,"雪怪","巨魔矛手"]
[null,null,2,"巨魔矛手","雪怪","雪原熊","雪怪","雪山蜘蛛","巨魔矛手","雪原熊","雪怪","雪山蜘蛛","雪原熊",{"$nulls":4},2,{"$nulls":13},2,"雪山蜘蛛","巨魔矛手","雪怪","雪原熊",null,"雪原熊","雪山蜘蛛","雪怪",{"$nulls":5},2,null,null,"木精灵","雪怪","雪山蜘蛛","雪原熊","雪怪","雪原熊"]
[null,null,1,"巨魔矛手","雪怪",null,"巨魔矛手","雪山蜘蛛","巨魔矛手",null,"巨魔矛手","雪山蜘蛛","木精灵",{"$nulls":4},1,"雪怪","巨魔矛手","雪山蜘蛛","雪原熊","雪怪","巨魔矛手","雪怪","雪山蜘蛛",{"$nulls":5},1,null,null,"雪怪",null,"巨魔矛手",null,"雪山蜘蛛","雪原熊",{"$nulls":5},1,"雪原熊","巨魔矛手",{"$nulls":4},"木精灵"]
[null,null,3,"巨魔矛手","雪怪","雪原熊","雪怪","雪山蜘蛛","巨魔矛手","雪原熊","雪怪","雪山蜘蛛","雪原熊",{"$nulls":4},3,"木精灵","雪怪","巨魔矛手","雪怪","巨魔矛手","雪原熊","巨魔矛手","巨魔矛手",{"$nulls":5},3,"雪山蜘蛛","巨魔矛手","雪怪","雪原熊",null,"雪原熊","雪山蜘蛛","雪怪",{"$nulls":5},3,null,null,"木精灵","雪怪","雪山蜘蛛","雪原熊","雪怪","雪原熊"]
[null,null,5,null,null,"巨魔矛手","雪怪","雪山蜘蛛",null,"巨魔矛手","雪怪","雪山蜘蛛","雪怪",{"$nulls":4},5,null,null,null,"木精灵","木精灵","雪怪","木精灵",{"$nulls":6},5,"雪山蜘蛛",null,"雪怪","雪怪","巨魔矛手","雪怪","雪山蜘蛛",{"$nulls":6},5,"雪原熊",null,null,"雪怪","雪山蜘蛛",null,"雪怪","巨魔矛手"]
[null,null,7,"木精灵","雪怪","木精灵",null,null,"雪怪","雪怪","巨魔矛手",null,"巨魔矛手",{"$nulls":4},7,{"$nulls":13},7,null,"木精灵",null,null,"雪怪","巨魔矛手",null,"巨魔矛手",{"$nulls":5},7,null,"巨魔矛手",null,null,null,"巨魔矛手","巨魔矛手","木精灵"]
[null,null,9,null,null,null,"巨魔矛手",null,"木精灵","雪怪","木精灵",{"$nulls":6},9,{"$nulls":13},9,null,null,null,"巨魔矛手","木精灵",null,null,"木精灵",{"$nulls":5},9,{"$nulls":5},"木精灵",null,"巨魔矛手"]
[]
[null,null,"位置",5,10,17,25,30,40,50,60,65,75,{"$nulls":4},"位置",5,10,15,25,40,56,73,80,{"$nulls":5},"位置",3,5,10,17,25,35,40,50,null,null,null,{"$f":"_xlfn.TEXTJOIN(\"^\",,AG200:AG214)","v":"101^102^104^105"},null,"位置",3,5,8,12,18,25,35,45,null,null,null,{"$f":"_xlfn.TEXTJOIN(\"^\",,AU200:AU214)","v":"4^1^5"}]
[null,null,8,null,null,null,{"$f":"$C200","v":8},null,{"$f":"$C200","v":8},8,8,{"$nulls":4},{"$f":"_xlfn.TEXTJOIN(\"^\",,D200:D214)","v":"6^2^1^3^7"},null,8,{"$nulls":13},8,null,null,null,{"$f":"$C200","v":8},{"$f":"$C200","v":8},null,null,{"$f":"$C200","v":8},null,null,null,{"$f":"_xlfn.TEXTJOIN(\"^\",,AH200:AH214)","v":"6^2^3^7"},null,8,{"$nulls":5},{"$f":"$C200","v":8},null,{"$f":"$C200","v":8},null,null,null,{"$f":"_xlfn.TEXTJOIN(\"^\",,AV200:AV214)","v":"6^1^7"}]
[null,null,6,{"$f":"$C201","v":6},{"$f":"$C201","v":6},{"$f":"$C201","v":6},null,null,6,6,6,null,{"$f":"$C201","v":6},null,null,{"$f":"_xlfn.TEXTJOIN(\"^\",,E200:E214)","v":"6^2^1^3^7"},null,6,{"$nulls":11},{"$f":"_xlfn.TEXTJOIN(\"^\",,S200:S214)","v":"0^0"},null,6,null,{"$f":"$C201","v":6},null,null,6,6,null,6,null,null,null,{"$f":"_xlfn.TEXTJOIN(\"^\",,AI200:AI214)","v":"4^2^1^3^5"},null,6,null,{"$f":"$C201","v":6},null,null,null,6,6,6,null,null,null,{"$f":"_xlfn.TEXTJOIN(\"^\",,AW200:AW214)","v":"2^3"}]
[null,null,4,null,null,4,4,null,null,4,4,null,4,null,null,{"$f":"_xlfn.TEXTJOIN(\"^\",,F200:F214)","v":"6^4^2^3^5^7"},null,4,{"$nulls":11},{"$f":"_xlfn.TEXTJOIN(\"^\",,T200:T214)","v":"0^0"},null,4,null,null,{"$f":"$C202","v":4},4,{"$f":"$C202","v":4},4,{"$nulls":5},{"$f":"_xlfn.TEXTJOIN(\"^\",,AJ200:AJ214)","v":"8^4^2^3^5^9"},null,4,{"$f":"$C202","v":4},null,null,{"$f":"$C202","v":4},null,null,4,4,null,null,null,{"$f":"_xlfn.TEXTJOIN(\"^\",,AX200:AX214)","v":"4^2^3^5"}]
[null,null,2,{"$f":"$C203","v":2},{"$f":"$C203","v":2},{"$f":"$C203","v":2},2,null,{"$f":"$C203","v":2},2,2,null,2,null,null,{"$f":"_xlfn.TEXTJOIN(\"^\",,G200:G214)","v":"8^4^2^1^3^5^9"},null,2,{"$nulls":11},{"$f":"_xlfn.TEXTJOIN(\"^\",,U200:U214)","v":"100^0"},null,2,null,{"$f":"$C203","v":2},2,2,null,2,null,{"$f":"$C203","v":2},null,null,null,{"$f":"_xlfn.TEXTJOIN(\"^\",,AK200:AK214)","v":"8^6^4^1^5^7^9"},null,2,null,null,{"$f":"$C203","v":2},2,null,{"$f":"$C203","v":2},2,2,null,null,null,{"$f":"_xlfn.TEXTJOIN(\"^\",,AY200:AY214)","v":"101^102^104^105"}]
[null,null,1,{"$f":"$C204","v":1},1,null,1,null,1,null,1,null,1,null,null,{"$f":"_xlfn.TEXTJOIN(\"^\",,H200:H214)","v":"101^102^103^104^105"},null,1,0,0,100,0,0,0,0,100,null,null,null,{"$f":"_xlfn.TEXTJOIN(\"^\",,V200:V214)","v":"0^0^0"},null,1,null,null,1,null,{"$f":"$C204","v":1},null,null,1,null,null,null,{"$f":"_xlfn.TEXTJOIN(\"^\",,AL200:AL214)","v":"6^4^2^3^5^7"},null,1,{"$f":"$C204","v":1},1,{"$nulls":4},1,{"$nulls":4},{"$f":"_xlfn.TEXTJOIN(\"^\",,AZ200:AZ214)","v":"8^6^2^3^7^9"}]
[null,null,3,{"$f":"$C205","v":3},3,3,3,null,3,3,3,null,3,null,null,{"$f":"_xlfn.TEXTJOIN(\"^\",,I200:I214)","v":"8^6^2^1^3^7^9"},null,3,0,0,0,0,0,0,0,0,null,null,null,{"$f":"_xlfn.TEXTJOIN(\"^\",,W200:W214)","v":"0^0^0"},null,3,null,{"$f":"$C205","v":3},3,3,null,{"$f":"$C205","v":3},null,3,null,null,null,{"$f":"_xlfn.TEXTJOIN(\"^\",,AM200:AM214)","v":"101^102^103^104^105"},null,3,null,null,{"$f":"$C205","v":3},3,null,{"$f":"$C205","v":3},3,3,null,null,null,{"$f":"_xlfn.TEXTJOIN(\"^\",,BA200:BA214)","v":"6^4^2^1^3^5^7"}]
[null,null,5,null,null,5,5,null,null,5,5,null,5,null,null,{"$f":"_xlfn.TEXTJOIN(\"^\",,J200:J214)","v":"8^6^4^2^3^5^7^9"},null,5,null,null,null,0,0,0,0,{"$nulls":4},{"$f":"_xlfn.TEXTJOIN(\"^\",,X200:X214)","v":"0^0^0"},null,5,null,null,5,5,5,5,{"$nulls":5},{"$f":"_xlfn.TEXTJOIN(\"^\",,AN200:AN214)","v":"8^6^2^1^3^7^9"},null,5,{"$f":"$C206","v":5},null,null,5,null,null,5,5,null,null,null,{"$f":"_xlfn.TEXTJOIN(\"^\",,BB200:BB214)","v":"8^6^4^2^3^5^7^9"}]
[null,null,7,{"$f":"$C207","v":7},{"$f":"$C207","v":7},7,null,null,{"$f":"$C207","v":7},7,7,null,7,null,null,{"$f":"_xlfn.TEXTJOIN(\"^\",,K200:K214)","v":"8^6^4^2^1^3^5^7^9"},null,7,{"$nulls":11},{"$f":"_xlfn.TEXTJOIN(\"^\",,Y200:Y214)","v":"0^0^0"},null,7,null,{"$f":"$C207","v":7},null,null,7,7,null,{"$f":"$C207","v":7},null,null,null,{"$f":"_xlfn.TEXTJOIN(\"^\",,AO200:AO214)","v":""},null,7,null,{"$f":"$C207","v":7},null,null,null,{"$f":"$C207","v":7},7,7,null,null,null,{"$f":"_xlfn.TEXTJOIN(\"^\",,BC200:BC214)","v":""}]
[null,null,9,null,null,null,{"$f":"$C208","v":9},null,9,9,9,{"$nulls":4},{"$f":"_xlfn.TEXTJOIN(\"^\",,L200:L214)","v":"101^102^103^104^105"},null,9,{"$nulls":13},9,null,null,null,{"$f":"$C208","v":9},9,null,null,9,null,null,null,{"$f":"_xlfn.TEXTJOIN(\"^\",,AP200:AP214)","v":""},null,9,{"$nulls":5},9,null,9,null,null,null,{"$f":"_xlfn.TEXTJOIN(\"^\",,BD200:BD214)","v":""}]
[null,null,"空降",{"$nulls":12},{"$f":"_xlfn.TEXTJOIN(\"^\",,M200:M214)","v":"6^4^2^1^3^5^7"},null,"空降",{"$nulls":13},"空降",{"$nulls":11},{"$f":"_xlfn.TEXTJOIN(\"^\",,AQ200:AQ208)","v":""},null,"空降",{"$nulls":11},{"$f":"_xlfn.TEXTJOIN(\"^\",,BE200:BE208)","v":""}]
[null,null,101,{"$nulls":4},{"$f":"$C210","v":101},null,null,null,{"$f":"$C210","v":101},null,null,null,{"$f":"_xlfn.TEXTJOIN(\"^\",,N200:N214)","v":""},null,101,{"$nulls":11},{"$f":"_xlfn.TEXTJOIN(\"^\",,Z200:Z214)","v":"100^0"},null,101,{"$f":"$C210","v":101},{"$nulls":5},{"$f":"$C210","v":101},{"$nulls":6},101,{"$nulls":4},{"$f":"$C210","v":101}]
[null,null,102,{"$nulls":4},102,null,null,null,102,{"$nulls":5},102,{"$nulls":11},{"$f":"_xlfn.TEXTJOIN(\"^\",,AA200:AA214)","v":""},null,102,102,{"$nulls":5},102,{"$nulls":6},102,{"$nulls":4},102]
[null,null,103,{"$nulls":4},103,null,null,null,103,{"$nulls":5},103,{"$nulls":11},{"$f":"_xlfn.TEXTJOIN(\"^\",,AB200:AB214)","v":""},null,103,{"$nulls":6},103,{"$nulls":6},103]
[null,null,104,{"$nulls":4},104,null,null,null,104,{"$nulls":5},104,{"$nulls":13},104,{"$f":"$C213","v":104},{"$nulls":5},104,{"$nulls":6},104,{"$nulls":4},{"$f":"$C213","v":104}]
[null,null,105,{"$nulls":4},105,null,null,null,105,{"$nulls":5},105,{"$nulls":13},105,105,{"$nulls":5},105,{"$nulls":6},105,{"$nulls":4},105]
[{"$nulls":14},"最终",{"$f":"_xlfn.TEXTJOIN(\"^\",,P200:P214)","v":"6^2^1^3^7^6^2^1^3^7^6^4^2^3^5^7^8^4^2^1^3^5^9^101^102^103^104^105^8^6^2^1^3^7^9^8^6^4^2^3^5^7^9^8^6^4^2^1^3^5^7^9^101^102^103^104^105^6^4^2^1^3^5^7"},{"$nulls":12},"最终",{"$f":"_xlfn.TEXTJOIN(\"^\",,AD200:AD214)","v":"0^0^0^0^100^0^0^0^0^0^0^0^0^0^0^0^0^0^100^0"},{"$nulls":12},"最终",{"$f":"_xlfn.TEXTJOIN(\"^\",,AR199:AR214)","v":"101^102^104^105^6^2^3^7^4^2^1^3^5^8^4^2^3^5^9^8^6^4^1^5^7^9^6^4^2^3^5^7^101^102^103^104^105^8^6^2^1^3^7^9"},{"$nulls":12},"最终",{"$f":"_xlfn.TEXTJOIN(\"^\",,BF199:BF214)","v":"4^1^5^6^1^7^2^3^4^2^3^5^101^102^104^105^8^6^2^3^7^9^6^4^2^1^3^5^7^8^6^4^2^3^5^7^9"}]
[]
[null,null,"时间",5,10,17,25,30,40,50,60,65,75,{"$nulls":4},"时间",5,10,15,25,40,56,73,80,null,null,null,{"$f":"_xlfn.TEXTJOIN(\"^\",,S218:S226)","v":"19^6"},null,"时间",3,5,10,17,25,35,40,50,null,null,null,{"$f":"_xlfn.TEXTJOIN(\"^\",,AG218:AG226)","v":"3^3^3^3"},null,"时间",3,5,8,12,18,25,35,45,null,null,null,{"$f":"_xlfn.TEXTJOIN(\"^\",,AU218:AU226)","v":"3^3^3"}]
[null,null,8,null,null,null,{"$f":"G$217","v":25},null,{"$f":"I$217","v":40},50,60,{"$nulls":4},{"$f":"_xlfn.TEXTJOIN(\"^\",,D218:D227)","v":"5^5^5^5^5"},null,8,{"$nulls":11},{"$f":"_xlfn.TEXTJOIN(\"^\",,T218:T226)","v":"3^9"},null,8,null,null,null,{"$f":"AJ$217","v":17},{"$f":"AK$217","v":25},null,null,{"$f":"AN$217","v":50},null,null,null,{"$f":"_xlfn.TEXTJOIN(\"^\",,AH218:AH226)","v":"5^5^5^5"},null,8,{"$nulls":5},{"$f":"AZ$217","v":25},null,{"$f":"BB$217","v":45},null,null,null,{"$f":"_xlfn.TEXTJOIN(\"^\",,AV218:AV226)","v":"5^5^5"}]
[null,null,6,{"$f":"D$217","v":5},{"$f":"E$217","v":10},{"$f":"F$217","v":17},null,null,40,50,60,null,{"$f":"M$217","v":75},null,null,{"$f":"_xlfn.TEXTJOIN(\"^\",,E218:E227)","v":"10^10^10^10^10"},null,6,{"$nulls":11},{"$f":"_xlfn.TEXTJOIN(\"^\",,U218:U226)","v":"8^4"},null,6,null,{"$f":"AH$217","v":5},null,null,25,35,null,{"$f":"AN$217","v":50},null,null,null,{"$f":"_xlfn.TEXTJOIN(\"^\",,AI218:AI226)","v":"10^10^10^10^10"},null,6,null,{"$f":"AV$217","v":5},null,null,null,25,35,45,null,null,null,{"$f":"_xlfn.TEXTJOIN(\"^\",,AW218:AW226)","v":"8^8"}]
[null,null,4,null,null,17,25,30,null,50,60,65,75,null,null,{"$f":"_xlfn.TEXTJOIN(\"^\",,F218:F227)","v":"17^17^17^17^17^17"},null,4,{"$nulls":11},{"$f":"_xlfn.TEXTJOIN(\"^\",,V218:V226)","v":"2^10^2"},null,4,{"$f":"AG$217","v":3},null,{"$f":"AI$217","v":10},17,25,35,40,{"$nulls":4},{"$f":"_xlfn.TEXTJOIN(\"^\",,AJ218:AJ226)","v":"17^17^17^17^17^17"},null,4,{"$f":"AU$217","v":3},null,null,{"$f":"AX$217","v":12},18,null,35,45,null,null,null,{"$f":"_xlfn.TEXTJOIN(\"^\",,AX218:AX226)","v":"12^12^12^12"}]
[null,null,2,{"$f":"D$217","v":5},{"$f":"E$217","v":10},17,25,30,40,50,60,65,75,null,null,{"$f":"_xlfn.TEXTJOIN(\"^\",,G218:G227)","v":"25^25^25^25^25^25^25"},null,2,{"$nulls":11},{"$f":"_xlfn.TEXTJOIN(\"^\",,W218:W226)","v":"11^3^2"},null,2,3,{"$f":"AH$217","v":5},10,17,null,35,40,50,null,null,null,{"$f":"_xlfn.TEXTJOIN(\"^\",,AK218:AK226)","v":"25^25^25^25^25^25^25"},null,2,null,null,{"$f":"AW$217","v":8},12,18,{"$f":"AZ$217","v":25},35,45,null,null,null,{"$f":"_xlfn.TEXTJOIN(\"^\",,AY218:AY226)","v":"18^18^18^18"}]
[null,null,1,{"$f":"D$217","v":5},10,null,25,30,40,null,60,65,75,null,null,{"$f":"_xlfn.TEXTJOIN(\"^\",,H218:H227)","v":"30^30^30^30^30"},null,1,19,3,8,2,11,3,12,8,null,null,null,{"$f":"_xlfn.TEXTJOIN(\"^\",,X218:X226)","v":"3^2^12"},null,1,null,null,10,null,{"$f":"AK$217","v":25},null,40,50,null,null,null,{"$f":"_xlfn.TEXTJOIN(\"^\",,AL218:AL226)","v":"35^35^35^35^35^35"},null,1,{"$f":"AU$217","v":3},{"$f":"AV$217","v":5},{"$nulls":4},35,{"$nulls":4},{"$f":"_xlfn.TEXTJOIN(\"^\",,AZ218:AZ226)","v":"25^25^25^25^25^25"}]
[null,null,3,{"$f":"D$217","v":5},10,17,25,30,40,50,60,65,75,null,null,{"$f":"_xlfn.TEXTJOIN(\"^\",,I218:I227)","v":"40^40^40^40^40^40^40"},null,3,6,9,4,10,3,2,3,4,null,null,null,{"$f":"_xlfn.TEXTJOIN(\"^\",,Y218:Y226)","v":"12^3^2"},null,3,{"$f":"AG$217","v":3},{"$f":"AH$217","v":5},10,17,null,{"$f":"AL$217","v":35},40,50,null,null,null,{"$f":"_xlfn.TEXTJOIN(\"^\",,AM218:AM226)","v":"40^40^40^40^40"},null,3,null,null,{"$f":"AW$217","v":8},{"$f":"AX$217","v":12},18,{"$f":"AZ$217","v":25},35,45,null,null,null,{"$f":"_xlfn.TEXTJOIN(\"^\",,BA218:BA226)","v":"35^35^35^35^35^35^35"}]
[null,null,5,null,null,17,25,30,null,50,60,65,75,null,null,{"$f":"_xlfn.TEXTJOIN(\"^\",,J218:J227)","v":"50^50^50^50^50^50^50^50"},null,5,null,null,null,2,2,12,2,{"$nulls":4},{"$f":"_xlfn.TEXTJOIN(\"^\",,Z218:Z226)","v":"8^4"},null,5,3,null,10,17,25,35,40,{"$nulls":4},{"$f":"_xlfn.TEXTJOIN(\"^\",,AN218:AN226)","v":"50^50^50^50^50^50^50"},null,5,{"$f":"AU$217","v":3},null,null,12,18,null,35,45,null,null,null,{"$f":"_xlfn.TEXTJOIN(\"^\",,BB218:BB226)","v":"45^45^45^45^45^45^45^45"}]
[null,null,7,{"$f":"D$217","v":5},{"$f":"E$217","v":10},17,null,null,{"$f":"I$217","v":40},50,60,null,75,null,null,{"$f":"_xlfn.TEXTJOIN(\"^\",,K218:K227)","v":"60^60^60^60^60^60^60^60^60"},null,7,{"$nulls":11},{"$f":"_xlfn.TEXTJOIN(\"^\",,AA218:AA226)","v":""},null,7,null,{"$f":"AH$217","v":5},null,null,25,35,null,{"$f":"AN$217","v":50},null,null,null,{"$f":"_xlfn.TEXTJOIN(\"^\",,AO218:AO226)","v":""},null,7,null,{"$f":"AV$217","v":5},null,null,null,{"$f":"AZ$217","v":25},35,45,null,null,null,{"$f":"_xlfn.TEXTJOIN(\"^\",,BC218:BC226)","v":""}]
[null,null,9,null,null,null,{"$f":"G$217","v":25},null,40,50,60,{"$nulls":4},{"$f":"_xlfn.TEXTJOIN(\"^\",,L218:L227)","v":"65^65^65^65^65"},null,9,{"$nulls":11},{"$f":"_xlfn.TEXTJOIN(\"^\",,AB218:AB226)","v":""},null,9,null,null,null,{"$f":"AJ$217","v":17},25,null,null,50,null,null,null,{"$f":"_xlfn.TEXTJOIN(\"^\",,AP218:AP226)","v":""},null,9,{"$nulls":5},25,null,45,null,null,null,{"$f":"_xlfn.TEXTJOIN(\"^\",,BD218:BD226)","v":""}]
[{"$nulls":15},{"$f":"_xlfn.TEXTJOIN(\"^\",,M218:M227)","v":"75^75^75^75^75^75^75"},{"$nulls":13},{"$f":"_xlfn.TEXTJOIN(\"^\",,AC218:AC226)","v":""},{"$nulls":13},{"$f":"_xlfn.TEXTJOIN(\"^\",,AQ218:AQ226)","v":""},{"$nulls":13},{"$f":"_xlfn.TEXTJOIN(\"^\",,BE218:BE226)","v":""}]
[{"$nulls":15},{"$f":"_xlfn.TEXTJOIN(\"^\",,N218:N227)","v":""},{"$nulls":12},"最终",{"$f":"_xlfn.TEXTJOIN(\"^\",,AD217:AD227)","v":"19^6^3^9^8^4^2^10^2^11^3^2^3^2^12^12^3^2^8^4"},{"$nulls":12},"最终",{"$f":"_xlfn.TEXTJOIN(\"^\",,AR217:AR227)","v":"3^3^3^3^5^5^5^5^10^10^10^10^10^17^17^17^17^17^17^25^25^25^25^25^25^25^35^35^35^35^35^35^40^40^40^40^40^50^50^50^50^50^50^50"},{"$nulls":12},"最终",{"$f":"_xlfn.TEXTJOIN(\"^\",,BF217:BF227)","v":"3^3^3^5^5^5^8^8^12^12^12^12^18^18^18^18^25^25^25^25^25^25^35^35^35^35^35^35^35^45^45^45^45^45^45^45^45"}]
[{"$nulls":14},"最终",{"$f":"_xlfn.TEXTJOIN(\"^\",,P218:P228)","v":"5^5^5^5^5^10^10^10^10^10^17^17^17^17^17^17^25^25^25^25^25^25^25^30^30^30^30^30^40^40^40^40^40^40^40^50^50^50^50^50^50^50^50^60^60^60^60^60^60^60^60^60^65^65^65^65^65^75^75^75^75^75^75^75"}]
[{"$nulls":15},{"$f":"COUNT(D218:M226)","v":64},{"$nulls":13},{"$f":"SUM(S218:Z226)","v":125},{"$nulls":13},{"$f":"COUNT(AG218:AN226)","v":44},{"$nulls":13},{"$f":"COUNT(AU218:BB226)","v":37}]
[{"$nulls":57},{"$f":"SUM(P230:BF230)","v":270}]
[]
[{"$nulls":4},{"$f":"E234-D234","v":10},{"$f":"F234-E234","v":15},5,15,16,17,17,5,15,{"$nulls":6},{"$f":"T234-S234","v":5},5,7,8,10,5,10,{"$nulls":7},{"$f":"AH234-AG234","v":6},5,15,16,4,15,15,{"$nulls":7},{"$f":"AV234-AU234","v":2},3,4,6,7,10,10]
[3,"雪谷-5","波1·怪物",5,15,30,35,50,66,83,100,105,120,null,null,null,1,"波2·怪物",5,10,15,22,30,40,45,55,{"$nulls":4},3,"波3·怪物",4,10,15,30,46,50,65,80,{"$nulls":4},1,"波4·怪物",3,5,8,12,18,25,35,45]
[null,"5m",8,{"$nulls":12},{"$f":"_xlfn.TEXTJOIN(\"^\",,D235:D244)","v":"60551^60554"},null,8,null,null,null,60554,null,60552,{"$nulls":5},{"$f":"_xlfn.TEXTJOIN(\"^\",,S235:S244)","v":"60555^60555^60555^60555"},null,8,{"$nulls":11},{"$f":"_xlfn.TEXTJOIN(\"^\",,AG235:AG244)","v":"60552^60554^60551"},null,8,{"$nulls":5},60553,null,60554,null,null,null,{"$f":"_xlfn.TEXTJOIN(\"^\",,AU235:AU244)","v":"60554^60553^60553^60554"}]
[null,null,6,{"$nulls":12},{"$f":"_xlfn.TEXTJOIN(\"^\",,E235:E244)","v":"60552^60551"},null,6,null,60552,60554,null,60553,null,null,60554,null,null,null,{"$f":"_xlfn.TEXTJOIN(\"^\",,T235:T244)","v":"60552^60552^60552^60552"},null,6,{"$nulls":11},{"$f":"_xlfn.TEXTJOIN(\"^\",,AH235:AH244)","v":"60553^60551"},null,6,null,60552,null,60551,60554,null,60552,60552,null,null,null,{"$f":"_xlfn.TEXTJOIN(\"^\",,AV235:AV244)","v":"60552^60552^60552"}]
[null,null,4,{"$nulls":12},{"$f":"_xlfn.TEXTJOIN(\"^\",,F235:F244)","v":"60553^60551^60552"},null,4,60555,null,null,60552,60552,60551,60555,60552,null,null,null,{"$f":"_xlfn.TEXTJOIN(\"^\",,U235:U244)","v":"60554^60553^60553^60554"},null,4,{"$nulls":11},{"$f":"_xlfn.TEXTJOIN(\"^\",,AI235:AI244)","v":"60555^60552"},null,4,60554,null,60555,60551,60552,60551,60551,60551,null,null,null,{"$f":"_xlfn.TEXTJOIN(\"^\",,AW235:AW244)","v":"60555^60555^60555^60555"}]
[null,null,2,{"$nulls":12},{"$f":"_xlfn.TEXTJOIN(\"^\",,G235:G244)","v":"60555^60553"},null,2,60555,null,60553,60551,60552,60553,60555,{"$nulls":4},{"$f":"_xlfn.TEXTJOIN(\"^\",,V235:V244)","v":"60554^60552^60551^60551^60552^60554"},null,2,{"$nulls":11},{"$f":"_xlfn.TEXTJOIN(\"^\",,AJ235:AJ244)","v":"60553^60552^60554"},null,2,60553,null,60555,null,60553,60551,60551,60553,null,null,null,{"$f":"_xlfn.TEXTJOIN(\"^\",,AX235:AX244)","v":"60551^60551^60551^60551^60551"}]
[null,null,1,60551,60552,60553,60555,60551,60552,60551,60552,60555,60554,null,null,{"$f":"_xlfn.TEXTJOIN(\"^\",,H235:H244)","v":"60551^60552^60554"},null,1,null,60552,null,null,60554,null,60555,60556,null,null,null,{"$f":"_xlfn.TEXTJOIN(\"^\",,W235:W244)","v":"60553^60552^60552^60554^60552^60552^60553"},null,1,60552,60553,60555,60553,60552,60555,60553,60553,null,null,null,{"$f":"_xlfn.TEXTJOIN(\"^\",,AK235:AK244)","v":"60552^60551"},null,1,null,60552,null,60551,null,60554,60553,{"$nulls":4},{"$f":"_xlfn.TEXTJOIN(\"^\",,AY235:AY244)","v":"60554^60552^60553^60553^60552^60554"}]
[null,null,3,60554,60551,60551,60553,60552,60553,60552,60553,60552,60553,null,null,{"$f":"_xlfn.TEXTJOIN(\"^\",,I235:I244)","v":"60552^60553^60554^60551"},null,3,60555,60552,60553,60551,60552,60553,60555,{"$nulls":4},{"$f":"_xlfn.TEXTJOIN(\"^\",,X235:X244)","v":"60552^60551^60553^60553^60551^60552"},null,3,60554,60551,60552,60552,60551,60554,60552,60551,null,null,null,{"$f":"_xlfn.TEXTJOIN(\"^\",,AL235:AL244)","v":"60555^60554^60553"},null,3,60553,null,60555,null,60553,60551,60551,60553,null,null,null,{"$f":"_xlfn.TEXTJOIN(\"^\",,AZ235:AZ244)","v":"60553^60551^60551^60554^60551^60551^60553"}]
[null,null,5,null,null,60552,null,60554,60554,null,60554,null,60552,null,null,{"$f":"_xlfn.TEXTJOIN(\"^\",,J235:J244)","v":"60551^60552"},null,5,60555,null,null,60552,60552,60551,60555,60552,null,null,null,{"$f":"_xlfn.TEXTJOIN(\"^\",,Y235:Y244)","v":"60555^60555^60555^60555^60555"},null,5,60551,null,null,60554,null,60553,60554,60552,null,null,null,{"$f":"_xlfn.TEXTJOIN(\"^\",,AM235:AM244)","v":"60553^60552^60554^60551"},null,5,60554,null,60555,60551,60552,60551,60551,60551,null,null,null,{"$f":"_xlfn.TEXTJOIN(\"^\",,BA235:BA244)","v":"60552^60551^60551^60553^60551^60551^60552"}]
[null,null,7,{"$nulls":5},60551,null,60551,null,60551,null,null,{"$f":"_xlfn.TEXTJOIN(\"^\",,K235:K244)","v":"60552^60553^60554^60551"},null,7,null,60552,60554,null,60553,null,null,60554,null,null,null,{"$f":"_xlfn.TEXTJOIN(\"^\",,Z235:Z244)","v":"60554^60552^60556^60552^60554"},null,7,{"$nulls":6},60551,{"$nulls":4},{"$f":"_xlfn.TEXTJOIN(\"^\",,AN235:AN244)","v":"60553^60551^60552"},null,7,null,60552,null,60551,60554,null,60552,60552,null,null,null,{"$f":"_xlfn.TEXTJOIN(\"^\",,BB235:BB244)","v":"60554^60552^60551^60553^60553^60551^60552^60554"}]
[null,null,9,{"$nulls":12},{"$f":"_xlfn.TEXTJOIN(\"^\",,L235:L244)","v":"60555^60552"},null,9,null,null,null,60554,null,60552,{"$nulls":5},{"$f":"_xlfn.TEXTJOIN(\"^\",,AA235:AA244)","v":""},null,9,{"$nulls":11},{"$f":"_xlfn.TEXTJOIN(\"^\",,AO235:AO244)","v":""},null,9,{"$nulls":5},60553,null,60554,null,null,null,{"$f":"_xlfn.TEXTJOIN(\"^\",,BC235:BC244)","v":""}]
[{"$nulls":15},{"$f":"_xlfn.TEXTJOIN(\"^\",,M235:M244)","v":"60554^60553^60552^60551"},{"$nulls":13},{"$f":"_xlfn.TEXTJOIN(\"^\",,AB235:AB244)","v":""},{"$nulls":13},{"$f":"_xlfn.TEXTJOIN(\"^\",,AP235:AP244)","v":""},{"$nulls":13},{"$f":"_xlfn.TEXTJOIN(\"^\",,BD235:BD244)","v":""}]
[{"$nulls":15},{"$f":"_xlfn.TEXTJOIN(\"^\",,N235:N244)","v":""},{"$nulls":13},{"$f":"_xlfn.TEXTJOIN(\"^\",,AC235:AC244)","v":""},{"$nulls":13},{"$f":"_xlfn.TEXTJOIN(\"^\",,AQ235:AQ244)","v":""},{"$nulls":13},{"$f":"_xlfn.TEXTJOIN(\"^\",,BE235:BE244)","v":""}]
[{"$nulls":14},"最终",{"$f":"_xlfn.TEXTJOIN(\"^\",,P235:P245)","v":"60551^60554^60552^60551^60553^60551^60552^60555^60553^60551^60552^60554^60552^60553^60554^60551^60551^60552^60552^60553^60554^60551^60555^60552^60554^60553^60552^60551"},{"$nulls":12},"最终",{"$f":"_xlfn.TEXTJOIN(\"^\",,AD235:AD245)","v":"60555^60555^60555^60555^60552^60552^60552^60552^60554^60553^60553^60554^60554^60552^60551^60551^60552^60554^60553^60552^60552^60554^60552^60552^60553^60552^60551^60553^60553^60551^60552^60555^60555^60555^60555^60555^60554^60552^60556^60552^60554"},{"$nulls":12},"最终",{"$f":"_xlfn.TEXTJOIN(\"^\",,AR235:AR245)","v":"60552^60554^60551^60553^60551^60555^60552^60553^60552^60554^60552^60551^60555^60554^60553^60553^60552^60554^60551^60553^60551^60552"},{"$nulls":12},"最终",{"$f":"_xlfn.TEXTJOIN(\"^\",,BF235:BF245)","v":"60554^60553^60553^60554^60552^60552^60552^60555^60555^60555^60555^60551^60551^60551^60551^60551^60554^60552^60553^60553^60552^60554^60553^60551^60551^60554^60551^60551^60553^60552^60551^60551^60553^60551^60551^60552^60554^60552^60551^60553^60553^60551^60552^60554"}]
[null,null,8,{"$nulls":14},8,null,null,null,"木精灵",null,"巨魔矛手",{"$nulls":7},8,{"$nulls":13},8,{"$nulls":5},"巨魔矛手",null,"木精灵"]
[null,null,6,{"$nulls":14},6,null,"巨魔矛手","木精灵",null,"巨魔矛手",null,null,"木精灵",{"$nulls":5},6,{"$nulls":13},6,null,"巨魔矛手",null,"雪怪","木精灵",null,"巨魔矛手","巨魔矛手"]
[null,null,4,{"$nulls":14},4,"雪山蜘蛛",null,null,"巨魔矛手","巨魔矛手","雪怪","雪山蜘蛛","巨魔矛手",{"$nulls":5},4,{"$nulls":13},4,"木精灵",null,"雪山蜘蛛","雪怪","巨魔矛手","雪怪","雪怪","雪怪"]
[null,null,2,{"$nulls":14},2,"雪山蜘蛛",null,"雪原熊","雪怪","雪原熊","雪原熊","雪山蜘蛛",{"$nulls":6},2,{"$nulls":13},2,"雪原熊",null,"雪山蜘蛛",null,"雪原熊","雪怪","雪怪","雪原熊"]
[null,null,1,"雪怪","巨魔矛手","雪原熊","雪山蜘蛛","雪怪","巨魔矛手","雪怪","巨魔矛手","雪山蜘蛛","木精灵",{"$nulls":4},1,null,"巨魔矛手",null,null,"木精灵",null,"雪山蜘蛛","冰霜巨人",{"$nulls":5},1,"巨魔矛手","雪原熊","雪山蜘蛛","雪原熊","巨魔矛手","雪山蜘蛛","雪原熊","雪原熊",{"$nulls":5},1,null,"巨魔矛手",null,"雪怪",null,"木精灵","雪原熊"]
[null,null,3,"木精灵","雪怪","雪怪","雪原熊","巨魔矛手","雪原熊","巨魔矛手","雪原熊","巨魔矛手","雪原熊",{"$nulls":4},3,"雪山蜘蛛","巨魔矛手","雪原熊","雪怪","雪原熊","雪原熊","雪山蜘蛛",{"$nulls":6},3,"木精灵","雪怪","巨魔矛手","巨魔矛手","雪怪","木精灵","巨魔矛手","雪怪",{"$nulls":5},3,"雪原熊",null,"雪山蜘蛛",null,"雪原熊","雪怪","雪怪","雪原熊"]
[null,null,5,null,null,"巨魔矛手",null,"木精灵","木精灵",null,"木精灵",null,"巨魔矛手",{"$nulls":4},5,"雪山蜘蛛",null,null,"巨魔矛手","巨魔矛手","雪怪","雪山蜘蛛","巨魔矛手",{"$nulls":5},5,"雪怪",null,null,"木精灵",null,"雪原熊","木精灵","巨魔矛手",{"$nulls":5},5,"木精灵",null,"雪山蜘蛛","雪怪","巨魔矛手","雪怪","雪怪","雪怪"]
[null,null,7,{"$nulls":5},"雪怪",null,"雪怪",null,"雪怪",{"$nulls":4},7,null,"巨魔矛手","木精灵",null,"巨魔矛手",null,null,"木精灵",{"$nulls":5},7,{"$nulls":6},"雪怪",{"$nulls":6},7,null,"巨魔矛手",null,"雪怪","木精灵",null,"巨魔矛手","巨魔矛手"]
[null,null,9,{"$nulls":14},9,null,null,null,"木精灵",null,"巨魔矛手",{"$nulls":7},9,{"$nulls":13},9,{"$nulls":5},"巨魔矛手",null,"木精灵"]
[]
[null,null,"位置",5,15,30,35,50,66,83,100,105,120,{"$nulls":4},"位置",5,10,15,22,30,40,45,55,{"$nulls":5},"位置",4,10,15,30,46,50,65,80,null,null,null,{"$f":"_xlfn.TEXTJOIN(\"^\",,AG258:AG272)","v":"0^0^0"},null,"位置",3,5,8,12,18,25,35,45,null,null,null,{"$f":"_xlfn.TEXTJOIN(\"^\",,AU258:AU272)","v":"4^2^3^5"}]
[null,null,8,{"$nulls":12},{"$f":"_xlfn.TEXTJOIN(\"^\",,D258:D272)","v":"0^0"},null,8,null,null,null,{"$f":"$C258","v":8},null,{"$f":"$C258","v":8},{"$nulls":7},8,{"$nulls":11},{"$f":"_xlfn.TEXTJOIN(\"^\",,AH258:AH272)","v":"0^0"},null,8,{"$nulls":5},{"$f":"$C258","v":8},null,{"$f":"$C258","v":8},null,null,null,{"$f":"_xlfn.TEXTJOIN(\"^\",,AV258:AV272)","v":"6^1^7"}]
[null,null,6,{"$nulls":12},{"$f":"_xlfn.TEXTJOIN(\"^\",,E258:E272)","v":"0^0"},null,6,null,{"$f":"$C259","v":6},{"$f":"$C259","v":6},null,{"$f":"$C259","v":6},null,null,{"$f":"$C259","v":6},null,null,null,{"$f":"_xlfn.TEXTJOIN(\"^\",,S258:S272)","v":"101^102^104^105"},null,6,{"$nulls":11},{"$f":"_xlfn.TEXTJOIN(\"^\",,AI258:AI272)","v":"100^0"},null,6,null,{"$f":"$C259","v":6},null,{"$f":"$C259","v":6},6,null,{"$f":"$C259","v":6},6,null,null,null,{"$f":"_xlfn.TEXTJOIN(\"^\",,AW258:AW272)","v":"101^102^104^105"}]
[null,null,4,{"$nulls":12},{"$f":"_xlfn.TEXTJOIN(\"^\",,F258:F272)","v":"0^0^0"},null,4,null,null,null,{"$f":"$C260","v":4},4,4,null,4,null,null,null,{"$f":"_xlfn.TEXTJOIN(\"^\",,T258:T272)","v":"6^1^3^7"},null,4,{"$nulls":11},{"$f":"_xlfn.TEXTJOIN(\"^\",,AJ258:AJ272)","v":"0^0^0"},null,4,{"$f":"$C260","v":4},null,null,4,4,4,4,4,null,null,null,{"$f":"_xlfn.TEXTJOIN(\"^\",,AX258:AX272)","v":"6^4^1^5^7"}]
[null,null,2,{"$nulls":12},{"$f":"_xlfn.TEXTJOIN(\"^\",,G258:G272)","v":"100^0"},null,2,null,null,{"$f":"$C261","v":2},2,2,2,{"$nulls":5},{"$f":"_xlfn.TEXTJOIN(\"^\",,U258:U272)","v":"6^2^3^7"},null,2,{"$nulls":11},{"$f":"_xlfn.TEXTJOIN(\"^\",,AK258:AK272)","v":"0^0"},null,2,2,null,null,null,{"$f":"$C261","v":2},2,2,2,null,null,null,{"$f":"_xlfn.TEXTJOIN(\"^\",,AY258:AY272)","v":"6^4^2^3^5^7"}]
[null,null,1,0,0,0,100,0,0,0,0,100,0,null,null,{"$f":"_xlfn.TEXTJOIN(\"^\",,H258:H272)","v":"0^0^0"},null,1,null,{"$f":"$C262","v":1},null,null,1,null,null,{"$f":"$C262","v":1},null,null,null,{"$f":"_xlfn.TEXTJOIN(\"^\",,V258:V272)","v":"8^4^2^3^5^9"},null,1,0,0,100,0,0,100,0,0,null,null,null,{"$f":"_xlfn.TEXTJOIN(\"^\",,AL258:AL272)","v":"100^0^0"},null,1,null,{"$f":"$C262","v":1},null,{"$f":"$C262","v":1},null,1,1,{"$nulls":4},{"$f":"_xlfn.TEXTJOIN(\"^\",,AZ258:AZ272)","v":"8^4^2^1^3^5^9"}]
[null,null,3,0,0,0,0,0,0,0,0,0,0,null,null,{"$f":"_xlfn.TEXTJOIN(\"^\",,I258:I272)","v":"0^0^0^0"},null,3,null,{"$f":"$C263","v":3},{"$f":"$C263","v":3},{"$f":"$C263","v":3},3,3,{"$nulls":5},{"$f":"_xlfn.TEXTJOIN(\"^\",,W258:W272)","v":"6^4^2^1^3^5^7"},null,3,0,0,0,0,0,0,0,0,null,null,null,{"$f":"_xlfn.TEXTJOIN(\"^\",,AM258:AM272)","v":"0^0^0^0"},null,3,{"$f":"$C263","v":3},null,null,null,{"$f":"$C263","v":3},3,3,3,null,null,null,{"$f":"_xlfn.TEXTJOIN(\"^\",,BA258:BA272)","v":"6^4^2^1^3^5^7"}]
[null,null,5,null,null,0,null,0,0,null,0,null,0,null,null,{"$f":"_xlfn.TEXTJOIN(\"^\",,J258:J272)","v":"0^0"},null,5,null,null,null,5,5,5,null,{"$f":"$C264","v":5},null,null,null,{"$f":"_xlfn.TEXTJOIN(\"^\",,X258:X272)","v":"8^4^2^3^5^9"},null,5,0,null,null,0,null,0,0,0,null,null,null,{"$f":"_xlfn.TEXTJOIN(\"^\",,AN258:AN272)","v":"0^0^0"},null,5,5,null,null,{"$f":"$C264","v":5},5,5,5,5,null,null,null,{"$f":"_xlfn.TEXTJOIN(\"^\",,BB258:BB272)","v":"8^6^4^2^3^5^7^9"}]
[null,null,7,{"$nulls":5},0,null,0,null,0,null,null,{"$f":"_xlfn.TEXTJOIN(\"^\",,K258:K272)","v":"0^0^0^0"},null,7,null,{"$f":"$C265","v":7},{"$f":"$C265","v":7},null,7,null,null,7,null,null,null,{"$f":"_xlfn.TEXTJOIN(\"^\",,Y258:Y272)","v":"101^102^103^104^105"},null,7,{"$nulls":6},0,{"$nulls":4},{"$f":"_xlfn.TEXTJOIN(\"^\",,AO258:AO272)","v":""},null,7,null,{"$f":"$C265","v":7},null,7,7,null,7,7,null,null,null,{"$f":"_xlfn.TEXTJOIN(\"^\",,BC258:BC272)","v":""}]
[null,null,9,{"$nulls":12},{"$f":"_xlfn.TEXTJOIN(\"^\",,L258:L272)","v":"100^0"},null,9,null,null,null,{"$f":"$C266","v":9},null,{"$f":"$C266","v":9},{"$nulls":7},9,{"$nulls":11},{"$f":"_xlfn.TEXTJOIN(\"^\",,AP258:AP272)","v":""},null,9,{"$nulls":5},{"$f":"$C266","v":9},null,9,null,null,null,{"$f":"_xlfn.TEXTJOIN(\"^\",,BD258:BD272)","v":""}]
[null,null,"空降",{"$nulls":12},{"$f":"_xlfn.TEXTJOIN(\"^\",,M258:M272)","v":"0^0^0^0"},null,"空降",{"$nulls":13},"空降",{"$nulls":11},{"$f":"_xlfn.TEXTJOIN(\"^\",,AQ258:AQ266)","v":""},null,"空降",{"$nulls":11},{"$f":"_xlfn.TEXTJOIN(\"^\",,BE258:BE266)","v":""}]
[null,null,101,{"$nulls":12},{"$f":"_xlfn.TEXTJOIN(\"^\",,N258:N272)","v":""},null,101,{"$f":"$C268","v":101},{"$nulls":5},{"$f":"$C268","v":101},{"$nulls":4},{"$f":"_xlfn.TEXTJOIN(\"^\",,Z258:Z272)","v":"6^4^1^5^7"},null,101,{"$nulls":13},101,null,null,{"$f":"$C268","v":101}]
[null,null,102,{"$nulls":14},102,102,{"$nulls":5},102,{"$nulls":4},{"$f":"_xlfn.TEXTJOIN(\"^\",,AA258:AA272)","v":""},null,102,{"$nulls":13},102,null,null,102]
[null,null,103,{"$nulls":14},103,{"$nulls":6},103,{"$nulls":4},{"$f":"_xlfn.TEXTJOIN(\"^\",,AB258:AB272)","v":""},null,103,{"$nulls":13},103]
[null,null,104,{"$nulls":14},104,{"$f":"$C271","v":104},{"$nulls":5},104,{"$nulls":6},104,{"$nulls":13},104,null,null,{"$f":"$C271","v":104}]
[null,null,105,{"$nulls":14},105,105,{"$nulls":5},105,{"$nulls":6},105,{"$nulls":13},105,null,null,105]
[{"$nulls":14},"最终",{"$f":"_xlfn.TEXTJOIN(\"^\",,P258:P272)","v":"0^0^0^0^0^0^0^100^0^0^0^0^0^0^0^0^0^0^0^0^0^0^100^0^0^0^0^0"},{"$nulls":12},"最终",{"$f":"_xlfn.TEXTJOIN(\"^\",,AD258:AD272)","v":"101^102^104^105^6^1^3^7^6^2^3^7^8^4^2^3^5^9^6^4^2^1^3^5^7^8^4^2^3^5^9^101^102^103^104^105^6^4^1^5^7"},{"$nulls":12},"最终",{"$f":"_xlfn.TEXTJOIN(\"^\",,AR257:AR272)","v":"0^0^0^0^0^100^0^0^0^0^0^0^100^0^0^0^0^0^0^0^0^0"},{"$nulls":12},"最终",{"$f":"_xlfn.TEXTJOIN(\"^\",,BF257:BF272)","v":"4^2^3^5^6^1^7^101^102^104^105^6^4^1^5^7^6^4^2^3^5^7^8^4^2^1^3^5^9^6^4^2^1^3^5^7^8^6^4^2^3^5^7^9"}]
[]
[null,null,"时间",5,15,30,35,50,66,83,100,105,120,{"$nulls":4},"时间",5,10,15,22,30,40,45,55,null,null,null,{"$f":"_xlfn.TEXTJOIN(\"^\",,S276:S284)","v":"5^5^5^5"},null,"时间",4,10,15,30,46,50,65,80,null,null,null,{"$f":"_xlfn.TEXTJOIN(\"^\",,AG276:AG284)","v":"6^4^18"},null,"时间",3,5,8,12,18,25,35,45,null,null,null,{"$f":"_xlfn.TEXTJOIN(\"^\",,AU276:AU284)","v":"3^3^3^3"}]
[null,null,8,{"$nulls":12},{"$f":"_xlfn.TEXTJOIN(\"^\",,D276:D285)","v":"9^3"},null,8,null,null,null,{"$f":"V$275","v":22},null,{"$f":"X$275","v":40},{"$nulls":5},{"$f":"_xlfn.TEXTJOIN(\"^\",,T276:T284)","v":"10^10^10^10"},null,8,{"$nulls":11},{"$f":"_xlfn.TEXTJOIN(\"^\",,AH276:AH284)","v":"3^11"},null,8,{"$nulls":5},{"$f":"AZ$275","v":25},null,{"$f":"BB$275","v":45},null,null,null,{"$f":"_xlfn.TEXTJOIN(\"^\",,AV276:AV284)","v":"5^5^5"}]
[null,null,6,{"$nulls":12},{"$f":"_xlfn.TEXTJOIN(\"^\",,E276:E285)","v":"3^10"},null,6,null,{"$f":"T$275","v":10},{"$f":"U$275","v":15},null,{"$f":"W$275","v":30},null,null,{"$f":"Z$275","v":55},null,null,null,{"$f":"_xlfn.TEXTJOIN(\"^\",,U276:U284)","v":"15^15^15^15"},null,6,{"$nulls":11},{"$f":"_xlfn.TEXTJOIN(\"^\",,AI276:AI284)","v":"8^3"},null,6,null,{"$f":"AV$275","v":5},null,{"$f":"AX$275","v":12},18,null,{"$f":"BA$275","v":35},45,null,null,null,{"$f":"_xlfn.TEXTJOIN(\"^\",,AW276:AW284)","v":"8^8^8^8"}]
[null,null,4,{"$nulls":12},{"$f":"_xlfn.TEXTJOIN(\"^\",,F276:F285)","v":"2^9^3"},null,4,{"$f":"S$275","v":5},null,null,{"$f":"V$275","v":22},30,40,45,55,null,null,null,{"$f":"_xlfn.TEXTJOIN(\"^\",,V276:V284)","v":"22^22^22^22^22^22"},null,4,{"$nulls":11},{"$f":"_xlfn.TEXTJOIN(\"^\",,AJ276:AJ284)","v":"3^5^2"},null,4,{"$f":"AU$275","v":3},null,{"$f":"AW$275","v":8},12,18,25,35,45,null,null,null,{"$f":"_xlfn.TEXTJOIN(\"^\",,AX276:AX284)","v":"12^12^12^12^12"}]
[null,null,2,{"$nulls":12},{"$f":"_xlfn.TEXTJOIN(\"^\",,G276:G285)","v":"8^3"},null,2,5,null,{"$f":"U$275","v":15},22,30,40,45,{"$nulls":4},{"$f":"_xlfn.TEXTJOIN(\"^\",,W276:W284)","v":"30^30^30^30^30^30^30"},null,2,{"$nulls":11},{"$f":"_xlfn.TEXTJOIN(\"^\",,AK276:AK284)","v":"3^12"},null,2,3,null,8,null,18,25,35,45,null,null,null,{"$f":"_xlfn.TEXTJOIN(\"^\",,AY276:AY284)","v":"18^18^18^18^18^18"}]
[null,null,1,9,3,2,8,11,3,12,3,8,2,null,null,{"$f":"_xlfn.TEXTJOIN(\"^\",,H276:H285)","v":"11^3^2"},null,1,null,{"$f":"T$275","v":10},null,null,30,null,45,{"$f":"Z$275","v":55},null,null,null,{"$f":"_xlfn.TEXTJOIN(\"^\",,X276:X284)","v":"40^40^40^40^40^40"},null,1,6,3,8,3,3,7,3,3,null,null,null,{"$f":"_xlfn.TEXTJOIN(\"^\",,AL276:AL284)","v":"7^2^3"},null,1,null,{"$f":"AV$275","v":5},null,{"$f":"AX$275","v":12},null,25,35,{"$nulls":4},{"$f":"_xlfn.TEXTJOIN(\"^\",,AZ276:AZ284)","v":"25^25^25^25^25^25^25"}]
[null,null,3,3,10,9,3,3,2,3,2,4,2,null,null,{"$f":"_xlfn.TEXTJOIN(\"^\",,I276:I285)","v":"3^2^2^9"},null,3,{"$f":"S$275","v":5},{"$f":"T$275","v":10},{"$f":"U$275","v":15},{"$f":"V$275","v":22},30,40,45,{"$nulls":4},{"$f":"_xlfn.TEXTJOIN(\"^\",,Y276:Y284)","v":"45^45^45^45^45"},null,3,4,11,3,5,12,2,2,11,null,null,null,{"$f":"_xlfn.TEXTJOIN(\"^\",,AM276:AM284)","v":"3^2^2^9"},null,3,{"$f":"AU$275","v":3},null,{"$f":"AW$275","v":8},null,{"$f":"AY$275","v":18},25,35,45,null,null,null,{"$f":"_xlfn.TEXTJOIN(\"^\",,BA276:BA284)","v":"35^35^35^35^35^35^35"}]
[null,null,5,null,null,3,null,2,2,null,2,null,3,null,null,{"$f":"_xlfn.TEXTJOIN(\"^\",,J276:J285)","v":"12^3"},null,5,5,null,null,22,30,40,45,55,null,null,null,{"$f":"_xlfn.TEXTJOIN(\"^\",,Z276:Z284)","v":"55^55^55^55^55"},null,5,18,null,null,2,null,3,2,2,null,null,null,{"$f":"_xlfn.TEXTJOIN(\"^\",,AN276:AN284)","v":"3^11^2"},null,5,3,null,8,12,18,25,35,45,null,null,null,{"$f":"_xlfn.TEXTJOIN(\"^\",,BB276:BB284)","v":"45^45^45^45^45^45^45^45"}]
[null,null,7,{"$nulls":5},9,null,10,null,11,null,null,{"$f":"_xlfn.TEXTJOIN(\"^\",,K276:K285)","v":"3^2^2^10"},null,7,null,{"$f":"T$275","v":10},{"$f":"U$275","v":15},null,30,null,null,55,null,null,null,{"$f":"_xlfn.TEXTJOIN(\"^\",,AA276:AA284)","v":""},null,7,{"$nulls":6},9,{"$nulls":4},{"$f":"_xlfn.TEXTJOIN(\"^\",,AO276:AO284)","v":""},null,7,null,{"$f":"AV$275","v":5},null,12,18,null,35,45,null,null,null,{"$f":"_xlfn.TEXTJOIN(\"^\",,BC276:BC284)","v":""}]
[null,null,9,{"$nulls":12},{"$f":"_xlfn.TEXTJOIN(\"^\",,L276:L285)","v":"8^4"},null,9,null,null,null,{"$f":"V$275","v":22},null,{"$f":"X$275","v":40},{"$nulls":5},{"$f":"_xlfn.TEXTJOIN(\"^\",,AB276:AB284)","v":""},null,9,{"$nulls":11},{"$f":"_xlfn.TEXTJOIN(\"^\",,AP276:AP284)","v":""},null,9,{"$nulls":5},{"$f":"AZ$275","v":25},null,45,null,null,null,{"$f":"_xlfn.TEXTJOIN(\"^\",,BD276:BD284)","v":""}]
[{"$nulls":15},{"$f":"_xlfn.TEXTJOIN(\"^\",,M276:M285)","v":"2^2^3^11"},{"$nulls":13},{"$f":"_xlfn.TEXTJOIN(\"^\",,AC276:AC284)","v":""},{"$nulls":13},{"$f":"_xlfn.TEXTJOIN(\"^\",,AQ276:AQ284)","v":""},{"$nulls":13},{"$f":"_xlfn.TEXTJOIN(\"^\",,BE276:BE284)","v":""}]
[{"$nulls":15},{"$f":"_xlfn.TEXTJOIN(\"^\",,N276:N285)","v":""},{"$nulls":12},"最终",{"$f":"_xlfn.TEXTJOIN(\"^\",,AD275:AD285)","v":"5^5^5^5^10^10^10^10^15^15^15^15^22^22^22^22^22^22^30^30^30^30^30^30^30^40^40^40^40^40^40^45^45^45^45^45^55^55^55^55^55"},{"$nulls":12},"最终",{"$f":"_xlfn.TEXTJOIN(\"^\",,AR275:AR285)","v":"6^4^18^3^11^8^3^3^5^2^3^12^7^2^3^3^2^2^9^3^11^2"},{"$nulls":12},"最终",{"$f":"_xlfn.TEXTJOIN(\"^\",,BF275:BF285)","v":"3^3^3^3^5^5^5^8^8^8^8^12^12^12^12^12^18^18^18^18^18^18^25^25^25^25^25^25^25^35^35^35^35^35^35^35^45^45^45^45^45^45^45^45"}]
[{"$nulls":14},"最终",{"$f":"_xlfn.TEXTJOIN(\"^\",,P276:P286)","v":"9^3^3^10^2^9^3^8^3^11^3^2^3^2^2^9^12^3^3^2^2^10^8^4^2^2^3^11"}]
[{"$nulls":15},{"$f":"SUM(D276:M284)","v":144},{"$nulls":13},{"$f":"COUNT(S276:Z284)","v":41},{"$nulls":13},{"$f":"SUM(AG276:AN284)","v":122},{"$nulls":13},{"$f":"COUNT(AU276:BB284)","v":44}]
[{"$nulls":57},{"$f":"SUM(P288:BF288)","v":351}]

{"sheet":"12","index":12,"n_rows":289,"n_cols":58,"rows_kept":289,"cut":false,"hidden":false,"merged":[]}
[{"$nulls":4},{"$f":"E2-D2","v":10},{"$f":"F2-E2","v":15},16,4,16,17,17,15,5,{"$nulls":6},{"$f":"T2-S2","v":5},5,5,7,8,10,10,{"$nulls":7},{"$f":"AH2-AG2","v":2},4,5,10,15,17,18,{"$nulls":7},{"$f":"AV2-AU2","v":2},2,2,2,7,8,10]
[3,"冰原-1","波1·怪物",5,15,30,46,50,66,83,100,115,120,null,null,null,1,"波2·怪物",5,10,15,20,27,35,45,55,{"$nulls":4},3,"波3·怪物",4,6,10,15,25,40,57,75,{"$nulls":4},1,"波4·怪物",2,4,6,8,10,17,25,35]
[null,"5m",8,{"$nulls":12},{"$f":"_xlfn.TEXTJOIN(\"^\",,D3:D12)","v":"60561^60562"},null,8,{"$nulls":5},60564,null,60564,null,null,null,{"$f":"_xlfn.TEXTJOIN(\"^\",,S3:S12)","v":"60564^60562^60562^60564"},null,8,{"$nulls":11},{"$f":"_xlfn.TEXTJOIN(\"^\",,AG3:AG12)","v":"60565^60564^60563"},null,8,{"$nulls":7},60562,null,null,null,{"$f":"_xlfn.TEXTJOIN(\"^\",,AU3:AU12)","v":"60563^60563"}]
[null,null,6,{"$nulls":12},{"$f":"_xlfn.TEXTJOIN(\"^\",,E3:E12)","v":"60561^60562^60563"},null,6,null,null,60561,null,60562,60562,60562,60562,null,null,null,{"$f":"_xlfn.TEXTJOIN(\"^\",,T3:T12)","v":"60563^60563^60563"},null,6,{"$nulls":11},{"$f":"_xlfn.TEXTJOIN(\"^\",,AH3:AH12)","v":"60561^60562"},null,6,null,null,null,60561,null,60564,60562,60562,null,null,null,{"$f":"_xlfn.TEXTJOIN(\"^\",,AV3:AV12)","v":"60562^60562^60562"}]
[null,null,4,{"$nulls":12},{"$f":"_xlfn.TEXTJOIN(\"^\",,F3:F12)","v":"60561^60562^60563^60564"},null,4,60564,60563,60561,60565,60561,60561,60561,60561,null,null,null,{"$f":"_xlfn.TEXTJOIN(\"^\",,U3:U12)","v":"60561^60561^60561^60561^60561"},null,4,{"$nulls":11},{"$f":"_xlfn.TEXTJOIN(\"^\",,AI3:AI12)","v":"60561^60564"},null,4,null,60562,null,60561,60565,60562,60562,60561,null,null,null,{"$f":"_xlfn.TEXTJOIN(\"^\",,AW3:AW12)","v":"60564^60564"}]
[null,null,2,{"$nulls":12},{"$f":"_xlfn.TEXTJOIN(\"^\",,G3:G12)","v":"60561^60562"},null,2,60562,null,null,60565,60563,null,60563,60563,null,null,null,{"$f":"_xlfn.TEXTJOIN(\"^\",,V3:V12)","v":"60565^60565^60565^60565^60565"},null,2,{"$nulls":11},{"$f":"_xlfn.TEXTJOIN(\"^\",,AJ3:AJ12)","v":"60561^60562^60563"},null,2,60563,null,60564,null,60565,60563,60561,60561,null,null,null,{"$f":"_xlfn.TEXTJOIN(\"^\",,AX3:AX12)","v":"60561^60561^60561^60561"}]
[null,null,1,60561,60561,60561,60561,60565,60561,60561,60561,60561,60565,null,null,{"$f":"_xlfn.TEXTJOIN(\"^\",,H3:H12)","v":"60565^60564"},null,1,null,60563,60561,60565,60562,60563,60564,{"$nulls":4},{"$f":"_xlfn.TEXTJOIN(\"^\",,W3:W12)","v":"60562^60561^60563^60562^60563^60561^60562"},null,1,60565,60561,60561,60561,60561,60565,60561,60561,null,null,null,{"$f":"_xlfn.TEXTJOIN(\"^\",,AK3:AK12)","v":"60561^60562^60564"},null,1,null,60562,{"$nulls":4},60564,{"$nulls":4},{"$f":"_xlfn.TEXTJOIN(\"^\",,AY3:AY12)","v":"60565^60565^60565^60565"}]
[null,null,3,60562,60562,60562,60562,60564,60562,60562,60562,60562,60562,null,null,{"$f":"_xlfn.TEXTJOIN(\"^\",,I3:I12)","v":"60561^60562^60563"},null,3,60562,null,null,60565,60563,null,60563,60563,null,null,null,{"$f":"_xlfn.TEXTJOIN(\"^\",,X3:X12)","v":"60564^60562^60561^60563^60561^60562^60564"},null,3,60564,60562,60564,60562,60562,60563,60562,60562,null,null,null,{"$f":"_xlfn.TEXTJOIN(\"^\",,AL3:AL12)","v":"60565^60563^60564"},null,3,60563,null,60564,null,60565,60563,60561,60561,null,null,null,{"$f":"_xlfn.TEXTJOIN(\"^\",,AZ3:AZ12)","v":"60564^60562^60563^60563^60562^60564"}]
[null,null,5,null,60563,60563,null,null,60563,60564,60563,{"$nulls":4},{"$f":"_xlfn.TEXTJOIN(\"^\",,J3:J12)","v":"60561^60562^60564"},null,5,60564,60563,60561,60565,60561,60561,60561,60561,null,null,null,{"$f":"_xlfn.TEXTJOIN(\"^\",,Y3:Y12)","v":"60562^60561^60563^60564^60563^60561^60562"},null,5,60563,null,null,60563,60564,60564,null,60563,null,null,null,{"$f":"_xlfn.TEXTJOIN(\"^\",,AM3:AM12)","v":"60561^60562"},null,5,null,60562,null,60561,60565,60562,60562,60561,null,null,null,{"$f":"_xlfn.TEXTJOIN(\"^\",,BA3:BA12)","v":"60562^60562^60561^60564^60561^60562^60562"}]
[null,null,7,null,null,60564,{"$nulls":4},60564,{"$nulls":4},{"$f":"_xlfn.TEXTJOIN(\"^\",,K3:K12)","v":"60561^60562^60563^60564"},null,7,null,null,60561,null,60562,60562,60562,60562,null,null,null,{"$f":"_xlfn.TEXTJOIN(\"^\",,Z3:Z12)","v":"60564^60562^60561^60563^60563^60561^60562^60564"},null,7,{"$nulls":7},60564,null,null,null,{"$f":"_xlfn.TEXTJOIN(\"^\",,AN3:AN12)","v":"60561^60562^60563^60564"},null,7,null,null,null,60561,null,60564,60562,60562,null,null,null,{"$f":"_xlfn.TEXTJOIN(\"^\",,BB3:BB12)","v":"60562^60562^60561^60561^60561^60561^60562^60562"}]
[null,null,9,{"$nulls":12},{"$f":"_xlfn.TEXTJOIN(\"^\",,L3:L12)","v":"60561^60562"},null,9,{"$nulls":5},60564,null,60564,null,null,null,{"$f":"_xlfn.TEXTJOIN(\"^\",,AA3:AA12)","v":""},null,9,{"$nulls":11},{"$f":"_xlfn.TEXTJOIN(\"^\",,AO3:AO12)","v":""},null,9,{"$nulls":7},60562,null,null,null,{"$f":"_xlfn.TEXTJOIN(\"^\",,BC3:BC12)","v":""}]
[{"$nulls":15},{"$f":"_xlfn.TEXTJOIN(\"^\",,M3:M12)","v":"60565^60562"},{"$nulls":13},{"$f":"_xlfn.TEXTJOIN(\"^\",,AB3:AB12)","v":""},{"$nulls":13},{"$f":"_xlfn.TEXTJOIN(\"^\",,AP3:AP12)","v":""},{"$nulls":13},{"$f":"_xlfn.TEXTJOIN(\"^\",,BD3:BD12)","v":""}]
[{"$nulls":15},{"$f":"_xlfn.TEXTJOIN(\"^\",,N3:N12)","v":""},{"$nulls":13},{"$f":"_xlfn.TEXTJOIN(\"^\",,AC3:AC12)","v":""},{"$nulls":13},{"$f":"_xlfn.TEXTJOIN(\"^\",,AQ3:AQ12)","v":""},{"$nulls":13},{"$f":"_xlfn.TEXTJOIN(\"^\",,BE3:BE12)","v":""}]
[{"$nulls":14},"最终",{"$f":"_xlfn.TEXTJOIN(\"^\",,P3:P13)","v":"60561^60562^60561^60562^60563^60561^60562^60563^60564^60561^60562^60565^60564^60561^60562^60563^60561^60562^60564^60561^60562^60563^60564^60561^60562^60565^60562"},{"$nulls":12},"最终",{"$f":"_xlfn.TEXTJOIN(\"^\",,AD3:AD13)","v":"60564^60562^60562^60564^60563^60563^60563^60561^60561^60561^60561^60561^60565^60565^60565^60565^60565^60562^60561^60563^60562^60563^60561^60562^60564^60562^60561^60563^60561^60562^60564^60562^60561^60563^60564^60563^60561^60562^60564^60562^60561^60563^60563^60561^60562^60564"},{"$nulls":12},"最终",{"$f":"_xlfn.TEXTJOIN(\"^\",,AR3:AR13)","v":"60565^60564^60563^60561^60562^60561^60564^60561^60562^60563^60561^60562^60564^60565^60563^60564^60561^60562^60561^60562^60563^60564"},{"$nulls":12},"最终",{"$f":"_xlfn.TEXTJOIN(\"^\",,BF3:BF13)","v":"60563^60563^60562^60562^60562^60564^60564^60561^60561^60561^60561^60565^60565^60565^60565^60564^60562^60563^60563^60562^60564^60562^60562^60561^60564^60561^60562^60562^60562^60562^60561^60561^60561^60561^60562^60562"}]
[null,null,8,{"$nulls":14},8,{"$nulls":5},"木精灵",null,"木精灵",{"$nulls":5},8,{"$nulls":13},8,{"$nulls":7},"独角兽"]
[null,null,6,{"$nulls":14},6,null,null,"雪怪",null,"独角兽","独角兽","独角兽","独角兽",{"$nulls":5},6,{"$nulls":13},6,null,null,null,"雪怪",null,"木精灵","独角兽","独角兽"]
[null,null,4,{"$nulls":14},4,"木精灵","雪原兽","雪怪","雪山蜘蛛","雪怪","雪怪","雪怪","雪怪",{"$nulls":5},4,{"$nulls":13},4,null,"独角兽",null,"雪怪","雪山蜘蛛","独角兽","独角兽","雪怪"]
[null,null,2,{"$nulls":14},2,"独角兽",null,null,"雪山蜘蛛","雪原兽",null,"雪原兽","雪原兽",{"$nulls":5},2,{"$nulls":13},2,"雪原兽",null,"木精灵",null,"雪山蜘蛛","雪原兽","雪怪","雪怪"]
[null,null,1,"雪怪","雪怪","雪怪","雪怪","雪山蜘蛛","雪怪","雪怪","雪怪","雪怪","雪山蜘蛛",{"$nulls":4},1,null,"雪原兽","雪怪","雪山蜘蛛","独角兽","雪原兽","木精灵",{"$nulls":6},1,"雪山蜘蛛","雪怪","雪怪","雪怪","雪怪","雪山蜘蛛","雪怪","雪怪",{"$nulls":5},1,null,"独角兽",{"$nulls":4},"木精灵"]
[null,null,3,"独角兽","独角兽","独角兽","独角兽","木精灵","独角兽","独角兽","独角兽","独角兽","独角兽",{"$nulls":4},3,"独角兽",null,null,"雪山蜘蛛","雪原兽",null,"雪原兽","雪原兽",{"$nulls":5},3,"木精灵","独角兽","木精灵","独角兽","独角兽","雪原兽","独角兽","独角兽",{"$nulls":5},3,"雪原兽",null,"木精灵",null,"雪山蜘蛛","雪原兽","雪怪","雪怪"]
[null,null,5,null,"雪原兽","雪原兽",null,null,"雪原兽","木精灵","雪原兽",{"$nulls":6},5,"木精灵","雪原兽","雪怪","雪山蜘蛛","雪怪","雪怪","雪怪","雪怪",{"$nulls":5},5,"雪原兽",null,null,"雪原兽","木精灵","木精灵",null,"雪原兽",{"$nulls":5},5,null,"独角兽",null,"雪怪","雪山蜘蛛","独角兽","独角兽","雪怪"]
[null,null,7,null,null,"木精灵",{"$nulls":4},"木精灵",{"$nulls":6},7,null,null,"雪怪",null,"独角兽","独角兽","独角兽","独角兽",{"$nulls":5},7,{"$nulls":7},"木精灵",{"$nulls":5},7,null,null,null,"雪怪",null,"木精灵","独角兽","独角兽"]
[null,null,9,{"$nulls":14},9,{"$nulls":5},"木精灵",null,"木精灵",{"$nulls":5},9,{"$nulls":13},9,{"$nulls":7},"独角兽"]
[]
[null,null,"位置",5,15,30,46,50,66,83,100,115,120,{"$nulls":4},"位置",5,10,15,20,27,35,45,55,{"$nulls":5},"位置",4,6,10,15,25,40,57,75,null,null,null,{"$f":"_xlfn.TEXTJOIN(\"^\",,AG26:AG40)","v":"100^0^0"},null,"位置",2,4,6,8,10,17,25,35,null,null,null,{"$f":"_xlfn.TEXTJOIN(\"^\",,AU26:AU40)","v":"2^3"}]
[null,null,8,{"$nulls":12},{"$f":"_xlfn.TEXTJOIN(\"^\",,D26:D40)","v":"0^0"},null,8,{"$nulls":5},{"$f":"$C26","v":8},null,{"$f":"$C26","v":8},{"$nulls":5},8,{"$nulls":11},{"$f":"_xlfn.TEXTJOIN(\"^\",,AH26:AH40)","v":"0^0"},null,8,{"$nulls":7},{"$f":"$C26","v":8},null,null,null,{"$f":"_xlfn.TEXTJOIN(\"^\",,AV26:AV40)","v":"4^1^5"}]
[null,null,6,{"$nulls":12},{"$f":"_xlfn.TEXTJOIN(\"^\",,E26:E40)","v":"0^0^0"},null,6,null,null,{"$f":"$C27","v":6},null,{"$f":"$C27","v":6},6,6,6,null,null,null,{"$f":"_xlfn.TEXTJOIN(\"^\",,S26:S40)","v":"4^2^3^5"},null,6,{"$nulls":11},{"$f":"_xlfn.TEXTJOIN(\"^\",,AI26:AI40)","v":"0^0"},null,6,null,null,null,{"$f":"$C27","v":6},null,{"$f":"$C27","v":6},6,6,null,null,null,{"$f":"_xlfn.TEXTJOIN(\"^\",,AW26:AW40)","v":"2^3"}]
[null,null,4,{"$nulls":12},{"$f":"_xlfn.TEXTJOIN(\"^\",,F26:F40)","v":"0^0^0^0"},null,4,{"$f":"$C28","v":4},{"$f":"$C28","v":4},4,null,4,4,4,4,null,null,null,{"$f":"_xlfn.TEXTJOIN(\"^\",,T26:T40)","v":"4^1^5"},null,4,{"$nulls":11},{"$f":"_xlfn.TEXTJOIN(\"^\",,AJ26:AJ40)","v":"0^0^0"},null,4,null,{"$f":"$C28","v":4},null,4,null,4,4,4,null,null,null,{"$f":"_xlfn.TEXTJOIN(\"^\",,AX26:AX40)","v":"6^4^5^7"}]
[null,null,2,{"$nulls":12},{"$f":"_xlfn.TEXTJOIN(\"^\",,G26:G40)","v":"0^0"},null,2,2,null,null,null,2,null,2,2,null,null,null,{"$f":"_xlfn.TEXTJOIN(\"^\",,U26:U40)","v":"6^4^1^5^7"},null,2,{"$nulls":11},{"$f":"_xlfn.TEXTJOIN(\"^\",,AK26:AK40)","v":"0^0^0"},null,2,{"$f":"$C29","v":2},null,{"$f":"$C29","v":2},null,null,2,2,2,null,null,null,{"$f":"_xlfn.TEXTJOIN(\"^\",,AY26:AY40)","v":"101^102^104^105"}]
[null,null,1,0,0,0,0,100,0,0,0,0,100,null,null,{"$f":"_xlfn.TEXTJOIN(\"^\",,H26:H40)","v":"100^0"},null,1,null,{"$f":"$C30","v":1},1,null,1,{"$f":"$C30","v":1},1,{"$nulls":4},{"$f":"_xlfn.TEXTJOIN(\"^\",,V26:V40)","v":"101^102^103^104^105"},null,1,100,0,0,0,0,100,0,0,null,null,null,{"$f":"_xlfn.TEXTJOIN(\"^\",,AL26:AL40)","v":"100^0^0"},null,1,null,{"$f":"$C30","v":1},{"$nulls":4},1,{"$nulls":4},{"$f":"_xlfn.TEXTJOIN(\"^\",,AZ26:AZ40)","v":"6^4^2^3^5^7"}]
[null,null,3,0,0,0,0,0,0,0,0,0,0,null,null,{"$f":"_xlfn.TEXTJOIN(\"^\",,I26:I40)","v":"0^0^0"},null,3,{"$f":"$C31","v":3},null,null,null,3,null,3,3,null,null,null,{"$f":"_xlfn.TEXTJOIN(\"^\",,W26:W40)","v":"6^4^2^1^3^5^7"},null,3,0,0,0,0,0,0,0,0,null,null,null,{"$f":"_xlfn.TEXTJOIN(\"^\",,AM26:AM40)","v":"0^0"},null,3,{"$f":"$C31","v":3},null,{"$f":"$C31","v":3},null,null,{"$f":"$C31","v":3},3,3,null,null,null,{"$f":"_xlfn.TEXTJOIN(\"^\",,BA26:BA40)","v":"6^4^2^1^3^5^7"}]
[null,null,5,null,0,0,null,null,0,0,0,{"$nulls":4},{"$f":"_xlfn.TEXTJOIN(\"^\",,J26:J40)","v":"0^0^0"},null,5,5,{"$f":"$C32","v":5},{"$f":"$C32","v":5},null,5,5,5,5,null,null,null,{"$f":"_xlfn.TEXTJOIN(\"^\",,X26:X40)","v":"8^6^4^1^5^7^9"},null,5,0,null,null,0,0,0,null,0,null,null,null,{"$f":"_xlfn.TEXTJOIN(\"^\",,AN26:AN40)","v":"0^0^0^0"},null,5,null,{"$f":"$C32","v":5},null,{"$f":"$C32","v":5},null,5,5,5,null,null,null,{"$f":"_xlfn.TEXTJOIN(\"^\",,BB26:BB40)","v":"8^6^4^2^3^5^7^9"}]
[null,null,7,null,null,0,{"$nulls":4},0,{"$nulls":4},{"$f":"_xlfn.TEXTJOIN(\"^\",,K26:K40)","v":"0^0^0^0"},null,7,null,null,7,null,7,7,7,7,null,null,null,{"$f":"_xlfn.TEXTJOIN(\"^\",,Y26:Y40)","v":"6^4^2^1^3^5^7"},null,7,{"$nulls":7},0,null,null,null,{"$f":"_xlfn.TEXTJOIN(\"^\",,AO26:AO40)","v":""},null,7,null,null,null,7,null,7,7,7,null,null,null,{"$f":"_xlfn.TEXTJOIN(\"^\",,BC26:BC40)","v":""}]
[null,null,9,{"$nulls":12},{"$f":"_xlfn.TEXTJOIN(\"^\",,L26:L40)","v":"0^0"},null,9,{"$nulls":5},9,null,9,{"$nulls":5},9,{"$nulls":11},{"$f":"_xlfn.TEXTJOIN(\"^\",,AP26:AP40)","v":""},null,9,{"$nulls":7},9,null,null,null,{"$f":"_xlfn.TEXTJOIN(\"^\",,BD26:BD40)","v":""}]
[null,null,"空降",{"$nulls":12},{"$f":"_xlfn.TEXTJOIN(\"^\",,M26:M40)","v":"100^0"},null,"空降",{"$nulls":13},"空降",{"$nulls":11},{"$f":"_xlfn.TEXTJOIN(\"^\",,AQ26:AQ34)","v":""},null,"空降",{"$nulls":11},{"$f":"_xlfn.TEXTJOIN(\"^\",,BE26:BE34)","v":""}]
[null,null,101,{"$nulls":12},{"$f":"_xlfn.TEXTJOIN(\"^\",,N26:N40)","v":""},null,101,null,null,null,{"$f":"$C36","v":101},{"$nulls":7},{"$f":"_xlfn.TEXTJOIN(\"^\",,Z26:Z40)","v":"8^6^4^2^3^5^7^9"},null,101,{"$nulls":13},101,{"$nulls":4},{"$f":"$C36","v":101}]
[null,null,102,{"$nulls":14},102,null,null,null,102,{"$nulls":7},{"$f":"_xlfn.TEXTJOIN(\"^\",,AA26:AA40)","v":""},null,102,{"$nulls":13},102,{"$nulls":4},102]
[null,null,103,{"$nulls":14},103,null,null,null,103,{"$nulls":7},{"$f":"_xlfn.TEXTJOIN(\"^\",,AB26:AB40)","v":""},null,103,{"$nulls":13},103]
[null,null,104,{"$nulls":14},104,null,null,null,104,{"$nulls":9},104,{"$nulls":13},104,{"$nulls":4},{"$f":"$C39","v":104}]
[null,null,105,{"$nulls":14},105,null,null,null,105,{"$nulls":9},105,{"$nulls":13},105,{"$nulls":4},105]
[{"$nulls":14},"最终",{"$f":"_xlfn.TEXTJOIN(\"^\",,P26:P40)","v":"0^0^0^0^0^0^0^0^0^0^0^100^0^0^0^0^0^0^0^0^0^0^0^0^0^100^0"},{"$nulls":12},"最终",{"$f":"_xlfn.TEXTJOIN(\"^\",,AD26:AD40)","v":"4^2^3^5^4^1^5^6^4^1^5^7^101^102^103^104^105^6^4^2^1^3^5^7^8^6^4^1^5^7^9^6^4^2^1^3^5^7^8^6^4^2^3^5^7^9"},{"$nulls":12},"最终",{"$f":"_xlfn.TEXTJOIN(\"^\",,AR25:AR40)","v":"100^0^0^0^0^0^0^0^0^0^0^0^0^100^0^0^0^0^0^0^0^0"},{"$nulls":12},"最终",{"$f":"_xlfn.TEXTJOIN(\"^\",,BF25:BF40)","v":"2^3^4^1^5^2^3^6^4^5^7^101^102^104^105^6^4^2^3^5^7^6^4^2^1^3^5^7^8^6^4^2^3^5^7^9"}]
[]
[null,null,"时间",5,15,30,46,50,66,83,100,115,120,{"$nulls":4},"时间",5,10,15,20,27,35,45,55,null,null,null,{"$f":"_xlfn.TEXTJOIN(\"^\",,S44:S52)","v":"5^5^5^5"},null,"时间",4,6,10,15,25,40,57,75,null,null,null,{"$f":"_xlfn.TEXTJOIN(\"^\",,AG44:AG52)","v":"16^6^4"},null,"时间",2,4,6,8,10,17,25,35,null,null,null,{"$f":"_xlfn.TEXTJOIN(\"^\",,AU44:AU52)","v":"2^2"}]
[null,null,8,{"$nulls":12},{"$f":"_xlfn.TEXTJOIN(\"^\",,D44:D53)","v":"9^3"},null,8,{"$nulls":5},{"$f":"X$43","v":35},null,{"$f":"Z$43","v":55},null,null,null,{"$f":"_xlfn.TEXTJOIN(\"^\",,T44:T52)","v":"10^10^10"},null,8,{"$nulls":11},{"$f":"_xlfn.TEXTJOIN(\"^\",,AH44:AH52)","v":"9^4"},null,8,{"$nulls":7},{"$f":"BB$43","v":35},null,null,null,{"$f":"_xlfn.TEXTJOIN(\"^\",,AV44:AV52)","v":"4^4^4"}]
[null,null,6,{"$nulls":12},{"$f":"_xlfn.TEXTJOIN(\"^\",,E44:E53)","v":"8^3^2"},null,6,null,null,{"$f":"U$43","v":15},null,{"$f":"W$43","v":27},35,45,55,null,null,null,{"$f":"_xlfn.TEXTJOIN(\"^\",,U44:U52)","v":"15^15^15^15^15"},null,6,{"$nulls":11},{"$f":"_xlfn.TEXTJOIN(\"^\",,AI44:AI52)","v":"12^2"},null,6,null,null,null,{"$f":"AX$43","v":8},null,{"$f":"AZ$43","v":17},25,35,null,null,null,{"$f":"_xlfn.TEXTJOIN(\"^\",,AW44:AW52)","v":"6^6"}]
[null,null,4,{"$nulls":12},{"$f":"_xlfn.TEXTJOIN(\"^\",,F44:F53)","v":"7^3^2^2"},null,4,{"$f":"S$43","v":5},10,15,20,27,35,45,55,null,null,null,{"$f":"_xlfn.TEXTJOIN(\"^\",,V44:V52)","v":"20^20^20^20^20"},null,4,{"$nulls":11},{"$f":"_xlfn.TEXTJOIN(\"^\",,AJ44:AJ52)","v":"10^3^2"},null,4,null,{"$f":"AV$43","v":4},null,8,10,17,25,35,null,null,null,{"$f":"_xlfn.TEXTJOIN(\"^\",,AX44:AX52)","v":"8^8^8^8"}]
[null,null,2,{"$nulls":12},{"$f":"_xlfn.TEXTJOIN(\"^\",,G44:G53)","v":"12^3"},null,2,5,null,null,20,27,null,45,55,null,null,null,{"$f":"_xlfn.TEXTJOIN(\"^\",,W44:W52)","v":"27^27^27^27^27^27^27"},null,2,{"$nulls":11},{"$f":"_xlfn.TEXTJOIN(\"^\",,AK44:AK52)","v":"11^3^2"},null,2,{"$f":"AU$43","v":2},null,{"$f":"AW$43","v":6},null,10,17,25,35,null,null,null,{"$f":"_xlfn.TEXTJOIN(\"^\",,AY44:AY52)","v":"10^10^10^10"}]
[null,null,1,9,8,7,12,8,12,12,12,13,8,null,null,{"$f":"_xlfn.TEXTJOIN(\"^\",,H44:H53)","v":"8^2"},null,1,null,{"$f":"T$43","v":10},15,20,27,35,45,{"$nulls":4},{"$f":"_xlfn.TEXTJOIN(\"^\",,X44:X52)","v":"35^35^35^35^35^35^35"},null,1,16,9,12,10,11,8,12,10,null,null,null,{"$f":"_xlfn.TEXTJOIN(\"^\",,AL44:AL52)","v":"8^3^2"},null,1,null,{"$f":"AV$43","v":4},{"$nulls":4},25,{"$nulls":4},{"$f":"_xlfn.TEXTJOIN(\"^\",,AZ44:AZ52)","v":"17^17^17^17^17^17"}]
[null,null,3,3,3,3,3,2,3,3,2,4,4,null,null,{"$f":"_xlfn.TEXTJOIN(\"^\",,I44:I53)","v":"12^3^2"},null,3,{"$f":"S$43","v":5},null,null,20,27,null,45,55,null,null,null,{"$f":"_xlfn.TEXTJOIN(\"^\",,Y44:Y52)","v":"45^45^45^45^45^45^45"},null,3,6,4,2,3,3,3,3,3,null,null,null,{"$f":"_xlfn.TEXTJOIN(\"^\",,AM44:AM52)","v":"12^3"},null,3,{"$f":"AU$43","v":2},null,{"$f":"AW$43","v":6},null,{"$f":"AY$43","v":10},17,25,35,null,null,null,{"$f":"_xlfn.TEXTJOIN(\"^\",,BA44:BA52)","v":"25^25^25^25^25^25^25"}]
[null,null,5,null,2,2,null,null,2,2,2,{"$nulls":4},{"$f":"_xlfn.TEXTJOIN(\"^\",,J44:J53)","v":"12^3^2"},null,5,5,10,15,20,27,35,45,55,null,null,null,{"$f":"_xlfn.TEXTJOIN(\"^\",,Z44:Z52)","v":"55^55^55^55^55^55^55^55"},null,5,4,null,null,2,2,2,null,2,null,null,null,{"$f":"_xlfn.TEXTJOIN(\"^\",,AN44:AN52)","v":"10^3^2^2"},null,5,null,{"$f":"AV$43","v":4},null,{"$f":"AX$43","v":8},10,17,25,35,null,null,null,{"$f":"_xlfn.TEXTJOIN(\"^\",,BB44:BB52)","v":"35^35^35^35^35^35^35^35"}]
[null,null,7,null,null,2,{"$nulls":4},2,{"$nulls":4},{"$f":"_xlfn.TEXTJOIN(\"^\",,K44:K53)","v":"12^2^2^2"},null,7,null,null,15,null,27,35,45,55,null,null,null,{"$f":"_xlfn.TEXTJOIN(\"^\",,AA44:AA52)","v":""},null,7,{"$nulls":7},2,null,null,null,{"$f":"_xlfn.TEXTJOIN(\"^\",,AO44:AO52)","v":""},null,7,null,null,null,8,null,17,25,35,null,null,null,{"$f":"_xlfn.TEXTJOIN(\"^\",,BC44:BC52)","v":""}]
[null,null,9,{"$nulls":12},{"$f":"_xlfn.TEXTJOIN(\"^\",,L44:L53)","v":"13^4"},null,9,{"$nulls":5},35,null,55,null,null,null,{"$f":"_xlfn.TEXTJOIN(\"^\",,AB44:AB52)","v":""},null,9,{"$nulls":11},{"$f":"_xlfn.TEXTJOIN(\"^\",,AP44:AP52)","v":""},null,9,{"$nulls":7},35,null,null,null,{"$f":"_xlfn.TEXTJOIN(\"^\",,BD44:BD52)","v":""}]
[{"$nulls":15},{"$f":"_xlfn.TEXTJOIN(\"^\",,M44:M53)","v":"8^4"},{"$nulls":13},{"$f":"_xlfn.TEXTJOIN(\"^\",,AC44:AC52)","v":""},{"$nulls":13},{"$f":"_xlfn.TEXTJOIN(\"^\",,AQ44:AQ52)","v":""},{"$nulls":13},{"$f":"_xlfn.TEXTJOIN(\"^\",,BE44:BE52)","v":""}]
[{"$nulls":15},{"$f":"_xlfn.TEXTJOIN(\"^\",,N44:N53)","v":""},{"$nulls":12},"最终",{"$f":"_xlfn.TEXTJOIN(\"^\",,AD43:AD53)","v":"5^5^5^5^10^10^10^15^15^15^15^15^20^20^20^20^20^27^27^27^27^27^27^27^35^35^35^35^35^35^35^45^45^45^45^45^45^45^55^55^55^55^55^55^55^55"},{"$nulls":12},"最终",{"$f":"_xlfn.TEXTJOIN(\"^\",,AR43:AR53)","v":"16^6^4^9^4^12^2^10^3^2^11^3^2^8^3^2^12^3^10^3^2^2"},{"$nulls":12},"最终",{"$f":"_xlfn.TEXTJOIN(\"^\",,BF43:BF53)","v":"2^2^4^4^4^6^6^8^8^8^8^10^10^10^10^17^17^17^17^17^17^25^25^25^25^25^25^25^35^35^35^35^35^35^35^35"}]
[{"$nulls":14},"最终",{"$f":"_xlfn.TEXTJOIN(\"^\",,P44:P54)","v":"9^3^8^3^2^7^3^2^2^12^3^8^2^12^3^2^12^3^2^12^2^2^2^13^4^8^4"}]
[{"$nulls":15},{"$f":"SUM(D44:M52)","v":145},{"$nulls":13},{"$f":"COUNT(S44:Z52)","v":46},{"$nulls":13},{"$f":"SUM(AG44:AN52)","v":129},{"$nulls":13},{"$f":"COUNT(AU44:BB52)","v":36}]
[{"$nulls":57},{"$f":"SUM(P56:BF56)","v":356}]
[]
[{"$nulls":4},{"$f":"E60-D60","v":5},{"$f":"F60-E60","v":7},8,10,10,10,5,10,10,{"$nulls":6},{"$f":"T60-S60","v":5},5,5,10,15,15,10,{"$nulls":7},{"$f":"AH60-AG60","v":2},4,5,10,15,17,18,{"$nulls":7},{"$f":"AV60-AU60","v":2},2,2,2,7,8,10]
[1,"冰原-2","波1·怪物",5,10,17,25,35,45,55,60,70,80,null,null,null,3,"波2·怪物",5,10,15,20,30,45,60,70,{"$nulls":4},3,"波3·怪物",4,6,10,15,25,40,57,75,{"$nulls":4},1,"波4·怪物",2,4,6,8,10,17,25,35]
[null,"5m",8,{"$nulls":5},60574,null,null,null,60574,null,null,{"$f":"_xlfn.TEXTJOIN(\"^\",,D61:D70)","v":"60574^60572^60572^60572^60574"},null,8,{"$nulls":11},{"$f":"_xlfn.TEXTJOIN(\"^\",,S61:S70)","v":"60575^60574^60572"},null,8,{"$nulls":11},{"$f":"_xlfn.TEXTJOIN(\"^\",,AG61:AG70)","v":"60571^60573"},null,8,{"$nulls":7},60572,null,null,null,{"$f":"_xlfn.TEXTJOIN(\"^\",,AU61:AU70)","v":"60571^60571^60571^60571"}]
[null,null,6,null,60571,60574,null,60572,60572,60572,null,60572,60572,null,null,{"$f":"_xlfn.TEXTJOIN(\"^\",,E61:E70)","v":"60571^60571^60571^60571^60571"},null,6,{"$nulls":11},{"$f":"_xlfn.TEXTJOIN(\"^\",,T61:T70)","v":"60571^60572"},null,6,{"$nulls":11},{"$f":"_xlfn.TEXTJOIN(\"^\",,AH61:AH70)","v":"60571^60572^60574"},null,6,{"$nulls":5},60574,60572,60572,null,null,null,{"$f":"_xlfn.TEXTJOIN(\"^\",,AV61:AV70)","v":"60572^60572^60572"}]
[null,null,4,60574,60571,60572,60575,60571,60571,60572,60575,60571,60571,null,null,{"$f":"_xlfn.TEXTJOIN(\"^\",,F61:F70)","v":"60574^60572^60573^60572^60573^60572^60574"},null,4,{"$nulls":11},{"$f":"_xlfn.TEXTJOIN(\"^\",,U61:U70)","v":"60571^60573"},null,4,{"$nulls":11},{"$f":"_xlfn.TEXTJOIN(\"^\",,AI61:AI70)","v":"60571^60572"},null,4,60571,60572,null,60575,60573,60571,60572,60571,null,null,null,{"$f":"_xlfn.TEXTJOIN(\"^\",,AW61:AW70)","v":"60574^60574"}]
[null,null,2,60572,null,60573,60575,60571,60573,60571,60575,60571,60573,null,null,{"$f":"_xlfn.TEXTJOIN(\"^\",,G61:G70)","v":"60575^60575^60575^60575^60575"},null,2,{"$nulls":11},{"$f":"_xlfn.TEXTJOIN(\"^\",,V61:V70)","v":"60571^60573^60574"},null,2,{"$nulls":11},{"$f":"_xlfn.TEXTJOIN(\"^\",,AJ61:AJ70)","v":"60575^60573"},null,2,60571,null,60574,60575,null,60571,null,60573,null,null,null,{"$f":"_xlfn.TEXTJOIN(\"^\",,AX61:AX70)","v":"60575^60575^60575^60575"}]
[null,null,1,60572,60571,60572,60575,60572,60572,60571,60575,60574,60572,null,null,{"$f":"_xlfn.TEXTJOIN(\"^\",,H61:H70)","v":"60572^60571^60571^60572^60571^60571^60572"},null,1,60575,60571,60571,60571,60571,60571,60571,60575,null,null,null,{"$f":"_xlfn.TEXTJOIN(\"^\",,W61:W70)","v":"60571^60572"},null,1,60571,60571,60571,60575,60571,60571,60571,60571,null,null,null,{"$f":"_xlfn.TEXTJOIN(\"^\",,AK61:AK70)","v":"60571^60572^60574"},null,1,null,60572,null,null,60573,null,60572,{"$nulls":4},{"$f":"_xlfn.TEXTJOIN(\"^\",,AY61:AY70)","v":"60573^60573^60573"}]
[null,null,3,60572,null,60573,60575,60571,60573,60571,60575,60571,60573,null,null,{"$f":"_xlfn.TEXTJOIN(\"^\",,I61:I70)","v":"60574^60572^60571^60573^60572^60573^60571^60572^60574"},null,3,60574,60572,60573,60573,60572,60572,60572,60572,null,null,null,{"$f":"_xlfn.TEXTJOIN(\"^\",,X61:X70)","v":"60571^60572^60573^60574"},null,3,60573,60572,60572,60573,60572,60573,60572,60572,null,null,null,{"$f":"_xlfn.TEXTJOIN(\"^\",,AL61:AL70)","v":"60571^60573^60574"},null,3,60571,null,60574,60575,null,60571,null,60573,null,null,null,{"$f":"_xlfn.TEXTJOIN(\"^\",,AZ61:AZ70)","v":"60574^60571^60571^60571^60571^60574"}]
[null,null,5,60574,60571,60572,60575,60571,60571,60572,60575,60571,60571,null,null,{"$f":"_xlfn.TEXTJOIN(\"^\",,J61:J70)","v":"60572^60572^60571^60571^60571^60572^60572"},null,5,60572,null,null,60574,null,60573,60574,{"$nulls":4},{"$f":"_xlfn.TEXTJOIN(\"^\",,Y61:Y70)","v":"60571^60572^60574"},null,5,null,60574,null,null,60574,60574,null,60573,null,null,null,{"$f":"_xlfn.TEXTJOIN(\"^\",,AM61:AM70)","v":"60571^60572"},null,5,60571,60572,null,60575,60573,60571,60572,60571,null,null,null,{"$f":"_xlfn.TEXTJOIN(\"^\",,BA61:BA70)","v":"60572^60572^60572^60572^60572"}]
[null,null,7,null,60571,60574,null,60572,60572,60572,null,60572,60572,null,null,{"$f":"_xlfn.TEXTJOIN(\"^\",,K61:K70)","v":"60575^60575^60575^60575^60575"},null,7,{"$nulls":5},60574,{"$nulls":5},{"$f":"_xlfn.TEXTJOIN(\"^\",,Z61:Z70)","v":"60575^60572"},null,7,{"$nulls":7},60574,null,null,null,{"$f":"_xlfn.TEXTJOIN(\"^\",,AN61:AN70)","v":"60571^60572^60573^60574"},null,7,{"$nulls":5},60574,60572,60572,null,null,null,{"$f":"_xlfn.TEXTJOIN(\"^\",,BB61:BB70)","v":"60572^60572^60571^60573^60573^60571^60572^60572"}]
[null,null,9,{"$nulls":5},60574,null,null,null,60574,null,null,{"$f":"_xlfn.TEXTJOIN(\"^\",,L61:L70)","v":"60572^60571^60571^60574^60571^60571^60572"},null,9,{"$nulls":11},{"$f":"_xlfn.TEXTJOIN(\"^\",,AA61:AA70)","v":""},null,9,{"$nulls":11},{"$f":"_xlfn.TEXTJOIN(\"^\",,AO61:AO70)","v":""},null,9,{"$nulls":7},60572,null,null,null,{"$f":"_xlfn.TEXTJOIN(\"^\",,BC61:BC70)","v":""}]
[{"$nulls":15},{"$f":"_xlfn.TEXTJOIN(\"^\",,M61:M70)","v":"60574^60572^60571^60573^60572^60573^60571^60572^60574"},{"$nulls":13},{"$f":"_xlfn.TEXTJOIN(\"^\",,AB61:AB70)","v":""},{"$nulls":13},{"$f":"_xlfn.TEXTJOIN(\"^\",,AP61:AP70)","v":""},{"$nulls":13},{"$f":"_xlfn.TEXTJOIN(\"^\",,BD61:BD70)","v":""}]
[{"$nulls":15},{"$f":"_xlfn.TEXTJOIN(\"^\",,N61:N70)","v":""},{"$nulls":13},{"$f":"_xlfn.TEXTJOIN(\"^\",,AC61:AC70)","v":""},{"$nulls":13},{"$f":"_xlfn.TEXTJOIN(\"^\",,AQ61:AQ70)","v":""},{"$nulls":13},{"$f":"_xlfn.TEXTJOIN(\"^\",,BE61:BE70)","v":""}]
[{"$nulls":14},"最终",{"$f":"_xlfn.TEXTJOIN(\"^\",,P61:P71)","v":"60574^60572^60572^60572^60574^60571^60571^60571^60571^60571^60574^60572^60573^60572^60573^60572^60574^60575^60575^60575^60575^60575^60572^60571^60571^60572^60571^60571^60572^60574^60572^60571^60573^60572^60573^60571^60572^60574^60572^60572^60571^60571^60571^60572^60572^60575^60575^60575^60575^60575^60572^60571^60571^60574^60571^60571^60572^60574^60572^60571^60573^60572^60573^60571^60572^60574"},{"$nulls":12},"最终",{"$f":"_xlfn.TEXTJOIN(\"^\",,AD61:AD71)","v":"60575^60574^60572^60571^60572^60571^60573^60571^60573^60574^60571^60572^60571^60572^60573^60574^60571^60572^60574^60575^60572"},{"$nulls":12},"最终",{"$f":"_xlfn.TEXTJOIN(\"^\",,AR61:AR71)","v":"60571^60573^60571^60572^60574^60571^60572^60575^60573^60571^60572^60574^60571^60573^60574^60571^60572^60571^60572^60573^60574"},{"$nulls":12},"最终",{"$f":"_xlfn.TEXTJOIN(\"^\",,BF61:BF71)","v":"60571^60571^60571^60571^60572^60572^60572^60574^60574^60575^60575^60575^60575^60573^60573^60573^60574^60571^60571^60571^60571^60574^60572^60572^60572^60572^60572^60572^60572^60571^60573^60573^60571^60572^60572"}]
[null,null,8,{"$nulls":5},"木精灵",null,null,null,"木精灵",{"$nulls":4},8,{"$nulls":13},8,{"$nulls":13},8,{"$nulls":7},"独角兽"]
[null,null,6,null,"雪怪","木精灵",null,"独角兽","独角兽","独角兽",null,"独角兽","独角兽",{"$nulls":4},6,{"$nulls":13},6,{"$nulls":13},6,{"$nulls":5},"木精灵","独角兽","独角兽"]
[null,null,4,"木精灵","雪怪","独角兽","雪山蜘蛛","雪怪","雪怪","独角兽","雪山蜘蛛","雪怪","雪怪",{"$nulls":4},4,{"$nulls":13},4,{"$nulls":13},4,"雪怪","独角兽",null,"雪山蜘蛛","雪原兽","雪怪","独角兽","雪怪"]
[null,null,2,"独角兽",null,"雪原兽","雪山蜘蛛","雪怪","雪原兽","雪怪","雪山蜘蛛","雪怪","雪原兽",{"$nulls":4},2,{"$nulls":13},2,{"$nulls":13},2,"雪怪",null,"木精灵","雪山蜘蛛",null,"雪怪",null,"雪原兽"]
[null,null,1,"独角兽","雪怪","独角兽","雪山蜘蛛","独角兽","独角兽","雪怪","雪山蜘蛛","木精灵","独角兽",{"$nulls":4},1,"雪山蜘蛛","雪怪","雪怪","雪怪","雪怪","雪怪","雪怪","雪山蜘蛛",{"$nulls":5},1,"雪怪","雪怪","雪怪","雪山蜘蛛","雪怪","雪怪","雪怪","雪怪",{"$nulls":5},1,null,"独角兽",null,null,"雪原兽",null,"独角兽"]
[null,null,3,"独角兽",null,"雪原兽","雪山蜘蛛","雪怪","雪原兽","雪怪","雪山蜘蛛","雪怪","雪原兽",{"$nulls":4},3,"木精灵","独角兽","雪原兽","雪原兽","独角兽","独角兽","独角兽","独角兽",{"$nulls":5},3,"雪原兽","独角兽","独角兽","雪原兽","独角兽","雪原兽","独角兽","独角兽",{"$nulls":5},3,"雪怪",null,"木精灵","雪山蜘蛛",null,"雪怪",null,"雪原兽"]
[null,null,5,"木精灵","雪怪","独角兽","雪山蜘蛛","雪怪","雪怪","独角兽","雪山蜘蛛","雪怪","雪怪",{"$nulls":4},5,"独角兽",null,null,"木精灵",null,"雪原兽","木精灵",{"$nulls":6},5,null,"木精灵",null,null,"木精灵","木精灵",null,"雪原兽",{"$nulls":5},5,"雪怪","独角兽",null,"雪山蜘蛛","雪原兽","雪怪","独角兽","雪怪"]
[null,null,7,null,"雪怪","木精灵",null,"独角兽","独角兽","独角兽",null,"独角兽","独角兽",{"$nulls":4},7,{"$nulls":5},"木精灵",{"$nulls":7},7,{"$nulls":7},"木精灵",{"$nulls":5},7,{"$nulls":5},"木精灵","独角兽","独角兽"]
[null,null,9,{"$nulls":5},"木精灵",null,null,null,"木精灵",{"$nulls":4},9,{"$nulls":13},9,{"$nulls":13},9,{"$nulls":7},"独角兽"]
[]
[null,null,"位置",5,10,17,25,35,45,55,60,70,80,{"$nulls":4},"位置",5,10,15,20,30,45,60,70,{"$nulls":5},"位置",4,6,10,15,25,40,57,75,null,null,null,{"$f":"_xlfn.TEXTJOIN(\"^\",,AG84:AG98)","v":"0^0"},null,"位置",2,4,6,8,10,17,25,35,null,null,null,{"$f":"_xlfn.TEXTJOIN(\"^\",,AU84:AU98)","v":"4^2^3^5"}]
[null,null,8,{"$nulls":5},{"$f":"$C84","v":8},null,null,null,{"$f":"$C84","v":8},null,null,{"$f":"_xlfn.TEXTJOIN(\"^\",,D84:D98)","v":"4^2^1^3^5"},null,8,{"$nulls":13},8,{"$nulls":11},{"$f":"_xlfn.TEXTJOIN(\"^\",,AH84:AH98)","v":"0^0^0"},null,8,{"$nulls":7},{"$f":"$C84","v":8},null,null,null,{"$f":"_xlfn.TEXTJOIN(\"^\",,AV84:AV98)","v":"4^1^5"}]
[null,null,6,null,{"$f":"$C85","v":6},6,null,{"$f":"$C85","v":6},6,6,null,{"$f":"$C85","v":6},6,null,null,{"$f":"_xlfn.TEXTJOIN(\"^\",,E84:E98)","v":"6^4^1^5^7"},null,6,{"$nulls":11},{"$f":"_xlfn.TEXTJOIN(\"^\",,S84:S98)","v":"100^0^0"},null,6,{"$nulls":11},{"$f":"_xlfn.TEXTJOIN(\"^\",,AI84:AI98)","v":"0^0"},null,6,{"$nulls":5},{"$f":"$C85","v":6},6,6,null,null,null,{"$f":"_xlfn.TEXTJOIN(\"^\",,AW84:AW98)","v":"2^3"}]
[null,null,4,{"$f":"$C86","v":4},4,4,null,4,4,4,null,4,4,null,null,{"$f":"_xlfn.TEXTJOIN(\"^\",,F84:F98)","v":"6^4^2^1^3^5^7"},null,4,{"$nulls":11},{"$f":"_xlfn.TEXTJOIN(\"^\",,T84:T98)","v":"0^0"},null,4,{"$nulls":11},{"$f":"_xlfn.TEXTJOIN(\"^\",,AJ84:AJ98)","v":"100^0"},null,4,{"$f":"$C86","v":4},{"$f":"$C86","v":4},null,null,{"$f":"$C86","v":4},4,4,4,null,null,null,{"$f":"_xlfn.TEXTJOIN(\"^\",,AX84:AX98)","v":"101^102^104^105"}]
[null,null,2,{"$f":"$C87","v":2},null,2,null,2,2,2,null,2,2,null,null,{"$f":"_xlfn.TEXTJOIN(\"^\",,G84:G98)","v":"101^102^103^104^105"},null,2,{"$nulls":11},{"$f":"_xlfn.TEXTJOIN(\"^\",,U84:U98)","v":"0^0"},null,2,{"$nulls":11},{"$f":"_xlfn.TEXTJOIN(\"^\",,AK84:AK98)","v":"0^0^0"},null,2,2,null,{"$f":"$C87","v":2},null,null,2,null,2,null,null,null,{"$f":"_xlfn.TEXTJOIN(\"^\",,AY84:AY98)","v":"4^1^5"}]
[null,null,1,{"$f":"$C88","v":1},{"$f":"$C88","v":1},1,null,1,1,1,null,1,1,null,null,{"$f":"_xlfn.TEXTJOIN(\"^\",,H84:H98)","v":"6^4^2^1^3^5^7"},null,1,100,0,0,0,0,0,0,100,null,null,null,{"$f":"_xlfn.TEXTJOIN(\"^\",,V84:V98)","v":"0^0^0"},null,1,0,0,0,100,0,0,0,0,null,null,null,{"$f":"_xlfn.TEXTJOIN(\"^\",,AL84:AL98)","v":"0^0^0"},null,1,null,{"$f":"$C88","v":1},null,null,{"$f":"$C88","v":1},null,{"$f":"$C88","v":1},{"$nulls":4},{"$f":"_xlfn.TEXTJOIN(\"^\",,AZ84:AZ98)","v":"6^4^2^3^5^7"}]
[null,null,3,{"$f":"$C89","v":3},null,3,null,3,3,3,null,3,3,null,null,{"$f":"_xlfn.TEXTJOIN(\"^\",,I84:I98)","v":"8^6^4^2^1^3^5^7^9"},null,3,0,0,0,0,0,0,0,0,null,null,null,{"$f":"_xlfn.TEXTJOIN(\"^\",,W84:W98)","v":"0^0"},null,3,0,0,0,0,0,0,0,0,null,null,null,{"$f":"_xlfn.TEXTJOIN(\"^\",,AM84:AM98)","v":"0^0"},null,3,{"$f":"$C89","v":3},null,{"$f":"$C89","v":3},null,null,{"$f":"$C89","v":3},null,{"$f":"$C89","v":3},null,null,null,{"$f":"_xlfn.TEXTJOIN(\"^\",,BA84:BA98)","v":"6^4^1^5^7"}]
[null,null,5,5,5,5,null,5,5,5,null,5,5,null,null,{"$f":"_xlfn.TEXTJOIN(\"^\",,J84:J98)","v":"6^4^2^1^3^5^7"},null,5,0,null,null,0,null,0,0,{"$nulls":4},{"$f":"_xlfn.TEXTJOIN(\"^\",,X84:X98)","v":"0^0^0^0"},null,5,null,0,null,null,0,0,null,0,null,null,null,{"$f":"_xlfn.TEXTJOIN(\"^\",,AN84:AN98)","v":"0^0^0^0"},null,5,5,{"$f":"$C90","v":5},null,null,{"$f":"$C90","v":5},5,5,5,null,null,null,{"$f":"_xlfn.TEXTJOIN(\"^\",,BB84:BB98)","v":"8^6^4^2^3^5^7^9"}]
[null,null,7,null,7,7,null,7,7,7,null,7,7,null,null,{"$f":"_xlfn.TEXTJOIN(\"^\",,K84:K98)","v":"101^102^103^104^105"},null,7,{"$nulls":5},0,{"$nulls":5},{"$f":"_xlfn.TEXTJOIN(\"^\",,Y84:Y98)","v":"0^0^0"},null,7,{"$nulls":7},0,null,null,null,{"$f":"_xlfn.TEXTJOIN(\"^\",,AO84:AO98)","v":""},null,7,{"$nulls":5},7,7,7,null,null,null,{"$f":"_xlfn.TEXTJOIN(\"^\",,BC84:BC98)","v":""}]
[null,null,9,{"$nulls":5},9,null,null,null,9,null,null,{"$f":"_xlfn.TEXTJOIN(\"^\",,L84:L98)","v":"6^4^2^1^3^5^7"},null,9,{"$nulls":13},9,{"$nulls":11},{"$f":"_xlfn.TEXTJOIN(\"^\",,AP84:AP98)","v":""},null,9,{"$nulls":7},9,null,null,null,{"$f":"_xlfn.TEXTJOIN(\"^\",,BD84:BD98)","v":""}]
[null,null,"空降",{"$nulls":12},{"$f":"_xlfn.TEXTJOIN(\"^\",,M84:M98)","v":"8^6^4^2^1^3^5^7^9"},null,"空降",{"$nulls":13},"空降",{"$nulls":11},{"$f":"_xlfn.TEXTJOIN(\"^\",,AQ84:AQ92)","v":""},null,"空降",{"$nulls":11},{"$f":"_xlfn.TEXTJOIN(\"^\",,BE84:BE92)","v":""}]
[null,null,101,null,null,null,{"$f":"$C94","v":101},null,null,null,{"$f":"$C94","v":101},{"$nulls":4},{"$f":"_xlfn.TEXTJOIN(\"^\",,N84:N98)","v":""},null,101,{"$nulls":11},{"$f":"_xlfn.TEXTJOIN(\"^\",,Z84:Z98)","v":"100^0"},null,101,{"$nulls":13},101,null,null,null,{"$f":"$C94","v":101}]
[null,null,102,null,null,null,102,null,null,null,102,{"$nulls":6},102,{"$nulls":11},{"$f":"_xlfn.TEXTJOIN(\"^\",,AA84:AA98)","v":""},null,102,{"$nulls":13},102,null,null,null,102]
[null,null,103,null,null,null,103,null,null,null,103,{"$nulls":6},103,{"$nulls":11},{"$f":"_xlfn.TEXTJOIN(\"^\",,AB84:AB98)","v":""},null,103,{"$nulls":13},103]
[null,null,104,null,null,null,104,null,null,null,104,{"$nulls":6},104,{"$nulls":13},104,{"$nulls":13},104,null,null,null,{"$f":"$C97","v":104}]
[null,null,105,null,null,null,105,null,null,null,105,{"$nulls":6},105,{"$nulls":13},105,{"$nulls":13},105,null,null,null,105]
[{"$nulls":14},"最终",{"$f":"_xlfn.TEXTJOIN(\"^\",,P84:P98)","v":"4^2^1^3^5^6^4^1^5^7^6^4^2^1^3^5^7^101^102^103^104^105^6^4^2^1^3^5^7^8^6^4^2^1^3^5^7^9^6^4^2^1^3^5^7^101^102^103^104^105^6^4^2^1^3^5^7^8^6^4^2^1^3^5^7^9"},{"$nulls":12},"最终",{"$f":"_xlfn.TEXTJOIN(\"^\",,AD84:AD98)","v":"100^0^0^0^0^0^0^0^0^0^0^0^0^0^0^0^0^0^0^100^0"},{"$nulls":12},"最终",{"$f":"_xlfn.TEXTJOIN(\"^\",,AR83:AR98)","v":"0^0^0^0^0^0^0^100^0^0^0^0^0^0^0^0^0^0^0^0^0"},{"$nulls":12},"最终",{"$f":"_xlfn.TEXTJOIN(\"^\",,BF83:BF98)","v":"4^2^3^5^4^1^5^2^3^101^102^104^105^4^1^5^6^4^2^3^5^7^6^4^1^5^7^8^6^4^2^3^5^7^9"}]
[]
[null,null,"时间",5,10,17,25,35,45,55,60,70,80,{"$nulls":4},"时间",5,10,15,20,30,45,60,70,null,null,null,{"$f":"_xlfn.TEXTJOIN(\"^\",,S102:S110)","v":"13^6^6"},null,"时间",4,6,10,15,25,40,57,75,null,null,null,{"$f":"_xlfn.TEXTJOIN(\"^\",,AG102:AG110)","v":"19^5"},null,"时间",2,4,6,8,10,17,25,35,null,null,null,{"$f":"_xlfn.TEXTJOIN(\"^\",,AU102:AU110)","v":"2^2^2^2"}]
[null,null,8,{"$nulls":5},{"$f":"I$101","v":45},null,null,null,{"$f":"M$101","v":80},null,null,{"$f":"_xlfn.TEXTJOIN(\"^\",,D102:D111)","v":"5^5^5^5^5"},null,8,{"$nulls":11},{"$f":"_xlfn.TEXTJOIN(\"^\",,T102:T110)","v":"9^4"},null,8,{"$nulls":11},{"$f":"_xlfn.TEXTJOIN(\"^\",,AH102:AH110)","v":"8^3^2"},null,8,{"$nulls":7},{"$f":"BB$101","v":35},null,null,null,{"$f":"_xlfn.TEXTJOIN(\"^\",,AV102:AV110)","v":"4^4^4"}]
[null,null,6,null,{"$f":"E$101","v":10},17,null,{"$f":"H$101","v":35},45,55,null,{"$f":"L$101","v":70},80,null,null,{"$f":"_xlfn.TEXTJOIN(\"^\",,E102:E111)","v":"10^10^10^10^10"},null,6,{"$nulls":11},{"$f":"_xlfn.TEXTJOIN(\"^\",,U102:U110)","v":"11^3"},null,6,{"$nulls":11},{"$f":"_xlfn.TEXTJOIN(\"^\",,AI102:AI110)","v":"10^4"},null,6,{"$nulls":5},{"$f":"AZ$101","v":17},25,35,null,null,null,{"$f":"_xlfn.TEXTJOIN(\"^\",,AW102:AW110)","v":"6^6"}]
[null,null,4,{"$f":"D$101","v":5},10,17,25,35,45,55,60,70,80,null,null,{"$f":"_xlfn.TEXTJOIN(\"^\",,F102:F111)","v":"17^17^17^17^17^17^17"},null,4,{"$nulls":11},{"$f":"_xlfn.TEXTJOIN(\"^\",,V102:V110)","v":"10^2^2"},null,4,{"$nulls":11},{"$f":"_xlfn.TEXTJOIN(\"^\",,AJ102:AJ110)","v":"8^3"},null,4,{"$f":"AU$101","v":2},{"$f":"AV$101","v":4},null,{"$f":"AX$101","v":8},{"$f":"AY$101","v":10},17,25,35,null,null,null,{"$f":"_xlfn.TEXTJOIN(\"^\",,AX102:AX110)","v":"8^8^8^8"}]
[null,null,2,5,null,17,25,35,45,55,60,70,80,null,null,{"$f":"_xlfn.TEXTJOIN(\"^\",,G102:G111)","v":"25^25^25^25^25"},null,2,{"$nulls":11},{"$f":"_xlfn.TEXTJOIN(\"^\",,W102:W110)","v":"12^4"},null,2,{"$nulls":11},{"$f":"_xlfn.TEXTJOIN(\"^\",,AK102:AK110)","v":"11^3^2"},null,2,2,null,{"$f":"AW$101","v":6},8,null,17,null,35,null,null,null,{"$f":"_xlfn.TEXTJOIN(\"^\",,AY102:AY110)","v":"10^10^10"}]
[null,null,1,5,{"$f":"E$101","v":10},17,25,35,45,55,60,70,80,null,null,{"$f":"_xlfn.TEXTJOIN(\"^\",,H102:H111)","v":"35^35^35^35^35^35^35"},null,1,13,9,11,10,12,10,12,8,null,null,null,{"$f":"_xlfn.TEXTJOIN(\"^\",,X102:X110)","v":"10^3^2^2"},null,1,19,8,10,8,11,12,12,10,null,null,null,{"$f":"_xlfn.TEXTJOIN(\"^\",,AL102:AL110)","v":"12^3^2"},null,1,null,{"$f":"AV$101","v":4},null,null,{"$f":"AY$101","v":10},null,{"$f":"BA$101","v":25},{"$nulls":4},{"$f":"_xlfn.TEXTJOIN(\"^\",,AZ102:AZ110)","v":"17^17^17^17^17^17"}]
[null,null,3,{"$f":"D$101","v":5},null,17,25,35,45,55,60,70,80,null,null,{"$f":"_xlfn.TEXTJOIN(\"^\",,I102:I111)","v":"45^45^45^45^45^45^45^45^45"},null,3,6,4,3,2,4,3,3,4,null,null,null,{"$f":"_xlfn.TEXTJOIN(\"^\",,Y102:Y110)","v":"12^3^2"},null,3,5,3,4,3,3,3,4,3,null,null,null,{"$f":"_xlfn.TEXTJOIN(\"^\",,AM102:AM110)","v":"12^4"},null,3,{"$f":"AU$101","v":2},null,{"$f":"AW$101","v":6},{"$f":"AX$101","v":8},null,{"$f":"AZ$101","v":17},null,{"$f":"BB$101","v":35},null,null,null,{"$f":"_xlfn.TEXTJOIN(\"^\",,BA102:BA110)","v":"25^25^25^25^25"}]
[null,null,5,5,10,17,25,35,45,55,60,70,80,null,null,{"$f":"_xlfn.TEXTJOIN(\"^\",,J102:J111)","v":"55^55^55^55^55^55^55"},null,5,6,null,null,2,null,2,2,{"$nulls":4},{"$f":"_xlfn.TEXTJOIN(\"^\",,Z102:Z110)","v":"8^4"},null,5,null,2,null,null,2,2,null,2,null,null,null,{"$f":"_xlfn.TEXTJOIN(\"^\",,AN102:AN110)","v":"10^3^2^2"},null,5,2,{"$f":"AV$101","v":4},null,8,{"$f":"AY$101","v":10},17,25,35,null,null,null,{"$f":"_xlfn.TEXTJOIN(\"^\",,BB102:BB110)","v":"35^35^35^35^35^35^35^35"}]
[null,null,7,null,10,17,null,35,45,55,null,70,80,null,null,{"$f":"_xlfn.TEXTJOIN(\"^\",,K102:K111)","v":"60^60^60^60^60"},null,7,{"$nulls":5},2,{"$nulls":5},{"$f":"_xlfn.TEXTJOIN(\"^\",,AA102:AA110)","v":""},null,7,{"$nulls":7},2,null,null,null,{"$f":"_xlfn.TEXTJOIN(\"^\",,AO102:AO110)","v":""},null,7,{"$nulls":5},17,25,35,null,null,null,{"$f":"_xlfn.TEXTJOIN(\"^\",,BC102:BC110)","v":""}]
[null,null,9,{"$nulls":5},45,null,null,null,80,null,null,{"$f":"_xlfn.TEXTJOIN(\"^\",,L102:L111)","v":"70^70^70^70^70^70^70"},null,9,{"$nulls":11},{"$f":"_xlfn.TEXTJOIN(\"^\",,AB102:AB110)","v":""},null,9,{"$nulls":11},{"$f":"_xlfn.TEXTJOIN(\"^\",,AP102:AP110)","v":""},null,9,{"$nulls":7},35,null,null,null,{"$f":"_xlfn.TEXTJOIN(\"^\",,BD102:BD110)","v":""}]
[{"$nulls":15},{"$f":"_xlfn.TEXTJOIN(\"^\",,M102:M111)","v":"80^80^80^80^80^80^80^80^80"},{"$nulls":13},{"$f":"_xlfn.TEXTJOIN(\"^\",,AC102:AC110)","v":""},{"$nulls":13},{"$f":"_xlfn.TEXTJOIN(\"^\",,AQ102:AQ110)","v":""},{"$nulls":13},{"$f":"_xlfn.TEXTJOIN(\"^\",,BE102:BE110)","v":""}]
[{"$nulls":15},{"$f":"_xlfn.TEXTJOIN(\"^\",,N102:N111)","v":""},{"$nulls":12},"最终",{"$f":"_xlfn.TEXTJOIN(\"^\",,AD101:AD111)","v":"13^6^6^9^4^11^3^10^2^2^12^4^10^3^2^2^12^3^2^8^4"},{"$nulls":12},"最终",{"$f":"_xlfn.TEXTJOIN(\"^\",,AR101:AR111)","v":"19^5^8^3^2^10^4^8^3^11^3^2^12^3^2^12^4^10^3^2^2"},{"$nulls":12},"最终",{"$f":"_xlfn.TEXTJOIN(\"^\",,BF101:BF111)","v":"2^2^2^2^4^4^4^6^6^8^8^8^8^10^10^10^17^17^17^17^17^17^25^25^25^25^25^35^35^35^35^35^35^35^35"}]
[{"$nulls":14},"最终",{"$f":"_xlfn.TEXTJOIN(\"^\",,P102:P112)","v":"5^5^5^5^5^10^10^10^10^10^17^17^17^17^17^17^17^25^25^25^25^25^35^35^35^35^35^35^35^45^45^45^45^45^45^45^45^45^55^55^55^55^55^55^55^60^60^60^60^60^70^70^70^70^70^70^70^80^80^80^80^80^80^80^80^80"}]
[{"$nulls":15},{"$f":"COUNT(D102:M110)","v":66},{"$nulls":13},{"$f":"SUM(S102:Z110)","v":128},{"$nulls":13},{"$f":"SUM(AG102:AN110)","v":128},{"$nulls":13},{"$f":"COUNT(AU102:BB110)","v":35}]
[{"$nulls":57},{"$f":"SUM(P114:BF114)","v":357}]
[]
[{"$nulls":4},{"$f":"E118-D118","v":5},{"$f":"F118-E118","v":7},8,10,5,10,10,10,5,{"$nulls":6},{"$f":"T118-S118","v":5},5,10,15,16,17,7,{"$nulls":7},{"$f":"AH118-AG118","v":2},5,7,8,10,10,5,{"$nulls":7},{"$f":"AV118-AU118","v":2},3,4,8,10,10,10]
[1,"冰原-3","波1·怪物",5,10,17,25,35,40,50,60,70,75,null,null,null,3,"波2·怪物",5,10,15,25,40,56,73,80,{"$nulls":4},1,"波3·怪物",3,5,10,17,25,35,45,50,{"$nulls":4},1,"波4·怪物",3,5,8,12,20,30,40,50]
[null,"5m",8,null,null,60582,null,60584,null,60581,60584,{"$nulls":4},{"$f":"_xlfn.TEXTJOIN(\"^\",,D119:D128)","v":"60581^60581^60581^60581^60581"},null,8,{"$nulls":11},{"$f":"_xlfn.TEXTJOIN(\"^\",,S119:S128)","v":"60581^60582^60584"},null,8,{"$nulls":4},60584,60581,{"$nulls":5},{"$f":"_xlfn.TEXTJOIN(\"^\",,AG119:AG128)","v":"60583^60582^60583^60582^60583"},null,8,{"$nulls":5},60584,null,60582,null,null,null,{"$f":"_xlfn.TEXTJOIN(\"^\",,AU119:AU128)","v":"60585^60585^60585"}]
[null,null,6,null,60584,null,60582,60582,null,60581,60582,60582,null,null,null,{"$f":"_xlfn.TEXTJOIN(\"^\",,E119:E128)","v":"60584^60582^60582^60582^60584"},null,6,{"$nulls":11},{"$f":"_xlfn.TEXTJOIN(\"^\",,T119:T128)","v":"60581^60583"},null,6,null,60584,null,60582,60582,60581,60582,{"$nulls":4},{"$f":"_xlfn.TEXTJOIN(\"^\",,AH119:AH128)","v":"60584^60581^60582^60581^60582^60581^60584"},null,6,null,null,60584,null,60582,null,60582,{"$nulls":4},{"$f":"_xlfn.TEXTJOIN(\"^\",,AV119:AV128)","v":"60582^60582^60582"}]
[null,null,4,60581,null,60581,60581,null,60585,60582,60581,60581,60585,null,null,{"$f":"_xlfn.TEXTJOIN(\"^\",,F119:F128)","v":"60582^60581^60583^60583^60583^60581^60582"},null,4,{"$nulls":11},{"$f":"_xlfn.TEXTJOIN(\"^\",,U119:U128)","v":"60581^60582"},null,4,60583,60581,60585,60581,60583,60582,60581,60585,null,null,null,{"$f":"_xlfn.TEXTJOIN(\"^\",,AI119:AI128)","v":"60585^60585^60585^60585^60585"},null,4,60585,null,null,60581,60581,60581,60581,60582,null,null,null,{"$f":"_xlfn.TEXTJOIN(\"^\",,AW119:AW128)","v":"60584^60583^60584"}]
[null,null,2,60581,60582,60583,60581,60583,60585,null,60583,60583,60585,null,null,{"$f":"_xlfn.TEXTJOIN(\"^\",,G119:G128)","v":"60582^60581^60581^60584^60581^60581^60582"},null,2,{"$nulls":11},{"$f":"_xlfn.TEXTJOIN(\"^\",,V119:V128)","v":"60585^60582"},null,2,60582,60582,60585,60583,60581,60584,60583,60585,null,null,null,{"$f":"_xlfn.TEXTJOIN(\"^\",,AJ119:AJ128)","v":"60582^60581^60583^60582^60583^60581^60582"},null,2,null,60582,null,60581,60583,60582,60583,60581,null,null,null,{"$f":"_xlfn.TEXTJOIN(\"^\",,AX119:AX128)","v":"60581^60581^60581^60581"}]
[null,null,1,60581,60582,60583,60584,60582,60585,60582,60581,60583,60585,null,null,{"$f":"_xlfn.TEXTJOIN(\"^\",,H119:H128)","v":"60584^60582^60583^60582^60583^60582^60584"},null,1,60581,60581,60581,60585,60581,60581,60581,60585,null,null,null,{"$f":"_xlfn.TEXTJOIN(\"^\",,W119:W128)","v":"60581^60582^60584"},null,1,60583,60581,60585,60582,60581,60582,60584,60585,null,null,null,{"$f":"_xlfn.TEXTJOIN(\"^\",,AK119:AK128)","v":"60584^60582^60583^60581^60581^60581^60583^60582^60584"},null,1,60585,60582,60583,null,null,60582,60584,60583,null,null,null,{"$f":"_xlfn.TEXTJOIN(\"^\",,AY119:AY128)","v":"60582^60581^60583^60583^60581^60582"}]
[null,null,3,60581,60582,60583,60581,60583,60585,null,60583,60583,60585,null,null,{"$f":"_xlfn.TEXTJOIN(\"^\",,I119:I128)","v":"60585^60585^60585^60585^60585"},null,3,60582,60583,60582,60582,60582,60583,60582,60582,null,null,null,{"$f":"_xlfn.TEXTJOIN(\"^\",,X119:X128)","v":"60581^60583^60582^60584"},null,3,60582,60582,60585,60583,60581,60584,60583,60585,null,null,null,{"$f":"_xlfn.TEXTJOIN(\"^\",,AL119:AL128)","v":"60581^60581^60582^60584^60582^60584^60582^60581^60581"},null,3,null,60582,null,60581,60583,60582,60583,60581,null,null,null,{"$f":"_xlfn.TEXTJOIN(\"^\",,AZ119:AZ128)","v":"60584^60581^60582^60582^60582^60581^60584"}]
[null,null,5,60581,null,60581,60581,null,60585,60582,60581,60581,60585,null,null,{"$f":"_xlfn.TEXTJOIN(\"^\",,J119:J128)","v":"60581^60581^60582^60582^60582^60581^60581"},null,5,60584,null,null,null,60584,60582,60584,60584,null,null,null,{"$f":"_xlfn.TEXTJOIN(\"^\",,Y119:Y128)","v":"60581^60582^60584"},null,5,60583,60581,60585,60581,60583,60582,60581,60585,null,null,null,{"$f":"_xlfn.TEXTJOIN(\"^\",,AM119:AM128)","v":"60582^60581^60583^60584^60583^60581^60582"},null,5,60585,null,null,60581,60581,60581,60581,60582,null,null,null,{"$f":"_xlfn.TEXTJOIN(\"^\",,BA119:BA128)","v":"60582^60581^60583^60584^60583^60581^60582"}]
[null,null,7,null,60584,null,60582,60582,null,60581,60582,60582,null,null,null,{"$f":"_xlfn.TEXTJOIN(\"^\",,K119:K128)","v":"60584^60582^60581^60583^60581^60583^60581^60582^60584"},null,7,{"$nulls":5},60584,{"$nulls":5},{"$f":"_xlfn.TEXTJOIN(\"^\",,Z119:Z128)","v":"60585^60582^60584"},null,7,null,60584,null,60582,60582,60581,60582,{"$nulls":4},{"$f":"_xlfn.TEXTJOIN(\"^\",,AN119:AN128)","v":"60585^60585^60585^60585^60585"},null,7,null,null,60584,null,60582,null,60582,{"$nulls":4},{"$f":"_xlfn.TEXTJOIN(\"^\",,BB119:BB128)","v":"60582^60582^60581^60583^60581^60582^60582"}]
[null,null,9,null,null,60582,null,60584,null,60581,60584,{"$nulls":4},{"$f":"_xlfn.TEXTJOIN(\"^\",,L119:L128)","v":"60582^60581^60583^60583^60583^60581^60582"},null,9,{"$nulls":11},{"$f":"_xlfn.TEXTJOIN(\"^\",,AA119:AA128)","v":""},null,9,{"$nulls":4},60584,60581,{"$nulls":5},{"$f":"_xlfn.TEXTJOIN(\"^\",,AO119:AO128)","v":""},null,9,{"$nulls":5},60584,null,60582,null,null,null,{"$f":"_xlfn.TEXTJOIN(\"^\",,BC119:BC128)","v":""}]
[{"$nulls":15},{"$f":"_xlfn.TEXTJOIN(\"^\",,M119:M128)","v":"60585^60585^60585^60585^60585"},{"$nulls":13},{"$f":"_xlfn.TEXTJOIN(\"^\",,AB119:AB128)","v":""},{"$nulls":13},{"$f":"_xlfn.TEXTJOIN(\"^\",,AP119:AP128)","v":""},{"$nulls":13},{"$f":"_xlfn.TEXTJOIN(\"^\",,BD119:BD128)","v":""}]
[{"$nulls":15},{"$f":"_xlfn.TEXTJOIN(\"^\",,N119:N128)","v":""},{"$nulls":13},{"$f":"_xlfn.TEXTJOIN(\"^\",,AC119:AC128)","v":""},{"$nulls":13},{"$f":"_xlfn.TEXTJOIN(\"^\",,AQ119:AQ128)","v":""},{"$nulls":13},{"$f":"_xlfn.TEXTJOIN(\"^\",,BE119:BE128)","v":""}]
[{"$nulls":14},"最终",{"$f":"_xlfn.TEXTJOIN(\"^\",,P119:P129)","v":"60581^60581^60581^60581^60581^60584^60582^60582^60582^60584^60582^60581^60583^60583^60583^60581^60582^60582^60581^60581^60584^60581^60581^60582^60584^60582^60583^60582^60583^60582^60584^60585^60585^60585^60585^60585^60581^60581^60582^60582^60582^60581^60581^60584^60582^60581^60583^60581^60583^60581^60582^60584^60582^60581^60583^60583^60583^60581^60582^60585^60585^60585^60585^60585"},{"$nulls":12},"最终",{"$f":"_xlfn.TEXTJOIN(\"^\",,AD119:AD129)","v":"60581^60582^60584^60581^60583^60581^60582^60585^60582^60581^60582^60584^60581^60583^60582^60584^60581^60582^60584^60585^60582^60584"},{"$nulls":12},"最终",{"$f":"_xlfn.TEXTJOIN(\"^\",,AR119:AR129)","v":"60583^60582^60583^60582^60583^60584^60581^60582^60581^60582^60581^60584^60585^60585^60585^60585^60585^60582^60581^60583^60582^60583^60581^60582^60584^60582^60583^60581^60581^60581^60583^60582^60584^60581^60581^60582^60584^60582^60584^60582^60581^60581^60582^60581^60583^60584^60583^60581^60582^60585^60585^60585^60585^60585"},{"$nulls":12},"最终",{"$f":"_xlfn.TEXTJOIN(\"^\",,BF119:BF129)","v":"60585^60585^60585^60582^60582^60582^60584^60583^60584^60581^60581^60581^60581^60582^60581^60583^60583^60581^60582^60584^60581^60582^60582^60582^60581^60584^60582^60581^60583^60584^60583^60581^60582^60582^60582^60581^60583^60581^60582^60582"}]
[null,null,8,null,null,"巨魔矛手",null,"木精灵",null,"雪怪","木精灵",{"$nulls":6},8,{"$nulls":13},8,{"$nulls":4},"木精灵","雪怪",{"$nulls":7},8,{"$nulls":5},"木精灵",null,"巨魔矛手"]
[null,null,6,null,"木精灵",null,"巨魔矛手","巨魔矛手",null,"雪怪","巨魔矛手","巨魔矛手",{"$nulls":5},6,{"$nulls":13},6,null,"木精灵",null,"巨魔矛手","巨魔矛手","雪怪","巨魔矛手",{"$nulls":6},6,null,null,"木精灵",null,"巨魔矛手",null,"巨魔矛手"]
[null,null,4,"雪怪",null,"雪怪","雪怪",null,"雪山蜘蛛","巨魔矛手","雪怪","雪怪","雪山蜘蛛",{"$nulls":4},4,{"$nulls":13},4,"雪原兽","雪怪","雪山蜘蛛","雪怪","雪原兽","巨魔矛手","雪怪","雪山蜘蛛",{"$nulls":5},4,"雪山蜘蛛",null,null,"雪怪","雪怪","雪怪","雪怪","巨魔矛手"]
[null,null,2,"雪怪","巨魔矛手","雪原兽","雪怪","雪原兽","雪山蜘蛛",null,"雪原兽","雪原兽","雪山蜘蛛",{"$nulls":4},2,{"$nulls":13},2,"巨魔矛手","巨魔矛手","雪山蜘蛛","雪原兽","雪怪","木精灵","雪原兽","雪山蜘蛛",{"$nulls":5},2,null,"巨魔矛手",null,"雪怪","雪原兽","巨魔矛手","雪原兽","雪怪"]
[null,null,1,"雪怪","巨魔矛手","雪原兽","木精灵","巨魔矛手","雪山蜘蛛","巨魔矛手","雪怪","雪原兽","雪山蜘蛛",{"$nulls":4},1,"雪怪","雪怪","雪怪","雪山蜘蛛","雪怪","雪怪","雪怪","雪山蜘蛛",{"$nulls":5},1,"雪原兽","雪怪","雪山蜘蛛","巨魔矛手","雪怪","巨魔矛手","木精灵","雪山蜘蛛",{"$nulls":5},1,"雪山蜘蛛","巨魔矛手","雪原兽",null,null,"巨魔矛手","木精灵","雪原兽"]
[null,null,3,"雪怪","巨魔矛手","雪原兽","雪怪","雪原兽","雪山蜘蛛",null,"雪原兽","雪原兽","雪山蜘蛛",{"$nulls":4},3,"巨魔矛手","雪原兽","巨魔矛手","巨魔矛手","巨魔矛手","雪原兽","巨魔矛手","巨魔矛手",{"$nulls":5},3,"巨魔矛手","巨魔矛手","雪山蜘蛛","雪原兽","雪怪","木精灵","雪原兽","雪山蜘蛛",{"$nulls":5},3,null,"巨魔矛手",null,"雪怪","雪原兽","巨魔矛手","雪原兽","雪怪"]
[null,null,5,"雪怪",null,"雪怪","雪怪",null,"雪山蜘蛛","巨魔矛手","雪怪","雪怪","雪山蜘蛛",{"$nulls":4},5,"木精灵",null,null,null,"木精灵","巨魔矛手","木精灵","木精灵",{"$nulls":5},5,"雪原兽","雪怪","雪山蜘蛛","雪怪","雪原兽","巨魔矛手","雪怪","雪山蜘蛛",{"$nulls":5},5,"雪山蜘蛛",null,null,"雪怪","雪怪","雪怪","雪怪","巨魔矛手"]
[null,null,7,null,"木精灵",null,"巨魔矛手","巨魔矛手",null,"雪怪","巨魔矛手","巨魔矛手",{"$nulls":5},7,{"$nulls":5},"木精灵",{"$nulls":7},7,null,"木精灵",null,"巨魔矛手","巨魔矛手","雪怪","巨魔矛手",{"$nulls":6},7,null,null,"木精灵",null,"巨魔矛手",null,"巨魔矛手"]
[null,null,9,null,null,"巨魔矛手",null,"木精灵",null,"雪怪","木精灵",{"$nulls":6},9,{"$nulls":13},9,{"$nulls":4},"木精灵","雪怪",{"$nulls":7},9,{"$nulls":5},"木精灵",null,"巨魔矛手"]
[]
[null,null,"位置",5,10,17,25,35,40,50,60,70,75,{"$nulls":4},"位置",5,10,15,25,40,56,73,80,{"$nulls":5},"位置",3,5,10,17,25,35,45,50,null,null,null,{"$f":"_xlfn.TEXTJOIN(\"^\",,AG142:AG156)","v":"4^2^1^3^5"},null,"位置",3,5,8,12,20,30,40,50,null,null,null,{"$f":"_xlfn.TEXTJOIN(\"^\",,AU142:AU156)","v":"101^103^105"}]
[null,null,8,null,null,{"$f":"$C142","v":8},null,{"$f":"$C142","v":8},null,{"$f":"$C142","v":8},8,{"$nulls":4},{"$f":"_xlfn.TEXTJOIN(\"^\",,D142:D156)","v":"4^2^1^3^5"},null,8,{"$nulls":13},8,{"$nulls":4},{"$f":"$C142","v":8},8,{"$nulls":5},{"$f":"_xlfn.TEXTJOIN(\"^\",,AH142:AH156)","v":"6^4^2^1^3^5^7"},null,8,{"$nulls":5},{"$f":"$C142","v":8},null,{"$f":"$C142","v":8},null,null,null,{"$f":"_xlfn.TEXTJOIN(\"^\",,AV142:AV156)","v":"2^1^3"}]
[null,null,6,null,{"$f":"$C143","v":6},null,{"$f":"$C143","v":6},6,null,6,6,6,null,null,null,{"$f":"_xlfn.TEXTJOIN(\"^\",,E142:E156)","v":"6^2^1^3^7"},null,6,{"$nulls":11},{"$f":"_xlfn.TEXTJOIN(\"^\",,S142:S156)","v":"0^0^0"},null,6,null,{"$f":"$C143","v":6},null,{"$f":"$C143","v":6},6,6,6,{"$nulls":4},{"$f":"_xlfn.TEXTJOIN(\"^\",,AI142:AI156)","v":"101^102^103^104^105"},null,6,null,null,{"$f":"$C143","v":6},null,{"$f":"$C143","v":6},null,{"$f":"$C143","v":6},{"$nulls":4},{"$f":"_xlfn.TEXTJOIN(\"^\",,AW142:AW156)","v":"6^1^7"}]
[null,null,4,{"$f":"$C144","v":4},null,{"$f":"$C144","v":4},4,null,null,4,4,4,null,null,null,{"$f":"_xlfn.TEXTJOIN(\"^\",,F142:F156)","v":"8^4^2^1^3^5^9"},null,4,{"$nulls":11},{"$f":"_xlfn.TEXTJOIN(\"^\",,T142:T156)","v":"0^0"},null,4,{"$f":"$C144","v":4},{"$f":"$C144","v":4},null,4,4,4,4,{"$nulls":4},{"$f":"_xlfn.TEXTJOIN(\"^\",,AJ142:AJ156)","v":"6^4^2^1^3^5^7"},null,4,null,null,null,{"$f":"$C144","v":4},4,4,4,4,null,null,null,{"$f":"_xlfn.TEXTJOIN(\"^\",,AX142:AX156)","v":"4^2^3^5"}]
[null,null,2,{"$f":"$C145","v":2},{"$f":"$C145","v":2},2,2,{"$f":"$C145","v":2},null,null,2,2,null,null,null,{"$f":"_xlfn.TEXTJOIN(\"^\",,G142:G156)","v":"6^4^2^1^3^5^7"},null,2,{"$nulls":11},{"$f":"_xlfn.TEXTJOIN(\"^\",,U142:U156)","v":"0^0"},null,2,{"$f":"$C145","v":2},2,null,2,2,2,2,{"$nulls":4},{"$f":"_xlfn.TEXTJOIN(\"^\",,AK142:AK156)","v":"8^6^4^2^1^3^5^7^9"},null,2,null,{"$f":"$C145","v":2},null,2,2,2,2,2,null,null,null,{"$f":"_xlfn.TEXTJOIN(\"^\",,AY142:AY156)","v":"6^4^2^3^5^7"}]
[null,null,1,{"$f":"$C146","v":1},1,1,1,{"$f":"$C146","v":1},null,{"$f":"$C146","v":1},1,{"$f":"$C146","v":1},null,null,null,{"$f":"_xlfn.TEXTJOIN(\"^\",,H142:H156)","v":"8^6^2^1^3^7^9"},null,1,0,0,0,100,0,0,0,100,null,null,null,{"$f":"_xlfn.TEXTJOIN(\"^\",,V142:V156)","v":"100^0"},null,1,{"$f":"$C146","v":1},1,null,1,1,1,1,{"$nulls":4},{"$f":"_xlfn.TEXTJOIN(\"^\",,AL142:AL156)","v":"8^6^4^2^1^3^5^7^9"},null,1,null,1,{"$f":"$C146","v":1},null,null,1,1,1,null,null,null,{"$f":"_xlfn.TEXTJOIN(\"^\",,AZ142:AZ156)","v":"8^4^2^1^3^5^9"}]
[null,null,3,{"$f":"$C147","v":3},3,3,3,{"$f":"$C147","v":3},null,null,3,3,null,null,null,{"$f":"_xlfn.TEXTJOIN(\"^\",,I142:I156)","v":"101^102^103^104^105"},null,3,0,0,0,0,0,0,0,0,null,null,null,{"$f":"_xlfn.TEXTJOIN(\"^\",,W142:W156)","v":"0^0^0"},null,3,{"$f":"$C147","v":3},3,null,3,3,3,3,{"$nulls":4},{"$f":"_xlfn.TEXTJOIN(\"^\",,AM142:AM156)","v":"6^4^2^1^3^5^7"},null,3,null,3,null,{"$f":"$C147","v":3},3,3,3,3,null,null,null,{"$f":"_xlfn.TEXTJOIN(\"^\",,BA142:BA156)","v":"6^4^2^1^3^5^7"}]
[null,null,5,5,null,5,5,null,null,{"$f":"$C148","v":5},5,5,null,null,null,{"$f":"_xlfn.TEXTJOIN(\"^\",,J142:J156)","v":"8^6^4^1^5^7^9"},null,5,0,null,null,null,0,0,0,0,null,null,null,{"$f":"_xlfn.TEXTJOIN(\"^\",,X142:X156)","v":"0^0^0^0"},null,5,{"$f":"$C148","v":5},5,null,5,5,5,5,{"$nulls":4},{"$f":"_xlfn.TEXTJOIN(\"^\",,AN142:AN156)","v":"101^102^103^104^105"},null,5,null,null,null,5,5,5,5,5,null,null,null,{"$f":"_xlfn.TEXTJOIN(\"^\",,BB142:BB156)","v":"8^4^2^1^3^5^9"}]
[null,null,7,null,{"$f":"$C149","v":7},null,7,7,null,7,7,7,null,null,null,{"$f":"_xlfn.TEXTJOIN(\"^\",,K142:K156)","v":"8^6^4^2^1^3^5^7^9"},null,7,{"$nulls":5},0,{"$nulls":5},{"$f":"_xlfn.TEXTJOIN(\"^\",,Y142:Y156)","v":"0^0^0"},null,7,null,{"$f":"$C149","v":7},null,7,7,7,7,{"$nulls":4},{"$f":"_xlfn.TEXTJOIN(\"^\",,AO142:AO156)","v":""},null,7,null,null,{"$f":"$C149","v":7},null,7,null,7,{"$nulls":4},{"$f":"_xlfn.TEXTJOIN(\"^\",,BC142:BC156)","v":""}]
[null,null,9,null,null,{"$f":"$C150","v":9},null,9,null,9,9,{"$nulls":4},{"$f":"_xlfn.TEXTJOIN(\"^\",,L142:L156)","v":"6^4^2^1^3^5^7"},null,9,{"$nulls":13},9,{"$nulls":4},9,9,{"$nulls":5},{"$f":"_xlfn.TEXTJOIN(\"^\",,AP142:AP156)","v":""},null,9,{"$nulls":5},{"$f":"$C150","v":9},null,{"$f":"$C150","v":9},null,null,null,{"$f":"_xlfn.TEXTJOIN(\"^\",,BD142:BD156)","v":""}]
[null,null,"空降",{"$nulls":12},{"$f":"_xlfn.TEXTJOIN(\"^\",,M142:M156)","v":"101^102^103^104^105"},null,"空降",{"$nulls":13},"空降",{"$nulls":11},{"$f":"_xlfn.TEXTJOIN(\"^\",,AQ142:AQ150)","v":""},null,"空降",{"$nulls":11},{"$f":"_xlfn.TEXTJOIN(\"^\",,BE142:BE150)","v":""}]
[null,null,101,{"$nulls":5},{"$f":"$C152","v":101},null,null,null,{"$f":"$C152","v":101},null,null,{"$f":"_xlfn.TEXTJOIN(\"^\",,N142:N156)","v":""},null,101,{"$nulls":11},{"$f":"_xlfn.TEXTJOIN(\"^\",,Z142:Z156)","v":"100^0^0"},null,101,null,null,{"$f":"$C152","v":101},{"$nulls":4},{"$f":"$C152","v":101},{"$nulls":5},101,{"$f":"$C152","v":101}]
[null,null,102,{"$nulls":5},102,null,null,null,102,{"$nulls":4},102,{"$nulls":11},{"$f":"_xlfn.TEXTJOIN(\"^\",,AA142:AA156)","v":""},null,102,null,null,102,{"$nulls":4},102,{"$nulls":5},102]
[null,null,103,{"$nulls":5},103,null,null,null,103,{"$nulls":4},103,{"$nulls":11},{"$f":"_xlfn.TEXTJOIN(\"^\",,AB142:AB156)","v":""},null,103,null,null,103,{"$nulls":4},103,{"$nulls":5},103,{"$f":"$C154","v":103}]
[null,null,104,{"$nulls":5},104,null,null,null,104,{"$nulls":4},104,{"$nulls":13},104,null,null,104,{"$nulls":4},104,{"$nulls":5},104]
[null,null,105,{"$nulls":5},105,null,null,null,105,{"$nulls":4},105,{"$nulls":13},105,null,null,105,{"$nulls":4},105,{"$nulls":5},105,{"$f":"$C156","v":105}]
[{"$nulls":14},"最终",{"$f":"_xlfn.TEXTJOIN(\"^\",,P142:P156)","v":"4^2^1^3^5^6^2^1^3^7^8^4^2^1^3^5^9^6^4^2^1^3^5^7^8^6^2^1^3^7^9^101^102^103^104^105^8^6^4^1^5^7^9^8^6^4^2^1^3^5^7^9^6^4^2^1^3^5^7^101^102^103^104^105"},{"$nulls":12},"最终",{"$f":"_xlfn.TEXTJOIN(\"^\",,AD142:AD156)","v":"0^0^0^0^0^0^0^100^0^0^0^0^0^0^0^0^0^0^0^100^0^0"},{"$nulls":12},"最终",{"$f":"_xlfn.TEXTJOIN(\"^\",,AR141:AR156)","v":"4^2^1^3^5^6^4^2^1^3^5^7^101^102^103^104^105^6^4^2^1^3^5^7^8^6^4^2^1^3^5^7^9^8^6^4^2^1^3^5^7^9^6^4^2^1^3^5^7^101^102^103^104^105"},{"$nulls":12},"最终",{"$f":"_xlfn.TEXTJOIN(\"^\",,BF141:BF156)","v":"101^103^105^2^1^3^6^1^7^4^2^3^5^6^4^2^3^5^7^8^4^2^1^3^5^9^6^4^2^1^3^5^7^8^4^2^1^3^5^9"}]
[]
[null,null,"时间",5,10,17,25,35,40,50,60,70,75,{"$nulls":4},"时间",5,10,15,25,40,56,73,80,null,null,null,{"$f":"_xlfn.TEXTJOIN(\"^\",,S160:S168)","v":"18^6^5"},null,"时间",3,5,10,17,25,35,45,50,null,null,null,{"$f":"_xlfn.TEXTJOIN(\"^\",,AG160:AG168)","v":"3^3^3^3^3"},null,"时间",3,5,8,12,20,30,40,50,null,null,null,{"$f":"_xlfn.TEXTJOIN(\"^\",,AU160:AU168)","v":"3^3^3"}]
[null,null,8,null,null,{"$f":"F$159","v":17},null,{"$f":"H$159","v":35},null,{"$f":"J$159","v":50},60,{"$nulls":4},{"$f":"_xlfn.TEXTJOIN(\"^\",,D160:D169)","v":"5^5^5^5^5"},null,8,{"$nulls":11},{"$f":"_xlfn.TEXTJOIN(\"^\",,T160:T168)","v":"12^3"},null,8,{"$nulls":4},{"$f":"AK$159","v":25},35,{"$nulls":5},{"$f":"_xlfn.TEXTJOIN(\"^\",,AH160:AH168)","v":"5^5^5^5^5^5^5"},null,8,{"$nulls":5},{"$f":"AZ$159","v":30},null,{"$f":"BB$159","v":50},null,null,null,{"$f":"_xlfn.TEXTJOIN(\"^\",,AV160:AV168)","v":"5^5^5"}]
[null,null,6,null,{"$f":"E$159","v":10},null,{"$f":"G$159","v":25},35,null,50,60,70,null,null,null,{"$f":"_xlfn.TEXTJOIN(\"^\",,E160:E169)","v":"10^10^10^10^10"},null,6,{"$nulls":11},{"$f":"_xlfn.TEXTJOIN(\"^\",,U160:U168)","v":"12^4"},null,6,null,{"$f":"AH$159","v":5},null,{"$f":"AJ$159","v":17},25,35,45,{"$nulls":4},{"$f":"_xlfn.TEXTJOIN(\"^\",,AI160:AI168)","v":"10^10^10^10^10"},null,6,null,null,{"$f":"AW$159","v":8},null,{"$f":"AY$159","v":20},null,{"$f":"BA$159","v":40},{"$nulls":4},{"$f":"_xlfn.TEXTJOIN(\"^\",,AW160:AW168)","v":"8^8^8"}]
[null,null,4,{"$f":"D$159","v":5},null,{"$f":"F$159","v":17},25,null,{"$f":"I$159","v":40},50,60,70,75,null,null,{"$f":"_xlfn.TEXTJOIN(\"^\",,F160:F169)","v":"17^17^17^17^17^17^17"},null,4,{"$nulls":11},{"$f":"_xlfn.TEXTJOIN(\"^\",,V160:V168)","v":"8^5"},null,4,{"$f":"AG$159","v":3},{"$f":"AH$159","v":5},10,17,25,35,45,50,null,null,null,{"$f":"_xlfn.TEXTJOIN(\"^\",,AJ160:AJ168)","v":"17^17^17^17^17^17^17"},null,4,{"$f":"AU$159","v":3},null,null,{"$f":"AX$159","v":12},20,30,40,{"$f":"BB$159","v":50},null,null,null,{"$f":"_xlfn.TEXTJOIN(\"^\",,AX160:AX168)","v":"12^12^12^12"}]
[null,null,2,5,10,17,25,{"$f":"H$159","v":35},40,null,{"$f":"K$159","v":60},70,75,null,null,{"$f":"_xlfn.TEXTJOIN(\"^\",,G160:G169)","v":"25^25^25^25^25^25^25"},null,2,{"$nulls":11},{"$f":"_xlfn.TEXTJOIN(\"^\",,W160:W168)","v":"13^3^2"},null,2,{"$f":"AG$159","v":3},5,10,17,25,35,45,50,null,null,null,{"$f":"_xlfn.TEXTJOIN(\"^\",,AK160:AK168)","v":"25^25^25^25^25^25^25^25^25"},null,2,null,{"$f":"AV$159","v":5},null,12,20,30,40,50,null,null,null,{"$f":"_xlfn.TEXTJOIN(\"^\",,AY160:AY168)","v":"20^20^20^20^20^20"}]
[null,null,1,5,10,17,25,{"$f":"H$159","v":35},40,{"$f":"J$159","v":50},60,70,75,null,null,{"$f":"_xlfn.TEXTJOIN(\"^\",,H160:H169)","v":"35^35^35^35^35^35^35"},null,1,18,12,12,8,13,12,13,8,null,null,null,{"$f":"_xlfn.TEXTJOIN(\"^\",,X160:X168)","v":"12^2^3^2"},null,1,3,5,10,17,25,35,45,50,null,null,null,{"$f":"_xlfn.TEXTJOIN(\"^\",,AL160:AL168)","v":"35^35^35^35^35^35^35^35^35"},null,1,{"$f":"AU$159","v":3},5,{"$f":"AW$159","v":8},null,null,30,40,50,null,null,null,{"$f":"_xlfn.TEXTJOIN(\"^\",,AZ160:AZ168)","v":"30^30^30^30^30^30^30"}]
[null,null,3,5,10,17,25,{"$f":"H$159","v":35},40,null,60,70,75,null,null,{"$f":"_xlfn.TEXTJOIN(\"^\",,I160:I169)","v":"40^40^40^40^40"},null,3,6,3,4,5,3,2,4,4,null,null,null,{"$f":"_xlfn.TEXTJOIN(\"^\",,Y160:Y168)","v":"13^4^2"},null,3,3,5,10,17,25,35,45,50,null,null,null,{"$f":"_xlfn.TEXTJOIN(\"^\",,AM160:AM168)","v":"45^45^45^45^45^45^45"},null,3,null,5,null,{"$f":"AX$159","v":12},20,30,40,50,null,null,null,{"$f":"_xlfn.TEXTJOIN(\"^\",,BA160:BA168)","v":"40^40^40^40^40^40^40"}]
[null,null,5,5,null,17,25,null,40,50,60,70,75,null,null,{"$f":"_xlfn.TEXTJOIN(\"^\",,J160:J169)","v":"50^50^50^50^50^50^50"},null,5,5,null,null,null,2,3,2,2,null,null,null,{"$f":"_xlfn.TEXTJOIN(\"^\",,Z160:Z168)","v":"8^4^2"},null,5,{"$f":"AG$159","v":3},5,10,17,25,35,45,50,null,null,null,{"$f":"_xlfn.TEXTJOIN(\"^\",,AN160:AN168)","v":"50^50^50^50^50"},null,5,{"$f":"AU$159","v":3},null,null,12,20,30,40,50,null,null,null,{"$f":"_xlfn.TEXTJOIN(\"^\",,BB160:BB168)","v":"50^50^50^50^50^50^50"}]
[null,null,7,null,{"$f":"E$159","v":10},null,25,35,null,50,60,70,null,null,null,{"$f":"_xlfn.TEXTJOIN(\"^\",,K160:K169)","v":"60^60^60^60^60^60^60^60^60"},null,7,{"$nulls":5},2,{"$nulls":5},{"$f":"_xlfn.TEXTJOIN(\"^\",,AA160:AA168)","v":""},null,7,null,{"$f":"AH$159","v":5},null,17,25,35,45,{"$nulls":4},{"$f":"_xlfn.TEXTJOIN(\"^\",,AO160:AO168)","v":""},null,7,null,null,{"$f":"AW$159","v":8},null,20,null,40,{"$nulls":4},{"$f":"_xlfn.TEXTJOIN(\"^\",,BC160:BC168)","v":""}]
[null,null,9,null,null,{"$f":"F$159","v":17},null,35,null,50,60,{"$nulls":4},{"$f":"_xlfn.TEXTJOIN(\"^\",,L160:L169)","v":"70^70^70^70^70^70^70"},null,9,{"$nulls":11},{"$f":"_xlfn.TEXTJOIN(\"^\",,AB160:AB168)","v":""},null,9,{"$nulls":4},25,35,{"$nulls":5},{"$f":"_xlfn.TEXTJOIN(\"^\",,AP160:AP168)","v":""},null,9,{"$nulls":5},{"$f":"AZ$159","v":30},null,{"$f":"BB$159","v":50},null,null,null,{"$f":"_xlfn.TEXTJOIN(\"^\",,BD160:BD168)","v":""}]
[{"$nulls":15},{"$f":"_xlfn.TEXTJOIN(\"^\",,M160:M169)","v":"75^75^75^75^75"},{"$nulls":13},{"$f":"_xlfn.TEXTJOIN(\"^\",,AC160:AC168)","v":""},{"$nulls":13},{"$f":"_xlfn.TEXTJOIN(\"^\",,AQ160:AQ168)","v":""},{"$nulls":13},{"$f":"_xlfn.TEXTJOIN(\"^\",,BE160:BE168)","v":""}]
[{"$nulls":15},{"$f":"_xlfn.TEXTJOIN(\"^\",,N160:N169)","v":""},{"$nulls":12},"最终",{"$f":"_xlfn.TEXTJOIN(\"^\",,AD159:AD169)","v":"18^6^5^12^3^12^4^8^5^13^3^2^12^2^3^2^13^4^2^8^4^2"},{"$nulls":12},"最终",{"$f":"_xlfn.TEXTJOIN(\"^\",,AR159:AR169)","v":"3^3^3^3^3^5^5^5^5^5^5^5^10^10^10^10^10^17^17^17^17^17^17^17^25^25^25^25^25^25^25^25^25^35^35^35^35^35^35^35^35^35^45^45^45^45^45^45^45^50^50^50^50^50"},{"$nulls":12},"最终",{"$f":"_xlfn.TEXTJOIN(\"^\",,BF159:BF169)","v":"3^3^3^5^5^5^8^8^8^12^12^12^12^20^20^20^20^20^20^30^30^30^30^30^30^30^40^40^40^40^40^40^40^50^50^50^50^50^50^50"}]
[{"$nulls":14},"最终",{"$f":"_xlfn.TEXTJOIN(\"^\",,P160:P170)","v":"5^5^5^5^5^10^10^10^10^10^17^17^17^17^17^17^17^25^25^25^25^25^25^25^35^35^35^35^35^35^35^40^40^40^40^40^50^50^50^50^50^50^50^60^60^60^60^60^60^60^60^60^70^70^70^70^70^70^70^75^75^75^75^75"}]
[{"$nulls":15},{"$f":"COUNT(D160:M168)","v":64},{"$nulls":13},{"$f":"SUM(S160:Z168)","v":143},{"$nulls":13},{"$f":"COUNT(AG160:AN168)","v":54},{"$nulls":13},{"$f":"COUNT(AU160:BB168)","v":40}]
[{"$nulls":57},{"$f":"SUM(P172:BF172)","v":301}]
[]
[{"$nulls":4},{"$f":"E176-D176","v":10},{"$f":"F176-E176","v":15},15,5,15,16,17,7,15,{"$nulls":6},{"$f":"T176-S176","v":5},5,7,8,10,10,5,{"$nulls":7},{"$f":"AH176-AG176","v":6},5,15,16,17,7,15,{"$nulls":7},{"$f":"AV176-AU176","v":2},3,4,5,8,10,10]
[3,"冰原-4","波1·怪物",5,15,30,45,50,65,81,98,105,120,null,null,null,1,"波2·怪物",5,10,15,22,30,40,50,55,{"$nulls":4},3,"波3·怪物",4,10,15,30,46,63,70,85,{"$nulls":4},1,"波4·怪物",3,5,8,12,17,25,35,45]
[null,"5m",8,{"$nulls":12},{"$f":"_xlfn.TEXTJOIN(\"^\",,D177:D186)","v":"60591^60592^60594"},null,8,{"$nulls":4},60594,60592,60594,{"$nulls":4},{"$f":"_xlfn.TEXTJOIN(\"^\",,S177:S186)","v":"60594^60591^60591^60591^60594"},null,8,{"$nulls":11},{"$f":"_xlfn.TEXTJOIN(\"^\",,AG177:AG186)","v":"60595^60591^60592"},null,8,{"$nulls":5},60594,null,60592,null,null,null,{"$f":"_xlfn.TEXTJOIN(\"^\",,AU177:AU186)","v":"60593^60593^60593"}]
[null,null,6,{"$nulls":12},{"$f":"_xlfn.TEXTJOIN(\"^\",,E177:E186)","v":"60591^60593"},null,6,null,60592,null,60594,null,null,60592,{"$nulls":4},{"$f":"_xlfn.TEXTJOIN(\"^\",,T177:T186)","v":"60592^60593^60591^60592^60591^60593^60592"},null,6,{"$nulls":11},{"$f":"_xlfn.TEXTJOIN(\"^\",,AH177:AH186)","v":"60591^60592^60594"},null,6,null,60592,null,null,null,60592,60592,60594,null,null,null,{"$f":"_xlfn.TEXTJOIN(\"^\",,AV177:AV186)","v":"60592^60592^60592"}]
[null,null,4,{"$nulls":12},{"$f":"_xlfn.TEXTJOIN(\"^\",,F177:F186)","v":"60591^60592^60593^60594"},null,4,60594,60593,60595,60593,60592,60591,60591,60595,null,null,null,{"$f":"_xlfn.TEXTJOIN(\"^\",,U177:U186)","v":"60595^60595^60595^60595^60595"},null,4,{"$nulls":11},{"$f":"_xlfn.TEXTJOIN(\"^\",,AI177:AI186)","v":"60591^60593"},null,4,60593,null,null,60591,60595,null,60591,60592,null,null,null,{"$f":"_xlfn.TEXTJOIN(\"^\",,AW177:AW186)","v":"60594^60594"}]
[null,null,2,{"$nulls":12},{"$f":"_xlfn.TEXTJOIN(\"^\",,G177:G186)","v":"60591^60592"},null,2,60591,60591,60595,60592,60591,60593,60591,60595,null,null,null,{"$f":"_xlfn.TEXTJOIN(\"^\",,V177:V186)","v":"60594^60593^60592^60593^60592^60593^60594"},null,2,{"$nulls":11},{"$f":"_xlfn.TEXTJOIN(\"^\",,AJ177:AJ186)","v":"60591^60592^60593"},null,2,null,null,60594,60591,60595,60593,60591,60593,null,null,null,{"$f":"_xlfn.TEXTJOIN(\"^\",,AX177:AX186)","v":"60591^60591^60591^60591"}]
[null,null,1,60591,60591,60591,60591,60595,60591,60591,60591,60595,60591,null,null,{"$f":"_xlfn.TEXTJOIN(\"^\",,H177:H186)","v":"60595^60592"},null,1,60591,60592,60595,60593,60592,60592,60592,60595,null,null,null,{"$f":"_xlfn.TEXTJOIN(\"^\",,W177:W186)","v":"60594^60592^60591^60592^60591^60592^60594"},null,1,60595,60591,60591,60591,60591,60591,60595,60591,null,null,null,{"$f":"_xlfn.TEXTJOIN(\"^\",,AK177:AK186)","v":"60591^60592^60594"},null,1,60593,60592,{"$nulls":4},60594,{"$nulls":4},{"$f":"_xlfn.TEXTJOIN(\"^\",,AY177:AY186)","v":"60595^60595^60595^60595"}]
[null,null,3,60592,60593,60592,60592,60592,60592,60592,60592,60593,60592,null,null,{"$f":"_xlfn.TEXTJOIN(\"^\",,I177:I186)","v":"60591^60592^60593^60594"},null,3,60591,60591,60595,60592,60591,60593,60591,60595,null,null,null,{"$f":"_xlfn.TEXTJOIN(\"^\",,X177:X186)","v":"60592^60591^60593^60592^60593^60591^60592"},null,3,60591,60592,60593,60592,60592,60592,60592,60592,null,null,null,{"$f":"_xlfn.TEXTJOIN(\"^\",,AL177:AL186)","v":"60591^60592^60593"},null,3,null,null,60594,60591,60595,60593,60591,60593,null,null,null,{"$f":"_xlfn.TEXTJOIN(\"^\",,AZ177:AZ186)","v":"60594^60592^60593^60593^60592^60594"}]
[null,null,5,60594,null,60593,null,null,60593,60593,60594,60594,60593,null,null,{"$f":"_xlfn.TEXTJOIN(\"^\",,J177:J186)","v":"60591^60592^60593"},null,5,60594,60593,60595,60593,60592,60591,60591,60595,null,null,null,{"$f":"_xlfn.TEXTJOIN(\"^\",,Y177:Y186)","v":"60594^60592^60591^60591^60592^60591^60591^60592^60594"},null,5,60592,60594,null,60593,60594,60593,null,60593,null,null,null,{"$f":"_xlfn.TEXTJOIN(\"^\",,AM177:AM186)","v":"60595^60592"},null,5,60593,null,null,60591,60595,null,60591,60592,null,null,null,{"$f":"_xlfn.TEXTJOIN(\"^\",,BA177:BA186)","v":"60592^60591^60591^60594^60591^60591^60592"}]
[null,null,7,null,null,60594,null,null,60594,{"$nulls":6},{"$f":"_xlfn.TEXTJOIN(\"^\",,K177:K186)","v":"60591^60592^60594"},null,7,null,60592,null,60594,null,null,60592,{"$nulls":4},{"$f":"_xlfn.TEXTJOIN(\"^\",,Z177:Z186)","v":"60595^60595^60595^60595^60595"},null,7,{"$nulls":7},60594,null,null,null,{"$f":"_xlfn.TEXTJOIN(\"^\",,AN177:AN186)","v":"60591^60592^60593^60594"},null,7,null,60592,null,null,null,60592,60592,60594,null,null,null,{"$f":"_xlfn.TEXTJOIN(\"^\",,BB177:BB186)","v":"60592^60594^60592^60593^60593^60592^60594^60592"}]
[null,null,9,{"$nulls":12},{"$f":"_xlfn.TEXTJOIN(\"^\",,L177:L186)","v":"60595^60593^60594"},null,9,{"$nulls":4},60594,60592,60594,{"$nulls":4},{"$f":"_xlfn.TEXTJOIN(\"^\",,AA177:AA186)","v":""},null,9,{"$nulls":11},{"$f":"_xlfn.TEXTJOIN(\"^\",,AO177:AO186)","v":""},null,9,{"$nulls":5},60594,null,60592,null,null,null,{"$f":"_xlfn.TEXTJOIN(\"^\",,BC177:BC186)","v":""}]
[{"$nulls":15},{"$f":"_xlfn.TEXTJOIN(\"^\",,M177:M186)","v":"60591^60592^60593"},{"$nulls":13},{"$f":"_xlfn.TEXTJOIN(\"^\",,AB177:AB186)","v":""},{"$nulls":13},{"$f":"_xlfn.TEXTJOIN(\"^\",,AP177:AP186)","v":""},{"$nulls":13},{"$f":"_xlfn.TEXTJOIN(\"^\",,BD177:BD186)","v":""}]
[{"$nulls":15},{"$f":"_xlfn.TEXTJOIN(\"^\",,N177:N186)","v":""},{"$nulls":13},{"$f":"_xlfn.TEXTJOIN(\"^\",,AC177:AC186)","v":""},{"$nulls":13},{"$f":"_xlfn.TEXTJOIN(\"^\",,AQ177:AQ186)","v":""},{"$nulls":13},{"$f":"_xlfn.TEXTJOIN(\"^\",,BE177:BE186)","v":""}]
[{"$nulls":14},"最终",{"$f":"_xlfn.TEXTJOIN(\"|\",,P177:P187)","v":"60591^60592^60594|60591^60593|60591^60592^60593^60594|60591^60592|60595^60592|60591^60592^60593^60594|60591^60592^60593|60591^60592^60594|60595^60593^60594|60591^60592^60593"},{"$nulls":12},"最终",{"$f":"_xlfn.TEXTJOIN(\"^\",,AD177:AD187)","v":"60594^60591^60591^60591^60594^60592^60593^60591^60592^60591^60593^60592^60595^60595^60595^60595^60595^60594^60593^60592^60593^60592^60593^60594^60594^60592^60591^60592^60591^60592^60594^60592^60591^60593^60592^60593^60591^60592^60594^60592^60591^60591^60592^60591^60591^60592^60594^60595^60595^60595^60595^60595"},{"$nulls":12},"最终",{"$f":"_xlfn.TEXTJOIN(\"^\",,AR177:AR187)","v":"60595^60591^60592^60591^60592^60594^60591^60593^60591^60592^60593^60591^60592^60594^60591^60592^60593^60595^60592^60591^60592^60593^60594"},{"$nulls":12},"最终",{"$f":"_xlfn.TEXTJOIN(\"^\",,BF177:BF187)","v":"60593^60593^60593^60592^60592^60592^60594^60594^60591^60591^60591^60591^60595^60595^60595^60595^60594^60592^60593^60593^60592^60594^60592^60591^60591^60594^60591^60591^60592^60592^60594^60592^60593^60593^60592^60594^60592"}]
[null,null,8,{"$nulls":14},8,{"$nulls":4},"木精灵","巨魔矛手","木精灵",{"$nulls":6},8,{"$nulls":13},8,{"$nulls":5},"木精灵",null,"巨魔矛手"]
[null,null,6,{"$nulls":14},6,null,"巨魔矛手",null,"木精灵",null,null,"巨魔矛手",{"$nulls":6},6,{"$nulls":13},6,null,"巨魔矛手",null,null,null,"巨魔矛手","巨魔矛手","木精灵"]
[null,null,4,{"$nulls":14},4,"木精灵","雪原兽","雪山蜘蛛","雪原兽","巨魔矛手","雪怪","雪怪","雪山蜘蛛",{"$nulls":5},4,{"$nulls":13},4,"雪原兽",null,null,"雪怪","雪山蜘蛛",null,"雪怪","巨魔矛手"]
[null,null,2,{"$nulls":14},2,"雪怪","雪怪","雪山蜘蛛","巨魔矛手","雪怪","雪原兽","雪怪","雪山蜘蛛",{"$nulls":5},2,{"$nulls":13},2,null,null,"木精灵","雪怪","雪山蜘蛛","雪原兽","雪怪","雪原兽"]
[null,null,1,"雪怪","雪怪","雪怪","雪怪","雪山蜘蛛","雪怪","雪怪","雪怪","雪山蜘蛛","雪怪",{"$nulls":4},1,"雪怪","巨魔矛手","雪山蜘蛛","雪原兽","巨魔矛手","巨魔矛手","巨魔矛手","雪山蜘蛛",{"$nulls":5},1,"雪山蜘蛛","雪怪","雪怪","雪怪","雪怪","雪怪","雪山蜘蛛","雪怪",{"$nulls":5},1,"雪原兽","巨魔矛手",{"$nulls":4},"木精灵"]
[null,null,3,"巨魔矛手","雪原兽","雪原兽","巨魔矛手","巨魔矛手","巨魔矛手","雪原兽","巨魔矛手","雪原兽","雪原兽",{"$nulls":4},3,"雪怪","雪怪","雪山蜘蛛","巨魔矛手","雪怪","雪原兽","雪怪","雪山蜘蛛",{"$nulls":5},3,"雪怪","巨魔矛手","雪原兽","巨魔矛手","巨魔矛手","雪原兽","巨魔矛手","雪原兽",{"$nulls":5},3,null,null,"木精灵","雪怪","雪山蜘蛛","雪原兽","雪怪","雪原兽"]
[null,null,5,"木精灵",null,"巨魔矛手",null,null,"雪原兽","巨魔矛手","木精灵","木精灵","巨魔矛手",{"$nulls":4},5,"木精灵","雪原兽","雪山蜘蛛","雪原兽","巨魔矛手","雪怪","雪怪","雪山蜘蛛",{"$nulls":5},5,"巨魔矛手","木精灵",null,"雪原兽","木精灵","巨魔矛手",null,"巨魔矛手",{"$nulls":5},5,"雪原兽",null,null,"雪怪","雪山蜘蛛",null,"雪怪","巨魔矛手"]
[null,null,7,null,null,"木精灵",null,null,"木精灵",{"$nulls":8},7,null,"巨魔矛手",null,"木精灵",null,null,"巨魔矛手",{"$nulls":6},7,{"$nulls":7},"木精灵",{"$nulls":5},7,null,"巨魔矛手",null,null,null,"巨魔矛手","巨魔矛手","木精灵"]
[null,null,9,{"$nulls":14},9,{"$nulls":4},"木精灵","巨魔矛手","木精灵",{"$nulls":6},9,{"$nulls":13},9,{"$nulls":5},"木精灵",null,"巨魔矛手"]
[]
[null,null,"位置",5,15,30,45,50,65,81,98,105,120,{"$nulls":4},"位置",5,10,15,22,30,40,50,55,{"$nulls":5},"位置",4,10,15,30,46,63,70,85,null,null,null,{"$f":"_xlfn.TEXTJOIN(\"^\",,AG200:AG214)","v":"100^0^0"},null,"位置",3,5,8,12,17,25,35,45,null,null,null,{"$f":"_xlfn.TEXTJOIN(\"^\",,AU200:AU214)","v":"4^1^5"}]
[null,null,8,{"$nulls":12},{"$f":"_xlfn.TEXTJOIN(\"^\",,D200:D214)","v":"0^0^0"},null,8,{"$nulls":4},{"$f":"$C200","v":8},{"$f":"$C200","v":8},{"$f":"$C200","v":8},{"$nulls":6},8,{"$nulls":11},{"$f":"_xlfn.TEXTJOIN(\"^\",,AH200:AH214)","v":"0^0^0"},null,8,{"$nulls":5},{"$f":"$C200","v":8},null,{"$f":"$C200","v":8},null,null,null,{"$f":"_xlfn.TEXTJOIN(\"^\",,AV200:AV214)","v":"6^1^7"}]
[null,null,6,{"$nulls":12},{"$f":"_xlfn.TEXTJOIN(\"^\",,E200:E214)","v":"0^0"},null,6,null,{"$f":"$C201","v":6},null,{"$f":"$C201","v":6},null,null,6,{"$nulls":4},{"$f":"_xlfn.TEXTJOIN(\"^\",,S200:S214)","v":"4^2^1^3^5"},null,6,{"$nulls":11},{"$f":"_xlfn.TEXTJOIN(\"^\",,AI200:AI214)","v":"0^0"},null,6,null,{"$f":"$C201","v":6},null,null,null,6,6,6,null,null,null,{"$f":"_xlfn.TEXTJOIN(\"^\",,AW200:AW214)","v":"2^3"}]
[null,null,4,{"$nulls":12},{"$f":"_xlfn.TEXTJOIN(\"^\",,F200:F214)","v":"0^0^0^0"},null,4,{"$f":"$C202","v":4},4,null,{"$f":"$C202","v":4},{"$f":"$C202","v":4},4,4,{"$nulls":4},{"$f":"_xlfn.TEXTJOIN(\"^\",,T200:T214)","v":"6^4^2^1^3^5^7"},null,4,{"$nulls":11},{"$f":"_xlfn.TEXTJOIN(\"^\",,AJ200:AJ214)","v":"0^0^0"},null,4,{"$f":"$C202","v":4},null,null,{"$f":"$C202","v":4},null,null,4,4,null,null,null,{"$f":"_xlfn.TEXTJOIN(\"^\",,AX200:AX214)","v":"4^2^3^5"}]
[null,null,2,{"$nulls":12},{"$f":"_xlfn.TEXTJOIN(\"^\",,G200:G214)","v":"0^0"},null,2,2,2,null,{"$f":"$C203","v":2},2,2,2,{"$nulls":4},{"$f":"_xlfn.TEXTJOIN(\"^\",,U200:U214)","v":"101^102^103^104^105"},null,2,{"$nulls":11},{"$f":"_xlfn.TEXTJOIN(\"^\",,AK200:AK214)","v":"0^0^0"},null,2,null,null,{"$f":"$C203","v":2},2,null,{"$f":"$C203","v":2},2,2,null,null,null,{"$f":"_xlfn.TEXTJOIN(\"^\",,AY200:AY214)","v":"101^102^104^105"}]
[null,null,1,0,0,0,0,100,0,0,0,100,0,null,null,{"$f":"_xlfn.TEXTJOIN(\"^\",,H200:H214)","v":"100^0"},null,1,1,1,null,1,1,1,1,{"$nulls":4},{"$f":"_xlfn.TEXTJOIN(\"^\",,V200:V214)","v":"6^4^2^1^3^5^7"},null,1,100,0,0,0,0,0,100,0,null,null,null,{"$f":"_xlfn.TEXTJOIN(\"^\",,AL200:AL214)","v":"0^0^0"},null,1,{"$f":"$C204","v":1},1,{"$nulls":4},1,{"$nulls":4},{"$f":"_xlfn.TEXTJOIN(\"^\",,AZ200:AZ214)","v":"8^6^2^3^7^9"}]
[null,null,3,0,0,0,0,0,0,0,0,0,0,null,null,{"$f":"_xlfn.TEXTJOIN(\"^\",,I200:I214)","v":"0^0^0^0"},null,3,3,3,null,3,3,3,3,{"$nulls":4},{"$f":"_xlfn.TEXTJOIN(\"^\",,W200:W214)","v":"8^4^2^1^3^5^9"},null,3,0,0,0,0,0,0,0,0,null,null,null,{"$f":"_xlfn.TEXTJOIN(\"^\",,AM200:AM214)","v":"100^0"},null,3,null,null,{"$f":"$C205","v":3},3,null,{"$f":"$C205","v":3},3,3,null,null,null,{"$f":"_xlfn.TEXTJOIN(\"^\",,BA200:BA214)","v":"6^4^2^1^3^5^7"}]
[null,null,5,0,null,0,null,null,0,0,0,0,0,null,null,{"$f":"_xlfn.TEXTJOIN(\"^\",,J200:J214)","v":"0^0^0"},null,5,5,5,null,5,5,5,5,{"$nulls":4},{"$f":"_xlfn.TEXTJOIN(\"^\",,X200:X214)","v":"8^4^2^1^3^5^9"},null,5,0,0,null,0,0,0,null,0,null,null,null,{"$f":"_xlfn.TEXTJOIN(\"^\",,AN200:AN214)","v":"0^0^0^0"},null,5,{"$f":"$C206","v":5},null,null,5,null,null,5,5,null,null,null,{"$f":"_xlfn.TEXTJOIN(\"^\",,BB200:BB214)","v":"8^6^4^2^3^5^7^9"}]
[null,null,7,null,null,0,null,null,0,{"$nulls":6},{"$f":"_xlfn.TEXTJOIN(\"^\",,K200:K214)","v":"0^0^0"},null,7,null,{"$f":"$C207","v":7},null,7,null,null,7,{"$nulls":4},{"$f":"_xlfn.TEXTJOIN(\"^\",,Y200:Y214)","v":"8^6^4^2^1^3^5^7^9"},null,7,{"$nulls":7},0,null,null,null,{"$f":"_xlfn.TEXTJOIN(\"^\",,AO200:AO214)","v":""},null,7,null,{"$f":"$C207","v":7},null,null,null,{"$f":"$C207","v":7},7,7,null,null,null,{"$f":"_xlfn.TEXTJOIN(\"^\",,BC200:BC214)","v":""}]
[null,null,9,{"$nulls":12},{"$f":"_xlfn.TEXTJOIN(\"^\",,L200:L214)","v":"100^0^0"},null,9,{"$nulls":4},{"$f":"$C208","v":9},{"$f":"$C208","v":9},9,{"$nulls":6},9,{"$nulls":11},{"$f":"_xlfn.TEXTJOIN(\"^\",,AP200:AP214)","v":""},null,9,{"$nulls":5},9,null,9,null,null,null,{"$f":"_xlfn.TEXTJOIN(\"^\",,BD200:BD214)","v":""}]
[null,null,"空降",{"$nulls":12},{"$f":"_xlfn.TEXTJOIN(\"^\",,M200:M214)","v":"0^0^0"},null,"空降",{"$nulls":13},"空降",{"$nulls":11},{"$f":"_xlfn.TEXTJOIN(\"^\",,AQ200:AQ208)","v":""},null,"空降",{"$nulls":11},{"$f":"_xlfn.TEXTJOIN(\"^\",,BE200:BE208)","v":""}]
[null,null,101,{"$nulls":12},{"$f":"_xlfn.TEXTJOIN(\"^\",,N200:N214)","v":""},null,101,null,null,{"$f":"$C210","v":101},{"$nulls":4},{"$f":"$C210","v":101},null,null,null,{"$f":"_xlfn.TEXTJOIN(\"^\",,Z200:Z214)","v":"101^102^103^104^105"},null,101,{"$nulls":13},101,{"$nulls":4},{"$f":"$C210","v":101}]
[null,null,102,{"$nulls":14},102,null,null,102,{"$nulls":4},102,null,null,null,{"$f":"_xlfn.TEXTJOIN(\"^\",,AA200:AA214)","v":""},null,102,{"$nulls":13},102,{"$nulls":4},102]
[null,null,103,{"$nulls":14},103,null,null,103,{"$nulls":4},103,null,null,null,{"$f":"_xlfn.TEXTJOIN(\"^\",,AB200:AB214)","v":""},null,103,{"$nulls":13},103]
[null,null,104,{"$nulls":14},104,null,null,104,{"$nulls":4},104,{"$nulls":5},104,{"$nulls":13},104,{"$nulls":4},{"$f":"$C213","v":104}]
[null,null,105,{"$nulls":14},105,null,null,105,{"$nulls":4},105,{"$nulls":5},105,{"$nulls":13},105,{"$nulls":4},105]
[{"$nulls":14},"最终",{"$f":"_xlfn.TEXTJOIN(\"|\",,P200:P214)","v":"0^0^0|0^0|0^0^0^0|0^0|100^0|0^0^0^0|0^0^0|0^0^0|100^0^0|0^0^0"},{"$nulls":12},"最终",{"$f":"_xlfn.TEXTJOIN(\"^\",,AD200:AD214)","v":"4^2^1^3^5^6^4^2^1^3^5^7^101^102^103^104^105^6^4^2^1^3^5^7^8^4^2^1^3^5^9^8^4^2^1^3^5^9^8^6^4^2^1^3^5^7^9^101^102^103^104^105"},{"$nulls":12},"最终",{"$f":"_xlfn.TEXTJOIN(\"^\",,AR199:AR214)","v":"100^0^0^0^0^0^0^0^0^0^0^0^0^0^0^0^0^100^0^0^0^0^0"},{"$nulls":12},"最终",{"$f":"_xlfn.TEXTJOIN(\"^\",,BF199:BF214)","v":"4^1^5^6^1^7^2^3^4^2^3^5^101^102^104^105^8^6^2^3^7^9^6^4^2^1^3^5^7^8^6^4^2^3^5^7^9"}]
[]
[null,null,"时间",5,15,30,45,50,65,81,98,105,120,{"$nulls":4},"时间",5,10,15,22,30,40,50,55,null,null,null,{"$f":"_xlfn.TEXTJOIN(\"^\",,S218:S226)","v":"5^5^5^5^5"},null,"时间",4,10,15,30,46,63,70,85,null,null,null,{"$f":"_xlfn.TEXTJOIN(\"^\",,AG218:AG226)","v":"12^6^4"},null,"时间",3,5,8,12,17,25,35,45,null,null,null,{"$f":"_xlfn.TEXTJOIN(\"^\",,AU218:AU226)","v":"3^3^3"}]
[null,null,8,{"$nulls":12},{"$f":"_xlfn.TEXTJOIN(\"^\",,D218:D227)","v":"8^3^2"},null,8,{"$nulls":4},{"$f":"W$217","v":30},{"$f":"X$217","v":40},{"$f":"Y$217","v":50},{"$nulls":4},{"$f":"_xlfn.TEXTJOIN(\"^\",,T218:T226)","v":"10^10^10^10^10^10^10"},null,8,{"$nulls":11},{"$f":"_xlfn.TEXTJOIN(\"^\",,AH218:AH226)","v":"10^3^2"},null,8,{"$nulls":5},{"$f":"AZ$217","v":25},null,{"$f":"BB$217","v":45},null,null,null,{"$f":"_xlfn.TEXTJOIN(\"^\",,AV218:AV226)","v":"5^5^5"}]
[null,null,6,{"$nulls":12},{"$f":"_xlfn.TEXTJOIN(\"^\",,E218:E227)","v":"11^3"},null,6,null,{"$f":"T$217","v":10},null,{"$f":"V$217","v":22},null,null,50,{"$nulls":4},{"$f":"_xlfn.TEXTJOIN(\"^\",,U218:U226)","v":"15^15^15^15^15"},null,6,{"$nulls":11},{"$f":"_xlfn.TEXTJOIN(\"^\",,AI218:AI226)","v":"12^3"},null,6,null,{"$f":"AV$217","v":5},null,null,null,25,35,45,null,null,null,{"$f":"_xlfn.TEXTJOIN(\"^\",,AW218:AW226)","v":"8^8"}]
[null,null,4,{"$nulls":12},{"$f":"_xlfn.TEXTJOIN(\"^\",,F218:F227)","v":"9^2^3^2"},null,4,{"$f":"S$217","v":5},10,15,{"$f":"V$217","v":22},{"$f":"W$217","v":30},40,50,55,null,null,null,{"$f":"_xlfn.TEXTJOIN(\"^\",,V218:V226)","v":"22^22^22^22^22^22^22"},null,4,{"$nulls":11},{"$f":"_xlfn.TEXTJOIN(\"^\",,AJ218:AJ226)","v":"12^3^2"},null,4,{"$f":"AU$217","v":3},null,null,{"$f":"AX$217","v":12},17,null,35,45,null,null,null,{"$f":"_xlfn.TEXTJOIN(\"^\",,AX218:AX226)","v":"12^12^12^12"}]
[null,null,2,{"$nulls":12},{"$f":"_xlfn.TEXTJOIN(\"^\",,G218:G227)","v":"12^3"},null,2,5,10,15,22,30,40,{"$f":"Y$217","v":50},55,null,null,null,{"$f":"_xlfn.TEXTJOIN(\"^\",,W218:W226)","v":"30^30^30^30^30^30^30"},null,2,{"$nulls":11},{"$f":"_xlfn.TEXTJOIN(\"^\",,AK218:AK226)","v":"13^3^2"},null,2,null,null,{"$f":"AW$217","v":8},12,17,{"$f":"AZ$217","v":25},35,45,null,null,null,{"$f":"_xlfn.TEXTJOIN(\"^\",,AY218:AY226)","v":"17^17^17^17"}]
[null,null,1,8,11,9,12,8,9,13,14,8,15,null,null,{"$f":"_xlfn.TEXTJOIN(\"^\",,H218:H227)","v":"8^4"},null,1,5,10,15,22,30,40,50,55,null,null,null,{"$f":"_xlfn.TEXTJOIN(\"^\",,X218:X226)","v":"40^40^40^40^40^40^40"},null,1,12,10,12,12,13,14,8,14,null,null,null,{"$f":"_xlfn.TEXTJOIN(\"^\",,AL218:AL226)","v":"14^2^4"},null,1,{"$f":"AU$217","v":3},{"$f":"AV$217","v":5},{"$nulls":4},35,{"$nulls":4},{"$f":"_xlfn.TEXTJOIN(\"^\",,AZ218:AZ226)","v":"25^25^25^25^25^25"}]
[null,null,3,3,3,2,3,4,3,2,3,3,2,null,null,{"$f":"_xlfn.TEXTJOIN(\"^\",,I218:I227)","v":"9^3^3^2"},null,3,5,10,15,22,30,40,50,55,null,null,null,{"$f":"_xlfn.TEXTJOIN(\"^\",,Y218:Y226)","v":"50^50^50^50^50^50^50^50^50"},null,3,6,3,3,3,3,2,4,2,null,null,null,{"$f":"_xlfn.TEXTJOIN(\"^\",,AM218:AM226)","v":"8^4"},null,3,null,null,{"$f":"AW$217","v":8},{"$f":"AX$217","v":12},17,{"$f":"AZ$217","v":25},35,45,null,null,null,{"$f":"_xlfn.TEXTJOIN(\"^\",,BA218:BA226)","v":"35^35^35^35^35^35^35"}]
[null,null,5,2,null,3,null,null,3,3,2,2,3,null,null,{"$f":"_xlfn.TEXTJOIN(\"^\",,J218:J227)","v":"13^2^3"},null,5,5,10,15,22,30,40,50,55,null,null,null,{"$f":"_xlfn.TEXTJOIN(\"^\",,Z218:Z226)","v":"55^55^55^55^55"},null,5,4,2,null,2,2,4,null,3,null,null,null,{"$f":"_xlfn.TEXTJOIN(\"^\",,AN218:AN226)","v":"14^2^3^2"},null,5,{"$f":"AU$217","v":3},null,null,12,17,null,35,45,null,null,null,{"$f":"_xlfn.TEXTJOIN(\"^\",,BB218:BB226)","v":"45^45^45^45^45^45^45^45"}]
[null,null,7,null,null,2,null,null,2,{"$nulls":6},{"$f":"_xlfn.TEXTJOIN(\"^\",,K218:K227)","v":"14^3^2"},null,7,null,{"$f":"T$217","v":10},null,22,null,null,50,{"$nulls":4},{"$f":"_xlfn.TEXTJOIN(\"^\",,AA218:AA226)","v":""},null,7,{"$nulls":7},2,null,null,null,{"$f":"_xlfn.TEXTJOIN(\"^\",,AO218:AO226)","v":""},null,7,null,{"$f":"AV$217","v":5},null,null,null,{"$f":"AZ$217","v":25},35,45,null,null,null,{"$f":"_xlfn.TEXTJOIN(\"^\",,BC218:BC226)","v":""}]
[null,null,9,{"$nulls":12},{"$f":"_xlfn.TEXTJOIN(\"^\",,L218:L227)","v":"8^3^2"},null,9,{"$nulls":4},{"$f":"W$217","v":30},{"$f":"X$217","v":40},50,{"$nulls":4},{"$f":"_xlfn.TEXTJOIN(\"^\",,AB218:AB226)","v":""},null,9,{"$nulls":11},{"$f":"_xlfn.TEXTJOIN(\"^\",,AP218:AP226)","v":""},null,9,{"$nulls":5},25,null,45,null,null,null,{"$f":"_xlfn.TEXTJOIN(\"^\",,BD218:BD226)","v":""}]
[{"$nulls":15},{"$f":"_xlfn.TEXTJOIN(\"^\",,M218:M227)","v":"15^2^3"},{"$nulls":13},{"$f":"_xlfn.TEXTJOIN(\"^\",,AC218:AC226)","v":""},{"$nulls":13},{"$f":"_xlfn.TEXTJOIN(\"^\",,AQ218:AQ226)","v":""},{"$nulls":13},{"$f":"_xlfn.TEXTJOIN(\"^\",,BE218:BE226)","v":""}]
[{"$nulls":15},{"$f":"_xlfn.TEXTJOIN(\"^\",,N218:N227)","v":""},{"$nulls":12},"最终",{"$f":"_xlfn.TEXTJOIN(\"^\",,AD217:AD227)","v":"5^5^5^5^5^10^10^10^10^10^10^10^15^15^15^15^15^22^22^22^22^22^22^22^30^30^30^30^30^30^30^40^40^40^40^40^40^40^50^50^50^50^50^50^50^50^50^55^55^55^55^55"},{"$nulls":12},"最终",{"$f":"_xlfn.TEXTJOIN(\"^\",,AR217:AR227)","v":"12^6^4^10^3^2^12^3^12^3^2^13^3^2^14^2^4^8^4^14^2^3^2"},{"$nulls":12},"最终",{"$f":"_xlfn.TEXTJOIN(\"^\",,BF217:BF227)","v":"3^3^3^5^5^5^8^8^12^12^12^12^17^17^17^17^25^25^25^25^25^25^35^35^35^35^35^35^35^45^45^45^45^45^45^45^45"}]
[{"$nulls":14},"最终",{"$f":"_xlfn.TEXTJOIN(\"|\",,P218:P228)","v":"8^3^2|11^3|9^2^3^2|12^3|8^4|9^3^3^2|13^2^3|14^3^2|8^3^2|15^2^3"}]
[{"$nulls":15},{"$f":"SUM(D218:M226)","v":157},{"$nulls":13},{"$f":"COUNT(S218:Z226)","v":52},{"$nulls":13},{"$f":"SUM(AG218:AN226)","v":140},{"$nulls":13},{"$f":"COUNT(AU218:BB226)","v":37}]
[{"$nulls":57},{"$f":"SUM(P230:BF230)","v":386}]
[]
[{"$nulls":4},{"$f":"E234-D234","v":5},{"$f":"F234-E234","v":7},8,10,10,10,10,5,10,{"$nulls":6},{"$f":"T234-S234","v":5},5,7,8,10,5,10,{"$nulls":7},{"$f":"AH234-AG234","v":6},5,15,16,4,15,15,{"$nulls":7},{"$f":"AV234-AU234","v":2},3,4,6,7,10,10]
[1,"冰原-5","波1·怪物",5,10,17,25,35,45,55,65,70,80,null,null,null,1,"波2·怪物",5,10,15,22,30,40,45,55,{"$nulls":4},3,"波3·怪物",4,10,15,30,46,50,65,80,{"$nulls":4},1,"波4·怪物",3,5,8,12,18,25,35,45]
[null,"5m",8,null,null,60602,null,60604,60604,60602,null,null,60602,null,null,{"$f":"_xlfn.TEXTJOIN(\"^\",,D235:D244)","v":"60604^60601^60601^60601^60604"},null,8,null,null,null,60604,null,60602,{"$nulls":5},{"$f":"_xlfn.TEXTJOIN(\"^\",,S235:S244)","v":"60605^60605^60605^60605"},null,8,{"$nulls":11},{"$f":"_xlfn.TEXTJOIN(\"^\",,AG235:AG244)","v":"60601^60602^60604"},null,8,{"$nulls":5},60602,null,60604,null,null,null,{"$f":"_xlfn.TEXTJOIN(\"^\",,AU235:AU244)","v":"60604^60603^60603^60604"}]
[null,null,6,60604,60601,60601,null,60602,null,60601,60604,null,60602,null,null,{"$f":"_xlfn.TEXTJOIN(\"^\",,E235:E244)","v":"60601^60602^60602^60602^60602^60601"},null,6,null,60602,60604,null,60602,null,null,60604,null,null,null,{"$f":"_xlfn.TEXTJOIN(\"^\",,T235:T244)","v":"60602^60602^60602^60602"},null,6,{"$nulls":11},{"$f":"_xlfn.TEXTJOIN(\"^\",,AH235:AH244)","v":"60601^60603"},null,6,null,60602,null,60601,60604,null,60602,60602,null,null,null,{"$f":"_xlfn.TEXTJOIN(\"^\",,AV235:AV244)","v":"60602^60602^60602"}]
[null,null,4,null,60602,null,60605,60602,60602,60601,60602,60605,60603,null,null,{"$f":"_xlfn.TEXTJOIN(\"^\",,F235:F244)","v":"60602^60601^60603^60603^60603^60601^60602"},null,4,60605,null,null,60602,60602,60601,60605,60602,null,null,null,{"$f":"_xlfn.TEXTJOIN(\"^\",,U235:U244)","v":"60604^60603^60603^60603^60604"},null,4,{"$nulls":11},{"$f":"_xlfn.TEXTJOIN(\"^\",,AI235:AI244)","v":"60605^60602^60604"},null,4,60604,null,60605,60601,60602,60601,60601,60601,null,null,null,{"$f":"_xlfn.TEXTJOIN(\"^\",,AW235:AW244)","v":"60605^60605^60605^60605"}]
[null,null,2,60601,60602,60603,60605,60601,60603,60601,60603,60605,60603,null,null,{"$f":"_xlfn.TEXTJOIN(\"^\",,G235:G244)","v":"60605^60605^60605^60605^60605"},null,2,60605,null,60603,60601,60603,60603,60605,{"$nulls":4},{"$f":"_xlfn.TEXTJOIN(\"^\",,V235:V244)","v":"60604^60602^60601^60601^60602^60604"},null,2,{"$nulls":11},{"$f":"_xlfn.TEXTJOIN(\"^\",,AJ235:AJ244)","v":"60603^60602^60604"},null,2,60603,null,60605,null,60603,60601,60601,60603,null,null,null,{"$f":"_xlfn.TEXTJOIN(\"^\",,AX235:AX244)","v":"60601^60601^60601^60601^60601"}]
[null,null,1,60601,null,60603,60605,60601,60602,60602,60602,60605,60604,null,null,{"$f":"_xlfn.TEXTJOIN(\"^\",,H235:H244)","v":"60604^60602^60602^60601^60601^60601^60602^60602^60604"},null,1,null,60602,60603,null,60604,60602,60605,60606,null,null,null,{"$f":"_xlfn.TEXTJOIN(\"^\",,W235:W244)","v":"60602^60602^60603^60604^60603^60602^60602"},null,1,60601,60601,60605,60603,60601,60605,60601,60601,null,null,null,{"$f":"_xlfn.TEXTJOIN(\"^\",,AK235:AK244)","v":"60601^60602"},null,1,null,60602,null,60601,null,60604,60603,{"$nulls":4},{"$f":"_xlfn.TEXTJOIN(\"^\",,AY235:AY244)","v":"60604^60602^60603^60603^60602^60604"}]
[null,null,3,60601,60602,60603,60605,60601,60603,60601,60603,60605,60603,null,null,{"$f":"_xlfn.TEXTJOIN(\"^\",,I235:I244)","v":"60604^60602^60603^60602^60603^60602^60604"},null,3,60605,60602,60603,60601,60603,60603,60605,{"$nulls":4},{"$f":"_xlfn.TEXTJOIN(\"^\",,X235:X244)","v":"60602^60601^60603^60602^60603^60601^60602"},null,3,60602,60603,60602,60602,60602,60601,60602,60602,null,null,null,{"$f":"_xlfn.TEXTJOIN(\"^\",,AL235:AL244)","v":"60605^60601^60603"},null,3,60603,null,60605,null,60603,60601,60601,60603,null,null,null,{"$f":"_xlfn.TEXTJOIN(\"^\",,AZ235:AZ244)","v":"60602^60601^60601^60604^60601^60601^60602"}]
[null,null,5,null,60602,null,60605,60602,60602,60601,60602,60605,60604,null,null,{"$f":"_xlfn.TEXTJOIN(\"^\",,J235:J244)","v":"60602^60601^60601^60601^60602^60601^60601^60601^60602"},null,5,60605,null,null,60602,60602,60601,60605,60602,null,null,null,{"$f":"_xlfn.TEXTJOIN(\"^\",,Y235:Y244)","v":"60605^60605^60605^60605^60605"},null,5,60604,null,60604,60604,null,60603,60603,{"$nulls":4},{"$f":"_xlfn.TEXTJOIN(\"^\",,AM235:AM244)","v":"60601^60602^60603^60604"},null,5,60604,null,60605,60601,60602,60601,60601,60601,null,null,null,{"$f":"_xlfn.TEXTJOIN(\"^\",,BA235:BA244)","v":"60602^60601^60601^60603^60601^60601^60602"}]
[null,null,7,60604,60601,60601,null,60602,null,60601,60604,null,60602,null,null,{"$f":"_xlfn.TEXTJOIN(\"^\",,K235:K244)","v":"60604^60602^60603^60602^60603^60602^60604"},null,7,null,60602,60604,null,60602,null,null,60604,null,null,null,{"$f":"_xlfn.TEXTJOIN(\"^\",,Z235:Z244)","v":"60604^60602^60606^60602^60604"},null,7,{"$nulls":6},60604,{"$nulls":4},{"$f":"_xlfn.TEXTJOIN(\"^\",,AN235:AN244)","v":"60601^60602"},null,7,null,60602,null,60601,60604,null,60602,60602,null,null,null,{"$f":"_xlfn.TEXTJOIN(\"^\",,BB235:BB244)","v":"60604^60602^60601^60603^60603^60601^60602^60604"}]
[null,null,9,null,null,60602,null,60604,60604,60602,null,null,60602,null,null,{"$f":"_xlfn.TEXTJOIN(\"^\",,L235:L244)","v":"60605^60605^60605^60605^60605"},null,9,null,null,null,60604,null,60602,{"$nulls":5},{"$f":"_xlfn.TEXTJOIN(\"^\",,AA235:AA244)","v":""},null,9,{"$nulls":11},{"$f":"_xlfn.TEXTJOIN(\"^\",,AO235:AO244)","v":""},null,9,{"$nulls":5},60602,null,60604,null,null,null,{"$f":"_xlfn.TEXTJOIN(\"^\",,BC235:BC244)","v":""}]
[{"$nulls":15},{"$f":"_xlfn.TEXTJOIN(\"^\",,M235:M244)","v":"60602^60602^60603^60603^60604^60603^60604^60602^60602"},{"$nulls":13},{"$f":"_xlfn.TEXTJOIN(\"^\",,AB235:AB244)","v":""},{"$nulls":13},{"$f":"_xlfn.TEXTJOIN(\"^\",,AP235:AP244)","v":""},{"$nulls":13},{"$f":"_xlfn.TEXTJOIN(\"^\",,BD235:BD244)","v":""}]
[{"$nulls":15},{"$f":"_xlfn.TEXTJOIN(\"^\",,N235:N244)","v":""},{"$nulls":13},{"$f":"_xlfn.TEXTJOIN(\"^\",,AC235:AC244)","v":""},{"$nulls":13},{"$f":"_xlfn.TEXTJOIN(\"^\",,AQ235:AQ244)","v":""},{"$nulls":13},{"$f":"_xlfn.TEXTJOIN(\"^\",,BE235:BE244)","v":""}]
[{"$nulls":14},"最终",{"$f":"_xlfn.TEXTJOIN(\"^\",,P235:P245)","v":"60604^60601^60601^60601^60604^60601^60602^60602^60602^60602^60601^60602^60601^60603^60603^60603^60601^60602^60605^60605^60605^60605^60605^60604^60602^60602^60601^60601^60601^60602^60602^60604^60604^60602^60603^60602^60603^60602^60604^60602^60601^60601^60601^60602^60601^60601^60601^60602^60604^60602^60603^60602^60603^60602^60604^60605^60605^60605^60605^60605^60602^60602^60603^60603^60604^60603^60604^60602^60602"},{"$nulls":12},"最终",{"$f":"_xlfn.TEXTJOIN(\"^\",,AD235:AD245)","v":"60605^60605^60605^60605^60602^60602^60602^60602^60604^60603^60603^60603^60604^60604^60602^60601^60601^60602^60604^60602^60602^60603^60604^60603^60602^60602^60602^60601^60603^60602^60603^60601^60602^60605^60605^60605^60605^60605^60604^60602^60606^60602^60604"},{"$nulls":12},"最终",{"$f":"_xlfn.TEXTJOIN(\"^\",,AR235:AR245)","v":"60601^60602^60604^60601^60603^60605^60602^60604^60603^60602^60604^60601^60602^60605^60601^60603^60601^60602^60603^60604^60601^60602"},{"$nulls":12},"最终",{"$f":"_xlfn.TEXTJOIN(\"^\",,BF235:BF245)","v":"60604^60603^60603^60604^60602^60602^60602^60605^60605^60605^60605^60601^60601^60601^60601^60601^60604^60602^60603^60603^60602^60604^60602^60601^60601^60604^60601^60601^60602^60602^60601^60601^60603^60601^60601^60602^60604^60602^60601^60603^60603^60601^60602^60604"}]
[null,null,8,null,null,"巨魔矛手",null,"木精灵","木精灵","巨魔矛手",null,null,"巨魔矛手",{"$nulls":4},8,null,null,null,"木精灵",null,"巨魔矛手",{"$nulls":7},8,{"$nulls":13},8,{"$nulls":5},"巨魔矛手",null,"木精灵"]
[null,null,6,"木精灵","雪怪","雪怪",null,"巨魔矛手",null,"雪怪","木精灵",null,"巨魔矛手",{"$nulls":4},6,null,"巨魔矛手","木精灵",null,"巨魔矛手",null,null,"木精灵",{"$nulls":5},6,{"$nulls":13},6,null,"巨魔矛手",null,"雪怪","木精灵",null,"巨魔矛手","巨魔矛手"]
[null,null,4,null,"巨魔矛手",null,"雪山蜘蛛","巨魔矛手","巨魔矛手","雪怪","巨魔矛手","雪山蜘蛛","雪原兽",{"$nulls":4},4,"雪山蜘蛛",null,null,"巨魔矛手","巨魔矛手","雪怪","雪山蜘蛛","巨魔矛手",{"$nulls":5},4,{"$nulls":13},4,"木精灵",null,"雪山蜘蛛","雪怪","巨魔矛手","雪怪","雪怪","雪怪"]
[null,null,2,"雪怪","巨魔矛手","雪原兽","雪山蜘蛛","雪怪","雪原兽","雪怪","雪原兽","雪山蜘蛛","雪原兽",{"$nulls":4},2,"雪山蜘蛛",null,"雪原兽","雪怪","雪原兽","雪原兽","雪山蜘蛛",{"$nulls":6},2,{"$nulls":13},2,"雪原兽",null,"雪山蜘蛛",null,"雪原兽","雪怪","雪怪","雪原兽"]
[null,null,1,"雪怪",null,"雪原兽","雪山蜘蛛","雪怪","巨魔矛手","巨魔矛手","巨魔矛手","雪山蜘蛛","木精灵",{"$nulls":4},1,null,"巨魔矛手","雪原兽",null,"木精灵","巨魔矛手","雪山蜘蛛","冰霜巨人",{"$nulls":5},1,"雪怪","雪怪","雪山蜘蛛","雪原兽","雪怪","雪山蜘蛛","雪怪","雪怪",{"$nulls":5},1,null,"巨魔矛手",null,"雪怪",null,"木精灵","雪原兽"]
[null,null,3,"雪怪","巨魔矛手","雪原兽","雪山蜘蛛","雪怪","雪原兽","雪怪","雪原兽","雪山蜘蛛","雪原兽",{"$nulls":4},3,"雪山蜘蛛","巨魔矛手","雪原兽","雪怪","雪原兽","雪原兽","雪山蜘蛛",{"$nulls":6},3,"巨魔矛手","雪原兽","巨魔矛手","巨魔矛手","巨魔矛手","雪原兽","巨魔矛手","巨魔矛手",{"$nulls":5},3,"雪原兽",null,"雪山蜘蛛",null,"雪原兽","雪怪","雪怪","雪原兽"]
[null,null,5,null,"巨魔矛手",null,"雪山蜘蛛","巨魔矛手","巨魔矛手","雪怪","巨魔矛手","雪山蜘蛛","木精灵",{"$nulls":4},5,"雪山蜘蛛",null,null,"巨魔矛手","巨魔矛手","雪怪","雪山蜘蛛","巨魔矛手",{"$nulls":5},5,"木精灵",null,"木精灵","木精灵",null,"雪怪","雪原兽",{"$nulls":6},5,"木精灵",null,"雪山蜘蛛","雪怪","巨魔矛手","雪怪","雪怪","雪怪"]
[null,null,7,"木精灵","雪怪","雪怪",null,"巨魔矛手",null,"雪怪","木精灵",null,"巨魔矛手",{"$nulls":4},7,null,"巨魔矛手","木精灵",null,"巨魔矛手",null,null,"木精灵",{"$nulls":5},7,{"$nulls":6},"木精灵",{"$nulls":6},7,null,"巨魔矛手",null,"雪怪","木精灵",null,"巨魔矛手","巨魔矛手"]
[null,null,9,null,null,"巨魔矛手",null,"木精灵","木精灵","巨魔矛手",null,null,"巨魔矛手",{"$nulls":4},9,null,null,null,"木精灵",null,"巨魔矛手",{"$nulls":7},9,{"$nulls":13},9,{"$nulls":5},"巨魔矛手",null,"木精灵"]
[]
[null,null,"位置",5,10,17,25,35,45,55,65,70,80,{"$nulls":4},"位置",5,10,15,22,30,40,45,55,{"$nulls":5},"位置",4,10,15,30,46,50,65,80,null,null,null,{"$f":"_xlfn.TEXTJOIN(\"^\",,AG258:AG272)","v":"0^0^0"},null,"位置",3,5,8,12,18,25,35,45,null,null,null,{"$f":"_xlfn.TEXTJOIN(\"^\",,AU258:AU272)","v":"4^2^3^5"}]
[null,null,8,null,null,{"$f":"$C258","v":8},null,{"$f":"$C258","v":8},{"$f":"$C258","v":8},{"$f":"$C258","v":8},null,null,{"$f":"$C258","v":8},null,null,{"$f":"_xlfn.TEXTJOIN(\"^\",,D258:D272)","v":"6^2^1^3^7"},null,8,null,null,null,{"$f":"$C258","v":8},null,{"$f":"$C258","v":8},{"$nulls":7},8,{"$nulls":11},{"$f":"_xlfn.TEXTJOIN(\"^\",,AH258:AH272)","v":"0^0"},null,8,{"$nulls":5},{"$f":"$C258","v":8},null,{"$f":"$C258","v":8},null,null,null,{"$f":"_xlfn.TEXTJOIN(\"^\",,AV258:AV272)","v":"6^1^7"}]
[null,null,6,{"$f":"$C259","v":6},{"$f":"$C259","v":6},6,null,6,null,6,6,null,6,null,null,{"$f":"_xlfn.TEXTJOIN(\"^\",,E258:E272)","v":"6^4^2^3^5^7"},null,6,null,{"$f":"$C259","v":6},{"$f":"$C259","v":6},null,{"$f":"$C259","v":6},null,null,{"$f":"$C259","v":6},null,null,null,{"$f":"_xlfn.TEXTJOIN(\"^\",,S258:S272)","v":"101^102^104^105"},null,6,{"$nulls":11},{"$f":"_xlfn.TEXTJOIN(\"^\",,AI258:AI272)","v":"100^0^0"},null,6,null,{"$f":"$C259","v":6},null,{"$f":"$C259","v":6},6,null,{"$f":"$C259","v":6},6,null,null,null,{"$f":"_xlfn.TEXTJOIN(\"^\",,AW258:AW272)","v":"101^102^104^105"}]
[null,null,4,null,4,null,null,4,4,4,4,null,4,null,null,{"$f":"_xlfn.TEXTJOIN(\"^\",,F258:F272)","v":"8^6^2^1^3^7^9"},null,4,null,null,null,{"$f":"$C260","v":4},4,4,null,4,null,null,null,{"$f":"_xlfn.TEXTJOIN(\"^\",,T258:T272)","v":"6^1^3^7"},null,4,{"$nulls":11},{"$f":"_xlfn.TEXTJOIN(\"^\",,AJ258:AJ272)","v":"0^0^0"},null,4,{"$f":"$C260","v":4},null,null,4,4,4,4,4,null,null,null,{"$f":"_xlfn.TEXTJOIN(\"^\",,AX258:AX272)","v":"6^4^1^5^7"}]
[null,null,2,{"$f":"$C261","v":2},2,{"$f":"$C261","v":2},null,2,2,2,2,null,2,null,null,{"$f":"_xlfn.TEXTJOIN(\"^\",,G258:G272)","v":"101^102^103^104^105"},null,2,null,null,{"$f":"$C261","v":2},2,2,2,{"$nulls":5},{"$f":"_xlfn.TEXTJOIN(\"^\",,U258:U272)","v":"6^2^1^3^7"},null,2,{"$nulls":11},{"$f":"_xlfn.TEXTJOIN(\"^\",,AK258:AK272)","v":"0^0"},null,2,2,null,null,null,{"$f":"$C261","v":2},2,2,2,null,null,null,{"$f":"_xlfn.TEXTJOIN(\"^\",,AY258:AY272)","v":"6^4^2^3^5^7"}]
[null,null,1,1,null,{"$f":"$C262","v":1},null,1,1,1,1,null,1,null,null,{"$f":"_xlfn.TEXTJOIN(\"^\",,H258:H272)","v":"8^6^4^2^1^3^5^7^9"},null,1,null,{"$f":"$C262","v":1},{"$f":"$C262","v":1},null,1,1,null,{"$f":"$C262","v":1},null,null,null,{"$f":"_xlfn.TEXTJOIN(\"^\",,V258:V272)","v":"8^4^2^3^5^9"},null,1,0,0,100,0,0,100,0,0,null,null,null,{"$f":"_xlfn.TEXTJOIN(\"^\",,AL258:AL272)","v":"100^0^0"},null,1,null,{"$f":"$C262","v":1},null,{"$f":"$C262","v":1},null,1,1,{"$nulls":4},{"$f":"_xlfn.TEXTJOIN(\"^\",,AZ258:AZ272)","v":"8^4^2^1^3^5^9"}]
[null,null,3,3,3,{"$f":"$C263","v":3},null,3,3,3,3,null,3,null,null,{"$f":"_xlfn.TEXTJOIN(\"^\",,I258:I272)","v":"8^4^2^1^3^5^9"},null,3,null,{"$f":"$C263","v":3},{"$f":"$C263","v":3},{"$f":"$C263","v":3},3,3,{"$nulls":5},{"$f":"_xlfn.TEXTJOIN(\"^\",,W258:W272)","v":"6^4^2^1^3^5^7"},null,3,0,0,0,0,0,0,0,0,null,null,null,{"$f":"_xlfn.TEXTJOIN(\"^\",,AM258:AM272)","v":"0^0^0^0"},null,3,{"$f":"$C263","v":3},null,null,null,{"$f":"$C263","v":3},3,3,3,null,null,null,{"$f":"_xlfn.TEXTJOIN(\"^\",,BA258:BA272)","v":"6^4^2^1^3^5^7"}]
[null,null,5,null,5,null,null,5,5,5,5,null,5,null,null,{"$f":"_xlfn.TEXTJOIN(\"^\",,J258:J272)","v":"8^6^4^2^1^3^5^7^9"},null,5,null,null,null,5,5,5,null,{"$f":"$C264","v":5},null,null,null,{"$f":"_xlfn.TEXTJOIN(\"^\",,X258:X272)","v":"8^4^2^1^3^5^9"},null,5,0,null,0,0,null,0,0,{"$nulls":4},{"$f":"_xlfn.TEXTJOIN(\"^\",,AN258:AN272)","v":"0^0"},null,5,5,null,null,{"$f":"$C264","v":5},5,5,5,5,null,null,null,{"$f":"_xlfn.TEXTJOIN(\"^\",,BB258:BB272)","v":"8^6^4^2^3^5^7^9"}]
[null,null,7,{"$f":"$C265","v":7},7,7,null,7,null,7,7,null,7,null,null,{"$f":"_xlfn.TEXTJOIN(\"^\",,K258:K272)","v":"6^4^2^1^3^5^7"},null,7,null,{"$f":"$C265","v":7},{"$f":"$C265","v":7},null,7,null,null,7,null,null,null,{"$f":"_xlfn.TEXTJOIN(\"^\",,Y258:Y272)","v":"101^102^103^104^105"},null,7,{"$nulls":6},0,{"$nulls":4},{"$f":"_xlfn.TEXTJOIN(\"^\",,AO258:AO272)","v":""},null,7,null,{"$f":"$C265","v":7},null,7,7,null,7,7,null,null,null,{"$f":"_xlfn.TEXTJOIN(\"^\",,BC258:BC272)","v":""}]
[null,null,9,null,null,9,null,9,{"$f":"$C266","v":9},9,null,null,9,null,null,{"$f":"_xlfn.TEXTJOIN(\"^\",,L258:L272)","v":"101^102^103^104^105"},null,9,null,null,null,{"$f":"$C266","v":9},null,{"$f":"$C266","v":9},{"$nulls":7},9,{"$nulls":11},{"$f":"_xlfn.TEXTJOIN(\"^\",,AP258:AP272)","v":""},null,9,{"$nulls":5},{"$f":"$C266","v":9},null,9,null,null,null,{"$f":"_xlfn.TEXTJOIN(\"^\",,BD258:BD272)","v":""}]
[null,null,"空降",{"$nulls":12},{"$f":"_xlfn.TEXTJOIN(\"^\",,M258:M272)","v":"8^6^4^2^1^3^5^7^9"},null,"空降",{"$nulls":13},"空降",{"$nulls":11},{"$f":"_xlfn.TEXTJOIN(\"^\",,AQ258:AQ266)","v":""},null,"空降",{"$nulls":11},{"$f":"_xlfn.TEXTJOIN(\"^\",,BE258:BE266)","v":""}]
[null,null,101,null,null,null,{"$f":"$C268","v":101},{"$nulls":4},{"$f":"$C268","v":101},null,null,null,{"$f":"_xlfn.TEXTJOIN(\"^\",,N258:N272)","v":""},null,101,{"$f":"$C268","v":101},{"$nulls":5},{"$f":"$C268","v":101},{"$nulls":4},{"$f":"_xlfn.TEXTJOIN(\"^\",,Z258:Z272)","v":"6^4^1^5^7"},null,101,{"$nulls":13},101,null,null,{"$f":"$C268","v":101}]
[null,null,102,null,null,null,102,{"$nulls":4},{"$f":"$C269","v":102},{"$nulls":5},102,102,{"$nulls":5},102,{"$nulls":4},{"$f":"_xlfn.TEXTJOIN(\"^\",,AA258:AA272)","v":""},null,102,{"$nulls":13},102,null,null,102]
[null,null,103,null,null,null,103,{"$nulls":4},{"$f":"$C270","v":103},{"$nulls":5},103,{"$nulls":6},103,{"$nulls":4},{"$f":"_xlfn.TEXTJOIN(\"^\",,AB258:AB272)","v":""},null,103,{"$nulls":13},103]
[null,null,104,null,null,null,104,{"$nulls":4},{"$f":"$C271","v":104},{"$nulls":5},104,{"$f":"$C271","v":104},{"$nulls":5},104,{"$nulls":6},104,{"$nulls":13},104,null,null,{"$f":"$C271","v":104}]
[null,null,105,null,null,null,105,{"$nulls":4},105,{"$nulls":5},105,105,{"$nulls":5},105,{"$nulls":6},105,{"$nulls":13},105,null,null,105]
[{"$nulls":14},"最终",{"$f":"_xlfn.TEXTJOIN(\"^\",,P258:P272)","v":"6^2^1^3^7^6^4^2^3^5^7^8^6^2^1^3^7^9^101^102^103^104^105^8^6^4^2^1^3^5^7^9^8^4^2^1^3^5^9^8^6^4^2^1^3^5^7^9^6^4^2^1^3^5^7^101^102^103^104^105^8^6^4^2^1^3^5^7^9"},{"$nulls":12},"最终",{"$f":"_xlfn.TEXTJOIN(\"^\",,AD258:AD272)","v":"101^102^104^105^6^1^3^7^6^2^1^3^7^8^4^2^3^5^9^6^4^2^1^3^5^7^8^4^2^1^3^5^9^101^102^103^104^105^6^4^1^5^7"},{"$nulls":12},"最终",{"$f":"_xlfn.TEXTJOIN(\"^\",,AR257:AR272)","v":"0^0^0^0^0^100^0^0^0^0^0^0^0^100^0^0^0^0^0^0^0^0"},{"$nulls":12},"最终",{"$f":"_xlfn.TEXTJOIN(\"^\",,BF257:BF272)","v":"4^2^3^5^6^1^7^101^102^104^105^6^4^1^5^7^6^4^2^3^5^7^8^4^2^1^3^5^9^6^4^2^1^3^5^7^8^6^4^2^3^5^7^9"}]
[]
[null,null,"时间",5,15,30,35,50,66,83,100,105,120,{"$nulls":4},"时间",5,10,15,22,30,40,45,55,null,null,null,{"$f":"_xlfn.TEXTJOIN(\"^\",,S276:S284)","v":"5^5^5^5"},null,"时间",4,10,15,30,46,50,65,80,null,null,null,{"$f":"_xlfn.TEXTJOIN(\"^\",,AG276:AG284)","v":"18^6^3"},null,"时间",3,5,8,12,18,25,35,45,null,null,null,{"$f":"_xlfn.TEXTJOIN(\"^\",,AU276:AU284)","v":"3^3^3^3"}]
[null,null,8,null,null,{"$f":"F$275","v":30},null,{"$f":"H$275","v":50},{"$f":"I$275","v":66},{"$f":"J$275","v":83},null,null,{"$f":"M$275","v":120},null,null,{"$f":"_xlfn.TEXTJOIN(\"^\",,D276:D285)","v":"5^5^5^5^5"},null,8,null,null,null,{"$f":"V$275","v":22},null,{"$f":"X$275","v":40},{"$nulls":5},{"$f":"_xlfn.TEXTJOIN(\"^\",,T276:T284)","v":"10^10^10^10"},null,8,{"$nulls":11},{"$f":"_xlfn.TEXTJOIN(\"^\",,AH276:AH284)","v":"13^3"},null,8,{"$nulls":5},{"$f":"AZ$275","v":25},null,{"$f":"BB$275","v":45},null,null,null,{"$f":"_xlfn.TEXTJOIN(\"^\",,AV276:AV284)","v":"5^5^5"}]
[null,null,6,{"$f":"D$275","v":5},{"$f":"E$275","v":15},30,null,50,null,83,100,null,120,null,null,{"$f":"_xlfn.TEXTJOIN(\"^\",,E276:E285)","v":"15^15^15^15^15^15"},null,6,null,{"$f":"T$275","v":10},{"$f":"U$275","v":15},null,{"$f":"W$275","v":30},null,null,{"$f":"Z$275","v":55},null,null,null,{"$f":"_xlfn.TEXTJOIN(\"^\",,U276:U284)","v":"15^15^15^15^15"},null,6,{"$nulls":11},{"$f":"_xlfn.TEXTJOIN(\"^\",,AI276:AI284)","v":"8^3^2"},null,6,null,{"$f":"AV$275","v":5},null,{"$f":"AX$275","v":12},18,null,{"$f":"BA$275","v":35},45,null,null,null,{"$f":"_xlfn.TEXTJOIN(\"^\",,AW276:AW284)","v":"8^8^8^8"}]
[null,null,4,null,15,null,{"$f":"G$275","v":35},50,66,83,100,105,120,null,null,{"$f":"_xlfn.TEXTJOIN(\"^\",,F276:F285)","v":"30^30^30^30^30^30^30"},null,4,{"$f":"S$275","v":5},null,null,{"$f":"V$275","v":22},30,40,45,55,null,null,null,{"$f":"_xlfn.TEXTJOIN(\"^\",,V276:V284)","v":"22^22^22^22^22^22"},null,4,{"$nulls":11},{"$f":"_xlfn.TEXTJOIN(\"^\",,AJ276:AJ284)","v":"3^4^3"},null,4,{"$f":"AU$275","v":3},null,{"$f":"AW$275","v":8},12,18,25,35,45,null,null,null,{"$f":"_xlfn.TEXTJOIN(\"^\",,AX276:AX284)","v":"12^12^12^12^12"}]
[null,null,2,{"$f":"D$275","v":5},15,{"$f":"F$275","v":30},35,50,66,83,100,105,120,null,null,{"$f":"_xlfn.TEXTJOIN(\"^\",,G276:G285)","v":"35^35^35^35^35"},null,2,5,null,{"$f":"U$275","v":15},22,30,40,45,{"$nulls":4},{"$f":"_xlfn.TEXTJOIN(\"^\",,W276:W284)","v":"30^30^30^30^30^30^30"},null,2,{"$nulls":11},{"$f":"_xlfn.TEXTJOIN(\"^\",,AK276:AK284)","v":"14^3"},null,2,3,null,8,null,18,25,35,45,null,null,null,{"$f":"_xlfn.TEXTJOIN(\"^\",,AY276:AY284)","v":"18^18^18^18^18^18"}]
[null,null,1,5,null,{"$f":"F$275","v":30},35,50,66,83,100,105,120,null,null,{"$f":"_xlfn.TEXTJOIN(\"^\",,H276:H285)","v":"50^50^50^50^50^50^50^50^50"},null,1,null,{"$f":"T$275","v":10},{"$f":"U$275","v":15},null,30,40,45,{"$f":"Z$275","v":55},null,null,null,{"$f":"_xlfn.TEXTJOIN(\"^\",,X276:X284)","v":"40^40^40^40^40^40^40"},null,1,18,13,8,3,14,6,12,15,null,null,null,{"$f":"_xlfn.TEXTJOIN(\"^\",,AL276:AL284)","v":"6^2^8"},null,1,null,{"$f":"AV$275","v":5},null,{"$f":"AX$275","v":12},null,25,35,{"$nulls":4},{"$f":"_xlfn.TEXTJOIN(\"^\",,AZ276:AZ284)","v":"25^25^25^25^25^25^25"}]
[null,null,3,5,15,{"$f":"F$275","v":30},35,50,66,83,100,105,120,null,null,{"$f":"_xlfn.TEXTJOIN(\"^\",,I276:I285)","v":"66^66^66^66^66^66^66"},null,3,{"$f":"S$275","v":5},{"$f":"T$275","v":10},{"$f":"U$275","v":15},{"$f":"V$275","v":22},30,40,45,{"$nulls":4},{"$f":"_xlfn.TEXTJOIN(\"^\",,Y276:Y284)","v":"45^45^45^45^45"},null,3,6,3,3,4,3,2,3,4,null,null,null,{"$f":"_xlfn.TEXTJOIN(\"^\",,AM276:AM284)","v":"12^3^2^2"},null,3,{"$f":"AU$275","v":3},null,{"$f":"AW$275","v":8},null,{"$f":"AY$275","v":18},25,35,45,null,null,null,{"$f":"_xlfn.TEXTJOIN(\"^\",,BA276:BA284)","v":"35^35^35^35^35^35^35"}]
[null,null,5,null,15,null,35,50,66,83,100,105,120,null,null,{"$f":"_xlfn.TEXTJOIN(\"^\",,J276:J285)","v":"83^83^83^83^83^83^83^83^83"},null,5,5,null,null,22,30,40,45,55,null,null,null,{"$f":"_xlfn.TEXTJOIN(\"^\",,Z276:Z284)","v":"55^55^55^55^55"},null,5,3,null,2,3,null,8,2,{"$nulls":4},{"$f":"_xlfn.TEXTJOIN(\"^\",,AN276:AN284)","v":"15^4"},null,5,3,null,8,12,18,25,35,45,null,null,null,{"$f":"_xlfn.TEXTJOIN(\"^\",,BB276:BB284)","v":"45^45^45^45^45^45^45^45"}]
[null,null,7,{"$f":"D$275","v":5},15,30,null,50,null,83,100,null,120,null,null,{"$f":"_xlfn.TEXTJOIN(\"^\",,K276:K285)","v":"100^100^100^100^100^100^100"},null,7,null,{"$f":"T$275","v":10},{"$f":"U$275","v":15},null,30,null,null,55,null,null,null,{"$f":"_xlfn.TEXTJOIN(\"^\",,AA276:AA284)","v":""},null,7,{"$nulls":6},2,{"$nulls":4},{"$f":"_xlfn.TEXTJOIN(\"^\",,AO276:AO284)","v":""},null,7,null,{"$f":"AV$275","v":5},null,12,18,null,35,45,null,null,null,{"$f":"_xlfn.TEXTJOIN(\"^\",,BC276:BC284)","v":""}]
[null,null,9,null,null,30,null,50,{"$f":"I$275","v":66},83,null,null,120,null,null,{"$f":"_xlfn.TEXTJOIN(\"^\",,L276:L285)","v":"105^105^105^105^105"},null,9,null,null,null,{"$f":"V$275","v":22},null,{"$f":"X$275","v":40},{"$nulls":5},{"$f":"_xlfn.TEXTJOIN(\"^\",,AB276:AB284)","v":""},null,9,{"$nulls":11},{"$f":"_xlfn.TEXTJOIN(\"^\",,AP276:AP284)","v":""},null,9,{"$nulls":5},{"$f":"AZ$275","v":25},null,45,null,null,null,{"$f":"_xlfn.TEXTJOIN(\"^\",,BD276:BD284)","v":""}]
[{"$nulls":15},{"$f":"_xlfn.TEXTJOIN(\"^\",,M276:M285)","v":"120^120^120^120^120^120^120^120^120"},{"$nulls":13},{"$f":"_xlfn.TEXTJOIN(\"^\",,AC276:AC284)","v":""},{"$nulls":13},{"$f":"_xlfn.TEXTJOIN(\"^\",,AQ276:AQ284)","v":""},{"$nulls":13},{"$f":"_xlfn.TEXTJOIN(\"^\",,BE276:BE284)","v":""}]
[{"$nulls":15},{"$f":"_xlfn.TEXTJOIN(\"^\",,N276:N285)","v":""},{"$nulls":12},"最终",{"$f":"_xlfn.TEXTJOIN(\"^\",,AD275:AD285)","v":"5^5^5^5^10^10^10^10^15^15^15^15^15^22^22^22^22^22^22^30^30^30^30^30^30^30^40^40^40^40^40^40^40^45^45^45^45^45^55^55^55^55^55"},{"$nulls":12},"最终",{"$f":"_xlfn.TEXTJOIN(\"^\",,AR275:AR285)","v":"18^6^3^13^3^8^3^2^3^4^3^14^3^6^2^8^12^3^2^2^15^4"},{"$nulls":12},"最终",{"$f":"_xlfn.TEXTJOIN(\"^\",,BF275:BF285)","v":"3^3^3^3^5^5^5^8^8^8^8^12^12^12^12^12^18^18^18^18^18^18^25^25^25^25^25^25^25^35^35^35^35^35^35^35^45^45^45^45^45^45^45^45"}]
[{"$nulls":14},"最终",{"$f":"_xlfn.TEXTJOIN(\"^\",,P276:P286)","v":"5^5^5^5^5^15^15^15^15^15^15^30^30^30^30^30^30^30^35^35^35^35^35^50^50^50^50^50^50^50^50^50^66^66^66^66^66^66^66^83^83^83^83^83^83^83^83^83^100^100^100^100^100^100^100^105^105^105^105^105^120^120^120^120^120^120^120^120^120"}]
[{"$nulls":15},{"$f":"COUNT(D276:M284)","v":69},{"$nulls":13},{"$f":"COUNT(S276:Z284)","v":43},{"$nulls":13},{"$f":"SUM(AG276:AN284)","v":137},{"$nulls":13},{"$f":"COUNT(AU276:BB284)","v":44}]
[{"$nulls":57},{"$f":"SUM(P288:BF288)","v":293}]

{"sheet":"13","index":13,"n_rows":289,"n_cols":58,"rows_kept":289,"cut":false,"hidden":false,"merged":[]}
[{"$nulls":4},{"$f":"E2-D2","v":10},{"$f":"F2-E2","v":15},16,4,16,17,17,15,5,{"$nulls":6},{"$f":"T2-S2","v":5},5,5,7,8,10,10,{"$nulls":7},{"$f":"AH2-AG2","v":2},4,5,10,15,17,18,{"$nulls":7},{"$f":"AV2-AU2","v":2},2,2,2,7,8,10]
[3,"熔岩-1","波1·怪物",5,15,30,46,50,66,83,100,115,120,null,null,null,1,"波2·怪物",5,10,15,20,27,35,45,55,{"$nulls":4},3,"波3·怪物",4,6,10,15,25,40,57,75,{"$nulls":4},1,"波4·怪物",2,4,6,8,10,17,25,35]
[null,"5m",8,{"$nulls":12},{"$f":"_xlfn.TEXTJOIN(\"^\",,D3:D12)","v":"60611^60612"},null,8,{"$nulls":5},60614,null,60614,null,null,null,{"$f":"_xlfn.TEXTJOIN(\"^\",,S3:S12)","v":"60614^60612^60612^60612^60614"},null,8,{"$nulls":11},{"$f":"_xlfn.TEXTJOIN(\"^\",,AG3:AG12)","v":"60615^60614^60612"},null,8,{"$nulls":7},60612,null,null,null,{"$f":"_xlfn.TEXTJOIN(\"^\",,AU3:AU12)","v":"60613^60613"}]
[null,null,6,{"$nulls":12},{"$f":"_xlfn.TEXTJOIN(\"^\",,E3:E12)","v":"60611^60612^60613"},null,6,null,null,60611,null,60612,60612,60612,60612,null,null,null,{"$f":"_xlfn.TEXTJOIN(\"^\",,T3:T12)","v":"60613^60613^60613"},null,6,{"$nulls":11},{"$f":"_xlfn.TEXTJOIN(\"^\",,AH3:AH12)","v":"60611^60612"},null,6,null,null,null,60611,null,60614,60612,60612,null,null,null,{"$f":"_xlfn.TEXTJOIN(\"^\",,AV3:AV12)","v":"60612^60612^60612"}]
[null,null,4,{"$nulls":12},{"$f":"_xlfn.TEXTJOIN(\"^\",,F3:F12)","v":"60611^60612^60613^60614"},null,4,60614,60613,60611,60615,60611,60611,60611,60611,null,null,null,{"$f":"_xlfn.TEXTJOIN(\"^\",,U3:U12)","v":"60611^60611^60611^60611^60611"},null,4,{"$nulls":11},{"$f":"_xlfn.TEXTJOIN(\"^\",,AI3:AI12)","v":"60611^60614"},null,4,null,60612,null,60611,60615,60612,60612,60611,null,null,null,{"$f":"_xlfn.TEXTJOIN(\"^\",,AW3:AW12)","v":"60614^60614"}]
[null,null,2,{"$nulls":12},{"$f":"_xlfn.TEXTJOIN(\"^\",,G3:G12)","v":"60611^60612"},null,2,60612,null,null,60615,60613,null,60613,60613,null,null,null,{"$f":"_xlfn.TEXTJOIN(\"^\",,V3:V12)","v":"60615^60615^60615^60615"},null,2,{"$nulls":11},{"$f":"_xlfn.TEXTJOIN(\"^\",,AJ3:AJ12)","v":"60611^60612^60613"},null,2,60613,null,60614,null,60615,60613,60611,60611,null,null,null,{"$f":"_xlfn.TEXTJOIN(\"^\",,AX3:AX12)","v":"60611^60611^60611^60611"}]
[null,null,1,60611,60611,60611,60611,60615,60611,60611,60611,60611,60615,null,null,{"$f":"_xlfn.TEXTJOIN(\"^\",,H3:H12)","v":"60615^60614"},null,1,60612,60613,60611,null,60614,60613,60614,{"$nulls":4},{"$f":"_xlfn.TEXTJOIN(\"^\",,W3:W12)","v":"60612^60611^60613^60614^60613^60611^60612"},null,1,60615,60611,60611,60611,60611,60615,60611,60611,null,null,null,{"$f":"_xlfn.TEXTJOIN(\"^\",,AK3:AK12)","v":"60611^60612^60614"},null,1,null,60612,{"$nulls":4},60614,{"$nulls":4},{"$f":"_xlfn.TEXTJOIN(\"^\",,AY3:AY12)","v":"60615^60615^60615^60615"}]
[null,null,3,60612,60612,60612,60612,60614,60612,60612,60612,60612,60612,null,null,{"$f":"_xlfn.TEXTJOIN(\"^\",,I3:I12)","v":"60611^60612^60613"},null,3,60612,null,null,60615,60613,null,60613,60613,null,null,null,{"$f":"_xlfn.TEXTJOIN(\"^\",,X3:X12)","v":"60614^60612^60611^60613^60611^60612^60614"},null,3,60614,60612,60614,60612,60612,60613,60612,60612,null,null,null,{"$f":"_xlfn.TEXTJOIN(\"^\",,AL3:AL12)","v":"60615^60613^60614"},null,3,60613,null,60614,null,60615,60613,60611,60611,null,null,null,{"$f":"_xlfn.TEXTJOIN(\"^\",,AZ3:AZ12)","v":"60614^60612^60613^60613^60612^60614"}]
[null,null,5,null,60613,60613,null,null,60613,60614,60613,{"$nulls":4},{"$f":"_xlfn.TEXTJOIN(\"^\",,J3:J12)","v":"60611^60612^60614"},null,5,60614,60613,60611,60615,60611,60611,60611,60611,null,null,null,{"$f":"_xlfn.TEXTJOIN(\"^\",,Y3:Y12)","v":"60612^60611^60613^60614^60613^60611^60612"},null,5,60612,null,null,60613,60614,60614,null,60613,null,null,null,{"$f":"_xlfn.TEXTJOIN(\"^\",,AM3:AM12)","v":"60611^60612"},null,5,null,60612,null,60611,60615,60612,60612,60611,null,null,null,{"$f":"_xlfn.TEXTJOIN(\"^\",,BA3:BA12)","v":"60612^60612^60611^60614^60611^60612^60612"}]
[null,null,7,null,null,60614,{"$nulls":4},60614,{"$nulls":4},{"$f":"_xlfn.TEXTJOIN(\"^\",,K3:K12)","v":"60611^60612^60613^60614"},null,7,null,null,60611,null,60612,60612,60612,60612,null,null,null,{"$f":"_xlfn.TEXTJOIN(\"^\",,Z3:Z12)","v":"60614^60612^60611^60613^60613^60611^60612^60614"},null,7,{"$nulls":7},60614,null,null,null,{"$f":"_xlfn.TEXTJOIN(\"^\",,AN3:AN12)","v":"60611^60612^60613^60614"},null,7,null,null,null,60611,null,60614,60612,60612,null,null,null,{"$f":"_xlfn.TEXTJOIN(\"^\",,BB3:BB12)","v":"60612^60612^60611^60611^60611^60611^60612^60612"}]
[null,null,9,{"$nulls":12},{"$f":"_xlfn.TEXTJOIN(\"^\",,L3:L12)","v":"60611^60612"},null,9,{"$nulls":5},60614,null,60614,null,null,null,{"$f":"_xlfn.TEXTJOIN(\"^\",,AA3:AA12)","v":""},null,9,{"$nulls":11},{"$f":"_xlfn.TEXTJOIN(\"^\",,AO3:AO12)","v":""},null,9,{"$nulls":7},60612,null,null,null,{"$f":"_xlfn.TEXTJOIN(\"^\",,BC3:BC12)","v":""}]
[{"$nulls":15},{"$f":"_xlfn.TEXTJOIN(\"^\",,M3:M12)","v":"60615^60612"},{"$nulls":13},{"$f":"_xlfn.TEXTJOIN(\"^\",,AB3:AB12)","v":""},{"$nulls":13},{"$f":"_xlfn.TEXTJOIN(\"^\",,AP3:AP12)","v":""},{"$nulls":13},{"$f":"_xlfn.TEXTJOIN(\"^\",,BD3:BD12)","v":""}]
[{"$nulls":15},{"$f":"_xlfn.TEXTJOIN(\"^\",,N3:N12)","v":""},{"$nulls":13},{"$f":"_xlfn.TEXTJOIN(\"^\",,AC3:AC12)","v":""},{"$nulls":13},{"$f":"_xlfn.TEXTJOIN(\"^\",,AQ3:AQ12)","v":""},{"$nulls":13},{"$f":"_xlfn.TEXTJOIN(\"^\",,BE3:BE12)","v":""}]
[{"$nulls":14},"最终",{"$f":"_xlfn.TEXTJOIN(\"^\",,P3:P13)","v":"60611^60612^60611^60612^60613^60611^60612^60613^60614^60611^60612^60615^60614^60611^60612^60613^60611^60612^60614^60611^60612^60613^60614^60611^60612^60615^60612"},{"$nulls":12},"最终",{"$f":"_xlfn.TEXTJOIN(\"^\",,AD3:AD13)","v":"60614^60612^60612^60612^60614^60613^60613^60613^60611^60611^60611^60611^60611^60615^60615^60615^60615^60612^60611^60613^60614^60613^60611^60612^60614^60612^60611^60613^60611^60612^60614^60612^60611^60613^60614^60613^60611^60612^60614^60612^60611^60613^60613^60611^60612^60614"},{"$nulls":12},"最终",{"$f":"_xlfn.TEXTJOIN(\"^\",,AR3:AR13)","v":"60615^60614^60612^60611^60612^60611^60614^60611^60612^60613^60611^60612^60614^60615^60613^60614^60611^60612^60611^60612^60613^60614"},{"$nulls":12},"最终",{"$f":"_xlfn.TEXTJOIN(\"^\",,BF3:BF13)","v":"60613^60613^60612^60612^60612^60614^60614^60611^60611^60611^60611^60615^60615^60615^60615^60614^60612^60613^60613^60612^60614^60612^60612^60611^60614^60611^60612^60612^60612^60612^60611^60611^60611^60611^60612^60612"}]
[null,null,8,{"$nulls":14},8,{"$nulls":5},"火精灵",null,"火精灵",{"$nulls":5},8,{"$nulls":13},8,{"$nulls":7},"岩浆人"]
[null,null,6,{"$nulls":14},6,null,null,"岩浆蝎",null,"岩浆人","岩浆人","岩浆人","岩浆人",{"$nulls":5},6,{"$nulls":13},6,null,null,null,"岩浆蝎",null,"火精灵","岩浆人","岩浆人"]
[null,null,4,{"$nulls":14},4,"火精灵","岩浆战士","岩浆蝎","火山蜘蛛","岩浆蝎","岩浆蝎","岩浆蝎","岩浆蝎",{"$nulls":5},4,{"$nulls":13},4,null,"岩浆人",null,"岩浆蝎","火山蜘蛛","岩浆人","岩浆人","岩浆蝎"]
[null,null,2,{"$nulls":14},2,"岩浆人",null,null,"火山蜘蛛","岩浆战士",null,"岩浆战士","岩浆战士",{"$nulls":5},2,{"$nulls":13},2,"岩浆战士",null,"火精灵",null,"火山蜘蛛","岩浆战士","岩浆蝎","岩浆蝎"]
[null,null,1,"岩浆蝎","岩浆蝎","岩浆蝎","岩浆蝎","火山蜘蛛","岩浆蝎","岩浆蝎","岩浆蝎","岩浆蝎","火山蜘蛛",{"$nulls":4},1,"岩浆人","岩浆战士","岩浆蝎",null,"火精灵","岩浆战士","火精灵",{"$nulls":6},1,"火山蜘蛛","岩浆蝎","岩浆蝎","岩浆蝎","岩浆蝎","火山蜘蛛","岩浆蝎","岩浆蝎",{"$nulls":5},1,null,"岩浆人",{"$nulls":4},"火精灵"]
[null,null,3,"岩浆人","岩浆人","岩浆人","岩浆人","火精灵","岩浆人","岩浆人","岩浆人","岩浆人","岩浆人",{"$nulls":4},3,"岩浆人",null,null,"火山蜘蛛","岩浆战士",null,"岩浆战士","岩浆战士",{"$nulls":5},3,"火精灵","岩浆人","火精灵","岩浆人","岩浆人","岩浆战士","岩浆人","岩浆人",{"$nulls":5},3,"岩浆战士",null,"火精灵",null,"火山蜘蛛","岩浆战士","岩浆蝎","岩浆蝎"]
[null,null,5,null,"岩浆战士","岩浆战士",null,null,"岩浆战士","火精灵","岩浆战士",{"$nulls":6},5,"火精灵","岩浆战士","岩浆蝎","火山蜘蛛","岩浆蝎","岩浆蝎","岩浆蝎","岩浆蝎",{"$nulls":5},5,"岩浆人",null,null,"岩浆战士","火精灵","火精灵",null,"岩浆战士",{"$nulls":5},5,null,"岩浆人",null,"岩浆蝎","火山蜘蛛","岩浆人","岩浆人","岩浆蝎"]
[null,null,7,null,null,"火精灵",{"$nulls":4},"火精灵",{"$nulls":6},7,null,null,"岩浆蝎",null,"岩浆人","岩浆人","岩浆人","岩浆人",{"$nulls":5},7,{"$nulls":7},"火精灵",{"$nulls":5},7,null,null,null,"岩浆蝎",null,"火精灵","岩浆人","岩浆人"]
[null,null,9,{"$nulls":14},9,{"$nulls":5},"火精灵",null,"火精灵",{"$nulls":5},9,{"$nulls":13},9,{"$nulls":7},"岩浆人"]
[]
[null,null,"位置",5,15,30,46,50,66,83,100,115,120,{"$nulls":4},"位置",5,10,15,20,27,35,45,55,{"$nulls":5},"位置",4,6,10,15,25,40,57,75,null,null,null,{"$f":"_xlfn.TEXTJOIN(\"^\",,AG26:AG40)","v":"100^0^0"},null,"位置",2,4,6,8,10,17,25,35,null,null,null,{"$f":"_xlfn.TEXTJOIN(\"^\",,AU26:AU40)","v":"2^3"}]
[null,null,8,{"$nulls":12},{"$f":"_xlfn.TEXTJOIN(\"^\",,D26:D40)","v":"0^0"},null,8,{"$nulls":5},{"$f":"$C26","v":8},null,{"$f":"$C26","v":8},{"$nulls":5},8,{"$nulls":11},{"$f":"_xlfn.TEXTJOIN(\"^\",,AH26:AH40)","v":"0^0"},null,8,{"$nulls":7},{"$f":"$C26","v":8},null,null,null,{"$f":"_xlfn.TEXTJOIN(\"^\",,AV26:AV40)","v":"4^1^5"}]
[null,null,6,{"$nulls":12},{"$f":"_xlfn.TEXTJOIN(\"^\",,E26:E40)","v":"0^0^0"},null,6,null,null,{"$f":"$C27","v":6},null,{"$f":"$C27","v":6},6,6,6,null,null,null,{"$f":"_xlfn.TEXTJOIN(\"^\",,S26:S40)","v":"4^2^1^3^5"},null,6,{"$nulls":11},{"$f":"_xlfn.TEXTJOIN(\"^\",,AI26:AI40)","v":"0^0"},null,6,null,null,null,{"$f":"$C27","v":6},null,{"$f":"$C27","v":6},6,6,null,null,null,{"$f":"_xlfn.TEXTJOIN(\"^\",,AW26:AW40)","v":"2^3"}]
[null,null,4,{"$nulls":12},{"$f":"_xlfn.TEXTJOIN(\"^\",,F26:F40)","v":"0^0^0^0"},null,4,{"$f":"$C28","v":4},{"$f":"$C28","v":4},4,null,4,4,4,4,null,null,null,{"$f":"_xlfn.TEXTJOIN(\"^\",,T26:T40)","v":"4^1^5"},null,4,{"$nulls":11},{"$f":"_xlfn.TEXTJOIN(\"^\",,AJ26:AJ40)","v":"0^0^0"},null,4,null,{"$f":"$C28","v":4},null,4,null,4,4,4,null,null,null,{"$f":"_xlfn.TEXTJOIN(\"^\",,AX26:AX40)","v":"6^4^5^7"}]
[null,null,2,{"$nulls":12},{"$f":"_xlfn.TEXTJOIN(\"^\",,G26:G40)","v":"0^0"},null,2,2,null,null,null,2,null,2,2,null,null,null,{"$f":"_xlfn.TEXTJOIN(\"^\",,U26:U40)","v":"6^4^1^5^7"},null,2,{"$nulls":11},{"$f":"_xlfn.TEXTJOIN(\"^\",,AK26:AK40)","v":"0^0^0"},null,2,{"$f":"$C29","v":2},null,{"$f":"$C29","v":2},null,null,2,2,2,null,null,null,{"$f":"_xlfn.TEXTJOIN(\"^\",,AY26:AY40)","v":"101^102^104^105"}]
[null,null,1,0,0,0,0,100,0,0,0,0,100,null,null,{"$f":"_xlfn.TEXTJOIN(\"^\",,H26:H40)","v":"100^0"},null,1,1,{"$f":"$C30","v":1},1,null,1,{"$f":"$C30","v":1},1,{"$nulls":4},{"$f":"_xlfn.TEXTJOIN(\"^\",,V26:V40)","v":"101^102^104^105"},null,1,100,0,0,0,0,100,0,0,null,null,null,{"$f":"_xlfn.TEXTJOIN(\"^\",,AL26:AL40)","v":"100^0^0"},null,1,null,{"$f":"$C30","v":1},{"$nulls":4},1,{"$nulls":4},{"$f":"_xlfn.TEXTJOIN(\"^\",,AZ26:AZ40)","v":"6^4^2^3^5^7"}]
[null,null,3,0,0,0,0,0,0,0,0,0,0,null,null,{"$f":"_xlfn.TEXTJOIN(\"^\",,I26:I40)","v":"0^0^0"},null,3,3,null,null,null,3,null,3,3,null,null,null,{"$f":"_xlfn.TEXTJOIN(\"^\",,W26:W40)","v":"6^4^2^1^3^5^7"},null,3,0,0,0,0,0,0,0,0,null,null,null,{"$f":"_xlfn.TEXTJOIN(\"^\",,AM26:AM40)","v":"0^0"},null,3,{"$f":"$C31","v":3},null,{"$f":"$C31","v":3},null,null,{"$f":"$C31","v":3},3,3,null,null,null,{"$f":"_xlfn.TEXTJOIN(\"^\",,BA26:BA40)","v":"6^4^2^1^3^5^7"}]
[null,null,5,null,0,0,null,null,0,0,0,{"$nulls":4},{"$f":"_xlfn.TEXTJOIN(\"^\",,J26:J40)","v":"0^0^0"},null,5,5,{"$f":"$C32","v":5},{"$f":"$C32","v":5},null,5,5,5,5,null,null,null,{"$f":"_xlfn.TEXTJOIN(\"^\",,X26:X40)","v":"8^6^4^1^5^7^9"},null,5,0,null,null,0,0,0,null,0,null,null,null,{"$f":"_xlfn.TEXTJOIN(\"^\",,AN26:AN40)","v":"0^0^0^0"},null,5,null,{"$f":"$C32","v":5},null,{"$f":"$C32","v":5},null,5,5,5,null,null,null,{"$f":"_xlfn.TEXTJOIN(\"^\",,BB26:BB40)","v":"8^6^4^2^3^5^7^9"}]
[null,null,7,null,null,0,{"$nulls":4},0,{"$nulls":4},{"$f":"_xlfn.TEXTJOIN(\"^\",,K26:K40)","v":"0^0^0^0"},null,7,null,null,7,null,7,7,7,7,null,null,null,{"$f":"_xlfn.TEXTJOIN(\"^\",,Y26:Y40)","v":"6^4^2^1^3^5^7"},null,7,{"$nulls":7},0,null,null,null,{"$f":"_xlfn.TEXTJOIN(\"^\",,AO26:AO40)","v":""},null,7,null,null,null,7,null,7,7,7,null,null,null,{"$f":"_xlfn.TEXTJOIN(\"^\",,BC26:BC40)","v":""}]
[null,null,9,{"$nulls":12},{"$f":"_xlfn.TEXTJOIN(\"^\",,L26:L40)","v":"0^0"},null,9,{"$nulls":5},9,null,9,{"$nulls":5},9,{"$nulls":11},{"$f":"_xlfn.TEXTJOIN(\"^\",,AP26:AP40)","v":""},null,9,{"$nulls":7},9,null,null,null,{"$f":"_xlfn.TEXTJOIN(\"^\",,BD26:BD40)","v":""}]
[null,null,"空降",{"$nulls":12},{"$f":"_xlfn.TEXTJOIN(\"^\",,M26:M40)","v":"100^0"},null,"空降",{"$nulls":13},"空降",{"$nulls":11},{"$f":"_xlfn.TEXTJOIN(\"^\",,AQ26:AQ34)","v":""},null,"空降",{"$nulls":11},{"$f":"_xlfn.TEXTJOIN(\"^\",,BE26:BE34)","v":""}]
[null,null,101,{"$nulls":12},{"$f":"_xlfn.TEXTJOIN(\"^\",,N26:N40)","v":""},null,101,null,null,null,{"$f":"$C36","v":101},{"$nulls":7},{"$f":"_xlfn.TEXTJOIN(\"^\",,Z26:Z40)","v":"8^6^4^2^3^5^7^9"},null,101,{"$nulls":13},101,{"$nulls":4},{"$f":"$C36","v":101}]
[null,null,102,{"$nulls":14},102,null,null,null,102,{"$nulls":7},{"$f":"_xlfn.TEXTJOIN(\"^\",,AA26:AA40)","v":""},null,102,{"$nulls":13},102,{"$nulls":4},102]
[null,null,103,{"$nulls":14},103,{"$nulls":11},{"$f":"_xlfn.TEXTJOIN(\"^\",,AB26:AB40)","v":""},null,103,{"$nulls":13},103]
[null,null,104,{"$nulls":14},104,null,null,null,{"$f":"$C39","v":104},{"$nulls":9},104,{"$nulls":13},104,{"$nulls":4},{"$f":"$C39","v":104}]
[null,null,105,{"$nulls":14},105,null,null,null,105,{"$nulls":9},105,{"$nulls":13},105,{"$nulls":4},105]
[{"$nulls":14},"最终",{"$f":"_xlfn.TEXTJOIN(\"^\",,P26:P40)","v":"0^0^0^0^0^0^0^0^0^0^0^100^0^0^0^0^0^0^0^0^0^0^0^0^0^100^0"},{"$nulls":12},"最终",{"$f":"_xlfn.TEXTJOIN(\"^\",,AD26:AD40)","v":"4^2^1^3^5^4^1^5^6^4^1^5^7^101^102^104^105^6^4^2^1^3^5^7^8^6^4^1^5^7^9^6^4^2^1^3^5^7^8^6^4^2^3^5^7^9"},{"$nulls":12},"最终",{"$f":"_xlfn.TEXTJOIN(\"^\",,AR25:AR40)","v":"100^0^0^0^0^0^0^0^0^0^0^0^0^100^0^0^0^0^0^0^0^0"},{"$nulls":12},"最终",{"$f":"_xlfn.TEXTJOIN(\"^\",,BF25:BF40)","v":"2^3^4^1^5^2^3^6^4^5^7^101^102^104^105^6^4^2^3^5^7^6^4^2^1^3^5^7^8^6^4^2^3^5^7^9"}]
[]
[null,null,"时间",5,15,30,46,50,66,83,100,115,120,{"$nulls":4},"时间",5,10,15,20,27,35,45,55,null,null,null,{"$f":"_xlfn.TEXTJOIN(\"^\",,S44:S52)","v":"5^5^5^5^5"},null,"时间",4,6,10,15,25,40,57,75,null,null,null,{"$f":"_xlfn.TEXTJOIN(\"^\",,AG44:AG52)","v":"14^5^4"},null,"时间",2,4,6,8,10,17,25,35,null,null,null,{"$f":"_xlfn.TEXTJOIN(\"^\",,AU44:AU52)","v":"2^2"}]
[null,null,8,{"$nulls":12},{"$f":"_xlfn.TEXTJOIN(\"^\",,D44:D53)","v":"8^4"},null,8,{"$nulls":5},{"$f":"X$43","v":35},null,{"$f":"Z$43","v":55},null,null,null,{"$f":"_xlfn.TEXTJOIN(\"^\",,T44:T52)","v":"10^10^10"},null,8,{"$nulls":11},{"$f":"_xlfn.TEXTJOIN(\"^\",,AH44:AH52)","v":"9^4"},null,8,{"$nulls":7},{"$f":"BB$43","v":35},null,null,null,{"$f":"_xlfn.TEXTJOIN(\"^\",,AV44:AV52)","v":"4^4^4"}]
[null,null,6,{"$nulls":12},{"$f":"_xlfn.TEXTJOIN(\"^\",,E44:E53)","v":"8^2^3"},null,6,null,null,{"$f":"U$43","v":15},null,{"$f":"W$43","v":27},35,45,55,null,null,null,{"$f":"_xlfn.TEXTJOIN(\"^\",,U44:U52)","v":"15^15^15^15^15"},null,6,{"$nulls":11},{"$f":"_xlfn.TEXTJOIN(\"^\",,AI44:AI52)","v":"12^2"},null,6,null,null,null,{"$f":"AX$43","v":8},null,{"$f":"AZ$43","v":17},25,35,null,null,null,{"$f":"_xlfn.TEXTJOIN(\"^\",,AW44:AW52)","v":"6^6"}]
[null,null,4,{"$nulls":12},{"$f":"_xlfn.TEXTJOIN(\"^\",,F44:F53)","v":"7^3^2^2"},null,4,{"$f":"S$43","v":5},10,15,20,27,35,45,55,null,null,null,{"$f":"_xlfn.TEXTJOIN(\"^\",,V44:V52)","v":"20^20^20^20"},null,4,{"$nulls":11},{"$f":"_xlfn.TEXTJOIN(\"^\",,AJ44:AJ52)","v":"10^3^2"},null,4,null,{"$f":"AV$43","v":4},null,8,10,17,25,35,null,null,null,{"$f":"_xlfn.TEXTJOIN(\"^\",,AX44:AX52)","v":"8^8^8^8"}]
[null,null,2,{"$nulls":12},{"$f":"_xlfn.TEXTJOIN(\"^\",,G44:G53)","v":"12^3"},null,2,5,null,null,20,27,null,45,55,null,null,null,{"$f":"_xlfn.TEXTJOIN(\"^\",,W44:W52)","v":"27^27^27^27^27^27^27"},null,2,{"$nulls":11},{"$f":"_xlfn.TEXTJOIN(\"^\",,AK44:AK52)","v":"11^3^2"},null,2,{"$f":"AU$43","v":2},null,{"$f":"AW$43","v":6},null,10,17,25,35,null,null,null,{"$f":"_xlfn.TEXTJOIN(\"^\",,AY44:AY52)","v":"10^10^10^10"}]
[null,null,1,8,8,7,12,8,12,12,12,13,8,null,null,{"$f":"_xlfn.TEXTJOIN(\"^\",,H44:H53)","v":"8^2"},null,1,5,10,15,null,27,35,45,{"$nulls":4},{"$f":"_xlfn.TEXTJOIN(\"^\",,X44:X52)","v":"35^35^35^35^35^35^35"},null,1,14,9,12,10,11,8,12,10,null,null,null,{"$f":"_xlfn.TEXTJOIN(\"^\",,AL44:AL52)","v":"8^3^2"},null,1,null,{"$f":"AV$43","v":4},{"$nulls":4},25,{"$nulls":4},{"$f":"_xlfn.TEXTJOIN(\"^\",,AZ44:AZ52)","v":"17^17^17^17^17^17"}]
[null,null,3,4,2,3,3,2,3,3,2,4,4,null,null,{"$f":"_xlfn.TEXTJOIN(\"^\",,I44:I53)","v":"12^3^2"},null,3,5,null,null,{"$f":"V$43","v":20},27,null,45,55,null,null,null,{"$f":"_xlfn.TEXTJOIN(\"^\",,Y44:Y52)","v":"45^45^45^45^45^45^45"},null,3,5,4,2,3,3,3,3,3,null,null,null,{"$f":"_xlfn.TEXTJOIN(\"^\",,AM44:AM52)","v":"12^3"},null,3,{"$f":"AU$43","v":2},null,{"$f":"AW$43","v":6},null,{"$f":"AY$43","v":10},17,25,35,null,null,null,{"$f":"_xlfn.TEXTJOIN(\"^\",,BA44:BA52)","v":"25^25^25^25^25^25^25"}]
[null,null,5,null,3,2,null,null,2,2,2,{"$nulls":4},{"$f":"_xlfn.TEXTJOIN(\"^\",,J44:J53)","v":"12^3^2"},null,5,5,10,15,20,27,35,45,55,null,null,null,{"$f":"_xlfn.TEXTJOIN(\"^\",,Z44:Z52)","v":"55^55^55^55^55^55^55^55"},null,5,4,null,null,2,2,2,null,2,null,null,null,{"$f":"_xlfn.TEXTJOIN(\"^\",,AN44:AN52)","v":"10^3^2^2"},null,5,null,{"$f":"AV$43","v":4},null,{"$f":"AX$43","v":8},10,17,25,35,null,null,null,{"$f":"_xlfn.TEXTJOIN(\"^\",,BB44:BB52)","v":"35^35^35^35^35^35^35^35"}]
[null,null,7,null,null,2,{"$nulls":4},2,{"$nulls":4},{"$f":"_xlfn.TEXTJOIN(\"^\",,K44:K53)","v":"12^2^2^2"},null,7,null,null,15,null,27,35,45,55,null,null,null,{"$f":"_xlfn.TEXTJOIN(\"^\",,AA44:AA52)","v":""},null,7,{"$nulls":7},2,null,null,null,{"$f":"_xlfn.TEXTJOIN(\"^\",,AO44:AO52)","v":""},null,7,null,null,null,8,null,17,25,35,null,null,null,{"$f":"_xlfn.TEXTJOIN(\"^\",,BC44:BC52)","v":""}]
[null,null,9,{"$nulls":12},{"$f":"_xlfn.TEXTJOIN(\"^\",,L44:L53)","v":"13^4"},null,9,{"$nulls":5},35,null,55,null,null,null,{"$f":"_xlfn.TEXTJOIN(\"^\",,AB44:AB52)","v":""},null,9,{"$nulls":11},{"$f":"_xlfn.TEXTJOIN(\"^\",,AP44:AP52)","v":""},null,9,{"$nulls":7},35,null,null,null,{"$f":"_xlfn.TEXTJOIN(\"^\",,BD44:BD52)","v":""}]
[{"$nulls":15},{"$f":"_xlfn.TEXTJOIN(\"^\",,M44:M53)","v":"8^4"},{"$nulls":13},{"$f":"_xlfn.TEXTJOIN(\"^\",,AC44:AC52)","v":""},{"$nulls":13},{"$f":"_xlfn.TEXTJOIN(\"^\",,AQ44:AQ52)","v":""},{"$nulls":13},{"$f":"_xlfn.TEXTJOIN(\"^\",,BE44:BE52)","v":""}]
[{"$nulls":15},{"$f":"_xlfn.TEXTJOIN(\"^\",,N44:N53)","v":""},{"$nulls":12},"最终",{"$f":"_xlfn.TEXTJOIN(\"^\",,AD43:AD53)","v":"5^5^5^5^5^10^10^10^15^15^15^15^15^20^20^20^20^27^27^27^27^27^27^27^35^35^35^35^35^35^35^45^45^45^45^45^45^45^55^55^55^55^55^55^55^55"},{"$nulls":12},"最终",{"$f":"_xlfn.TEXTJOIN(\"^\",,AR43:AR53)","v":"14^5^4^9^4^12^2^10^3^2^11^3^2^8^3^2^12^3^10^3^2^2"},{"$nulls":12},"最终",{"$f":"_xlfn.TEXTJOIN(\"^\",,BF43:BF53)","v":"2^2^4^4^4^6^6^8^8^8^8^10^10^10^10^17^17^17^17^17^17^25^25^25^25^25^25^25^35^35^35^35^35^35^35^35"}]
[{"$nulls":14},"最终",{"$f":"_xlfn.TEXTJOIN(\"^\",,P44:P54)","v":"8^4^8^2^3^7^3^2^2^12^3^8^2^12^3^2^12^3^2^12^2^2^2^13^4^8^4"}]
[{"$nulls":15},{"$f":"SUM(D44:M52)","v":145},{"$nulls":13},{"$f":"COUNT(S44:Z52)","v":46},{"$nulls":13},{"$f":"SUM(AG44:AN52)","v":126},{"$nulls":13},{"$f":"COUNT(AU44:BB52)","v":36}]
[{"$nulls":57},{"$f":"SUM(P56:BF56)","v":353}]
[]
[{"$nulls":4},{"$f":"E60-D60","v":5},{"$f":"F60-E60","v":6},4,10,10,10,5,10,10,{"$nulls":6},{"$f":"T60-S60","v":5},5,5,10,15,15,10,{"$nulls":7},{"$f":"AH60-AG60","v":2},4,5,10,15,17,18,{"$nulls":7},{"$f":"AV60-AU60","v":2},2,2,2,7,8,10]
[1,"熔岩-2","波1·怪物",5,10,16,20,30,40,50,55,65,75,null,null,null,3,"波2·怪物",5,10,15,20,30,45,60,70,{"$nulls":4},3,"波3·怪物",4,6,10,15,25,40,57,75,{"$nulls":4},1,"波4·怪物",2,4,6,8,10,17,25,35]
[null,"5m",8,{"$nulls":5},60624,null,null,null,60624,null,null,{"$f":"_xlfn.TEXTJOIN(\"^\",,D61:D70)","v":"60624^60622^60622^60622^60624"},null,8,{"$nulls":11},{"$f":"_xlfn.TEXTJOIN(\"^\",,S61:S70)","v":"60625^60624^60622"},null,8,{"$nulls":11},{"$f":"_xlfn.TEXTJOIN(\"^\",,AG61:AG70)","v":"60621^60623"},null,8,{"$nulls":7},60622,null,null,null,{"$f":"_xlfn.TEXTJOIN(\"^\",,AU61:AU70)","v":"60621^60621^60621^60621"}]
[null,null,6,null,60621,60624,null,60622,60622,60622,null,60622,60622,null,null,{"$f":"_xlfn.TEXTJOIN(\"^\",,E61:E70)","v":"60621^60621^60621^60621^60621"},null,6,{"$nulls":11},{"$f":"_xlfn.TEXTJOIN(\"^\",,T61:T70)","v":"60621^60622"},null,6,{"$nulls":11},{"$f":"_xlfn.TEXTJOIN(\"^\",,AH61:AH70)","v":"60621^60622^60624"},null,6,{"$nulls":5},60624,60622,60622,null,null,null,{"$f":"_xlfn.TEXTJOIN(\"^\",,AV61:AV70)","v":"60622^60622^60622"}]
[null,null,4,60624,60621,60622,60625,60621,60621,60622,60625,60621,60621,null,null,{"$f":"_xlfn.TEXTJOIN(\"^\",,F61:F70)","v":"60624^60622^60623^60622^60623^60622^60624"},null,4,{"$nulls":11},{"$f":"_xlfn.TEXTJOIN(\"^\",,U61:U70)","v":"60621^60623"},null,4,{"$nulls":11},{"$f":"_xlfn.TEXTJOIN(\"^\",,AI61:AI70)","v":"60621^60622"},null,4,60621,60622,null,60625,60623,60621,60622,60621,null,null,null,{"$f":"_xlfn.TEXTJOIN(\"^\",,AW61:AW70)","v":"60624^60624"}]
[null,null,2,60622,null,60623,60625,60621,60623,60621,60625,60621,60623,null,null,{"$f":"_xlfn.TEXTJOIN(\"^\",,G61:G70)","v":"60625^60625^60625^60625^60625"},null,2,{"$nulls":11},{"$f":"_xlfn.TEXTJOIN(\"^\",,V61:V70)","v":"60621^60623^60624"},null,2,{"$nulls":11},{"$f":"_xlfn.TEXTJOIN(\"^\",,AJ61:AJ70)","v":"60625^60623"},null,2,60621,null,60624,60625,null,60621,null,60623,null,null,null,{"$f":"_xlfn.TEXTJOIN(\"^\",,AX61:AX70)","v":"60625^60625^60625^60625"}]
[null,null,1,60622,60621,60622,60625,60622,60623,60621,60625,60624,60622,null,null,{"$f":"_xlfn.TEXTJOIN(\"^\",,H61:H70)","v":"60622^60621^60621^60622^60621^60621^60622"},null,1,60625,60621,60621,60621,60621,60621,60621,60625,null,null,null,{"$f":"_xlfn.TEXTJOIN(\"^\",,W61:W70)","v":"60621^60622"},null,1,60621,60621,60621,60625,60621,60621,60621,60621,null,null,null,{"$f":"_xlfn.TEXTJOIN(\"^\",,AK61:AK70)","v":"60621^60622^60624"},null,1,null,60622,null,null,60623,null,60622,{"$nulls":4},{"$f":"_xlfn.TEXTJOIN(\"^\",,AY61:AY70)","v":"60623^60623^60623"}]
[null,null,3,60622,null,60623,60625,60621,60623,60621,60625,60621,60623,null,null,{"$f":"_xlfn.TEXTJOIN(\"^\",,I61:I70)","v":"60624^60622^60621^60623^60623^60623^60621^60622^60624"},null,3,60624,60622,60623,60623,60622,60622,60622,60622,null,null,null,{"$f":"_xlfn.TEXTJOIN(\"^\",,X61:X70)","v":"60621^60622^60623^60624"},null,3,60623,60622,60622,60623,60622,60623,60622,60622,null,null,null,{"$f":"_xlfn.TEXTJOIN(\"^\",,AL61:AL70)","v":"60621^60623^60624"},null,3,60621,null,60624,60625,null,60621,null,60623,null,null,null,{"$f":"_xlfn.TEXTJOIN(\"^\",,AZ61:AZ70)","v":"60624^60621^60621^60621^60621^60624"}]
[null,null,5,60624,60621,60622,60625,60621,60621,60622,60625,60621,60621,null,null,{"$f":"_xlfn.TEXTJOIN(\"^\",,J61:J70)","v":"60622^60622^60621^60621^60621^60622^60622"},null,5,60622,null,null,60624,null,60623,60624,{"$nulls":4},{"$f":"_xlfn.TEXTJOIN(\"^\",,Y61:Y70)","v":"60621^60622^60624"},null,5,null,60624,null,null,60624,60624,null,60623,null,null,null,{"$f":"_xlfn.TEXTJOIN(\"^\",,AM61:AM70)","v":"60621^60622"},null,5,60621,60622,null,60625,60623,60621,60622,60621,null,null,null,{"$f":"_xlfn.TEXTJOIN(\"^\",,BA61:BA70)","v":"60622^60622^60622^60622^60622"}]
[null,null,7,null,60621,60624,null,60622,60622,60622,null,60622,60622,null,null,{"$f":"_xlfn.TEXTJOIN(\"^\",,K61:K70)","v":"60625^60625^60625^60625^60625"},null,7,{"$nulls":5},60624,{"$nulls":5},{"$f":"_xlfn.TEXTJOIN(\"^\",,Z61:Z70)","v":"60625^60622"},null,7,{"$nulls":7},60624,null,null,null,{"$f":"_xlfn.TEXTJOIN(\"^\",,AN61:AN70)","v":"60621^60622^60623^60624"},null,7,{"$nulls":5},60624,60622,60622,null,null,null,{"$f":"_xlfn.TEXTJOIN(\"^\",,BB61:BB70)","v":"60622^60622^60621^60623^60623^60621^60622^60622"}]
[null,null,9,{"$nulls":5},60624,null,null,null,60624,null,null,{"$f":"_xlfn.TEXTJOIN(\"^\",,L61:L70)","v":"60622^60621^60621^60624^60621^60621^60622"},null,9,{"$nulls":11},{"$f":"_xlfn.TEXTJOIN(\"^\",,AA61:AA70)","v":""},null,9,{"$nulls":11},{"$f":"_xlfn.TEXTJOIN(\"^\",,AO61:AO70)","v":""},null,9,{"$nulls":7},60622,null,null,null,{"$f":"_xlfn.TEXTJOIN(\"^\",,BC61:BC70)","v":""}]
[{"$nulls":15},{"$f":"_xlfn.TEXTJOIN(\"^\",,M61:M70)","v":"60624^60622^60621^60623^60622^60623^60621^60622^60624"},{"$nulls":13},{"$f":"_xlfn.TEXTJOIN(\"^\",,AB61:AB70)","v":""},{"$nulls":13},{"$f":"_xlfn.TEXTJOIN(\"^\",,AP61:AP70)","v":""},{"$nulls":13},{"$f":"_xlfn.TEXTJOIN(\"^\",,BD61:BD70)","v":""}]
[{"$nulls":15},{"$f":"_xlfn.TEXTJOIN(\"^\",,N61:N70)","v":""},{"$nulls":13},{"$f":"_xlfn.TEXTJOIN(\"^\",,AC61:AC70)","v":""},{"$nulls":13},{"$f":"_xlfn.TEXTJOIN(\"^\",,AQ61:AQ70)","v":""},{"$nulls":13},{"$f":"_xlfn.TEXTJOIN(\"^\",,BE61:BE70)","v":""}]
[{"$nulls":14},"最终",{"$f":"_xlfn.TEXTJOIN(\"^\",,P61:P71)","v":"60624^60622^60622^60622^60624^60621^60621^60621^60621^60621^60624^60622^60623^60622^60623^60622^60624^60625^60625^60625^60625^60625^60622^60621^60621^60622^60621^60621^60622^60624^60622^60621^60623^60623^60623^60621^60622^60624^60622^60622^60621^60621^60621^60622^60622^60625^60625^60625^60625^60625^60622^60621^60621^60624^60621^60621^60622^60624^60622^60621^60623^60622^60623^60621^60622^60624"},{"$nulls":12},"最终",{"$f":"_xlfn.TEXTJOIN(\"^\",,AD61:AD71)","v":"60625^60624^60622^60621^60622^60621^60623^60621^60623^60624^60621^60622^60621^60622^60623^60624^60621^60622^60624^60625^60622"},{"$nulls":12},"最终",{"$f":"_xlfn.TEXTJOIN(\"^\",,AR61:AR71)","v":"60621^60623^60621^60622^60624^60621^60622^60625^60623^60621^60622^60624^60621^60623^60624^60621^60622^60621^60622^60623^60624"},{"$nulls":12},"最终",{"$f":"_xlfn.TEXTJOIN(\"^\",,BF61:BF71)","v":"60621^60621^60621^60621^60622^60622^60622^60624^60624^60625^60625^60625^60625^60623^60623^60623^60624^60621^60621^60621^60621^60624^60622^60622^60622^60622^60622^60622^60622^60621^60623^60623^60621^60622^60622"}]
[null,null,8,{"$nulls":5},"火精灵",null,null,null,"火精灵",{"$nulls":4},8,{"$nulls":13},8,{"$nulls":13},8,{"$nulls":7},"岩浆人"]
[null,null,6,null,"岩浆蝎","火精灵",null,"岩浆人","岩浆人","岩浆人",null,"岩浆人","岩浆人",{"$nulls":4},6,{"$nulls":13},6,{"$nulls":13},6,{"$nulls":5},"火精灵","岩浆人","岩浆人"]
[null,null,4,"火精灵","岩浆蝎","岩浆人","火山蜘蛛","岩浆蝎","岩浆蝎","岩浆人","火山蜘蛛","岩浆蝎","岩浆蝎",{"$nulls":4},4,{"$nulls":13},4,{"$nulls":13},4,"岩浆蝎","岩浆人",null,"火山蜘蛛","岩浆战士","岩浆蝎","岩浆人","岩浆蝎"]
[null,null,2,"岩浆人",null,"岩浆战士","火山蜘蛛","岩浆蝎","岩浆战士","岩浆蝎","火山蜘蛛","岩浆蝎","岩浆战士",{"$nulls":4},2,{"$nulls":13},2,{"$nulls":13},2,"岩浆蝎",null,"火精灵","火山蜘蛛",null,"岩浆蝎",null,"岩浆战士"]
[null,null,1,"岩浆人","岩浆蝎","岩浆人","火山蜘蛛","岩浆人","岩浆战士","岩浆蝎","火山蜘蛛","火精灵","岩浆人",{"$nulls":4},1,"火山蜘蛛","岩浆蝎","岩浆蝎","岩浆蝎","岩浆蝎","岩浆蝎","岩浆蝎","火山蜘蛛",{"$nulls":5},1,"岩浆蝎","岩浆蝎","岩浆蝎","火山蜘蛛","岩浆蝎","岩浆蝎","岩浆蝎","岩浆蝎",{"$nulls":5},1,null,"岩浆人",null,null,"岩浆战士",null,"岩浆人"]
[null,null,3,"岩浆人",null,"岩浆战士","火山蜘蛛","岩浆蝎","岩浆战士","岩浆蝎","火山蜘蛛","岩浆蝎","岩浆战士",{"$nulls":4},3,"火精灵","岩浆人","岩浆战士","岩浆战士","岩浆人","岩浆人","岩浆人","岩浆人",{"$nulls":5},3,"岩浆战士","岩浆人","岩浆人","岩浆战士","岩浆人","岩浆战士","岩浆人","岩浆人",{"$nulls":5},3,"岩浆蝎",null,"火精灵","火山蜘蛛",null,"岩浆蝎",null,"岩浆战士"]
[null,null,5,"火精灵","岩浆蝎","岩浆人","火山蜘蛛","岩浆蝎","岩浆蝎","岩浆人","火山蜘蛛","岩浆蝎","岩浆蝎",{"$nulls":4},5,"岩浆人",null,null,"火精灵",null,"岩浆战士","火精灵",{"$nulls":6},5,null,"火精灵",null,null,"火精灵","火精灵",null,"岩浆战士",{"$nulls":5},5,"岩浆蝎","岩浆人",null,"火山蜘蛛","岩浆战士","岩浆蝎","岩浆人","岩浆蝎"]
[null,null,7,null,"岩浆蝎","火精灵",null,"岩浆人","岩浆人","岩浆人",null,"岩浆人","岩浆人",{"$nulls":4},7,{"$nulls":5},"火精灵",{"$nulls":7},7,{"$nulls":7},"火精灵",{"$nulls":5},7,{"$nulls":5},"火精灵","岩浆人","岩浆人"]
[null,null,9,{"$nulls":5},"火精灵",null,null,null,"火精灵",{"$nulls":4},9,{"$nulls":13},9,{"$nulls":13},9,{"$nulls":7},"岩浆人"]
[]
[null,null,"位置",5,10,16,20,30,40,50,55,65,75,{"$nulls":4},"位置",5,10,15,20,30,45,60,70,{"$nulls":5},"位置",4,6,10,15,25,40,57,75,null,null,null,{"$f":"_xlfn.TEXTJOIN(\"^\",,AG84:AG98)","v":"0^0"},null,"位置",2,4,6,8,10,17,25,35,null,null,null,{"$f":"_xlfn.TEXTJOIN(\"^\",,AU84:AU98)","v":"4^2^3^5"}]
[null,null,8,{"$nulls":5},{"$f":"$C84","v":8},null,null,null,{"$f":"$C84","v":8},null,null,{"$f":"_xlfn.TEXTJOIN(\"^\",,D84:D98)","v":"4^2^1^3^5"},null,8,{"$nulls":13},8,{"$nulls":11},{"$f":"_xlfn.TEXTJOIN(\"^\",,AH84:AH98)","v":"0^0^0"},null,8,{"$nulls":7},{"$f":"$C84","v":8},null,null,null,{"$f":"_xlfn.TEXTJOIN(\"^\",,AV84:AV98)","v":"4^1^5"}]
[null,null,6,null,{"$f":"$C85","v":6},6,null,{"$f":"$C85","v":6},6,6,null,{"$f":"$C85","v":6},6,null,null,{"$f":"_xlfn.TEXTJOIN(\"^\",,E84:E98)","v":"6^4^1^5^7"},null,6,{"$nulls":11},{"$f":"_xlfn.TEXTJOIN(\"^\",,S84:S98)","v":"100^0^0"},null,6,{"$nulls":11},{"$f":"_xlfn.TEXTJOIN(\"^\",,AI84:AI98)","v":"0^0"},null,6,{"$nulls":5},{"$f":"$C85","v":6},6,6,null,null,null,{"$f":"_xlfn.TEXTJOIN(\"^\",,AW84:AW98)","v":"2^3"}]
[null,null,4,{"$f":"$C86","v":4},4,4,null,4,4,4,null,4,4,null,null,{"$f":"_xlfn.TEXTJOIN(\"^\",,F84:F98)","v":"6^4^2^1^3^5^7"},null,4,{"$nulls":11},{"$f":"_xlfn.TEXTJOIN(\"^\",,T84:T98)","v":"0^0"},null,4,{"$nulls":11},{"$f":"_xlfn.TEXTJOIN(\"^\",,AJ84:AJ98)","v":"100^0"},null,4,{"$f":"$C86","v":4},{"$f":"$C86","v":4},null,null,{"$f":"$C86","v":4},4,4,4,null,null,null,{"$f":"_xlfn.TEXTJOIN(\"^\",,AX84:AX98)","v":"101^102^104^105"}]
[null,null,2,{"$f":"$C87","v":2},null,2,null,2,2,2,null,2,2,null,null,{"$f":"_xlfn.TEXTJOIN(\"^\",,G84:G98)","v":"101^102^103^104^105"},null,2,{"$nulls":11},{"$f":"_xlfn.TEXTJOIN(\"^\",,U84:U98)","v":"0^0"},null,2,{"$nulls":11},{"$f":"_xlfn.TEXTJOIN(\"^\",,AK84:AK98)","v":"0^0^0"},null,2,2,null,{"$f":"$C87","v":2},null,null,2,null,2,null,null,null,{"$f":"_xlfn.TEXTJOIN(\"^\",,AY84:AY98)","v":"4^1^5"}]
[null,null,1,{"$f":"$C88","v":1},{"$f":"$C88","v":1},1,null,1,1,1,null,1,1,null,null,{"$f":"_xlfn.TEXTJOIN(\"^\",,H84:H98)","v":"6^4^2^1^3^5^7"},null,1,100,0,0,0,0,0,0,100,null,null,null,{"$f":"_xlfn.TEXTJOIN(\"^\",,V84:V98)","v":"0^0^0"},null,1,0,0,0,100,0,0,0,0,null,null,null,{"$f":"_xlfn.TEXTJOIN(\"^\",,AL84:AL98)","v":"0^0^0"},null,1,null,{"$f":"$C88","v":1},null,null,{"$f":"$C88","v":1},null,{"$f":"$C88","v":1},{"$nulls":4},{"$f":"_xlfn.TEXTJOIN(\"^\",,AZ84:AZ98)","v":"6^4^2^3^5^7"}]
[null,null,3,{"$f":"$C89","v":3},null,3,null,3,3,3,null,3,3,null,null,{"$f":"_xlfn.TEXTJOIN(\"^\",,I84:I98)","v":"8^6^4^2^1^3^5^7^9"},null,3,0,0,0,0,0,0,0,0,null,null,null,{"$f":"_xlfn.TEXTJOIN(\"^\",,W84:W98)","v":"0^0"},null,3,0,0,0,0,0,0,0,0,null,null,null,{"$f":"_xlfn.TEXTJOIN(\"^\",,AM84:AM98)","v":"0^0"},null,3,{"$f":"$C89","v":3},null,{"$f":"$C89","v":3},null,null,{"$f":"$C89","v":3},null,{"$f":"$C89","v":3},null,null,null,{"$f":"_xlfn.TEXTJOIN(\"^\",,BA84:BA98)","v":"6^4^1^5^7"}]
[null,null,5,5,5,5,null,5,5,5,null,5,5,null,null,{"$f":"_xlfn.TEXTJOIN(\"^\",,J84:J98)","v":"6^4^2^1^3^5^7"},null,5,0,null,null,0,null,0,0,{"$nulls":4},{"$f":"_xlfn.TEXTJOIN(\"^\",,X84:X98)","v":"0^0^0^0"},null,5,null,0,null,null,0,0,null,0,null,null,null,{"$f":"_xlfn.TEXTJOIN(\"^\",,AN84:AN98)","v":"0^0^0^0"},null,5,5,{"$f":"$C90","v":5},null,null,{"$f":"$C90","v":5},5,5,5,null,null,null,{"$f":"_xlfn.TEXTJOIN(\"^\",,BB84:BB98)","v":"8^6^4^2^3^5^7^9"}]
[null,null,7,null,7,7,null,7,7,7,null,7,7,null,null,{"$f":"_xlfn.TEXTJOIN(\"^\",,K84:K98)","v":"101^102^103^104^105"},null,7,{"$nulls":5},0,{"$nulls":5},{"$f":"_xlfn.TEXTJOIN(\"^\",,Y84:Y98)","v":"0^0^0"},null,7,{"$nulls":7},0,null,null,null,{"$f":"_xlfn.TEXTJOIN(\"^\",,AO84:AO98)","v":""},null,7,{"$nulls":5},7,7,7,null,null,null,{"$f":"_xlfn.TEXTJOIN(\"^\",,BC84:BC98)","v":""}]
[null,null,9,{"$nulls":5},9,null,null,null,9,null,null,{"$f":"_xlfn.TEXTJOIN(\"^\",,L84:L98)","v":"6^4^2^1^3^5^7"},null,9,{"$nulls":13},9,{"$nulls":11},{"$f":"_xlfn.TEXTJOIN(\"^\",,AP84:AP98)","v":""},null,9,{"$nulls":7},9,null,null,null,{"$f":"_xlfn.TEXTJOIN(\"^\",,BD84:BD98)","v":""}]
[null,null,"空降",{"$nulls":12},{"$f":"_xlfn.TEXTJOIN(\"^\",,M84:M98)","v":"8^6^4^2^1^3^5^7^9"},null,"空降",{"$nulls":13},"空降",{"$nulls":11},{"$f":"_xlfn.TEXTJOIN(\"^\",,AQ84:AQ92)","v":""},null,"空降",{"$nulls":11},{"$f":"_xlfn.TEXTJOIN(\"^\",,BE84:BE92)","v":""}]
[null,null,101,null,null,null,{"$f":"$C94","v":101},null,null,null,{"$f":"$C94","v":101},{"$nulls":4},{"$f":"_xlfn.TEXTJOIN(\"^\",,N84:N98)","v":""},null,101,{"$nulls":11},{"$f":"_xlfn.TEXTJOIN(\"^\",,Z84:Z98)","v":"100^0"},null,101,{"$nulls":13},101,null,null,null,{"$f":"$C94","v":101}]
[null,null,102,null,null,null,102,null,null,null,102,{"$nulls":6},102,{"$nulls":11},{"$f":"_xlfn.TEXTJOIN(\"^\",,AA84:AA98)","v":""},null,102,{"$nulls":13},102,null,null,null,102]
[null,null,103,null,null,null,103,null,null,null,103,{"$nulls":6},103,{"$nulls":11},{"$f":"_xlfn.TEXTJOIN(\"^\",,AB84:AB98)","v":""},null,103,{"$nulls":13},103]
[null,null,104,null,null,null,104,null,null,null,104,{"$nulls":6},104,{"$nulls":13},104,{"$nulls":13},104,null,null,null,{"$f":"$C97","v":104}]
[null,null,105,null,null,null,105,null,null,null,105,{"$nulls":6},105,{"$nulls":13},105,{"$nulls":13},105,null,null,null,105]
[{"$nulls":14},"最终",{"$f":"_xlfn.TEXTJOIN(\"^\",,P84:P98)","v":"4^2^1^3^5^6^4^1^5^7^6^4^2^1^3^5^7^101^102^103^104^105^6^4^2^1^3^5^7^8^6^4^2^1^3^5^7^9^6^4^2^1^3^5^7^101^102^103^104^105^6^4^2^1^3^5^7^8^6^4^2^1^3^5^7^9"},{"$nulls":12},"最终",{"$f":"_xlfn.TEXTJOIN(\"^\",,AD84:AD98)","v":"100^0^0^0^0^0^0^0^0^0^0^0^0^0^0^0^0^0^0^100^0"},{"$nulls":12},"最终",{"$f":"_xlfn.TEXTJOIN(\"^\",,AR83:AR98)","v":"0^0^0^0^0^0^0^100^0^0^0^0^0^0^0^0^0^0^0^0^0"},{"$nulls":12},"最终",{"$f":"_xlfn.TEXTJOIN(\"^\",,BF83:BF98)","v":"4^2^3^5^4^1^5^2^3^101^102^104^105^4^1^5^6^4^2^3^5^7^6^4^1^5^7^8^6^4^2^3^5^7^9"}]
[]
[null,null,"时间",5,10,16,20,30,40,50,55,65,75,{"$nulls":4},"时间",5,10,15,20,30,45,60,70,null,null,null,{"$f":"_xlfn.TEXTJOIN(\"^\",,S102:S110)","v":"14^4^4"},null,"时间",4,6,10,15,25,40,57,75,null,null,null,{"$f":"_xlfn.TEXTJOIN(\"^\",,AG102:AG110)","v":"18^5"},null,"时间",2,4,6,8,10,17,25,35,null,null,null,{"$f":"_xlfn.TEXTJOIN(\"^\",,AU102:AU110)","v":"2^2^2^2"}]
[null,null,8,{"$nulls":5},{"$f":"I$101","v":40},null,null,null,{"$f":"M$101","v":75},null,null,{"$f":"_xlfn.TEXTJOIN(\"^\",,D102:D111)","v":"5^5^5^5^5"},null,8,{"$nulls":11},{"$f":"_xlfn.TEXTJOIN(\"^\",,T102:T110)","v":"9^4"},null,8,{"$nulls":11},{"$f":"_xlfn.TEXTJOIN(\"^\",,AH102:AH110)","v":"8^3^2"},null,8,{"$nulls":7},{"$f":"BB$101","v":35},null,null,null,{"$f":"_xlfn.TEXTJOIN(\"^\",,AV102:AV110)","v":"4^4^4"}]
[null,null,6,null,{"$f":"E$101","v":10},16,null,{"$f":"H$101","v":30},40,50,null,{"$f":"L$101","v":65},75,null,null,{"$f":"_xlfn.TEXTJOIN(\"^\",,E102:E111)","v":"10^10^10^10^10"},null,6,{"$nulls":11},{"$f":"_xlfn.TEXTJOIN(\"^\",,U102:U110)","v":"11^2"},null,6,{"$nulls":11},{"$f":"_xlfn.TEXTJOIN(\"^\",,AI102:AI110)","v":"10^4"},null,6,{"$nulls":5},{"$f":"AZ$101","v":17},25,35,null,null,null,{"$f":"_xlfn.TEXTJOIN(\"^\",,AW102:AW110)","v":"6^6"}]
[null,null,4,{"$f":"D$101","v":5},10,16,20,30,40,50,55,65,75,null,null,{"$f":"_xlfn.TEXTJOIN(\"^\",,F102:F111)","v":"16^16^16^16^16^16^16"},null,4,{"$nulls":11},{"$f":"_xlfn.TEXTJOIN(\"^\",,V102:V110)","v":"10^2^2"},null,4,{"$nulls":11},{"$f":"_xlfn.TEXTJOIN(\"^\",,AJ102:AJ110)","v":"8^3"},null,4,{"$f":"AU$101","v":2},{"$f":"AV$101","v":4},null,{"$f":"AX$101","v":8},{"$f":"AY$101","v":10},17,25,35,null,null,null,{"$f":"_xlfn.TEXTJOIN(\"^\",,AX102:AX110)","v":"8^8^8^8"}]
[null,null,2,5,null,16,20,30,40,50,55,65,75,null,null,{"$f":"_xlfn.TEXTJOIN(\"^\",,G102:G111)","v":"20^20^20^20^20"},null,2,{"$nulls":11},{"$f":"_xlfn.TEXTJOIN(\"^\",,W102:W110)","v":"12^4"},null,2,{"$nulls":11},{"$f":"_xlfn.TEXTJOIN(\"^\",,AK102:AK110)","v":"11^3^2"},null,2,2,null,{"$f":"AW$101","v":6},8,null,17,null,35,null,null,null,{"$f":"_xlfn.TEXTJOIN(\"^\",,AY102:AY110)","v":"10^10^10"}]
[null,null,1,5,{"$f":"E$101","v":10},16,20,30,40,50,55,65,75,null,null,{"$f":"_xlfn.TEXTJOIN(\"^\",,H102:H111)","v":"30^30^30^30^30^30^30"},null,1,14,9,11,10,12,10,12,8,null,null,null,{"$f":"_xlfn.TEXTJOIN(\"^\",,X102:X110)","v":"10^3^2^2"},null,1,18,8,10,8,11,12,12,10,null,null,null,{"$f":"_xlfn.TEXTJOIN(\"^\",,AL102:AL110)","v":"12^3^2"},null,1,null,{"$f":"AV$101","v":4},null,null,{"$f":"AY$101","v":10},null,{"$f":"BA$101","v":25},{"$nulls":4},{"$f":"_xlfn.TEXTJOIN(\"^\",,AZ102:AZ110)","v":"17^17^17^17^17^17"}]
[null,null,3,{"$f":"D$101","v":5},null,16,20,30,40,50,55,65,75,null,null,{"$f":"_xlfn.TEXTJOIN(\"^\",,I102:I111)","v":"40^40^40^40^40^40^40^40^40"},null,3,4,4,2,2,4,3,3,4,null,null,null,{"$f":"_xlfn.TEXTJOIN(\"^\",,Y102:Y110)","v":"12^3^2"},null,3,5,3,4,3,3,3,4,3,null,null,null,{"$f":"_xlfn.TEXTJOIN(\"^\",,AM102:AM110)","v":"12^4"},null,3,{"$f":"AU$101","v":2},null,{"$f":"AW$101","v":6},{"$f":"AX$101","v":8},null,{"$f":"AZ$101","v":17},null,{"$f":"BB$101","v":35},null,null,null,{"$f":"_xlfn.TEXTJOIN(\"^\",,BA102:BA110)","v":"25^25^25^25^25"}]
[null,null,5,5,10,16,20,30,40,50,55,65,75,null,null,{"$f":"_xlfn.TEXTJOIN(\"^\",,J102:J111)","v":"50^50^50^50^50^50^50"},null,5,4,null,null,2,null,2,2,{"$nulls":4},{"$f":"_xlfn.TEXTJOIN(\"^\",,Z102:Z110)","v":"8^4"},null,5,null,2,null,null,2,2,null,2,null,null,null,{"$f":"_xlfn.TEXTJOIN(\"^\",,AN102:AN110)","v":"10^3^2^2"},null,5,2,{"$f":"AV$101","v":4},null,8,{"$f":"AY$101","v":10},17,25,35,null,null,null,{"$f":"_xlfn.TEXTJOIN(\"^\",,BB102:BB110)","v":"35^35^35^35^35^35^35^35"}]
[null,null,7,null,10,16,null,30,40,50,null,65,75,null,null,{"$f":"_xlfn.TEXTJOIN(\"^\",,K102:K111)","v":"55^55^55^55^55"},null,7,{"$nulls":5},2,{"$nulls":5},{"$f":"_xlfn.TEXTJOIN(\"^\",,AA102:AA110)","v":""},null,7,{"$nulls":7},2,null,null,null,{"$f":"_xlfn.TEXTJOIN(\"^\",,AO102:AO110)","v":""},null,7,{"$nulls":5},17,25,35,null,null,null,{"$f":"_xlfn.TEXTJOIN(\"^\",,BC102:BC110)","v":""}]
[null,null,9,{"$nulls":5},40,null,null,null,75,null,null,{"$f":"_xlfn.TEXTJOIN(\"^\",,L102:L111)","v":"65^65^65^65^65^65^65"},null,9,{"$nulls":11},{"$f":"_xlfn.TEXTJOIN(\"^\",,AB102:AB110)","v":""},null,9,{"$nulls":11},{"$f":"_xlfn.TEXTJOIN(\"^\",,AP102:AP110)","v":""},null,9,{"$nulls":7},35,null,null,null,{"$f":"_xlfn.TEXTJOIN(\"^\",,BD102:BD110)","v":""}]
[{"$nulls":15},{"$f":"_xlfn.TEXTJOIN(\"^\",,M102:M111)","v":"75^75^75^75^75^75^75^75^75"},{"$nulls":13},{"$f":"_xlfn.TEXTJOIN(\"^\",,AC102:AC110)","v":""},{"$nulls":13},{"$f":"_xlfn.TEXTJOIN(\"^\",,AQ102:AQ110)","v":""},{"$nulls":13},{"$f":"_xlfn.TEXTJOIN(\"^\",,BE102:BE110)","v":""}]
[{"$nulls":15},{"$f":"_xlfn.TEXTJOIN(\"^\",,N102:N111)","v":""},{"$nulls":12},"最终",{"$f":"_xlfn.TEXTJOIN(\"^\",,AD101:AD111)","v":"14^4^4^9^4^11^2^10^2^2^12^4^10^3^2^2^12^3^2^8^4"},{"$nulls":12},"最终",{"$f":"_xlfn.TEXTJOIN(\"^\",,AR101:AR111)","v":"18^5^8^3^2^10^4^8^3^11^3^2^12^3^2^12^4^10^3^2^2"},{"$nulls":12},"最终",{"$f":"_xlfn.TEXTJOIN(\"^\",,BF101:BF111)","v":"2^2^2^2^4^4^4^6^6^8^8^8^8^10^10^10^17^17^17^17^17^17^25^25^25^25^25^35^35^35^35^35^35^35^35"}]
[{"$nulls":14},"最终",{"$f":"_xlfn.TEXTJOIN(\"^\",,P102:P112)","v":"5^5^5^5^5^10^10^10^10^10^16^16^16^16^16^16^16^20^20^20^20^20^30^30^30^30^30^30^30^40^40^40^40^40^40^40^40^40^50^50^50^50^50^50^50^55^55^55^55^55^65^65^65^65^65^65^65^75^75^75^75^75^75^75^75^75"}]
[{"$nulls":15},{"$f":"COUNT(D102:M110)","v":66},{"$nulls":13},{"$f":"SUM(S102:Z110)","v":124},{"$nulls":13},{"$f":"SUM(AG102:AN110)","v":127},{"$nulls":13},{"$f":"COUNT(AU102:BB110)","v":35}]
[{"$nulls":57},{"$f":"SUM(P114:BF114)","v":352}]
[]
[{"$nulls":4},{"$f":"E118-D118","v":5},{"$f":"F118-E118","v":7},8,10,5,10,10,10,5,{"$nulls":6},{"$f":"T118-S118","v":5},5,10,15,16,17,7,{"$nulls":7},{"$f":"AH118-AG118","v":6},5,7,8,10,10,5,{"$nulls":7},{"$f":"AV118-AU118","v":2},3,4,8,10,10,10]
[1,"熔岩-3","波1·怪物",5,10,17,25,35,40,50,60,70,75,null,null,null,3,"波2·怪物",5,10,15,25,40,56,73,80,{"$nulls":4},1,"波3·怪物",4,10,15,22,30,40,50,55,{"$nulls":4},1,"波4·怪物",3,5,8,12,20,30,40,50]
[null,"5m",8,null,null,60632,null,60634,null,60631,60634,{"$nulls":4},{"$f":"_xlfn.TEXTJOIN(\"^\",,D119:D128)","v":"60631^60631^60631^60631^60631"},null,8,{"$nulls":11},{"$f":"_xlfn.TEXTJOIN(\"^\",,S119:S128)","v":"60631^60632^60634"},null,8,{"$nulls":4},60634,60631,{"$nulls":5},{"$f":"_xlfn.TEXTJOIN(\"^\",,AG119:AG128)","v":"60633^60632^60633^60632^60633"},null,8,{"$nulls":5},60634,null,60632,null,null,null,{"$f":"_xlfn.TEXTJOIN(\"^\",,AU119:AU128)","v":"60635^60635^60635"}]
[null,null,6,null,60634,null,60632,60632,null,60631,60632,60632,null,null,null,{"$f":"_xlfn.TEXTJOIN(\"^\",,E119:E128)","v":"60634^60632^60632^60632^60634"},null,6,{"$nulls":11},{"$f":"_xlfn.TEXTJOIN(\"^\",,T119:T128)","v":"60631^60633"},null,6,null,60634,null,60632,60632,60631,60632,{"$nulls":4},{"$f":"_xlfn.TEXTJOIN(\"^\",,AH119:AH128)","v":"60634^60631^60632^60631^60632^60631^60634"},null,6,null,null,60634,null,60632,null,60632,{"$nulls":4},{"$f":"_xlfn.TEXTJOIN(\"^\",,AV119:AV128)","v":"60632^60632^60632"}]
[null,null,4,60631,null,60631,60631,null,60635,60632,60631,60631,60635,null,null,{"$f":"_xlfn.TEXTJOIN(\"^\",,F119:F128)","v":"60632^60631^60633^60634^60633^60631^60632"},null,4,{"$nulls":11},{"$f":"_xlfn.TEXTJOIN(\"^\",,U119:U128)","v":"60631^60632"},null,4,60633,60631,60635,60631,60633,60632,60631,60635,null,null,null,{"$f":"_xlfn.TEXTJOIN(\"^\",,AI119:AI128)","v":"60635^60635^60635^60635^60635"},null,4,60635,null,null,60631,60631,60631,60631,60632,null,null,null,{"$f":"_xlfn.TEXTJOIN(\"^\",,AW119:AW128)","v":"60634^60633^60634"}]
[null,null,2,60631,60632,60633,60631,60633,60635,null,60633,60633,60635,null,null,{"$f":"_xlfn.TEXTJOIN(\"^\",,G119:G128)","v":"60632^60631^60631^60634^60631^60631^60632"},null,2,{"$nulls":11},{"$f":"_xlfn.TEXTJOIN(\"^\",,V119:V128)","v":"60635^60632"},null,2,60632,60632,60635,60633,60631,60634,60633,60635,null,null,null,{"$f":"_xlfn.TEXTJOIN(\"^\",,AJ119:AJ128)","v":"60632^60631^60633^60634^60633^60631^60632"},null,2,null,60632,null,60631,60633,60632,60633,60631,null,null,null,{"$f":"_xlfn.TEXTJOIN(\"^\",,AX119:AX128)","v":"60631^60631^60631^60631"}]
[null,null,1,60631,60632,60634,60634,60632,60635,60632,60631,60633,60635,null,null,{"$f":"_xlfn.TEXTJOIN(\"^\",,H119:H128)","v":"60634^60632^60633^60632^60633^60632^60634"},null,1,60631,60631,60631,60635,60631,60631,60631,60635,null,null,null,{"$f":"_xlfn.TEXTJOIN(\"^\",,W119:W128)","v":"60631^60632^60634"},null,1,60633,60631,60635,60634,60631,60632,60634,60635,null,null,null,{"$f":"_xlfn.TEXTJOIN(\"^\",,AK119:AK128)","v":"60634^60632^60633^60631^60631^60631^60633^60632^60634"},null,1,60635,60632,60633,null,null,60632,60634,60633,null,null,null,{"$f":"_xlfn.TEXTJOIN(\"^\",,AY119:AY128)","v":"60632^60631^60633^60633^60631^60632"}]
[null,null,3,60631,60632,60633,60631,60633,60635,null,60633,60633,60635,null,null,{"$f":"_xlfn.TEXTJOIN(\"^\",,I119:I128)","v":"60635^60635^60635^60635^60635"},null,3,60632,60633,60632,60632,60632,60633,60632,60632,null,null,null,{"$f":"_xlfn.TEXTJOIN(\"^\",,X119:X128)","v":"60631^60633^60632^60634"},null,3,60632,60632,60635,60633,60631,60634,60633,60635,null,null,null,{"$f":"_xlfn.TEXTJOIN(\"^\",,AL119:AL128)","v":"60631^60631^60632^60634^60632^60634^60632^60631^60631"},null,3,null,60632,null,60631,60633,60632,60633,60631,null,null,null,{"$f":"_xlfn.TEXTJOIN(\"^\",,AZ119:AZ128)","v":"60634^60631^60632^60632^60632^60631^60634"}]
[null,null,5,60631,null,60631,60631,null,60635,60632,60631,60631,60635,null,null,{"$f":"_xlfn.TEXTJOIN(\"^\",,J119:J128)","v":"60631^60631^60632^60632^60632^60631^60631"},null,5,60634,null,null,null,60634,60632,60634,60634,null,null,null,{"$f":"_xlfn.TEXTJOIN(\"^\",,Y119:Y128)","v":"60631^60632^60634"},null,5,60633,60631,60635,60631,60633,60632,60631,60635,null,null,null,{"$f":"_xlfn.TEXTJOIN(\"^\",,AM119:AM128)","v":"60632^60631^60633^60634^60633^60631^60632"},null,5,60635,null,null,60631,60631,60631,60631,60632,null,null,null,{"$f":"_xlfn.TEXTJOIN(\"^\",,BA119:BA128)","v":"60632^60631^60633^60634^60633^60631^60632"}]
[null,null,7,null,60634,null,60632,60632,null,60631,60632,60632,null,null,null,{"$f":"_xlfn.TEXTJOIN(\"^\",,K119:K128)","v":"60634^60632^60631^60633^60631^60633^60631^60632^60634"},null,7,{"$nulls":5},60634,{"$nulls":5},{"$f":"_xlfn.TEXTJOIN(\"^\",,Z119:Z128)","v":"60635^60632^60634"},null,7,null,60634,null,60632,60632,60631,60632,{"$nulls":4},{"$f":"_xlfn.TEXTJOIN(\"^\",,AN119:AN128)","v":"60635^60635^60635^60635^60635"},null,7,null,null,60634,null,60632,null,60632,{"$nulls":4},{"$f":"_xlfn.TEXTJOIN(\"^\",,BB119:BB128)","v":"60632^60632^60631^60633^60631^60632^60632"}]
[null,null,9,null,null,60632,null,60634,null,60631,60634,{"$nulls":4},{"$f":"_xlfn.TEXTJOIN(\"^\",,L119:L128)","v":"60632^60631^60633^60633^60633^60631^60632"},null,9,{"$nulls":11},{"$f":"_xlfn.TEXTJOIN(\"^\",,AA119:AA128)","v":""},null,9,{"$nulls":4},60634,60631,{"$nulls":5},{"$f":"_xlfn.TEXTJOIN(\"^\",,AO119:AO128)","v":""},null,9,{"$nulls":5},60634,null,60632,null,null,null,{"$f":"_xlfn.TEXTJOIN(\"^\",,BC119:BC128)","v":""}]
[{"$nulls":15},{"$f":"_xlfn.TEXTJOIN(\"^\",,M119:M128)","v":"60635^60635^60635^60635^60635"},{"$nulls":13},{"$f":"_xlfn.TEXTJOIN(\"^\",,AB119:AB128)","v":""},{"$nulls":13},{"$f":"_xlfn.TEXTJOIN(\"^\",,AP119:AP128)","v":""},{"$nulls":13},{"$f":"_xlfn.TEXTJOIN(\"^\",,BD119:BD128)","v":""}]
[{"$nulls":15},{"$f":"_xlfn.TEXTJOIN(\"^\",,N119:N128)","v":""},{"$nulls":13},{"$f":"_xlfn.TEXTJOIN(\"^\",,AC119:AC128)","v":""},{"$nulls":13},{"$f":"_xlfn.TEXTJOIN(\"^\",,AQ119:AQ128)","v":""},{"$nulls":13},{"$f":"_xlfn.TEXTJOIN(\"^\",,BE119:BE128)","v":""}]
[{"$nulls":14},"最终",{"$f":"_xlfn.TEXTJOIN(\"^\",,P119:P129)","v":"60631^60631^60631^60631^60631^60634^60632^60632^60632^60634^60632^60631^60633^60634^60633^60631^60632^60632^60631^60631^60634^60631^60631^60632^60634^60632^60633^60632^60633^60632^60634^60635^60635^60635^60635^60635^60631^60631^60632^60632^60632^60631^60631^60634^60632^60631^60633^60631^60633^60631^60632^60634^60632^60631^60633^60633^60633^60631^60632^60635^60635^60635^60635^60635"},{"$nulls":12},"最终",{"$f":"_xlfn.TEXTJOIN(\"^\",,AD119:AD129)","v":"60631^60632^60634^60631^60633^60631^60632^60635^60632^60631^60632^60634^60631^60633^60632^60634^60631^60632^60634^60635^60632^60634"},{"$nulls":12},"最终",{"$f":"_xlfn.TEXTJOIN(\"^\",,AR119:AR129)","v":"60633^60632^60633^60632^60633^60634^60631^60632^60631^60632^60631^60634^60635^60635^60635^60635^60635^60632^60631^60633^60634^60633^60631^60632^60634^60632^60633^60631^60631^60631^60633^60632^60634^60631^60631^60632^60634^60632^60634^60632^60631^60631^60632^60631^60633^60634^60633^60631^60632^60635^60635^60635^60635^60635"},{"$nulls":12},"最终",{"$f":"_xlfn.TEXTJOIN(\"^\",,BF119:BF129)","v":"60635^60635^60635^60632^60632^60632^60634^60633^60634^60631^60631^60631^60631^60632^60631^60633^60633^60631^60632^60634^60631^60632^60632^60632^60631^60634^60632^60631^60633^60634^60633^60631^60632^60632^60632^60631^60633^60631^60632^60632"}]
[null,null,8,null,null,"巨魔矛手",null,"火精灵",null,"岩浆蝎","火精灵",{"$nulls":6},8,{"$nulls":13},8,{"$nulls":4},"火精灵","岩浆蝎",{"$nulls":7},8,{"$nulls":5},"火精灵",null,"巨魔矛手"]
[null,null,6,null,"火精灵",null,"巨魔矛手","巨魔矛手",null,"岩浆蝎","巨魔矛手","巨魔矛手",{"$nulls":5},6,{"$nulls":13},6,null,"火精灵",null,"巨魔矛手","巨魔矛手","岩浆蝎","巨魔矛手",{"$nulls":6},6,null,null,"火精灵",null,"巨魔矛手",null,"巨魔矛手"]
[null,null,4,"岩浆蝎",null,"岩浆蝎","岩浆蝎",null,"火山蜘蛛","巨魔矛手","岩浆蝎","岩浆蝎","火山蜘蛛",{"$nulls":4},4,{"$nulls":13},4,"岩浆战士","岩浆蝎","火山蜘蛛","岩浆蝎","岩浆战士","巨魔矛手","岩浆蝎","火山蜘蛛",{"$nulls":5},4,"火山蜘蛛",null,null,"岩浆蝎","岩浆蝎","岩浆蝎","岩浆蝎","巨魔矛手"]
[null,null,2,"岩浆蝎","巨魔矛手","岩浆战士","岩浆蝎","岩浆战士","火山蜘蛛",null,"岩浆战士","岩浆战士","火山蜘蛛",{"$nulls":4},2,{"$nulls":13},2,"巨魔矛手","巨魔矛手","火山蜘蛛","岩浆战士","岩浆蝎","火精灵","岩浆战士","火山蜘蛛",{"$nulls":5},2,null,"巨魔矛手",null,"岩浆蝎","岩浆战士","巨魔矛手","岩浆战士","岩浆蝎"]
[null,null,1,"岩浆蝎","巨魔矛手","火精灵","火精灵","巨魔矛手","火山蜘蛛","巨魔矛手","岩浆蝎","岩浆战士","火山蜘蛛",{"$nulls":4},1,"岩浆蝎","岩浆蝎","岩浆蝎","火山蜘蛛","岩浆蝎","岩浆蝎","岩浆蝎","火山蜘蛛",{"$nulls":5},1,"岩浆战士","岩浆蝎","火山蜘蛛","火精灵","岩浆蝎","巨魔矛手","火精灵","火山蜘蛛",{"$nulls":5},1,"火山蜘蛛","巨魔矛手","岩浆战士",null,null,"巨魔矛手","火精灵","岩浆战士"]
[null,null,3,"岩浆蝎","巨魔矛手","岩浆战士","岩浆蝎","岩浆战士","火山蜘蛛",null,"岩浆战士","岩浆战士","火山蜘蛛",{"$nulls":4},3,"巨魔矛手","岩浆战士","巨魔矛手","巨魔矛手","巨魔矛手","岩浆战士","巨魔矛手","巨魔矛手",{"$nulls":5},3,"巨魔矛手","巨魔矛手","火山蜘蛛","岩浆战士","岩浆蝎","火精灵","岩浆战士","火山蜘蛛",{"$nulls":5},3,null,"巨魔矛手",null,"岩浆蝎","岩浆战士","巨魔矛手","岩浆战士","岩浆蝎"]
[null,null,5,"岩浆蝎",null,"岩浆蝎","岩浆蝎",null,"火山蜘蛛","巨魔矛手","岩浆蝎","岩浆蝎","火山蜘蛛",{"$nulls":4},5,"火精灵",null,null,null,"火精灵","巨魔矛手","火精灵","火精灵",{"$nulls":5},5,"岩浆战士","岩浆蝎","火山蜘蛛","岩浆蝎","岩浆战士","巨魔矛手","岩浆蝎","火山蜘蛛",{"$nulls":5},5,"火山蜘蛛",null,null,"岩浆蝎","岩浆蝎","岩浆蝎","岩浆蝎","巨魔矛手"]
[null,null,7,null,"火精灵",null,"巨魔矛手","巨魔矛手",null,"岩浆蝎","巨魔矛手","巨魔矛手",{"$nulls":5},7,{"$nulls":5},"火精灵",{"$nulls":7},7,null,"火精灵",null,"巨魔矛手","巨魔矛手","岩浆蝎","巨魔矛手",{"$nulls":6},7,null,null,"火精灵",null,"巨魔矛手",null,"巨魔矛手"]
[null,null,9,null,null,"巨魔矛手",null,"火精灵",null,"岩浆蝎","火精灵",{"$nulls":6},9,{"$nulls":13},9,{"$nulls":4},"火精灵","岩浆蝎",{"$nulls":7},9,{"$nulls":5},"火精灵",null,"巨魔矛手"]
[]
[null,null,"位置",5,10,17,25,35,40,50,60,70,75,{"$nulls":4},"位置",5,10,15,25,40,56,73,80,{"$nulls":5},"位置",4,10,15,22,30,40,50,55,null,null,null,{"$f":"_xlfn.TEXTJOIN(\"^\",,AG142:AG156)","v":"4^2^1^3^5"},null,"位置",3,5,8,12,20,30,40,50,null,null,null,{"$f":"_xlfn.TEXTJOIN(\"^\",,AU142:AU156)","v":"101^103^105"}]
[null,null,8,null,null,{"$f":"$C142","v":8},null,{"$f":"$C142","v":8},null,{"$f":"$C142","v":8},8,{"$nulls":4},{"$f":"_xlfn.TEXTJOIN(\"^\",,D142:D156)","v":"4^2^1^3^5"},null,8,{"$nulls":13},8,{"$nulls":4},{"$f":"$C142","v":8},8,{"$nulls":5},{"$f":"_xlfn.TEXTJOIN(\"^\",,AH142:AH156)","v":"6^4^2^1^3^5^7"},null,8,{"$nulls":5},{"$f":"$C142","v":8},null,{"$f":"$C142","v":8},null,null,null,{"$f":"_xlfn.TEXTJOIN(\"^\",,AV142:AV156)","v":"2^1^3"}]
[null,null,6,null,{"$f":"$C143","v":6},null,{"$f":"$C143","v":6},6,null,6,6,6,null,null,null,{"$f":"_xlfn.TEXTJOIN(\"^\",,E142:E156)","v":"6^2^1^3^7"},null,6,{"$nulls":11},{"$f":"_xlfn.TEXTJOIN(\"^\",,S142:S156)","v":"0^0^0"},null,6,null,{"$f":"$C143","v":6},null,{"$f":"$C143","v":6},6,6,6,{"$nulls":4},{"$f":"_xlfn.TEXTJOIN(\"^\",,AI142:AI156)","v":"101^102^103^104^105"},null,6,null,null,{"$f":"$C143","v":6},null,{"$f":"$C143","v":6},null,{"$f":"$C143","v":6},{"$nulls":4},{"$f":"_xlfn.TEXTJOIN(\"^\",,AW142:AW156)","v":"6^1^7"}]
[null,null,4,{"$f":"$C144","v":4},null,{"$f":"$C144","v":4},4,null,null,4,4,4,null,null,null,{"$f":"_xlfn.TEXTJOIN(\"^\",,F142:F156)","v":"8^4^2^1^3^5^9"},null,4,{"$nulls":11},{"$f":"_xlfn.TEXTJOIN(\"^\",,T142:T156)","v":"0^0"},null,4,{"$f":"$C144","v":4},{"$f":"$C144","v":4},null,4,4,4,4,{"$nulls":4},{"$f":"_xlfn.TEXTJOIN(\"^\",,AJ142:AJ156)","v":"6^4^2^1^3^5^7"},null,4,null,null,null,{"$f":"$C144","v":4},4,4,4,4,null,null,null,{"$f":"_xlfn.TEXTJOIN(\"^\",,AX142:AX156)","v":"4^2^3^5"}]
[null,null,2,{"$f":"$C145","v":2},{"$f":"$C145","v":2},2,2,{"$f":"$C145","v":2},null,null,2,{"$f":"$C145","v":2},null,null,null,{"$f":"_xlfn.TEXTJOIN(\"^\",,G142:G156)","v":"6^4^2^1^3^5^7"},null,2,{"$nulls":11},{"$f":"_xlfn.TEXTJOIN(\"^\",,U142:U156)","v":"0^0"},null,2,{"$f":"$C145","v":2},2,null,2,2,2,2,{"$nulls":4},{"$f":"_xlfn.TEXTJOIN(\"^\",,AK142:AK156)","v":"8^6^4^2^1^3^5^7^9"},null,2,null,{"$f":"$C145","v":2},null,2,2,2,2,2,null,null,null,{"$f":"_xlfn.TEXTJOIN(\"^\",,AY142:AY156)","v":"6^4^2^3^5^7"}]
[null,null,1,{"$f":"$C146","v":1},1,1,1,{"$f":"$C146","v":1},null,{"$f":"$C146","v":1},1,{"$f":"$C146","v":1},null,null,null,{"$f":"_xlfn.TEXTJOIN(\"^\",,H142:H156)","v":"8^6^2^1^3^7^9"},null,1,0,0,0,100,0,0,0,100,null,null,null,{"$f":"_xlfn.TEXTJOIN(\"^\",,V142:V156)","v":"100^0"},null,1,1,1,null,1,1,1,1,{"$nulls":4},{"$f":"_xlfn.TEXTJOIN(\"^\",,AL142:AL156)","v":"8^6^4^2^1^3^5^7^9"},null,1,null,1,{"$f":"$C146","v":1},null,null,1,1,1,null,null,null,{"$f":"_xlfn.TEXTJOIN(\"^\",,AZ142:AZ156)","v":"8^4^2^1^3^5^9"}]
[null,null,3,{"$f":"$C147","v":3},3,3,3,{"$f":"$C147","v":3},null,null,3,{"$f":"$C147","v":3},null,null,null,{"$f":"_xlfn.TEXTJOIN(\"^\",,I142:I156)","v":"101^102^103^104^105"},null,3,0,0,0,0,0,0,0,0,null,null,null,{"$f":"_xlfn.TEXTJOIN(\"^\",,W142:W156)","v":"0^0^0"},null,3,3,3,null,3,3,3,3,{"$nulls":4},{"$f":"_xlfn.TEXTJOIN(\"^\",,AM142:AM156)","v":"6^4^2^1^3^5^7"},null,3,null,3,null,{"$f":"$C147","v":3},3,3,3,3,null,null,null,{"$f":"_xlfn.TEXTJOIN(\"^\",,BA142:BA156)","v":"6^4^2^1^3^5^7"}]
[null,null,5,5,null,5,5,null,null,{"$f":"$C148","v":5},5,5,null,null,null,{"$f":"_xlfn.TEXTJOIN(\"^\",,J142:J156)","v":"8^6^4^1^5^7^9"},null,5,0,null,null,null,0,0,0,0,null,null,null,{"$f":"_xlfn.TEXTJOIN(\"^\",,X142:X156)","v":"0^0^0^0"},null,5,{"$f":"$C148","v":5},5,null,5,5,5,5,{"$nulls":4},{"$f":"_xlfn.TEXTJOIN(\"^\",,AN142:AN156)","v":"101^102^103^104^105"},null,5,null,null,null,5,5,5,5,5,null,null,null,{"$f":"_xlfn.TEXTJOIN(\"^\",,BB142:BB156)","v":"8^4^2^1^3^5^9"}]
[null,null,7,null,{"$f":"$C149","v":7},null,7,7,null,7,7,7,null,null,null,{"$f":"_xlfn.TEXTJOIN(\"^\",,K142:K156)","v":"8^6^4^2^1^3^5^7^9"},null,7,{"$nulls":5},0,{"$nulls":5},{"$f":"_xlfn.TEXTJOIN(\"^\",,Y142:Y156)","v":"0^0^0"},null,7,null,{"$f":"$C149","v":7},null,7,7,7,7,{"$nulls":4},{"$f":"_xlfn.TEXTJOIN(\"^\",,AO142:AO156)","v":""},null,7,null,null,{"$f":"$C149","v":7},null,7,null,7,{"$nulls":4},{"$f":"_xlfn.TEXTJOIN(\"^\",,BC142:BC156)","v":""}]
[null,null,9,null,null,{"$f":"$C150","v":9},null,9,null,9,9,{"$nulls":4},{"$f":"_xlfn.TEXTJOIN(\"^\",,L142:L156)","v":"6^4^2^1^3^5^7"},null,9,{"$nulls":13},9,{"$nulls":4},9,9,{"$nulls":5},{"$f":"_xlfn.TEXTJOIN(\"^\",,AP142:AP156)","v":""},null,9,{"$nulls":5},{"$f":"$C150","v":9},null,{"$f":"$C150","v":9},null,null,null,{"$f":"_xlfn.TEXTJOIN(\"^\",,BD142:BD156)","v":""}]
[null,null,"空降",{"$nulls":12},{"$f":"_xlfn.TEXTJOIN(\"^\",,M142:M156)","v":"101^102^103^104^105"},null,"空降",{"$nulls":13},"空降",{"$nulls":11},{"$f":"_xlfn.TEXTJOIN(\"^\",,AQ142:AQ150)","v":""},null,"空降",{"$nulls":11},{"$f":"_xlfn.TEXTJOIN(\"^\",,BE142:BE150)","v":""}]
[null,null,101,{"$nulls":5},{"$f":"$C152","v":101},null,null,null,{"$f":"$C152","v":101},null,null,{"$f":"_xlfn.TEXTJOIN(\"^\",,N142:N156)","v":""},null,101,{"$nulls":11},{"$f":"_xlfn.TEXTJOIN(\"^\",,Z142:Z156)","v":"100^0^0"},null,101,null,null,{"$f":"$C152","v":101},{"$nulls":4},{"$f":"$C152","v":101},{"$nulls":5},101,{"$f":"$C152","v":101}]
[null,null,102,{"$nulls":5},102,null,null,null,102,{"$nulls":4},102,{"$nulls":11},{"$f":"_xlfn.TEXTJOIN(\"^\",,AA142:AA156)","v":""},null,102,null,null,102,{"$nulls":4},102,{"$nulls":5},102]
[null,null,103,{"$nulls":5},103,null,null,null,103,{"$nulls":4},103,{"$nulls":11},{"$f":"_xlfn.TEXTJOIN(\"^\",,AB142:AB156)","v":""},null,103,null,null,103,{"$nulls":4},103,{"$nulls":5},103,{"$f":"$C154","v":103}]
[null,null,104,{"$nulls":5},104,null,null,null,104,{"$nulls":4},104,{"$nulls":13},104,null,null,104,{"$nulls":4},104,{"$nulls":5},104]
[null,null,105,{"$nulls":5},105,null,null,null,105,{"$nulls":4},105,{"$nulls":13},105,null,null,105,{"$nulls":4},105,{"$nulls":5},105,{"$f":"$C156","v":105}]
[{"$nulls":14},"最终",{"$f":"_xlfn.TEXTJOIN(\"^\",,P142:P156)","v":"4^2^1^3^5^6^2^1^3^7^8^4^2^1^3^5^9^6^4^2^1^3^5^7^8^6^2^1^3^7^9^101^102^103^104^105^8^6^4^1^5^7^9^8^6^4^2^1^3^5^7^9^6^4^2^1^3^5^7^101^102^103^104^105"},{"$nulls":12},"最终",{"$f":"_xlfn.TEXTJOIN(\"^\",,AD142:AD156)","v":"0^0^0^0^0^0^0^100^0^0^0^0^0^0^0^0^0^0^0^100^0^0"},{"$nulls":12},"最终",{"$f":"_xlfn.TEXTJOIN(\"^\",,AR141:AR156)","v":"4^2^1^3^5^6^4^2^1^3^5^7^101^102^103^104^105^6^4^2^1^3^5^7^8^6^4^2^1^3^5^7^9^8^6^4^2^1^3^5^7^9^6^4^2^1^3^5^7^101^102^103^104^105"},{"$nulls":12},"最终",{"$f":"_xlfn.TEXTJOIN(\"^\",,BF141:BF156)","v":"101^103^105^2^1^3^6^1^7^4^2^3^5^6^4^2^3^5^7^8^4^2^1^3^5^9^6^4^2^1^3^5^7^8^4^2^1^3^5^9"}]
[]
[null,null,"时间",5,10,17,25,35,40,50,60,70,75,{"$nulls":4},"时间",5,10,15,25,40,56,73,80,null,null,null,{"$f":"_xlfn.TEXTJOIN(\"^\",,S160:S168)","v":"17^5^4"},null,"时间",4,10,15,22,30,40,50,55,null,null,null,{"$f":"_xlfn.TEXTJOIN(\"^\",,AG160:AG168)","v":"4^4^4^4^4"},null,"时间",3,5,8,12,20,30,40,50,null,null,null,{"$f":"_xlfn.TEXTJOIN(\"^\",,AU160:AU168)","v":"3^3^3"}]
[null,null,8,null,null,{"$f":"F$159","v":17},null,{"$f":"H$159","v":35},null,{"$f":"J$159","v":50},60,{"$nulls":4},{"$f":"_xlfn.TEXTJOIN(\"^\",,D160:D169)","v":"5^5^5^5^5"},null,8,{"$nulls":11},{"$f":"_xlfn.TEXTJOIN(\"^\",,T160:T168)","v":"12^3"},null,8,{"$nulls":4},{"$f":"AK$159","v":30},40,{"$nulls":5},{"$f":"_xlfn.TEXTJOIN(\"^\",,AH160:AH168)","v":"10^10^10^10^10^10^10"},null,8,{"$nulls":5},{"$f":"AZ$159","v":30},null,{"$f":"BB$159","v":50},null,null,null,{"$f":"_xlfn.TEXTJOIN(\"^\",,AV160:AV168)","v":"5^5^5"}]
[null,null,6,null,{"$f":"E$159","v":10},null,{"$f":"G$159","v":25},35,null,50,60,70,null,null,null,{"$f":"_xlfn.TEXTJOIN(\"^\",,E160:E169)","v":"10^10^10^10^10"},null,6,{"$nulls":11},{"$f":"_xlfn.TEXTJOIN(\"^\",,U160:U168)","v":"12^4"},null,6,null,{"$f":"AH$159","v":10},null,{"$f":"AJ$159","v":22},30,40,50,{"$nulls":4},{"$f":"_xlfn.TEXTJOIN(\"^\",,AI160:AI168)","v":"15^15^15^15^15"},null,6,null,null,{"$f":"AW$159","v":8},null,{"$f":"AY$159","v":20},null,{"$f":"BA$159","v":40},{"$nulls":4},{"$f":"_xlfn.TEXTJOIN(\"^\",,AW160:AW168)","v":"8^8^8"}]
[null,null,4,{"$f":"D$159","v":5},null,{"$f":"F$159","v":17},25,null,{"$f":"I$159","v":40},50,60,70,75,null,null,{"$f":"_xlfn.TEXTJOIN(\"^\",,F160:F169)","v":"17^17^17^17^17^17^17"},null,4,{"$nulls":11},{"$f":"_xlfn.TEXTJOIN(\"^\",,V160:V168)","v":"8^5"},null,4,{"$f":"AG$159","v":4},{"$f":"AH$159","v":10},15,22,30,40,50,55,null,null,null,{"$f":"_xlfn.TEXTJOIN(\"^\",,AJ160:AJ168)","v":"22^22^22^22^22^22^22"},null,4,{"$f":"AU$159","v":3},null,null,{"$f":"AX$159","v":12},20,30,40,{"$f":"BB$159","v":50},null,null,null,{"$f":"_xlfn.TEXTJOIN(\"^\",,AX160:AX168)","v":"12^12^12^12"}]
[null,null,2,5,10,17,25,{"$f":"H$159","v":35},40,null,{"$f":"K$159","v":60},{"$f":"L$159","v":70},75,null,null,{"$f":"_xlfn.TEXTJOIN(\"^\",,G160:G169)","v":"25^25^25^25^25^25^25"},null,2,{"$nulls":11},{"$f":"_xlfn.TEXTJOIN(\"^\",,W160:W168)","v":"13^3^2"},null,2,{"$f":"AG$159","v":4},10,15,22,30,40,50,55,null,null,null,{"$f":"_xlfn.TEXTJOIN(\"^\",,AK160:AK168)","v":"30^30^30^30^30^30^30^30^30"},null,2,null,{"$f":"AV$159","v":5},null,12,20,30,40,50,null,null,null,{"$f":"_xlfn.TEXTJOIN(\"^\",,AY160:AY168)","v":"20^20^20^20^20^20"}]
[null,null,1,5,10,17,25,35,40,{"$f":"J$159","v":50},60,70,75,null,null,{"$f":"_xlfn.TEXTJOIN(\"^\",,H160:H169)","v":"35^35^35^35^35^35^35"},null,1,17,12,12,8,13,12,13,8,null,null,null,{"$f":"_xlfn.TEXTJOIN(\"^\",,X160:X168)","v":"12^2^3^2"},null,1,4,10,15,22,30,40,50,55,null,null,null,{"$f":"_xlfn.TEXTJOIN(\"^\",,AL160:AL168)","v":"40^40^40^40^40^40^40^40^40"},null,1,{"$f":"AU$159","v":3},5,{"$f":"AW$159","v":8},null,null,30,40,50,null,null,null,{"$f":"_xlfn.TEXTJOIN(\"^\",,AZ160:AZ168)","v":"30^30^30^30^30^30^30"}]
[null,null,3,5,10,17,25,{"$f":"H$159","v":35},40,null,60,{"$f":"L$159","v":70},75,null,null,{"$f":"_xlfn.TEXTJOIN(\"^\",,I160:I169)","v":"40^40^40^40^40"},null,3,5,3,4,5,3,2,4,4,null,null,null,{"$f":"_xlfn.TEXTJOIN(\"^\",,Y160:Y168)","v":"13^4^2"},null,3,4,10,15,22,30,40,50,55,null,null,null,{"$f":"_xlfn.TEXTJOIN(\"^\",,AM160:AM168)","v":"50^50^50^50^50^50^50"},null,3,null,5,null,{"$f":"AX$159","v":12},20,30,40,50,null,null,null,{"$f":"_xlfn.TEXTJOIN(\"^\",,BA160:BA168)","v":"40^40^40^40^40^40^40"}]
[null,null,5,5,null,17,25,null,40,50,60,70,75,null,null,{"$f":"_xlfn.TEXTJOIN(\"^\",,J160:J169)","v":"50^50^50^50^50^50^50"},null,5,4,null,null,null,2,3,2,2,null,null,null,{"$f":"_xlfn.TEXTJOIN(\"^\",,Z160:Z168)","v":"8^4^2"},null,5,{"$f":"AG$159","v":4},10,15,22,30,40,50,55,null,null,null,{"$f":"_xlfn.TEXTJOIN(\"^\",,AN160:AN168)","v":"55^55^55^55^55"},null,5,{"$f":"AU$159","v":3},null,null,12,20,30,40,50,null,null,null,{"$f":"_xlfn.TEXTJOIN(\"^\",,BB160:BB168)","v":"50^50^50^50^50^50^50"}]
[null,null,7,null,{"$f":"E$159","v":10},null,25,35,null,50,60,70,null,null,null,{"$f":"_xlfn.TEXTJOIN(\"^\",,K160:K169)","v":"60^60^60^60^60^60^60^60^60"},null,7,{"$nulls":5},2,{"$nulls":5},{"$f":"_xlfn.TEXTJOIN(\"^\",,AA160:AA168)","v":""},null,7,null,{"$f":"AH$159","v":10},null,22,30,40,50,{"$nulls":4},{"$f":"_xlfn.TEXTJOIN(\"^\",,AO160:AO168)","v":""},null,7,null,null,{"$f":"AW$159","v":8},null,20,null,40,{"$nulls":4},{"$f":"_xlfn.TEXTJOIN(\"^\",,BC160:BC168)","v":""}]
[null,null,9,null,null,{"$f":"F$159","v":17},null,35,null,50,60,{"$nulls":4},{"$f":"_xlfn.TEXTJOIN(\"^\",,L160:L169)","v":"70^70^70^70^70^70^70"},null,9,{"$nulls":11},{"$f":"_xlfn.TEXTJOIN(\"^\",,AB160:AB168)","v":""},null,9,{"$nulls":4},30,40,{"$nulls":5},{"$f":"_xlfn.TEXTJOIN(\"^\",,AP160:AP168)","v":""},null,9,{"$nulls":5},{"$f":"AZ$159","v":30},null,{"$f":"BB$159","v":50},null,null,null,{"$f":"_xlfn.TEXTJOIN(\"^\",,BD160:BD168)","v":""}]
[{"$nulls":15},{"$f":"_xlfn.TEXTJOIN(\"^\",,M160:M169)","v":"75^75^75^75^75"},{"$nulls":13},{"$f":"_xlfn.TEXTJOIN(\"^\",,AC160:AC168)","v":""},{"$nulls":13},{"$f":"_xlfn.TEXTJOIN(\"^\",,AQ160:AQ168)","v":""},{"$nulls":13},{"$f":"_xlfn.TEXTJOIN(\"^\",,BE160:BE168)","v":""}]
[{"$nulls":15},{"$f":"_xlfn.TEXTJOIN(\"^\",,N160:N169)","v":""},{"$nulls":12},"最终",{"$f":"_xlfn.TEXTJOIN(\"^\",,AD159:AD169)","v":"17^5^4^12^3^12^4^8^5^13^3^2^12^2^3^2^13^4^2^8^4^2"},{"$nulls":12},"最终",{"$f":"_xlfn.TEXTJOIN(\"^\",,AR159:AR169)","v":"4^4^4^4^4^10^10^10^10^10^10^10^15^15^15^15^15^22^22^22^22^22^22^22^30^30^30^30^30^30^30^30^30^40^40^40^40^40^40^40^40^40^50^50^50^50^50^50^50^55^55^55^55^55"},{"$nulls":12},"最终",{"$f":"_xlfn.TEXTJOIN(\"^\",,BF159:BF169)","v":"3^3^3^5^5^5^8^8^8^12^12^12^12^20^20^20^20^20^20^30^30^30^30^30^30^30^40^40^40^40^40^40^40^50^50^50^50^50^50^50"}]
[{"$nulls":14},"最终",{"$f":"_xlfn.TEXTJOIN(\"^\",,P160:P170)","v":"5^5^5^5^5^10^10^10^10^10^17^17^17^17^17^17^17^25^25^25^25^25^25^25^35^35^35^35^35^35^35^40^40^40^40^40^50^50^50^50^50^50^50^60^60^60^60^60^60^60^60^60^70^70^70^70^70^70^70^75^75^75^75^75"}]
[{"$nulls":15},{"$f":"COUNT(D160:M168)","v":64},{"$nulls":13},{"$f":"SUM(S160:Z168)","v":140},{"$nulls":13},{"$f":"COUNT(AG160:AN168)","v":54},{"$nulls":13},{"$f":"COUNT(AU160:BB168)","v":40}]
[{"$nulls":57},{"$f":"SUM(P172:BF172)","v":298}]
[]
[{"$nulls":4},{"$f":"E176-D176","v":10},{"$f":"F176-E176","v":15},15,5,15,16,17,7,15,{"$nulls":6},{"$f":"T176-S176","v":5},5,7,8,10,10,5,{"$nulls":7},{"$f":"AH176-AG176","v":6},5,15,16,17,7,15,{"$nulls":7},{"$f":"AV176-AU176","v":2},3,4,6,7,10,10]
[3,"熔岩-4","波1·怪物",5,15,30,45,50,65,81,98,105,120,null,null,null,1,"波2·怪物",5,10,15,22,30,40,50,55,{"$nulls":4},3,"波3·怪物",4,10,15,30,46,63,70,85,{"$nulls":4},1,"波4·怪物",3,5,8,12,18,25,35,45]
[null,"5m",8,{"$nulls":12},{"$f":"_xlfn.TEXTJOIN(\"^\",,D177:D186)","v":"60641^60642^60644"},null,8,{"$nulls":4},60644,60642,60644,{"$nulls":4},{"$f":"_xlfn.TEXTJOIN(\"^\",,S177:S186)","v":"60644^60641^60641^60641^60644"},null,8,{"$nulls":11},{"$f":"_xlfn.TEXTJOIN(\"^\",,AG177:AG186)","v":"60645^60641^60642"},null,8,{"$nulls":5},60644,null,60642,null,null,null,{"$f":"_xlfn.TEXTJOIN(\"^\",,AU177:AU186)","v":"60643^60643^60643"}]
[null,null,6,{"$nulls":12},{"$f":"_xlfn.TEXTJOIN(\"^\",,E177:E186)","v":"60641^60643"},null,6,null,60642,null,60642,null,null,60642,{"$nulls":4},{"$f":"_xlfn.TEXTJOIN(\"^\",,T177:T186)","v":"60642^60642^60641^60643^60641^60642^60642"},null,6,{"$nulls":11},{"$f":"_xlfn.TEXTJOIN(\"^\",,AH177:AH186)","v":"60641^60642^60644"},null,6,null,60642,null,null,null,60642,60642,60644,null,null,null,{"$f":"_xlfn.TEXTJOIN(\"^\",,AV177:AV186)","v":"60642^60642^60642"}]
[null,null,4,{"$nulls":12},{"$f":"_xlfn.TEXTJOIN(\"^\",,F177:F186)","v":"60641^60643^60642^60644"},null,4,60644,60642,60645,60643,60642,60641,60641,60645,null,null,null,{"$f":"_xlfn.TEXTJOIN(\"^\",,U177:U186)","v":"60645^60645^60645^60645^60645"},null,4,{"$nulls":11},{"$f":"_xlfn.TEXTJOIN(\"^\",,AI177:AI186)","v":"60641^60643"},null,4,60643,null,null,60641,60645,null,60641,60642,null,null,null,{"$f":"_xlfn.TEXTJOIN(\"^\",,AW177:AW186)","v":"60644^60644"}]
[null,null,2,{"$nulls":12},{"$f":"_xlfn.TEXTJOIN(\"^\",,G177:G186)","v":"60641^60642"},null,2,60641,60641,60645,60644,60641,60643,60641,60645,null,null,null,{"$f":"_xlfn.TEXTJOIN(\"^\",,V177:V186)","v":"60642^60643^60644^60643^60644^60643^60642"},null,2,{"$nulls":11},{"$f":"_xlfn.TEXTJOIN(\"^\",,AJ177:AJ186)","v":"60641^60642^60643"},null,2,null,null,60644,60641,60645,60643,60641,60643,null,null,null,{"$f":"_xlfn.TEXTJOIN(\"^\",,AX177:AX186)","v":"60641^60641^60641^60641"}]
[null,null,1,60641,60641,60641,60641,60645,60641,60641,60641,60645,60641,null,null,{"$f":"_xlfn.TEXTJOIN(\"^\",,H177:H186)","v":"60645^60642"},null,1,60641,60643,60645,60643,60643,60642,60642,60645,null,null,null,{"$f":"_xlfn.TEXTJOIN(\"^\",,W177:W186)","v":"60644^60642^60641^60643^60641^60642^60644"},null,1,60645,60641,60641,60641,60641,60641,60645,60641,null,null,null,{"$f":"_xlfn.TEXTJOIN(\"^\",,AK177:AK186)","v":"60641^60642^60644"},null,1,60643,60642,{"$nulls":4},60644,{"$nulls":4},{"$f":"_xlfn.TEXTJOIN(\"^\",,AY177:AY186)","v":"60645^60645^60645^60645"}]
[null,null,3,60642,60643,60643,60642,60642,60642,60643,60642,60643,60643,null,null,{"$f":"_xlfn.TEXTJOIN(\"^\",,I177:I186)","v":"60641^60642^60643^60644"},null,3,60641,60641,60645,60644,60641,60643,60641,60645,null,null,null,{"$f":"_xlfn.TEXTJOIN(\"^\",,X177:X186)","v":"60642^60641^60643^60642^60643^60641^60642"},null,3,60641,60642,60643,60642,60642,60643,60642,60643,null,null,null,{"$f":"_xlfn.TEXTJOIN(\"^\",,AL177:AL186)","v":"60641^60643^60642"},null,3,null,null,60644,60641,60645,60643,60641,60643,null,null,null,{"$f":"_xlfn.TEXTJOIN(\"^\",,AZ177:AZ186)","v":"60644^60642^60643^60643^60642^60644"}]
[null,null,5,60644,null,60642,null,null,60643,60642,60644,60644,60642,null,null,{"$f":"_xlfn.TEXTJOIN(\"^\",,J177:J186)","v":"60641^60643^60642"},null,5,60644,60642,60645,60643,60642,60641,60641,60645,null,null,null,{"$f":"_xlfn.TEXTJOIN(\"^\",,Y177:Y186)","v":"60644^60642^60641^60641^60642^60641^60641^60642^60644"},null,5,60642,60644,null,60643,60644,60642,null,60642,null,null,null,{"$f":"_xlfn.TEXTJOIN(\"^\",,AM177:AM186)","v":"60645^60642"},null,5,60643,null,null,60641,60645,null,60641,60642,null,null,null,{"$f":"_xlfn.TEXTJOIN(\"^\",,BA177:BA186)","v":"60642^60641^60641^60644^60641^60641^60642"}]
[null,null,7,null,null,60644,null,null,60644,{"$nulls":6},{"$f":"_xlfn.TEXTJOIN(\"^\",,K177:K186)","v":"60641^60642^60644"},null,7,null,60642,null,60642,null,null,60642,{"$nulls":4},{"$f":"_xlfn.TEXTJOIN(\"^\",,Z177:Z186)","v":"60645^60645^60645^60645^60645"},null,7,{"$nulls":7},60644,null,null,null,{"$f":"_xlfn.TEXTJOIN(\"^\",,AN177:AN186)","v":"60641^60643^60642^60644"},null,7,null,60642,null,null,null,60642,60642,60644,null,null,null,{"$f":"_xlfn.TEXTJOIN(\"^\",,BB177:BB186)","v":"60642^60644^60642^60643^60643^60642^60644^60642"}]
[null,null,9,{"$nulls":12},{"$f":"_xlfn.TEXTJOIN(\"^\",,L177:L186)","v":"60645^60643^60644"},null,9,{"$nulls":4},60644,60642,60644,{"$nulls":4},{"$f":"_xlfn.TEXTJOIN(\"^\",,AA177:AA186)","v":""},null,9,{"$nulls":11},{"$f":"_xlfn.TEXTJOIN(\"^\",,AO177:AO186)","v":""},null,9,{"$nulls":5},60644,null,60642,null,null,null,{"$f":"_xlfn.TEXTJOIN(\"^\",,BC177:BC186)","v":""}]
[{"$nulls":15},{"$f":"_xlfn.TEXTJOIN(\"^\",,M177:M186)","v":"60641^60643^60642"},{"$nulls":13},{"$f":"_xlfn.TEXTJOIN(\"^\",,AB177:AB186)","v":""},{"$nulls":13},{"$f":"_xlfn.TEXTJOIN(\"^\",,AP177:AP186)","v":""},{"$nulls":13},{"$f":"_xlfn.TEXTJOIN(\"^\",,BD177:BD186)","v":""}]
[{"$nulls":15},{"$f":"_xlfn.TEXTJOIN(\"^\",,N177:N186)","v":""},{"$nulls":13},{"$f":"_xlfn.TEXTJOIN(\"^\",,AC177:AC186)","v":""},{"$nulls":13},{"$f":"_xlfn.TEXTJOIN(\"^\",,AQ177:AQ186)","v":""},{"$nulls":13},{"$f":"_xlfn.TEXTJOIN(\"^\",,BE177:BE186)","v":""}]
[{"$nulls":14},"最终",{"$f":"_xlfn.TEXTJOIN(\"^\",,P177:P187)","v":"60641^60642^60644^60641^60643^60641^60643^60642^60644^60641^60642^60645^60642^60641^60642^60643^60644^60641^60643^60642^60641^60642^60644^60645^60643^60644^60641^60643^60642"},{"$nulls":12},"最终",{"$f":"_xlfn.TEXTJOIN(\"^\",,AD177:AD187)","v":"60644^60641^60641^60641^60644^60642^60642^60641^60643^60641^60642^60642^60645^60645^60645^60645^60645^60642^60643^60644^60643^60644^60643^60642^60644^60642^60641^60643^60641^60642^60644^60642^60641^60643^60642^60643^60641^60642^60644^60642^60641^60641^60642^60641^60641^60642^60644^60645^60645^60645^60645^60645"},{"$nulls":12},"最终",{"$f":"_xlfn.TEXTJOIN(\"^\",,AR177:AR187)","v":"60645^60641^60642^60641^60642^60644^60641^60643^60641^60642^60643^60641^60642^60644^60641^60643^60642^60645^60642^60641^60643^60642^60644"},{"$nulls":12},"最终",{"$f":"_xlfn.TEXTJOIN(\"^\",,BF177:BF187)","v":"60643^60643^60643^60642^60642^60642^60644^60644^60641^60641^60641^60641^60645^60645^60645^60645^60644^60642^60643^60643^60642^60644^60642^60641^60641^60644^60641^60641^60642^60642^60644^60642^60643^60643^60642^60644^60642"}]
[null,null,8,{"$nulls":14},8,{"$nulls":4},"火精灵","巨魔矛手","火精灵",{"$nulls":6},8,{"$nulls":13},8,{"$nulls":5},"火精灵",null,"巨魔矛手"]
[null,null,6,{"$nulls":14},6,null,"巨魔矛手",null,"巨魔矛手",null,null,"巨魔矛手",{"$nulls":6},6,{"$nulls":13},6,null,"巨魔矛手",null,null,null,"巨魔矛手","巨魔矛手","火精灵"]
[null,null,4,{"$nulls":14},4,"火精灵","巨魔矛手","火山蜘蛛","岩浆战士","巨魔矛手","岩浆蝎","岩浆蝎","火山蜘蛛",{"$nulls":5},4,{"$nulls":13},4,"岩浆战士",null,null,"岩浆蝎","火山蜘蛛",null,"岩浆蝎","巨魔矛手"]
[null,null,2,{"$nulls":14},2,"岩浆蝎","岩浆蝎","火山蜘蛛","火精灵","岩浆蝎","岩浆战士","岩浆蝎","火山蜘蛛",{"$nulls":5},2,{"$nulls":13},2,null,null,"火精灵","岩浆蝎","火山蜘蛛","岩浆战士","岩浆蝎","岩浆战士"]
[null,null,1,"岩浆蝎","岩浆蝎","岩浆蝎","岩浆蝎","火山蜘蛛","岩浆蝎","岩浆蝎","岩浆蝎","火山蜘蛛","岩浆蝎",{"$nulls":4},1,"岩浆蝎","岩浆战士","火山蜘蛛","岩浆战士","岩浆战士","巨魔矛手","巨魔矛手",{"$nulls":6},1,"火山蜘蛛","岩浆蝎","岩浆蝎","岩浆蝎","岩浆蝎","岩浆蝎","火山蜘蛛","岩浆蝎",{"$nulls":5},1,"岩浆战士","巨魔矛手",{"$nulls":4},"火精灵"]
[null,null,3,"巨魔矛手","岩浆战士","岩浆战士","巨魔矛手","巨魔矛手","巨魔矛手","岩浆战士","巨魔矛手","岩浆战士","岩浆战士",{"$nulls":4},3,"岩浆蝎","岩浆蝎","火山蜘蛛","火精灵","岩浆蝎","岩浆战士","岩浆蝎","火山蜘蛛",{"$nulls":5},3,"岩浆蝎","巨魔矛手","岩浆战士","巨魔矛手","巨魔矛手","岩浆战士","巨魔矛手","岩浆战士",{"$nulls":5},3,null,null,"火精灵","岩浆蝎","火山蜘蛛","岩浆战士","岩浆蝎","岩浆战士"]
[null,null,5,"火精灵",null,"巨魔矛手",null,null,"岩浆战士","巨魔矛手","火精灵","火精灵","巨魔矛手",{"$nulls":4},5,"火精灵","巨魔矛手","火山蜘蛛","岩浆战士","巨魔矛手","岩浆蝎","岩浆蝎","火山蜘蛛",{"$nulls":5},5,"巨魔矛手","火精灵",null,"岩浆战士","火精灵","巨魔矛手",null,"巨魔矛手",{"$nulls":5},5,"岩浆战士",null,null,"岩浆蝎","火山蜘蛛",null,"岩浆蝎","巨魔矛手"]
[null,null,7,null,null,"火精灵",null,null,"火精灵",{"$nulls":8},7,null,"巨魔矛手",null,"巨魔矛手",null,null,"巨魔矛手",{"$nulls":6},7,{"$nulls":7},"火精灵",{"$nulls":5},7,null,"巨魔矛手",null,null,null,"巨魔矛手","巨魔矛手","火精灵"]
[null,null,9,{"$nulls":14},9,{"$nulls":4},"火精灵","巨魔矛手","火精灵",{"$nulls":6},9,{"$nulls":13},9,{"$nulls":5},"火精灵",null,"巨魔矛手"]
[]
[null,null,"位置",5,15,30,45,50,65,81,98,105,120,{"$nulls":4},"位置",5,10,15,22,30,40,50,55,{"$nulls":5},"位置",4,10,15,30,46,63,70,85,null,null,null,{"$f":"_xlfn.TEXTJOIN(\"^\",,AG200:AG214)","v":"100^0^0"},null,"位置",3,5,8,12,18,25,35,45,null,null,null,{"$f":"_xlfn.TEXTJOIN(\"^\",,AU200:AU214)","v":"4^1^5"}]
[null,null,8,{"$nulls":12},{"$f":"_xlfn.TEXTJOIN(\"^\",,D200:D214)","v":"0^0^0"},null,8,{"$nulls":4},{"$f":"$C200","v":8},{"$f":"$C200","v":8},{"$f":"$C200","v":8},{"$nulls":6},8,{"$nulls":11},{"$f":"_xlfn.TEXTJOIN(\"^\",,AH200:AH214)","v":"0^0^0"},null,8,{"$nulls":5},{"$f":"$C200","v":8},null,{"$f":"$C200","v":8},null,null,null,{"$f":"_xlfn.TEXTJOIN(\"^\",,AV200:AV214)","v":"6^1^7"}]
[null,null,6,{"$nulls":12},{"$f":"_xlfn.TEXTJOIN(\"^\",,E200:E214)","v":"0^0"},null,6,null,{"$f":"$C201","v":6},null,{"$f":"$C201","v":6},null,null,6,{"$nulls":4},{"$f":"_xlfn.TEXTJOIN(\"^\",,S200:S214)","v":"4^2^1^3^5"},null,6,{"$nulls":11},{"$f":"_xlfn.TEXTJOIN(\"^\",,AI200:AI214)","v":"0^0"},null,6,null,{"$f":"$C201","v":6},null,null,null,6,6,6,null,null,null,{"$f":"_xlfn.TEXTJOIN(\"^\",,AW200:AW214)","v":"2^3"}]
[null,null,4,{"$nulls":12},{"$f":"_xlfn.TEXTJOIN(\"^\",,F200:F214)","v":"0^0^0^0"},null,4,{"$f":"$C202","v":4},{"$f":"$C202","v":4},null,{"$f":"$C202","v":4},{"$f":"$C202","v":4},4,4,{"$nulls":4},{"$f":"_xlfn.TEXTJOIN(\"^\",,T200:T214)","v":"6^4^2^1^3^5^7"},null,4,{"$nulls":11},{"$f":"_xlfn.TEXTJOIN(\"^\",,AJ200:AJ214)","v":"0^0^0"},null,4,{"$f":"$C202","v":4},null,null,{"$f":"$C202","v":4},null,null,4,4,null,null,null,{"$f":"_xlfn.TEXTJOIN(\"^\",,AX200:AX214)","v":"4^2^3^5"}]
[null,null,2,{"$nulls":12},{"$f":"_xlfn.TEXTJOIN(\"^\",,G200:G214)","v":"0^0"},null,2,2,2,null,{"$f":"$C203","v":2},2,2,2,{"$nulls":4},{"$f":"_xlfn.TEXTJOIN(\"^\",,U200:U214)","v":"101^102^103^104^105"},null,2,{"$nulls":11},{"$f":"_xlfn.TEXTJOIN(\"^\",,AK200:AK214)","v":"0^0^0"},null,2,null,null,{"$f":"$C203","v":2},2,null,{"$f":"$C203","v":2},2,2,null,null,null,{"$f":"_xlfn.TEXTJOIN(\"^\",,AY200:AY214)","v":"101^102^104^105"}]
[null,null,1,0,0,0,0,100,0,0,0,100,0,null,null,{"$f":"_xlfn.TEXTJOIN(\"^\",,H200:H214)","v":"100^0"},null,1,1,1,null,1,1,1,1,{"$nulls":4},{"$f":"_xlfn.TEXTJOIN(\"^\",,V200:V214)","v":"6^4^2^1^3^5^7"},null,1,100,0,0,0,0,0,100,0,null,null,null,{"$f":"_xlfn.TEXTJOIN(\"^\",,AL200:AL214)","v":"0^0^0"},null,1,{"$f":"$C204","v":1},1,{"$nulls":4},1,{"$nulls":4},{"$f":"_xlfn.TEXTJOIN(\"^\",,AZ200:AZ214)","v":"8^6^2^3^7^9"}]
[null,null,3,0,0,0,0,0,0,0,0,0,0,null,null,{"$f":"_xlfn.TEXTJOIN(\"^\",,I200:I214)","v":"0^0^0^0"},null,3,3,3,null,3,3,3,3,{"$nulls":4},{"$f":"_xlfn.TEXTJOIN(\"^\",,W200:W214)","v":"8^4^2^1^3^5^9"},null,3,0,0,0,0,0,0,0,0,null,null,null,{"$f":"_xlfn.TEXTJOIN(\"^\",,AM200:AM214)","v":"100^0"},null,3,null,null,{"$f":"$C205","v":3},3,null,{"$f":"$C205","v":3},3,3,null,null,null,{"$f":"_xlfn.TEXTJOIN(\"^\",,BA200:BA214)","v":"6^4^2^1^3^5^7"}]
[null,null,5,0,null,0,null,null,0,0,0,0,0,null,null,{"$f":"_xlfn.TEXTJOIN(\"^\",,J200:J214)","v":"0^0^0"},null,5,5,{"$f":"$C206","v":5},null,5,5,5,5,{"$nulls":4},{"$f":"_xlfn.TEXTJOIN(\"^\",,X200:X214)","v":"8^4^2^1^3^5^9"},null,5,0,0,null,0,0,0,null,0,null,null,null,{"$f":"_xlfn.TEXTJOIN(\"^\",,AN200:AN214)","v":"0^0^0^0"},null,5,{"$f":"$C206","v":5},null,null,5,null,null,5,5,null,null,null,{"$f":"_xlfn.TEXTJOIN(\"^\",,BB200:BB214)","v":"8^6^4^2^3^5^7^9"}]
[null,null,7,null,null,0,null,null,0,{"$nulls":6},{"$f":"_xlfn.TEXTJOIN(\"^\",,K200:K214)","v":"0^0^0"},null,7,null,{"$f":"$C207","v":7},null,7,null,null,7,{"$nulls":4},{"$f":"_xlfn.TEXTJOIN(\"^\",,Y200:Y214)","v":"8^6^4^2^1^3^5^7^9"},null,7,{"$nulls":7},0,null,null,null,{"$f":"_xlfn.TEXTJOIN(\"^\",,AO200:AO214)","v":""},null,7,null,{"$f":"$C207","v":7},null,null,null,{"$f":"$C207","v":7},7,7,null,null,null,{"$f":"_xlfn.TEXTJOIN(\"^\",,BC200:BC214)","v":""}]
[null,null,9,{"$nulls":12},{"$f":"_xlfn.TEXTJOIN(\"^\",,L200:L214)","v":"100^0^0"},null,9,{"$nulls":4},{"$f":"$C208","v":9},{"$f":"$C208","v":9},9,{"$nulls":6},9,{"$nulls":11},{"$f":"_xlfn.TEXTJOIN(\"^\",,AP200:AP214)","v":""},null,9,{"$nulls":5},9,null,9,null,null,null,{"$f":"_xlfn.TEXTJOIN(\"^\",,BD200:BD214)","v":""}]
[null,null,"空降",{"$nulls":12},{"$f":"_xlfn.TEXTJOIN(\"^\",,M200:M214)","v":"0^0^0"},null,"空降",{"$nulls":13},"空降",{"$nulls":11},{"$f":"_xlfn.TEXTJOIN(\"^\",,AQ200:AQ208)","v":""},null,"空降",{"$nulls":11},{"$f":"_xlfn.TEXTJOIN(\"^\",,BE200:BE208)","v":""}]
[null,null,101,{"$nulls":12},{"$f":"_xlfn.TEXTJOIN(\"^\",,N200:N214)","v":""},null,101,null,null,{"$f":"$C210","v":101},{"$nulls":4},{"$f":"$C210","v":101},null,null,null,{"$f":"_xlfn.TEXTJOIN(\"^\",,Z200:Z214)","v":"101^102^103^104^105"},null,101,{"$nulls":13},101,{"$nulls":4},{"$f":"$C210","v":101}]
[null,null,102,{"$nulls":14},102,null,null,102,{"$nulls":4},102,null,null,null,{"$f":"_xlfn.TEXTJOIN(\"^\",,AA200:AA214)","v":""},null,102,{"$nulls":13},102,{"$nulls":4},102]
[null,null,103,{"$nulls":14},103,null,null,103,{"$nulls":4},103,null,null,null,{"$f":"_xlfn.TEXTJOIN(\"^\",,AB200:AB214)","v":""},null,103,{"$nulls":13},103]
[null,null,104,{"$nulls":14},104,null,null,104,{"$nulls":4},104,{"$nulls":5},104,{"$nulls":13},104,{"$nulls":4},{"$f":"$C213","v":104}]
[null,null,105,{"$nulls":14},105,null,null,105,{"$nulls":4},105,{"$nulls":5},105,{"$nulls":13},105,{"$nulls":4},105]
[{"$nulls":14},"最终",{"$f":"_xlfn.TEXTJOIN(\"^\",,P200:P214)","v":"0^0^0^0^0^0^0^0^0^0^0^100^0^0^0^0^0^0^0^0^0^0^0^100^0^0^0^0^0"},{"$nulls":12},"最终",{"$f":"_xlfn.TEXTJOIN(\"^\",,AD200:AD214)","v":"4^2^1^3^5^6^4^2^1^3^5^7^101^102^103^104^105^6^4^2^1^3^5^7^8^4^2^1^3^5^9^8^4^2^1^3^5^9^8^6^4^2^1^3^5^7^9^101^102^103^104^105"},{"$nulls":12},"最终",{"$f":"_xlfn.TEXTJOIN(\"^\",,AR199:AR214)","v":"100^0^0^0^0^0^0^0^0^0^0^0^0^0^0^0^0^100^0^0^0^0^0"},{"$nulls":12},"最终",{"$f":"_xlfn.TEXTJOIN(\"^\",,BF199:BF214)","v":"4^1^5^6^1^7^2^3^4^2^3^5^101^102^104^105^8^6^2^3^7^9^6^4^2^1^3^5^7^8^6^4^2^3^5^7^9"}]
[]
[null,null,"时间",5,15,30,45,50,65,81,98,105,120,{"$nulls":4},"时间",5,10,15,22,30,40,50,55,null,null,null,{"$f":"_xlfn.TEXTJOIN(\"^\",,S218:S226)","v":"5^5^5^5^5"},null,"时间",4,10,15,30,46,63,70,85,null,null,null,{"$f":"_xlfn.TEXTJOIN(\"^\",,AG218:AG226)","v":"12^8^4"},null,"时间",3,5,8,12,18,25,35,45,null,null,null,{"$f":"_xlfn.TEXTJOIN(\"^\",,AU218:AU226)","v":"3^3^3"}]
[null,null,8,{"$nulls":12},{"$f":"_xlfn.TEXTJOIN(\"^\",,D218:D227)","v":"8^3^2"},null,8,{"$nulls":4},{"$f":"W$217","v":30},{"$f":"X$217","v":40},{"$f":"Y$217","v":50},{"$nulls":4},{"$f":"_xlfn.TEXTJOIN(\"^\",,T218:T226)","v":"10^10^10^10^10^10^10"},null,8,{"$nulls":11},{"$f":"_xlfn.TEXTJOIN(\"^\",,AH218:AH226)","v":"10^4^2"},null,8,{"$nulls":5},{"$f":"AZ$217","v":25},null,{"$f":"BB$217","v":45},null,null,null,{"$f":"_xlfn.TEXTJOIN(\"^\",,AV218:AV226)","v":"5^5^5"}]
[null,null,6,{"$nulls":12},{"$f":"_xlfn.TEXTJOIN(\"^\",,E218:E227)","v":"11^3"},null,6,null,{"$f":"T$217","v":10},null,{"$f":"V$217","v":22},null,null,50,{"$nulls":4},{"$f":"_xlfn.TEXTJOIN(\"^\",,U218:U226)","v":"15^15^15^15^15"},null,6,{"$nulls":11},{"$f":"_xlfn.TEXTJOIN(\"^\",,AI218:AI226)","v":"12^3"},null,6,null,{"$f":"AV$217","v":5},null,null,null,25,35,45,null,null,null,{"$f":"_xlfn.TEXTJOIN(\"^\",,AW218:AW226)","v":"8^8"}]
[null,null,4,{"$nulls":12},{"$f":"_xlfn.TEXTJOIN(\"^\",,F218:F227)","v":"9^2^3^2"},null,4,{"$f":"S$217","v":5},{"$f":"T$217","v":10},{"$f":"U$217","v":15},{"$f":"V$217","v":22},{"$f":"W$217","v":30},40,50,55,null,null,null,{"$f":"_xlfn.TEXTJOIN(\"^\",,V218:V226)","v":"22^22^22^22^22^22^22"},null,4,{"$nulls":11},{"$f":"_xlfn.TEXTJOIN(\"^\",,AJ218:AJ226)","v":"12^3^2"},null,4,{"$f":"AU$217","v":3},null,null,{"$f":"AX$217","v":12},18,null,35,45,null,null,null,{"$f":"_xlfn.TEXTJOIN(\"^\",,AX218:AX226)","v":"12^12^12^12"}]
[null,null,2,{"$nulls":12},{"$f":"_xlfn.TEXTJOIN(\"^\",,G218:G227)","v":"12^3"},null,2,5,10,15,22,30,40,{"$f":"Y$217","v":50},55,null,null,null,{"$f":"_xlfn.TEXTJOIN(\"^\",,W218:W226)","v":"30^30^30^30^30^30^30"},null,2,{"$nulls":11},{"$f":"_xlfn.TEXTJOIN(\"^\",,AK218:AK226)","v":"13^3^2"},null,2,null,null,{"$f":"AW$217","v":8},12,18,{"$f":"AZ$217","v":25},35,45,null,null,null,{"$f":"_xlfn.TEXTJOIN(\"^\",,AY218:AY226)","v":"18^18^18^18"}]
[null,null,1,8,11,9,12,8,9,13,14,8,15,null,null,{"$f":"_xlfn.TEXTJOIN(\"^\",,H218:H227)","v":"8^4"},null,1,5,10,15,22,30,40,50,55,null,null,null,{"$f":"_xlfn.TEXTJOIN(\"^\",,X218:X226)","v":"40^40^40^40^40^40^40"},null,1,12,10,12,12,13,14,8,14,null,null,null,{"$f":"_xlfn.TEXTJOIN(\"^\",,AL218:AL226)","v":"14^2^4"},null,1,{"$f":"AU$217","v":3},{"$f":"AV$217","v":5},{"$nulls":4},35,{"$nulls":4},{"$f":"_xlfn.TEXTJOIN(\"^\",,AZ218:AZ226)","v":"25^25^25^25^25^25"}]
[null,null,3,3,3,2,3,4,3,2,3,3,2,null,null,{"$f":"_xlfn.TEXTJOIN(\"^\",,I218:I227)","v":"9^3^3^2"},null,3,5,10,15,22,30,40,50,55,null,null,null,{"$f":"_xlfn.TEXTJOIN(\"^\",,Y218:Y226)","v":"50^50^50^50^50^50^50^50^50"},null,3,8,4,3,3,3,2,4,2,null,null,null,{"$f":"_xlfn.TEXTJOIN(\"^\",,AM218:AM226)","v":"8^4"},null,3,null,null,{"$f":"AW$217","v":8},{"$f":"AX$217","v":12},18,{"$f":"AZ$217","v":25},35,45,null,null,null,{"$f":"_xlfn.TEXTJOIN(\"^\",,BA218:BA226)","v":"35^35^35^35^35^35^35"}]
[null,null,5,2,null,3,null,null,3,3,2,2,3,null,null,{"$f":"_xlfn.TEXTJOIN(\"^\",,J218:J227)","v":"13^2^3"},null,5,5,{"$f":"T$217","v":10},15,22,30,40,50,55,null,null,null,{"$f":"_xlfn.TEXTJOIN(\"^\",,Z218:Z226)","v":"55^55^55^55^55"},null,5,4,2,null,2,2,4,null,3,null,null,null,{"$f":"_xlfn.TEXTJOIN(\"^\",,AN218:AN226)","v":"14^2^3^2"},null,5,{"$f":"AU$217","v":3},null,null,12,18,null,35,45,null,null,null,{"$f":"_xlfn.TEXTJOIN(\"^\",,BB218:BB226)","v":"45^45^45^45^45^45^45^45"}]
[null,null,7,null,null,2,null,null,2,{"$nulls":6},{"$f":"_xlfn.TEXTJOIN(\"^\",,K218:K227)","v":"14^3^2"},null,7,null,{"$f":"T$217","v":10},null,22,null,null,50,{"$nulls":4},{"$f":"_xlfn.TEXTJOIN(\"^\",,AA218:AA226)","v":""},null,7,{"$nulls":7},2,null,null,null,{"$f":"_xlfn.TEXTJOIN(\"^\",,AO218:AO226)","v":""},null,7,null,{"$f":"AV$217","v":5},null,null,null,{"$f":"AZ$217","v":25},35,45,null,null,null,{"$f":"_xlfn.TEXTJOIN(\"^\",,BC218:BC226)","v":""}]
[null,null,9,{"$nulls":12},{"$f":"_xlfn.TEXTJOIN(\"^\",,L218:L227)","v":"8^3^2"},null,9,{"$nulls":4},{"$f":"W$217","v":30},{"$f":"X$217","v":40},50,{"$nulls":4},{"$f":"_xlfn.TEXTJOIN(\"^\",,AB218:AB226)","v":""},null,9,{"$nulls":11},{"$f":"_xlfn.TEXTJOIN(\"^\",,AP218:AP226)","v":""},null,9,{"$nulls":5},25,null,45,null,null,null,{"$f":"_xlfn.TEXTJOIN(\"^\",,BD218:BD226)","v":""}]
[{"$nulls":15},{"$f":"_xlfn.TEXTJOIN(\"^\",,M218:M227)","v":"15^2^3"},{"$nulls":13},{"$f":"_xlfn.TEXTJOIN(\"^\",,AC218:AC226)","v":""},{"$nulls":13},{"$f":"_xlfn.TEXTJOIN(\"^\",,AQ218:AQ226)","v":""},{"$nulls":13},{"$f":"_xlfn.TEXTJOIN(\"^\",,BE218:BE226)","v":""}]
[{"$nulls":15},{"$f":"_xlfn.TEXTJOIN(\"^\",,N218:N227)","v":""},{"$nulls":12},"最终",{"$f":"_xlfn.TEXTJOIN(\"^\",,AD217:AD227)","v":"5^5^5^5^5^10^10^10^10^10^10^10^15^15^15^15^15^22^22^22^22^22^22^22^30^30^30^30^30^30^30^40^40^40^40^40^40^40^50^50^50^50^50^50^50^50^50^55^55^55^55^55"},{"$nulls":12},"最终",{"$f":"_xlfn.TEXTJOIN(\"^\",,AR217:AR227)","v":"12^8^4^10^4^2^12^3^12^3^2^13^3^2^14^2^4^8^4^14^2^3^2"},{"$nulls":12},"最终",{"$f":"_xlfn.TEXTJOIN(\"^\",,BF217:BF227)","v":"3^3^3^5^5^5^8^8^12^12^12^12^18^18^18^18^25^25^25^25^25^25^35^35^35^35^35^35^35^45^45^45^45^45^45^45^45"}]
[{"$nulls":14},"最终",{"$f":"_xlfn.TEXTJOIN(\"^\",,P218:P228)","v":"8^3^2^11^3^9^2^3^2^12^3^8^4^9^3^3^2^13^2^3^14^3^2^8^3^2^15^2^3"}]
[{"$nulls":15},{"$f":"SUM(D218:M226)","v":157},{"$nulls":13},{"$f":"COUNT(S218:Z226)","v":52},{"$nulls":13},{"$f":"SUM(AG218:AN226)","v":143},{"$nulls":13},{"$f":"COUNT(AU218:BB226)","v":37}]
[{"$nulls":57},{"$f":"SUM(P230:BF230)","v":389}]
[]
[{"$nulls":4},{"$f":"E234-D234","v":5},{"$f":"F234-E234","v":6},4,7,8,10,10,5,10,{"$nulls":6},{"$f":"T234-S234","v":5},5,7,8,10,5,10,{"$nulls":7},{"$f":"AH234-AG234","v":6},5,15,16,4,15,15,{"$nulls":7},{"$f":"AV234-AU234","v":2},3,4,6,7,10,10]
[1,"熔岩-5","波1·怪物",5,10,16,20,27,35,45,55,60,70,null,null,null,1,"波2·怪物",5,10,15,22,30,40,45,55,{"$nulls":4},3,"波3·怪物",4,10,15,30,46,50,65,80,{"$nulls":4},1,"波4·怪物",3,5,8,12,18,25,35,45]
[null,"5m",8,null,null,60652,null,60654,60654,60652,null,null,60652,null,null,{"$f":"_xlfn.TEXTJOIN(\"^\",,D235:D244)","v":"60654^60651^60651^60651^60654"},null,8,null,null,null,60654,null,60652,{"$nulls":5},{"$f":"_xlfn.TEXTJOIN(\"^\",,S235:S244)","v":"60655^60655^60655^60655"},null,8,{"$nulls":11},{"$f":"_xlfn.TEXTJOIN(\"^\",,AG235:AG244)","v":"60651^60652^60654"},null,8,{"$nulls":5},60652,null,60654,null,null,null,{"$f":"_xlfn.TEXTJOIN(\"^\",,AU235:AU244)","v":"60654^60653^60653^60654"}]
[null,null,6,60654,60651,60651,null,60652,null,60651,60654,null,60652,null,null,{"$f":"_xlfn.TEXTJOIN(\"^\",,E235:E244)","v":"60651^60652^60652^60652^60652^60651"},null,6,null,60652,60654,null,60652,null,null,60654,null,null,null,{"$f":"_xlfn.TEXTJOIN(\"^\",,T235:T244)","v":"60652^60652^60652^60652"},null,6,{"$nulls":11},{"$f":"_xlfn.TEXTJOIN(\"^\",,AH235:AH244)","v":"60651^60653"},null,6,null,60652,null,60651,60654,null,60652,60652,null,null,null,{"$f":"_xlfn.TEXTJOIN(\"^\",,AV235:AV244)","v":"60652^60652^60652^60652"}]
[null,null,4,null,60652,null,60655,60652,60652,60651,60652,60655,60653,null,null,{"$f":"_xlfn.TEXTJOIN(\"^\",,F235:F244)","v":"60652^60651^60653^60654^60653^60651^60652"},null,4,60655,null,null,60652,60652,60651,60655,60652,null,null,null,{"$f":"_xlfn.TEXTJOIN(\"^\",,U235:U244)","v":"60654^60653^60653^60653^60654"},null,4,{"$nulls":11},{"$f":"_xlfn.TEXTJOIN(\"^\",,AI235:AI244)","v":"60655^60652^60654"},null,4,60654,60652,60655,60651,60652,60651,60651,60651,null,null,null,{"$f":"_xlfn.TEXTJOIN(\"^\",,AW235:AW244)","v":"60655^60655^60655^60655"}]
[null,null,2,60651,60652,60653,60655,60651,60653,60651,60653,60655,60653,null,null,{"$f":"_xlfn.TEXTJOIN(\"^\",,G235:G244)","v":"60655^60655^60655^60655^60655"},null,2,60655,null,60653,60651,60653,60653,60655,60652,null,null,null,{"$f":"_xlfn.TEXTJOIN(\"^\",,V235:V244)","v":"60654^60652^60651^60652^60651^60652^60654"},null,2,{"$nulls":11},{"$f":"_xlfn.TEXTJOIN(\"^\",,AJ235:AJ244)","v":"60653^60652^60654"},null,2,60653,null,60655,null,60653,60651,60651,60653,null,null,null,{"$f":"_xlfn.TEXTJOIN(\"^\",,AX235:AX244)","v":"60651^60651^60651^60651^60651"}]
[null,null,1,60651,null,60654,60655,60651,60652,60652,60652,60655,60654,null,null,{"$f":"_xlfn.TEXTJOIN(\"^\",,H235:H244)","v":"60654^60652^60652^60651^60651^60651^60652^60652^60654"},null,1,null,60652,60653,60652,60654,60654,60655,60656,null,null,null,{"$f":"_xlfn.TEXTJOIN(\"^\",,W235:W244)","v":"60652^60652^60653^60654^60653^60652^60652"},null,1,60651,60651,60655,60653,60651,60655,60651,60651,null,null,null,{"$f":"_xlfn.TEXTJOIN(\"^\",,AK235:AK244)","v":"60651^60652"},null,1,null,null,null,60651,null,60654,60653,{"$nulls":4},{"$f":"_xlfn.TEXTJOIN(\"^\",,AY235:AY244)","v":"60654^60652^60653^60653^60652^60654"}]
[null,null,3,60651,60652,60653,60655,60651,60653,60651,60653,60655,60653,null,null,{"$f":"_xlfn.TEXTJOIN(\"^\",,I235:I244)","v":"60654^60652^60653^60652^60653^60652^60654"},null,3,60655,60652,60653,60651,60653,60653,60655,60652,null,null,null,{"$f":"_xlfn.TEXTJOIN(\"^\",,X235:X244)","v":"60652^60651^60653^60654^60653^60651^60652"},null,3,60652,60653,60652,60652,60652,60653,60652,60652,null,null,null,{"$f":"_xlfn.TEXTJOIN(\"^\",,AL235:AL244)","v":"60655^60653^60651"},null,3,60653,null,60655,null,60653,60651,60651,60653,null,null,null,{"$f":"_xlfn.TEXTJOIN(\"^\",,AZ235:AZ244)","v":"60652^60651^60651^60654^60651^60651^60652"}]
[null,null,5,null,60652,null,60655,60652,60652,60651,60652,60655,60654,null,null,{"$f":"_xlfn.TEXTJOIN(\"^\",,J235:J244)","v":"60652^60651^60651^60651^60652^60651^60651^60651^60652"},null,5,60655,null,null,60652,60652,60651,60655,60652,null,null,null,{"$f":"_xlfn.TEXTJOIN(\"^\",,Y235:Y244)","v":"60655^60655^60655^60655^60655"},null,5,60654,null,60654,60654,null,60651,60653,{"$nulls":4},{"$f":"_xlfn.TEXTJOIN(\"^\",,AM235:AM244)","v":"60651^60652^60653^60654"},null,5,60654,60652,60655,60651,60652,60651,60651,60651,null,null,null,{"$f":"_xlfn.TEXTJOIN(\"^\",,BA235:BA244)","v":"60652^60651^60651^60653^60651^60651^60652"}]
[null,null,7,60654,60651,60651,null,60652,null,60651,60654,null,60652,null,null,{"$f":"_xlfn.TEXTJOIN(\"^\",,K235:K244)","v":"60654^60652^60653^60652^60653^60652^60654"},null,7,null,60652,60654,null,60652,null,null,60654,null,null,null,{"$f":"_xlfn.TEXTJOIN(\"^\",,Z235:Z244)","v":"60654^60652^60652^60656^60652^60652^60654"},null,7,{"$nulls":6},60654,{"$nulls":4},{"$f":"_xlfn.TEXTJOIN(\"^\",,AN235:AN244)","v":"60651^60652"},null,7,null,60652,null,60651,60654,null,60652,60652,null,null,null,{"$f":"_xlfn.TEXTJOIN(\"^\",,BB235:BB244)","v":"60654^60652^60651^60653^60653^60651^60652^60654"}]
[null,null,9,null,null,60652,null,60654,60654,60652,null,null,60652,null,null,{"$f":"_xlfn.TEXTJOIN(\"^\",,L235:L244)","v":"60655^60655^60655^60655^60655"},null,9,null,null,null,60654,null,60652,{"$nulls":5},{"$f":"_xlfn.TEXTJOIN(\"^\",,AA235:AA244)","v":""},null,9,{"$nulls":11},{"$f":"_xlfn.TEXTJOIN(\"^\",,AO235:AO244)","v":""},null,9,{"$nulls":5},60652,null,60654,null,null,null,{"$f":"_xlfn.TEXTJOIN(\"^\",,BC235:BC244)","v":""}]
[{"$nulls":15},{"$f":"_xlfn.TEXTJOIN(\"^\",,M235:M244)","v":"60652^60652^60653^60653^60654^60653^60654^60652^60652"},{"$nulls":13},{"$f":"_xlfn.TEXTJOIN(\"^\",,AB235:AB244)","v":""},{"$nulls":13},{"$f":"_xlfn.TEXTJOIN(\"^\",,AP235:AP244)","v":""},{"$nulls":13},{"$f":"_xlfn.TEXTJOIN(\"^\",,BD235:BD244)","v":""}]
[{"$nulls":15},{"$f":"_xlfn.TEXTJOIN(\"^\",,N235:N244)","v":""},{"$nulls":13},{"$f":"_xlfn.TEXTJOIN(\"^\",,AC235:AC244)","v":""},{"$nulls":13},{"$f":"_xlfn.TEXTJOIN(\"^\",,AQ235:AQ244)","v":""},{"$nulls":13},{"$f":"_xlfn.TEXTJOIN(\"^\",,BE235:BE244)","v":""}]
[{"$nulls":14},"最终",{"$f":"_xlfn.TEXTJOIN(\"^\",,P235:P245)","v":"60654^60651^60651^60651^60654^60651^60652^60652^60652^60652^60651^60652^60651^60653^60654^60653^60651^60652^60655^60655^60655^60655^60655^60654^60652^60652^60651^60651^60651^60652^60652^60654^60654^60652^60653^60652^60653^60652^60654^60652^60651^60651^60651^60652^60651^60651^60651^60652^60654^60652^60653^60652^60653^60652^60654^60655^60655^60655^60655^60655^60652^60652^60653^60653^60654^60653^60654^60652^60652"},{"$nulls":12},"最终",{"$f":"_xlfn.TEXTJOIN(\"^\",,AD235:AD245)","v":"60655^60655^60655^60655^60652^60652^60652^60652^60654^60653^60653^60653^60654^60654^60652^60651^60652^60651^60652^60654^60652^60652^60653^60654^60653^60652^60652^60652^60651^60653^60654^60653^60651^60652^60655^60655^60655^60655^60655^60654^60652^60652^60656^60652^60652^60654"},{"$nulls":12},"最终",{"$f":"_xlfn.TEXTJOIN(\"^\",,AR235:AR245)","v":"60651^60652^60654^60651^60653^60655^60652^60654^60653^60652^60654^60651^60652^60655^60653^60651^60651^60652^60653^60654^60651^60652"},{"$nulls":12},"最终",{"$f":"_xlfn.TEXTJOIN(\"^\",,BF235:BF245)","v":"60654^60653^60653^60654^60652^60652^60652^60652^60655^60655^60655^60655^60651^60651^60651^60651^60651^60654^60652^60653^60653^60652^60654^60652^60651^60651^60654^60651^60651^60652^60652^60651^60651^60653^60651^60651^60652^60654^60652^60651^60653^60653^60651^60652^60654"}]
[null,null,8,null,null,"岩浆人",null,"火精灵","火精灵","岩浆人",null,null,"岩浆人",{"$nulls":4},8,null,null,null,"火精灵",null,"岩浆人",{"$nulls":7},8,{"$nulls":13},8,{"$nulls":5},"岩浆人",null,"火精灵"]
[null,null,6,"火精灵","岩浆蝎","岩浆蝎",null,"岩浆人",null,"岩浆蝎","火精灵",null,"岩浆人",{"$nulls":4},6,null,"岩浆人","火精灵",null,"岩浆人",null,null,"火精灵",{"$nulls":5},6,{"$nulls":13},6,null,"岩浆人",null,"岩浆蝎","火精灵",null,"岩浆人","岩浆人"]
[null,null,4,null,"岩浆人",null,"火山蜘蛛","岩浆人","岩浆人","岩浆蝎","岩浆人","火山蜘蛛","岩浆战士",{"$nulls":4},4,"火山蜘蛛",null,null,"岩浆人","岩浆人","岩浆蝎","火山蜘蛛","岩浆人",{"$nulls":5},4,{"$nulls":13},4,"火精灵","岩浆人","火山蜘蛛","岩浆蝎","岩浆人","岩浆蝎","岩浆蝎","岩浆蝎"]
[null,null,2,"岩浆蝎","岩浆人","岩浆战士","火山蜘蛛","岩浆蝎","岩浆战士","岩浆蝎","岩浆战士","火山蜘蛛","岩浆战士",{"$nulls":4},2,"火山蜘蛛",null,"岩浆战士","岩浆蝎","岩浆战士","岩浆战士","火山蜘蛛","岩浆人",{"$nulls":5},2,{"$nulls":13},2,"岩浆战士",null,"火山蜘蛛",null,"岩浆战士","岩浆蝎","岩浆蝎","岩浆战士"]
[null,null,1,"岩浆蝎",null,"火精灵","火山蜘蛛","岩浆蝎","岩浆人","岩浆人","岩浆人","火山蜘蛛","火精灵",{"$nulls":4},1,null,"岩浆人","岩浆战士","岩浆人","火精灵","火精灵","火山蜘蛛","岩浆巨兽",{"$nulls":5},1,"岩浆蝎","岩浆蝎","火山蜘蛛","岩浆战士","岩浆蝎","火山蜘蛛","岩浆蝎","岩浆蝎",{"$nulls":5},1,null,null,null,"岩浆蝎",null,"火精灵","岩浆战士"]
[null,null,3,"岩浆蝎","岩浆人","岩浆战士","火山蜘蛛","岩浆蝎","岩浆战士","岩浆蝎","岩浆战士","火山蜘蛛","岩浆战士",{"$nulls":4},3,"火山蜘蛛","岩浆人","岩浆战士","岩浆蝎","岩浆战士","岩浆战士","火山蜘蛛","岩浆人",{"$nulls":5},3,"岩浆人","岩浆战士","岩浆人","岩浆人","岩浆人","岩浆战士","岩浆人","岩浆人",{"$nulls":5},3,"岩浆战士",null,"火山蜘蛛",null,"岩浆战士","岩浆蝎","岩浆蝎","岩浆战士"]
[null,null,5,null,"岩浆人",null,"火山蜘蛛","岩浆人","岩浆人","岩浆蝎","岩浆人","火山蜘蛛","火精灵",{"$nulls":4},5,"火山蜘蛛",null,null,"岩浆人","岩浆人","岩浆蝎","火山蜘蛛","岩浆人",{"$nulls":5},5,"火精灵",null,"火精灵","火精灵",null,"岩浆蝎","岩浆战士",{"$nulls":6},5,"火精灵","岩浆人","火山蜘蛛","岩浆蝎","岩浆人","岩浆蝎","岩浆蝎","岩浆蝎"]
[null,null,7,"火精灵","岩浆蝎","岩浆蝎",null,"岩浆人",null,"岩浆蝎","火精灵",null,"岩浆人",{"$nulls":4},7,null,"岩浆人","火精灵",null,"岩浆人",null,null,"火精灵",{"$nulls":5},7,{"$nulls":6},"火精灵",{"$nulls":6},7,null,"岩浆人",null,"岩浆蝎","火精灵",null,"岩浆人","岩浆人"]
[null,null,9,null,null,"岩浆人",null,"火精灵","火精灵","岩浆人",null,null,"岩浆人",{"$nulls":4},9,null,null,null,"火精灵",null,"岩浆人",{"$nulls":7},9,{"$nulls":13},9,{"$nulls":5},"岩浆人",null,"火精灵"]
[]
[null,null,"位置",5,10,16,20,27,35,45,55,60,70,{"$nulls":4},"位置",5,10,15,22,30,40,45,55,{"$nulls":5},"位置",4,10,15,30,46,50,65,80,null,null,null,{"$f":"_xlfn.TEXTJOIN(\"^\",,AG258:AG272)","v":"0^0^0"},null,"位置",3,5,8,12,18,25,35,45,null,null,null,{"$f":"_xlfn.TEXTJOIN(\"^\",,AU258:AU272)","v":"4^2^3^5"}]
[null,null,8,null,null,{"$f":"$C258","v":8},null,{"$f":"$C258","v":8},{"$f":"$C258","v":8},{"$f":"$C258","v":8},null,null,{"$f":"$C258","v":8},null,null,{"$f":"_xlfn.TEXTJOIN(\"^\",,D258:D272)","v":"6^2^1^3^7"},null,8,null,null,null,{"$f":"$C258","v":8},null,{"$f":"$C258","v":8},{"$nulls":7},8,{"$nulls":11},{"$f":"_xlfn.TEXTJOIN(\"^\",,AH258:AH272)","v":"0^0"},null,8,{"$nulls":5},{"$f":"$C258","v":8},null,{"$f":"$C258","v":8},null,null,null,{"$f":"_xlfn.TEXTJOIN(\"^\",,AV258:AV272)","v":"6^4^5^7"}]
[null,null,6,{"$f":"$C259","v":6},{"$f":"$C259","v":6},6,null,6,null,6,6,null,6,null,null,{"$f":"_xlfn.TEXTJOIN(\"^\",,E258:E272)","v":"6^4^2^3^5^7"},null,6,null,{"$f":"$C259","v":6},{"$f":"$C259","v":6},null,{"$f":"$C259","v":6},null,null,{"$f":"$C259","v":6},null,null,null,{"$f":"_xlfn.TEXTJOIN(\"^\",,S258:S272)","v":"101^102^104^105"},null,6,{"$nulls":11},{"$f":"_xlfn.TEXTJOIN(\"^\",,AI258:AI272)","v":"100^0^0"},null,6,null,{"$f":"$C259","v":6},null,{"$f":"$C259","v":6},6,null,{"$f":"$C259","v":6},6,null,null,null,{"$f":"_xlfn.TEXTJOIN(\"^\",,AW258:AW272)","v":"101^102^104^105"}]
[null,null,4,null,4,null,null,4,4,4,4,null,4,null,null,{"$f":"_xlfn.TEXTJOIN(\"^\",,F258:F272)","v":"8^6^2^1^3^7^9"},null,4,null,null,null,{"$f":"$C260","v":4},4,4,null,4,null,null,null,{"$f":"_xlfn.TEXTJOIN(\"^\",,T258:T272)","v":"6^1^3^7"},null,4,{"$nulls":11},{"$f":"_xlfn.TEXTJOIN(\"^\",,AJ258:AJ272)","v":"0^0^0"},null,4,{"$f":"$C260","v":4},{"$f":"$C260","v":4},null,4,4,4,4,4,null,null,null,{"$f":"_xlfn.TEXTJOIN(\"^\",,AX258:AX272)","v":"6^4^1^5^7"}]
[null,null,2,{"$f":"$C261","v":2},2,{"$f":"$C261","v":2},null,2,2,2,2,null,2,null,null,{"$f":"_xlfn.TEXTJOIN(\"^\",,G258:G272)","v":"101^102^103^104^105"},null,2,null,null,{"$f":"$C261","v":2},2,2,2,null,2,null,null,null,{"$f":"_xlfn.TEXTJOIN(\"^\",,U258:U272)","v":"6^2^1^3^7"},null,2,{"$nulls":11},{"$f":"_xlfn.TEXTJOIN(\"^\",,AK258:AK272)","v":"0^0"},null,2,2,null,null,null,{"$f":"$C261","v":2},2,2,2,null,null,null,{"$f":"_xlfn.TEXTJOIN(\"^\",,AY258:AY272)","v":"6^4^2^3^5^7"}]
[null,null,1,1,null,{"$f":"$C262","v":1},null,1,1,1,1,null,1,null,null,{"$f":"_xlfn.TEXTJOIN(\"^\",,H258:H272)","v":"8^6^4^2^1^3^5^7^9"},null,1,null,{"$f":"$C262","v":1},{"$f":"$C262","v":1},1,1,1,null,{"$f":"$C262","v":1},null,null,null,{"$f":"_xlfn.TEXTJOIN(\"^\",,V258:V272)","v":"8^4^2^1^3^5^9"},null,1,0,0,100,0,0,100,0,0,null,null,null,{"$f":"_xlfn.TEXTJOIN(\"^\",,AL258:AL272)","v":"100^0^0"},null,1,null,null,null,{"$f":"$C262","v":1},null,1,1,{"$nulls":4},{"$f":"_xlfn.TEXTJOIN(\"^\",,AZ258:AZ272)","v":"8^4^2^1^3^5^9"}]
[null,null,3,3,3,{"$f":"$C263","v":3},null,3,3,3,3,null,3,null,null,{"$f":"_xlfn.TEXTJOIN(\"^\",,I258:I272)","v":"8^4^2^1^3^5^9"},null,3,null,{"$f":"$C263","v":3},{"$f":"$C263","v":3},3,3,3,null,3,null,null,null,{"$f":"_xlfn.TEXTJOIN(\"^\",,W258:W272)","v":"6^4^2^1^3^5^7"},null,3,0,0,0,0,0,0,0,0,null,null,null,{"$f":"_xlfn.TEXTJOIN(\"^\",,AM258:AM272)","v":"0^0^0^0"},null,3,{"$f":"$C263","v":3},null,null,null,{"$f":"$C263","v":3},3,3,3,null,null,null,{"$f":"_xlfn.TEXTJOIN(\"^\",,BA258:BA272)","v":"6^4^2^1^3^5^7"}]
[null,null,5,null,5,null,null,5,5,5,5,null,5,null,null,{"$f":"_xlfn.TEXTJOIN(\"^\",,J258:J272)","v":"8^6^4^2^1^3^5^7^9"},null,5,null,null,null,5,5,5,null,5,null,null,null,{"$f":"_xlfn.TEXTJOIN(\"^\",,X258:X272)","v":"8^4^2^1^3^5^9"},null,5,0,null,0,0,null,0,0,{"$nulls":4},{"$f":"_xlfn.TEXTJOIN(\"^\",,AN258:AN272)","v":"0^0"},null,5,5,{"$f":"$C264","v":5},null,{"$f":"$C264","v":5},5,5,5,5,null,null,null,{"$f":"_xlfn.TEXTJOIN(\"^\",,BB258:BB272)","v":"8^6^4^2^3^5^7^9"}]
[null,null,7,{"$f":"$C265","v":7},7,7,null,7,null,7,7,null,7,null,null,{"$f":"_xlfn.TEXTJOIN(\"^\",,K258:K272)","v":"6^4^2^1^3^5^7"},null,7,null,{"$f":"$C265","v":7},{"$f":"$C265","v":7},null,7,null,null,7,null,null,null,{"$f":"_xlfn.TEXTJOIN(\"^\",,Y258:Y272)","v":"101^102^103^104^105"},null,7,{"$nulls":6},0,{"$nulls":4},{"$f":"_xlfn.TEXTJOIN(\"^\",,AO258:AO272)","v":""},null,7,null,{"$f":"$C265","v":7},null,7,7,null,7,7,null,null,null,{"$f":"_xlfn.TEXTJOIN(\"^\",,BC258:BC272)","v":""}]
[null,null,9,null,null,9,null,9,{"$f":"$C266","v":9},9,null,null,9,null,null,{"$f":"_xlfn.TEXTJOIN(\"^\",,L258:L272)","v":"101^102^103^104^105"},null,9,null,null,null,{"$f":"$C266","v":9},null,{"$f":"$C266","v":9},{"$nulls":7},9,{"$nulls":11},{"$f":"_xlfn.TEXTJOIN(\"^\",,AP258:AP272)","v":""},null,9,{"$nulls":5},{"$f":"$C266","v":9},null,9,null,null,null,{"$f":"_xlfn.TEXTJOIN(\"^\",,BD258:BD272)","v":""}]
[null,null,"空降",{"$nulls":12},{"$f":"_xlfn.TEXTJOIN(\"^\",,M258:M272)","v":"8^6^4^2^1^3^5^7^9"},null,"空降",{"$nulls":13},"空降",{"$nulls":11},{"$f":"_xlfn.TEXTJOIN(\"^\",,AQ258:AQ266)","v":""},null,"空降",{"$nulls":11},{"$f":"_xlfn.TEXTJOIN(\"^\",,BE258:BE266)","v":""}]
[null,null,101,null,null,null,{"$f":"$C268","v":101},{"$nulls":4},{"$f":"$C268","v":101},null,null,null,{"$f":"_xlfn.TEXTJOIN(\"^\",,N258:N272)","v":""},null,101,{"$f":"$C268","v":101},{"$nulls":5},{"$f":"$C268","v":101},{"$nulls":4},{"$f":"_xlfn.TEXTJOIN(\"^\",,Z258:Z272)","v":"6^4^2^1^3^5^7"},null,101,{"$nulls":13},101,null,null,{"$f":"$C268","v":101}]
[null,null,102,null,null,null,102,{"$nulls":4},{"$f":"$C269","v":102},{"$nulls":5},102,102,{"$nulls":5},102,{"$nulls":4},{"$f":"_xlfn.TEXTJOIN(\"^\",,AA258:AA272)","v":""},null,102,{"$nulls":13},102,null,null,102]
[null,null,103,null,null,null,103,{"$nulls":4},{"$f":"$C270","v":103},{"$nulls":5},103,{"$nulls":6},103,{"$nulls":4},{"$f":"_xlfn.TEXTJOIN(\"^\",,AB258:AB272)","v":""},null,103,{"$nulls":13},103]
[null,null,104,null,null,null,104,{"$nulls":4},{"$f":"$C271","v":104},{"$nulls":5},104,{"$f":"$C271","v":104},{"$nulls":5},104,{"$nulls":6},104,{"$nulls":13},104,null,null,{"$f":"$C271","v":104}]
[null,null,105,null,null,null,105,{"$nulls":4},105,{"$nulls":5},105,105,{"$nulls":5},105,{"$nulls":6},105,{"$nulls":13},105,null,null,105]
[{"$nulls":14},"最终",{"$f":"_xlfn.TEXTJOIN(\"^\",,P258:P272)","v":"6^2^1^3^7^6^4^2^3^5^7^8^6^2^1^3^7^9^101^102^103^104^105^8^6^4^2^1^3^5^7^9^8^4^2^1^3^5^9^8^6^4^2^1^3^5^7^9^6^4^2^1^3^5^7^101^102^103^104^105^8^6^4^2^1^3^5^7^9"},{"$nulls":12},"最终",{"$f":"_xlfn.TEXTJOIN(\"^\",,AD258:AD272)","v":"101^102^104^105^6^1^3^7^6^2^1^3^7^8^4^2^1^3^5^9^6^4^2^1^3^5^7^8^4^2^1^3^5^9^101^102^103^104^105^6^4^2^1^3^5^7"},{"$nulls":12},"最终",{"$f":"_xlfn.TEXTJOIN(\"^\",,AR257:AR272)","v":"0^0^0^0^0^100^0^0^0^0^0^0^0^100^0^0^0^0^0^0^0^0"},{"$nulls":12},"最终",{"$f":"_xlfn.TEXTJOIN(\"^\",,BF257:BF272)","v":"4^2^3^5^6^4^5^7^101^102^104^105^6^4^1^5^7^6^4^2^3^5^7^8^4^2^1^3^5^9^6^4^2^1^3^5^7^8^6^4^2^3^5^7^9"}]
[]
[null,null,"时间",5,10,16,20,27,35,45,55,60,70,{"$nulls":4},"时间",5,10,15,22,30,40,45,55,null,null,null,{"$f":"_xlfn.TEXTJOIN(\"^\",,S276:S284)","v":"5^5^5^5"},null,"时间",4,10,15,30,46,50,65,80,null,null,null,{"$f":"_xlfn.TEXTJOIN(\"^\",,AG276:AG284)","v":"18^4^3"},null,"时间",3,5,8,12,18,25,35,45,null,null,null,{"$f":"_xlfn.TEXTJOIN(\"^\",,AU276:AU284)","v":"3^3^3^3"}]
[null,null,8,null,null,{"$f":"F$275","v":16},null,{"$f":"H$275","v":27},{"$f":"I$275","v":35},{"$f":"J$275","v":45},null,null,{"$f":"M$275","v":70},null,null,{"$f":"_xlfn.TEXTJOIN(\"^\",,D276:D285)","v":"5^5^5^5^5"},null,8,null,null,null,{"$f":"V$275","v":22},null,{"$f":"X$275","v":40},{"$nulls":5},{"$f":"_xlfn.TEXTJOIN(\"^\",,T276:T284)","v":"10^10^10^10"},null,8,{"$nulls":11},{"$f":"_xlfn.TEXTJOIN(\"^\",,AH276:AH284)","v":"13^3"},null,8,{"$nulls":5},{"$f":"AZ$275","v":25},null,{"$f":"BB$275","v":45},null,null,null,{"$f":"_xlfn.TEXTJOIN(\"^\",,AV276:AV284)","v":"5^5^5^5"}]
[null,null,6,{"$f":"D$275","v":5},{"$f":"E$275","v":10},16,null,27,null,45,55,null,70,null,null,{"$f":"_xlfn.TEXTJOIN(\"^\",,E276:E285)","v":"10^10^10^10^10^10"},null,6,null,{"$f":"T$275","v":10},{"$f":"U$275","v":15},null,{"$f":"W$275","v":30},null,null,{"$f":"Z$275","v":55},null,null,null,{"$f":"_xlfn.TEXTJOIN(\"^\",,U276:U284)","v":"15^15^15^15^15"},null,6,{"$nulls":11},{"$f":"_xlfn.TEXTJOIN(\"^\",,AI276:AI284)","v":"8^3^2"},null,6,null,{"$f":"AV$275","v":5},null,{"$f":"AX$275","v":12},18,null,{"$f":"BA$275","v":35},45,null,null,null,{"$f":"_xlfn.TEXTJOIN(\"^\",,AW276:AW284)","v":"8^8^8^8"}]
[null,null,4,null,10,null,{"$f":"G$275","v":20},27,35,45,55,60,70,null,null,{"$f":"_xlfn.TEXTJOIN(\"^\",,F276:F285)","v":"16^16^16^16^16^16^16"},null,4,{"$f":"S$275","v":5},null,null,{"$f":"V$275","v":22},30,40,45,55,null,null,null,{"$f":"_xlfn.TEXTJOIN(\"^\",,V276:V284)","v":"22^22^22^22^22^22^22"},null,4,{"$nulls":11},{"$f":"_xlfn.TEXTJOIN(\"^\",,AJ276:AJ284)","v":"3^4^3"},null,4,{"$f":"AU$275","v":3},{"$f":"AV$275","v":5},{"$f":"AW$275","v":8},12,18,25,35,45,null,null,null,{"$f":"_xlfn.TEXTJOIN(\"^\",,AX276:AX284)","v":"12^12^12^12^12"}]
[null,null,2,{"$f":"D$275","v":5},10,{"$f":"F$275","v":16},20,27,35,45,55,60,70,null,null,{"$f":"_xlfn.TEXTJOIN(\"^\",,G276:G285)","v":"20^20^20^20^20"},null,2,5,null,{"$f":"U$275","v":15},22,30,40,45,55,null,null,null,{"$f":"_xlfn.TEXTJOIN(\"^\",,W276:W284)","v":"30^30^30^30^30^30^30"},null,2,{"$nulls":11},{"$f":"_xlfn.TEXTJOIN(\"^\",,AK276:AK284)","v":"14^3"},null,2,3,null,8,null,18,25,35,45,null,null,null,{"$f":"_xlfn.TEXTJOIN(\"^\",,AY276:AY284)","v":"18^18^18^18^18^18"}]
[null,null,1,5,null,{"$f":"F$275","v":16},20,27,35,45,55,60,70,null,null,{"$f":"_xlfn.TEXTJOIN(\"^\",,H276:H285)","v":"27^27^27^27^27^27^27^27^27"},null,1,null,{"$f":"T$275","v":10},15,22,30,40,45,{"$f":"Z$275","v":55},null,null,null,{"$f":"_xlfn.TEXTJOIN(\"^\",,X276:X284)","v":"40^40^40^40^40^40^40"},null,1,18,13,8,3,14,6,12,15,null,null,null,{"$f":"_xlfn.TEXTJOIN(\"^\",,AL276:AL284)","v":"6^2^8"},null,1,null,null,null,{"$f":"AX$275","v":12},null,25,35,{"$nulls":4},{"$f":"_xlfn.TEXTJOIN(\"^\",,AZ276:AZ284)","v":"25^25^25^25^25^25^25"}]
[null,null,3,5,10,{"$f":"F$275","v":16},20,27,35,45,55,60,70,null,null,{"$f":"_xlfn.TEXTJOIN(\"^\",,I276:I285)","v":"35^35^35^35^35^35^35"},null,3,{"$f":"S$275","v":5},{"$f":"T$275","v":10},{"$f":"U$275","v":15},22,30,40,45,55,null,null,null,{"$f":"_xlfn.TEXTJOIN(\"^\",,Y276:Y284)","v":"45^45^45^45^45"},null,3,4,3,3,4,3,2,3,4,null,null,null,{"$f":"_xlfn.TEXTJOIN(\"^\",,AM276:AM284)","v":"12^3^2^2"},null,3,{"$f":"AU$275","v":3},null,{"$f":"AW$275","v":8},null,{"$f":"AY$275","v":18},25,35,45,null,null,null,{"$f":"_xlfn.TEXTJOIN(\"^\",,BA276:BA284)","v":"35^35^35^35^35^35^35"}]
[null,null,5,null,10,null,20,27,35,45,55,60,70,null,null,{"$f":"_xlfn.TEXTJOIN(\"^\",,J276:J285)","v":"45^45^45^45^45^45^45^45^45"},null,5,5,null,null,22,30,40,45,55,null,null,null,{"$f":"_xlfn.TEXTJOIN(\"^\",,Z276:Z284)","v":"55^55^55^55^55^55^55"},null,5,3,null,2,3,null,8,2,{"$nulls":4},{"$f":"_xlfn.TEXTJOIN(\"^\",,AN276:AN284)","v":"15^4"},null,5,3,{"$f":"AV$275","v":5},8,12,18,25,35,45,null,null,null,{"$f":"_xlfn.TEXTJOIN(\"^\",,BB276:BB284)","v":"45^45^45^45^45^45^45^45"}]
[null,null,7,{"$f":"D$275","v":5},10,16,null,27,null,45,55,null,70,null,null,{"$f":"_xlfn.TEXTJOIN(\"^\",,K276:K285)","v":"55^55^55^55^55^55^55"},null,7,null,{"$f":"T$275","v":10},{"$f":"U$275","v":15},null,30,null,null,55,null,null,null,{"$f":"_xlfn.TEXTJOIN(\"^\",,AA276:AA284)","v":""},null,7,{"$nulls":6},2,{"$nulls":4},{"$f":"_xlfn.TEXTJOIN(\"^\",,AO276:AO284)","v":""},null,7,null,{"$f":"AV$275","v":5},null,12,18,null,35,45,null,null,null,{"$f":"_xlfn.TEXTJOIN(\"^\",,BC276:BC284)","v":""}]
[null,null,9,null,null,16,null,27,{"$f":"I$275","v":35},45,null,null,70,null,null,{"$f":"_xlfn.TEXTJOIN(\"^\",,L276:L285)","v":"60^60^60^60^60"},null,9,null,null,null,{"$f":"V$275","v":22},null,{"$f":"X$275","v":40},{"$nulls":5},{"$f":"_xlfn.TEXTJOIN(\"^\",,AB276:AB284)","v":""},null,9,{"$nulls":11},{"$f":"_xlfn.TEXTJOIN(\"^\",,AP276:AP284)","v":""},null,9,{"$nulls":5},{"$f":"AZ$275","v":25},null,45,null,null,null,{"$f":"_xlfn.TEXTJOIN(\"^\",,BD276:BD284)","v":""}]
[{"$nulls":15},{"$f":"_xlfn.TEXTJOIN(\"^\",,M276:M285)","v":"70^70^70^70^70^70^70^70^70"},{"$nulls":13},{"$f":"_xlfn.TEXTJOIN(\"^\",,AC276:AC284)","v":""},{"$nulls":13},{"$f":"_xlfn.TEXTJOIN(\"^\",,AQ276:AQ284)","v":""},{"$nulls":13},{"$f":"_xlfn.TEXTJOIN(\"^\",,BE276:BE284)","v":""}]
[{"$nulls":15},{"$f":"_xlfn.TEXTJOIN(\"^\",,N276:N285)","v":""},{"$nulls":12},"最终",{"$f":"_xlfn.TEXTJOIN(\"^\",,AD275:AD285)","v":"5^5^5^5^10^10^10^10^15^15^15^15^15^22^22^22^22^22^22^22^30^30^30^30^30^30^30^40^40^40^40^40^40^40^45^45^45^45^45^55^55^55^55^55^55^55"},{"$nulls":12},"最终",{"$f":"_xlfn.TEXTJOIN(\"^\",,AR275:AR285)","v":"18^4^3^13^3^8^3^2^3^4^3^14^3^6^2^8^12^3^2^2^15^4"},{"$nulls":12},"最终",{"$f":"_xlfn.TEXTJOIN(\"^\",,BF275:BF285)","v":"3^3^3^3^5^5^5^5^8^8^8^8^12^12^12^12^12^18^18^18^18^18^18^25^25^25^25^25^25^25^35^35^35^35^35^35^35^45^45^45^45^45^45^45^45"}]
[{"$nulls":14},"最终",{"$f":"_xlfn.TEXTJOIN(\"^\",,P276:P286)","v":"5^5^5^5^5^10^10^10^10^10^10^16^16^16^16^16^16^16^20^20^20^20^20^27^27^27^27^27^27^27^27^27^35^35^35^35^35^35^35^45^45^45^45^45^45^45^45^45^55^55^55^55^55^55^55^60^60^60^60^60^70^70^70^70^70^70^70^70^70"}]
[{"$nulls":15},{"$f":"COUNT(D276:M284)","v":69},{"$nulls":13},{"$f":"COUNT(S276:Z284)","v":46},{"$nulls":13},{"$f":"SUM(AG276:AN284)","v":135},{"$nulls":13},{"$f":"COUNT(AU276:BB284)","v":45}]
[{"$nulls":57},{"$f":"SUM(P288:BF288)","v":295}]

{"sheet":"14","index":14,"n_rows":289,"n_cols":58,"rows_kept":289,"cut":false,"hidden":false,"merged":[]}
[{"$nulls":4},{"$f":"E2-D2","v":10},{"$f":"F2-E2","v":15},16,4,16,17,17,15,5,{"$nulls":6},{"$f":"T2-S2","v":5},5,5,7,8,10,10,{"$nulls":7},{"$f":"AH2-AG2","v":2},4,5,10,15,17,18,{"$nulls":7},{"$f":"AV2-AU2","v":2},2,2,2,7,8,10]
[3,"熔谷-1","波1·怪物",5,15,30,46,50,66,83,100,115,120,null,null,null,1,"波2·怪物",5,10,15,20,27,35,45,55,{"$nulls":4},3,"波3·怪物",4,6,10,15,25,40,57,75,{"$nulls":4},1,"波4·怪物",2,4,6,8,10,17,25,35]
[null,"5m",8,{"$nulls":12},{"$f":"_xlfn.TEXTJOIN(\"^\",,D3:D12)","v":"60661^60662"},null,8,{"$nulls":5},60664,null,60664,null,null,null,{"$f":"_xlfn.TEXTJOIN(\"^\",,S3:S12)","v":"60664^60662^60662^60662^60664"},null,8,{"$nulls":11},{"$f":"_xlfn.TEXTJOIN(\"^\",,AG3:AG12)","v":"60665^60664^60663"},null,8,{"$nulls":7},60662,null,null,null,{"$f":"_xlfn.TEXTJOIN(\"^\",,AU3:AU12)","v":"60663^60663"}]
[null,null,6,{"$nulls":12},{"$f":"_xlfn.TEXTJOIN(\"^\",,E3:E12)","v":"60661^60662^60663"},null,6,null,null,60661,null,60662,60662,60662,60662,null,null,null,{"$f":"_xlfn.TEXTJOIN(\"^\",,T3:T12)","v":"60663^60663^60663"},null,6,{"$nulls":11},{"$f":"_xlfn.TEXTJOIN(\"^\",,AH3:AH12)","v":"60661^60662"},null,6,null,null,null,60661,null,60664,60662,60662,null,null,null,{"$f":"_xlfn.TEXTJOIN(\"^\",,AV3:AV12)","v":"60662^60662^60662"}]
[null,null,4,{"$nulls":12},{"$f":"_xlfn.TEXTJOIN(\"^\",,F3:F12)","v":"60661^60662^60663^60664"},null,4,60664,60663,60661,60665,60661,60661,60661,60661,null,null,null,{"$f":"_xlfn.TEXTJOIN(\"^\",,U3:U12)","v":"60661^60661^60661^60661^60661"},null,4,{"$nulls":11},{"$f":"_xlfn.TEXTJOIN(\"^\",,AI3:AI12)","v":"60661^60664"},null,4,null,60662,null,60661,60665,60662,60662,60661,null,null,null,{"$f":"_xlfn.TEXTJOIN(\"^\",,AW3:AW12)","v":"60664^60664"}]
[null,null,2,{"$nulls":12},{"$f":"_xlfn.TEXTJOIN(\"^\",,G3:G12)","v":"60661^60662"},null,2,60662,null,null,60665,60663,null,60663,60663,null,null,null,{"$f":"_xlfn.TEXTJOIN(\"^\",,V3:V12)","v":"60665^60665^60665^60665"},null,2,{"$nulls":11},{"$f":"_xlfn.TEXTJOIN(\"^\",,AJ3:AJ12)","v":"60661^60662^60663"},null,2,60663,null,60664,null,60665,60663,60661,60661,null,null,null,{"$f":"_xlfn.TEXTJOIN(\"^\",,AX3:AX12)","v":"60661^60661^60661^60661"}]
[null,null,1,60661,60661,60661,60661,60665,60661,60661,60661,60661,60665,null,null,{"$f":"_xlfn.TEXTJOIN(\"^\",,H3:H12)","v":"60665^60664"},null,1,60662,60663,60661,null,60664,60663,60664,{"$nulls":4},{"$f":"_xlfn.TEXTJOIN(\"^\",,W3:W12)","v":"60662^60661^60663^60664^60663^60661^60662"},null,1,60665,60661,60661,60661,60661,60665,60661,60661,null,null,null,{"$f":"_xlfn.TEXTJOIN(\"^\",,AK3:AK12)","v":"60661^60662^60664"},null,1,null,60662,{"$nulls":4},60664,{"$nulls":4},{"$f":"_xlfn.TEXTJOIN(\"^\",,AY3:AY12)","v":"60665^60665^60665^60665"}]
[null,null,3,60662,60662,60662,60662,60664,60662,60662,60662,60662,60662,null,null,{"$f":"_xlfn.TEXTJOIN(\"^\",,I3:I12)","v":"60661^60662^60663"},null,3,60662,null,null,60665,60663,null,60663,60663,null,null,null,{"$f":"_xlfn.TEXTJOIN(\"^\",,X3:X12)","v":"60664^60662^60661^60663^60661^60662^60664"},null,3,60664,60662,60664,60662,60662,60663,60662,60662,null,null,null,{"$f":"_xlfn.TEXTJOIN(\"^\",,AL3:AL12)","v":"60665^60663^60664"},null,3,60663,null,60664,null,60665,60663,60661,60661,null,null,null,{"$f":"_xlfn.TEXTJOIN(\"^\",,AZ3:AZ12)","v":"60664^60662^60663^60663^60662^60664"}]
[null,null,5,null,60663,60663,null,null,60663,60664,60663,{"$nulls":4},{"$f":"_xlfn.TEXTJOIN(\"^\",,J3:J12)","v":"60661^60662^60664"},null,5,60664,60663,60661,60665,60661,60661,60661,60661,null,null,null,{"$f":"_xlfn.TEXTJOIN(\"^\",,Y3:Y12)","v":"60662^60661^60663^60664^60663^60661^60662"},null,5,60663,null,null,60663,60664,60664,null,60663,null,null,null,{"$f":"_xlfn.TEXTJOIN(\"^\",,AM3:AM12)","v":"60661^60662"},null,5,null,60662,null,60661,60665,60662,60662,60661,null,null,null,{"$f":"_xlfn.TEXTJOIN(\"^\",,BA3:BA12)","v":"60662^60662^60661^60664^60661^60662^60662"}]
[null,null,7,null,null,60664,{"$nulls":4},60664,{"$nulls":4},{"$f":"_xlfn.TEXTJOIN(\"^\",,K3:K12)","v":"60661^60662^60663^60664"},null,7,null,null,60661,null,60662,60662,60662,60662,null,null,null,{"$f":"_xlfn.TEXTJOIN(\"^\",,Z3:Z12)","v":"60664^60662^60661^60663^60663^60661^60662^60664"},null,7,{"$nulls":7},60664,null,null,null,{"$f":"_xlfn.TEXTJOIN(\"^\",,AN3:AN12)","v":"60661^60662^60663^60664"},null,7,null,null,null,60661,null,60664,60662,60662,null,null,null,{"$f":"_xlfn.TEXTJOIN(\"^\",,BB3:BB12)","v":"60662^60662^60661^60661^60661^60661^60662^60662"}]
[null,null,9,{"$nulls":12},{"$f":"_xlfn.TEXTJOIN(\"^\",,L3:L12)","v":"60661^60662"},null,9,{"$nulls":5},60664,null,60664,null,null,null,{"$f":"_xlfn.TEXTJOIN(\"^\",,AA3:AA12)","v":""},null,9,{"$nulls":11},{"$f":"_xlfn.TEXTJOIN(\"^\",,AO3:AO12)","v":""},null,9,{"$nulls":7},60662,null,null,null,{"$f":"_xlfn.TEXTJOIN(\"^\",,BC3:BC12)","v":""}]
[{"$nulls":15},{"$f":"_xlfn.TEXTJOIN(\"^\",,M3:M12)","v":"60665^60662"},{"$nulls":13},{"$f":"_xlfn.TEXTJOIN(\"^\",,AB3:AB12)","v":""},{"$nulls":13},{"$f":"_xlfn.TEXTJOIN(\"^\",,AP3:AP12)","v":""},{"$nulls":13},{"$f":"_xlfn.TEXTJOIN(\"^\",,BD3:BD12)","v":""}]
[{"$nulls":15},{"$f":"_xlfn.TEXTJOIN(\"^\",,N3:N12)","v":""},{"$nulls":13},{"$f":"_xlfn.TEXTJOIN(\"^\",,AC3:AC12)","v":""},{"$nulls":13},{"$f":"_xlfn.TEXTJOIN(\"^\",,AQ3:AQ12)","v":""},{"$nulls":13},{"$f":"_xlfn.TEXTJOIN(\"^\",,BE3:BE12)","v":""}]
[{"$nulls":14},"最终",{"$f":"_xlfn.TEXTJOIN(\"^\",,P3:P13)","v":"60661^60662^60661^60662^60663^60661^60662^60663^60664^60661^60662^60665^60664^60661^60662^60663^60661^60662^60664^60661^60662^60663^60664^60661^60662^60665^60662"},{"$nulls":12},"最终",{"$f":"_xlfn.TEXTJOIN(\"^\",,AD3:AD13)","v":"60664^60662^60662^60662^60664^60663^60663^60663^60661^60661^60661^60661^60661^60665^60665^60665^60665^60662^60661^60663^60664^60663^60661^60662^60664^60662^60661^60663^60661^60662^60664^60662^60661^60663^60664^60663^60661^60662^60664^60662^60661^60663^60663^60661^60662^60664"},{"$nulls":12},"最终",{"$f":"_xlfn.TEXTJOIN(\"^\",,AR3:AR13)","v":"60665^60664^60663^60661^60662^60661^60664^60661^60662^60663^60661^60662^60664^60665^60663^60664^60661^60662^60661^60662^60663^60664"},{"$nulls":12},"最终",{"$f":"_xlfn.TEXTJOIN(\"^\",,BF3:BF13)","v":"60663^60663^60662^60662^60662^60664^60664^60661^60661^60661^60661^60665^60665^60665^60665^60664^60662^60663^60663^60662^60664^60662^60662^60661^60664^60661^60662^60662^60662^60662^60661^60661^60661^60661^60662^60662"}]
[null,null,8,{"$nulls":14},8,{"$nulls":5},"火精灵",null,"火精灵",{"$nulls":5},8,{"$nulls":13},8,{"$nulls":7},"岩浆人"]
[null,null,6,{"$nulls":14},6,null,null,"岩浆蝎",null,"岩浆人","岩浆人","岩浆人","岩浆人",{"$nulls":5},6,{"$nulls":13},6,null,null,null,"岩浆蝎",null,"火精灵","岩浆人","岩浆人"]
[null,null,4,{"$nulls":14},4,"火精灵","岩浆战士","岩浆蝎","火山蜘蛛","岩浆蝎","岩浆蝎","岩浆蝎","岩浆蝎",{"$nulls":5},4,{"$nulls":13},4,null,"岩浆人",null,"岩浆蝎","火山蜘蛛","岩浆人","岩浆人","岩浆蝎"]
[null,null,2,{"$nulls":14},2,"岩浆人",null,null,"火山蜘蛛","岩浆战士",null,"岩浆战士","岩浆战士",{"$nulls":5},2,{"$nulls":13},2,"岩浆战士",null,"火精灵",null,"火山蜘蛛","岩浆战士","岩浆蝎","岩浆蝎"]
[null,null,1,"岩浆蝎","岩浆蝎","岩浆蝎","岩浆蝎","火山蜘蛛","岩浆蝎","岩浆蝎","岩浆蝎","岩浆蝎","火山蜘蛛",{"$nulls":4},1,"岩浆人","岩浆战士","岩浆蝎",null,"火精灵","岩浆战士","火精灵",{"$nulls":6},1,"火山蜘蛛","岩浆蝎","岩浆蝎","岩浆蝎","岩浆蝎","火山蜘蛛","岩浆蝎","岩浆蝎",{"$nulls":5},1,null,"岩浆人",{"$nulls":4},"火精灵"]
[null,null,3,"岩浆人","岩浆人","岩浆人","岩浆人","火精灵","岩浆人","岩浆人","岩浆人","岩浆人","岩浆人",{"$nulls":4},3,"岩浆人",null,null,"火山蜘蛛","岩浆战士",null,"岩浆战士","岩浆战士",{"$nulls":5},3,"火精灵","岩浆人","火精灵","岩浆人","岩浆人","岩浆战士","岩浆人","岩浆人",{"$nulls":5},3,"岩浆战士",null,"火精灵",null,"火山蜘蛛","岩浆战士","岩浆蝎","岩浆蝎"]
[null,null,5,null,"岩浆战士","岩浆战士",null,null,"岩浆战士","火精灵","岩浆战士",{"$nulls":6},5,"火精灵","岩浆战士","岩浆蝎","火山蜘蛛","岩浆蝎","岩浆蝎","岩浆蝎","岩浆蝎",{"$nulls":5},5,"岩浆战士",null,null,"岩浆战士","火精灵","火精灵",null,"岩浆战士",{"$nulls":5},5,null,"岩浆人",null,"岩浆蝎","火山蜘蛛","岩浆人","岩浆人","岩浆蝎"]
[null,null,7,null,null,"火精灵",{"$nulls":4},"火精灵",{"$nulls":6},7,null,null,"岩浆蝎",null,"岩浆人","岩浆人","岩浆人","岩浆人",{"$nulls":5},7,{"$nulls":7},"火精灵",{"$nulls":5},7,null,null,null,"岩浆蝎",null,"火精灵","岩浆人","岩浆人"]
[null,null,9,{"$nulls":14},9,{"$nulls":5},"火精灵",null,"火精灵",{"$nulls":5},9,{"$nulls":13},9,{"$nulls":7},"岩浆人"]
[]
[null,null,"位置",5,15,30,46,50,66,83,100,115,120,{"$nulls":4},"位置",5,10,15,20,27,35,45,55,{"$nulls":5},"位置",4,6,10,15,25,40,57,75,null,null,null,{"$f":"_xlfn.TEXTJOIN(\"^\",,AG26:AG40)","v":"100^0^0"},null,"位置",2,4,6,8,10,17,25,35,null,null,null,{"$f":"_xlfn.TEXTJOIN(\"^\",,AU26:AU40)","v":"2^3"}]
[null,null,8,{"$nulls":12},{"$f":"_xlfn.TEXTJOIN(\"^\",,D26:D40)","v":"0^0"},null,8,{"$nulls":5},{"$f":"$C26","v":8},null,{"$f":"$C26","v":8},{"$nulls":5},8,{"$nulls":11},{"$f":"_xlfn.TEXTJOIN(\"^\",,AH26:AH40)","v":"0^0"},null,8,{"$nulls":7},{"$f":"$C26","v":8},null,null,null,{"$f":"_xlfn.TEXTJOIN(\"^\",,AV26:AV40)","v":"4^1^5"}]
[null,null,6,{"$nulls":12},{"$f":"_xlfn.TEXTJOIN(\"^\",,E26:E40)","v":"0^0^0"},null,6,null,null,{"$f":"$C27","v":6},null,{"$f":"$C27","v":6},6,6,6,null,null,null,{"$f":"_xlfn.TEXTJOIN(\"^\",,S26:S40)","v":"4^2^1^3^5"},null,6,{"$nulls":11},{"$f":"_xlfn.TEXTJOIN(\"^\",,AI26:AI40)","v":"0^0"},null,6,null,null,null,{"$f":"$C27","v":6},null,{"$f":"$C27","v":6},6,6,null,null,null,{"$f":"_xlfn.TEXTJOIN(\"^\",,AW26:AW40)","v":"2^3"}]
[null,null,4,{"$nulls":12},{"$f":"_xlfn.TEXTJOIN(\"^\",,F26:F40)","v":"0^0^0^0"},null,4,{"$f":"$C28","v":4},{"$f":"$C28","v":4},4,null,4,4,4,4,null,null,null,{"$f":"_xlfn.TEXTJOIN(\"^\",,T26:T40)","v":"4^1^5"},null,4,{"$nulls":11},{"$f":"_xlfn.TEXTJOIN(\"^\",,AJ26:AJ40)","v":"0^0^0"},null,4,null,{"$f":"$C28","v":4},null,4,null,4,4,4,null,null,null,{"$f":"_xlfn.TEXTJOIN(\"^\",,AX26:AX40)","v":"6^4^5^7"}]
[null,null,2,{"$nulls":12},{"$f":"_xlfn.TEXTJOIN(\"^\",,G26:G40)","v":"0^0"},null,2,2,null,null,null,2,null,2,2,null,null,null,{"$f":"_xlfn.TEXTJOIN(\"^\",,U26:U40)","v":"6^4^1^5^7"},null,2,{"$nulls":11},{"$f":"_xlfn.TEXTJOIN(\"^\",,AK26:AK40)","v":"0^0^0"},null,2,{"$f":"$C29","v":2},null,{"$f":"$C29","v":2},null,null,2,2,2,null,null,null,{"$f":"_xlfn.TEXTJOIN(\"^\",,AY26:AY40)","v":"101^102^104^105"}]
[null,null,1,0,0,0,0,100,0,0,0,0,100,null,null,{"$f":"_xlfn.TEXTJOIN(\"^\",,H26:H40)","v":"100^0"},null,1,1,{"$f":"$C30","v":1},1,null,1,{"$f":"$C30","v":1},1,{"$nulls":4},{"$f":"_xlfn.TEXTJOIN(\"^\",,V26:V40)","v":"101^102^104^105"},null,1,100,0,0,0,0,100,0,0,null,null,null,{"$f":"_xlfn.TEXTJOIN(\"^\",,AL26:AL40)","v":"100^0^0"},null,1,null,{"$f":"$C30","v":1},{"$nulls":4},1,{"$nulls":4},{"$f":"_xlfn.TEXTJOIN(\"^\",,AZ26:AZ40)","v":"6^4^2^3^5^7"}]
[null,null,3,0,0,0,0,0,0,0,0,0,0,null,null,{"$f":"_xlfn.TEXTJOIN(\"^\",,I26:I40)","v":"0^0^0"},null,3,3,null,null,null,3,null,3,3,null,null,null,{"$f":"_xlfn.TEXTJOIN(\"^\",,W26:W40)","v":"6^4^2^1^3^5^7"},null,3,0,0,0,0,0,0,0,0,null,null,null,{"$f":"_xlfn.TEXTJOIN(\"^\",,AM26:AM40)","v":"0^0"},null,3,{"$f":"$C31","v":3},null,{"$f":"$C31","v":3},null,null,{"$f":"$C31","v":3},3,3,null,null,null,{"$f":"_xlfn.TEXTJOIN(\"^\",,BA26:BA40)","v":"6^4^2^1^3^5^7"}]
[null,null,5,null,0,0,null,null,0,0,0,{"$nulls":4},{"$f":"_xlfn.TEXTJOIN(\"^\",,J26:J40)","v":"0^0^0"},null,5,5,{"$f":"$C32","v":5},{"$f":"$C32","v":5},null,5,5,5,5,null,null,null,{"$f":"_xlfn.TEXTJOIN(\"^\",,X26:X40)","v":"8^6^4^1^5^7^9"},null,5,0,null,null,0,0,0,null,0,null,null,null,{"$f":"_xlfn.TEXTJOIN(\"^\",,AN26:AN40)","v":"0^0^0^0"},null,5,null,{"$f":"$C32","v":5},null,{"$f":"$C32","v":5},null,5,5,5,null,null,null,{"$f":"_xlfn.TEXTJOIN(\"^\",,BB26:BB40)","v":"8^6^4^2^3^5^7^9"}]
[null,null,7,null,null,0,{"$nulls":4},0,{"$nulls":4},{"$f":"_xlfn.TEXTJOIN(\"^\",,K26:K40)","v":"0^0^0^0"},null,7,null,null,7,null,7,7,7,7,null,null,null,{"$f":"_xlfn.TEXTJOIN(\"^\",,Y26:Y40)","v":"6^4^2^1^3^5^7"},null,7,{"$nulls":7},0,null,null,null,{"$f":"_xlfn.TEXTJOIN(\"^\",,AO26:AO40)","v":""},null,7,null,null,null,7,null,7,7,7,null,null,null,{"$f":"_xlfn.TEXTJOIN(\"^\",,BC26:BC40)","v":""}]
[null,null,9,{"$nulls":12},{"$f":"_xlfn.TEXTJOIN(\"^\",,L26:L40)","v":"0^0"},null,9,{"$nulls":5},9,null,9,{"$nulls":5},9,{"$nulls":11},{"$f":"_xlfn.TEXTJOIN(\"^\",,AP26:AP40)","v":""},null,9,{"$nulls":7},9,null,null,null,{"$f":"_xlfn.TEXTJOIN(\"^\",,BD26:BD40)","v":""}]
[null,null,"空降",{"$nulls":12},{"$f":"_xlfn.TEXTJOIN(\"^\",,M26:M40)","v":"100^0"},null,"空降",{"$nulls":13},"空降",{"$nulls":11},{"$f":"_xlfn.TEXTJOIN(\"^\",,AQ26:AQ34)","v":""},null,"空降",{"$nulls":11},{"$f":"_xlfn.TEXTJOIN(\"^\",,BE26:BE34)","v":""}]
[null,null,101,{"$nulls":12},{"$f":"_xlfn.TEXTJOIN(\"^\",,N26:N40)","v":""},null,101,null,null,null,{"$f":"$C36","v":101},{"$nulls":7},{"$f":"_xlfn.TEXTJOIN(\"^\",,Z26:Z40)","v":"8^6^4^2^3^5^7^9"},null,101,{"$nulls":13},101,{"$nulls":4},{"$f":"$C36","v":101}]
[null,null,102,{"$nulls":14},102,null,null,null,102,{"$nulls":7},{"$f":"_xlfn.TEXTJOIN(\"^\",,AA26:AA40)","v":""},null,102,{"$nulls":13},102,{"$nulls":4},102]
[null,null,103,{"$nulls":14},103,{"$nulls":11},{"$f":"_xlfn.TEXTJOIN(\"^\",,AB26:AB40)","v":""},null,103,{"$nulls":13},103]
[null,null,104,{"$nulls":14},104,null,null,null,{"$f":"$C39","v":104},{"$nulls":9},104,{"$nulls":13},104,{"$nulls":4},{"$f":"$C39","v":104}]
[null,null,105,{"$nulls":14},105,null,null,null,105,{"$nulls":9},105,{"$nulls":13},105,{"$nulls":4},105]
[{"$nulls":14},"最终",{"$f":"_xlfn.TEXTJOIN(\"^\",,P26:P40)","v":"0^0^0^0^0^0^0^0^0^0^0^100^0^0^0^0^0^0^0^0^0^0^0^0^0^100^0"},{"$nulls":12},"最终",{"$f":"_xlfn.TEXTJOIN(\"^\",,AD26:AD40)","v":"4^2^1^3^5^4^1^5^6^4^1^5^7^101^102^104^105^6^4^2^1^3^5^7^8^6^4^1^5^7^9^6^4^2^1^3^5^7^8^6^4^2^3^5^7^9"},{"$nulls":12},"最终",{"$f":"_xlfn.TEXTJOIN(\"^\",,AR25:AR40)","v":"100^0^0^0^0^0^0^0^0^0^0^0^0^100^0^0^0^0^0^0^0^0"},{"$nulls":12},"最终",{"$f":"_xlfn.TEXTJOIN(\"^\",,BF25:BF40)","v":"2^3^4^1^5^2^3^6^4^5^7^101^102^104^105^6^4^2^3^5^7^6^4^2^1^3^5^7^8^6^4^2^3^5^7^9"}]
[]
[null,null,"时间",5,15,30,46,50,66,83,100,115,120,{"$nulls":4},"时间",5,10,15,20,27,35,45,55,null,null,null,{"$f":"_xlfn.TEXTJOIN(\"^\",,S44:S52)","v":"5^5^5^5^5"},null,"时间",4,6,10,15,25,40,57,75,null,null,null,{"$f":"_xlfn.TEXTJOIN(\"^\",,AG44:AG52)","v":"18^6^3"},null,"时间",2,4,6,8,10,17,25,35,null,null,null,{"$f":"_xlfn.TEXTJOIN(\"^\",,AU44:AU52)","v":"2^2"}]
[null,null,8,{"$nulls":12},{"$f":"_xlfn.TEXTJOIN(\"^\",,D44:D53)","v":"9^4"},null,8,{"$nulls":5},{"$f":"X$43","v":35},null,{"$f":"Z$43","v":55},null,null,null,{"$f":"_xlfn.TEXTJOIN(\"^\",,T44:T52)","v":"10^10^10"},null,8,{"$nulls":11},{"$f":"_xlfn.TEXTJOIN(\"^\",,AH44:AH52)","v":"11^4"},null,8,{"$nulls":7},{"$f":"BB$43","v":35},null,null,null,{"$f":"_xlfn.TEXTJOIN(\"^\",,AV44:AV52)","v":"4^4^4"}]
[null,null,6,{"$nulls":12},{"$f":"_xlfn.TEXTJOIN(\"^\",,E44:E53)","v":"10^3^3"},null,6,null,null,{"$f":"U$43","v":15},null,{"$f":"W$43","v":27},35,45,55,null,null,null,{"$f":"_xlfn.TEXTJOIN(\"^\",,U44:U52)","v":"15^15^15^15^15"},null,6,{"$nulls":11},{"$f":"_xlfn.TEXTJOIN(\"^\",,AI44:AI52)","v":"14^2"},null,6,null,null,null,{"$f":"AX$43","v":8},null,{"$f":"AZ$43","v":17},25,35,null,null,null,{"$f":"_xlfn.TEXTJOIN(\"^\",,AW44:AW52)","v":"6^6"}]
[null,null,4,{"$nulls":12},{"$f":"_xlfn.TEXTJOIN(\"^\",,F44:F53)","v":"8^4^2^2"},null,4,{"$f":"S$43","v":5},10,15,20,27,35,45,55,null,null,null,{"$f":"_xlfn.TEXTJOIN(\"^\",,V44:V52)","v":"20^20^20^20"},null,4,{"$nulls":11},{"$f":"_xlfn.TEXTJOIN(\"^\",,AJ44:AJ52)","v":"12^3^2"},null,4,null,{"$f":"AV$43","v":4},null,8,10,17,25,35,null,null,null,{"$f":"_xlfn.TEXTJOIN(\"^\",,AX44:AX52)","v":"8^8^8^8"}]
[null,null,2,{"$nulls":12},{"$f":"_xlfn.TEXTJOIN(\"^\",,G44:G53)","v":"13^4"},null,2,5,null,null,20,27,null,45,55,null,null,null,{"$f":"_xlfn.TEXTJOIN(\"^\",,W44:W52)","v":"27^27^27^27^27^27^27"},null,2,{"$nulls":11},{"$f":"_xlfn.TEXTJOIN(\"^\",,AK44:AK52)","v":"14^3^2"},null,2,{"$f":"AU$43","v":2},null,{"$f":"AW$43","v":6},null,10,17,25,35,null,null,null,{"$f":"_xlfn.TEXTJOIN(\"^\",,AY44:AY52)","v":"10^10^10^10"}]
[null,null,1,9,10,8,13,9,12,13,12,16,9,null,null,{"$f":"_xlfn.TEXTJOIN(\"^\",,H44:H53)","v":"9^3"},null,1,5,10,15,null,27,35,45,{"$nulls":4},{"$f":"_xlfn.TEXTJOIN(\"^\",,X44:X52)","v":"35^35^35^35^35^35^35"},null,1,18,11,14,12,14,9,15,12,null,null,null,{"$f":"_xlfn.TEXTJOIN(\"^\",,AL44:AL52)","v":"9^3^3"},null,1,null,{"$f":"AV$43","v":4},{"$nulls":4},25,{"$nulls":4},{"$f":"_xlfn.TEXTJOIN(\"^\",,AZ44:AZ52)","v":"17^17^17^17^17^17"}]
[null,null,3,4,3,4,4,3,3,4,3,4,4,null,null,{"$f":"_xlfn.TEXTJOIN(\"^\",,I44:I53)","v":"12^3^3"},null,3,5,null,null,{"$f":"V$43","v":20},27,null,45,55,null,null,null,{"$f":"_xlfn.TEXTJOIN(\"^\",,Y44:Y52)","v":"45^45^45^45^45^45^45"},null,3,6,4,2,3,3,3,4,3,null,null,null,{"$f":"_xlfn.TEXTJOIN(\"^\",,AM44:AM52)","v":"15^4"},null,3,{"$f":"AU$43","v":2},null,{"$f":"AW$43","v":6},null,{"$f":"AY$43","v":10},17,25,35,null,null,null,{"$f":"_xlfn.TEXTJOIN(\"^\",,BA44:BA52)","v":"25^25^25^25^25^25^25"}]
[null,null,5,null,3,2,null,null,3,2,3,{"$nulls":4},{"$f":"_xlfn.TEXTJOIN(\"^\",,J44:J53)","v":"13^4^2"},null,5,5,10,15,20,27,35,45,55,null,null,null,{"$f":"_xlfn.TEXTJOIN(\"^\",,Z44:Z52)","v":"55^55^55^55^55^55^55^55"},null,5,3,null,null,2,2,3,null,3,null,null,null,{"$f":"_xlfn.TEXTJOIN(\"^\",,AN44:AN52)","v":"12^3^3^2"},null,5,null,{"$f":"AV$43","v":4},null,{"$f":"AX$43","v":8},10,17,25,35,null,null,null,{"$f":"_xlfn.TEXTJOIN(\"^\",,BB44:BB52)","v":"35^35^35^35^35^35^35^35"}]
[null,null,7,null,null,2,{"$nulls":4},2,{"$nulls":4},{"$f":"_xlfn.TEXTJOIN(\"^\",,K44:K53)","v":"12^3^3^2"},null,7,null,null,15,null,27,35,45,55,null,null,null,{"$f":"_xlfn.TEXTJOIN(\"^\",,AA44:AA52)","v":""},null,7,{"$nulls":7},2,null,null,null,{"$f":"_xlfn.TEXTJOIN(\"^\",,AO44:AO52)","v":""},null,7,null,null,null,8,null,17,25,35,null,null,null,{"$f":"_xlfn.TEXTJOIN(\"^\",,BC44:BC52)","v":""}]
[null,null,9,{"$nulls":12},{"$f":"_xlfn.TEXTJOIN(\"^\",,L44:L53)","v":"16^4"},null,9,{"$nulls":5},35,null,55,null,null,null,{"$f":"_xlfn.TEXTJOIN(\"^\",,AB44:AB52)","v":""},null,9,{"$nulls":11},{"$f":"_xlfn.TEXTJOIN(\"^\",,AP44:AP52)","v":""},null,9,{"$nulls":7},35,null,null,null,{"$f":"_xlfn.TEXTJOIN(\"^\",,BD44:BD52)","v":""}]
[{"$nulls":15},{"$f":"_xlfn.TEXTJOIN(\"^\",,M44:M53)","v":"9^4"},{"$nulls":13},{"$f":"_xlfn.TEXTJOIN(\"^\",,AC44:AC52)","v":""},{"$nulls":13},{"$f":"_xlfn.TEXTJOIN(\"^\",,AQ44:AQ52)","v":""},{"$nulls":13},{"$f":"_xlfn.TEXTJOIN(\"^\",,BE44:BE52)","v":""}]
[{"$nulls":15},{"$f":"_xlfn.TEXTJOIN(\"^\",,N44:N53)","v":""},{"$nulls":12},"最终",{"$f":"_xlfn.TEXTJOIN(\"^\",,AD43:AD53)","v":"5^5^5^5^5^10^10^10^15^15^15^15^15^20^20^20^20^27^27^27^27^27^27^27^35^35^35^35^35^35^35^45^45^45^45^45^45^45^55^55^55^55^55^55^55^55"},{"$nulls":12},"最终",{"$f":"_xlfn.TEXTJOIN(\"^\",,AR43:AR53)","v":"18^6^3^11^4^14^2^12^3^2^14^3^2^9^3^3^15^4^12^3^3^2"},{"$nulls":12},"最终",{"$f":"_xlfn.TEXTJOIN(\"^\",,BF43:BF53)","v":"2^2^4^4^4^6^6^8^8^8^8^10^10^10^10^17^17^17^17^17^17^25^25^25^25^25^25^25^35^35^35^35^35^35^35^35"}]
[{"$nulls":14},"最终",{"$f":"_xlfn.TEXTJOIN(\"^\",,P44:P54)","v":"9^4^10^3^3^8^4^2^2^13^4^9^3^12^3^3^13^4^2^12^3^3^2^16^4^9^4"}]
[{"$nulls":15},{"$f":"SUM(D44:M52)","v":164},{"$nulls":13},{"$f":"COUNT(S44:Z52)","v":46},{"$nulls":13},{"$f":"SUM(AG44:AN52)","v":148},{"$nulls":13},{"$f":"COUNT(AU44:BB52)","v":36}]
[{"$nulls":57},{"$f":"SUM(P56:BF56)","v":394}]
[]
[{"$nulls":4},{"$f":"E60-D60","v":5},{"$f":"F60-E60","v":6},4,7,8,10,5,10,10,{"$nulls":6},{"$f":"T60-S60","v":5},5,5,10,15,15,10,{"$nulls":7},{"$f":"AH60-AG60","v":2},4,5,10,15,17,18,{"$nulls":7},{"$f":"AV60-AU60","v":2},2,2,2,7,8,10]
[1,"熔谷-2","波1·怪物",5,10,16,20,27,35,45,50,60,70,null,null,null,3,"波2·怪物",5,10,15,20,30,45,60,70,{"$nulls":4},3,"波3·怪物",4,6,10,15,25,40,57,75,{"$nulls":4},1,"波4·怪物",2,4,6,8,10,17,25,35]
[null,"5m",8,{"$nulls":5},60674,null,null,null,60674,null,null,{"$f":"_xlfn.TEXTJOIN(\"^\",,D61:D70)","v":"60674^60672^60672^60672^60674"},null,8,{"$nulls":11},{"$f":"_xlfn.TEXTJOIN(\"^\",,S61:S70)","v":"60675^60674^60672"},null,8,{"$nulls":11},{"$f":"_xlfn.TEXTJOIN(\"^\",,AG61:AG70)","v":"60671^60673"},null,8,{"$nulls":7},60672,null,null,null,{"$f":"_xlfn.TEXTJOIN(\"^\",,AU61:AU70)","v":"60671^60671^60671^60671"}]
[null,null,6,null,60671,60674,null,60672,60672,60672,null,60672,60672,null,null,{"$f":"_xlfn.TEXTJOIN(\"^\",,E61:E70)","v":"60671^60671^60671^60671^60671"},null,6,{"$nulls":11},{"$f":"_xlfn.TEXTJOIN(\"^\",,T61:T70)","v":"60671^60672"},null,6,{"$nulls":11},{"$f":"_xlfn.TEXTJOIN(\"^\",,AH61:AH70)","v":"60671^60672^60674"},null,6,{"$nulls":5},60674,60672,60672,null,null,null,{"$f":"_xlfn.TEXTJOIN(\"^\",,AV61:AV70)","v":"60672^60672^60672"}]
[null,null,4,60674,60671,60672,60675,60671,60671,60672,60675,60671,60671,null,null,{"$f":"_xlfn.TEXTJOIN(\"^\",,F61:F70)","v":"60674^60672^60673^60672^60673^60672^60674"},null,4,{"$nulls":11},{"$f":"_xlfn.TEXTJOIN(\"^\",,U61:U70)","v":"60671^60673"},null,4,{"$nulls":11},{"$f":"_xlfn.TEXTJOIN(\"^\",,AI61:AI70)","v":"60671^60672"},null,4,60671,60672,null,60675,60673,60671,60672,60671,null,null,null,{"$f":"_xlfn.TEXTJOIN(\"^\",,AW61:AW70)","v":"60674^60674"}]
[null,null,2,60672,null,60673,60675,60671,60673,60671,60675,60671,60673,null,null,{"$f":"_xlfn.TEXTJOIN(\"^\",,G61:G70)","v":"60675^60675^60675^60675^60675"},null,2,{"$nulls":11},{"$f":"_xlfn.TEXTJOIN(\"^\",,V61:V70)","v":"60671^60673^60674"},null,2,{"$nulls":11},{"$f":"_xlfn.TEXTJOIN(\"^\",,AJ61:AJ70)","v":"60675^60673"},null,2,60671,null,60674,60675,null,60671,null,60673,null,null,null,{"$f":"_xlfn.TEXTJOIN(\"^\",,AX61:AX70)","v":"60675^60675^60675^60675"}]
[null,null,1,60672,60671,60672,60675,60672,60673,60671,60675,60674,60672,null,null,{"$f":"_xlfn.TEXTJOIN(\"^\",,H61:H70)","v":"60672^60671^60671^60672^60671^60671^60672"},null,1,60675,60671,60671,60671,60671,60671,60671,60675,null,null,null,{"$f":"_xlfn.TEXTJOIN(\"^\",,W61:W70)","v":"60671^60672"},null,1,60671,60671,60671,60675,60671,60671,60671,60671,null,null,null,{"$f":"_xlfn.TEXTJOIN(\"^\",,AK61:AK70)","v":"60671^60672^60674"},null,1,null,60672,null,null,60673,null,60672,{"$nulls":4},{"$f":"_xlfn.TEXTJOIN(\"^\",,AY61:AY70)","v":"60673^60673^60673"}]
[null,null,3,60672,null,60673,60675,60671,60673,60671,60675,60671,60673,null,null,{"$f":"_xlfn.TEXTJOIN(\"^\",,I61:I70)","v":"60674^60672^60671^60673^60673^60673^60671^60672^60674"},null,3,60674,60672,60673,60673,60672,60672,60672,60672,null,null,null,{"$f":"_xlfn.TEXTJOIN(\"^\",,X61:X70)","v":"60671^60672^60673^60674"},null,3,60673,60672,60672,60673,60672,60673,60672,60672,null,null,null,{"$f":"_xlfn.TEXTJOIN(\"^\",,AL61:AL70)","v":"60671^60673^60674"},null,3,60671,null,60674,60675,null,60671,null,60673,null,null,null,{"$f":"_xlfn.TEXTJOIN(\"^\",,AZ61:AZ70)","v":"60674^60671^60671^60671^60671^60674"}]
[null,null,5,60674,60671,60672,60675,60671,60671,60672,60675,60671,60671,null,null,{"$f":"_xlfn.TEXTJOIN(\"^\",,J61:J70)","v":"60672^60672^60671^60671^60671^60672^60672"},null,5,60672,null,null,60674,null,60673,60674,{"$nulls":4},{"$f":"_xlfn.TEXTJOIN(\"^\",,Y61:Y70)","v":"60671^60672^60674"},null,5,null,60674,null,null,60674,60674,null,60673,null,null,null,{"$f":"_xlfn.TEXTJOIN(\"^\",,AM61:AM70)","v":"60671^60672"},null,5,60671,60672,null,60675,60673,60671,60672,60671,null,null,null,{"$f":"_xlfn.TEXTJOIN(\"^\",,BA61:BA70)","v":"60672^60672^60672^60672^60672"}]
[null,null,7,null,60671,60674,null,60672,60672,60672,null,60672,60672,null,null,{"$f":"_xlfn.TEXTJOIN(\"^\",,K61:K70)","v":"60675^60675^60675^60675^60675"},null,7,{"$nulls":5},60674,{"$nulls":5},{"$f":"_xlfn.TEXTJOIN(\"^\",,Z61:Z70)","v":"60675^60672"},null,7,{"$nulls":7},60674,null,null,null,{"$f":"_xlfn.TEXTJOIN(\"^\",,AN61:AN70)","v":"60671^60672^60673^60674"},null,7,{"$nulls":5},60674,60672,60672,null,null,null,{"$f":"_xlfn.TEXTJOIN(\"^\",,BB61:BB70)","v":"60672^60672^60671^60673^60673^60671^60672^60672"}]
[null,null,9,{"$nulls":5},60674,null,null,null,60674,null,null,{"$f":"_xlfn.TEXTJOIN(\"^\",,L61:L70)","v":"60672^60671^60671^60674^60671^60671^60672"},null,9,{"$nulls":11},{"$f":"_xlfn.TEXTJOIN(\"^\",,AA61:AA70)","v":""},null,9,{"$nulls":11},{"$f":"_xlfn.TEXTJOIN(\"^\",,AO61:AO70)","v":""},null,9,{"$nulls":7},60672,null,null,null,{"$f":"_xlfn.TEXTJOIN(\"^\",,BC61:BC70)","v":""}]
[{"$nulls":15},{"$f":"_xlfn.TEXTJOIN(\"^\",,M61:M70)","v":"60674^60672^60671^60673^60672^60673^60671^60672^60674"},{"$nulls":13},{"$f":"_xlfn.TEXTJOIN(\"^\",,AB61:AB70)","v":""},{"$nulls":13},{"$f":"_xlfn.TEXTJOIN(\"^\",,AP61:AP70)","v":""},{"$nulls":13},{"$f":"_xlfn.TEXTJOIN(\"^\",,BD61:BD70)","v":""}]
[{"$nulls":15},{"$f":"_xlfn.TEXTJOIN(\"^\",,N61:N70)","v":""},{"$nulls":13},{"$f":"_xlfn.TEXTJOIN(\"^\",,AC61:AC70)","v":""},{"$nulls":13},{"$f":"_xlfn.TEXTJOIN(\"^\",,AQ61:AQ70)","v":""},{"$nulls":13},{"$f":"_xlfn.TEXTJOIN(\"^\",,BE61:BE70)","v":""}]
[{"$nulls":14},"最终",{"$f":"_xlfn.TEXTJOIN(\"^\",,P61:P71)","v":"60674^60672^60672^60672^60674^60671^60671^60671^60671^60671^60674^60672^60673^60672^60673^60672^60674^60675^60675^60675^60675^60675^60672^60671^60671^60672^60671^60671^60672^60674^60672^60671^60673^60673^60673^60671^60672^60674^60672^60672^60671^60671^60671^60672^60672^60675^60675^60675^60675^60675^60672^60671^60671^60674^60671^60671^60672^60674^60672^60671^60673^60672^60673^60671^60672^60674"},{"$nulls":12},"最终",{"$f":"_xlfn.TEXTJOIN(\"^\",,AD61:AD71)","v":"60675^60674^60672^60671^60672^60671^60673^60671^60673^60674^60671^60672^60671^60672^60673^60674^60671^60672^60674^60675^60672"},{"$nulls":12},"最终",{"$f":"_xlfn.TEXTJOIN(\"^\",,AR61:AR71)","v":"60671^60673^60671^60672^60674^60671^60672^60675^60673^60671^60672^60674^60671^60673^60674^60671^60672^60671^60672^60673^60674"},{"$nulls":12},"最终",{"$f":"_xlfn.TEXTJOIN(\"^\",,BF61:BF71)","v":"60671^60671^60671^60671^60672^60672^60672^60674^60674^60675^60675^60675^60675^60673^60673^60673^60674^60671^60671^60671^60671^60674^60672^60672^60672^60672^60672^60672^60672^60671^60673^60673^60671^60672^60672"}]
[null,null,8,{"$nulls":5},"火精灵",null,null,null,"火精灵",{"$nulls":4},8,{"$nulls":13},8,{"$nulls":13},8,{"$nulls":7},"岩浆人"]
[null,null,6,null,"岩浆蝎","火精灵",null,"岩浆人","岩浆人","岩浆人",null,"岩浆人","岩浆人",{"$nulls":4},6,{"$nulls":13},6,{"$nulls":13},6,{"$nulls":5},"火精灵","岩浆人","岩浆人"]
[null,null,4,"火精灵","岩浆蝎","岩浆人","火山蜘蛛","岩浆蝎","岩浆蝎","岩浆人","火山蜘蛛","岩浆蝎","岩浆蝎",{"$nulls":4},4,{"$nulls":13},4,{"$nulls":13},4,"岩浆蝎","岩浆人",null,"火山蜘蛛","岩浆战士","岩浆蝎","岩浆人","岩浆蝎"]
[null,null,2,"岩浆人",null,"岩浆战士","火山蜘蛛","岩浆蝎","岩浆战士","岩浆蝎","火山蜘蛛","岩浆蝎","岩浆战士",{"$nulls":4},2,{"$nulls":13},2,{"$nulls":13},2,"岩浆蝎",null,"火精灵","火山蜘蛛",null,"岩浆蝎",null,"岩浆战士"]
[null,null,1,"岩浆人","岩浆蝎","岩浆人","火山蜘蛛","岩浆人","岩浆战士","岩浆蝎","火山蜘蛛","火精灵","岩浆人",{"$nulls":4},1,"火山蜘蛛","岩浆蝎","岩浆蝎","岩浆蝎","岩浆蝎","岩浆蝎","岩浆蝎","火山蜘蛛",{"$nulls":5},1,"岩浆蝎","岩浆蝎","岩浆蝎","火山蜘蛛","岩浆蝎","岩浆蝎","岩浆蝎","岩浆蝎",{"$nulls":5},1,null,"岩浆人",null,null,"岩浆战士",null,"岩浆人"]
[null,null,3,"岩浆人",null,"岩浆战士","火山蜘蛛","岩浆蝎","岩浆战士","岩浆蝎","火山蜘蛛","岩浆蝎","岩浆战士",{"$nulls":4},3,"火精灵","岩浆人","岩浆战士","岩浆战士","岩浆人","岩浆人","岩浆人","岩浆人",{"$nulls":5},3,"岩浆战士","岩浆人","岩浆人","岩浆战士","岩浆人","岩浆战士","岩浆人","岩浆人",{"$nulls":5},3,"岩浆蝎",null,"火精灵","火山蜘蛛",null,"岩浆蝎",null,"岩浆战士"]
[null,null,5,"火精灵","岩浆蝎","岩浆人","火山蜘蛛","岩浆蝎","岩浆蝎","岩浆人","火山蜘蛛","岩浆蝎","岩浆蝎",{"$nulls":4},5,"岩浆人",null,null,"火精灵",null,"岩浆战士","火精灵",{"$nulls":6},5,null,"火精灵",null,null,"火精灵","火精灵",null,"岩浆战士",{"$nulls":5},5,"岩浆蝎","岩浆人",null,"火山蜘蛛","岩浆战士","岩浆蝎","岩浆人","岩浆蝎"]
[null,null,7,null,"岩浆蝎","火精灵",null,"岩浆人","岩浆人","岩浆人",null,"岩浆人","岩浆人",{"$nulls":4},7,{"$nulls":5},"火精灵",{"$nulls":7},7,{"$nulls":7},"火精灵",{"$nulls":5},7,{"$nulls":5},"火精灵","岩浆人","岩浆人"]
[null,null,9,{"$nulls":5},"火精灵",null,null,null,"火精灵",{"$nulls":4},9,{"$nulls":13},9,{"$nulls":13},9,{"$nulls":7},"岩浆人"]
[]
[null,null,"位置",5,10,16,20,27,35,45,50,60,70,{"$nulls":4},"位置",5,10,15,20,30,45,60,70,{"$nulls":5},"位置",4,6,10,15,25,40,57,75,null,null,null,{"$f":"_xlfn.TEXTJOIN(\"^\",,AG84:AG98)","v":"0^0"},null,"位置",2,4,6,8,10,17,25,35,null,null,null,{"$f":"_xlfn.TEXTJOIN(\"^\",,AU84:AU98)","v":"4^2^3^5"}]
[null,null,8,{"$nulls":5},{"$f":"$C84","v":8},null,null,null,{"$f":"$C84","v":8},null,null,{"$f":"_xlfn.TEXTJOIN(\"^\",,D84:D98)","v":"4^2^1^3^5"},null,8,{"$nulls":13},8,{"$nulls":11},{"$f":"_xlfn.TEXTJOIN(\"^\",,AH84:AH98)","v":"0^0^0"},null,8,{"$nulls":7},{"$f":"$C84","v":8},null,null,null,{"$f":"_xlfn.TEXTJOIN(\"^\",,AV84:AV98)","v":"4^1^5"}]
[null,null,6,null,{"$f":"$C85","v":6},6,null,{"$f":"$C85","v":6},6,6,null,{"$f":"$C85","v":6},6,null,null,{"$f":"_xlfn.TEXTJOIN(\"^\",,E84:E98)","v":"6^4^1^5^7"},null,6,{"$nulls":11},{"$f":"_xlfn.TEXTJOIN(\"^\",,S84:S98)","v":"100^0^0"},null,6,{"$nulls":11},{"$f":"_xlfn.TEXTJOIN(\"^\",,AI84:AI98)","v":"0^0"},null,6,{"$nulls":5},{"$f":"$C85","v":6},6,6,null,null,null,{"$f":"_xlfn.TEXTJOIN(\"^\",,AW84:AW98)","v":"2^3"}]
[null,null,4,{"$f":"$C86","v":4},4,4,null,4,4,4,null,4,4,null,null,{"$f":"_xlfn.TEXTJOIN(\"^\",,F84:F98)","v":"6^4^2^1^3^5^7"},null,4,{"$nulls":11},{"$f":"_xlfn.TEXTJOIN(\"^\",,T84:T98)","v":"0^0"},null,4,{"$nulls":11},{"$f":"_xlfn.TEXTJOIN(\"^\",,AJ84:AJ98)","v":"100^0"},null,4,{"$f":"$C86","v":4},{"$f":"$C86","v":4},null,null,{"$f":"$C86","v":4},4,4,4,null,null,null,{"$f":"_xlfn.TEXTJOIN(\"^\",,AX84:AX98)","v":"101^102^104^105"}]
[null,null,2,{"$f":"$C87","v":2},null,2,null,2,2,2,null,2,2,null,null,{"$f":"_xlfn.TEXTJOIN(\"^\",,G84:G98)","v":"101^102^103^104^105"},null,2,{"$nulls":11},{"$f":"_xlfn.TEXTJOIN(\"^\",,U84:U98)","v":"0^0"},null,2,{"$nulls":11},{"$f":"_xlfn.TEXTJOIN(\"^\",,AK84:AK98)","v":"0^0^0"},null,2,2,null,{"$f":"$C87","v":2},null,null,2,null,2,null,null,null,{"$f":"_xlfn.TEXTJOIN(\"^\",,AY84:AY98)","v":"4^1^5"}]
[null,null,1,{"$f":"$C88","v":1},{"$f":"$C88","v":1},1,null,1,1,1,null,1,1,null,null,{"$f":"_xlfn.TEXTJOIN(\"^\",,H84:H98)","v":"6^4^2^1^3^5^7"},null,1,100,0,0,0,0,0,0,100,null,null,null,{"$f":"_xlfn.TEXTJOIN(\"^\",,V84:V98)","v":"0^0^0"},null,1,0,0,0,100,0,0,0,0,null,null,null,{"$f":"_xlfn.TEXTJOIN(\"^\",,AL84:AL98)","v":"0^0^0"},null,1,null,{"$f":"$C88","v":1},null,null,{"$f":"$C88","v":1},null,{"$f":"$C88","v":1},{"$nulls":4},{"$f":"_xlfn.TEXTJOIN(\"^\",,AZ84:AZ98)","v":"6^4^2^3^5^7"}]
[null,null,3,{"$f":"$C89","v":3},null,3,null,3,3,3,null,3,3,null,null,{"$f":"_xlfn.TEXTJOIN(\"^\",,I84:I98)","v":"8^6^4^2^1^3^5^7^9"},null,3,0,0,0,0,0,0,0,0,null,null,null,{"$f":"_xlfn.TEXTJOIN(\"^\",,W84:W98)","v":"0^0"},null,3,0,0,0,0,0,0,0,0,null,null,null,{"$f":"_xlfn.TEXTJOIN(\"^\",,AM84:AM98)","v":"0^0"},null,3,{"$f":"$C89","v":3},null,{"$f":"$C89","v":3},null,null,{"$f":"$C89","v":3},null,{"$f":"$C89","v":3},null,null,null,{"$f":"_xlfn.TEXTJOIN(\"^\",,BA84:BA98)","v":"6^4^1^5^7"}]
[null,null,5,5,5,5,null,5,5,5,null,5,5,null,null,{"$f":"_xlfn.TEXTJOIN(\"^\",,J84:J98)","v":"6^4^2^1^3^5^7"},null,5,0,null,null,0,null,0,0,{"$nulls":4},{"$f":"_xlfn.TEXTJOIN(\"^\",,X84:X98)","v":"0^0^0^0"},null,5,null,0,null,null,0,0,null,0,null,null,null,{"$f":"_xlfn.TEXTJOIN(\"^\",,AN84:AN98)","v":"0^0^0^0"},null,5,5,{"$f":"$C90","v":5},null,null,{"$f":"$C90","v":5},5,5,5,null,null,null,{"$f":"_xlfn.TEXTJOIN(\"^\",,BB84:BB98)","v":"8^6^4^2^3^5^7^9"}]
[null,null,7,null,7,7,null,7,7,7,null,7,7,null,null,{"$f":"_xlfn.TEXTJOIN(\"^\",,K84:K98)","v":"101^102^103^104^105"},null,7,{"$nulls":5},0,{"$nulls":5},{"$f":"_xlfn.TEXTJOIN(\"^\",,Y84:Y98)","v":"0^0^0"},null,7,{"$nulls":7},0,null,null,null,{"$f":"_xlfn.TEXTJOIN(\"^\",,AO84:AO98)","v":""},null,7,{"$nulls":5},7,7,7,null,null,null,{"$f":"_xlfn.TEXTJOIN(\"^\",,BC84:BC98)","v":""}]
[null,null,9,{"$nulls":5},9,null,null,null,9,null,null,{"$f":"_xlfn.TEXTJOIN(\"^\",,L84:L98)","v":"6^4^2^1^3^5^7"},null,9,{"$nulls":13},9,{"$nulls":11},{"$f":"_xlfn.TEXTJOIN(\"^\",,AP84:AP98)","v":""},null,9,{"$nulls":7},9,null,null,null,{"$f":"_xlfn.TEXTJOIN(\"^\",,BD84:BD98)","v":""}]
[null,null,"空降",{"$nulls":12},{"$f":"_xlfn.TEXTJOIN(\"^\",,M84:M98)","v":"8^6^4^2^1^3^5^7^9"},null,"空降",{"$nulls":13},"空降",{"$nulls":11},{"$f":"_xlfn.TEXTJOIN(\"^\",,AQ84:AQ92)","v":""},null,"空降",{"$nulls":11},{"$f":"_xlfn.TEXTJOIN(\"^\",,BE84:BE92)","v":""}]
[null,null,101,null,null,null,{"$f":"$C94","v":101},null,null,null,{"$f":"$C94","v":101},{"$nulls":4},{"$f":"_xlfn.TEXTJOIN(\"^\",,N84:N98)","v":""},null,101,{"$nulls":11},{"$f":"_xlfn.TEXTJOIN(\"^\",,Z84:Z98)","v":"100^0"},null,101,{"$nulls":13},101,null,null,null,{"$f":"$C94","v":101}]
[null,null,102,null,null,null,102,null,null,null,102,{"$nulls":6},102,{"$nulls":11},{"$f":"_xlfn.TEXTJOIN(\"^\",,AA84:AA98)","v":""},null,102,{"$nulls":13},102,null,null,null,102]
[null,null,103,null,null,null,103,null,null,null,103,{"$nulls":6},103,{"$nulls":11},{"$f":"_xlfn.TEXTJOIN(\"^\",,AB84:AB98)","v":""},null,103,{"$nulls":13},103]
[null,null,104,null,null,null,104,null,null,null,104,{"$nulls":6},104,{"$nulls":13},104,{"$nulls":13},104,null,null,null,{"$f":"$C97","v":104}]
[null,null,105,null,null,null,105,null,null,null,105,{"$nulls":6},105,{"$nulls":13},105,{"$nulls":13},105,null,null,null,105]
[{"$nulls":14},"最终",{"$f":"_xlfn.TEXTJOIN(\"^\",,P84:P98)","v":"4^2^1^3^5^6^4^1^5^7^6^4^2^1^3^5^7^101^102^103^104^105^6^4^2^1^3^5^7^8^6^4^2^1^3^5^7^9^6^4^2^1^3^5^7^101^102^103^104^105^6^4^2^1^3^5^7^8^6^4^2^1^3^5^7^9"},{"$nulls":12},"最终",{"$f":"_xlfn.TEXTJOIN(\"^\",,AD84:AD98)","v":"100^0^0^0^0^0^0^0^0^0^0^0^0^0^0^0^0^0^0^100^0"},{"$nulls":12},"最终",{"$f":"_xlfn.TEXTJOIN(\"^\",,AR83:AR98)","v":"0^0^0^0^0^0^0^100^0^0^0^0^0^0^0^0^0^0^0^0^0"},{"$nulls":12},"最终",{"$f":"_xlfn.TEXTJOIN(\"^\",,BF83:BF98)","v":"4^2^3^5^4^1^5^2^3^101^102^104^105^4^1^5^6^4^2^3^5^7^6^4^1^5^7^8^6^4^2^3^5^7^9"}]
[]
[null,null,"时间",5,10,16,20,27,35,45,50,60,70,{"$nulls":4},"时间",5,10,15,20,30,45,60,70,null,null,null,{"$f":"_xlfn.TEXTJOIN(\"^\",,S102:S110)","v":"18^4^6"},null,"时间",4,6,10,15,25,40,57,75,null,null,null,{"$f":"_xlfn.TEXTJOIN(\"^\",,AG102:AG110)","v":"15^5"},null,"时间",2,4,6,8,10,17,25,35,null,null,null,{"$f":"_xlfn.TEXTJOIN(\"^\",,AU102:AU110)","v":"2^2^2^2"}]
[null,null,8,{"$nulls":5},{"$f":"I$101","v":35},null,null,null,{"$f":"M$101","v":70},null,null,{"$f":"_xlfn.TEXTJOIN(\"^\",,D102:D111)","v":"5^5^5^5^5"},null,8,{"$nulls":11},{"$f":"_xlfn.TEXTJOIN(\"^\",,T102:T110)","v":"10^4"},null,8,{"$nulls":11},{"$f":"_xlfn.TEXTJOIN(\"^\",,AH102:AH110)","v":"10^3^2"},null,8,{"$nulls":7},{"$f":"BB$101","v":35},null,null,null,{"$f":"_xlfn.TEXTJOIN(\"^\",,AV102:AV110)","v":"4^4^4"}]
[null,null,6,null,{"$f":"E$101","v":10},16,null,{"$f":"H$101","v":27},35,45,null,{"$f":"L$101","v":60},70,null,null,{"$f":"_xlfn.TEXTJOIN(\"^\",,E102:E111)","v":"10^10^10^10^10"},null,6,{"$nulls":11},{"$f":"_xlfn.TEXTJOIN(\"^\",,U102:U110)","v":"12^3"},null,6,{"$nulls":11},{"$f":"_xlfn.TEXTJOIN(\"^\",,AI102:AI110)","v":"12^4"},null,6,{"$nulls":5},{"$f":"AZ$101","v":17},25,35,null,null,null,{"$f":"_xlfn.TEXTJOIN(\"^\",,AW102:AW110)","v":"6^6"}]
[null,null,4,{"$f":"D$101","v":5},10,16,20,27,35,45,50,60,70,null,null,{"$f":"_xlfn.TEXTJOIN(\"^\",,F102:F111)","v":"16^16^16^16^16^16^16"},null,4,{"$nulls":11},{"$f":"_xlfn.TEXTJOIN(\"^\",,V102:V110)","v":"12^3^2"},null,4,{"$nulls":11},{"$f":"_xlfn.TEXTJOIN(\"^\",,AJ102:AJ110)","v":"9^3"},null,4,{"$f":"AU$101","v":2},{"$f":"AV$101","v":4},null,{"$f":"AX$101","v":8},{"$f":"AY$101","v":10},17,25,35,null,null,null,{"$f":"_xlfn.TEXTJOIN(\"^\",,AX102:AX110)","v":"8^8^8^8"}]
[null,null,2,5,null,16,20,27,35,45,50,60,70,null,null,{"$f":"_xlfn.TEXTJOIN(\"^\",,G102:G111)","v":"20^20^20^20^20"},null,2,{"$nulls":11},{"$f":"_xlfn.TEXTJOIN(\"^\",,W102:W110)","v":"14^4"},null,2,{"$nulls":11},{"$f":"_xlfn.TEXTJOIN(\"^\",,AK102:AK110)","v":"13^3^2"},null,2,2,null,{"$f":"AW$101","v":6},8,null,17,null,35,null,null,null,{"$f":"_xlfn.TEXTJOIN(\"^\",,AY102:AY110)","v":"10^10^10"}]
[null,null,1,5,{"$f":"E$101","v":10},16,20,27,35,45,50,60,70,null,null,{"$f":"_xlfn.TEXTJOIN(\"^\",,H102:H111)","v":"27^27^27^27^27^27^27"},null,1,18,10,12,12,14,12,14,9,null,null,null,{"$f":"_xlfn.TEXTJOIN(\"^\",,X102:X110)","v":"12^3^2^2"},null,1,15,10,12,9,13,14,15,14,null,null,null,{"$f":"_xlfn.TEXTJOIN(\"^\",,AL102:AL110)","v":"14^3^2"},null,1,null,{"$f":"AV$101","v":4},null,null,{"$f":"AY$101","v":10},null,{"$f":"BA$101","v":25},{"$nulls":4},{"$f":"_xlfn.TEXTJOIN(\"^\",,AZ102:AZ110)","v":"17^17^17^17^17^17"}]
[null,null,3,{"$f":"D$101","v":5},null,16,20,27,35,45,50,60,70,null,null,{"$f":"_xlfn.TEXTJOIN(\"^\",,I102:I111)","v":"35^35^35^35^35^35^35^35^35"},null,3,4,4,3,3,4,3,4,4,null,null,null,{"$f":"_xlfn.TEXTJOIN(\"^\",,Y102:Y110)","v":"14^4^2"},null,3,5,3,4,3,3,3,4,3,null,null,null,{"$f":"_xlfn.TEXTJOIN(\"^\",,AM102:AM110)","v":"15^4"},null,3,{"$f":"AU$101","v":2},null,{"$f":"AW$101","v":6},{"$f":"AX$101","v":8},null,{"$f":"AZ$101","v":17},null,{"$f":"BB$101","v":35},null,null,null,{"$f":"_xlfn.TEXTJOIN(\"^\",,BA102:BA110)","v":"25^25^25^25^25"}]
[null,null,5,5,10,16,20,27,35,45,50,60,70,null,null,{"$f":"_xlfn.TEXTJOIN(\"^\",,J102:J111)","v":"45^45^45^45^45^45^45"},null,5,6,null,null,2,null,2,2,{"$nulls":4},{"$f":"_xlfn.TEXTJOIN(\"^\",,Z102:Z110)","v":"9^4"},null,5,null,2,null,null,2,2,null,2,null,null,null,{"$f":"_xlfn.TEXTJOIN(\"^\",,AN102:AN110)","v":"14^3^2^2"},null,5,2,{"$f":"AV$101","v":4},null,8,{"$f":"AY$101","v":10},17,25,35,null,null,null,{"$f":"_xlfn.TEXTJOIN(\"^\",,BB102:BB110)","v":"35^35^35^35^35^35^35^35"}]
[null,null,7,null,10,16,null,27,35,45,null,60,70,null,null,{"$f":"_xlfn.TEXTJOIN(\"^\",,K102:K111)","v":"50^50^50^50^50"},null,7,{"$nulls":5},2,{"$nulls":5},{"$f":"_xlfn.TEXTJOIN(\"^\",,AA102:AA110)","v":""},null,7,{"$nulls":7},2,null,null,null,{"$f":"_xlfn.TEXTJOIN(\"^\",,AO102:AO110)","v":""},null,7,{"$nulls":5},17,25,35,null,null,null,{"$f":"_xlfn.TEXTJOIN(\"^\",,BC102:BC110)","v":""}]
[null,null,9,{"$nulls":5},35,null,null,null,70,null,null,{"$f":"_xlfn.TEXTJOIN(\"^\",,L102:L111)","v":"60^60^60^60^60^60^60"},null,9,{"$nulls":11},{"$f":"_xlfn.TEXTJOIN(\"^\",,AB102:AB110)","v":""},null,9,{"$nulls":11},{"$f":"_xlfn.TEXTJOIN(\"^\",,AP102:AP110)","v":""},null,9,{"$nulls":7},35,null,null,null,{"$f":"_xlfn.TEXTJOIN(\"^\",,BD102:BD110)","v":""}]
[{"$nulls":15},{"$f":"_xlfn.TEXTJOIN(\"^\",,M102:M111)","v":"70^70^70^70^70^70^70^70^70"},{"$nulls":13},{"$f":"_xlfn.TEXTJOIN(\"^\",,AC102:AC110)","v":""},{"$nulls":13},{"$f":"_xlfn.TEXTJOIN(\"^\",,AQ102:AQ110)","v":""},{"$nulls":13},{"$f":"_xlfn.TEXTJOIN(\"^\",,BE102:BE110)","v":""}]
[{"$nulls":15},{"$f":"_xlfn.TEXTJOIN(\"^\",,N102:N111)","v":""},{"$nulls":12},"最终",{"$f":"_xlfn.TEXTJOIN(\"^\",,AD101:AD111)","v":"18^4^6^10^4^12^3^12^3^2^14^4^12^3^2^2^14^4^2^9^4"},{"$nulls":12},"最终",{"$f":"_xlfn.TEXTJOIN(\"^\",,AR101:AR111)","v":"15^5^10^3^2^12^4^9^3^13^3^2^14^3^2^15^4^14^3^2^2"},{"$nulls":12},"最终",{"$f":"_xlfn.TEXTJOIN(\"^\",,BF101:BF111)","v":"2^2^2^2^4^4^4^6^6^8^8^8^8^10^10^10^17^17^17^17^17^17^25^25^25^25^25^35^35^35^35^35^35^35^35"}]
[{"$nulls":14},"最终",{"$f":"_xlfn.TEXTJOIN(\"^\",,P102:P112)","v":"5^5^5^5^5^10^10^10^10^10^16^16^16^16^16^16^16^20^20^20^20^20^27^27^27^27^27^27^27^35^35^35^35^35^35^35^35^35^45^45^45^45^45^45^45^50^50^50^50^50^60^60^60^60^60^60^60^70^70^70^70^70^70^70^70^70"}]
[{"$nulls":15},{"$f":"COUNT(D102:M110)","v":66},{"$nulls":13},{"$f":"SUM(S102:Z110)","v":144},{"$nulls":13},{"$f":"SUM(AG102:AN110)","v":140},{"$nulls":13},{"$f":"COUNT(AU102:BB110)","v":35}]
[{"$nulls":57},{"$f":"SUM(P114:BF114)","v":385}]
[]
[{"$nulls":4},{"$f":"E118-D118","v":5},{"$f":"F118-E118","v":7},8,10,5,10,10,10,5,{"$nulls":6},{"$f":"T118-S118","v":5},5,10,15,16,17,7,{"$nulls":7},{"$f":"AH118-AG118","v":6},5,7,8,10,10,5,{"$nulls":7},{"$f":"AV118-AU118","v":2},3,4,6,7,10,10]
[1,"熔谷-3","波1·怪物",5,10,17,25,35,40,50,60,70,75,null,null,null,3,"波2·怪物",5,10,15,25,40,56,73,80,{"$nulls":4},1,"波3·怪物",4,10,15,22,30,40,50,55,{"$nulls":4},1,"波4·怪物",3,5,8,12,18,25,35,45]
[null,"5m",8,null,null,60682,null,60684,null,60681,60684,{"$nulls":4},{"$f":"_xlfn.TEXTJOIN(\"^\",,D119:D128)","v":"60681^60681^60681^60681^60681"},null,8,{"$nulls":11},{"$f":"_xlfn.TEXTJOIN(\"^\",,S119:S128)","v":"60681^60682^60684"},null,8,{"$nulls":4},60684,60681,{"$nulls":5},{"$f":"_xlfn.TEXTJOIN(\"^\",,AG119:AG128)","v":"60683^60682^60683^60682^60683"},null,8,{"$nulls":5},60684,null,60682,null,null,null,{"$f":"_xlfn.TEXTJOIN(\"^\",,AU119:AU128)","v":"60685^60685^60685"}]
[null,null,6,null,60684,null,60682,60682,null,60681,60682,60682,null,null,null,{"$f":"_xlfn.TEXTJOIN(\"^\",,E119:E128)","v":"60684^60682^60682^60682^60684"},null,6,{"$nulls":11},{"$f":"_xlfn.TEXTJOIN(\"^\",,T119:T128)","v":"60681^60683"},null,6,null,60684,null,60682,60682,60681,60682,{"$nulls":4},{"$f":"_xlfn.TEXTJOIN(\"^\",,AH119:AH128)","v":"60684^60681^60682^60681^60682^60681^60684"},null,6,null,null,60684,null,60682,null,60682,{"$nulls":4},{"$f":"_xlfn.TEXTJOIN(\"^\",,AV119:AV128)","v":"60682^60682^60682"}]
[null,null,4,60681,null,60681,60681,null,60685,60682,60681,60681,60685,null,null,{"$f":"_xlfn.TEXTJOIN(\"^\",,F119:F128)","v":"60682^60681^60683^60684^60683^60681^60682"},null,4,{"$nulls":11},{"$f":"_xlfn.TEXTJOIN(\"^\",,U119:U128)","v":"60681^60682"},null,4,60683,60681,60685,60681,null,60682,60681,60685,null,null,null,{"$f":"_xlfn.TEXTJOIN(\"^\",,AI119:AI128)","v":"60685^60685^60685^60685^60685"},null,4,60685,null,null,60681,60681,60681,60681,60682,null,null,null,{"$f":"_xlfn.TEXTJOIN(\"^\",,AW119:AW128)","v":"60684^60683^60684"}]
[null,null,2,60681,60682,60683,60681,60683,60685,null,60683,60683,60685,null,null,{"$f":"_xlfn.TEXTJOIN(\"^\",,G119:G128)","v":"60682^60681^60681^60684^60681^60681^60682"},null,2,{"$nulls":11},{"$f":"_xlfn.TEXTJOIN(\"^\",,V119:V128)","v":"60685^60682"},null,2,60682,60682,60685,60683,60681,60684,60683,60685,null,null,null,{"$f":"_xlfn.TEXTJOIN(\"^\",,AJ119:AJ128)","v":"60682^60681^60683^60684^60683^60681^60682"},null,2,null,60682,null,60681,60683,60682,60683,60681,null,null,null,{"$f":"_xlfn.TEXTJOIN(\"^\",,AX119:AX128)","v":"60681^60681^60681^60681"}]
[null,null,1,60681,60682,60684,60684,60682,60685,60682,null,60683,60685,null,null,{"$f":"_xlfn.TEXTJOIN(\"^\",,H119:H128)","v":"60684^60682^60683^60682^60683^60682^60684"},null,1,60681,60681,60681,60685,60681,60681,60681,60685,null,null,null,{"$f":"_xlfn.TEXTJOIN(\"^\",,W119:W128)","v":"60681^60682^60684"},null,1,60683,60681,60685,60684,60681,60682,60684,60685,null,null,null,{"$f":"_xlfn.TEXTJOIN(\"^\",,AK119:AK128)","v":"60684^60682^60681^60681^60681^60682^60684"},null,1,60685,60682,60683,null,null,60682,60684,60683,null,null,null,{"$f":"_xlfn.TEXTJOIN(\"^\",,AY119:AY128)","v":"60682^60681^60683^60683^60681^60682"}]
[null,null,3,60681,60682,60683,60681,60683,60685,null,60683,60683,60685,null,null,{"$f":"_xlfn.TEXTJOIN(\"^\",,I119:I128)","v":"60685^60685^60685^60685^60685"},null,3,60682,60683,60682,60682,60682,60683,60682,60682,null,null,null,{"$f":"_xlfn.TEXTJOIN(\"^\",,X119:X128)","v":"60681^60683^60682^60684"},null,3,60682,60682,60685,60683,60681,60684,60683,60685,null,null,null,{"$f":"_xlfn.TEXTJOIN(\"^\",,AL119:AL128)","v":"60681^60681^60682^60684^60682^60684^60682^60681^60681"},null,3,null,60682,null,60681,60683,60682,60683,60681,null,null,null,{"$f":"_xlfn.TEXTJOIN(\"^\",,AZ119:AZ128)","v":"60684^60681^60682^60682^60682^60681^60684"}]
[null,null,5,60681,null,60681,60681,null,60685,60682,60681,60681,60685,null,null,{"$f":"_xlfn.TEXTJOIN(\"^\",,J119:J128)","v":"60681^60681^60682^60682^60682^60681^60681"},null,5,60684,null,null,null,60684,60682,60684,60684,null,null,null,{"$f":"_xlfn.TEXTJOIN(\"^\",,Y119:Y128)","v":"60681^60682^60684"},null,5,60683,60681,60685,60681,null,60682,60681,60685,null,null,null,{"$f":"_xlfn.TEXTJOIN(\"^\",,AM119:AM128)","v":"60682^60681^60683^60684^60683^60681^60682"},null,5,60685,null,null,60681,60681,60681,60681,60682,null,null,null,{"$f":"_xlfn.TEXTJOIN(\"^\",,BA119:BA128)","v":"60682^60681^60683^60684^60683^60681^60682"}]
[null,null,7,null,60684,null,60682,60682,null,60681,60682,60682,null,null,null,{"$f":"_xlfn.TEXTJOIN(\"^\",,K119:K128)","v":"60684^60682^60681^60683^60683^60681^60682^60684"},null,7,{"$nulls":5},60684,{"$nulls":5},{"$f":"_xlfn.TEXTJOIN(\"^\",,Z119:Z128)","v":"60685^60682^60684"},null,7,null,60684,null,60682,60682,60681,60682,{"$nulls":4},{"$f":"_xlfn.TEXTJOIN(\"^\",,AN119:AN128)","v":"60685^60685^60685^60685^60685"},null,7,null,null,60684,null,60682,null,60682,{"$nulls":4},{"$f":"_xlfn.TEXTJOIN(\"^\",,BB119:BB128)","v":"60682^60682^60681^60683^60681^60682^60682"}]
[null,null,9,null,null,60682,null,60684,null,60681,60684,{"$nulls":4},{"$f":"_xlfn.TEXTJOIN(\"^\",,L119:L128)","v":"60682^60681^60683^60683^60683^60681^60682"},null,9,{"$nulls":11},{"$f":"_xlfn.TEXTJOIN(\"^\",,AA119:AA128)","v":""},null,9,{"$nulls":4},60684,60681,{"$nulls":5},{"$f":"_xlfn.TEXTJOIN(\"^\",,AO119:AO128)","v":""},null,9,{"$nulls":5},60684,null,60682,null,null,null,{"$f":"_xlfn.TEXTJOIN(\"^\",,BC119:BC128)","v":""}]
[{"$nulls":15},{"$f":"_xlfn.TEXTJOIN(\"^\",,M119:M128)","v":"60685^60685^60685^60685^60685"},{"$nulls":13},{"$f":"_xlfn.TEXTJOIN(\"^\",,AB119:AB128)","v":""},{"$nulls":13},{"$f":"_xlfn.TEXTJOIN(\"^\",,AP119:AP128)","v":""},{"$nulls":13},{"$f":"_xlfn.TEXTJOIN(\"^\",,BD119:BD128)","v":""}]
[{"$nulls":15},{"$f":"_xlfn.TEXTJOIN(\"^\",,N119:N128)","v":""},{"$nulls":13},{"$f":"_xlfn.TEXTJOIN(\"^\",,AC119:AC128)","v":""},{"$nulls":13},{"$f":"_xlfn.TEXTJOIN(\"^\",,AQ119:AQ128)","v":""},{"$nulls":13},{"$f":"_xlfn.TEXTJOIN(\"^\",,BE119:BE128)","v":""}]
[{"$nulls":14},"最终",{"$f":"_xlfn.TEXTJOIN(\"^\",,P119:P129)","v":"60681^60681^60681^60681^60681^60684^60682^60682^60682^60684^60682^60681^60683^60684^60683^60681^60682^60682^60681^60681^60684^60681^60681^60682^60684^60682^60683^60682^60683^60682^60684^60685^60685^60685^60685^60685^60681^60681^60682^60682^60682^60681^60681^60684^60682^60681^60683^60683^60681^60682^60684^60682^60681^60683^60683^60683^60681^60682^60685^60685^60685^60685^60685"},{"$nulls":12},"最终",{"$f":"_xlfn.TEXTJOIN(\"^\",,AD119:AD129)","v":"60681^60682^60684^60681^60683^60681^60682^60685^60682^60681^60682^60684^60681^60683^60682^60684^60681^60682^60684^60685^60682^60684"},{"$nulls":12},"最终",{"$f":"_xlfn.TEXTJOIN(\"^\",,AR119:AR129)","v":"60683^60682^60683^60682^60683^60684^60681^60682^60681^60682^60681^60684^60685^60685^60685^60685^60685^60682^60681^60683^60684^60683^60681^60682^60684^60682^60681^60681^60681^60682^60684^60681^60681^60682^60684^60682^60684^60682^60681^60681^60682^60681^60683^60684^60683^60681^60682^60685^60685^60685^60685^60685"},{"$nulls":12},"最终",{"$f":"_xlfn.TEXTJOIN(\"^\",,BF119:BF129)","v":"60685^60685^60685^60682^60682^60682^60684^60683^60684^60681^60681^60681^60681^60682^60681^60683^60683^60681^60682^60684^60681^60682^60682^60682^60681^60684^60682^60681^60683^60684^60683^60681^60682^60682^60682^60681^60683^60681^60682^60682"}]
[null,null,8,null,null,"巨魔矛手",null,"火精灵",null,"岩浆蝎","火精灵",{"$nulls":6},8,{"$nulls":13},8,{"$nulls":4},"火精灵","岩浆蝎",{"$nulls":7},8,{"$nulls":5},"火精灵",null,"巨魔矛手"]
[null,null,6,null,"火精灵",null,"巨魔矛手","巨魔矛手",null,"岩浆蝎","巨魔矛手","巨魔矛手",{"$nulls":5},6,{"$nulls":13},6,null,"火精灵",null,"巨魔矛手","巨魔矛手","岩浆蝎","巨魔矛手",{"$nulls":6},6,null,null,"火精灵",null,"巨魔矛手",null,"巨魔矛手"]
[null,null,4,"岩浆蝎",null,"岩浆蝎","岩浆蝎",null,"火山蜘蛛","巨魔矛手","岩浆蝎","岩浆蝎","火山蜘蛛",{"$nulls":4},4,{"$nulls":13},4,"岩浆战士","岩浆蝎","火山蜘蛛","岩浆蝎",null,"巨魔矛手","岩浆蝎","火山蜘蛛",{"$nulls":5},4,"火山蜘蛛",null,null,"岩浆蝎","岩浆蝎","岩浆蝎","岩浆蝎","巨魔矛手"]
[null,null,2,"岩浆蝎","巨魔矛手","岩浆战士","岩浆蝎","岩浆战士","火山蜘蛛",null,"岩浆战士","岩浆战士","火山蜘蛛",{"$nulls":4},2,{"$nulls":13},2,"巨魔矛手","巨魔矛手","火山蜘蛛","岩浆战士","岩浆蝎","火精灵","岩浆战士","火山蜘蛛",{"$nulls":5},2,null,"巨魔矛手",null,"岩浆蝎","岩浆战士","巨魔矛手","岩浆战士","岩浆蝎"]
[null,null,1,"岩浆蝎","巨魔矛手","火精灵","火精灵","巨魔矛手","火山蜘蛛","巨魔矛手",null,"岩浆战士","火山蜘蛛",{"$nulls":4},1,"岩浆蝎","岩浆蝎","岩浆蝎","火山蜘蛛","岩浆蝎","岩浆蝎","岩浆蝎","火山蜘蛛",{"$nulls":5},1,"岩浆战士","岩浆蝎","火山蜘蛛","火精灵","岩浆蝎","巨魔矛手","火精灵","火山蜘蛛",{"$nulls":5},1,"火山蜘蛛","巨魔矛手","岩浆战士",null,null,"巨魔矛手","火精灵","岩浆战士"]
[null,null,3,"岩浆蝎","巨魔矛手","岩浆战士","岩浆蝎","岩浆战士","火山蜘蛛",null,"岩浆战士","岩浆战士","火山蜘蛛",{"$nulls":4},3,"巨魔矛手","岩浆战士","巨魔矛手","巨魔矛手","巨魔矛手","岩浆战士","巨魔矛手","巨魔矛手",{"$nulls":5},3,"巨魔矛手","巨魔矛手","火山蜘蛛","岩浆战士","岩浆蝎","火精灵","岩浆战士","火山蜘蛛",{"$nulls":5},3,null,"巨魔矛手",null,"岩浆蝎","岩浆战士","巨魔矛手","岩浆战士","岩浆蝎"]
[null,null,5,"岩浆蝎",null,"岩浆蝎","岩浆蝎",null,"火山蜘蛛","巨魔矛手","岩浆蝎","岩浆蝎","火山蜘蛛",{"$nulls":4},5,"火精灵",null,null,null,"火精灵","巨魔矛手","火精灵","火精灵",{"$nulls":5},5,"岩浆战士","岩浆蝎","火山蜘蛛","岩浆蝎",null,"巨魔矛手","岩浆蝎","火山蜘蛛",{"$nulls":5},5,"火山蜘蛛",null,null,"岩浆蝎","岩浆蝎","岩浆蝎","岩浆蝎","巨魔矛手"]
[null,null,7,null,"火精灵",null,"巨魔矛手","巨魔矛手",null,"岩浆蝎","巨魔矛手","巨魔矛手",{"$nulls":5},7,{"$nulls":5},"火精灵",{"$nulls":7},7,null,"火精灵",null,"巨魔矛手","巨魔矛手","岩浆蝎","巨魔矛手",{"$nulls":6},7,null,null,"火精灵",null,"巨魔矛手",null,"巨魔矛手"]
[null,null,9,null,null,"巨魔矛手",null,"火精灵",null,"岩浆蝎","火精灵",{"$nulls":6},9,{"$nulls":13},9,{"$nulls":4},"火精灵","岩浆蝎",{"$nulls":7},9,{"$nulls":5},"火精灵",null,"巨魔矛手"]
[]
[null,null,"位置",5,10,17,25,35,40,50,60,70,75,{"$nulls":4},"位置",5,10,15,25,40,56,73,80,{"$nulls":5},"位置",4,10,15,22,30,40,50,55,null,null,null,{"$f":"_xlfn.TEXTJOIN(\"^\",,AG142:AG156)","v":"4^2^1^3^5"},null,"位置",3,5,8,12,18,25,35,45,null,null,null,{"$f":"_xlfn.TEXTJOIN(\"^\",,AU142:AU156)","v":"101^103^105"}]
[null,null,8,null,null,{"$f":"$C142","v":8},null,{"$f":"$C142","v":8},null,{"$f":"$C142","v":8},8,{"$nulls":4},{"$f":"_xlfn.TEXTJOIN(\"^\",,D142:D156)","v":"4^2^1^3^5"},null,8,{"$nulls":13},8,{"$nulls":4},{"$f":"$C142","v":8},8,{"$nulls":5},{"$f":"_xlfn.TEXTJOIN(\"^\",,AH142:AH156)","v":"6^4^2^1^3^5^7"},null,8,{"$nulls":5},{"$f":"$C142","v":8},null,{"$f":"$C142","v":8},null,null,null,{"$f":"_xlfn.TEXTJOIN(\"^\",,AV142:AV156)","v":"2^1^3"}]
[null,null,6,null,{"$f":"$C143","v":6},null,{"$f":"$C143","v":6},6,null,6,6,6,null,null,null,{"$f":"_xlfn.TEXTJOIN(\"^\",,E142:E156)","v":"6^2^1^3^7"},null,6,{"$nulls":11},{"$f":"_xlfn.TEXTJOIN(\"^\",,S142:S156)","v":"0^0^0"},null,6,null,{"$f":"$C143","v":6},null,{"$f":"$C143","v":6},6,6,6,{"$nulls":4},{"$f":"_xlfn.TEXTJOIN(\"^\",,AI142:AI156)","v":"101^102^103^104^105"},null,6,null,null,{"$f":"$C143","v":6},null,{"$f":"$C143","v":6},null,{"$f":"$C143","v":6},{"$nulls":4},{"$f":"_xlfn.TEXTJOIN(\"^\",,AW142:AW156)","v":"6^1^7"}]
[null,null,4,{"$f":"$C144","v":4},null,{"$f":"$C144","v":4},4,null,null,4,4,4,null,null,null,{"$f":"_xlfn.TEXTJOIN(\"^\",,F142:F156)","v":"8^4^2^1^3^5^9"},null,4,{"$nulls":11},{"$f":"_xlfn.TEXTJOIN(\"^\",,T142:T156)","v":"0^0"},null,4,{"$f":"$C144","v":4},{"$f":"$C144","v":4},null,4,null,4,4,{"$nulls":4},{"$f":"_xlfn.TEXTJOIN(\"^\",,AJ142:AJ156)","v":"6^4^2^1^3^5^7"},null,4,null,null,null,{"$f":"$C144","v":4},4,4,4,4,null,null,null,{"$f":"_xlfn.TEXTJOIN(\"^\",,AX142:AX156)","v":"4^2^3^5"}]
[null,null,2,{"$f":"$C145","v":2},{"$f":"$C145","v":2},2,2,{"$f":"$C145","v":2},null,null,2,{"$f":"$C145","v":2},null,null,null,{"$f":"_xlfn.TEXTJOIN(\"^\",,G142:G156)","v":"6^4^2^1^3^5^7"},null,2,{"$nulls":11},{"$f":"_xlfn.TEXTJOIN(\"^\",,U142:U156)","v":"0^0"},null,2,{"$f":"$C145","v":2},2,null,2,2,2,2,{"$nulls":4},{"$f":"_xlfn.TEXTJOIN(\"^\",,AK142:AK156)","v":"8^6^2^1^3^7^9"},null,2,null,{"$f":"$C145","v":2},null,2,2,2,2,2,null,null,null,{"$f":"_xlfn.TEXTJOIN(\"^\",,AY142:AY156)","v":"6^4^2^3^5^7"}]
[null,null,1,{"$f":"$C146","v":1},1,1,1,{"$f":"$C146","v":1},null,{"$f":"$C146","v":1},null,1,null,null,null,{"$f":"_xlfn.TEXTJOIN(\"^\",,H142:H156)","v":"8^6^2^1^3^7^9"},null,1,0,0,0,100,0,0,0,100,null,null,null,{"$f":"_xlfn.TEXTJOIN(\"^\",,V142:V156)","v":"100^0"},null,1,{"$f":"$C146","v":1},1,null,1,1,1,1,{"$nulls":4},{"$f":"_xlfn.TEXTJOIN(\"^\",,AL142:AL156)","v":"8^6^4^2^1^3^5^7^9"},null,1,null,1,{"$f":"$C146","v":1},null,null,1,1,1,null,null,null,{"$f":"_xlfn.TEXTJOIN(\"^\",,AZ142:AZ156)","v":"8^4^2^1^3^5^9"}]
[null,null,3,{"$f":"$C147","v":3},3,3,3,{"$f":"$C147","v":3},null,null,{"$f":"$C147","v":3},{"$f":"$C147","v":3},null,null,null,{"$f":"_xlfn.TEXTJOIN(\"^\",,I142:I156)","v":"101^102^103^104^105"},null,3,0,0,0,0,0,0,0,0,null,null,null,{"$f":"_xlfn.TEXTJOIN(\"^\",,W142:W156)","v":"0^0^0"},null,3,{"$f":"$C147","v":3},3,null,3,3,3,3,{"$nulls":4},{"$f":"_xlfn.TEXTJOIN(\"^\",,AM142:AM156)","v":"6^4^2^1^3^5^7"},null,3,null,3,null,{"$f":"$C147","v":3},3,3,3,3,null,null,null,{"$f":"_xlfn.TEXTJOIN(\"^\",,BA142:BA156)","v":"6^4^2^1^3^5^7"}]
[null,null,5,5,null,5,5,null,null,{"$f":"$C148","v":5},5,5,null,null,null,{"$f":"_xlfn.TEXTJOIN(\"^\",,J142:J156)","v":"8^6^4^1^5^7^9"},null,5,0,null,null,null,0,0,0,0,null,null,null,{"$f":"_xlfn.TEXTJOIN(\"^\",,X142:X156)","v":"0^0^0^0"},null,5,{"$f":"$C148","v":5},5,null,5,null,5,5,{"$nulls":4},{"$f":"_xlfn.TEXTJOIN(\"^\",,AN142:AN156)","v":"101^102^103^104^105"},null,5,null,null,null,5,5,5,5,5,null,null,null,{"$f":"_xlfn.TEXTJOIN(\"^\",,BB142:BB156)","v":"8^4^2^1^3^5^9"}]
[null,null,7,null,{"$f":"$C149","v":7},null,7,7,null,7,7,7,null,null,null,{"$f":"_xlfn.TEXTJOIN(\"^\",,K142:K156)","v":"8^6^4^2^3^5^7^9"},null,7,{"$nulls":5},0,{"$nulls":5},{"$f":"_xlfn.TEXTJOIN(\"^\",,Y142:Y156)","v":"0^0^0"},null,7,null,{"$f":"$C149","v":7},null,7,7,7,7,{"$nulls":4},{"$f":"_xlfn.TEXTJOIN(\"^\",,AO142:AO156)","v":""},null,7,null,null,{"$f":"$C149","v":7},null,7,null,7,{"$nulls":4},{"$f":"_xlfn.TEXTJOIN(\"^\",,BC142:BC156)","v":""}]
[null,null,9,null,null,{"$f":"$C150","v":9},null,9,null,9,9,{"$nulls":4},{"$f":"_xlfn.TEXTJOIN(\"^\",,L142:L156)","v":"6^4^2^1^3^5^7"},null,9,{"$nulls":13},9,{"$nulls":4},9,9,{"$nulls":5},{"$f":"_xlfn.TEXTJOIN(\"^\",,AP142:AP156)","v":""},null,9,{"$nulls":5},{"$f":"$C150","v":9},null,{"$f":"$C150","v":9},null,null,null,{"$f":"_xlfn.TEXTJOIN(\"^\",,BD142:BD156)","v":""}]
[null,null,"空降",{"$nulls":12},{"$f":"_xlfn.TEXTJOIN(\"^\",,M142:M156)","v":"101^102^103^104^105"},null,"空降",{"$nulls":13},"空降",{"$nulls":11},{"$f":"_xlfn.TEXTJOIN(\"^\",,AQ142:AQ150)","v":""},null,"空降",{"$nulls":11},{"$f":"_xlfn.TEXTJOIN(\"^\",,BE142:BE150)","v":""}]
[null,null,101,{"$nulls":5},{"$f":"$C152","v":101},null,null,null,{"$f":"$C152","v":101},null,null,{"$f":"_xlfn.TEXTJOIN(\"^\",,N142:N156)","v":""},null,101,{"$nulls":11},{"$f":"_xlfn.TEXTJOIN(\"^\",,Z142:Z156)","v":"100^0^0"},null,101,null,null,{"$f":"$C152","v":101},{"$nulls":4},{"$f":"$C152","v":101},{"$nulls":5},101,{"$f":"$C152","v":101}]
[null,null,102,{"$nulls":5},102,null,null,null,102,{"$nulls":4},102,{"$nulls":11},{"$f":"_xlfn.TEXTJOIN(\"^\",,AA142:AA156)","v":""},null,102,null,null,102,{"$nulls":4},102,{"$nulls":5},102]
[null,null,103,{"$nulls":5},103,null,null,null,103,{"$nulls":4},103,{"$nulls":11},{"$f":"_xlfn.TEXTJOIN(\"^\",,AB142:AB156)","v":""},null,103,null,null,103,{"$nulls":4},103,{"$nulls":5},103,{"$f":"$C154","v":103}]
[null,null,104,{"$nulls":5},104,null,null,null,104,{"$nulls":4},104,{"$nulls":13},104,null,null,104,{"$nulls":4},104,{"$nulls":5},104]
[null,null,105,{"$nulls":5},105,null,null,null,105,{"$nulls":4},105,{"$nulls":13},105,null,null,105,{"$nulls":4},105,{"$nulls":5},105,{"$f":"$C156","v":105}]
[{"$nulls":14},"最终",{"$f":"_xlfn.TEXTJOIN(\"^\",,P142:P156)","v":"4^2^1^3^5^6^2^1^3^7^8^4^2^1^3^5^9^6^4^2^1^3^5^7^8^6^2^1^3^7^9^101^102^103^104^105^8^6^4^1^5^7^9^8^6^4^2^3^5^7^9^6^4^2^1^3^5^7^101^102^103^104^105"},{"$nulls":12},"最终",{"$f":"_xlfn.TEXTJOIN(\"^\",,AD142:AD156)","v":"0^0^0^0^0^0^0^100^0^0^0^0^0^0^0^0^0^0^0^100^0^0"},{"$nulls":12},"最终",{"$f":"_xlfn.TEXTJOIN(\"^\",,AR141:AR156)","v":"4^2^1^3^5^6^4^2^1^3^5^7^101^102^103^104^105^6^4^2^1^3^5^7^8^6^2^1^3^7^9^8^6^4^2^1^3^5^7^9^6^4^2^1^3^5^7^101^102^103^104^105"},{"$nulls":12},"最终",{"$f":"_xlfn.TEXTJOIN(\"^\",,BF141:BF156)","v":"101^103^105^2^1^3^6^1^7^4^2^3^5^6^4^2^3^5^7^8^4^2^1^3^5^9^6^4^2^1^3^5^7^8^4^2^1^3^5^9"}]
[]
[null,null,"时间",5,10,17,25,35,40,50,60,70,75,{"$nulls":4},"时间",5,10,15,25,40,56,73,80,null,null,null,{"$f":"_xlfn.TEXTJOIN(\"^\",,S160:S168)","v":"18^4^4"},null,"时间",4,10,15,22,30,40,50,55,null,null,null,{"$f":"_xlfn.TEXTJOIN(\"^\",,AG160:AG168)","v":"4^4^4^4^4"},null,"时间",3,5,8,12,18,25,35,45,null,null,null,{"$f":"_xlfn.TEXTJOIN(\"^\",,AU160:AU168)","v":"3^3^3"}]
[null,null,8,null,null,{"$f":"F$159","v":17},null,{"$f":"H$159","v":35},null,{"$f":"J$159","v":50},60,{"$nulls":4},{"$f":"_xlfn.TEXTJOIN(\"^\",,D160:D169)","v":"5^5^5^5^5"},null,8,{"$nulls":11},{"$f":"_xlfn.TEXTJOIN(\"^\",,T160:T168)","v":"12^3"},null,8,{"$nulls":4},{"$f":"AK$159","v":30},40,{"$nulls":5},{"$f":"_xlfn.TEXTJOIN(\"^\",,AH160:AH168)","v":"10^10^10^10^10^10^10"},null,8,{"$nulls":5},{"$f":"AZ$159","v":25},null,{"$f":"BB$159","v":45},null,null,null,{"$f":"_xlfn.TEXTJOIN(\"^\",,AV160:AV168)","v":"5^5^5"}]
[null,null,6,null,{"$f":"E$159","v":10},null,{"$f":"G$159","v":25},35,null,50,60,70,null,null,null,{"$f":"_xlfn.TEXTJOIN(\"^\",,E160:E169)","v":"10^10^10^10^10"},null,6,{"$nulls":11},{"$f":"_xlfn.TEXTJOIN(\"^\",,U160:U168)","v":"13^4"},null,6,null,{"$f":"AH$159","v":10},null,{"$f":"AJ$159","v":22},30,40,50,{"$nulls":4},{"$f":"_xlfn.TEXTJOIN(\"^\",,AI160:AI168)","v":"15^15^15^15^15"},null,6,null,null,{"$f":"AW$159","v":8},null,{"$f":"AY$159","v":18},null,{"$f":"BA$159","v":35},{"$nulls":4},{"$f":"_xlfn.TEXTJOIN(\"^\",,AW160:AW168)","v":"8^8^8"}]
[null,null,4,{"$f":"D$159","v":5},null,{"$f":"F$159","v":17},25,null,{"$f":"I$159","v":40},50,60,70,75,null,null,{"$f":"_xlfn.TEXTJOIN(\"^\",,F160:F169)","v":"17^17^17^17^17^17^17"},null,4,{"$nulls":11},{"$f":"_xlfn.TEXTJOIN(\"^\",,V160:V168)","v":"9^5"},null,4,{"$f":"AG$159","v":4},{"$f":"AH$159","v":10},15,22,null,40,50,55,null,null,null,{"$f":"_xlfn.TEXTJOIN(\"^\",,AJ160:AJ168)","v":"22^22^22^22^22^22^22"},null,4,{"$f":"AU$159","v":3},null,null,{"$f":"AX$159","v":12},18,25,35,{"$f":"BB$159","v":45},null,null,null,{"$f":"_xlfn.TEXTJOIN(\"^\",,AX160:AX168)","v":"12^12^12^12"}]
[null,null,2,5,10,17,25,{"$f":"H$159","v":35},40,null,{"$f":"K$159","v":60},{"$f":"L$159","v":70},75,null,null,{"$f":"_xlfn.TEXTJOIN(\"^\",,G160:G169)","v":"25^25^25^25^25^25^25"},null,2,{"$nulls":11},{"$f":"_xlfn.TEXTJOIN(\"^\",,W160:W168)","v":"14^3^2"},null,2,{"$f":"AG$159","v":4},10,15,22,30,40,50,55,null,null,null,{"$f":"_xlfn.TEXTJOIN(\"^\",,AK160:AK168)","v":"30^30^30^30^30^30^30"},null,2,null,{"$f":"AV$159","v":5},null,12,18,25,35,45,null,null,null,{"$f":"_xlfn.TEXTJOIN(\"^\",,AY160:AY168)","v":"18^18^18^18^18^18"}]
[null,null,1,5,10,17,25,35,40,{"$f":"J$159","v":50},null,70,75,null,null,{"$f":"_xlfn.TEXTJOIN(\"^\",,H160:H169)","v":"35^35^35^35^35^35^35"},null,1,18,12,13,9,14,12,15,8,null,null,null,{"$f":"_xlfn.TEXTJOIN(\"^\",,X160:X168)","v":"12^3^3^2"},null,1,4,10,15,22,30,40,50,55,null,null,null,{"$f":"_xlfn.TEXTJOIN(\"^\",,AL160:AL168)","v":"40^40^40^40^40^40^40^40^40"},null,1,{"$f":"AU$159","v":3},5,{"$f":"AW$159","v":8},null,null,25,35,45,null,null,null,{"$f":"_xlfn.TEXTJOIN(\"^\",,AZ160:AZ168)","v":"25^25^25^25^25^25^25"}]
[null,null,3,5,10,17,25,{"$f":"H$159","v":35},40,null,{"$f":"K$159","v":60},{"$f":"L$159","v":70},75,null,null,{"$f":"_xlfn.TEXTJOIN(\"^\",,I160:I169)","v":"40^40^40^40^40"},null,3,4,3,4,5,3,3,4,4,null,null,null,{"$f":"_xlfn.TEXTJOIN(\"^\",,Y160:Y168)","v":"15^4^2"},null,3,4,10,15,22,30,40,50,55,null,null,null,{"$f":"_xlfn.TEXTJOIN(\"^\",,AM160:AM168)","v":"50^50^50^50^50^50^50"},null,3,null,5,null,{"$f":"AX$159","v":12},18,25,35,45,null,null,null,{"$f":"_xlfn.TEXTJOIN(\"^\",,BA160:BA168)","v":"35^35^35^35^35^35^35"}]
[null,null,5,5,null,17,25,null,40,50,60,70,75,null,null,{"$f":"_xlfn.TEXTJOIN(\"^\",,J160:J169)","v":"50^50^50^50^50^50^50"},null,5,4,null,null,null,2,3,2,2,null,null,null,{"$f":"_xlfn.TEXTJOIN(\"^\",,Z160:Z168)","v":"8^4^2"},null,5,{"$f":"AG$159","v":4},10,15,22,null,40,50,55,null,null,null,{"$f":"_xlfn.TEXTJOIN(\"^\",,AN160:AN168)","v":"55^55^55^55^55"},null,5,{"$f":"AU$159","v":3},null,null,12,18,25,35,45,null,null,null,{"$f":"_xlfn.TEXTJOIN(\"^\",,BB160:BB168)","v":"45^45^45^45^45^45^45"}]
[null,null,7,null,{"$f":"E$159","v":10},null,25,35,null,50,60,70,null,null,null,{"$f":"_xlfn.TEXTJOIN(\"^\",,K160:K169)","v":"60^60^60^60^60^60^60^60"},null,7,{"$nulls":5},2,{"$nulls":5},{"$f":"_xlfn.TEXTJOIN(\"^\",,AA160:AA168)","v":""},null,7,null,{"$f":"AH$159","v":10},null,22,30,40,50,{"$nulls":4},{"$f":"_xlfn.TEXTJOIN(\"^\",,AO160:AO168)","v":""},null,7,null,null,{"$f":"AW$159","v":8},null,18,null,35,{"$nulls":4},{"$f":"_xlfn.TEXTJOIN(\"^\",,BC160:BC168)","v":""}]
[null,null,9,null,null,{"$f":"F$159","v":17},null,35,null,50,60,{"$nulls":4},{"$f":"_xlfn.TEXTJOIN(\"^\",,L160:L169)","v":"70^70^70^70^70^70^70"},null,9,{"$nulls":11},{"$f":"_xlfn.TEXTJOIN(\"^\",,AB160:AB168)","v":""},null,9,{"$nulls":4},30,40,{"$nulls":5},{"$f":"_xlfn.TEXTJOIN(\"^\",,AP160:AP168)","v":""},null,9,{"$nulls":5},{"$f":"AZ$159","v":25},null,{"$f":"BB$159","v":45},null,null,null,{"$f":"_xlfn.TEXTJOIN(\"^\",,BD160:BD168)","v":""}]
[{"$nulls":15},{"$f":"_xlfn.TEXTJOIN(\"^\",,M160:M169)","v":"75^75^75^75^75"},{"$nulls":13},{"$f":"_xlfn.TEXTJOIN(\"^\",,AC160:AC168)","v":""},{"$nulls":13},{"$f":"_xlfn.TEXTJOIN(\"^\",,AQ160:AQ168)","v":""},{"$nulls":13},{"$f":"_xlfn.TEXTJOIN(\"^\",,BE160:BE168)","v":""}]
[{"$nulls":15},{"$f":"_xlfn.TEXTJOIN(\"^\",,N160:N169)","v":""},{"$nulls":12},"最终",{"$f":"_xlfn.TEXTJOIN(\"^\",,AD159:AD169)","v":"18^4^4^12^3^13^4^9^5^14^3^2^12^3^3^2^15^4^2^8^4^2"},{"$nulls":12},"最终",{"$f":"_xlfn.TEXTJOIN(\"^\",,AR159:AR169)","v":"4^4^4^4^4^10^10^10^10^10^10^10^15^15^15^15^15^22^22^22^22^22^22^22^30^30^30^30^30^30^30^40^40^40^40^40^40^40^40^40^50^50^50^50^50^50^50^55^55^55^55^55"},{"$nulls":12},"最终",{"$f":"_xlfn.TEXTJOIN(\"^\",,BF159:BF169)","v":"3^3^3^5^5^5^8^8^8^12^12^12^12^18^18^18^18^18^18^25^25^25^25^25^25^25^35^35^35^35^35^35^35^45^45^45^45^45^45^45"}]
[{"$nulls":14},"最终",{"$f":"_xlfn.TEXTJOIN(\"^\",,P160:P170)","v":"5^5^5^5^5^10^10^10^10^10^17^17^17^17^17^17^17^25^25^25^25^25^25^25^35^35^35^35^35^35^35^40^40^40^40^40^50^50^50^50^50^50^50^60^60^60^60^60^60^60^60^70^70^70^70^70^70^70^75^75^75^75^75"}]
[{"$nulls":15},{"$f":"COUNT(D160:M168)","v":63},{"$nulls":13},{"$f":"SUM(S160:Z168)","v":146},{"$nulls":13},{"$f":"COUNT(AG160:AN168)","v":52},{"$nulls":13},{"$f":"COUNT(AU160:BB168)","v":40}]
[{"$nulls":57},{"$f":"SUM(P172:BF172)","v":301}]
[]
[{"$nulls":4},{"$f":"E176-D176","v":10},{"$f":"F176-E176","v":15},15,5,15,16,17,7,15,{"$nulls":6},{"$f":"T176-S176","v":5},5,7,8,10,10,5,{"$nulls":7},{"$f":"AH176-AG176","v":6},5,15,16,17,7,15,{"$nulls":7},{"$f":"AV176-AU176","v":2},3,4,6,7,10,10]
[3,"熔谷-4","波1·怪物",5,15,30,45,50,65,81,98,105,120,null,null,null,1,"波2·怪物",5,10,15,22,30,40,50,55,{"$nulls":4},3,"波3·怪物",4,10,15,30,46,63,70,85,{"$nulls":4},1,"波4·怪物",3,5,8,12,18,25,35,45]
[null,"5m",8,{"$nulls":12},{"$f":"_xlfn.TEXTJOIN(\"^\",,D177:D186)","v":"60691^60692^60694"},null,8,{"$nulls":4},60694,60692,60694,{"$nulls":4},{"$f":"_xlfn.TEXTJOIN(\"^\",,S177:S186)","v":"60694^60691^60691^60691^60694"},null,8,{"$nulls":11},{"$f":"_xlfn.TEXTJOIN(\"^\",,AG177:AG186)","v":"60695^60691^60692"},null,8,{"$nulls":5},60694,null,60692,null,null,null,{"$f":"_xlfn.TEXTJOIN(\"^\",,AU177:AU186)","v":"60693^60693^60693"}]
[null,null,6,{"$nulls":12},{"$f":"_xlfn.TEXTJOIN(\"^\",,E177:E186)","v":"60691^60693"},null,6,null,60692,null,60692,null,null,60692,{"$nulls":4},{"$f":"_xlfn.TEXTJOIN(\"^\",,T177:T186)","v":"60692^60692^60691^60693^60691^60692^60692"},null,6,{"$nulls":11},{"$f":"_xlfn.TEXTJOIN(\"^\",,AH177:AH186)","v":"60691^60692^60694"},null,6,null,60692,null,null,null,60692,60692,60694,null,null,null,{"$f":"_xlfn.TEXTJOIN(\"^\",,AV177:AV186)","v":"60692^60692^60692"}]
[null,null,4,{"$nulls":12},{"$f":"_xlfn.TEXTJOIN(\"^\",,F177:F186)","v":"60691^60693^60692^60694"},null,4,60694,60692,60695,60693,60692,60691,60691,60695,null,null,null,{"$f":"_xlfn.TEXTJOIN(\"^\",,U177:U186)","v":"60695^60695^60695^60695^60695"},null,4,{"$nulls":11},{"$f":"_xlfn.TEXTJOIN(\"^\",,AI177:AI186)","v":"60691^60693"},null,4,60693,null,null,60691,60695,null,60691,60692,null,null,null,{"$f":"_xlfn.TEXTJOIN(\"^\",,AW177:AW186)","v":"60694^60694"}]
[null,null,2,{"$nulls":12},{"$f":"_xlfn.TEXTJOIN(\"^\",,G177:G186)","v":"60691^60692"},null,2,60691,60691,60695,60691,60691,60693,60691,60695,null,null,null,{"$f":"_xlfn.TEXTJOIN(\"^\",,V177:V186)","v":"60692^60693^60691^60693^60691^60693^60692"},null,2,{"$nulls":11},{"$f":"_xlfn.TEXTJOIN(\"^\",,AJ177:AJ186)","v":"60691^60692^60693"},null,2,null,null,60694,60691,60695,60693,60691,60693,null,null,null,{"$f":"_xlfn.TEXTJOIN(\"^\",,AX177:AX186)","v":"60691^60691^60691^60691"}]
[null,null,1,60691,60691,60691,60691,60695,60691,60691,60691,60695,60691,null,null,{"$f":"_xlfn.TEXTJOIN(\"^\",,H177:H186)","v":"60695^60692"},null,1,60691,60693,60695,60693,60693,60692,60692,60695,null,null,null,{"$f":"_xlfn.TEXTJOIN(\"^\",,W177:W186)","v":"60694^60692^60691^60693^60691^60692^60694"},null,1,60695,60691,60691,60691,60691,60691,60695,60691,null,null,null,{"$f":"_xlfn.TEXTJOIN(\"^\",,AK177:AK186)","v":"60691^60692^60694"},null,1,60693,60692,{"$nulls":4},60694,{"$nulls":4},{"$f":"_xlfn.TEXTJOIN(\"^\",,AY177:AY186)","v":"60695^60695^60695^60695"}]
[null,null,3,60692,60693,60693,60692,60692,60692,60693,60692,60693,60693,null,null,{"$f":"_xlfn.TEXTJOIN(\"^\",,I177:I186)","v":"60691^60692^60693^60694"},null,3,60691,60691,60695,60691,60691,60693,60691,60695,null,null,null,{"$f":"_xlfn.TEXTJOIN(\"^\",,X177:X186)","v":"60692^60691^60693^60692^60693^60691^60692"},null,3,60691,60692,60693,60692,60692,60693,60692,60693,null,null,null,{"$f":"_xlfn.TEXTJOIN(\"^\",,AL177:AL186)","v":"60691^60693^60692"},null,3,null,null,60694,60691,60695,60693,60691,60693,null,null,null,{"$f":"_xlfn.TEXTJOIN(\"^\",,AZ177:AZ186)","v":"60694^60692^60693^60693^60692^60694"}]
[null,null,5,60694,null,60692,null,null,60693,60692,60694,60694,60692,null,null,{"$f":"_xlfn.TEXTJOIN(\"^\",,J177:J186)","v":"60691^60693^60692"},null,5,60694,60692,60695,60693,60692,60691,60691,60695,null,null,null,{"$f":"_xlfn.TEXTJOIN(\"^\",,Y177:Y186)","v":"60694^60692^60691^60691^60692^60691^60691^60692^60694"},null,5,60692,60694,null,60693,60694,60692,null,60692,null,null,null,{"$f":"_xlfn.TEXTJOIN(\"^\",,AM177:AM186)","v":"60695^60692"},null,5,60693,null,null,60691,60695,null,60691,60692,null,null,null,{"$f":"_xlfn.TEXTJOIN(\"^\",,BA177:BA186)","v":"60692^60691^60691^60694^60691^60691^60692"}]
[null,null,7,null,null,60694,null,null,60694,{"$nulls":6},{"$f":"_xlfn.TEXTJOIN(\"^\",,K177:K186)","v":"60691^60692^60694"},null,7,null,60692,null,60692,null,null,60692,{"$nulls":4},{"$f":"_xlfn.TEXTJOIN(\"^\",,Z177:Z186)","v":"60695^60695^60695^60695^60695"},null,7,{"$nulls":7},60694,null,null,null,{"$f":"_xlfn.TEXTJOIN(\"^\",,AN177:AN186)","v":"60691^60693^60692^60694"},null,7,null,60692,null,null,null,60692,60692,60694,null,null,null,{"$f":"_xlfn.TEXTJOIN(\"^\",,BB177:BB186)","v":"60692^60694^60692^60693^60693^60692^60694^60692"}]
[null,null,9,{"$nulls":12},{"$f":"_xlfn.TEXTJOIN(\"^\",,L177:L186)","v":"60695^60693^60694"},null,9,{"$nulls":4},60694,60692,60694,{"$nulls":4},{"$f":"_xlfn.TEXTJOIN(\"^\",,AA177:AA186)","v":""},null,9,{"$nulls":11},{"$f":"_xlfn.TEXTJOIN(\"^\",,AO177:AO186)","v":""},null,9,{"$nulls":5},60694,null,60692,null,null,null,{"$f":"_xlfn.TEXTJOIN(\"^\",,BC177:BC186)","v":""}]
[{"$nulls":15},{"$f":"_xlfn.TEXTJOIN(\"^\",,M177:M186)","v":"60691^60693^60692"},{"$nulls":13},{"$f":"_xlfn.TEXTJOIN(\"^\",,AB177:AB186)","v":""},{"$nulls":13},{"$f":"_xlfn.TEXTJOIN(\"^\",,AP177:AP186)","v":""},{"$nulls":13},{"$f":"_xlfn.TEXTJOIN(\"^\",,BD177:BD186)","v":""}]
[{"$nulls":15},{"$f":"_xlfn.TEXTJOIN(\"^\",,N177:N186)","v":""},{"$nulls":13},{"$f":"_xlfn.TEXTJOIN(\"^\",,AC177:AC186)","v":""},{"$nulls":13},{"$f":"_xlfn.TEXTJOIN(\"^\",,AQ177:AQ186)","v":""},{"$nulls":13},{"$f":"_xlfn.TEXTJOIN(\"^\",,BE177:BE186)","v":""}]
[{"$nulls":14},"最终",{"$f":"_xlfn.TEXTJOIN(\"^\",,P177:P187)","v":"60691^60692^60694^60691^60693^60691^60693^60692^60694^60691^60692^60695^60692^60691^60692^60693^60694^60691^60693^60692^60691^60692^60694^60695^60693^60694^60691^60693^60692"},{"$nulls":12},"最终",{"$f":"_xlfn.TEXTJOIN(\"^\",,AD177:AD187)","v":"60694^60691^60691^60691^60694^60692^60692^60691^60693^60691^60692^60692^60695^60695^60695^60695^60695^60692^60693^60691^60693^60691^60693^60692^60694^60692^60691^60693^60691^60692^60694^60692^60691^60693^60692^60693^60691^60692^60694^60692^60691^60691^60692^60691^60691^60692^60694^60695^60695^60695^60695^60695"},{"$nulls":12},"最终",{"$f":"_xlfn.TEXTJOIN(\"^\",,AR177:AR187)","v":"60695^60691^60692^60691^60692^60694^60691^60693^60691^60692^60693^60691^60692^60694^60691^60693^60692^60695^60692^60691^60693^60692^60694"},{"$nulls":12},"最终",{"$f":"_xlfn.TEXTJOIN(\"^\",,BF177:BF187)","v":"60693^60693^60693^60692^60692^60692^60694^60694^60691^60691^60691^60691^60695^60695^60695^60695^60694^60692^60693^60693^60692^60694^60692^60691^60691^60694^60691^60691^60692^60692^60694^60692^60693^60693^60692^60694^60692"}]
[null,null,8,{"$nulls":14},8,{"$nulls":4},"火精灵","巨魔矛手","火精灵",{"$nulls":6},8,{"$nulls":13},8,{"$nulls":5},"火精灵",null,"巨魔矛手"]
[null,null,6,{"$nulls":14},6,null,"巨魔矛手",null,"巨魔矛手",null,null,"巨魔矛手",{"$nulls":6},6,{"$nulls":13},6,null,"巨魔矛手",null,null,null,"巨魔矛手","巨魔矛手","火精灵"]
[null,null,4,{"$nulls":14},4,"火精灵","巨魔矛手","火山蜘蛛","岩浆战士","巨魔矛手","岩浆蝎","岩浆蝎","火山蜘蛛",{"$nulls":5},4,{"$nulls":13},4,"岩浆战士",null,null,"岩浆蝎","火山蜘蛛",null,"岩浆蝎","巨魔矛手"]
[null,null,2,{"$nulls":14},2,"岩浆蝎","岩浆蝎","火山蜘蛛","岩浆蝎","岩浆蝎","岩浆战士","岩浆蝎","火山蜘蛛",{"$nulls":5},2,{"$nulls":13},2,null,null,"火精灵","岩浆蝎","火山蜘蛛","岩浆战士","岩浆蝎","岩浆战士"]
[null,null,1,"岩浆蝎","岩浆蝎","岩浆蝎","岩浆蝎","火山蜘蛛","岩浆蝎","岩浆蝎","岩浆蝎","火山蜘蛛","岩浆蝎",{"$nulls":4},1,"岩浆蝎","岩浆战士","火山蜘蛛","岩浆战士","岩浆战士","巨魔矛手","巨魔矛手","火山蜘蛛",{"$nulls":5},1,"火山蜘蛛","岩浆蝎","岩浆蝎","岩浆蝎","岩浆蝎","岩浆蝎","火山蜘蛛","岩浆蝎",{"$nulls":5},1,"岩浆战士","巨魔矛手",{"$nulls":4},"火精灵"]
[null,null,3,"巨魔矛手","岩浆战士","岩浆战士","巨魔矛手","巨魔矛手","巨魔矛手","岩浆战士","巨魔矛手","岩浆战士","岩浆战士",{"$nulls":4},3,"岩浆蝎","岩浆蝎","火山蜘蛛","岩浆蝎","岩浆蝎","岩浆战士","岩浆蝎","火山蜘蛛",{"$nulls":5},3,"岩浆蝎","巨魔矛手","岩浆战士","巨魔矛手","巨魔矛手","岩浆战士","巨魔矛手","岩浆战士",{"$nulls":5},3,null,null,"火精灵","岩浆蝎","火山蜘蛛","岩浆战士","岩浆蝎","岩浆战士"]
[null,null,5,"火精灵",null,"巨魔矛手",null,null,"岩浆战士","巨魔矛手","火精灵","火精灵","巨魔矛手",{"$nulls":4},5,"火精灵","巨魔矛手","火山蜘蛛","岩浆战士","巨魔矛手","岩浆蝎","岩浆蝎","火山蜘蛛",{"$nulls":5},5,"巨魔矛手","火精灵",null,"岩浆战士","火精灵","巨魔矛手",null,"巨魔矛手",{"$nulls":5},5,"岩浆战士",null,null,"岩浆蝎","火山蜘蛛",null,"岩浆蝎","巨魔矛手"]
[null,null,7,null,null,"火精灵",null,null,"火精灵",{"$nulls":8},7,null,"巨魔矛手",null,"巨魔矛手",null,null,"巨魔矛手",{"$nulls":6},7,{"$nulls":7},"火精灵",{"$nulls":5},7,null,"巨魔矛手",null,null,null,"巨魔矛手","巨魔矛手","火精灵"]
[null,null,9,{"$nulls":14},9,{"$nulls":4},"火精灵","巨魔矛手","火精灵",{"$nulls":6},9,{"$nulls":13},9,{"$nulls":5},"火精灵",null,"巨魔矛手"]
[]
[null,null,"位置",5,15,30,45,50,65,81,98,105,120,{"$nulls":4},"位置",5,10,15,22,30,40,50,55,{"$nulls":5},"位置",4,10,15,30,46,63,70,85,null,null,null,{"$f":"_xlfn.TEXTJOIN(\"^\",,AG200:AG214)","v":"100^0^0"},null,"位置",3,5,8,12,18,25,35,45,null,null,null,{"$f":"_xlfn.TEXTJOIN(\"^\",,AU200:AU214)","v":"4^1^5"}]
[null,null,8,{"$nulls":12},{"$f":"_xlfn.TEXTJOIN(\"^\",,D200:D214)","v":"0^0^0"},null,8,{"$nulls":4},{"$f":"$C200","v":8},{"$f":"$C200","v":8},{"$f":"$C200","v":8},{"$nulls":6},8,{"$nulls":11},{"$f":"_xlfn.TEXTJOIN(\"^\",,AH200:AH214)","v":"0^0^0"},null,8,{"$nulls":5},{"$f":"$C200","v":8},null,{"$f":"$C200","v":8},null,null,null,{"$f":"_xlfn.TEXTJOIN(\"^\",,AV200:AV214)","v":"6^1^7"}]
[null,null,6,{"$nulls":12},{"$f":"_xlfn.TEXTJOIN(\"^\",,E200:E214)","v":"0^0"},null,6,null,{"$f":"$C201","v":6},null,{"$f":"$C201","v":6},null,null,6,{"$nulls":4},{"$f":"_xlfn.TEXTJOIN(\"^\",,S200:S214)","v":"4^2^1^3^5"},null,6,{"$nulls":11},{"$f":"_xlfn.TEXTJOIN(\"^\",,AI200:AI214)","v":"0^0"},null,6,null,{"$f":"$C201","v":6},null,null,null,6,6,6,null,null,null,{"$f":"_xlfn.TEXTJOIN(\"^\",,AW200:AW214)","v":"2^3"}]
[null,null,4,{"$nulls":12},{"$f":"_xlfn.TEXTJOIN(\"^\",,F200:F214)","v":"0^0^0^0"},null,4,{"$f":"$C202","v":4},{"$f":"$C202","v":4},null,4,4,4,4,{"$nulls":4},{"$f":"_xlfn.TEXTJOIN(\"^\",,T200:T214)","v":"6^4^2^1^3^5^7"},null,4,{"$nulls":11},{"$f":"_xlfn.TEXTJOIN(\"^\",,AJ200:AJ214)","v":"0^0^0"},null,4,{"$f":"$C202","v":4},null,null,{"$f":"$C202","v":4},null,null,4,4,null,null,null,{"$f":"_xlfn.TEXTJOIN(\"^\",,AX200:AX214)","v":"4^2^3^5"}]
[null,null,2,{"$nulls":12},{"$f":"_xlfn.TEXTJOIN(\"^\",,G200:G214)","v":"0^0"},null,2,2,2,null,2,2,2,2,{"$nulls":4},{"$f":"_xlfn.TEXTJOIN(\"^\",,U200:U214)","v":"101^102^103^104^105"},null,2,{"$nulls":11},{"$f":"_xlfn.TEXTJOIN(\"^\",,AK200:AK214)","v":"0^0^0"},null,2,null,null,{"$f":"$C203","v":2},2,null,{"$f":"$C203","v":2},2,2,null,null,null,{"$f":"_xlfn.TEXTJOIN(\"^\",,AY200:AY214)","v":"101^102^104^105"}]
[null,null,1,0,0,0,0,100,0,0,0,100,0,null,null,{"$f":"_xlfn.TEXTJOIN(\"^\",,H200:H214)","v":"100^0"},null,1,1,1,null,1,1,1,1,{"$nulls":4},{"$f":"_xlfn.TEXTJOIN(\"^\",,V200:V214)","v":"6^4^2^1^3^5^7"},null,1,100,0,0,0,0,0,100,0,null,null,null,{"$f":"_xlfn.TEXTJOIN(\"^\",,AL200:AL214)","v":"0^0^0"},null,1,{"$f":"$C204","v":1},1,{"$nulls":4},1,{"$nulls":4},{"$f":"_xlfn.TEXTJOIN(\"^\",,AZ200:AZ214)","v":"8^6^2^3^7^9"}]
[null,null,3,0,0,0,0,0,0,0,0,0,0,null,null,{"$f":"_xlfn.TEXTJOIN(\"^\",,I200:I214)","v":"0^0^0^0"},null,3,3,3,null,3,3,3,3,{"$nulls":4},{"$f":"_xlfn.TEXTJOIN(\"^\",,W200:W214)","v":"8^4^2^1^3^5^9"},null,3,0,0,0,0,0,0,0,0,null,null,null,{"$f":"_xlfn.TEXTJOIN(\"^\",,AM200:AM214)","v":"100^0"},null,3,null,null,{"$f":"$C205","v":3},3,null,{"$f":"$C205","v":3},3,3,null,null,null,{"$f":"_xlfn.TEXTJOIN(\"^\",,BA200:BA214)","v":"6^4^2^1^3^5^7"}]
[null,null,5,0,null,0,null,null,0,0,0,0,0,null,null,{"$f":"_xlfn.TEXTJOIN(\"^\",,J200:J214)","v":"0^0^0"},null,5,5,{"$f":"$C206","v":5},null,5,5,5,5,{"$nulls":4},{"$f":"_xlfn.TEXTJOIN(\"^\",,X200:X214)","v":"8^4^2^1^3^5^9"},null,5,0,0,null,0,0,0,null,0,null,null,null,{"$f":"_xlfn.TEXTJOIN(\"^\",,AN200:AN214)","v":"0^0^0^0"},null,5,{"$f":"$C206","v":5},null,null,5,null,null,5,5,null,null,null,{"$f":"_xlfn.TEXTJOIN(\"^\",,BB200:BB214)","v":"8^6^4^2^3^5^7^9"}]
[null,null,7,null,null,0,null,null,0,{"$nulls":6},{"$f":"_xlfn.TEXTJOIN(\"^\",,K200:K214)","v":"0^0^0"},null,7,null,{"$f":"$C207","v":7},null,7,null,null,7,{"$nulls":4},{"$f":"_xlfn.TEXTJOIN(\"^\",,Y200:Y214)","v":"8^6^4^2^1^3^5^7^9"},null,7,{"$nulls":7},0,null,null,null,{"$f":"_xlfn.TEXTJOIN(\"^\",,AO200:AO214)","v":""},null,7,null,{"$f":"$C207","v":7},null,null,null,{"$f":"$C207","v":7},7,7,null,null,null,{"$f":"_xlfn.TEXTJOIN(\"^\",,BC200:BC214)","v":""}]
[null,null,9,{"$nulls":12},{"$f":"_xlfn.TEXTJOIN(\"^\",,L200:L214)","v":"100^0^0"},null,9,{"$nulls":4},{"$f":"$C208","v":9},{"$f":"$C208","v":9},9,{"$nulls":6},9,{"$nulls":11},{"$f":"_xlfn.TEXTJOIN(\"^\",,AP200:AP214)","v":""},null,9,{"$nulls":5},9,null,9,null,null,null,{"$f":"_xlfn.TEXTJOIN(\"^\",,BD200:BD214)","v":""}]
[null,null,"空降",{"$nulls":12},{"$f":"_xlfn.TEXTJOIN(\"^\",,M200:M214)","v":"0^0^0"},null,"空降",{"$nulls":13},"空降",{"$nulls":11},{"$f":"_xlfn.TEXTJOIN(\"^\",,AQ200:AQ208)","v":""},null,"空降",{"$nulls":11},{"$f":"_xlfn.TEXTJOIN(\"^\",,BE200:BE208)","v":""}]
[null,null,101,{"$nulls":12},{"$f":"_xlfn.TEXTJOIN(\"^\",,N200:N214)","v":""},null,101,null,null,{"$f":"$C210","v":101},{"$nulls":4},{"$f":"$C210","v":101},null,null,null,{"$f":"_xlfn.TEXTJOIN(\"^\",,Z200:Z214)","v":"101^102^103^104^105"},null,101,{"$nulls":13},101,{"$nulls":4},{"$f":"$C210","v":101}]
[null,null,102,{"$nulls":14},102,null,null,102,{"$nulls":4},102,null,null,null,{"$f":"_xlfn.TEXTJOIN(\"^\",,AA200:AA214)","v":""},null,102,{"$nulls":13},102,{"$nulls":4},102]
[null,null,103,{"$nulls":14},103,null,null,103,{"$nulls":4},103,null,null,null,{"$f":"_xlfn.TEXTJOIN(\"^\",,AB200:AB214)","v":""},null,103,{"$nulls":13},103]
[null,null,104,{"$nulls":14},104,null,null,104,{"$nulls":4},104,{"$nulls":5},104,{"$nulls":13},104,{"$nulls":4},{"$f":"$C213","v":104}]
[null,null,105,{"$nulls":14},105,null,null,105,{"$nulls":4},105,{"$nulls":5},105,{"$nulls":13},105,{"$nulls":4},105]
[{"$nulls":14},"最终",{"$f":"_xlfn.TEXTJOIN(\"^\",,P200:P214)","v":"0^0^0^0^0^0^0^0^0^0^0^100^0^0^0^0^0^0^0^0^0^0^0^100^0^0^0^0^0"},{"$nulls":12},"最终",{"$f":"_xlfn.TEXTJOIN(\"^\",,AD200:AD214)","v":"4^2^1^3^5^6^4^2^1^3^5^7^101^102^103^104^105^6^4^2^1^3^5^7^8^4^2^1^3^5^9^8^4^2^1^3^5^9^8^6^4^2^1^3^5^7^9^101^102^103^104^105"},{"$nulls":12},"最终",{"$f":"_xlfn.TEXTJOIN(\"^\",,AR199:AR214)","v":"100^0^0^0^0^0^0^0^0^0^0^0^0^0^0^0^0^100^0^0^0^0^0"},{"$nulls":12},"最终",{"$f":"_xlfn.TEXTJOIN(\"^\",,BF199:BF214)","v":"4^1^5^6^1^7^2^3^4^2^3^5^101^102^104^105^8^6^2^3^7^9^6^4^2^1^3^5^7^8^6^4^2^3^5^7^9"}]
[]
[null,null,"时间",5,15,30,45,50,65,81,98,105,120,{"$nulls":4},"时间",5,10,15,22,30,40,50,55,null,null,null,{"$f":"_xlfn.TEXTJOIN(\"^\",,S218:S226)","v":"5^5^5^5^5"},null,"时间",4,10,15,30,46,63,70,85,null,null,null,{"$f":"_xlfn.TEXTJOIN(\"^\",,AG218:AG226)","v":"14^6^4"},null,"时间",3,5,8,12,18,25,35,45,null,null,null,{"$f":"_xlfn.TEXTJOIN(\"^\",,AU218:AU226)","v":"3^3^3"}]
[null,null,8,{"$nulls":12},{"$f":"_xlfn.TEXTJOIN(\"^\",,D218:D227)","v":"8^3^2"},null,8,{"$nulls":4},{"$f":"W$217","v":30},{"$f":"X$217","v":40},{"$f":"Y$217","v":50},{"$nulls":4},{"$f":"_xlfn.TEXTJOIN(\"^\",,T218:T226)","v":"10^10^10^10^10^10^10"},null,8,{"$nulls":11},{"$f":"_xlfn.TEXTJOIN(\"^\",,AH218:AH226)","v":"10^3^2"},null,8,{"$nulls":5},{"$f":"AZ$217","v":25},null,{"$f":"BB$217","v":45},null,null,null,{"$f":"_xlfn.TEXTJOIN(\"^\",,AV218:AV226)","v":"5^5^5"}]
[null,null,6,{"$nulls":12},{"$f":"_xlfn.TEXTJOIN(\"^\",,E218:E227)","v":"13^3"},null,6,null,{"$f":"T$217","v":10},null,{"$f":"V$217","v":22},null,null,50,{"$nulls":4},{"$f":"_xlfn.TEXTJOIN(\"^\",,U218:U226)","v":"15^15^15^15^15"},null,6,{"$nulls":11},{"$f":"_xlfn.TEXTJOIN(\"^\",,AI218:AI226)","v":"12^3"},null,6,null,{"$f":"AV$217","v":5},null,null,null,25,35,45,null,null,null,{"$f":"_xlfn.TEXTJOIN(\"^\",,AW218:AW226)","v":"8^8"}]
[null,null,4,{"$nulls":12},{"$f":"_xlfn.TEXTJOIN(\"^\",,F218:F227)","v":"10^2^3^2"},null,4,{"$f":"S$217","v":5},{"$f":"T$217","v":10},{"$f":"U$217","v":15},22,30,40,50,55,null,null,null,{"$f":"_xlfn.TEXTJOIN(\"^\",,V218:V226)","v":"22^22^22^22^22^22^22"},null,4,{"$nulls":11},{"$f":"_xlfn.TEXTJOIN(\"^\",,AJ218:AJ226)","v":"12^3^2"},null,4,{"$f":"AU$217","v":3},null,null,{"$f":"AX$217","v":12},18,null,35,45,null,null,null,{"$f":"_xlfn.TEXTJOIN(\"^\",,AX218:AX226)","v":"12^12^12^12"}]
[null,null,2,{"$nulls":12},{"$f":"_xlfn.TEXTJOIN(\"^\",,G218:G227)","v":"12^4"},null,2,5,10,15,22,30,40,{"$f":"Y$217","v":50},55,null,null,null,{"$f":"_xlfn.TEXTJOIN(\"^\",,W218:W226)","v":"30^30^30^30^30^30^30"},null,2,{"$nulls":11},{"$f":"_xlfn.TEXTJOIN(\"^\",,AK218:AK226)","v":"13^3^2"},null,2,null,null,{"$f":"AW$217","v":8},12,18,{"$f":"AZ$217","v":25},35,45,null,null,null,{"$f":"_xlfn.TEXTJOIN(\"^\",,AY218:AY226)","v":"18^18^18^18"}]
[null,null,1,8,13,10,12,9,11,15,15,9,15,null,null,{"$f":"_xlfn.TEXTJOIN(\"^\",,H218:H227)","v":"9^4"},null,1,5,10,15,22,30,40,50,55,null,null,null,{"$f":"_xlfn.TEXTJOIN(\"^\",,X218:X226)","v":"40^40^40^40^40^40^40"},null,1,14,10,12,12,13,14,8,14,null,null,null,{"$f":"_xlfn.TEXTJOIN(\"^\",,AL218:AL226)","v":"14^2^4"},null,1,{"$f":"AU$217","v":3},{"$f":"AV$217","v":5},{"$nulls":4},35,{"$nulls":4},{"$f":"_xlfn.TEXTJOIN(\"^\",,AZ218:AZ226)","v":"25^25^25^25^25^25"}]
[null,null,3,3,3,2,4,4,3,2,4,3,3,null,null,{"$f":"_xlfn.TEXTJOIN(\"^\",,I218:I227)","v":"11^3^3^2"},null,3,5,10,15,22,30,40,50,55,null,null,null,{"$f":"_xlfn.TEXTJOIN(\"^\",,Y218:Y226)","v":"50^50^50^50^50^50^50^50^50"},null,3,6,3,3,3,3,2,4,2,null,null,null,{"$f":"_xlfn.TEXTJOIN(\"^\",,AM218:AM226)","v":"8^4"},null,3,null,null,{"$f":"AW$217","v":8},{"$f":"AX$217","v":12},18,{"$f":"AZ$217","v":25},35,45,null,null,null,{"$f":"_xlfn.TEXTJOIN(\"^\",,BA218:BA226)","v":"35^35^35^35^35^35^35"}]
[null,null,5,2,null,3,null,null,3,3,2,3,4,null,null,{"$f":"_xlfn.TEXTJOIN(\"^\",,J218:J227)","v":"15^2^3"},null,5,5,{"$f":"T$217","v":10},15,22,30,40,50,55,null,null,null,{"$f":"_xlfn.TEXTJOIN(\"^\",,Z218:Z226)","v":"55^55^55^55^55"},null,5,4,2,null,2,2,4,null,3,null,null,null,{"$f":"_xlfn.TEXTJOIN(\"^\",,AN218:AN226)","v":"14^2^3^2"},null,5,{"$f":"AU$217","v":3},null,null,12,18,null,35,45,null,null,null,{"$f":"_xlfn.TEXTJOIN(\"^\",,BB218:BB226)","v":"45^45^45^45^45^45^45^45"}]
[null,null,7,null,null,2,null,null,2,{"$nulls":6},{"$f":"_xlfn.TEXTJOIN(\"^\",,K218:K227)","v":"15^4^2"},null,7,null,{"$f":"T$217","v":10},null,22,null,null,50,{"$nulls":4},{"$f":"_xlfn.TEXTJOIN(\"^\",,AA218:AA226)","v":""},null,7,{"$nulls":7},2,null,null,null,{"$f":"_xlfn.TEXTJOIN(\"^\",,AO218:AO226)","v":""},null,7,null,{"$f":"AV$217","v":5},null,null,null,{"$f":"AZ$217","v":25},35,45,null,null,null,{"$f":"_xlfn.TEXTJOIN(\"^\",,BC218:BC226)","v":""}]
[null,null,9,{"$nulls":12},{"$f":"_xlfn.TEXTJOIN(\"^\",,L218:L227)","v":"9^3^3"},null,9,{"$nulls":4},{"$f":"W$217","v":30},{"$f":"X$217","v":40},50,{"$nulls":4},{"$f":"_xlfn.TEXTJOIN(\"^\",,AB218:AB226)","v":""},null,9,{"$nulls":11},{"$f":"_xlfn.TEXTJOIN(\"^\",,AP218:AP226)","v":""},null,9,{"$nulls":5},25,null,45,null,null,null,{"$f":"_xlfn.TEXTJOIN(\"^\",,BD218:BD226)","v":""}]
[{"$nulls":15},{"$f":"_xlfn.TEXTJOIN(\"^\",,M218:M227)","v":"15^3^4"},{"$nulls":13},{"$f":"_xlfn.TEXTJOIN(\"^\",,AC218:AC226)","v":""},{"$nulls":13},{"$f":"_xlfn.TEXTJOIN(\"^\",,AQ218:AQ226)","v":""},{"$nulls":13},{"$f":"_xlfn.TEXTJOIN(\"^\",,BE218:BE226)","v":""}]
[{"$nulls":15},{"$f":"_xlfn.TEXTJOIN(\"^\",,N218:N227)","v":""},{"$nulls":12},"最终",{"$f":"_xlfn.TEXTJOIN(\"^\",,AD217:AD227)","v":"5^5^5^5^5^10^10^10^10^10^10^10^15^15^15^15^15^22^22^22^22^22^22^22^30^30^30^30^30^30^30^40^40^40^40^40^40^40^50^50^50^50^50^50^50^50^50^55^55^55^55^55"},{"$nulls":12},"最终",{"$f":"_xlfn.TEXTJOIN(\"^\",,AR217:AR227)","v":"14^6^4^10^3^2^12^3^12^3^2^13^3^2^14^2^4^8^4^14^2^3^2"},{"$nulls":12},"最终",{"$f":"_xlfn.TEXTJOIN(\"^\",,BF217:BF227)","v":"3^3^3^5^5^5^8^8^12^12^12^12^18^18^18^18^25^25^25^25^25^25^35^35^35^35^35^35^35^45^45^45^45^45^45^45^45"}]
[{"$nulls":14},"最终",{"$f":"_xlfn.TEXTJOIN(\"^\",,P218:P228)","v":"8^3^2^13^3^10^2^3^2^12^4^9^4^11^3^3^2^15^2^3^15^4^2^9^3^3^15^3^4"}]
[{"$nulls":15},{"$f":"SUM(D218:M226)","v":172},{"$nulls":13},{"$f":"COUNT(S218:Z226)","v":52},{"$nulls":13},{"$f":"SUM(AG218:AN226)","v":142},{"$nulls":13},{"$f":"COUNT(AU218:BB226)","v":37}]
[{"$nulls":57},{"$f":"SUM(P230:BF230)","v":403}]
[]
[{"$nulls":4},{"$f":"E234-D234","v":5},{"$f":"F234-E234","v":6},4,7,8,10,10,5,10,{"$nulls":6},{"$f":"T234-S234","v":5},5,7,8,10,5,10,{"$nulls":7},{"$f":"AH234-AG234","v":6},5,15,16,4,15,15,{"$nulls":7},{"$f":"AV234-AU234","v":2},3,4,6,7,10,10]
[1,"熔谷-5","波1·怪物",5,10,16,20,27,35,45,55,60,70,null,null,null,1,"波2·怪物",5,10,15,22,30,40,45,55,{"$nulls":4},3,"波3·怪物",4,10,15,30,46,50,65,80,{"$nulls":4},1,"波4·怪物",3,5,8,12,18,25,35,45]
[null,"5m",8,null,60701,60702,null,60704,60704,60702,null,null,60702,null,null,{"$f":"_xlfn.TEXTJOIN(\"^\",,D235:D244)","v":"60704^60701^60701^60701^60704"},null,8,null,null,null,60704,null,60702,{"$nulls":5},{"$f":"_xlfn.TEXTJOIN(\"^\",,S235:S244)","v":"60705^60705^60705^60705"},null,8,{"$nulls":11},{"$f":"_xlfn.TEXTJOIN(\"^\",,AG235:AG244)","v":"60701^60702^60704"},null,8,{"$nulls":5},60702,null,60704,null,null,null,{"$f":"_xlfn.TEXTJOIN(\"^\",,AU235:AU244)","v":"60704^60703^60703^60704"}]
[null,null,6,60704,null,60701,null,60702,null,60701,60704,null,60702,null,null,{"$f":"_xlfn.TEXTJOIN(\"^\",,E235:E244)","v":"60701^60702^60702^60703^60702^60702^60701"},null,6,null,60702,60704,null,60702,null,null,60704,null,null,null,{"$f":"_xlfn.TEXTJOIN(\"^\",,T235:T244)","v":"60702^60702^60702^60702"},null,6,{"$nulls":11},{"$f":"_xlfn.TEXTJOIN(\"^\",,AH235:AH244)","v":"60701^60703"},null,6,null,60702,null,60701,60704,null,60702,60702,null,null,null,{"$f":"_xlfn.TEXTJOIN(\"^\",,AV235:AV244)","v":"60702^60702^60702^60702"}]
[null,null,4,null,60702,null,60705,60703,60702,60701,60702,60705,60701,null,null,{"$f":"_xlfn.TEXTJOIN(\"^\",,F235:F244)","v":"60702^60701^60703^60704^60703^60701^60702"},null,4,60705,null,null,60702,60702,60701,60705,60702,null,null,null,{"$f":"_xlfn.TEXTJOIN(\"^\",,U235:U244)","v":"60704^60703^60703^60703^60704"},null,4,{"$nulls":11},{"$f":"_xlfn.TEXTJOIN(\"^\",,AI235:AI244)","v":"60705^60702^60704"},null,4,60704,60702,60705,60701,60702,60701,60701,60701,null,null,null,{"$f":"_xlfn.TEXTJOIN(\"^\",,AW235:AW244)","v":"60705^60705^60705^60705"}]
[null,null,2,60701,60702,60703,60705,60701,60703,60701,60703,60705,60703,null,null,{"$f":"_xlfn.TEXTJOIN(\"^\",,G235:G244)","v":"60705^60705^60705^60705^60705"},null,2,60705,null,60703,60701,60703,60703,60705,60702,null,null,null,{"$f":"_xlfn.TEXTJOIN(\"^\",,V235:V244)","v":"60704^60702^60701^60702^60701^60702^60704"},null,2,{"$nulls":11},{"$f":"_xlfn.TEXTJOIN(\"^\",,AJ235:AJ244)","v":"60703^60702^60704"},null,2,60703,null,60705,null,60703,60701,60701,60703,null,null,null,{"$f":"_xlfn.TEXTJOIN(\"^\",,AX235:AX244)","v":"60701^60701^60701^60701^60701"}]
[null,null,1,60701,60703,60704,60705,60701,60702,60702,60702,60705,60704,null,null,{"$f":"_xlfn.TEXTJOIN(\"^\",,H235:H244)","v":"60704^60702^60703^60701^60701^60701^60703^60702^60704"},null,1,null,60702,60703,60702,60704,60704,60705,60706,null,null,null,{"$f":"_xlfn.TEXTJOIN(\"^\",,W235:W244)","v":"60702^60702^60703^60704^60703^60702^60702"},null,1,60701,60701,60705,60703,60701,60705,60701,60701,null,null,null,{"$f":"_xlfn.TEXTJOIN(\"^\",,AK235:AK244)","v":"60701^60702"},null,1,null,null,null,60701,null,60704,60703,{"$nulls":4},{"$f":"_xlfn.TEXTJOIN(\"^\",,AY235:AY244)","v":"60704^60702^60703^60703^60702^60704"}]
[null,null,3,60701,60702,60703,60705,60701,60703,60701,60703,60705,60703,null,null,{"$f":"_xlfn.TEXTJOIN(\"^\",,I235:I244)","v":"60704^60702^60703^60702^60703^60702^60704"},null,3,60705,60702,60703,60701,60703,60703,60705,60702,null,null,null,{"$f":"_xlfn.TEXTJOIN(\"^\",,X235:X244)","v":"60702^60701^60703^60704^60703^60701^60702"},null,3,60702,60703,60702,60702,60702,60703,60702,60702,null,null,null,{"$f":"_xlfn.TEXTJOIN(\"^\",,AL235:AL244)","v":"60705^60703^60701"},null,3,60703,null,60705,null,60703,60701,60701,60703,null,null,null,{"$f":"_xlfn.TEXTJOIN(\"^\",,AZ235:AZ244)","v":"60702^60701^60701^60704^60701^60701^60702"}]
[null,null,5,null,60702,null,60705,60703,60702,60701,60702,60705,60701,null,null,{"$f":"_xlfn.TEXTJOIN(\"^\",,J235:J244)","v":"60702^60701^60701^60701^60702^60701^60701^60701^60702"},null,5,60705,null,null,60702,60702,60701,60705,60702,null,null,null,{"$f":"_xlfn.TEXTJOIN(\"^\",,Y235:Y244)","v":"60705^60705^60705^60705^60705"},null,5,60704,null,60704,60704,null,60701,60703,{"$nulls":4},{"$f":"_xlfn.TEXTJOIN(\"^\",,AM235:AM244)","v":"60701^60702^60703^60704"},null,5,60704,60702,60705,60701,60702,60701,60701,60701,null,null,null,{"$f":"_xlfn.TEXTJOIN(\"^\",,BA235:BA244)","v":"60702^60701^60701^60703^60701^60701^60702"}]
[null,null,7,60704,null,60701,null,60702,null,60701,60704,null,60702,null,null,{"$f":"_xlfn.TEXTJOIN(\"^\",,K235:K244)","v":"60704^60702^60703^60702^60703^60702^60704"},null,7,null,60702,60704,null,60702,null,null,60704,null,null,null,{"$f":"_xlfn.TEXTJOIN(\"^\",,Z235:Z244)","v":"60704^60702^60702^60706^60702^60702^60704"},null,7,{"$nulls":6},60704,{"$nulls":4},{"$f":"_xlfn.TEXTJOIN(\"^\",,AN235:AN244)","v":"60701^60702"},null,7,null,60702,null,60701,60704,null,60702,60702,null,null,null,{"$f":"_xlfn.TEXTJOIN(\"^\",,BB235:BB244)","v":"60704^60702^60701^60703^60703^60701^60702^60704"}]
[null,null,9,null,60701,60702,null,60704,60704,60702,null,null,60702,null,null,{"$f":"_xlfn.TEXTJOIN(\"^\",,L235:L244)","v":"60705^60705^60705^60705^60705"},null,9,null,null,null,60704,null,60702,{"$nulls":5},{"$f":"_xlfn.TEXTJOIN(\"^\",,AA235:AA244)","v":""},null,9,{"$nulls":11},{"$f":"_xlfn.TEXTJOIN(\"^\",,AO235:AO244)","v":""},null,9,{"$nulls":5},60702,null,60704,null,null,null,{"$f":"_xlfn.TEXTJOIN(\"^\",,BC235:BC244)","v":""}]
[{"$nulls":15},{"$f":"_xlfn.TEXTJOIN(\"^\",,M235:M244)","v":"60702^60702^60701^60703^60704^60703^60701^60702^60702"},{"$nulls":13},{"$f":"_xlfn.TEXTJOIN(\"^\",,AB235:AB244)","v":""},{"$nulls":13},{"$f":"_xlfn.TEXTJOIN(\"^\",,AP235:AP244)","v":""},{"$nulls":13},{"$f":"_xlfn.TEXTJOIN(\"^\",,BD235:BD244)","v":""}]
[{"$nulls":15},{"$f":"_xlfn.TEXTJOIN(\"^\",,N235:N244)","v":""},{"$nulls":13},{"$f":"_xlfn.TEXTJOIN(\"^\",,AC235:AC244)","v":""},{"$nulls":13},{"$f":"_xlfn.TEXTJOIN(\"^\",,AQ235:AQ244)","v":""},{"$nulls":13},{"$f":"_xlfn.TEXTJOIN(\"^\",,BE235:BE244)","v":""}]
[{"$nulls":14},"最终",{"$f":"_xlfn.TEXTJOIN(\"^\",,P235:P245)","v":"60704^60701^60701^60701^60704^60701^60702^60702^60703^60702^60702^60701^60702^60701^60703^60704^60703^60701^60702^60705^60705^60705^60705^60705^60704^60702^60703^60701^60701^60701^60703^60702^60704^60704^60702^60703^60702^60703^60702^60704^60702^60701^60701^60701^60702^60701^60701^60701^60702^60704^60702^60703^60702^60703^60702^60704^60705^60705^60705^60705^60705^60702^60702^60701^60703^60704^60703^60701^60702^60702"},{"$nulls":12},"最终",{"$f":"_xlfn.TEXTJOIN(\"^\",,AD235:AD245)","v":"60705^60705^60705^60705^60702^60702^60702^60702^60704^60703^60703^60703^60704^60704^60702^60701^60702^60701^60702^60704^60702^60702^60703^60704^60703^60702^60702^60702^60701^60703^60704^60703^60701^60702^60705^60705^60705^60705^60705^60704^60702^60702^60706^60702^60702^60704"},{"$nulls":12},"最终",{"$f":"_xlfn.TEXTJOIN(\"|\",,AR235:AR245)","v":"60701^60702^60704|60701^60703|60705^60702^60704|60703^60702^60704|60701^60702|60705^60703^60701|60701^60702^60703^60704|60701^60702"},{"$nulls":12},"最终",{"$f":"_xlfn.TEXTJOIN(\"^\",,BF235:BF245)","v":"60704^60703^60703^60704^60702^60702^60702^60702^60705^60705^60705^60705^60701^60701^60701^60701^60701^60704^60702^60703^60703^60702^60704^60702^60701^60701^60704^60701^60701^60702^60702^60701^60701^60703^60701^60701^60702^60704^60702^60701^60703^60703^60701^60702^60704"}]
[null,null,8,null,"岩浆蝎","岩浆人",null,"火精灵","火精灵","岩浆人",null,null,"岩浆人",{"$nulls":4},8,null,null,null,"火精灵",null,"岩浆人",{"$nulls":7},8,{"$nulls":13},8,{"$nulls":5},"岩浆人",null,"火精灵"]
[null,null,6,"火精灵",null,"岩浆蝎",null,"岩浆人",null,"岩浆蝎","火精灵",null,"岩浆人",{"$nulls":4},6,null,"岩浆人","火精灵",null,"岩浆人",null,null,"火精灵",{"$nulls":5},6,{"$nulls":13},6,null,"岩浆人",null,"岩浆蝎","火精灵",null,"岩浆人","岩浆人"]
[null,null,4,null,"岩浆人",null,"火山蜘蛛","岩浆战士","岩浆人","岩浆蝎","岩浆人","火山蜘蛛","岩浆蝎",{"$nulls":4},4,"火山蜘蛛",null,null,"岩浆人","岩浆人","岩浆蝎","火山蜘蛛","岩浆人",{"$nulls":5},4,{"$nulls":13},4,"火精灵","岩浆人","火山蜘蛛","岩浆蝎","岩浆人","岩浆蝎","岩浆蝎","岩浆蝎"]
[null,null,2,"岩浆蝎","岩浆人","岩浆战士","火山蜘蛛","岩浆蝎","岩浆战士","岩浆蝎","岩浆战士","火山蜘蛛","岩浆战士",{"$nulls":4},2,"火山蜘蛛",null,"岩浆战士","岩浆蝎","岩浆战士","岩浆战士","火山蜘蛛","岩浆人",{"$nulls":5},2,{"$nulls":13},2,"岩浆战士",null,"火山蜘蛛",null,"岩浆战士","岩浆蝎","岩浆蝎","岩浆战士"]
[null,null,1,"岩浆蝎","岩浆战士","火精灵","火山蜘蛛","岩浆蝎","岩浆人","岩浆人","岩浆人","火山蜘蛛","火精灵",{"$nulls":4},1,null,"岩浆人","岩浆战士","岩浆人","火精灵","火精灵","火山蜘蛛","岩浆巨兽",{"$nulls":5},1,"岩浆蝎","岩浆蝎","火山蜘蛛","岩浆战士","岩浆蝎","火山蜘蛛","岩浆蝎","岩浆蝎",{"$nulls":5},1,null,null,null,"岩浆蝎",null,"火精灵","岩浆战士"]
[null,null,3,"岩浆蝎","岩浆人","岩浆战士","火山蜘蛛","岩浆蝎","岩浆战士","岩浆蝎","岩浆战士","火山蜘蛛","岩浆战士",{"$nulls":4},3,"火山蜘蛛","岩浆人","岩浆战士","岩浆蝎","岩浆战士","岩浆战士","火山蜘蛛","岩浆人",{"$nulls":5},3,"岩浆人","岩浆战士","岩浆人","岩浆人","岩浆人","岩浆战士","岩浆人","岩浆人",{"$nulls":5},3,"岩浆战士",null,"火山蜘蛛",null,"岩浆战士","岩浆蝎","岩浆蝎","岩浆战士"]
[null,null,5,null,"岩浆人",null,"火山蜘蛛","岩浆战士","岩浆人","岩浆蝎","岩浆人","火山蜘蛛","岩浆蝎",{"$nulls":4},5,"火山蜘蛛",null,null,"岩浆人","岩浆人","岩浆蝎","火山蜘蛛","岩浆人",{"$nulls":5},5,"火精灵",null,"火精灵","火精灵",null,"岩浆蝎","岩浆战士",{"$nulls":6},5,"火精灵","岩浆人","火山蜘蛛","岩浆蝎","岩浆人","岩浆蝎","岩浆蝎","岩浆蝎"]
[null,null,7,"火精灵",null,"岩浆蝎",null,"岩浆人",null,"岩浆蝎","火精灵",null,"岩浆人",{"$nulls":4},7,null,"岩浆人","火精灵",null,"岩浆人",null,null,"火精灵",{"$nulls":5},7,{"$nulls":6},"火精灵",{"$nulls":6},7,null,"岩浆人",null,"岩浆蝎","火精灵",null,"岩浆人","岩浆人"]
[null,null,9,null,"岩浆蝎","岩浆人",null,"火精灵","火精灵","岩浆人",null,null,"岩浆人",{"$nulls":4},9,null,null,null,"火精灵",null,"岩浆人",{"$nulls":7},9,{"$nulls":13},9,{"$nulls":5},"岩浆人",null,"火精灵"]
[]
[null,null,"位置",5,10,16,20,27,35,45,55,60,70,{"$nulls":4},"位置",5,10,15,22,30,40,45,55,{"$nulls":5},"位置",4,10,15,30,46,50,65,80,null,null,null,{"$f":"_xlfn.TEXTJOIN(\"^\",,AG258:AG272)","v":"0^0^0"},null,"位置",3,5,8,12,18,25,35,45,null,null,null,{"$f":"_xlfn.TEXTJOIN(\"^\",,AU258:AU272)","v":"4^2^3^5"}]
[null,null,8,null,{"$f":"$C258","v":8},8,null,{"$f":"$C258","v":8},{"$f":"$C258","v":8},{"$f":"$C258","v":8},null,null,{"$f":"$C258","v":8},null,null,{"$f":"_xlfn.TEXTJOIN(\"^\",,D258:D272)","v":"6^2^1^3^7"},null,8,null,null,null,{"$f":"$C258","v":8},null,{"$f":"$C258","v":8},{"$nulls":7},8,{"$nulls":11},{"$f":"_xlfn.TEXTJOIN(\"^\",,AH258:AH272)","v":"0^0"},null,8,{"$nulls":5},{"$f":"$C258","v":8},null,{"$f":"$C258","v":8},null,null,null,{"$f":"_xlfn.TEXTJOIN(\"^\",,AV258:AV272)","v":"6^4^5^7"}]
[null,null,6,{"$f":"$C259","v":6},null,6,null,6,null,6,6,null,6,null,null,{"$f":"_xlfn.TEXTJOIN(\"^\",,E258:E272)","v":"8^4^2^1^3^5^9"},null,6,null,{"$f":"$C259","v":6},{"$f":"$C259","v":6},null,{"$f":"$C259","v":6},null,null,{"$f":"$C259","v":6},null,null,null,{"$f":"_xlfn.TEXTJOIN(\"^\",,S258:S272)","v":"101^102^104^105"},null,6,{"$nulls":11},{"$f":"_xlfn.TEXTJOIN(\"^\",,AI258:AI272)","v":"100^0^0"},null,6,null,{"$f":"$C259","v":6},null,{"$f":"$C259","v":6},6,null,{"$f":"$C259","v":6},6,null,null,null,{"$f":"_xlfn.TEXTJOIN(\"^\",,AW258:AW272)","v":"101^102^104^105"}]
[null,null,4,null,{"$f":"$C260","v":4},null,null,4,4,4,4,null,4,null,null,{"$f":"_xlfn.TEXTJOIN(\"^\",,F258:F272)","v":"8^6^2^1^3^7^9"},null,4,null,null,null,{"$f":"$C260","v":4},4,4,null,4,null,null,null,{"$f":"_xlfn.TEXTJOIN(\"^\",,T258:T272)","v":"6^1^3^7"},null,4,{"$nulls":11},{"$f":"_xlfn.TEXTJOIN(\"^\",,AJ258:AJ272)","v":"0^0^0"},null,4,{"$f":"$C260","v":4},{"$f":"$C260","v":4},null,4,4,4,4,4,null,null,null,{"$f":"_xlfn.TEXTJOIN(\"^\",,AX258:AX272)","v":"6^4^1^5^7"}]
[null,null,2,{"$f":"$C261","v":2},2,{"$f":"$C261","v":2},null,2,2,2,2,null,2,null,null,{"$f":"_xlfn.TEXTJOIN(\"^\",,G258:G272)","v":"101^102^103^104^105"},null,2,null,null,{"$f":"$C261","v":2},2,2,2,null,2,null,null,null,{"$f":"_xlfn.TEXTJOIN(\"^\",,U258:U272)","v":"6^2^1^3^7"},null,2,{"$nulls":11},{"$f":"_xlfn.TEXTJOIN(\"^\",,AK258:AK272)","v":"0^0"},null,2,2,null,null,null,{"$f":"$C261","v":2},2,2,2,null,null,null,{"$f":"_xlfn.TEXTJOIN(\"^\",,AY258:AY272)","v":"6^4^2^3^5^7"}]
[null,null,1,1,1,{"$f":"$C262","v":1},null,1,1,1,1,null,1,null,null,{"$f":"_xlfn.TEXTJOIN(\"^\",,H258:H272)","v":"8^6^4^2^1^3^5^7^9"},null,1,null,{"$f":"$C262","v":1},{"$f":"$C262","v":1},1,1,1,null,{"$f":"$C262","v":1},null,null,null,{"$f":"_xlfn.TEXTJOIN(\"^\",,V258:V272)","v":"8^4^2^1^3^5^9"},null,1,0,0,100,0,0,100,0,0,null,null,null,{"$f":"_xlfn.TEXTJOIN(\"^\",,AL258:AL272)","v":"100^0^0"},null,1,null,null,null,{"$f":"$C262","v":1},null,1,1,{"$nulls":4},{"$f":"_xlfn.TEXTJOIN(\"^\",,AZ258:AZ272)","v":"8^4^2^1^3^5^9"}]
[null,null,3,3,3,{"$f":"$C263","v":3},null,3,3,3,3,null,3,null,null,{"$f":"_xlfn.TEXTJOIN(\"^\",,I258:I272)","v":"8^4^2^1^3^5^9"},null,3,null,{"$f":"$C263","v":3},{"$f":"$C263","v":3},3,3,3,null,3,null,null,null,{"$f":"_xlfn.TEXTJOIN(\"^\",,W258:W272)","v":"6^4^2^1^3^5^7"},null,3,0,0,0,0,0,0,0,0,null,null,null,{"$f":"_xlfn.TEXTJOIN(\"^\",,AM258:AM272)","v":"0^0^0^0"},null,3,{"$f":"$C263","v":3},null,null,null,{"$f":"$C263","v":3},3,3,3,null,null,null,{"$f":"_xlfn.TEXTJOIN(\"^\",,BA258:BA272)","v":"6^4^2^1^3^5^7"}]
[null,null,5,null,5,null,null,5,5,5,5,null,5,null,null,{"$f":"_xlfn.TEXTJOIN(\"^\",,J258:J272)","v":"8^6^4^2^1^3^5^7^9"},null,5,null,null,null,5,5,5,null,5,null,null,null,{"$f":"_xlfn.TEXTJOIN(\"^\",,X258:X272)","v":"8^4^2^1^3^5^9"},null,5,0,null,0,0,null,0,0,{"$nulls":4},{"$f":"_xlfn.TEXTJOIN(\"^\",,AN258:AN272)","v":"0^0"},null,5,5,{"$f":"$C264","v":5},null,{"$f":"$C264","v":5},5,5,5,5,null,null,null,{"$f":"_xlfn.TEXTJOIN(\"^\",,BB258:BB272)","v":"8^6^4^2^3^5^7^9"}]
[null,null,7,{"$f":"$C265","v":7},null,{"$f":"$C265","v":7},null,7,null,7,7,null,7,null,null,{"$f":"_xlfn.TEXTJOIN(\"^\",,K258:K272)","v":"6^4^2^1^3^5^7"},null,7,null,{"$f":"$C265","v":7},{"$f":"$C265","v":7},null,7,null,null,7,null,null,null,{"$f":"_xlfn.TEXTJOIN(\"^\",,Y258:Y272)","v":"101^102^103^104^105"},null,7,{"$nulls":6},0,{"$nulls":4},{"$f":"_xlfn.TEXTJOIN(\"^\",,AO258:AO272)","v":""},null,7,null,{"$f":"$C265","v":7},null,7,7,null,7,7,null,null,null,{"$f":"_xlfn.TEXTJOIN(\"^\",,BC258:BC272)","v":""}]
[null,null,9,null,{"$f":"$C266","v":9},9,null,9,{"$f":"$C266","v":9},9,null,null,9,null,null,{"$f":"_xlfn.TEXTJOIN(\"^\",,L258:L272)","v":"101^102^103^104^105"},null,9,null,null,null,{"$f":"$C266","v":9},null,{"$f":"$C266","v":9},{"$nulls":7},9,{"$nulls":11},{"$f":"_xlfn.TEXTJOIN(\"^\",,AP258:AP272)","v":""},null,9,{"$nulls":5},{"$f":"$C266","v":9},null,9,null,null,null,{"$f":"_xlfn.TEXTJOIN(\"^\",,BD258:BD272)","v":""}]
[null,null,"空降",{"$nulls":12},{"$f":"_xlfn.TEXTJOIN(\"^\",,M258:M272)","v":"8^6^4^2^1^3^5^7^9"},null,"空降",{"$nulls":13},"空降",{"$nulls":11},{"$f":"_xlfn.TEXTJOIN(\"^\",,AQ258:AQ266)","v":""},null,"空降",{"$nulls":11},{"$f":"_xlfn.TEXTJOIN(\"^\",,BE258:BE266)","v":""}]
[null,null,101,null,null,null,{"$f":"$C268","v":101},{"$nulls":4},{"$f":"$C268","v":101},null,null,null,{"$f":"_xlfn.TEXTJOIN(\"^\",,N258:N272)","v":""},null,101,{"$f":"$C268","v":101},{"$nulls":5},{"$f":"$C268","v":101},{"$nulls":4},{"$f":"_xlfn.TEXTJOIN(\"^\",,Z258:Z272)","v":"6^4^2^1^3^5^7"},null,101,{"$nulls":13},101,null,null,{"$f":"$C268","v":101}]
[null,null,102,null,null,null,102,{"$nulls":4},{"$f":"$C269","v":102},{"$nulls":5},102,102,{"$nulls":5},102,{"$nulls":4},{"$f":"_xlfn.TEXTJOIN(\"^\",,AA258:AA272)","v":""},null,102,{"$nulls":13},102,null,null,102]
[null,null,103,null,null,null,103,{"$nulls":4},{"$f":"$C270","v":103},{"$nulls":5},103,{"$nulls":6},103,{"$nulls":4},{"$f":"_xlfn.TEXTJOIN(\"^\",,AB258:AB272)","v":""},null,103,{"$nulls":13},103]
[null,null,104,null,null,null,104,{"$nulls":4},{"$f":"$C271","v":104},{"$nulls":5},104,{"$f":"$C271","v":104},{"$nulls":5},104,{"$nulls":6},104,{"$nulls":13},104,null,null,{"$f":"$C271","v":104}]
[null,null,105,null,null,null,105,{"$nulls":4},105,{"$nulls":5},105,105,{"$nulls":5},105,{"$nulls":6},105,{"$nulls":13},105,null,null,105]
[{"$nulls":14},"最终",{"$f":"_xlfn.TEXTJOIN(\"^\",,P258:P272)","v":"6^2^1^3^7^8^4^2^1^3^5^9^8^6^2^1^3^7^9^101^102^103^104^105^8^6^4^2^1^3^5^7^9^8^4^2^1^3^5^9^8^6^4^2^1^3^5^7^9^6^4^2^1^3^5^7^101^102^103^104^105^8^6^4^2^1^3^5^7^9"},{"$nulls":12},"最终",{"$f":"_xlfn.TEXTJOIN(\"^\",,AD258:AD272)","v":"101^102^104^105^6^1^3^7^6^2^1^3^7^8^4^2^1^3^5^9^6^4^2^1^3^5^7^8^4^2^1^3^5^9^101^102^103^104^105^6^4^2^1^3^5^7"},{"$nulls":12},"最终",{"$f":"_xlfn.TEXTJOIN(\"|\",,AR257:AR272)","v":"0^0^0|0^0|100^0^0|0^0^0|0^0|100^0^0|0^0^0^0|0^0"},{"$nulls":12},"最终",{"$f":"_xlfn.TEXTJOIN(\"^\",,BF257:BF272)","v":"4^2^3^5^6^4^5^7^101^102^104^105^6^4^1^5^7^6^4^2^3^5^7^8^4^2^1^3^5^9^6^4^2^1^3^5^7^8^6^4^2^3^5^7^9"}]
[]
[null,null,"时间",5,10,16,20,27,35,45,55,60,70,{"$nulls":4},"时间",5,10,15,22,30,40,45,55,null,null,null,{"$f":"_xlfn.TEXTJOIN(\"^\",,S276:S284)","v":"5^5^5^5"},null,"时间",4,10,15,30,46,50,65,80,null,null,null,{"$f":"_xlfn.TEXTJOIN(\"^\",,AG276:AG284)","v":"18^4^3"},null,"时间",3,5,8,12,18,25,35,45,null,null,null,{"$f":"_xlfn.TEXTJOIN(\"^\",,AU276:AU284)","v":"3^3^3^3"}]
[null,null,8,null,{"$f":"E$275","v":10},16,null,{"$f":"H$275","v":27},{"$f":"I$275","v":35},{"$f":"J$275","v":45},null,null,{"$f":"M$275","v":70},null,null,{"$f":"_xlfn.TEXTJOIN(\"^\",,D276:D285)","v":"5^5^5^5^5"},null,8,null,null,null,{"$f":"V$275","v":22},null,{"$f":"X$275","v":40},{"$nulls":5},{"$f":"_xlfn.TEXTJOIN(\"^\",,T276:T284)","v":"10^10^10^10"},null,8,{"$nulls":11},{"$f":"_xlfn.TEXTJOIN(\"^\",,AH276:AH284)","v":"13^3"},null,8,{"$nulls":5},{"$f":"AZ$275","v":25},null,{"$f":"BB$275","v":45},null,null,null,{"$f":"_xlfn.TEXTJOIN(\"^\",,AV276:AV284)","v":"5^5^5^5"}]
[null,null,6,{"$f":"D$275","v":5},null,16,null,27,null,45,55,null,70,null,null,{"$f":"_xlfn.TEXTJOIN(\"^\",,E276:E285)","v":"10^10^10^10^10^10^10"},null,6,null,{"$f":"T$275","v":10},{"$f":"U$275","v":15},null,{"$f":"W$275","v":30},null,null,{"$f":"Z$275","v":55},null,null,null,{"$f":"_xlfn.TEXTJOIN(\"^\",,U276:U284)","v":"15^15^15^15^15"},null,6,{"$nulls":11},{"$f":"_xlfn.TEXTJOIN(\"^\",,AI276:AI284)","v":"8^4^3"},null,6,null,{"$f":"AV$275","v":5},null,{"$f":"AX$275","v":12},18,null,{"$f":"BA$275","v":35},45,null,null,null,{"$f":"_xlfn.TEXTJOIN(\"^\",,AW276:AW284)","v":"8^8^8^8"}]
[null,null,4,null,{"$f":"E$275","v":10},null,{"$f":"G$275","v":20},27,35,45,55,60,70,null,null,{"$f":"_xlfn.TEXTJOIN(\"^\",,F276:F285)","v":"16^16^16^16^16^16^16"},null,4,{"$f":"S$275","v":5},null,null,{"$f":"V$275","v":22},30,40,45,55,null,null,null,{"$f":"_xlfn.TEXTJOIN(\"^\",,V276:V284)","v":"22^22^22^22^22^22^22"},null,4,{"$nulls":11},{"$f":"_xlfn.TEXTJOIN(\"^\",,AJ276:AJ284)","v":"4^5^3"},null,4,{"$f":"AU$275","v":3},{"$f":"AV$275","v":5},{"$f":"AW$275","v":8},12,18,25,35,45,null,null,null,{"$f":"_xlfn.TEXTJOIN(\"^\",,AX276:AX284)","v":"12^12^12^12^12"}]
[null,null,2,{"$f":"D$275","v":5},10,{"$f":"F$275","v":16},20,27,35,45,55,60,70,null,null,{"$f":"_xlfn.TEXTJOIN(\"^\",,G276:G285)","v":"20^20^20^20^20"},null,2,5,null,{"$f":"U$275","v":15},22,30,40,45,55,null,null,null,{"$f":"_xlfn.TEXTJOIN(\"^\",,W276:W284)","v":"30^30^30^30^30^30^30"},null,2,{"$nulls":11},{"$f":"_xlfn.TEXTJOIN(\"^\",,AK276:AK284)","v":"15^4"},null,2,3,null,8,null,18,25,35,45,null,null,null,{"$f":"_xlfn.TEXTJOIN(\"^\",,AY276:AY284)","v":"18^18^18^18^18^18"}]
[null,null,1,5,10,16,20,27,35,45,55,60,70,null,null,{"$f":"_xlfn.TEXTJOIN(\"^\",,H276:H285)","v":"27^27^27^27^27^27^27^27^27"},null,1,null,{"$f":"T$275","v":10},15,22,30,40,45,{"$f":"Z$275","v":55},null,null,null,{"$f":"_xlfn.TEXTJOIN(\"^\",,X276:X284)","v":"40^40^40^40^40^40^40"},null,1,18,13,8,4,15,10,13,17,null,null,null,{"$f":"_xlfn.TEXTJOIN(\"^\",,AL276:AL284)","v":"10^3^8"},null,1,null,null,null,{"$f":"AX$275","v":12},null,25,35,{"$nulls":4},{"$f":"_xlfn.TEXTJOIN(\"^\",,AZ276:AZ284)","v":"25^25^25^25^25^25^25"}]
[null,null,3,5,10,{"$f":"F$275","v":16},20,27,35,45,55,60,70,null,null,{"$f":"_xlfn.TEXTJOIN(\"^\",,I276:I285)","v":"35^35^35^35^35^35^35"},null,3,{"$f":"S$275","v":5},{"$f":"T$275","v":10},{"$f":"U$275","v":15},22,30,40,45,55,null,null,null,{"$f":"_xlfn.TEXTJOIN(\"^\",,Y276:Y284)","v":"45^45^45^45^45"},null,3,4,3,4,5,4,3,4,5,null,null,null,{"$f":"_xlfn.TEXTJOIN(\"^\",,AM276:AM284)","v":"13^4^3^2"},null,3,{"$f":"AU$275","v":3},null,{"$f":"AW$275","v":8},null,{"$f":"AY$275","v":18},25,35,45,null,null,null,{"$f":"_xlfn.TEXTJOIN(\"^\",,BA276:BA284)","v":"35^35^35^35^35^35^35"}]
[null,null,5,null,10,null,20,27,35,45,55,60,70,null,null,{"$f":"_xlfn.TEXTJOIN(\"^\",,J276:J285)","v":"45^45^45^45^45^45^45^45^45"},null,5,5,null,null,22,30,40,45,55,null,null,null,{"$f":"_xlfn.TEXTJOIN(\"^\",,Z276:Z284)","v":"55^55^55^55^55^55^55"},null,5,3,null,3,3,null,8,3,{"$nulls":4},{"$f":"_xlfn.TEXTJOIN(\"^\",,AN276:AN284)","v":"17^5"},null,5,3,{"$f":"AV$275","v":5},8,12,18,25,35,45,null,null,null,{"$f":"_xlfn.TEXTJOIN(\"^\",,BB276:BB284)","v":"45^45^45^45^45^45^45^45"}]
[null,null,7,{"$f":"D$275","v":5},null,{"$f":"F$275","v":16},null,27,null,45,55,null,70,null,null,{"$f":"_xlfn.TEXTJOIN(\"^\",,K276:K285)","v":"55^55^55^55^55^55^55"},null,7,null,{"$f":"T$275","v":10},{"$f":"U$275","v":15},null,30,null,null,55,null,null,null,{"$f":"_xlfn.TEXTJOIN(\"^\",,AA276:AA284)","v":""},null,7,{"$nulls":6},2,{"$nulls":4},{"$f":"_xlfn.TEXTJOIN(\"^\",,AO276:AO284)","v":""},null,7,null,{"$f":"AV$275","v":5},null,12,18,null,35,45,null,null,null,{"$f":"_xlfn.TEXTJOIN(\"^\",,BC276:BC284)","v":""}]
[null,null,9,null,{"$f":"E$275","v":10},16,null,27,{"$f":"I$275","v":35},45,null,null,70,null,null,{"$f":"_xlfn.TEXTJOIN(\"^\",,L276:L285)","v":"60^60^60^60^60"},null,9,null,null,null,{"$f":"V$275","v":22},null,{"$f":"X$275","v":40},{"$nulls":5},{"$f":"_xlfn.TEXTJOIN(\"^\",,AB276:AB284)","v":""},null,9,{"$nulls":11},{"$f":"_xlfn.TEXTJOIN(\"^\",,AP276:AP284)","v":""},null,9,{"$nulls":5},{"$f":"AZ$275","v":25},null,45,null,null,null,{"$f":"_xlfn.TEXTJOIN(\"^\",,BD276:BD284)","v":""}]
[{"$nulls":15},{"$f":"_xlfn.TEXTJOIN(\"^\",,M276:M285)","v":"70^70^70^70^70^70^70^70^70"},{"$nulls":13},{"$f":"_xlfn.TEXTJOIN(\"^\",,AC276:AC284)","v":""},{"$nulls":13},{"$f":"_xlfn.TEXTJOIN(\"^\",,AQ276:AQ284)","v":""},{"$nulls":13},{"$f":"_xlfn.TEXTJOIN(\"^\",,BE276:BE284)","v":""}]
[{"$nulls":15},{"$f":"_xlfn.TEXTJOIN(\"^\",,N276:N285)","v":""},{"$nulls":12},"最终",{"$f":"_xlfn.TEXTJOIN(\"^\",,AD275:AD285)","v":"5^5^5^5^10^10^10^10^15^15^15^15^15^22^22^22^22^22^22^22^30^30^30^30^30^30^30^40^40^40^40^40^40^40^45^45^45^45^45^55^55^55^55^55^55^55"},{"$nulls":12},"最终",{"$f":"_xlfn.TEXTJOIN(\"|\",,AR275:AR285)","v":"18^4^3|13^3|8^4^3|4^5^3|15^4|10^3^8|13^4^3^2|17^5"},{"$nulls":12},"最终",{"$f":"_xlfn.TEXTJOIN(\"^\",,BF275:BF285)","v":"3^3^3^3^5^5^5^5^8^8^8^8^12^12^12^12^12^18^18^18^18^18^18^25^25^25^25^25^25^25^35^35^35^35^35^35^35^45^45^45^45^45^45^45^45"}]
[{"$nulls":14},"最终",{"$f":"_xlfn.TEXTJOIN(\"^\",,P276:P286)","v":"5^5^5^5^5^10^10^10^10^10^10^10^16^16^16^16^16^16^16^20^20^20^20^20^27^27^27^27^27^27^27^27^27^35^35^35^35^35^35^35^45^45^45^45^45^45^45^45^45^55^55^55^55^55^55^55^60^60^60^60^60^70^70^70^70^70^70^70^70^70"}]
[{"$nulls":15},{"$f":"COUNT(D276:M284)","v":70},{"$nulls":13},{"$f":"COUNT(S276:Z284)","v":46},{"$nulls":13},{"$f":"SUM(AG276:AN284)","v":152},{"$nulls":13},{"$f":"COUNT(AU276:BB284)","v":45}]
[{"$nulls":57},{"$f":"SUM(P288:BF288)","v":313}]

{"sheet":"15","index":15,"n_rows":289,"n_cols":58,"rows_kept":289,"cut":false,"hidden":false,"merged":[]}
[{"$nulls":4},{"$f":"E2-D2","v":10},{"$f":"F2-E2","v":15},16,4,16,17,17,15,5,{"$nulls":6},{"$f":"T2-S2","v":5},5,5,7,8,10,10,{"$nulls":7},{"$f":"AH2-AG2","v":2},4,5,10,15,17,18,{"$nulls":7},{"$f":"AV2-AU2","v":2},2,2,2,7,8,10]
[3,"焦土-1","波1·怪物",5,15,30,46,50,66,83,100,115,120,null,null,null,1,"波2·怪物",5,10,15,20,27,35,45,55,{"$nulls":4},3,"波3·怪物",4,6,10,15,25,40,57,75,{"$nulls":4},1,"波4·怪物",2,4,6,8,10,17,25,35]
[null,"5m",8,{"$nulls":12},{"$f":"_xlfn.TEXTJOIN(\"^\",,D3:D12)","v":"60711^60712"},null,8,{"$nulls":5},60714,null,60714,null,null,null,{"$f":"_xlfn.TEXTJOIN(\"^\",,S3:S12)","v":"60714^60712^60712^60712^60714"},null,8,{"$nulls":11},{"$f":"_xlfn.TEXTJOIN(\"^\",,AG3:AG12)","v":"60715^60714^60713"},null,8,{"$nulls":7},60712,null,null,null,{"$f":"_xlfn.TEXTJOIN(\"^\",,AU3:AU12)","v":"60713^60713"}]
[null,null,6,{"$nulls":12},{"$f":"_xlfn.TEXTJOIN(\"^\",,E3:E12)","v":"60711^60712^60713"},null,6,null,null,60711,null,60712,60712,60712,60712,null,null,null,{"$f":"_xlfn.TEXTJOIN(\"^\",,T3:T12)","v":"60713^60713^60713"},null,6,{"$nulls":11},{"$f":"_xlfn.TEXTJOIN(\"^\",,AH3:AH12)","v":"60711^60712"},null,6,null,null,null,60711,null,60714,60712,60712,null,null,null,{"$f":"_xlfn.TEXTJOIN(\"^\",,AV3:AV12)","v":"60712^60712^60712"}]
[null,null,4,{"$nulls":12},{"$f":"_xlfn.TEXTJOIN(\"^\",,F3:F12)","v":"60711^60712^60713^60714"},null,4,60714,60713,60711,60715,60711,60711,60711,60711,null,null,null,{"$f":"_xlfn.TEXTJOIN(\"^\",,U3:U12)","v":"60711^60711^60711^60711^60711"},null,4,{"$nulls":11},{"$f":"_xlfn.TEXTJOIN(\"^\",,AI3:AI12)","v":"60711^60714"},null,4,null,60712,null,60711,60715,60712,60712,60711,null,null,null,{"$f":"_xlfn.TEXTJOIN(\"^\",,AW3:AW12)","v":"60714^60714"}]
[null,null,2,{"$nulls":12},{"$f":"_xlfn.TEXTJOIN(\"^\",,G3:G12)","v":"60711^60712"},null,2,60712,null,null,60715,60713,null,60713,60713,null,null,null,{"$f":"_xlfn.TEXTJOIN(\"^\",,V3:V12)","v":"60715^60715^60715^60715"},null,2,{"$nulls":11},{"$f":"_xlfn.TEXTJOIN(\"^\",,AJ3:AJ12)","v":"60711^60712^60713"},null,2,60713,null,60714,null,60715,60713,60711,60711,null,null,null,{"$f":"_xlfn.TEXTJOIN(\"^\",,AX3:AX12)","v":"60711^60711^60711^60711"}]
[null,null,1,60711,60711,60711,60711,60715,60711,60711,60711,60711,60715,null,null,{"$f":"_xlfn.TEXTJOIN(\"^\",,H3:H12)","v":"60715^60714"},null,1,60712,60713,60711,null,60714,60713,60714,{"$nulls":4},{"$f":"_xlfn.TEXTJOIN(\"^\",,W3:W12)","v":"60712^60711^60713^60714^60713^60711^60712"},null,1,60715,60711,60711,60711,60711,60715,60711,60711,null,null,null,{"$f":"_xlfn.TEXTJOIN(\"^\",,AK3:AK12)","v":"60711^60712^60714"},null,1,null,60712,{"$nulls":4},60714,{"$nulls":4},{"$f":"_xlfn.TEXTJOIN(\"^\",,AY3:AY12)","v":"60715^60715^60715^60715"}]
[null,null,3,60712,60712,60712,60712,60714,60712,60712,60712,60712,60712,null,null,{"$f":"_xlfn.TEXTJOIN(\"^\",,I3:I12)","v":"60711^60712^60713"},null,3,60712,null,null,60715,60713,null,60713,60713,null,null,null,{"$f":"_xlfn.TEXTJOIN(\"^\",,X3:X12)","v":"60714^60712^60711^60713^60711^60712^60714"},null,3,60714,60712,60714,60712,60712,60713,60712,60712,null,null,null,{"$f":"_xlfn.TEXTJOIN(\"^\",,AL3:AL12)","v":"60715^60713^60714"},null,3,60713,null,60714,null,60715,60713,60711,60711,null,null,null,{"$f":"_xlfn.TEXTJOIN(\"^\",,AZ3:AZ12)","v":"60714^60712^60713^60713^60712^60714"}]
[null,null,5,null,60713,60713,null,null,60713,60714,60713,{"$nulls":4},{"$f":"_xlfn.TEXTJOIN(\"^\",,J3:J12)","v":"60711^60712^60714"},null,5,60714,60713,60711,60715,60711,60711,60711,60711,null,null,null,{"$f":"_xlfn.TEXTJOIN(\"^\",,Y3:Y12)","v":"60712^60711^60713^60714^60713^60711^60712"},null,5,60713,null,null,60713,60714,60714,null,60713,null,null,null,{"$f":"_xlfn.TEXTJOIN(\"^\",,AM3:AM12)","v":"60711^60712"},null,5,null,60712,null,60711,60715,60712,60712,60711,null,null,null,{"$f":"_xlfn.TEXTJOIN(\"^\",,BA3:BA12)","v":"60712^60712^60711^60714^60711^60712^60712"}]
[null,null,7,null,null,60714,{"$nulls":4},60714,{"$nulls":4},{"$f":"_xlfn.TEXTJOIN(\"^\",,K3:K12)","v":"60711^60712^60713^60714"},null,7,null,null,60711,null,60712,60712,60712,60712,null,null,null,{"$f":"_xlfn.TEXTJOIN(\"^\",,Z3:Z12)","v":"60714^60712^60711^60713^60713^60711^60712^60714"},null,7,{"$nulls":7},60714,null,null,null,{"$f":"_xlfn.TEXTJOIN(\"^\",,AN3:AN12)","v":"60711^60712^60713^60714"},null,7,null,null,null,60711,null,60714,60712,60712,null,null,null,{"$f":"_xlfn.TEXTJOIN(\"^\",,BB3:BB12)","v":"60712^60712^60711^60711^60711^60711^60712^60712"}]
[null,null,9,{"$nulls":12},{"$f":"_xlfn.TEXTJOIN(\"^\",,L3:L12)","v":"60711^60712"},null,9,{"$nulls":5},60714,null,60714,null,null,null,{"$f":"_xlfn.TEXTJOIN(\"^\",,AA3:AA12)","v":""},null,9,{"$nulls":11},{"$f":"_xlfn.TEXTJOIN(\"^\",,AO3:AO12)","v":""},null,9,{"$nulls":7},60712,null,null,null,{"$f":"_xlfn.TEXTJOIN(\"^\",,BC3:BC12)","v":""}]
[{"$nulls":15},{"$f":"_xlfn.TEXTJOIN(\"^\",,M3:M12)","v":"60715^60712"},{"$nulls":13},{"$f":"_xlfn.TEXTJOIN(\"^\",,AB3:AB12)","v":""},{"$nulls":13},{"$f":"_xlfn.TEXTJOIN(\"^\",,AP3:AP12)","v":""},{"$nulls":13},{"$f":"_xlfn.TEXTJOIN(\"^\",,BD3:BD12)","v":""}]
[{"$nulls":15},{"$f":"_xlfn.TEXTJOIN(\"^\",,N3:N12)","v":""},{"$nulls":13},{"$f":"_xlfn.TEXTJOIN(\"^\",,AC3:AC12)","v":""},{"$nulls":13},{"$f":"_xlfn.TEXTJOIN(\"^\",,AQ3:AQ12)","v":""},{"$nulls":13},{"$f":"_xlfn.TEXTJOIN(\"^\",,BE3:BE12)","v":""}]
[{"$nulls":14},"最终",{"$f":"_xlfn.TEXTJOIN(\"^\",,P3:P13)","v":"60711^60712^60711^60712^60713^60711^60712^60713^60714^60711^60712^60715^60714^60711^60712^60713^60711^60712^60714^60711^60712^60713^60714^60711^60712^60715^60712"},{"$nulls":12},"最终",{"$f":"_xlfn.TEXTJOIN(\"^\",,AD3:AD13)","v":"60714^60712^60712^60712^60714^60713^60713^60713^60711^60711^60711^60711^60711^60715^60715^60715^60715^60712^60711^60713^60714^60713^60711^60712^60714^60712^60711^60713^60711^60712^60714^60712^60711^60713^60714^60713^60711^60712^60714^60712^60711^60713^60713^60711^60712^60714"},{"$nulls":12},"最终",{"$f":"_xlfn.TEXTJOIN(\"^\",,AR3:AR13)","v":"60715^60714^60713^60711^60712^60711^60714^60711^60712^60713^60711^60712^60714^60715^60713^60714^60711^60712^60711^60712^60713^60714"},{"$nulls":12},"最终",{"$f":"_xlfn.TEXTJOIN(\"^\",,BF3:BF13)","v":"60713^60713^60712^60712^60712^60714^60714^60711^60711^60711^60711^60715^60715^60715^60715^60714^60712^60713^60713^60712^60714^60712^60712^60711^60714^60711^60712^60712^60712^60712^60711^60711^60711^60711^60712^60712"}]
[null,null,8,{"$nulls":14},8,{"$nulls":5},"火精灵",null,"火精灵",{"$nulls":5},8,{"$nulls":13},8,{"$nulls":7},"岩浆人"]
[null,null,6,{"$nulls":14},6,null,null,"岩浆蝎",null,"岩浆人","岩浆人","岩浆人","岩浆人",{"$nulls":5},6,{"$nulls":13},6,null,null,null,"岩浆蝎",null,"火精灵","岩浆人","岩浆人"]
[null,null,4,{"$nulls":14},4,"火精灵","岩浆战士","岩浆蝎","火山蜘蛛","岩浆蝎","岩浆蝎","岩浆蝎","岩浆蝎",{"$nulls":5},4,{"$nulls":13},4,null,"岩浆人",null,"岩浆蝎","火山蜘蛛","岩浆人","岩浆人","岩浆蝎"]
[null,null,2,{"$nulls":14},2,"岩浆人",null,null,"火山蜘蛛","岩浆战士",null,"岩浆战士","岩浆战士",{"$nulls":5},2,{"$nulls":13},2,"岩浆战士",null,"火精灵",null,"火山蜘蛛","岩浆战士","岩浆蝎","岩浆蝎"]
[null,null,1,"岩浆蝎","岩浆蝎","岩浆蝎","岩浆蝎","火山蜘蛛","岩浆蝎","岩浆蝎","岩浆蝎","岩浆蝎","火山蜘蛛",{"$nulls":4},1,"岩浆人","岩浆战士","岩浆蝎",null,"火精灵","岩浆战士","火精灵",{"$nulls":6},1,"火山蜘蛛","岩浆蝎","岩浆蝎","岩浆蝎","岩浆蝎","火山蜘蛛","岩浆蝎","岩浆蝎",{"$nulls":5},1,null,"岩浆人",{"$nulls":4},"火精灵"]
[null,null,3,"岩浆人","岩浆人","岩浆人","岩浆人","火精灵","岩浆人","岩浆人","岩浆人","岩浆人","岩浆人",{"$nulls":4},3,"岩浆人",null,null,"火山蜘蛛","岩浆战士",null,"岩浆战士","岩浆战士",{"$nulls":5},3,"火精灵","岩浆人","火精灵","岩浆人","岩浆人","岩浆战士","岩浆人","岩浆人",{"$nulls":5},3,"岩浆战士",null,"火精灵",null,"火山蜘蛛","岩浆战士","岩浆蝎","岩浆蝎"]
[null,null,5,null,"岩浆战士","岩浆战士",null,null,"岩浆战士","火精灵","岩浆战士",{"$nulls":6},5,"火精灵","岩浆战士","岩浆蝎","火山蜘蛛","岩浆蝎","岩浆蝎","岩浆蝎","岩浆蝎",{"$nulls":5},5,"岩浆战士",null,null,"岩浆战士","火精灵","火精灵",null,"岩浆战士",{"$nulls":5},5,null,"岩浆人",null,"岩浆蝎","火山蜘蛛","岩浆人","岩浆人","岩浆蝎"]
[null,null,7,null,null,"火精灵",{"$nulls":4},"火精灵",{"$nulls":6},7,null,null,"岩浆蝎",null,"岩浆人","岩浆人","岩浆人","岩浆人",{"$nulls":5},7,{"$nulls":7},"火精灵",{"$nulls":5},7,null,null,null,"岩浆蝎",null,"火精灵","岩浆人","岩浆人"]
[null,null,9,{"$nulls":14},9,{"$nulls":5},"火精灵",null,"火精灵",{"$nulls":5},9,{"$nulls":13},9,{"$nulls":7},"岩浆人"]
[]
[null,null,"位置",5,15,30,46,50,66,83,100,115,120,{"$nulls":4},"位置",5,10,15,20,27,35,45,55,{"$nulls":5},"位置",4,6,10,15,25,40,57,75,null,null,null,{"$f":"_xlfn.TEXTJOIN(\"^\",,AG26:AG40)","v":"100^0^0"},null,"位置",2,4,6,8,10,17,25,35,null,null,null,{"$f":"_xlfn.TEXTJOIN(\"^\",,AU26:AU40)","v":"2^3"}]
[null,null,8,{"$nulls":12},{"$f":"_xlfn.TEXTJOIN(\"^\",,D26:D40)","v":"0^0"},null,8,{"$nulls":5},{"$f":"$C26","v":8},null,{"$f":"$C26","v":8},{"$nulls":5},8,{"$nulls":11},{"$f":"_xlfn.TEXTJOIN(\"^\",,AH26:AH40)","v":"0^0"},null,8,{"$nulls":7},{"$f":"$C26","v":8},null,null,null,{"$f":"_xlfn.TEXTJOIN(\"^\",,AV26:AV40)","v":"4^1^5"}]
[null,null,6,{"$nulls":12},{"$f":"_xlfn.TEXTJOIN(\"^\",,E26:E40)","v":"0^0^0"},null,6,null,null,{"$f":"$C27","v":6},null,{"$f":"$C27","v":6},6,6,6,null,null,null,{"$f":"_xlfn.TEXTJOIN(\"^\",,S26:S40)","v":"4^2^1^3^5"},null,6,{"$nulls":11},{"$f":"_xlfn.TEXTJOIN(\"^\",,AI26:AI40)","v":"0^0"},null,6,null,null,null,{"$f":"$C27","v":6},null,{"$f":"$C27","v":6},6,6,null,null,null,{"$f":"_xlfn.TEXTJOIN(\"^\",,AW26:AW40)","v":"2^3"}]
[null,null,4,{"$nulls":12},{"$f":"_xlfn.TEXTJOIN(\"^\",,F26:F40)","v":"0^0^0^0"},null,4,{"$f":"$C28","v":4},{"$f":"$C28","v":4},4,null,4,4,4,4,null,null,null,{"$f":"_xlfn.TEXTJOIN(\"^\",,T26:T40)","v":"4^1^5"},null,4,{"$nulls":11},{"$f":"_xlfn.TEXTJOIN(\"^\",,AJ26:AJ40)","v":"0^0^0"},null,4,null,{"$f":"$C28","v":4},null,4,null,4,4,4,null,null,null,{"$f":"_xlfn.TEXTJOIN(\"^\",,AX26:AX40)","v":"6^4^5^7"}]
[null,null,2,{"$nulls":12},{"$f":"_xlfn.TEXTJOIN(\"^\",,G26:G40)","v":"0^0"},null,2,2,null,null,null,2,null,2,2,null,null,null,{"$f":"_xlfn.TEXTJOIN(\"^\",,U26:U40)","v":"6^4^1^5^7"},null,2,{"$nulls":11},{"$f":"_xlfn.TEXTJOIN(\"^\",,AK26:AK40)","v":"0^0^0"},null,2,{"$f":"$C29","v":2},null,{"$f":"$C29","v":2},null,null,2,2,2,null,null,null,{"$f":"_xlfn.TEXTJOIN(\"^\",,AY26:AY40)","v":"101^102^104^105"}]
[null,null,1,0,0,0,0,100,0,0,0,0,100,null,null,{"$f":"_xlfn.TEXTJOIN(\"^\",,H26:H40)","v":"100^0"},null,1,1,{"$f":"$C30","v":1},1,null,1,{"$f":"$C30","v":1},1,{"$nulls":4},{"$f":"_xlfn.TEXTJOIN(\"^\",,V26:V40)","v":"101^102^104^105"},null,1,100,0,0,0,0,100,0,0,null,null,null,{"$f":"_xlfn.TEXTJOIN(\"^\",,AL26:AL40)","v":"100^0^0"},null,1,null,{"$f":"$C30","v":1},{"$nulls":4},1,{"$nulls":4},{"$f":"_xlfn.TEXTJOIN(\"^\",,AZ26:AZ40)","v":"6^4^2^3^5^7"}]
[null,null,3,0,0,0,0,0,0,0,0,0,0,null,null,{"$f":"_xlfn.TEXTJOIN(\"^\",,I26:I40)","v":"0^0^0"},null,3,3,null,null,null,3,null,3,3,null,null,null,{"$f":"_xlfn.TEXTJOIN(\"^\",,W26:W40)","v":"6^4^2^1^3^5^7"},null,3,0,0,0,0,0,0,0,0,null,null,null,{"$f":"_xlfn.TEXTJOIN(\"^\",,AM26:AM40)","v":"0^0"},null,3,{"$f":"$C31","v":3},null,{"$f":"$C31","v":3},null,null,{"$f":"$C31","v":3},3,3,null,null,null,{"$f":"_xlfn.TEXTJOIN(\"^\",,BA26:BA40)","v":"6^4^2^1^3^5^7"}]
[null,null,5,null,0,0,null,null,0,0,0,{"$nulls":4},{"$f":"_xlfn.TEXTJOIN(\"^\",,J26:J40)","v":"0^0^0"},null,5,5,{"$f":"$C32","v":5},{"$f":"$C32","v":5},null,5,5,5,5,null,null,null,{"$f":"_xlfn.TEXTJOIN(\"^\",,X26:X40)","v":"8^6^4^1^5^7^9"},null,5,0,null,null,0,0,0,null,0,null,null,null,{"$f":"_xlfn.TEXTJOIN(\"^\",,AN26:AN40)","v":"0^0^0^0"},null,5,null,{"$f":"$C32","v":5},null,{"$f":"$C32","v":5},null,5,5,5,null,null,null,{"$f":"_xlfn.TEXTJOIN(\"^\",,BB26:BB40)","v":"8^6^4^2^3^5^7^9"}]
[null,null,7,null,null,0,{"$nulls":4},0,{"$nulls":4},{"$f":"_xlfn.TEXTJOIN(\"^\",,K26:K40)","v":"0^0^0^0"},null,7,null,null,7,null,7,7,7,7,null,null,null,{"$f":"_xlfn.TEXTJOIN(\"^\",,Y26:Y40)","v":"6^4^2^1^3^5^7"},null,7,{"$nulls":7},0,null,null,null,{"$f":"_xlfn.TEXTJOIN(\"^\",,AO26:AO40)","v":""},null,7,null,null,null,7,null,7,7,7,null,null,null,{"$f":"_xlfn.TEXTJOIN(\"^\",,BC26:BC40)","v":""}]
[null,null,9,{"$nulls":12},{"$f":"_xlfn.TEXTJOIN(\"^\",,L26:L40)","v":"0^0"},null,9,{"$nulls":5},9,null,9,{"$nulls":5},9,{"$nulls":11},{"$f":"_xlfn.TEXTJOIN(\"^\",,AP26:AP40)","v":""},null,9,{"$nulls":7},9,null,null,null,{"$f":"_xlfn.TEXTJOIN(\"^\",,BD26:BD40)","v":""}]
[null,null,"空降",{"$nulls":12},{"$f":"_xlfn.TEXTJOIN(\"^\",,M26:M40)","v":"100^0"},null,"空降",{"$nulls":13},"空降",{"$nulls":11},{"$f":"_xlfn.TEXTJOIN(\"^\",,AQ26:AQ34)","v":""},null,"空降",{"$nulls":11},{"$f":"_xlfn.TEXTJOIN(\"^\",,BE26:BE34)","v":""}]
[null,null,101,{"$nulls":12},{"$f":"_xlfn.TEXTJOIN(\"^\",,N26:N40)","v":""},null,101,null,null,null,{"$f":"$C36","v":101},{"$nulls":7},{"$f":"_xlfn.TEXTJOIN(\"^\",,Z26:Z40)","v":"8^6^4^2^3^5^7^9"},null,101,{"$nulls":13},101,{"$nulls":4},{"$f":"$C36","v":101}]
[null,null,102,{"$nulls":14},102,null,null,null,102,{"$nulls":7},{"$f":"_xlfn.TEXTJOIN(\"^\",,AA26:AA40)","v":""},null,102,{"$nulls":13},102,{"$nulls":4},102]
[null,null,103,{"$nulls":14},103,{"$nulls":11},{"$f":"_xlfn.TEXTJOIN(\"^\",,AB26:AB40)","v":""},null,103,{"$nulls":13},103]
[null,null,104,{"$nulls":14},104,null,null,null,{"$f":"$C39","v":104},{"$nulls":9},104,{"$nulls":13},104,{"$nulls":4},{"$f":"$C39","v":104}]
[null,null,105,{"$nulls":14},105,null,null,null,105,{"$nulls":9},105,{"$nulls":13},105,{"$nulls":4},105]
[{"$nulls":14},"最终",{"$f":"_xlfn.TEXTJOIN(\"^\",,P26:P40)","v":"0^0^0^0^0^0^0^0^0^0^0^100^0^0^0^0^0^0^0^0^0^0^0^0^0^100^0"},{"$nulls":12},"最终",{"$f":"_xlfn.TEXTJOIN(\"^\",,AD26:AD40)","v":"4^2^1^3^5^4^1^5^6^4^1^5^7^101^102^104^105^6^4^2^1^3^5^7^8^6^4^1^5^7^9^6^4^2^1^3^5^7^8^6^4^2^3^5^7^9"},{"$nulls":12},"最终",{"$f":"_xlfn.TEXTJOIN(\"^\",,AR25:AR40)","v":"100^0^0^0^0^0^0^0^0^0^0^0^0^100^0^0^0^0^0^0^0^0"},{"$nulls":12},"最终",{"$f":"_xlfn.TEXTJOIN(\"^\",,BF25:BF40)","v":"2^3^4^1^5^2^3^6^4^5^7^101^102^104^105^6^4^2^3^5^7^6^4^2^1^3^5^7^8^6^4^2^3^5^7^9"}]
[]
[null,null,"时间",5,15,30,46,50,66,83,100,115,120,{"$nulls":4},"时间",5,10,15,20,27,35,45,55,null,null,null,{"$f":"_xlfn.TEXTJOIN(\"^\",,S44:S52)","v":"5^5^5^5^5"},null,"时间",4,6,10,15,25,40,57,75,null,null,null,{"$f":"_xlfn.TEXTJOIN(\"^\",,AG44:AG52)","v":"19^5^3"},null,"时间",2,4,6,8,10,17,25,35,null,null,null,{"$f":"_xlfn.TEXTJOIN(\"^\",,AU44:AU52)","v":"2^2"}]
[null,null,8,{"$nulls":12},{"$f":"_xlfn.TEXTJOIN(\"^\",,D44:D53)","v":"10^4"},null,8,{"$nulls":5},{"$f":"X$43","v":35},null,{"$f":"Z$43","v":55},null,null,null,{"$f":"_xlfn.TEXTJOIN(\"^\",,T44:T52)","v":"10^10^10"},null,8,{"$nulls":11},{"$f":"_xlfn.TEXTJOIN(\"^\",,AH44:AH52)","v":"11^4"},null,8,{"$nulls":7},{"$f":"BB$43","v":35},null,null,null,{"$f":"_xlfn.TEXTJOIN(\"^\",,AV44:AV52)","v":"4^4^4"}]
[null,null,6,{"$nulls":12},{"$f":"_xlfn.TEXTJOIN(\"^\",,E44:E53)","v":"10^3^3"},null,6,null,null,{"$f":"U$43","v":15},null,{"$f":"W$43","v":27},35,45,55,null,null,null,{"$f":"_xlfn.TEXTJOIN(\"^\",,U44:U52)","v":"15^15^15^15^15"},null,6,{"$nulls":11},{"$f":"_xlfn.TEXTJOIN(\"^\",,AI44:AI52)","v":"14^2"},null,6,null,null,null,{"$f":"AX$43","v":8},null,{"$f":"AZ$43","v":17},25,35,null,null,null,{"$f":"_xlfn.TEXTJOIN(\"^\",,AW44:AW52)","v":"6^6"}]
[null,null,4,{"$nulls":12},{"$f":"_xlfn.TEXTJOIN(\"^\",,F44:F53)","v":"9^4^2^2"},null,4,{"$f":"S$43","v":5},10,15,20,27,35,45,55,null,null,null,{"$f":"_xlfn.TEXTJOIN(\"^\",,V44:V52)","v":"20^20^20^20"},null,4,{"$nulls":11},{"$f":"_xlfn.TEXTJOIN(\"^\",,AJ44:AJ52)","v":"12^3^2"},null,4,null,{"$f":"AV$43","v":4},null,8,10,17,25,35,null,null,null,{"$f":"_xlfn.TEXTJOIN(\"^\",,AX44:AX52)","v":"8^8^8^8"}]
[null,null,2,{"$nulls":12},{"$f":"_xlfn.TEXTJOIN(\"^\",,G44:G53)","v":"14^4"},null,2,5,null,null,20,27,null,45,55,null,null,null,{"$f":"_xlfn.TEXTJOIN(\"^\",,W44:W52)","v":"27^27^27^27^27^27^27"},null,2,{"$nulls":11},{"$f":"_xlfn.TEXTJOIN(\"^\",,AK44:AK52)","v":"14^3^2"},null,2,{"$f":"AU$43","v":2},null,{"$f":"AW$43","v":6},null,10,17,25,35,null,null,null,{"$f":"_xlfn.TEXTJOIN(\"^\",,AY44:AY52)","v":"10^10^10^10"}]
[null,null,1,10,10,9,14,9,13,14,13,17,9,null,null,{"$f":"_xlfn.TEXTJOIN(\"^\",,H44:H53)","v":"9^3"},null,1,5,10,15,null,27,35,45,{"$nulls":4},{"$f":"_xlfn.TEXTJOIN(\"^\",,X44:X52)","v":"35^35^35^35^35^35^35"},null,1,19,11,14,12,14,9,15,12,null,null,null,{"$f":"_xlfn.TEXTJOIN(\"^\",,AL44:AL52)","v":"9^3^3"},null,1,null,{"$f":"AV$43","v":4},{"$nulls":4},25,{"$nulls":4},{"$f":"_xlfn.TEXTJOIN(\"^\",,AZ44:AZ52)","v":"17^17^17^17^17^17"}]
[null,null,3,4,3,4,4,3,3,4,3,4,4,null,null,{"$f":"_xlfn.TEXTJOIN(\"^\",,I44:I53)","v":"13^3^3"},null,3,5,null,null,{"$f":"V$43","v":20},27,null,45,55,null,null,null,{"$f":"_xlfn.TEXTJOIN(\"^\",,Y44:Y52)","v":"45^45^45^45^45^45^45"},null,3,5,4,2,3,3,3,4,3,null,null,null,{"$f":"_xlfn.TEXTJOIN(\"^\",,AM44:AM52)","v":"15^4"},null,3,{"$f":"AU$43","v":2},null,{"$f":"AW$43","v":6},null,{"$f":"AY$43","v":10},17,25,35,null,null,null,{"$f":"_xlfn.TEXTJOIN(\"^\",,BA44:BA52)","v":"25^25^25^25^25^25^25"}]
[null,null,5,null,3,2,null,null,3,2,3,{"$nulls":4},{"$f":"_xlfn.TEXTJOIN(\"^\",,J44:J53)","v":"14^4^2"},null,5,5,10,15,20,27,35,45,55,null,null,null,{"$f":"_xlfn.TEXTJOIN(\"^\",,Z44:Z52)","v":"55^55^55^55^55^55^55^55"},null,5,3,null,null,2,2,3,null,3,null,null,null,{"$f":"_xlfn.TEXTJOIN(\"^\",,AN44:AN52)","v":"12^3^3^2"},null,5,null,{"$f":"AV$43","v":4},null,{"$f":"AX$43","v":8},10,17,25,35,null,null,null,{"$f":"_xlfn.TEXTJOIN(\"^\",,BB44:BB52)","v":"35^35^35^35^35^35^35^35"}]
[null,null,7,null,null,2,{"$nulls":4},2,{"$nulls":4},{"$f":"_xlfn.TEXTJOIN(\"^\",,K44:K53)","v":"13^3^3^2"},null,7,null,null,15,null,27,35,45,55,null,null,null,{"$f":"_xlfn.TEXTJOIN(\"^\",,AA44:AA52)","v":""},null,7,{"$nulls":7},2,null,null,null,{"$f":"_xlfn.TEXTJOIN(\"^\",,AO44:AO52)","v":""},null,7,null,null,null,8,null,17,25,35,null,null,null,{"$f":"_xlfn.TEXTJOIN(\"^\",,BC44:BC52)","v":""}]
[null,null,9,{"$nulls":12},{"$f":"_xlfn.TEXTJOIN(\"^\",,L44:L53)","v":"17^4"},null,9,{"$nulls":5},35,null,55,null,null,null,{"$f":"_xlfn.TEXTJOIN(\"^\",,AB44:AB52)","v":""},null,9,{"$nulls":11},{"$f":"_xlfn.TEXTJOIN(\"^\",,AP44:AP52)","v":""},null,9,{"$nulls":7},35,null,null,null,{"$f":"_xlfn.TEXTJOIN(\"^\",,BD44:BD52)","v":""}]
[{"$nulls":15},{"$f":"_xlfn.TEXTJOIN(\"^\",,M44:M53)","v":"9^4"},{"$nulls":13},{"$f":"_xlfn.TEXTJOIN(\"^\",,AC44:AC52)","v":""},{"$nulls":13},{"$f":"_xlfn.TEXTJOIN(\"^\",,AQ44:AQ52)","v":""},{"$nulls":13},{"$f":"_xlfn.TEXTJOIN(\"^\",,BE44:BE52)","v":""}]
[{"$nulls":15},{"$f":"_xlfn.TEXTJOIN(\"^\",,N44:N53)","v":""},{"$nulls":12},"最终",{"$f":"_xlfn.TEXTJOIN(\"^\",,AD43:AD53)","v":"5^5^5^5^5^10^10^10^15^15^15^15^15^20^20^20^20^27^27^27^27^27^27^27^35^35^35^35^35^35^35^45^45^45^45^45^45^45^55^55^55^55^55^55^55^55"},{"$nulls":12},"最终",{"$f":"_xlfn.TEXTJOIN(\"^\",,AR43:AR53)","v":"19^5^3^11^4^14^2^12^3^2^14^3^2^9^3^3^15^4^12^3^3^2"},{"$nulls":12},"最终",{"$f":"_xlfn.TEXTJOIN(\"^\",,BF43:BF53)","v":"2^2^4^4^4^6^6^8^8^8^8^10^10^10^10^17^17^17^17^17^17^25^25^25^25^25^25^25^35^35^35^35^35^35^35^35"}]
[{"$nulls":14},"最终",{"$f":"_xlfn.TEXTJOIN(\"^\",,P44:P54)","v":"10^4^10^3^3^9^4^2^2^14^4^9^3^13^3^3^14^4^2^13^3^3^2^17^4^9^4"}]
[{"$nulls":15},{"$f":"SUM(D44:M52)","v":171},{"$nulls":13},{"$f":"COUNT(S44:Z52)","v":46},{"$nulls":13},{"$f":"SUM(AG44:AN52)","v":148},{"$nulls":13},{"$f":"COUNT(AU44:BB52)","v":36}]
[{"$nulls":57},{"$f":"SUM(P56:BF56)","v":401}]
[]
[{"$nulls":4},{"$f":"E60-D60","v":5},{"$f":"F60-E60","v":6},4,7,8,10,5,10,10,{"$nulls":6},{"$f":"T60-S60","v":5},5,5,10,15,15,10,{"$nulls":7},{"$f":"AH60-AG60","v":2},4,5,10,15,17,18,{"$nulls":7},{"$f":"AV60-AU60","v":2},2,2,2,7,8,10]
[1,"焦土-2","波1·怪物",5,10,16,20,27,35,45,50,60,70,null,null,null,3,"波2·怪物",5,10,15,20,30,45,60,70,{"$nulls":4},3,"波3·怪物",4,6,10,15,25,40,57,75,{"$nulls":4},1,"波4·怪物",2,4,6,8,10,17,25,35]
[null,"5m",8,{"$nulls":5},60724,null,null,null,60724,null,null,{"$f":"_xlfn.TEXTJOIN(\"^\",,D61:D70)","v":"60724^60722^60722^60722^60724"},null,8,{"$nulls":11},{"$f":"_xlfn.TEXTJOIN(\"^\",,S61:S70)","v":"60725^60724^60722"},null,8,{"$nulls":11},{"$f":"_xlfn.TEXTJOIN(\"^\",,AG61:AG70)","v":"60721^60723"},null,8,{"$nulls":7},60722,null,null,null,{"$f":"_xlfn.TEXTJOIN(\"^\",,AU61:AU70)","v":"60721^60721^60721^60721"}]
[null,null,6,null,60721,60724,null,60722,60722,60722,null,60722,60722,null,null,{"$f":"_xlfn.TEXTJOIN(\"^\",,E61:E70)","v":"60721^60721^60722^60721^60722^60721^60721"},null,6,{"$nulls":11},{"$f":"_xlfn.TEXTJOIN(\"^\",,T61:T70)","v":"60721^60722"},null,6,{"$nulls":11},{"$f":"_xlfn.TEXTJOIN(\"^\",,AH61:AH70)","v":"60721^60722^60724"},null,6,{"$nulls":5},60724,60722,60722,null,null,null,{"$f":"_xlfn.TEXTJOIN(\"^\",,AV61:AV70)","v":"60722^60722^60722"}]
[null,null,4,60724,60721,60722,60725,60721,60721,60722,60725,60721,60721,null,null,{"$f":"_xlfn.TEXTJOIN(\"^\",,F61:F70)","v":"60724^60722^60723^60722^60723^60722^60724"},null,4,{"$nulls":11},{"$f":"_xlfn.TEXTJOIN(\"^\",,U61:U70)","v":"60721^60723"},null,4,{"$nulls":11},{"$f":"_xlfn.TEXTJOIN(\"^\",,AI61:AI70)","v":"60721^60722"},null,4,60721,60722,null,60725,60723,60721,60722,60721,null,null,null,{"$f":"_xlfn.TEXTJOIN(\"^\",,AW61:AW70)","v":"60724^60724"}]
[null,null,2,60722,60722,60723,60725,60721,60723,60721,60725,60721,60723,null,null,{"$f":"_xlfn.TEXTJOIN(\"^\",,G61:G70)","v":"60725^60725^60725^60725^60725"},null,2,{"$nulls":11},{"$f":"_xlfn.TEXTJOIN(\"^\",,V61:V70)","v":"60721^60723^60724"},null,2,{"$nulls":11},{"$f":"_xlfn.TEXTJOIN(\"^\",,AJ61:AJ70)","v":"60725^60723"},null,2,60721,null,60724,60725,null,60721,null,60723,null,null,null,{"$f":"_xlfn.TEXTJOIN(\"^\",,AX61:AX70)","v":"60725^60725^60725^60725"}]
[null,null,1,60722,60721,60722,60725,60722,60723,60721,60725,60724,60722,null,null,{"$f":"_xlfn.TEXTJOIN(\"^\",,H61:H70)","v":"60722^60721^60721^60722^60721^60721^60722"},null,1,60725,60721,60721,60721,60721,60721,60721,60725,null,null,null,{"$f":"_xlfn.TEXTJOIN(\"^\",,W61:W70)","v":"60721^60722"},null,1,60721,60721,60721,60725,60721,60721,60721,60721,null,null,null,{"$f":"_xlfn.TEXTJOIN(\"^\",,AK61:AK70)","v":"60721^60722^60724"},null,1,null,60722,null,null,60723,null,60722,{"$nulls":4},{"$f":"_xlfn.TEXTJOIN(\"^\",,AY61:AY70)","v":"60723^60723^60723"}]
[null,null,3,60722,60722,60723,60725,60721,60723,60721,60725,60721,60723,null,null,{"$f":"_xlfn.TEXTJOIN(\"^\",,I61:I70)","v":"60724^60722^60721^60723^60723^60723^60721^60722^60724"},null,3,60724,60722,60723,60723,60722,60722,60722,60722,null,null,null,{"$f":"_xlfn.TEXTJOIN(\"^\",,X61:X70)","v":"60721^60722^60723^60724"},null,3,60723,60722,60722,60723,60722,60723,60722,60722,null,null,null,{"$f":"_xlfn.TEXTJOIN(\"^\",,AL61:AL70)","v":"60721^60723^60724"},null,3,60721,null,60724,60725,null,60721,null,60723,null,null,null,{"$f":"_xlfn.TEXTJOIN(\"^\",,AZ61:AZ70)","v":"60724^60721^60721^60721^60721^60724"}]
[null,null,5,60724,60721,60722,60725,60721,60721,60722,60725,60721,60721,null,null,{"$f":"_xlfn.TEXTJOIN(\"^\",,J61:J70)","v":"60722^60722^60721^60721^60721^60722^60722"},null,5,60722,null,null,60724,null,60723,60724,{"$nulls":4},{"$f":"_xlfn.TEXTJOIN(\"^\",,Y61:Y70)","v":"60721^60722^60724"},null,5,null,60724,null,null,60724,60724,null,60723,null,null,null,{"$f":"_xlfn.TEXTJOIN(\"^\",,AM61:AM70)","v":"60721^60722"},null,5,60721,60722,null,60725,60723,60721,60722,60721,null,null,null,{"$f":"_xlfn.TEXTJOIN(\"^\",,BA61:BA70)","v":"60722^60722^60722^60722^60722"}]
[null,null,7,null,60721,60724,null,60722,60722,60722,null,60722,60722,null,null,{"$f":"_xlfn.TEXTJOIN(\"^\",,K61:K70)","v":"60725^60725^60725^60725^60725"},null,7,{"$nulls":5},60724,{"$nulls":5},{"$f":"_xlfn.TEXTJOIN(\"^\",,Z61:Z70)","v":"60725^60722"},null,7,{"$nulls":7},60724,null,null,null,{"$f":"_xlfn.TEXTJOIN(\"^\",,AN61:AN70)","v":"60721^60722^60723^60724"},null,7,{"$nulls":5},60724,60722,60722,null,null,null,{"$f":"_xlfn.TEXTJOIN(\"^\",,BB61:BB70)","v":"60722^60722^60721^60723^60723^60721^60722^60722"}]
[null,null,9,{"$nulls":5},60724,null,null,null,60724,null,null,{"$f":"_xlfn.TEXTJOIN(\"^\",,L61:L70)","v":"60722^60721^60721^60724^60721^60721^60722"},null,9,{"$nulls":11},{"$f":"_xlfn.TEXTJOIN(\"^\",,AA61:AA70)","v":""},null,9,{"$nulls":11},{"$f":"_xlfn.TEXTJOIN(\"^\",,AO61:AO70)","v":""},null,9,{"$nulls":7},60722,null,null,null,{"$f":"_xlfn.TEXTJOIN(\"^\",,BC61:BC70)","v":""}]
[{"$nulls":15},{"$f":"_xlfn.TEXTJOIN(\"^\",,M61:M70)","v":"60724^60722^60721^60723^60722^60723^60721^60722^60724"},{"$nulls":13},{"$f":"_xlfn.TEXTJOIN(\"^\",,AB61:AB70)","v":""},{"$nulls":13},{"$f":"_xlfn.TEXTJOIN(\"^\",,AP61:AP70)","v":""},{"$nulls":13},{"$f":"_xlfn.TEXTJOIN(\"^\",,BD61:BD70)","v":""}]
[{"$nulls":15},{"$f":"_xlfn.TEXTJOIN(\"^\",,N61:N70)","v":""},{"$nulls":13},{"$f":"_xlfn.TEXTJOIN(\"^\",,AC61:AC70)","v":""},{"$nulls":13},{"$f":"_xlfn.TEXTJOIN(\"^\",,AQ61:AQ70)","v":""},{"$nulls":13},{"$f":"_xlfn.TEXTJOIN(\"^\",,BE61:BE70)","v":""}]
[{"$nulls":14},"最终",{"$f":"_xlfn.TEXTJOIN(\"^\",,P61:P71)","v":"60724^60722^60722^60722^60724^60721^60721^60722^60721^60722^60721^60721^60724^60722^60723^60722^60723^60722^60724^60725^60725^60725^60725^60725^60722^60721^60721^60722^60721^60721^60722^60724^60722^60721^60723^60723^60723^60721^60722^60724^60722^60722^60721^60721^60721^60722^60722^60725^60725^60725^60725^60725^60722^60721^60721^60724^60721^60721^60722^60724^60722^60721^60723^60722^60723^60721^60722^60724"},{"$nulls":12},"最终",{"$f":"_xlfn.TEXTJOIN(\"^\",,AD61:AD71)","v":"60725^60724^60722^60721^60722^60721^60723^60721^60723^60724^60721^60722^60721^60722^60723^60724^60721^60722^60724^60725^60722"},{"$nulls":12},"最终",{"$f":"_xlfn.TEXTJOIN(\"^\",,AR61:AR71)","v":"60721^60723^60721^60722^60724^60721^60722^60725^60723^60721^60722^60724^60721^60723^60724^60721^60722^60721^60722^60723^60724"},{"$nulls":12},"最终",{"$f":"_xlfn.TEXTJOIN(\"^\",,BF61:BF71)","v":"60721^60721^60721^60721^60722^60722^60722^60724^60724^60725^60725^60725^60725^60723^60723^60723^60724^60721^60721^60721^60721^60724^60722^60722^60722^60722^60722^60722^60722^60721^60723^60723^60721^60722^60722"}]
[null,null,8,{"$nulls":5},"火精灵",null,null,null,"火精灵",{"$nulls":4},8,{"$nulls":13},8,{"$nulls":13},8,{"$nulls":7},"岩浆人"]
[null,null,6,null,"岩浆蝎","火精灵",null,"岩浆人","岩浆人","岩浆人",null,"岩浆人","岩浆人",{"$nulls":4},6,{"$nulls":13},6,{"$nulls":13},6,{"$nulls":5},"火精灵","岩浆人","岩浆人"]
[null,null,4,"火精灵","岩浆蝎","岩浆人","火山蜘蛛","岩浆蝎","岩浆蝎","岩浆人","火山蜘蛛","岩浆蝎","岩浆蝎",{"$nulls":4},4,{"$nulls":13},4,{"$nulls":13},4,"岩浆蝎","岩浆人",null,"火山蜘蛛","岩浆战士","岩浆蝎","岩浆人","岩浆蝎"]
[null,null,2,"岩浆人","岩浆人","岩浆战士","火山蜘蛛","岩浆蝎","岩浆战士","岩浆蝎","火山蜘蛛","岩浆蝎","岩浆战士",{"$nulls":4},2,{"$nulls":13},2,{"$nulls":13},2,"岩浆蝎",null,"火精灵","火山蜘蛛",null,"岩浆蝎",null,"岩浆战士"]
[null,null,1,"岩浆人","岩浆蝎","岩浆人","火山蜘蛛","岩浆人","岩浆战士","岩浆蝎","火山蜘蛛","火精灵","岩浆人",{"$nulls":4},1,"火山蜘蛛","岩浆蝎","岩浆蝎","岩浆蝎","岩浆蝎","岩浆蝎","岩浆蝎","火山蜘蛛",{"$nulls":5},1,"岩浆蝎","岩浆蝎","岩浆蝎","火山蜘蛛","岩浆蝎","岩浆蝎","岩浆蝎","岩浆蝎",{"$nulls":5},1,null,"岩浆人",null,null,"岩浆战士",null,"岩浆人"]
[null,null,3,"岩浆人","岩浆人","岩浆战士","火山蜘蛛","岩浆蝎","岩浆战士","岩浆蝎","火山蜘蛛","岩浆蝎","岩浆战士",{"$nulls":4},3,"火精灵","岩浆人","岩浆战士","岩浆战士","岩浆人","岩浆人","岩浆人","岩浆人",{"$nulls":5},3,"岩浆战士","岩浆人","岩浆人","岩浆战士","岩浆人","岩浆战士","岩浆人","岩浆人",{"$nulls":5},3,"岩浆蝎",null,"火精灵","火山蜘蛛",null,"岩浆蝎",null,"岩浆战士"]
[null,null,5,"火精灵","岩浆蝎","岩浆人","火山蜘蛛","岩浆蝎","岩浆蝎","岩浆人","火山蜘蛛","岩浆蝎","岩浆蝎",{"$nulls":4},5,"岩浆人",null,null,"火精灵",null,"岩浆战士","火精灵",{"$nulls":6},5,null,"火精灵",null,null,"火精灵","火精灵",null,"岩浆战士",{"$nulls":5},5,"岩浆蝎","岩浆人",null,"火山蜘蛛","岩浆战士","岩浆蝎","岩浆人","岩浆蝎"]
[null,null,7,null,"岩浆蝎","火精灵",null,"岩浆人","岩浆人","岩浆人",null,"岩浆人","岩浆人",{"$nulls":4},7,{"$nulls":5},"火精灵",{"$nulls":7},7,{"$nulls":7},"火精灵",{"$nulls":5},7,{"$nulls":5},"火精灵","岩浆人","岩浆人"]
[null,null,9,{"$nulls":5},"火精灵",null,null,null,"火精灵",{"$nulls":4},9,{"$nulls":13},9,{"$nulls":13},9,{"$nulls":7},"岩浆人"]
[]
[null,null,"位置",5,10,16,20,27,35,45,50,60,70,{"$nulls":4},"位置",5,10,15,20,30,45,60,70,{"$nulls":5},"位置",4,6,10,15,25,40,57,75,null,null,null,{"$f":"_xlfn.TEXTJOIN(\"^\",,AG84:AG98)","v":"0^0"},null,"位置",2,4,6,8,10,17,25,35,null,null,null,{"$f":"_xlfn.TEXTJOIN(\"^\",,AU84:AU98)","v":"4^2^3^5"}]
[null,null,8,{"$nulls":5},{"$f":"$C84","v":8},null,null,null,{"$f":"$C84","v":8},null,null,{"$f":"_xlfn.TEXTJOIN(\"^\",,D84:D98)","v":"4^2^1^3^5"},null,8,{"$nulls":13},8,{"$nulls":11},{"$f":"_xlfn.TEXTJOIN(\"^\",,AH84:AH98)","v":"0^0^0"},null,8,{"$nulls":7},{"$f":"$C84","v":8},null,null,null,{"$f":"_xlfn.TEXTJOIN(\"^\",,AV84:AV98)","v":"4^1^5"}]
[null,null,6,null,{"$f":"$C85","v":6},6,null,{"$f":"$C85","v":6},6,6,null,{"$f":"$C85","v":6},6,null,null,{"$f":"_xlfn.TEXTJOIN(\"^\",,E84:E98)","v":"6^4^2^1^3^5^7"},null,6,{"$nulls":11},{"$f":"_xlfn.TEXTJOIN(\"^\",,S84:S98)","v":"100^0^0"},null,6,{"$nulls":11},{"$f":"_xlfn.TEXTJOIN(\"^\",,AI84:AI98)","v":"0^0"},null,6,{"$nulls":5},{"$f":"$C85","v":6},6,6,null,null,null,{"$f":"_xlfn.TEXTJOIN(\"^\",,AW84:AW98)","v":"2^3"}]
[null,null,4,{"$f":"$C86","v":4},4,4,null,4,4,4,null,4,4,null,null,{"$f":"_xlfn.TEXTJOIN(\"^\",,F84:F98)","v":"6^4^2^1^3^5^7"},null,4,{"$nulls":11},{"$f":"_xlfn.TEXTJOIN(\"^\",,T84:T98)","v":"0^0"},null,4,{"$nulls":11},{"$f":"_xlfn.TEXTJOIN(\"^\",,AJ84:AJ98)","v":"100^0"},null,4,{"$f":"$C86","v":4},{"$f":"$C86","v":4},null,null,{"$f":"$C86","v":4},4,4,4,null,null,null,{"$f":"_xlfn.TEXTJOIN(\"^\",,AX84:AX98)","v":"101^102^104^105"}]
[null,null,2,{"$f":"$C87","v":2},2,2,null,2,2,2,null,2,2,null,null,{"$f":"_xlfn.TEXTJOIN(\"^\",,G84:G98)","v":"101^102^103^104^105"},null,2,{"$nulls":11},{"$f":"_xlfn.TEXTJOIN(\"^\",,U84:U98)","v":"0^0"},null,2,{"$nulls":11},{"$f":"_xlfn.TEXTJOIN(\"^\",,AK84:AK98)","v":"0^0^0"},null,2,2,null,{"$f":"$C87","v":2},null,null,2,null,2,null,null,null,{"$f":"_xlfn.TEXTJOIN(\"^\",,AY84:AY98)","v":"4^1^5"}]
[null,null,1,{"$f":"$C88","v":1},1,1,null,1,1,1,null,1,1,null,null,{"$f":"_xlfn.TEXTJOIN(\"^\",,H84:H98)","v":"6^4^2^1^3^5^7"},null,1,100,0,0,0,0,0,0,100,null,null,null,{"$f":"_xlfn.TEXTJOIN(\"^\",,V84:V98)","v":"0^0^0"},null,1,0,0,0,100,0,0,0,0,null,null,null,{"$f":"_xlfn.TEXTJOIN(\"^\",,AL84:AL98)","v":"0^0^0"},null,1,null,{"$f":"$C88","v":1},null,null,{"$f":"$C88","v":1},null,{"$f":"$C88","v":1},{"$nulls":4},{"$f":"_xlfn.TEXTJOIN(\"^\",,AZ84:AZ98)","v":"6^4^2^3^5^7"}]
[null,null,3,{"$f":"$C89","v":3},3,3,null,3,3,3,null,3,3,null,null,{"$f":"_xlfn.TEXTJOIN(\"^\",,I84:I98)","v":"8^6^4^2^1^3^5^7^9"},null,3,0,0,0,0,0,0,0,0,null,null,null,{"$f":"_xlfn.TEXTJOIN(\"^\",,W84:W98)","v":"0^0"},null,3,0,0,0,0,0,0,0,0,null,null,null,{"$f":"_xlfn.TEXTJOIN(\"^\",,AM84:AM98)","v":"0^0"},null,3,{"$f":"$C89","v":3},null,{"$f":"$C89","v":3},null,null,{"$f":"$C89","v":3},null,{"$f":"$C89","v":3},null,null,null,{"$f":"_xlfn.TEXTJOIN(\"^\",,BA84:BA98)","v":"6^4^1^5^7"}]
[null,null,5,5,5,5,null,5,5,5,null,5,5,null,null,{"$f":"_xlfn.TEXTJOIN(\"^\",,J84:J98)","v":"6^4^2^1^3^5^7"},null,5,0,null,null,0,null,0,0,{"$nulls":4},{"$f":"_xlfn.TEXTJOIN(\"^\",,X84:X98)","v":"0^0^0^0"},null,5,null,0,null,null,0,0,null,0,null,null,null,{"$f":"_xlfn.TEXTJOIN(\"^\",,AN84:AN98)","v":"0^0^0^0"},null,5,5,{"$f":"$C90","v":5},null,null,{"$f":"$C90","v":5},5,5,5,null,null,null,{"$f":"_xlfn.TEXTJOIN(\"^\",,BB84:BB98)","v":"8^6^4^2^3^5^7^9"}]
[null,null,7,null,7,7,null,7,7,7,null,7,7,null,null,{"$f":"_xlfn.TEXTJOIN(\"^\",,K84:K98)","v":"101^102^103^104^105"},null,7,{"$nulls":5},0,{"$nulls":5},{"$f":"_xlfn.TEXTJOIN(\"^\",,Y84:Y98)","v":"0^0^0"},null,7,{"$nulls":7},0,null,null,null,{"$f":"_xlfn.TEXTJOIN(\"^\",,AO84:AO98)","v":""},null,7,{"$nulls":5},7,7,7,null,null,null,{"$f":"_xlfn.TEXTJOIN(\"^\",,BC84:BC98)","v":""}]
[null,null,9,{"$nulls":5},9,null,null,null,9,null,null,{"$f":"_xlfn.TEXTJOIN(\"^\",,L84:L98)","v":"6^4^2^1^3^5^7"},null,9,{"$nulls":13},9,{"$nulls":11},{"$f":"_xlfn.TEXTJOIN(\"^\",,AP84:AP98)","v":""},null,9,{"$nulls":7},9,null,null,null,{"$f":"_xlfn.TEXTJOIN(\"^\",,BD84:BD98)","v":""}]
[null,null,"空降",{"$nulls":12},{"$f":"_xlfn.TEXTJOIN(\"^\",,M84:M98)","v":"8^6^4^2^1^3^5^7^9"},null,"空降",{"$nulls":13},"空降",{"$nulls":11},{"$f":"_xlfn.TEXTJOIN(\"^\",,AQ84:AQ92)","v":""},null,"空降",{"$nulls":11},{"$f":"_xlfn.TEXTJOIN(\"^\",,BE84:BE92)","v":""}]
[null,null,101,null,null,null,{"$f":"$C94","v":101},null,null,null,{"$f":"$C94","v":101},{"$nulls":4},{"$f":"_xlfn.TEXTJOIN(\"^\",,N84:N98)","v":""},null,101,{"$nulls":11},{"$f":"_xlfn.TEXTJOIN(\"^\",,Z84:Z98)","v":"100^0"},null,101,{"$nulls":13},101,null,null,null,{"$f":"$C94","v":101}]
[null,null,102,null,null,null,102,null,null,null,102,{"$nulls":6},102,{"$nulls":11},{"$f":"_xlfn.TEXTJOIN(\"^\",,AA84:AA98)","v":""},null,102,{"$nulls":13},102,null,null,null,102]
[null,null,103,null,null,null,103,null,null,null,103,{"$nulls":6},103,{"$nulls":11},{"$f":"_xlfn.TEXTJOIN(\"^\",,AB84:AB98)","v":""},null,103,{"$nulls":13},103]
[null,null,104,null,null,null,104,null,null,null,104,{"$nulls":6},104,{"$nulls":13},104,{"$nulls":13},104,null,null,null,{"$f":"$C97","v":104}]
[null,null,105,null,null,null,105,null,null,null,105,{"$nulls":6},105,{"$nulls":13},105,{"$nulls":13},105,null,null,null,105]
[{"$nulls":14},"最终",{"$f":"_xlfn.TEXTJOIN(\"^\",,P84:P98)","v":"4^2^1^3^5^6^4^2^1^3^5^7^6^4^2^1^3^5^7^101^102^103^104^105^6^4^2^1^3^5^7^8^6^4^2^1^3^5^7^9^6^4^2^1^3^5^7^101^102^103^104^105^6^4^2^1^3^5^7^8^6^4^2^1^3^5^7^9"},{"$nulls":12},"最终",{"$f":"_xlfn.TEXTJOIN(\"^\",,AD84:AD98)","v":"100^0^0^0^0^0^0^0^0^0^0^0^0^0^0^0^0^0^0^100^0"},{"$nulls":12},"最终",{"$f":"_xlfn.TEXTJOIN(\"^\",,AR83:AR98)","v":"0^0^0^0^0^0^0^100^0^0^0^0^0^0^0^0^0^0^0^0^0"},{"$nulls":12},"最终",{"$f":"_xlfn.TEXTJOIN(\"^\",,BF83:BF98)","v":"4^2^3^5^4^1^5^2^3^101^102^104^105^4^1^5^6^4^2^3^5^7^6^4^1^5^7^8^6^4^2^3^5^7^9"}]
[]
[null,null,"时间",5,10,16,20,27,35,45,50,60,70,{"$nulls":4},"时间",5,10,15,20,30,45,60,70,null,null,null,{"$f":"_xlfn.TEXTJOIN(\"^\",,S102:S110)","v":"19^4^4"},null,"时间",4,6,10,15,25,40,57,75,null,null,null,{"$f":"_xlfn.TEXTJOIN(\"^\",,AG102:AG110)","v":"15^5"},null,"时间",2,4,6,8,10,17,25,35,null,null,null,{"$f":"_xlfn.TEXTJOIN(\"^\",,AU102:AU110)","v":"2^2^2^2"}]
[null,null,8,{"$nulls":5},{"$f":"I$101","v":35},null,null,null,{"$f":"M$101","v":70},null,null,{"$f":"_xlfn.TEXTJOIN(\"^\",,D102:D111)","v":"5^5^5^5^5"},null,8,{"$nulls":11},{"$f":"_xlfn.TEXTJOIN(\"^\",,T102:T110)","v":"10^4"},null,8,{"$nulls":11},{"$f":"_xlfn.TEXTJOIN(\"^\",,AH102:AH110)","v":"10^3^2"},null,8,{"$nulls":7},{"$f":"BB$101","v":35},null,null,null,{"$f":"_xlfn.TEXTJOIN(\"^\",,AV102:AV110)","v":"4^4^4"}]
[null,null,6,null,{"$f":"E$101","v":10},16,null,{"$f":"H$101","v":27},35,45,null,{"$f":"L$101","v":60},70,null,null,{"$f":"_xlfn.TEXTJOIN(\"^\",,E102:E111)","v":"10^10^10^10^10^10^10"},null,6,{"$nulls":11},{"$f":"_xlfn.TEXTJOIN(\"^\",,U102:U110)","v":"12^3"},null,6,{"$nulls":11},{"$f":"_xlfn.TEXTJOIN(\"^\",,AI102:AI110)","v":"12^4"},null,6,{"$nulls":5},{"$f":"AZ$101","v":17},25,35,null,null,null,{"$f":"_xlfn.TEXTJOIN(\"^\",,AW102:AW110)","v":"6^6"}]
[null,null,4,{"$f":"D$101","v":5},10,16,20,27,35,45,50,60,70,null,null,{"$f":"_xlfn.TEXTJOIN(\"^\",,F102:F111)","v":"16^16^16^16^16^16^16"},null,4,{"$nulls":11},{"$f":"_xlfn.TEXTJOIN(\"^\",,V102:V110)","v":"12^3^2"},null,4,{"$nulls":11},{"$f":"_xlfn.TEXTJOIN(\"^\",,AJ102:AJ110)","v":"9^3"},null,4,{"$f":"AU$101","v":2},{"$f":"AV$101","v":4},null,{"$f":"AX$101","v":8},{"$f":"AY$101","v":10},17,25,35,null,null,null,{"$f":"_xlfn.TEXTJOIN(\"^\",,AX102:AX110)","v":"8^8^8^8"}]
[null,null,2,5,10,16,20,27,35,45,50,60,70,null,null,{"$f":"_xlfn.TEXTJOIN(\"^\",,G102:G111)","v":"20^20^20^20^20"},null,2,{"$nulls":11},{"$f":"_xlfn.TEXTJOIN(\"^\",,W102:W110)","v":"14^4"},null,2,{"$nulls":11},{"$f":"_xlfn.TEXTJOIN(\"^\",,AK102:AK110)","v":"13^3^2"},null,2,2,null,{"$f":"AW$101","v":6},8,null,17,null,35,null,null,null,{"$f":"_xlfn.TEXTJOIN(\"^\",,AY102:AY110)","v":"10^10^10"}]
[null,null,1,5,10,16,20,27,35,45,50,60,70,null,null,{"$f":"_xlfn.TEXTJOIN(\"^\",,H102:H111)","v":"27^27^27^27^27^27^27"},null,1,19,10,12,12,14,12,14,9,null,null,null,{"$f":"_xlfn.TEXTJOIN(\"^\",,X102:X110)","v":"12^3^2^2"},null,1,15,10,12,9,13,14,15,14,null,null,null,{"$f":"_xlfn.TEXTJOIN(\"^\",,AL102:AL110)","v":"14^3^2"},null,1,null,{"$f":"AV$101","v":4},null,null,{"$f":"AY$101","v":10},null,{"$f":"BA$101","v":25},{"$nulls":4},{"$f":"_xlfn.TEXTJOIN(\"^\",,AZ102:AZ110)","v":"17^17^17^17^17^17"}]
[null,null,3,{"$f":"D$101","v":5},10,16,20,27,35,45,50,60,70,null,null,{"$f":"_xlfn.TEXTJOIN(\"^\",,I102:I111)","v":"35^35^35^35^35^35^35^35^35"},null,3,4,4,3,3,4,3,4,4,null,null,null,{"$f":"_xlfn.TEXTJOIN(\"^\",,Y102:Y110)","v":"14^4^2"},null,3,5,3,4,3,3,3,4,3,null,null,null,{"$f":"_xlfn.TEXTJOIN(\"^\",,AM102:AM110)","v":"15^4"},null,3,{"$f":"AU$101","v":2},null,{"$f":"AW$101","v":6},{"$f":"AX$101","v":8},null,{"$f":"AZ$101","v":17},null,{"$f":"BB$101","v":35},null,null,null,{"$f":"_xlfn.TEXTJOIN(\"^\",,BA102:BA110)","v":"25^25^25^25^25"}]
[null,null,5,5,10,16,20,27,35,45,50,60,70,null,null,{"$f":"_xlfn.TEXTJOIN(\"^\",,J102:J111)","v":"45^45^45^45^45^45^45"},null,5,4,null,null,2,null,2,2,{"$nulls":4},{"$f":"_xlfn.TEXTJOIN(\"^\",,Z102:Z110)","v":"9^4"},null,5,null,2,null,null,2,2,null,2,null,null,null,{"$f":"_xlfn.TEXTJOIN(\"^\",,AN102:AN110)","v":"14^3^2^2"},null,5,2,{"$f":"AV$101","v":4},null,8,{"$f":"AY$101","v":10},17,25,35,null,null,null,{"$f":"_xlfn.TEXTJOIN(\"^\",,BB102:BB110)","v":"35^35^35^35^35^35^35^35"}]
[null,null,7,null,10,16,null,27,35,45,null,60,70,null,null,{"$f":"_xlfn.TEXTJOIN(\"^\",,K102:K111)","v":"50^50^50^50^50"},null,7,{"$nulls":5},2,{"$nulls":5},{"$f":"_xlfn.TEXTJOIN(\"^\",,AA102:AA110)","v":""},null,7,{"$nulls":7},2,null,null,null,{"$f":"_xlfn.TEXTJOIN(\"^\",,AO102:AO110)","v":""},null,7,{"$nulls":5},17,25,35,null,null,null,{"$f":"_xlfn.TEXTJOIN(\"^\",,BC102:BC110)","v":""}]
[null,null,9,{"$nulls":5},35,null,null,null,70,null,null,{"$f":"_xlfn.TEXTJOIN(\"^\",,L102:L111)","v":"60^60^60^60^60^60^60"},null,9,{"$nulls":11},{"$f":"_xlfn.TEXTJOIN(\"^\",,AB102:AB110)","v":""},null,9,{"$nulls":11},{"$f":"_xlfn.TEXTJOIN(\"^\",,AP102:AP110)","v":""},null,9,{"$nulls":7},35,null,null,null,{"$f":"_xlfn.TEXTJOIN(\"^\",,BD102:BD110)","v":""}]
[{"$nulls":15},{"$f":"_xlfn.TEXTJOIN(\"^\",,M102:M111)","v":"70^70^70^70^70^70^70^70^70"},{"$nulls":13},{"$f":"_xlfn.TEXTJOIN(\"^\",,AC102:AC110)","v":""},{"$nulls":13},{"$f":"_xlfn.TEXTJOIN(\"^\",,AQ102:AQ110)","v":""},{"$nulls":13},{"$f":"_xlfn.TEXTJOIN(\"^\",,BE102:BE110)","v":""}]
[{"$nulls":15},{"$f":"_xlfn.TEXTJOIN(\"^\",,N102:N111)","v":""},{"$nulls":12},"最终",{"$f":"_xlfn.TEXTJOIN(\"^\",,AD101:AD111)","v":"19^4^4^10^4^12^3^12^3^2^14^4^12^3^2^2^14^4^2^9^4"},{"$nulls":12},"最终",{"$f":"_xlfn.TEXTJOIN(\"^\",,AR101:AR111)","v":"15^5^10^3^2^12^4^9^3^13^3^2^14^3^2^15^4^14^3^2^2"},{"$nulls":12},"最终",{"$f":"_xlfn.TEXTJOIN(\"^\",,BF101:BF111)","v":"2^2^2^2^4^4^4^6^6^8^8^8^8^10^10^10^17^17^17^17^17^17^25^25^25^25^25^35^35^35^35^35^35^35^35"}]
[{"$nulls":14},"最终",{"$f":"_xlfn.TEXTJOIN(\"^\",,P102:P112)","v":"5^5^5^5^5^10^10^10^10^10^10^10^16^16^16^16^16^16^16^20^20^20^20^20^27^27^27^27^27^27^27^35^35^35^35^35^35^35^35^35^45^45^45^45^45^45^45^50^50^50^50^50^60^60^60^60^60^60^60^70^70^70^70^70^70^70^70^70"}]
[{"$nulls":15},{"$f":"COUNT(D102:M110)","v":68},{"$nulls":13},{"$f":"SUM(S102:Z110)","v":143},{"$nulls":13},{"$f":"SUM(AG102:AN110)","v":140},{"$nulls":13},{"$f":"COUNT(AU102:BB110)","v":35}]
[{"$nulls":57},{"$f":"SUM(P114:BF114)","v":386}]
[]
[{"$nulls":4},{"$f":"E118-D118","v":5},{"$f":"F118-E118","v":7},8,10,5,10,10,10,5,{"$nulls":6},{"$f":"T118-S118","v":5},5,10,15,16,17,7,{"$nulls":7},{"$f":"AH118-AG118","v":6},5,7,8,10,10,5,{"$nulls":7},{"$f":"AV118-AU118","v":2},3,4,6,7,10,10]
[1,"焦土-3","波1·怪物",5,10,17,25,35,40,50,60,70,75,null,null,null,3,"波2·怪物",5,10,15,25,40,56,73,80,{"$nulls":4},1,"波3·怪物",4,10,15,22,30,40,50,55,{"$nulls":4},1,"波4·怪物",3,5,8,12,18,25,35,45]
[null,"5m",8,null,null,60732,null,60734,null,60731,60734,{"$nulls":4},{"$f":"_xlfn.TEXTJOIN(\"^\",,D119:D128)","v":"60731^60731^60731^60731^60731"},null,8,{"$nulls":11},{"$f":"_xlfn.TEXTJOIN(\"^\",,S119:S128)","v":"60731^60732^60734"},null,8,{"$nulls":4},60734,60731,{"$nulls":5},{"$f":"_xlfn.TEXTJOIN(\"^\",,AG119:AG128)","v":"60733^60732^60733^60732^60733"},null,8,{"$nulls":5},60734,null,60732,null,null,null,{"$f":"_xlfn.TEXTJOIN(\"^\",,AU119:AU128)","v":"60735^60735^60735"}]
[null,null,6,null,60734,null,60732,60732,null,60731,60732,60732,null,null,null,{"$f":"_xlfn.TEXTJOIN(\"^\",,E119:E128)","v":"60734^60731^60732^60732^60732^60731^60734"},null,6,{"$nulls":11},{"$f":"_xlfn.TEXTJOIN(\"^\",,T119:T128)","v":"60731^60733"},null,6,null,60734,null,60732,60732,60731,60732,{"$nulls":4},{"$f":"_xlfn.TEXTJOIN(\"^\",,AH119:AH128)","v":"60734^60731^60732^60731^60732^60731^60734"},null,6,null,null,60734,null,60732,null,60732,{"$nulls":4},{"$f":"_xlfn.TEXTJOIN(\"^\",,AV119:AV128)","v":"60732^60732^60732"}]
[null,null,4,60731,60731,60731,60731,60731,60735,60732,60731,60731,60735,null,null,{"$f":"_xlfn.TEXTJOIN(\"^\",,F119:F128)","v":"60732^60731^60733^60734^60733^60731^60732"},null,4,{"$nulls":11},{"$f":"_xlfn.TEXTJOIN(\"^\",,U119:U128)","v":"60731^60732"},null,4,60733,60731,60735,60731,null,60732,60731,60735,null,null,null,{"$f":"_xlfn.TEXTJOIN(\"^\",,AI119:AI128)","v":"60735^60735^60735^60735^60735"},null,4,60735,null,null,60731,60731,60731,60731,60732,null,null,null,{"$f":"_xlfn.TEXTJOIN(\"^\",,AW119:AW128)","v":"60734^60733^60734"}]
[null,null,2,60731,60732,60733,60731,60733,60735,null,60733,60733,60735,null,null,{"$f":"_xlfn.TEXTJOIN(\"^\",,G119:G128)","v":"60732^60731^60731^60734^60731^60731^60732"},null,2,{"$nulls":11},{"$f":"_xlfn.TEXTJOIN(\"^\",,V119:V128)","v":"60735^60732"},null,2,60732,60732,60735,60733,60731,60733,60733,60735,null,null,null,{"$f":"_xlfn.TEXTJOIN(\"^\",,AJ119:AJ128)","v":"60732^60731^60733^60734^60733^60731^60732"},null,2,null,60732,null,60731,60733,60732,60733,60731,null,null,null,{"$f":"_xlfn.TEXTJOIN(\"^\",,AX119:AX128)","v":"60731^60731^60731^60731"}]
[null,null,1,60731,60732,60734,60734,60733,60735,60732,null,60732,60735,null,null,{"$f":"_xlfn.TEXTJOIN(\"^\",,H119:H128)","v":"60734^60732^60731^60733^60733^60733^60731^60732^60734"},null,1,60731,60731,60731,60735,60731,60731,60731,60735,null,null,null,{"$f":"_xlfn.TEXTJOIN(\"^\",,W119:W128)","v":"60731^60732^60734"},null,1,60733,60731,60735,60734,60731,60732,60734,60735,null,null,null,{"$f":"_xlfn.TEXTJOIN(\"^\",,AK119:AK128)","v":"60734^60732^60731^60731^60731^60732^60734"},null,1,60735,60732,60733,null,null,60732,60734,60733,null,null,null,{"$f":"_xlfn.TEXTJOIN(\"^\",,AY119:AY128)","v":"60732^60731^60733^60733^60731^60732"}]
[null,null,3,60731,60732,60733,60731,60733,60735,null,60733,60733,60735,null,null,{"$f":"_xlfn.TEXTJOIN(\"^\",,I119:I128)","v":"60735^60735^60735^60735^60735"},null,3,60732,60733,60732,60732,60732,60733,60732,60732,null,null,null,{"$f":"_xlfn.TEXTJOIN(\"^\",,X119:X128)","v":"60731^60733^60732^60734"},null,3,60732,60732,60735,60733,60731,60733,60733,60735,null,null,null,{"$f":"_xlfn.TEXTJOIN(\"^\",,AL119:AL128)","v":"60731^60731^60732^60733^60732^60733^60732^60731^60731"},null,3,null,60732,null,60731,60733,60732,60733,60731,null,null,null,{"$f":"_xlfn.TEXTJOIN(\"^\",,AZ119:AZ128)","v":"60734^60731^60732^60732^60732^60731^60734"}]
[null,null,5,60731,60731,60731,60731,60731,60735,60732,60731,60731,60735,null,null,{"$f":"_xlfn.TEXTJOIN(\"^\",,J119:J128)","v":"60731^60731^60732^60732^60732^60731^60731"},null,5,60734,null,null,null,60734,60732,60734,60734,null,null,null,{"$f":"_xlfn.TEXTJOIN(\"^\",,Y119:Y128)","v":"60731^60732^60734"},null,5,60733,60731,60735,60731,null,60732,60731,60735,null,null,null,{"$f":"_xlfn.TEXTJOIN(\"^\",,AM119:AM128)","v":"60732^60731^60733^60734^60733^60731^60732"},null,5,60735,null,null,60731,60731,60731,60731,60732,null,null,null,{"$f":"_xlfn.TEXTJOIN(\"^\",,BA119:BA128)","v":"60732^60731^60733^60734^60733^60731^60732"}]
[null,null,7,null,60734,null,60732,60732,null,60731,60732,60732,null,null,null,{"$f":"_xlfn.TEXTJOIN(\"^\",,K119:K128)","v":"60734^60732^60731^60733^60733^60731^60732^60734"},null,7,{"$nulls":5},60734,{"$nulls":5},{"$f":"_xlfn.TEXTJOIN(\"^\",,Z119:Z128)","v":"60735^60732^60734"},null,7,null,60734,null,60732,60732,60731,60732,{"$nulls":4},{"$f":"_xlfn.TEXTJOIN(\"^\",,AN119:AN128)","v":"60735^60735^60735^60735^60735"},null,7,null,null,60734,null,60732,null,60732,{"$nulls":4},{"$f":"_xlfn.TEXTJOIN(\"^\",,BB119:BB128)","v":"60732^60732^60731^60733^60731^60732^60732"}]
[null,null,9,null,null,60732,null,60734,null,60731,60734,{"$nulls":4},{"$f":"_xlfn.TEXTJOIN(\"^\",,L119:L128)","v":"60732^60731^60733^60732^60733^60731^60732"},null,9,{"$nulls":11},{"$f":"_xlfn.TEXTJOIN(\"^\",,AA119:AA128)","v":""},null,9,{"$nulls":4},60734,60731,{"$nulls":5},{"$f":"_xlfn.TEXTJOIN(\"^\",,AO119:AO128)","v":""},null,9,{"$nulls":5},60734,null,60732,null,null,null,{"$f":"_xlfn.TEXTJOIN(\"^\",,BC119:BC128)","v":""}]
[{"$nulls":15},{"$f":"_xlfn.TEXTJOIN(\"^\",,M119:M128)","v":"60735^60735^60735^60735^60735"},{"$nulls":13},{"$f":"_xlfn.TEXTJOIN(\"^\",,AB119:AB128)","v":""},{"$nulls":13},{"$f":"_xlfn.TEXTJOIN(\"^\",,AP119:AP128)","v":""},{"$nulls":13},{"$f":"_xlfn.TEXTJOIN(\"^\",,BD119:BD128)","v":""}]
[{"$nulls":15},{"$f":"_xlfn.TEXTJOIN(\"^\",,N119:N128)","v":""},{"$nulls":13},{"$f":"_xlfn.TEXTJOIN(\"^\",,AC119:AC128)","v":""},{"$nulls":13},{"$f":"_xlfn.TEXTJOIN(\"^\",,AQ119:AQ128)","v":""},{"$nulls":13},{"$f":"_xlfn.TEXTJOIN(\"^\",,BE119:BE128)","v":""}]
[{"$nulls":14},"最终",{"$f":"_xlfn.TEXTJOIN(\"^\",,P119:P129)","v":"60731^60731^60731^60731^60731^60734^60731^60732^60732^60732^60731^60734^60732^60731^60733^60734^60733^60731^60732^60732^60731^60731^60734^60731^60731^60732^60734^60732^60731^60733^60733^60733^60731^60732^60734^60735^60735^60735^60735^60735^60731^60731^60732^60732^60732^60731^60731^60734^60732^60731^60733^60733^60731^60732^60734^60732^60731^60733^60732^60733^60731^60732^60735^60735^60735^60735^60735"},{"$nulls":12},"最终",{"$f":"_xlfn.TEXTJOIN(\"^\",,AD119:AD129)","v":"60731^60732^60734^60731^60733^60731^60732^60735^60732^60731^60732^60734^60731^60733^60732^60734^60731^60732^60734^60735^60732^60734"},{"$nulls":12},"最终",{"$f":"_xlfn.TEXTJOIN(\"^\",,AR119:AR129)","v":"60733^60732^60733^60732^60733^60734^60731^60732^60731^60732^60731^60734^60735^60735^60735^60735^60735^60732^60731^60733^60734^60733^60731^60732^60734^60732^60731^60731^60731^60732^60734^60731^60731^60732^60733^60732^60733^60732^60731^60731^60732^60731^60733^60734^60733^60731^60732^60735^60735^60735^60735^60735"},{"$nulls":12},"最终",{"$f":"_xlfn.TEXTJOIN(\"^\",,BF119:BF129)","v":"60735^60735^60735^60732^60732^60732^60734^60733^60734^60731^60731^60731^60731^60732^60731^60733^60733^60731^60732^60734^60731^60732^60732^60732^60731^60734^60732^60731^60733^60734^60733^60731^60732^60732^60732^60731^60733^60731^60732^60732"}]
[null,null,8,null,null,"巨魔矛手",null,"火精灵",null,"岩浆蝎","火精灵",{"$nulls":6},8,{"$nulls":13},8,{"$nulls":4},"火精灵","岩浆蝎",{"$nulls":7},8,{"$nulls":5},"火精灵",null,"巨魔矛手"]
[null,null,6,null,"火精灵",null,"巨魔矛手","巨魔矛手",null,"岩浆蝎","巨魔矛手","巨魔矛手",{"$nulls":5},6,{"$nulls":13},6,null,"火精灵",null,"巨魔矛手","巨魔矛手","岩浆蝎","巨魔矛手",{"$nulls":6},6,null,null,"火精灵",null,"巨魔矛手",null,"巨魔矛手"]
[null,null,4,"岩浆蝎","岩浆蝎","岩浆蝎","岩浆蝎","岩浆蝎","火山蜘蛛","巨魔矛手","岩浆蝎","岩浆蝎","火山蜘蛛",{"$nulls":4},4,{"$nulls":13},4,"岩浆战士","岩浆蝎","火山蜘蛛","岩浆蝎",null,"巨魔矛手","岩浆蝎","火山蜘蛛",{"$nulls":5},4,"火山蜘蛛",null,null,"岩浆蝎","岩浆蝎","岩浆蝎","岩浆蝎","巨魔矛手"]
[null,null,2,"岩浆蝎","巨魔矛手","岩浆战士","岩浆蝎","岩浆战士","火山蜘蛛",null,"岩浆战士","岩浆战士","火山蜘蛛",{"$nulls":4},2,{"$nulls":13},2,"巨魔矛手","巨魔矛手","火山蜘蛛","岩浆战士","岩浆蝎","岩浆战士","岩浆战士","火山蜘蛛",{"$nulls":5},2,null,"巨魔矛手",null,"岩浆蝎","岩浆战士","巨魔矛手","岩浆战士","岩浆蝎"]
[null,null,1,"岩浆蝎","巨魔矛手","火精灵","火精灵","岩浆战士","火山蜘蛛","巨魔矛手",null,"巨魔矛手","火山蜘蛛",{"$nulls":4},1,"岩浆蝎","岩浆蝎","岩浆蝎","火山蜘蛛","岩浆蝎","岩浆蝎","岩浆蝎","火山蜘蛛",{"$nulls":5},1,"岩浆战士","岩浆蝎","火山蜘蛛","火精灵","岩浆蝎","巨魔矛手","火精灵","火山蜘蛛",{"$nulls":5},1,"火山蜘蛛","巨魔矛手","岩浆战士",null,null,"巨魔矛手","火精灵","岩浆战士"]
[null,null,3,"岩浆蝎","巨魔矛手","岩浆战士","岩浆蝎","岩浆战士","火山蜘蛛",null,"岩浆战士","岩浆战士","火山蜘蛛",{"$nulls":4},3,"巨魔矛手","岩浆战士","巨魔矛手","巨魔矛手","巨魔矛手","岩浆战士","巨魔矛手","巨魔矛手",{"$nulls":5},3,"巨魔矛手","巨魔矛手","火山蜘蛛","岩浆战士","岩浆蝎","岩浆战士","岩浆战士","火山蜘蛛",{"$nulls":5},3,null,"巨魔矛手",null,"岩浆蝎","岩浆战士","巨魔矛手","岩浆战士","岩浆蝎"]
[null,null,5,"岩浆蝎","岩浆蝎","岩浆蝎","岩浆蝎","岩浆蝎","火山蜘蛛","巨魔矛手","岩浆蝎","岩浆蝎","火山蜘蛛",{"$nulls":4},5,"火精灵",null,null,null,"火精灵","巨魔矛手","火精灵","火精灵",{"$nulls":5},5,"岩浆战士","岩浆蝎","火山蜘蛛","岩浆蝎",null,"巨魔矛手","岩浆蝎","火山蜘蛛",{"$nulls":5},5,"火山蜘蛛",null,null,"岩浆蝎","岩浆蝎","岩浆蝎","岩浆蝎","巨魔矛手"]
[null,null,7,null,"火精灵",null,"巨魔矛手","巨魔矛手",null,"岩浆蝎","巨魔矛手","巨魔矛手",{"$nulls":5},7,{"$nulls":5},"火精灵",{"$nulls":7},7,null,"火精灵",null,"巨魔矛手","巨魔矛手","岩浆蝎","巨魔矛手",{"$nulls":6},7,null,null,"火精灵",null,"巨魔矛手",null,"巨魔矛手"]
[null,null,9,null,null,"巨魔矛手",null,"火精灵",null,"岩浆蝎","火精灵",{"$nulls":6},9,{"$nulls":13},9,{"$nulls":4},"火精灵","岩浆蝎",{"$nulls":7},9,{"$nulls":5},"火精灵",null,"巨魔矛手"]
[]
[null,null,"位置",5,10,17,25,35,40,50,60,70,75,{"$nulls":4},"位置",5,10,15,25,40,56,73,80,{"$nulls":5},"位置",4,10,15,22,30,40,50,55,null,null,null,{"$f":"_xlfn.TEXTJOIN(\"^\",,AG142:AG156)","v":"4^2^1^3^5"},null,"位置",3,5,8,12,18,25,35,45,null,null,null,{"$f":"_xlfn.TEXTJOIN(\"^\",,AU142:AU156)","v":"101^103^105"}]
[null,null,8,null,null,{"$f":"$C142","v":8},null,{"$f":"$C142","v":8},null,{"$f":"$C142","v":8},8,{"$nulls":4},{"$f":"_xlfn.TEXTJOIN(\"^\",,D142:D156)","v":"4^2^1^3^5"},null,8,{"$nulls":13},8,{"$nulls":4},{"$f":"$C142","v":8},8,{"$nulls":5},{"$f":"_xlfn.TEXTJOIN(\"^\",,AH142:AH156)","v":"6^4^2^1^3^5^7"},null,8,{"$nulls":5},{"$f":"$C142","v":8},null,{"$f":"$C142","v":8},null,null,null,{"$f":"_xlfn.TEXTJOIN(\"^\",,AV142:AV156)","v":"2^1^3"}]
[null,null,6,null,{"$f":"$C143","v":6},null,{"$f":"$C143","v":6},6,null,6,6,6,null,null,null,{"$f":"_xlfn.TEXTJOIN(\"^\",,E142:E156)","v":"6^4^2^1^3^5^7"},null,6,{"$nulls":11},{"$f":"_xlfn.TEXTJOIN(\"^\",,S142:S156)","v":"0^0^0"},null,6,null,{"$f":"$C143","v":6},null,{"$f":"$C143","v":6},6,6,6,{"$nulls":4},{"$f":"_xlfn.TEXTJOIN(\"^\",,AI142:AI156)","v":"101^102^103^104^105"},null,6,null,null,{"$f":"$C143","v":6},null,{"$f":"$C143","v":6},null,{"$f":"$C143","v":6},{"$nulls":4},{"$f":"_xlfn.TEXTJOIN(\"^\",,AW142:AW156)","v":"6^1^7"}]
[null,null,4,{"$f":"$C144","v":4},{"$f":"$C144","v":4},4,4,4,null,4,4,4,null,null,null,{"$f":"_xlfn.TEXTJOIN(\"^\",,F142:F156)","v":"8^4^2^1^3^5^9"},null,4,{"$nulls":11},{"$f":"_xlfn.TEXTJOIN(\"^\",,T142:T156)","v":"0^0"},null,4,{"$f":"$C144","v":4},{"$f":"$C144","v":4},null,4,null,4,4,{"$nulls":4},{"$f":"_xlfn.TEXTJOIN(\"^\",,AJ142:AJ156)","v":"6^4^2^1^3^5^7"},null,4,null,null,null,{"$f":"$C144","v":4},4,4,4,4,null,null,null,{"$f":"_xlfn.TEXTJOIN(\"^\",,AX142:AX156)","v":"4^2^3^5"}]
[null,null,2,{"$f":"$C145","v":2},2,2,2,2,null,null,2,{"$f":"$C145","v":2},null,null,null,{"$f":"_xlfn.TEXTJOIN(\"^\",,G142:G156)","v":"6^4^2^1^3^5^7"},null,2,{"$nulls":11},{"$f":"_xlfn.TEXTJOIN(\"^\",,U142:U156)","v":"0^0"},null,2,{"$f":"$C145","v":2},2,null,2,2,2,2,{"$nulls":4},{"$f":"_xlfn.TEXTJOIN(\"^\",,AK142:AK156)","v":"8^6^2^1^3^7^9"},null,2,null,{"$f":"$C145","v":2},null,2,2,2,2,2,null,null,null,{"$f":"_xlfn.TEXTJOIN(\"^\",,AY142:AY156)","v":"6^4^2^3^5^7"}]
[null,null,1,{"$f":"$C146","v":1},1,1,1,1,null,{"$f":"$C146","v":1},null,1,null,null,null,{"$f":"_xlfn.TEXTJOIN(\"^\",,H142:H156)","v":"8^6^4^2^1^3^5^7^9"},null,1,0,0,0,100,0,0,0,100,null,null,null,{"$f":"_xlfn.TEXTJOIN(\"^\",,V142:V156)","v":"100^0"},null,1,1,1,null,1,1,1,1,{"$nulls":4},{"$f":"_xlfn.TEXTJOIN(\"^\",,AL142:AL156)","v":"8^6^4^2^1^3^5^7^9"},null,1,null,1,{"$f":"$C146","v":1},null,null,1,1,1,null,null,null,{"$f":"_xlfn.TEXTJOIN(\"^\",,AZ142:AZ156)","v":"8^4^2^1^3^5^9"}]
[null,null,3,{"$f":"$C147","v":3},3,3,3,3,null,null,{"$f":"$C147","v":3},{"$f":"$C147","v":3},null,null,null,{"$f":"_xlfn.TEXTJOIN(\"^\",,I142:I156)","v":"101^102^103^104^105"},null,3,0,0,0,0,0,0,0,0,null,null,null,{"$f":"_xlfn.TEXTJOIN(\"^\",,W142:W156)","v":"0^0^0"},null,3,3,3,null,3,3,3,3,{"$nulls":4},{"$f":"_xlfn.TEXTJOIN(\"^\",,AM142:AM156)","v":"6^4^2^1^3^5^7"},null,3,null,3,null,{"$f":"$C147","v":3},3,3,3,3,null,null,null,{"$f":"_xlfn.TEXTJOIN(\"^\",,BA142:BA156)","v":"6^4^2^1^3^5^7"}]
[null,null,5,5,5,5,5,5,null,{"$f":"$C148","v":5},5,5,null,null,null,{"$f":"_xlfn.TEXTJOIN(\"^\",,J142:J156)","v":"8^6^4^1^5^7^9"},null,5,0,null,null,null,0,0,0,0,null,null,null,{"$f":"_xlfn.TEXTJOIN(\"^\",,X142:X156)","v":"0^0^0^0"},null,5,{"$f":"$C148","v":5},5,null,5,null,5,5,{"$nulls":4},{"$f":"_xlfn.TEXTJOIN(\"^\",,AN142:AN156)","v":"101^102^103^104^105"},null,5,null,null,null,5,5,5,5,5,null,null,null,{"$f":"_xlfn.TEXTJOIN(\"^\",,BB142:BB156)","v":"8^4^2^1^3^5^9"}]
[null,null,7,null,7,null,7,7,null,7,7,7,null,null,null,{"$f":"_xlfn.TEXTJOIN(\"^\",,K142:K156)","v":"8^6^4^2^3^5^7^9"},null,7,{"$nulls":5},0,{"$nulls":5},{"$f":"_xlfn.TEXTJOIN(\"^\",,Y142:Y156)","v":"0^0^0"},null,7,null,{"$f":"$C149","v":7},null,7,7,7,7,{"$nulls":4},{"$f":"_xlfn.TEXTJOIN(\"^\",,AO142:AO156)","v":""},null,7,null,null,{"$f":"$C149","v":7},null,7,null,7,{"$nulls":4},{"$f":"_xlfn.TEXTJOIN(\"^\",,BC142:BC156)","v":""}]
[null,null,9,null,null,{"$f":"$C150","v":9},null,9,null,9,9,{"$nulls":4},{"$f":"_xlfn.TEXTJOIN(\"^\",,L142:L156)","v":"6^4^2^1^3^5^7"},null,9,{"$nulls":13},9,{"$nulls":4},9,9,{"$nulls":5},{"$f":"_xlfn.TEXTJOIN(\"^\",,AP142:AP156)","v":""},null,9,{"$nulls":5},{"$f":"$C150","v":9},null,{"$f":"$C150","v":9},null,null,null,{"$f":"_xlfn.TEXTJOIN(\"^\",,BD142:BD156)","v":""}]
[null,null,"空降",{"$nulls":12},{"$f":"_xlfn.TEXTJOIN(\"^\",,M142:M156)","v":"101^102^103^104^105"},null,"空降",{"$nulls":13},"空降",{"$nulls":11},{"$f":"_xlfn.TEXTJOIN(\"^\",,AQ142:AQ150)","v":""},null,"空降",{"$nulls":11},{"$f":"_xlfn.TEXTJOIN(\"^\",,BE142:BE150)","v":""}]
[null,null,101,{"$nulls":5},{"$f":"$C152","v":101},null,null,null,{"$f":"$C152","v":101},null,null,{"$f":"_xlfn.TEXTJOIN(\"^\",,N142:N156)","v":""},null,101,{"$nulls":11},{"$f":"_xlfn.TEXTJOIN(\"^\",,Z142:Z156)","v":"100^0^0"},null,101,null,null,{"$f":"$C152","v":101},{"$nulls":4},{"$f":"$C152","v":101},{"$nulls":5},101,{"$f":"$C152","v":101}]
[null,null,102,{"$nulls":5},102,null,null,null,102,{"$nulls":4},102,{"$nulls":11},{"$f":"_xlfn.TEXTJOIN(\"^\",,AA142:AA156)","v":""},null,102,null,null,102,{"$nulls":4},102,{"$nulls":5},102]
[null,null,103,{"$nulls":5},103,null,null,null,103,{"$nulls":4},103,{"$nulls":11},{"$f":"_xlfn.TEXTJOIN(\"^\",,AB142:AB156)","v":""},null,103,null,null,103,{"$nulls":4},103,{"$nulls":5},103,{"$f":"$C154","v":103}]
[null,null,104,{"$nulls":5},104,null,null,null,104,{"$nulls":4},104,{"$nulls":13},104,null,null,104,{"$nulls":4},104,{"$nulls":5},104]
[null,null,105,{"$nulls":5},105,null,null,null,105,{"$nulls":4},105,{"$nulls":13},105,null,null,105,{"$nulls":4},105,{"$nulls":5},105,{"$f":"$C156","v":105}]
[{"$nulls":14},"最终",{"$f":"_xlfn.TEXTJOIN(\"^\",,P142:P156)","v":"4^2^1^3^5^6^4^2^1^3^5^7^8^4^2^1^3^5^9^6^4^2^1^3^5^7^8^6^4^2^1^3^5^7^9^101^102^103^104^105^8^6^4^1^5^7^9^8^6^4^2^3^5^7^9^6^4^2^1^3^5^7^101^102^103^104^105"},{"$nulls":12},"最终",{"$f":"_xlfn.TEXTJOIN(\"^\",,AD142:AD156)","v":"0^0^0^0^0^0^0^100^0^0^0^0^0^0^0^0^0^0^0^100^0^0"},{"$nulls":12},"最终",{"$f":"_xlfn.TEXTJOIN(\"^\",,AR141:AR156)","v":"4^2^1^3^5^6^4^2^1^3^5^7^101^102^103^104^105^6^4^2^1^3^5^7^8^6^2^1^3^7^9^8^6^4^2^1^3^5^7^9^6^4^2^1^3^5^7^101^102^103^104^105"},{"$nulls":12},"最终",{"$f":"_xlfn.TEXTJOIN(\"^\",,BF141:BF156)","v":"101^103^105^2^1^3^6^1^7^4^2^3^5^6^4^2^3^5^7^8^4^2^1^3^5^9^6^4^2^1^3^5^7^8^4^2^1^3^5^9"}]
[]
[null,null,"时间",5,10,17,25,35,40,50,60,70,75,{"$nulls":4},"时间",5,10,15,25,40,56,73,80,null,null,null,{"$f":"_xlfn.TEXTJOIN(\"^\",,S160:S168)","v":"18^5^3"},null,"时间",4,10,15,22,30,40,50,55,null,null,null,{"$f":"_xlfn.TEXTJOIN(\"^\",,AG160:AG168)","v":"4^4^4^4^4"},null,"时间",3,5,8,12,18,25,35,45,null,null,null,{"$f":"_xlfn.TEXTJOIN(\"^\",,AU160:AU168)","v":"3^3^3"}]
[null,null,8,null,null,{"$f":"F$159","v":17},null,{"$f":"H$159","v":35},null,{"$f":"J$159","v":50},60,{"$nulls":4},{"$f":"_xlfn.TEXTJOIN(\"^\",,D160:D169)","v":"5^5^5^5^5"},null,8,{"$nulls":11},{"$f":"_xlfn.TEXTJOIN(\"^\",,T160:T168)","v":"12^3"},null,8,{"$nulls":4},{"$f":"AK$159","v":30},40,{"$nulls":5},{"$f":"_xlfn.TEXTJOIN(\"^\",,AH160:AH168)","v":"10^10^10^10^10^10^10"},null,8,{"$nulls":5},{"$f":"AZ$159","v":25},null,{"$f":"BB$159","v":45},null,null,null,{"$f":"_xlfn.TEXTJOIN(\"^\",,AV160:AV168)","v":"5^5^5"}]
[null,null,6,null,{"$f":"E$159","v":10},null,{"$f":"G$159","v":25},35,null,50,60,70,null,null,null,{"$f":"_xlfn.TEXTJOIN(\"^\",,E160:E169)","v":"10^10^10^10^10^10^10"},null,6,{"$nulls":11},{"$f":"_xlfn.TEXTJOIN(\"^\",,U160:U168)","v":"13^4"},null,6,null,{"$f":"AH$159","v":10},null,{"$f":"AJ$159","v":22},30,40,50,{"$nulls":4},{"$f":"_xlfn.TEXTJOIN(\"^\",,AI160:AI168)","v":"15^15^15^15^15"},null,6,null,null,{"$f":"AW$159","v":8},null,{"$f":"AY$159","v":18},null,{"$f":"BA$159","v":35},{"$nulls":4},{"$f":"_xlfn.TEXTJOIN(\"^\",,AW160:AW168)","v":"8^8^8"}]
[null,null,4,{"$f":"D$159","v":5},10,17,25,35,40,50,60,70,75,null,null,{"$f":"_xlfn.TEXTJOIN(\"^\",,F160:F169)","v":"17^17^17^17^17^17^17"},null,4,{"$nulls":11},{"$f":"_xlfn.TEXTJOIN(\"^\",,V160:V168)","v":"9^5"},null,4,{"$f":"AG$159","v":4},{"$f":"AH$159","v":10},15,22,null,40,50,55,null,null,null,{"$f":"_xlfn.TEXTJOIN(\"^\",,AJ160:AJ168)","v":"22^22^22^22^22^22^22"},null,4,{"$f":"AU$159","v":3},null,null,{"$f":"AX$159","v":12},18,25,35,{"$f":"BB$159","v":45},null,null,null,{"$f":"_xlfn.TEXTJOIN(\"^\",,AX160:AX168)","v":"12^12^12^12"}]
[null,null,2,5,10,17,25,35,40,null,{"$f":"K$159","v":60},{"$f":"L$159","v":70},75,null,null,{"$f":"_xlfn.TEXTJOIN(\"^\",,G160:G169)","v":"25^25^25^25^25^25^25"},null,2,{"$nulls":11},{"$f":"_xlfn.TEXTJOIN(\"^\",,W160:W168)","v":"14^3^2"},null,2,{"$f":"AG$159","v":4},10,15,22,30,40,50,55,null,null,null,{"$f":"_xlfn.TEXTJOIN(\"^\",,AK160:AK168)","v":"30^30^30^30^30^30^30"},null,2,null,{"$f":"AV$159","v":5},null,12,18,25,35,45,null,null,null,{"$f":"_xlfn.TEXTJOIN(\"^\",,AY160:AY168)","v":"18^18^18^18^18^18"}]
[null,null,1,5,10,17,25,35,40,{"$f":"J$159","v":50},null,70,75,null,null,{"$f":"_xlfn.TEXTJOIN(\"^\",,H160:H169)","v":"35^35^35^35^35^35^35^35^35"},null,1,18,12,13,9,14,12,15,8,null,null,null,{"$f":"_xlfn.TEXTJOIN(\"^\",,X160:X168)","v":"12^3^3^2"},null,1,4,10,15,22,30,40,50,55,null,null,null,{"$f":"_xlfn.TEXTJOIN(\"^\",,AL160:AL168)","v":"40^40^40^40^40^40^40^40^40"},null,1,{"$f":"AU$159","v":3},5,{"$f":"AW$159","v":8},null,null,25,35,45,null,null,null,{"$f":"_xlfn.TEXTJOIN(\"^\",,AZ160:AZ168)","v":"25^25^25^25^25^25^25"}]
[null,null,3,5,10,17,25,35,40,null,{"$f":"K$159","v":60},{"$f":"L$159","v":70},75,null,null,{"$f":"_xlfn.TEXTJOIN(\"^\",,I160:I169)","v":"40^40^40^40^40"},null,3,5,3,4,5,3,3,4,4,null,null,null,{"$f":"_xlfn.TEXTJOIN(\"^\",,Y160:Y168)","v":"15^4^2"},null,3,4,10,15,22,30,40,50,55,null,null,null,{"$f":"_xlfn.TEXTJOIN(\"^\",,AM160:AM168)","v":"50^50^50^50^50^50^50"},null,3,null,5,null,{"$f":"AX$159","v":12},18,25,35,45,null,null,null,{"$f":"_xlfn.TEXTJOIN(\"^\",,BA160:BA168)","v":"35^35^35^35^35^35^35"}]
[null,null,5,5,10,17,25,35,40,50,60,70,75,null,null,{"$f":"_xlfn.TEXTJOIN(\"^\",,J160:J169)","v":"50^50^50^50^50^50^50"},null,5,3,null,null,null,2,3,2,2,null,null,null,{"$f":"_xlfn.TEXTJOIN(\"^\",,Z160:Z168)","v":"8^4^2"},null,5,{"$f":"AG$159","v":4},10,15,22,null,40,50,55,null,null,null,{"$f":"_xlfn.TEXTJOIN(\"^\",,AN160:AN168)","v":"55^55^55^55^55"},null,5,{"$f":"AU$159","v":3},null,null,12,18,25,35,45,null,null,null,{"$f":"_xlfn.TEXTJOIN(\"^\",,BB160:BB168)","v":"45^45^45^45^45^45^45"}]
[null,null,7,null,{"$f":"E$159","v":10},null,25,35,null,50,60,70,null,null,null,{"$f":"_xlfn.TEXTJOIN(\"^\",,K160:K169)","v":"60^60^60^60^60^60^60^60"},null,7,{"$nulls":5},2,{"$nulls":5},{"$f":"_xlfn.TEXTJOIN(\"^\",,AA160:AA168)","v":""},null,7,null,{"$f":"AH$159","v":10},null,22,30,40,50,{"$nulls":4},{"$f":"_xlfn.TEXTJOIN(\"^\",,AO160:AO168)","v":""},null,7,null,null,{"$f":"AW$159","v":8},null,18,null,35,{"$nulls":4},{"$f":"_xlfn.TEXTJOIN(\"^\",,BC160:BC168)","v":""}]
[null,null,9,null,null,{"$f":"F$159","v":17},null,35,null,50,60,{"$nulls":4},{"$f":"_xlfn.TEXTJOIN(\"^\",,L160:L169)","v":"70^70^70^70^70^70^70"},null,9,{"$nulls":11},{"$f":"_xlfn.TEXTJOIN(\"^\",,AB160:AB168)","v":""},null,9,{"$nulls":4},30,40,{"$nulls":5},{"$f":"_xlfn.TEXTJOIN(\"^\",,AP160:AP168)","v":""},null,9,{"$nulls":5},{"$f":"AZ$159","v":25},null,{"$f":"BB$159","v":45},null,null,null,{"$f":"_xlfn.TEXTJOIN(\"^\",,BD160:BD168)","v":""}]
[{"$nulls":15},{"$f":"_xlfn.TEXTJOIN(\"^\",,M160:M169)","v":"75^75^75^75^75"},{"$nulls":13},{"$f":"_xlfn.TEXTJOIN(\"^\",,AC160:AC168)","v":""},{"$nulls":13},{"$f":"_xlfn.TEXTJOIN(\"^\",,AQ160:AQ168)","v":""},{"$nulls":13},{"$f":"_xlfn.TEXTJOIN(\"^\",,BE160:BE168)","v":""}]
[{"$nulls":15},{"$f":"_xlfn.TEXTJOIN(\"^\",,N160:N169)","v":""},{"$nulls":12},"最终",{"$f":"_xlfn.TEXTJOIN(\"^\",,AD159:AD169)","v":"18^5^3^12^3^13^4^9^5^14^3^2^12^3^3^2^15^4^2^8^4^2"},{"$nulls":12},"最终",{"$f":"_xlfn.TEXTJOIN(\"^\",,AR159:AR169)","v":"4^4^4^4^4^10^10^10^10^10^10^10^15^15^15^15^15^22^22^22^22^22^22^22^30^30^30^30^30^30^30^40^40^40^40^40^40^40^40^40^50^50^50^50^50^50^50^55^55^55^55^55"},{"$nulls":12},"最终",{"$f":"_xlfn.TEXTJOIN(\"^\",,BF159:BF169)","v":"3^3^3^5^5^5^8^8^8^12^12^12^12^18^18^18^18^18^18^25^25^25^25^25^25^25^35^35^35^35^35^35^35^45^45^45^45^45^45^45"}]
[{"$nulls":14},"最终",{"$f":"_xlfn.TEXTJOIN(\"^\",,P160:P170)","v":"5^5^5^5^5^10^10^10^10^10^10^10^17^17^17^17^17^17^17^25^25^25^25^25^25^25^35^35^35^35^35^35^35^35^35^40^40^40^40^40^50^50^50^50^50^50^50^60^60^60^60^60^60^60^60^70^70^70^70^70^70^70^75^75^75^75^75"}]
[{"$nulls":15},{"$f":"COUNT(D160:M168)","v":67},{"$nulls":13},{"$f":"SUM(S160:Z168)","v":146},{"$nulls":13},{"$f":"COUNT(AG160:AN168)","v":52},{"$nulls":13},{"$f":"COUNT(AU160:BB168)","v":40}]
[{"$nulls":57},{"$f":"SUM(P172:BF172)","v":305}]
[]
[{"$nulls":4},{"$f":"E176-D176","v":10},{"$f":"F176-E176","v":15},15,5,15,16,17,7,15,{"$nulls":6},{"$f":"T176-S176","v":5},5,7,8,10,10,5,{"$nulls":7},{"$f":"AH176-AG176","v":6},5,15,16,17,7,15,{"$nulls":7},{"$f":"AV176-AU176","v":2},3,4,6,7,10,10]
[3,"焦土-4","波1·怪物",5,15,30,45,50,65,81,98,105,120,null,null,null,1,"波2·怪物",5,10,15,22,30,40,50,55,{"$nulls":4},3,"波3·怪物",4,10,15,30,46,63,70,85,{"$nulls":4},1,"波4·怪物",3,5,8,12,18,25,35,45]
[null,"5m",8,{"$nulls":12},{"$f":"_xlfn.TEXTJOIN(\"^\",,D177:D186)","v":"60741^60742^60744"},null,8,{"$nulls":4},60744,60742,60744,{"$nulls":4},{"$f":"_xlfn.TEXTJOIN(\"^\",,S177:S186)","v":"60744^60741^60741^60741^60744"},null,8,{"$nulls":11},{"$f":"_xlfn.TEXTJOIN(\"^\",,AG177:AG186)","v":"60745^60741^60742"},null,8,{"$nulls":5},60744,null,60742,null,null,null,{"$f":"_xlfn.TEXTJOIN(\"^\",,AU177:AU186)","v":"60743^60743^60743"}]
[null,null,6,{"$nulls":12},{"$f":"_xlfn.TEXTJOIN(\"^\",,E177:E186)","v":"60741^60743"},null,6,null,60742,null,60741,null,null,60742,{"$nulls":4},{"$f":"_xlfn.TEXTJOIN(\"^\",,T177:T186)","v":"60742^60742^60741^60743^60741^60742^60742"},null,6,{"$nulls":11},{"$f":"_xlfn.TEXTJOIN(\"^\",,AH177:AH186)","v":"60741^60742^60744"},null,6,null,60742,null,null,null,60742,60742,60744,null,null,null,{"$f":"_xlfn.TEXTJOIN(\"^\",,AV177:AV186)","v":"60742^60742^60742"}]
[null,null,4,{"$nulls":12},{"$f":"_xlfn.TEXTJOIN(\"^\",,F177:F186)","v":"60741^60743^60742^60744"},null,4,60744,60742,60745,60743,60742,60741,60741,60745,null,null,null,{"$f":"_xlfn.TEXTJOIN(\"^\",,U177:U186)","v":"60745^60745^60745^60745^60745"},null,4,{"$nulls":11},{"$f":"_xlfn.TEXTJOIN(\"^\",,AI177:AI186)","v":"60741^60743"},null,4,60743,null,null,60741,60745,null,60741,60742,null,null,null,{"$f":"_xlfn.TEXTJOIN(\"^\",,AW177:AW186)","v":"60744^60744"}]
[null,null,2,{"$nulls":12},{"$f":"_xlfn.TEXTJOIN(\"^\",,G177:G186)","v":"60741^60742"},null,2,60741,60741,60745,60742,60741,60743,60741,60745,null,null,null,{"$f":"_xlfn.TEXTJOIN(\"^\",,V177:V186)","v":"60741^60743^60742^60743^60742^60743^60741"},null,2,{"$nulls":11},{"$f":"_xlfn.TEXTJOIN(\"^\",,AJ177:AJ186)","v":"60741^60742^60743"},null,2,null,null,60744,60741,60745,60743,60741,60743,null,null,null,{"$f":"_xlfn.TEXTJOIN(\"^\",,AX177:AX186)","v":"60741^60741^60741^60741"}]
[null,null,1,60741,60741,60741,60741,60745,60741,60741,60741,60745,60741,null,null,{"$f":"_xlfn.TEXTJOIN(\"^\",,H177:H186)","v":"60745^60742"},null,1,60741,60743,60745,60743,60743,60742,60742,60745,null,null,null,{"$f":"_xlfn.TEXTJOIN(\"^\",,W177:W186)","v":"60744^60742^60741^60743^60741^60742^60744"},null,1,60745,60741,60741,60741,60741,60741,60745,60741,null,null,null,{"$f":"_xlfn.TEXTJOIN(\"^\",,AK177:AK186)","v":"60741^60742^60744"},null,1,60743,60742,{"$nulls":4},60744,{"$nulls":4},{"$f":"_xlfn.TEXTJOIN(\"^\",,AY177:AY186)","v":"60745^60745^60745^60745"}]
[null,null,3,60742,60743,60743,60742,60742,60742,60743,60742,60743,60743,null,null,{"$f":"_xlfn.TEXTJOIN(\"^\",,I177:I186)","v":"60741^60742^60743^60744"},null,3,60741,60741,60745,60742,60741,60743,60741,60745,null,null,null,{"$f":"_xlfn.TEXTJOIN(\"^\",,X177:X186)","v":"60742^60741^60743^60742^60743^60741^60742"},null,3,60741,60742,60743,60742,60742,60743,60742,60743,null,null,null,{"$f":"_xlfn.TEXTJOIN(\"^\",,AL177:AL186)","v":"60741^60743^60742"},null,3,null,null,60744,60741,60745,60743,60741,60743,null,null,null,{"$f":"_xlfn.TEXTJOIN(\"^\",,AZ177:AZ186)","v":"60744^60742^60743^60743^60742^60744"}]
[null,null,5,60744,null,60742,null,null,60743,60742,60744,60744,60742,null,null,{"$f":"_xlfn.TEXTJOIN(\"^\",,J177:J186)","v":"60741^60743^60742"},null,5,60744,60742,60745,60743,60742,60741,60741,60745,null,null,null,{"$f":"_xlfn.TEXTJOIN(\"^\",,Y177:Y186)","v":"60744^60742^60741^60741^60742^60741^60741^60742^60744"},null,5,60742,60744,null,60743,60744,60742,null,60742,null,null,null,{"$f":"_xlfn.TEXTJOIN(\"^\",,AM177:AM186)","v":"60745^60742"},null,5,60743,null,null,60741,60745,null,60741,60742,null,null,null,{"$f":"_xlfn.TEXTJOIN(\"^\",,BA177:BA186)","v":"60742^60741^60741^60744^60741^60741^60742"}]
[null,null,7,null,null,60744,null,null,60744,{"$nulls":6},{"$f":"_xlfn.TEXTJOIN(\"^\",,K177:K186)","v":"60741^60742^60744"},null,7,null,60742,null,60741,null,null,60742,{"$nulls":4},{"$f":"_xlfn.TEXTJOIN(\"^\",,Z177:Z186)","v":"60745^60745^60745^60745^60745"},null,7,{"$nulls":7},60744,null,null,null,{"$f":"_xlfn.TEXTJOIN(\"^\",,AN177:AN186)","v":"60741^60743^60742^60744"},null,7,null,60742,null,null,null,60742,60742,60744,null,null,null,{"$f":"_xlfn.TEXTJOIN(\"^\",,BB177:BB186)","v":"60742^60744^60742^60743^60743^60742^60744^60742"}]
[null,null,9,{"$nulls":12},{"$f":"_xlfn.TEXTJOIN(\"^\",,L177:L186)","v":"60745^60743^60744"},null,9,{"$nulls":4},60744,60742,60744,{"$nulls":4},{"$f":"_xlfn.TEXTJOIN(\"^\",,AA177:AA186)","v":""},null,9,{"$nulls":11},{"$f":"_xlfn.TEXTJOIN(\"^\",,AO177:AO186)","v":""},null,9,{"$nulls":5},60744,null,60742,null,null,null,{"$f":"_xlfn.TEXTJOIN(\"^\",,BC177:BC186)","v":""}]
[{"$nulls":15},{"$f":"_xlfn.TEXTJOIN(\"^\",,M177:M186)","v":"60741^60743^60742"},{"$nulls":13},{"$f":"_xlfn.TEXTJOIN(\"^\",,AB177:AB186)","v":""},{"$nulls":13},{"$f":"_xlfn.TEXTJOIN(\"^\",,AP177:AP186)","v":""},{"$nulls":13},{"$f":"_xlfn.TEXTJOIN(\"^\",,BD177:BD186)","v":""}]
[{"$nulls":15},{"$f":"_xlfn.TEXTJOIN(\"^\",,N177:N186)","v":""},{"$nulls":13},{"$f":"_xlfn.TEXTJOIN(\"^\",,AC177:AC186)","v":""},{"$nulls":13},{"$f":"_xlfn.TEXTJOIN(\"^\",,AQ177:AQ186)","v":""},{"$nulls":13},{"$f":"_xlfn.TEXTJOIN(\"^\",,BE177:BE186)","v":""}]
[{"$nulls":14},"最终",{"$f":"_xlfn.TEXTJOIN(\"^\",,P177:P187)","v":"60741^60742^60744^60741^60743^60741^60743^60742^60744^60741^60742^60745^60742^60741^60742^60743^60744^60741^60743^60742^60741^60742^60744^60745^60743^60744^60741^60743^60742"},{"$nulls":12},"最终",{"$f":"_xlfn.TEXTJOIN(\"^\",,AD177:AD187)","v":"60744^60741^60741^60741^60744^60742^60742^60741^60743^60741^60742^60742^60745^60745^60745^60745^60745^60741^60743^60742^60743^60742^60743^60741^60744^60742^60741^60743^60741^60742^60744^60742^60741^60743^60742^60743^60741^60742^60744^60742^60741^60741^60742^60741^60741^60742^60744^60745^60745^60745^60745^60745"},{"$nulls":12},"最终",{"$f":"_xlfn.TEXTJOIN(\"^\",,AR177:AR187)","v":"60745^60741^60742^60741^60742^60744^60741^60743^60741^60742^60743^60741^60742^60744^60741^60743^60742^60745^60742^60741^60743^60742^60744"},{"$nulls":12},"最终",{"$f":"_xlfn.TEXTJOIN(\"^\",,BF177:BF187)","v":"60743^60743^60743^60742^60742^60742^60744^60744^60741^60741^60741^60741^60745^60745^60745^60745^60744^60742^60743^60743^60742^60744^60742^60741^60741^60744^60741^60741^60742^60742^60744^60742^60743^60743^60742^60744^60742"}]
[null,null,8,{"$nulls":14},8,{"$nulls":4},"火精灵","巨魔矛手","火精灵",{"$nulls":6},8,{"$nulls":13},8,{"$nulls":5},"火精灵",null,"巨魔矛手"]
[null,null,6,{"$nulls":14},6,null,"巨魔矛手",null,"岩浆蝎",null,null,"巨魔矛手",{"$nulls":6},6,{"$nulls":13},6,null,"巨魔矛手",null,null,null,"巨魔矛手","巨魔矛手","火精灵"]
[null,null,4,{"$nulls":14},4,"火精灵","巨魔矛手","火山蜘蛛","岩浆战士","巨魔矛手","岩浆蝎","岩浆蝎","火山蜘蛛",{"$nulls":5},4,{"$nulls":13},4,"岩浆战士",null,null,"岩浆蝎","火山蜘蛛",null,"岩浆蝎","巨魔矛手"]
[null,null,2,{"$nulls":14},2,"岩浆蝎","岩浆蝎","火山蜘蛛","巨魔矛手","岩浆蝎","岩浆战士","岩浆蝎","火山蜘蛛",{"$nulls":5},2,{"$nulls":13},2,null,null,"火精灵","岩浆蝎","火山蜘蛛","岩浆战士","岩浆蝎","岩浆战士"]
[null,null,1,"岩浆蝎","岩浆蝎","岩浆蝎","岩浆蝎","火山蜘蛛","岩浆蝎","岩浆蝎","岩浆蝎","火山蜘蛛","岩浆蝎",{"$nulls":4},1,"岩浆蝎","岩浆战士","火山蜘蛛","岩浆战士","岩浆战士","巨魔矛手","巨魔矛手","火山蜘蛛",{"$nulls":5},1,"火山蜘蛛","岩浆蝎","岩浆蝎","岩浆蝎","岩浆蝎","岩浆蝎","火山蜘蛛","岩浆蝎",{"$nulls":5},1,"岩浆战士","巨魔矛手",{"$nulls":4},"火精灵"]
[null,null,3,"巨魔矛手","岩浆战士","岩浆战士","巨魔矛手","巨魔矛手","巨魔矛手","岩浆战士","巨魔矛手","岩浆战士","岩浆战士",{"$nulls":4},3,"岩浆蝎","岩浆蝎","火山蜘蛛","巨魔矛手","岩浆蝎","岩浆战士","岩浆蝎","火山蜘蛛",{"$nulls":5},3,"岩浆蝎","巨魔矛手","岩浆战士","巨魔矛手","巨魔矛手","岩浆战士","巨魔矛手","岩浆战士",{"$nulls":5},3,null,null,"火精灵","岩浆蝎","火山蜘蛛","岩浆战士","岩浆蝎","岩浆战士"]
[null,null,5,"火精灵",null,"巨魔矛手",null,null,"岩浆战士","巨魔矛手","火精灵","火精灵","巨魔矛手",{"$nulls":4},5,"火精灵","巨魔矛手","火山蜘蛛","岩浆战士","巨魔矛手","岩浆蝎","岩浆蝎","火山蜘蛛",{"$nulls":5},5,"巨魔矛手","火精灵",null,"岩浆战士","火精灵","巨魔矛手",null,"巨魔矛手",{"$nulls":5},5,"岩浆战士",null,null,"岩浆蝎","火山蜘蛛",null,"岩浆蝎","巨魔矛手"]
[null,null,7,null,null,"火精灵",null,null,"火精灵",{"$nulls":8},7,null,"巨魔矛手",null,"岩浆蝎",null,null,"巨魔矛手",{"$nulls":6},7,{"$nulls":7},"火精灵",{"$nulls":5},7,null,"巨魔矛手",null,null,null,"巨魔矛手","巨魔矛手","火精灵"]
[null,null,9,{"$nulls":14},9,{"$nulls":4},"火精灵","巨魔矛手","火精灵",{"$nulls":6},9,{"$nulls":13},9,{"$nulls":5},"火精灵",null,"巨魔矛手"]
[]
[null,null,"位置",5,15,30,45,50,65,81,98,105,120,{"$nulls":4},"位置",5,10,15,22,30,40,50,55,{"$nulls":5},"位置",4,10,15,30,46,63,70,85,null,null,null,{"$f":"_xlfn.TEXTJOIN(\"^\",,AG200:AG214)","v":"100^0^0"},null,"位置",3,5,8,12,18,25,35,45,null,null,null,{"$f":"_xlfn.TEXTJOIN(\"^\",,AU200:AU214)","v":"4^1^5"}]
[null,null,8,{"$nulls":12},{"$f":"_xlfn.TEXTJOIN(\"^\",,D200:D214)","v":"0^0^0"},null,8,{"$nulls":4},{"$f":"$C200","v":8},{"$f":"$C200","v":8},{"$f":"$C200","v":8},{"$nulls":6},8,{"$nulls":11},{"$f":"_xlfn.TEXTJOIN(\"^\",,AH200:AH214)","v":"0^0^0"},null,8,{"$nulls":5},{"$f":"$C200","v":8},null,{"$f":"$C200","v":8},null,null,null,{"$f":"_xlfn.TEXTJOIN(\"^\",,AV200:AV214)","v":"6^1^7"}]
[null,null,6,{"$nulls":12},{"$f":"_xlfn.TEXTJOIN(\"^\",,E200:E214)","v":"0^0"},null,6,null,{"$f":"$C201","v":6},null,{"$f":"$C201","v":6},null,null,6,{"$nulls":4},{"$f":"_xlfn.TEXTJOIN(\"^\",,S200:S214)","v":"4^2^1^3^5"},null,6,{"$nulls":11},{"$f":"_xlfn.TEXTJOIN(\"^\",,AI200:AI214)","v":"0^0"},null,6,null,{"$f":"$C201","v":6},null,null,null,6,6,6,null,null,null,{"$f":"_xlfn.TEXTJOIN(\"^\",,AW200:AW214)","v":"2^3"}]
[null,null,4,{"$nulls":12},{"$f":"_xlfn.TEXTJOIN(\"^\",,F200:F214)","v":"0^0^0^0"},null,4,{"$f":"$C202","v":4},{"$f":"$C202","v":4},null,4,4,4,4,{"$nulls":4},{"$f":"_xlfn.TEXTJOIN(\"^\",,T200:T214)","v":"6^4^2^1^3^5^7"},null,4,{"$nulls":11},{"$f":"_xlfn.TEXTJOIN(\"^\",,AJ200:AJ214)","v":"0^0^0"},null,4,{"$f":"$C202","v":4},null,null,{"$f":"$C202","v":4},null,null,4,4,null,null,null,{"$f":"_xlfn.TEXTJOIN(\"^\",,AX200:AX214)","v":"4^2^3^5"}]
[null,null,2,{"$nulls":12},{"$f":"_xlfn.TEXTJOIN(\"^\",,G200:G214)","v":"0^0"},null,2,2,2,null,2,2,2,2,{"$nulls":4},{"$f":"_xlfn.TEXTJOIN(\"^\",,U200:U214)","v":"101^102^103^104^105"},null,2,{"$nulls":11},{"$f":"_xlfn.TEXTJOIN(\"^\",,AK200:AK214)","v":"0^0^0"},null,2,null,null,{"$f":"$C203","v":2},2,null,{"$f":"$C203","v":2},2,2,null,null,null,{"$f":"_xlfn.TEXTJOIN(\"^\",,AY200:AY214)","v":"101^102^104^105"}]
[null,null,1,0,0,0,0,100,0,0,0,100,0,null,null,{"$f":"_xlfn.TEXTJOIN(\"^\",,H200:H214)","v":"100^0"},null,1,1,1,null,{"$f":"$C204","v":1},1,1,1,{"$nulls":4},{"$f":"_xlfn.TEXTJOIN(\"^\",,V200:V214)","v":"6^4^2^1^3^5^7"},null,1,100,0,0,0,0,0,100,0,null,null,null,{"$f":"_xlfn.TEXTJOIN(\"^\",,AL200:AL214)","v":"0^0^0"},null,1,{"$f":"$C204","v":1},1,{"$nulls":4},1,{"$nulls":4},{"$f":"_xlfn.TEXTJOIN(\"^\",,AZ200:AZ214)","v":"8^6^2^3^7^9"}]
[null,null,3,0,0,0,0,0,0,0,0,0,0,null,null,{"$f":"_xlfn.TEXTJOIN(\"^\",,I200:I214)","v":"0^0^0^0"},null,3,3,3,null,{"$f":"$C205","v":3},3,3,3,{"$nulls":4},{"$f":"_xlfn.TEXTJOIN(\"^\",,W200:W214)","v":"8^4^2^1^3^5^9"},null,3,0,0,0,0,0,0,0,0,null,null,null,{"$f":"_xlfn.TEXTJOIN(\"^\",,AM200:AM214)","v":"100^0"},null,3,null,null,{"$f":"$C205","v":3},3,null,{"$f":"$C205","v":3},3,3,null,null,null,{"$f":"_xlfn.TEXTJOIN(\"^\",,BA200:BA214)","v":"6^4^2^1^3^5^7"}]
[null,null,5,0,null,0,null,null,0,0,0,0,0,null,null,{"$f":"_xlfn.TEXTJOIN(\"^\",,J200:J214)","v":"0^0^0"},null,5,5,{"$f":"$C206","v":5},null,5,5,5,5,{"$nulls":4},{"$f":"_xlfn.TEXTJOIN(\"^\",,X200:X214)","v":"8^4^2^1^3^5^9"},null,5,0,0,null,0,0,0,null,0,null,null,null,{"$f":"_xlfn.TEXTJOIN(\"^\",,AN200:AN214)","v":"0^0^0^0"},null,5,{"$f":"$C206","v":5},null,null,5,null,null,5,5,null,null,null,{"$f":"_xlfn.TEXTJOIN(\"^\",,BB200:BB214)","v":"8^6^4^2^3^5^7^9"}]
[null,null,7,null,null,0,null,null,0,{"$nulls":6},{"$f":"_xlfn.TEXTJOIN(\"^\",,K200:K214)","v":"0^0^0"},null,7,null,{"$f":"$C207","v":7},null,7,null,null,7,{"$nulls":4},{"$f":"_xlfn.TEXTJOIN(\"^\",,Y200:Y214)","v":"8^6^4^2^1^3^5^7^9"},null,7,{"$nulls":7},0,null,null,null,{"$f":"_xlfn.TEXTJOIN(\"^\",,AO200:AO214)","v":""},null,7,null,{"$f":"$C207","v":7},null,null,null,{"$f":"$C207","v":7},7,7,null,null,null,{"$f":"_xlfn.TEXTJOIN(\"^\",,BC200:BC214)","v":""}]
[null,null,9,{"$nulls":12},{"$f":"_xlfn.TEXTJOIN(\"^\",,L200:L214)","v":"100^0^0"},null,9,{"$nulls":4},{"$f":"$C208","v":9},{"$f":"$C208","v":9},9,{"$nulls":6},9,{"$nulls":11},{"$f":"_xlfn.TEXTJOIN(\"^\",,AP200:AP214)","v":""},null,9,{"$nulls":5},9,null,9,null,null,null,{"$f":"_xlfn.TEXTJOIN(\"^\",,BD200:BD214)","v":""}]
[null,null,"空降",{"$nulls":12},{"$f":"_xlfn.TEXTJOIN(\"^\",,M200:M214)","v":"0^0^0"},null,"空降",{"$nulls":13},"空降",{"$nulls":11},{"$f":"_xlfn.TEXTJOIN(\"^\",,AQ200:AQ208)","v":""},null,"空降",{"$nulls":11},{"$f":"_xlfn.TEXTJOIN(\"^\",,BE200:BE208)","v":""}]
[null,null,101,{"$nulls":12},{"$f":"_xlfn.TEXTJOIN(\"^\",,N200:N214)","v":""},null,101,null,null,{"$f":"$C210","v":101},{"$nulls":4},{"$f":"$C210","v":101},null,null,null,{"$f":"_xlfn.TEXTJOIN(\"^\",,Z200:Z214)","v":"101^102^103^104^105"},null,101,{"$nulls":13},101,{"$nulls":4},{"$f":"$C210","v":101}]
[null,null,102,{"$nulls":14},102,null,null,102,{"$nulls":4},102,null,null,null,{"$f":"_xlfn.TEXTJOIN(\"^\",,AA200:AA214)","v":""},null,102,{"$nulls":13},102,{"$nulls":4},102]
[null,null,103,{"$nulls":14},103,null,null,103,{"$nulls":4},103,null,null,null,{"$f":"_xlfn.TEXTJOIN(\"^\",,AB200:AB214)","v":""},null,103,{"$nulls":13},103]
[null,null,104,{"$nulls":14},104,null,null,104,{"$nulls":4},104,{"$nulls":5},104,{"$nulls":13},104,{"$nulls":4},{"$f":"$C213","v":104}]
[null,null,105,{"$nulls":14},105,null,null,105,{"$nulls":4},105,{"$nulls":5},105,{"$nulls":13},105,{"$nulls":4},105]
[{"$nulls":14},"最终",{"$f":"_xlfn.TEXTJOIN(\"^\",,P200:P214)","v":"0^0^0^0^0^0^0^0^0^0^0^100^0^0^0^0^0^0^0^0^0^0^0^100^0^0^0^0^0"},{"$nulls":12},"最终",{"$f":"_xlfn.TEXTJOIN(\"^\",,AD200:AD214)","v":"4^2^1^3^5^6^4^2^1^3^5^7^101^102^103^104^105^6^4^2^1^3^5^7^8^4^2^1^3^5^9^8^4^2^1^3^5^9^8^6^4^2^1^3^5^7^9^101^102^103^104^105"},{"$nulls":12},"最终",{"$f":"_xlfn.TEXTJOIN(\"^\",,AR199:AR214)","v":"100^0^0^0^0^0^0^0^0^0^0^0^0^0^0^0^0^100^0^0^0^0^0"},{"$nulls":12},"最终",{"$f":"_xlfn.TEXTJOIN(\"^\",,BF199:BF214)","v":"4^1^5^6^1^7^2^3^4^2^3^5^101^102^104^105^8^6^2^3^7^9^6^4^2^1^3^5^7^8^6^4^2^3^5^7^9"}]
[]
[null,null,"时间",5,15,30,45,50,65,81,98,105,120,{"$nulls":4},"时间",5,10,15,22,30,40,50,55,null,null,null,{"$f":"_xlfn.TEXTJOIN(\"^\",,S218:S226)","v":"5^5^5^5^5"},null,"时间",4,10,15,30,46,63,70,85,null,null,null,{"$f":"_xlfn.TEXTJOIN(\"^\",,AG218:AG226)","v":"16^6^4"},null,"时间",3,5,8,12,18,25,35,45,null,null,null,{"$f":"_xlfn.TEXTJOIN(\"^\",,AU218:AU226)","v":"3^3^3"}]
[null,null,8,{"$nulls":12},{"$f":"_xlfn.TEXTJOIN(\"^\",,D218:D227)","v":"8^3^2"},null,8,{"$nulls":4},{"$f":"W$217","v":30},{"$f":"X$217","v":40},{"$f":"Y$217","v":50},{"$nulls":4},{"$f":"_xlfn.TEXTJOIN(\"^\",,T218:T226)","v":"10^10^10^10^10^10^10"},null,8,{"$nulls":11},{"$f":"_xlfn.TEXTJOIN(\"^\",,AH218:AH226)","v":"10^3^2"},null,8,{"$nulls":5},{"$f":"AZ$217","v":25},null,{"$f":"BB$217","v":45},null,null,null,{"$f":"_xlfn.TEXTJOIN(\"^\",,AV218:AV226)","v":"5^5^5"}]
[null,null,6,{"$nulls":12},{"$f":"_xlfn.TEXTJOIN(\"^\",,E218:E227)","v":"13^3"},null,6,null,{"$f":"T$217","v":10},null,{"$f":"V$217","v":22},null,null,50,{"$nulls":4},{"$f":"_xlfn.TEXTJOIN(\"^\",,U218:U226)","v":"15^15^15^15^15"},null,6,{"$nulls":11},{"$f":"_xlfn.TEXTJOIN(\"^\",,AI218:AI226)","v":"12^3"},null,6,null,{"$f":"AV$217","v":5},null,null,null,25,35,45,null,null,null,{"$f":"_xlfn.TEXTJOIN(\"^\",,AW218:AW226)","v":"8^8"}]
[null,null,4,{"$nulls":12},{"$f":"_xlfn.TEXTJOIN(\"^\",,F218:F227)","v":"10^2^3^2"},null,4,{"$f":"S$217","v":5},{"$f":"T$217","v":10},{"$f":"U$217","v":15},22,30,40,50,55,null,null,null,{"$f":"_xlfn.TEXTJOIN(\"^\",,V218:V226)","v":"22^22^22^22^22^22^22"},null,4,{"$nulls":11},{"$f":"_xlfn.TEXTJOIN(\"^\",,AJ218:AJ226)","v":"12^3^2"},null,4,{"$f":"AU$217","v":3},null,null,{"$f":"AX$217","v":12},18,null,35,45,null,null,null,{"$f":"_xlfn.TEXTJOIN(\"^\",,AX218:AX226)","v":"12^12^12^12"}]
[null,null,2,{"$nulls":12},{"$f":"_xlfn.TEXTJOIN(\"^\",,G218:G227)","v":"12^4"},null,2,5,10,15,22,30,40,{"$f":"Y$217","v":50},55,null,null,null,{"$f":"_xlfn.TEXTJOIN(\"^\",,W218:W226)","v":"30^30^30^30^30^30^30"},null,2,{"$nulls":11},{"$f":"_xlfn.TEXTJOIN(\"^\",,AK218:AK226)","v":"13^3^2"},null,2,null,null,{"$f":"AW$217","v":8},12,18,{"$f":"AZ$217","v":25},35,45,null,null,null,{"$f":"_xlfn.TEXTJOIN(\"^\",,AY218:AY226)","v":"18^18^18^18"}]
[null,null,1,8,13,10,12,9,11,15,15,9,15,null,null,{"$f":"_xlfn.TEXTJOIN(\"^\",,H218:H227)","v":"9^4"},null,1,5,10,15,22,30,40,50,55,null,null,null,{"$f":"_xlfn.TEXTJOIN(\"^\",,X218:X226)","v":"40^40^40^40^40^40^40"},null,1,16,10,12,12,13,14,8,14,null,null,null,{"$f":"_xlfn.TEXTJOIN(\"^\",,AL218:AL226)","v":"14^2^4"},null,1,{"$f":"AU$217","v":3},{"$f":"AV$217","v":5},{"$nulls":4},35,{"$nulls":4},{"$f":"_xlfn.TEXTJOIN(\"^\",,AZ218:AZ226)","v":"25^25^25^25^25^25"}]
[null,null,3,3,3,2,4,4,3,2,4,3,3,null,null,{"$f":"_xlfn.TEXTJOIN(\"^\",,I218:I227)","v":"11^3^3^2"},null,3,5,10,15,22,30,40,50,55,null,null,null,{"$f":"_xlfn.TEXTJOIN(\"^\",,Y218:Y226)","v":"50^50^50^50^50^50^50^50^50"},null,3,6,3,3,3,3,2,4,2,null,null,null,{"$f":"_xlfn.TEXTJOIN(\"^\",,AM218:AM226)","v":"8^4"},null,3,null,null,{"$f":"AW$217","v":8},{"$f":"AX$217","v":12},18,{"$f":"AZ$217","v":25},35,45,null,null,null,{"$f":"_xlfn.TEXTJOIN(\"^\",,BA218:BA226)","v":"35^35^35^35^35^35^35"}]
[null,null,5,2,null,3,null,null,3,3,2,3,4,null,null,{"$f":"_xlfn.TEXTJOIN(\"^\",,J218:J227)","v":"15^2^3"},null,5,5,{"$f":"T$217","v":10},15,22,30,40,50,55,null,null,null,{"$f":"_xlfn.TEXTJOIN(\"^\",,Z218:Z226)","v":"55^55^55^55^55"},null,5,4,2,null,2,2,4,null,3,null,null,null,{"$f":"_xlfn.TEXTJOIN(\"^\",,AN218:AN226)","v":"14^2^3^2"},null,5,{"$f":"AU$217","v":3},null,null,12,18,null,35,45,null,null,null,{"$f":"_xlfn.TEXTJOIN(\"^\",,BB218:BB226)","v":"45^45^45^45^45^45^45^45"}]
[null,null,7,null,null,2,null,null,2,{"$nulls":6},{"$f":"_xlfn.TEXTJOIN(\"^\",,K218:K227)","v":"15^4^2"},null,7,null,{"$f":"T$217","v":10},null,22,null,null,50,{"$nulls":4},{"$f":"_xlfn.TEXTJOIN(\"^\",,AA218:AA226)","v":""},null,7,{"$nulls":7},2,null,null,null,{"$f":"_xlfn.TEXTJOIN(\"^\",,AO218:AO226)","v":""},null,7,null,{"$f":"AV$217","v":5},null,null,null,{"$f":"AZ$217","v":25},35,45,null,null,null,{"$f":"_xlfn.TEXTJOIN(\"^\",,BC218:BC226)","v":""}]
[null,null,9,{"$nulls":12},{"$f":"_xlfn.TEXTJOIN(\"^\",,L218:L227)","v":"9^3^3"},null,9,{"$nulls":4},{"$f":"W$217","v":30},{"$f":"X$217","v":40},50,{"$nulls":4},{"$f":"_xlfn.TEXTJOIN(\"^\",,AB218:AB226)","v":""},null,9,{"$nulls":11},{"$f":"_xlfn.TEXTJOIN(\"^\",,AP218:AP226)","v":""},null,9,{"$nulls":5},25,null,45,null,null,null,{"$f":"_xlfn.TEXTJOIN(\"^\",,BD218:BD226)","v":""}]
[{"$nulls":15},{"$f":"_xlfn.TEXTJOIN(\"^\",,M218:M227)","v":"15^3^4"},{"$nulls":13},{"$f":"_xlfn.TEXTJOIN(\"^\",,AC218:AC226)","v":""},{"$nulls":13},{"$f":"_xlfn.TEXTJOIN(\"^\",,AQ218:AQ226)","v":""},{"$nulls":13},{"$f":"_xlfn.TEXTJOIN(\"^\",,BE218:BE226)","v":""}]
[{"$nulls":15},{"$f":"_xlfn.TEXTJOIN(\"^\",,N218:N227)","v":""},{"$nulls":12},"最终",{"$f":"_xlfn.TEXTJOIN(\"^\",,AD217:AD227)","v":"5^5^5^5^5^10^10^10^10^10^10^10^15^15^15^15^15^22^22^22^22^22^22^22^30^30^30^30^30^30^30^40^40^40^40^40^40^40^50^50^50^50^50^50^50^50^50^55^55^55^55^55"},{"$nulls":12},"最终",{"$f":"_xlfn.TEXTJOIN(\"^\",,AR217:AR227)","v":"16^6^4^10^3^2^12^3^12^3^2^13^3^2^14^2^4^8^4^14^2^3^2"},{"$nulls":12},"最终",{"$f":"_xlfn.TEXTJOIN(\"^\",,BF217:BF227)","v":"3^3^3^5^5^5^8^8^12^12^12^12^18^18^18^18^25^25^25^25^25^25^35^35^35^35^35^35^35^45^45^45^45^45^45^45^45"}]
[{"$nulls":14},"最终",{"$f":"_xlfn.TEXTJOIN(\"^\",,P218:P228)","v":"8^3^2^13^3^10^2^3^2^12^4^9^4^11^3^3^2^15^2^3^15^4^2^9^3^3^15^3^4"}]
[{"$nulls":15},{"$f":"SUM(D218:M226)","v":172},{"$nulls":13},{"$f":"COUNT(S218:Z226)","v":52},{"$nulls":13},{"$f":"SUM(AG218:AN226)","v":144},{"$nulls":13},{"$f":"COUNT(AU218:BB226)","v":37}]
[{"$nulls":57},{"$f":"SUM(P230:BF230)","v":405}]
[]
[{"$nulls":4},{"$f":"E234-D234","v":5},{"$f":"F234-E234","v":6},4,7,8,10,10,5,10,{"$nulls":6},{"$f":"T234-S234","v":5},5,7,8,10,5,10,{"$nulls":7},{"$f":"AH234-AG234","v":6},5,15,16,4,15,15,{"$nulls":7},{"$f":"AV234-AU234","v":2},3,4,6,7,8,7]
[1,"焦土-5","波1·怪物",5,10,16,20,27,35,45,55,60,70,null,null,null,1,"波2·怪物",5,10,15,22,30,40,45,55,{"$nulls":4},3,"波3·怪物",4,10,15,30,46,50,65,80,{"$nulls":4},1,"波4·怪物",3,5,8,12,18,25,33,40]
[null,"5m",8,null,null,60752,null,60754,60754,60752,null,null,60752,null,null,{"$f":"_xlfn.TEXTJOIN(\"^\",,D235:D244)","v":"60754^60751^60751^60751^60754"},null,8,null,null,null,60754,null,60752,{"$nulls":5},{"$f":"_xlfn.TEXTJOIN(\"^\",,S235:S244)","v":"60755^60755^60755^60755"},null,8,{"$nulls":11},{"$f":"_xlfn.TEXTJOIN(\"^\",,AG235:AG244)","v":"60751^60752^60754"},null,8,{"$nulls":5},60752,null,60754,null,null,null,{"$f":"_xlfn.TEXTJOIN(\"^\",,AU235:AU244)","v":"60754^60753^60753^60754"}]
[null,null,6,60754,60751,60751,null,60752,null,60751,60754,null,60752,null,null,{"$f":"_xlfn.TEXTJOIN(\"^\",,E235:E244)","v":"60751^60752^60752^60753^60752^60752^60751"},null,6,null,60752,60754,null,60752,null,null,60754,null,null,null,{"$f":"_xlfn.TEXTJOIN(\"^\",,T235:T244)","v":"60752^60752^60752^60752"},null,6,{"$nulls":11},{"$f":"_xlfn.TEXTJOIN(\"^\",,AH235:AH244)","v":"60751^60753"},null,6,null,60752,null,60751,60754,null,60752,60752,null,null,null,{"$f":"_xlfn.TEXTJOIN(\"^\",,AV235:AV244)","v":"60752^60752^60752^60752"}]
[null,null,4,null,60752,null,60755,60753,60752,60751,60752,60755,60751,null,null,{"$f":"_xlfn.TEXTJOIN(\"^\",,F235:F244)","v":"60752^60751^60753^60754^60753^60751^60752"},null,4,60755,null,null,60752,60752,60751,60755,60752,null,null,null,{"$f":"_xlfn.TEXTJOIN(\"^\",,U235:U244)","v":"60754^60753^60753^60753^60754"},null,4,{"$nulls":11},{"$f":"_xlfn.TEXTJOIN(\"^\",,AI235:AI244)","v":"60755^60752^60754"},null,4,60754,60752,60755,60751,60752,60751,60751,60751,null,null,null,{"$f":"_xlfn.TEXTJOIN(\"^\",,AW235:AW244)","v":"60755^60755^60755^60755"}]
[null,null,2,60751,60752,60753,60755,60751,60753,60751,60753,60755,60753,null,null,{"$f":"_xlfn.TEXTJOIN(\"^\",,G235:G244)","v":"60755^60755^60755^60755^60755"},null,2,60755,null,60753,60751,60753,60753,60755,60752,null,null,null,{"$f":"_xlfn.TEXTJOIN(\"^\",,V235:V244)","v":"60754^60752^60751^60752^60751^60752^60754"},null,2,{"$nulls":11},{"$f":"_xlfn.TEXTJOIN(\"^\",,AJ235:AJ244)","v":"60753^60752^60754"},null,2,60753,null,60755,null,60753,60751,60751,60753,null,null,null,{"$f":"_xlfn.TEXTJOIN(\"^\",,AX235:AX244)","v":"60751^60751^60751^60751^60751"}]
[null,null,1,60751,60753,60754,60755,60751,60752,60752,60752,60755,60754,null,null,{"$f":"_xlfn.TEXTJOIN(\"^\",,H235:H244)","v":"60754^60752^60753^60751^60751^60751^60753^60752^60754"},null,1,null,60752,60753,60752,60754,60754,60755,60756,null,null,null,{"$f":"_xlfn.TEXTJOIN(\"^\",,W235:W244)","v":"60752^60752^60753^60754^60753^60752^60752"},null,1,60751,60751,60755,60753,60751,60755,60751,60751,null,null,null,{"$f":"_xlfn.TEXTJOIN(\"^\",,AK235:AK244)","v":"60751^60752"},null,1,null,null,null,60751,null,60754,60753,{"$nulls":4},{"$f":"_xlfn.TEXTJOIN(\"^\",,AY235:AY244)","v":"60754^60752^60753^60753^60752^60754"}]
[null,null,3,60751,60752,60753,60755,60751,60753,60751,60753,60755,60753,null,null,{"$f":"_xlfn.TEXTJOIN(\"^\",,I235:I244)","v":"60754^60752^60753^60752^60753^60752^60754"},null,3,60755,60752,60753,60751,60753,60753,60755,60752,null,null,null,{"$f":"_xlfn.TEXTJOIN(\"^\",,X235:X244)","v":"60752^60751^60753^60754^60753^60751^60752"},null,3,60752,60753,60752,60752,60752,60753,60752,60752,null,null,null,{"$f":"_xlfn.TEXTJOIN(\"^\",,AL235:AL244)","v":"60755^60753^60751"},null,3,60753,null,60755,null,60753,60751,60751,60753,null,null,null,{"$f":"_xlfn.TEXTJOIN(\"^\",,AZ235:AZ244)","v":"60752^60751^60751^60754^60751^60751^60752"}]
[null,null,5,null,60752,null,60755,60753,60752,60751,60752,60755,60751,null,null,{"$f":"_xlfn.TEXTJOIN(\"^\",,J235:J244)","v":"60752^60751^60751^60751^60752^60751^60751^60751^60752"},null,5,60755,null,null,60752,60752,60751,60755,60752,null,null,null,{"$f":"_xlfn.TEXTJOIN(\"^\",,Y235:Y244)","v":"60755^60755^60755^60755^60755"},null,5,60754,null,60754,60754,null,60751,60753,{"$nulls":4},{"$f":"_xlfn.TEXTJOIN(\"^\",,AM235:AM244)","v":"60751^60752^60753^60754"},null,5,60754,60752,60755,60751,60752,60751,60751,60751,null,null,null,{"$f":"_xlfn.TEXTJOIN(\"^\",,BA235:BA244)","v":"60752^60751^60751^60753^60751^60751^60752"}]
[null,null,7,60754,60751,60751,null,60752,null,60751,60754,null,60752,null,null,{"$f":"_xlfn.TEXTJOIN(\"^\",,K235:K244)","v":"60754^60752^60753^60752^60753^60752^60754"},null,7,null,60752,60754,null,60752,null,null,60754,null,null,null,{"$f":"_xlfn.TEXTJOIN(\"^\",,Z235:Z244)","v":"60754^60752^60752^60756^60752^60752^60754"},null,7,{"$nulls":6},60754,{"$nulls":4},{"$f":"_xlfn.TEXTJOIN(\"^\",,AN235:AN244)","v":"60751^60752"},null,7,null,60752,null,60751,60754,null,60752,60752,null,null,null,{"$f":"_xlfn.TEXTJOIN(\"^\",,BB235:BB244)","v":"60754^60752^60751^60753^60753^60751^60752^60754"}]
[null,null,9,null,null,60752,null,60754,60754,60752,null,null,60752,null,null,{"$f":"_xlfn.TEXTJOIN(\"^\",,L235:L244)","v":"60755^60755^60755^60755^60755"},null,9,null,null,null,60754,null,60752,{"$nulls":5},{"$f":"_xlfn.TEXTJOIN(\"^\",,AA235:AA244)","v":""},null,9,{"$nulls":11},{"$f":"_xlfn.TEXTJOIN(\"^\",,AO235:AO244)","v":""},null,9,{"$nulls":5},60752,null,60754,null,null,null,{"$f":"_xlfn.TEXTJOIN(\"^\",,BC235:BC244)","v":""}]
[{"$nulls":15},{"$f":"_xlfn.TEXTJOIN(\"^\",,M235:M244)","v":"60752^60752^60751^60753^60754^60753^60751^60752^60752"},{"$nulls":13},{"$f":"_xlfn.TEXTJOIN(\"^\",,AB235:AB244)","v":""},{"$nulls":13},{"$f":"_xlfn.TEXTJOIN(\"^\",,AP235:AP244)","v":""},{"$nulls":13},{"$f":"_xlfn.TEXTJOIN(\"^\",,BD235:BD244)","v":""}]
[{"$nulls":15},{"$f":"_xlfn.TEXTJOIN(\"^\",,N235:N244)","v":""},{"$nulls":13},{"$f":"_xlfn.TEXTJOIN(\"^\",,AC235:AC244)","v":""},{"$nulls":13},{"$f":"_xlfn.TEXTJOIN(\"^\",,AQ235:AQ244)","v":""},{"$nulls":13},{"$f":"_xlfn.TEXTJOIN(\"^\",,BE235:BE244)","v":""}]
[{"$nulls":14},"最终",{"$f":"_xlfn.TEXTJOIN(\"^\",,P235:P245)","v":"60754^60751^60751^60751^60754^60751^60752^60752^60753^60752^60752^60751^60752^60751^60753^60754^60753^60751^60752^60755^60755^60755^60755^60755^60754^60752^60753^60751^60751^60751^60753^60752^60754^60754^60752^60753^60752^60753^60752^60754^60752^60751^60751^60751^60752^60751^60751^60751^60752^60754^60752^60753^60752^60753^60752^60754^60755^60755^60755^60755^60755^60752^60752^60751^60753^60754^60753^60751^60752^60752"},{"$nulls":12},"最终",{"$f":"_xlfn.TEXTJOIN(\"^\",,AD235:AD245)","v":"60755^60755^60755^60755^60752^60752^60752^60752^60754^60753^60753^60753^60754^60754^60752^60751^60752^60751^60752^60754^60752^60752^60753^60754^60753^60752^60752^60752^60751^60753^60754^60753^60751^60752^60755^60755^60755^60755^60755^60754^60752^60752^60756^60752^60752^60754"},{"$nulls":12},"最终",{"$f":"_xlfn.TEXTJOIN(\"^\",,AR235:AR245)","v":"60751^60752^60754^60751^60753^60755^60752^60754^60753^60752^60754^60751^60752^60755^60753^60751^60751^60752^60753^60754^60751^60752"},{"$nulls":12},"最终",{"$f":"_xlfn.TEXTJOIN(\"^\",,BF235:BF245)","v":"60754^60753^60753^60754^60752^60752^60752^60752^60755^60755^60755^60755^60751^60751^60751^60751^60751^60754^60752^60753^60753^60752^60754^60752^60751^60751^60754^60751^60751^60752^60752^60751^60751^60753^60751^60751^60752^60754^60752^60751^60753^60753^60751^60752^60754"}]
[null,null,8,null,null,"岩浆人",null,"火精灵","火精灵","岩浆人",null,null,"岩浆人",{"$nulls":4},8,null,null,null,"火精灵",null,"岩浆人",{"$nulls":7},8,{"$nulls":13},8,{"$nulls":5},"岩浆人",null,"火精灵"]
[null,null,6,"火精灵","岩浆蝎","岩浆蝎",null,"岩浆人",null,"岩浆蝎","火精灵",null,"岩浆人",{"$nulls":4},6,null,"岩浆人","火精灵",null,"岩浆人",null,null,"火精灵",{"$nulls":5},6,{"$nulls":13},6,null,"岩浆人",null,"岩浆蝎","火精灵",null,"岩浆人","岩浆人"]
[null,null,4,null,"岩浆人",null,"火山蜘蛛","岩浆战士","岩浆人","岩浆蝎","岩浆人","火山蜘蛛","岩浆蝎",{"$nulls":4},4,"火山蜘蛛",null,null,"岩浆人","岩浆人","岩浆蝎","火山蜘蛛","岩浆人",{"$nulls":5},4,{"$nulls":13},4,"火精灵","岩浆人","火山蜘蛛","岩浆蝎","岩浆人","岩浆蝎","岩浆蝎","岩浆蝎"]
[null,null,2,"岩浆蝎","岩浆人","岩浆战士","火山蜘蛛","岩浆蝎","岩浆战士","岩浆蝎","岩浆战士","火山蜘蛛","岩浆战士",{"$nulls":4},2,"火山蜘蛛",null,"岩浆战士","岩浆蝎","岩浆战士","岩浆战士","火山蜘蛛","岩浆人",{"$nulls":5},2,{"$nulls":13},2,"岩浆战士",null,"火山蜘蛛",null,"岩浆战士","岩浆蝎","岩浆蝎","岩浆战士"]
[null,null,1,"岩浆蝎","岩浆战士","火精灵","火山蜘蛛","岩浆蝎","岩浆人","岩浆人","岩浆人","火山蜘蛛","火精灵",{"$nulls":4},1,null,"岩浆人","岩浆战士","岩浆人","火精灵","火精灵","火山蜘蛛","岩浆巨兽",{"$nulls":5},1,"岩浆蝎","岩浆蝎","火山蜘蛛","岩浆战士","岩浆蝎","火山蜘蛛","岩浆蝎","岩浆蝎",{"$nulls":5},1,null,null,null,"岩浆蝎",null,"火精灵","岩浆战士"]
[null,null,3,"岩浆蝎","岩浆人","岩浆战士","火山蜘蛛","岩浆蝎","岩浆战士","岩浆蝎","岩浆战士","火山蜘蛛","岩浆战士",{"$nulls":4},3,"火山蜘蛛","岩浆人","岩浆战士","岩浆蝎","岩浆战士","岩浆战士","火山蜘蛛","岩浆人",{"$nulls":5},3,"岩浆人","岩浆战士","岩浆人","岩浆人","岩浆人","岩浆战士","岩浆人","岩浆人",{"$nulls":5},3,"岩浆战士",null,"火山蜘蛛",null,"岩浆战士","岩浆蝎","岩浆蝎","岩浆战士"]
[null,null,5,null,"岩浆人",null,"火山蜘蛛","岩浆战士","岩浆人","岩浆蝎","岩浆人","火山蜘蛛","岩浆蝎",{"$nulls":4},5,"火山蜘蛛",null,null,"岩浆人","岩浆人","岩浆蝎","火山蜘蛛","岩浆人",{"$nulls":5},5,"火精灵",null,"火精灵","火精灵",null,"岩浆蝎","岩浆战士",{"$nulls":6},5,"火精灵","岩浆人","火山蜘蛛","岩浆蝎","岩浆人","岩浆蝎","岩浆蝎","岩浆蝎"]
[null,null,7,"火精灵","岩浆蝎","岩浆蝎",null,"岩浆人",null,"岩浆蝎","火精灵",null,"岩浆人",{"$nulls":4},7,null,"岩浆人","火精灵",null,"岩浆人",null,null,"火精灵",{"$nulls":5},7,{"$nulls":6},"火精灵",{"$nulls":6},7,null,"岩浆人",null,"岩浆蝎","火精灵",null,"岩浆人","岩浆人"]
[null,null,9,null,null,"岩浆人",null,"火精灵","火精灵","岩浆人",null,null,"岩浆人",{"$nulls":4},9,null,null,null,"火精灵",null,"岩浆人",{"$nulls":7},9,{"$nulls":13},9,{"$nulls":5},"岩浆人",null,"火精灵"]
[]
[null,null,"位置",5,10,16,20,27,35,45,55,60,70,{"$nulls":4},"位置",5,10,15,22,30,40,45,55,{"$nulls":5},"位置",4,10,15,30,46,50,65,80,null,null,null,{"$f":"_xlfn.TEXTJOIN(\"^\",,AG258:AG272)","v":"0^0^0"},null,"位置",3,5,8,12,18,25,33,40,null,null,null,{"$f":"_xlfn.TEXTJOIN(\"^\",,AU258:AU272)","v":"4^2^3^5"}]
[null,null,8,null,null,{"$f":"$C258","v":8},null,{"$f":"$C258","v":8},{"$f":"$C258","v":8},{"$f":"$C258","v":8},null,null,{"$f":"$C258","v":8},null,null,{"$f":"_xlfn.TEXTJOIN(\"^\",,D258:D272)","v":"6^2^1^3^7"},null,8,null,null,null,{"$f":"$C258","v":8},null,{"$f":"$C258","v":8},{"$nulls":7},8,{"$nulls":11},{"$f":"_xlfn.TEXTJOIN(\"^\",,AH258:AH272)","v":"0^0"},null,8,{"$nulls":5},{"$f":"$C258","v":8},null,{"$f":"$C258","v":8},null,null,null,{"$f":"_xlfn.TEXTJOIN(\"^\",,AV258:AV272)","v":"6^4^5^7"}]
[null,null,6,{"$f":"$C259","v":6},{"$f":"$C259","v":6},6,null,6,null,6,6,null,6,null,null,{"$f":"_xlfn.TEXTJOIN(\"^\",,E258:E272)","v":"6^4^2^1^3^5^7"},null,6,null,{"$f":"$C259","v":6},{"$f":"$C259","v":6},null,{"$f":"$C259","v":6},null,null,{"$f":"$C259","v":6},null,null,null,{"$f":"_xlfn.TEXTJOIN(\"^\",,S258:S272)","v":"101^102^104^105"},null,6,{"$nulls":11},{"$f":"_xlfn.TEXTJOIN(\"^\",,AI258:AI272)","v":"100^0^0"},null,6,null,{"$f":"$C259","v":6},null,{"$f":"$C259","v":6},6,null,{"$f":"$C259","v":6},6,null,null,null,{"$f":"_xlfn.TEXTJOIN(\"^\",,AW258:AW272)","v":"101^102^104^105"}]
[null,null,4,null,4,null,null,4,4,4,4,null,4,null,null,{"$f":"_xlfn.TEXTJOIN(\"^\",,F258:F272)","v":"8^6^2^1^3^7^9"},null,4,null,null,null,{"$f":"$C260","v":4},4,4,null,4,null,null,null,{"$f":"_xlfn.TEXTJOIN(\"^\",,T258:T272)","v":"6^1^3^7"},null,4,{"$nulls":11},{"$f":"_xlfn.TEXTJOIN(\"^\",,AJ258:AJ272)","v":"0^0^0"},null,4,{"$f":"$C260","v":4},{"$f":"$C260","v":4},null,4,4,4,4,4,null,null,null,{"$f":"_xlfn.TEXTJOIN(\"^\",,AX258:AX272)","v":"6^4^1^5^7"}]
[null,null,2,{"$f":"$C261","v":2},2,{"$f":"$C261","v":2},null,2,2,2,2,null,2,null,null,{"$f":"_xlfn.TEXTJOIN(\"^\",,G258:G272)","v":"101^102^103^104^105"},null,2,null,null,{"$f":"$C261","v":2},2,2,2,null,2,null,null,null,{"$f":"_xlfn.TEXTJOIN(\"^\",,U258:U272)","v":"6^2^1^3^7"},null,2,{"$nulls":11},{"$f":"_xlfn.TEXTJOIN(\"^\",,AK258:AK272)","v":"0^0"},null,2,2,null,null,null,{"$f":"$C261","v":2},2,2,2,null,null,null,{"$f":"_xlfn.TEXTJOIN(\"^\",,AY258:AY272)","v":"6^4^2^3^5^7"}]
[null,null,1,1,1,{"$f":"$C262","v":1},null,1,1,1,1,null,1,null,null,{"$f":"_xlfn.TEXTJOIN(\"^\",,H258:H272)","v":"8^6^4^2^1^3^5^7^9"},null,1,null,{"$f":"$C262","v":1},{"$f":"$C262","v":1},1,1,1,null,{"$f":"$C262","v":1},null,null,null,{"$f":"_xlfn.TEXTJOIN(\"^\",,V258:V272)","v":"8^4^2^1^3^5^9"},null,1,0,0,100,0,0,100,0,0,null,null,null,{"$f":"_xlfn.TEXTJOIN(\"^\",,AL258:AL272)","v":"100^0^0"},null,1,null,null,null,{"$f":"$C262","v":1},null,1,1,{"$nulls":4},{"$f":"_xlfn.TEXTJOIN(\"^\",,AZ258:AZ272)","v":"8^4^2^1^3^5^9"}]
[null,null,3,3,3,{"$f":"$C263","v":3},null,3,3,3,3,null,3,null,null,{"$f":"_xlfn.TEXTJOIN(\"^\",,I258:I272)","v":"8^4^2^1^3^5^9"},null,3,null,{"$f":"$C263","v":3},{"$f":"$C263","v":3},3,3,3,null,3,null,null,null,{"$f":"_xlfn.TEXTJOIN(\"^\",,W258:W272)","v":"6^4^2^1^3^5^7"},null,3,0,0,0,0,0,0,0,0,null,null,null,{"$f":"_xlfn.TEXTJOIN(\"^\",,AM258:AM272)","v":"0^0^0^0"},null,3,{"$f":"$C263","v":3},null,null,null,{"$f":"$C263","v":3},3,3,3,null,null,null,{"$f":"_xlfn.TEXTJOIN(\"^\",,BA258:BA272)","v":"6^4^2^1^3^5^7"}]
[null,null,5,null,5,null,null,5,5,5,5,null,5,null,null,{"$f":"_xlfn.TEXTJOIN(\"^\",,J258:J272)","v":"8^6^4^2^1^3^5^7^9"},null,5,null,null,null,5,5,5,null,5,null,null,null,{"$f":"_xlfn.TEXTJOIN(\"^\",,X258:X272)","v":"8^4^2^1^3^5^9"},null,5,0,null,0,0,null,0,0,{"$nulls":4},{"$f":"_xlfn.TEXTJOIN(\"^\",,AN258:AN272)","v":"0^0"},null,5,5,{"$f":"$C264","v":5},null,{"$f":"$C264","v":5},5,5,5,5,null,null,null,{"$f":"_xlfn.TEXTJOIN(\"^\",,BB258:BB272)","v":"8^6^4^2^3^5^7^9"}]
[null,null,7,{"$f":"$C265","v":7},7,7,null,7,null,7,7,null,7,null,null,{"$f":"_xlfn.TEXTJOIN(\"^\",,K258:K272)","v":"6^4^2^1^3^5^7"},null,7,null,{"$f":"$C265","v":7},{"$f":"$C265","v":7},null,7,null,null,7,null,null,null,{"$f":"_xlfn.TEXTJOIN(\"^\",,Y258:Y272)","v":"101^102^103^104^105"},null,7,{"$nulls":6},0,{"$nulls":4},{"$f":"_xlfn.TEXTJOIN(\"^\",,AO258:AO272)","v":""},null,7,null,{"$f":"$C265","v":7},null,7,7,null,7,7,null,null,null,{"$f":"_xlfn.TEXTJOIN(\"^\",,BC258:BC272)","v":""}]
[null,null,9,null,null,9,null,9,{"$f":"$C266","v":9},9,null,null,9,null,null,{"$f":"_xlfn.TEXTJOIN(\"^\",,L258:L272)","v":"101^102^103^104^105"},null,9,null,null,null,{"$f":"$C266","v":9},null,{"$f":"$C266","v":9},{"$nulls":7},9,{"$nulls":11},{"$f":"_xlfn.TEXTJOIN(\"^\",,AP258:AP272)","v":""},null,9,{"$nulls":5},{"$f":"$C266","v":9},null,9,null,null,null,{"$f":"_xlfn.TEXTJOIN(\"^\",,BD258:BD272)","v":""}]
[null,null,"空降",{"$nulls":12},{"$f":"_xlfn.TEXTJOIN(\"^\",,M258:M272)","v":"8^6^4^2^1^3^5^7^9"},null,"空降",{"$nulls":13},"空降",{"$nulls":11},{"$f":"_xlfn.TEXTJOIN(\"^\",,AQ258:AQ266)","v":""},null,"空降",{"$nulls":11},{"$f":"_xlfn.TEXTJOIN(\"^\",,BE258:BE266)","v":""}]
[null,null,101,null,null,null,{"$f":"$C268","v":101},{"$nulls":4},{"$f":"$C268","v":101},null,null,null,{"$f":"_xlfn.TEXTJOIN(\"^\",,N258:N272)","v":""},null,101,{"$f":"$C268","v":101},{"$nulls":5},{"$f":"$C268","v":101},{"$nulls":4},{"$f":"_xlfn.TEXTJOIN(\"^\",,Z258:Z272)","v":"6^4^2^1^3^5^7"},null,101,{"$nulls":13},101,null,null,{"$f":"$C268","v":101}]
[null,null,102,null,null,null,102,{"$nulls":4},{"$f":"$C269","v":102},{"$nulls":5},102,102,{"$nulls":5},102,{"$nulls":4},{"$f":"_xlfn.TEXTJOIN(\"^\",,AA258:AA272)","v":""},null,102,{"$nulls":13},102,null,null,102]
[null,null,103,null,null,null,103,{"$nulls":4},{"$f":"$C270","v":103},{"$nulls":5},103,{"$nulls":6},103,{"$nulls":4},{"$f":"_xlfn.TEXTJOIN(\"^\",,AB258:AB272)","v":""},null,103,{"$nulls":13},103]
[null,null,104,null,null,null,104,{"$nulls":4},{"$f":"$C271","v":104},{"$nulls":5},104,{"$f":"$C271","v":104},{"$nulls":5},104,{"$nulls":6},104,{"$nulls":13},104,null,null,{"$f":"$C271","v":104}]
[null,null,105,null,null,null,105,{"$nulls":4},105,{"$nulls":5},105,105,{"$nulls":5},105,{"$nulls":6},105,{"$nulls":13},105,null,null,105]
[{"$nulls":14},"最终",{"$f":"_xlfn.TEXTJOIN(\"^\",,P258:P272)","v":"6^2^1^3^7^6^4^2^1^3^5^7^8^6^2^1^3^7^9^101^102^103^104^105^8^6^4^2^1^3^5^7^9^8^4^2^1^3^5^9^8^6^4^2^1^3^5^7^9^6^4^2^1^3^5^7^101^102^103^104^105^8^6^4^2^1^3^5^7^9"},{"$nulls":12},"最终",{"$f":"_xlfn.TEXTJOIN(\"^\",,AD258:AD272)","v":"101^102^104^105^6^1^3^7^6^2^1^3^7^8^4^2^1^3^5^9^6^4^2^1^3^5^7^8^4^2^1^3^5^9^101^102^103^104^105^6^4^2^1^3^5^7"},{"$nulls":12},"最终",{"$f":"_xlfn.TEXTJOIN(\"^\",,AR257:AR272)","v":"0^0^0^0^0^100^0^0^0^0^0^0^0^100^0^0^0^0^0^0^0^0"},{"$nulls":12},"最终",{"$f":"_xlfn.TEXTJOIN(\"^\",,BF257:BF272)","v":"4^2^3^5^6^4^5^7^101^102^104^105^6^4^1^5^7^6^4^2^3^5^7^8^4^2^1^3^5^9^6^4^2^1^3^5^7^8^6^4^2^3^5^7^9"}]
[]
[null,null,"时间",5,10,16,20,27,35,45,55,60,70,{"$nulls":4},"时间",5,10,15,22,30,40,45,55,null,null,null,{"$f":"_xlfn.TEXTJOIN(\"^\",,S276:S284)","v":"5^5^5^5"},null,"时间",4,10,15,30,46,50,65,80,null,null,null,{"$f":"_xlfn.TEXTJOIN(\"^\",,AG276:AG284)","v":"19^6^4"},null,"时间",3,5,8,12,18,25,33,40,null,null,null,{"$f":"_xlfn.TEXTJOIN(\"^\",,AU276:AU284)","v":"3^3^3^3"}]
[null,null,8,null,null,{"$f":"F$275","v":16},null,{"$f":"H$275","v":27},{"$f":"I$275","v":35},{"$f":"J$275","v":45},null,null,{"$f":"M$275","v":70},null,null,{"$f":"_xlfn.TEXTJOIN(\"^\",,D276:D285)","v":"5^5^5^5^5"},null,8,null,null,null,{"$f":"V$275","v":22},null,{"$f":"X$275","v":40},{"$nulls":5},{"$f":"_xlfn.TEXTJOIN(\"^\",,T276:T284)","v":"10^10^10^10"},null,8,{"$nulls":11},{"$f":"_xlfn.TEXTJOIN(\"^\",,AH276:AH284)","v":"13^4"},null,8,{"$nulls":5},{"$f":"AZ$275","v":25},null,{"$f":"BB$275","v":40},null,null,null,{"$f":"_xlfn.TEXTJOIN(\"^\",,AV276:AV284)","v":"5^5^5^5"}]
[null,null,6,{"$f":"D$275","v":5},{"$f":"E$275","v":10},16,null,27,null,45,55,null,70,null,null,{"$f":"_xlfn.TEXTJOIN(\"^\",,E276:E285)","v":"10^10^10^10^10^10^10"},null,6,null,{"$f":"T$275","v":10},{"$f":"U$275","v":15},null,{"$f":"W$275","v":30},null,null,{"$f":"Z$275","v":55},null,null,null,{"$f":"_xlfn.TEXTJOIN(\"^\",,U276:U284)","v":"15^15^15^15^15"},null,6,{"$nulls":11},{"$f":"_xlfn.TEXTJOIN(\"^\",,AI276:AI284)","v":"8^4^3"},null,6,null,{"$f":"AV$275","v":5},null,{"$f":"AX$275","v":12},18,null,{"$f":"BA$275","v":33},40,null,null,null,{"$f":"_xlfn.TEXTJOIN(\"^\",,AW276:AW284)","v":"8^8^8^8"}]
[null,null,4,null,10,null,{"$f":"G$275","v":20},27,35,45,55,60,70,null,null,{"$f":"_xlfn.TEXTJOIN(\"^\",,F276:F285)","v":"16^16^16^16^16^16^16"},null,4,{"$f":"S$275","v":5},null,null,{"$f":"V$275","v":22},30,40,45,55,null,null,null,{"$f":"_xlfn.TEXTJOIN(\"^\",,V276:V284)","v":"22^22^22^22^22^22^22"},null,4,{"$nulls":11},{"$f":"_xlfn.TEXTJOIN(\"^\",,AJ276:AJ284)","v":"4^5^3"},null,4,{"$f":"AU$275","v":3},{"$f":"AV$275","v":5},{"$f":"AW$275","v":8},12,18,25,33,40,null,null,null,{"$f":"_xlfn.TEXTJOIN(\"^\",,AX276:AX284)","v":"12^12^12^12^12"}]
[null,null,2,{"$f":"D$275","v":5},10,{"$f":"F$275","v":16},20,27,35,45,55,60,70,null,null,{"$f":"_xlfn.TEXTJOIN(\"^\",,G276:G285)","v":"20^20^20^20^20"},null,2,5,null,{"$f":"U$275","v":15},22,30,40,45,55,null,null,null,{"$f":"_xlfn.TEXTJOIN(\"^\",,W276:W284)","v":"30^30^30^30^30^30^30"},null,2,{"$nulls":11},{"$f":"_xlfn.TEXTJOIN(\"^\",,AK276:AK284)","v":"15^4"},null,2,3,null,8,null,18,25,33,40,null,null,null,{"$f":"_xlfn.TEXTJOIN(\"^\",,AY276:AY284)","v":"18^18^18^18^18^18"}]
[null,null,1,5,10,16,20,27,35,45,55,60,70,null,null,{"$f":"_xlfn.TEXTJOIN(\"^\",,H276:H285)","v":"27^27^27^27^27^27^27^27^27"},null,1,null,{"$f":"T$275","v":10},15,22,30,40,45,{"$f":"Z$275","v":55},null,null,null,{"$f":"_xlfn.TEXTJOIN(\"^\",,X276:X284)","v":"40^40^40^40^40^40^40"},null,1,19,13,8,4,15,10,13,17,null,null,null,{"$f":"_xlfn.TEXTJOIN(\"^\",,AL276:AL284)","v":"10^3^8"},null,1,null,null,null,{"$f":"AX$275","v":12},null,25,33,{"$nulls":4},{"$f":"_xlfn.TEXTJOIN(\"^\",,AZ276:AZ284)","v":"25^25^25^25^25^25^25"}]
[null,null,3,5,10,{"$f":"F$275","v":16},20,27,35,45,55,60,70,null,null,{"$f":"_xlfn.TEXTJOIN(\"^\",,I276:I285)","v":"35^35^35^35^35^35^35"},null,3,{"$f":"S$275","v":5},{"$f":"T$275","v":10},{"$f":"U$275","v":15},22,30,40,45,55,null,null,null,{"$f":"_xlfn.TEXTJOIN(\"^\",,Y276:Y284)","v":"45^45^45^45^45"},null,3,6,4,4,5,4,3,4,5,null,null,null,{"$f":"_xlfn.TEXTJOIN(\"^\",,AM276:AM284)","v":"13^4^3^2"},null,3,{"$f":"AU$275","v":3},null,{"$f":"AW$275","v":8},null,{"$f":"AY$275","v":18},25,33,40,null,null,null,{"$f":"_xlfn.TEXTJOIN(\"^\",,BA276:BA284)","v":"33^33^33^33^33^33^33"}]
[null,null,5,null,10,null,20,27,35,45,55,60,70,null,null,{"$f":"_xlfn.TEXTJOIN(\"^\",,J276:J285)","v":"45^45^45^45^45^45^45^45^45"},null,5,5,null,null,22,30,40,45,55,null,null,null,{"$f":"_xlfn.TEXTJOIN(\"^\",,Z276:Z284)","v":"55^55^55^55^55^55^55"},null,5,4,null,3,3,null,8,3,{"$nulls":4},{"$f":"_xlfn.TEXTJOIN(\"^\",,AN276:AN284)","v":"17^5"},null,5,3,{"$f":"AV$275","v":5},8,12,18,25,33,40,null,null,null,{"$f":"_xlfn.TEXTJOIN(\"^\",,BB276:BB284)","v":"40^40^40^40^40^40^40^40"}]
[null,null,7,{"$f":"D$275","v":5},10,16,null,27,null,45,55,null,70,null,null,{"$f":"_xlfn.TEXTJOIN(\"^\",,K276:K285)","v":"55^55^55^55^55^55^55"},null,7,null,{"$f":"T$275","v":10},{"$f":"U$275","v":15},null,30,null,null,55,null,null,null,{"$f":"_xlfn.TEXTJOIN(\"^\",,AA276:AA284)","v":""},null,7,{"$nulls":6},2,{"$nulls":4},{"$f":"_xlfn.TEXTJOIN(\"^\",,AO276:AO284)","v":""},null,7,null,{"$f":"AV$275","v":5},null,12,18,null,33,40,null,null,null,{"$f":"_xlfn.TEXTJOIN(\"^\",,BC276:BC284)","v":""}]
[null,null,9,null,null,16,null,27,{"$f":"I$275","v":35},45,null,null,70,null,null,{"$f":"_xlfn.TEXTJOIN(\"^\",,L276:L285)","v":"60^60^60^60^60"},null,9,null,null,null,{"$f":"V$275","v":22},null,{"$f":"X$275","v":40},{"$nulls":5},{"$f":"_xlfn.TEXTJOIN(\"^\",,AB276:AB284)","v":""},null,9,{"$nulls":11},{"$f":"_xlfn.TEXTJOIN(\"^\",,AP276:AP284)","v":""},null,9,{"$nulls":5},{"$f":"AZ$275","v":25},null,40,null,null,null,{"$f":"_xlfn.TEXTJOIN(\"^\",,BD276:BD284)","v":""}]
[{"$nulls":15},{"$f":"_xlfn.TEXTJOIN(\"^\",,M276:M285)","v":"70^70^70^70^70^70^70^70^70"},{"$nulls":13},{"$f":"_xlfn.TEXTJOIN(\"^\",,AC276:AC284)","v":""},{"$nulls":13},{"$f":"_xlfn.TEXTJOIN(\"^\",,AQ276:AQ284)","v":""},{"$nulls":13},{"$f":"_xlfn.TEXTJOIN(\"^\",,BE276:BE284)","v":""}]
[{"$nulls":15},{"$f":"_xlfn.TEXTJOIN(\"^\",,N276:N285)","v":""},{"$nulls":12},"最终",{"$f":"_xlfn.TEXTJOIN(\"^\",,AD275:AD285)","v":"5^5^5^5^10^10^10^10^15^15^15^15^15^22^22^22^22^22^22^22^30^30^30^30^30^30^30^40^40^40^40^40^40^40^45^45^45^45^45^55^55^55^55^55^55^55"},{"$nulls":12},"最终",{"$f":"_xlfn.TEXTJOIN(\"^\",,AR275:AR285)","v":"19^6^4^13^4^8^4^3^4^5^3^15^4^10^3^8^13^4^3^2^17^5"},{"$nulls":12},"最终",{"$f":"_xlfn.TEXTJOIN(\"^\",,BF275:BF285)","v":"3^3^3^3^5^5^5^5^8^8^8^8^12^12^12^12^12^18^18^18^18^18^18^25^25^25^25^25^25^25^33^33^33^33^33^33^33^40^40^40^40^40^40^40^40"}]
[{"$nulls":14},"最终",{"$f":"_xlfn.TEXTJOIN(\"^\",,P276:P286)","v":"5^5^5^5^5^10^10^10^10^10^10^10^16^16^16^16^16^16^16^20^20^20^20^20^27^27^27^27^27^27^27^27^27^35^35^35^35^35^35^35^45^45^45^45^45^45^45^45^45^55^55^55^55^55^55^55^60^60^60^60^60^70^70^70^70^70^70^70^70^70"}]
[{"$nulls":15},{"$f":"COUNT(D276:M284)","v":70},{"$nulls":13},{"$f":"COUNT(S276:Z284)","v":46},{"$nulls":13},{"$f":"SUM(AG276:AN284)","v":157},{"$nulls":13},{"$f":"COUNT(AU276:BB284)","v":45}]
[{"$nulls":57},{"$f":"SUM(P288:BF288)","v":318}]